BEGIN:VCALENDAR
PRODID:brasil.gov.agenda
VERSION:1.0
BEGIN:VEVENT
DTSTART:20220311T123000Z
DTEND:20220311T030000Z
DCREATED:20220311T112446Z
UID:Compromisso-d6f4bc8e1a204dd0a71e6d36af4e898f
SEQUENCE:0
LAST-MODIFIED:20220311T112446Z
SUMMARY:Irasmon Gomes de Melo- Auditoria DNIT.
DESCRIPTION:Reunião sobre AAC2021 - de busca conjunta de soluções.
LOCATION:Via videoconferência
PRIORITY:3
TRANSP:0
END:VEVENT
END:VCALENDAR
