BEGIN:VCALENDAR
PRODID:brasil.gov.agenda
VERSION:1.0
BEGIN:VEVENT
DTSTART:20201126T030000Z
DTEND:20201126T030000Z
DCREATED:20201126T132506Z
UID:Compromisso-d1787157cda047d49bd26a70131a3157
SEQUENCE:0
LAST-MODIFIED:20201126T132506Z
SUMMARY:Viagem Oficial ao Estado do Paraná.
DESCRIPTION:Visita Técnica a UL de Foz do Iguaçu.
PRIORITY:3
TRANSP:0
END:VEVENT
END:VCALENDAR
