BEGIN:VCALENDAR
PRODID:brasil.gov.agenda
VERSION:1.0
BEGIN:VEVENT
DTSTART:20240529T160000Z
DTEND:20240529T200000Z
DCREATED:20240528T185250Z
UID:Compromisso-297cf21f9cfa42c4a5b59a28c3d02b90
SEQUENCE:0
LAST-MODIFIED:20240528T185355Z
SUMMARY:Despachos Internos
LOCATION:Superintendência/RN
PRIORITY:3
TRANSP:0
END:VEVENT
END:VCALENDAR
