BEGIN:VCALENDAR
PRODID:brasil.gov.agenda
VERSION:1.0
BEGIN:VEVENT
DTSTART:20230526T120000Z
DTEND:20230526T030000Z
DCREATED:20230526T125357Z
UID:Compromisso-951eae496a9b4d608f21147c8deaa25f
SEQUENCE:0
LAST-MODIFIED:20230526T125357Z
SUMMARY:Reunião Interna.
LOCATION:DNIT -Gabinete desta Superintendência
PRIORITY:3
TRANSP:0
END:VEVENT
END:VCALENDAR
