BEGIN:VCALENDAR
PRODID:brasil.gov.agenda
VERSION:1.0
BEGIN:VEVENT
DTSTART:20230524T030000Z
DTEND:20230524T030000Z
DCREATED:20230523T120948Z
UID:Compromisso-2f0d4e1e79044f248cd3670861c99a99
SEQUENCE:0
LAST-MODIFIED:20230523T121044Z
SUMMARY:Viagem Oficial ao Distrito Federal.
DESCRIPTION:Solicitação do Diretor Executivo Substituto - Sr. Fabric
 io de Oliveira Galvão\, de conferência ao Superintendente Regional d
 o DNIT nos Estado de Goiás
PRIORITY:3
TRANSP:0
END:VEVENT
END:VCALENDAR
