BEGIN:VCALENDAR
PRODID:brasil.gov.agenda
VERSION:1.0
BEGIN:VEVENT
DTSTART:20230516T180000Z
DTEND:20230516T030000Z
DCREATED:20230515T145708Z
UID:Compromisso-a1fa7b85815047488d97cddadfcc9353
SEQUENCE:0
LAST-MODIFIED:20230516T134417Z
SUMMARY:Videoconferência - ANTT
DESCRIPTION:Assuntos pertinentes ao Témino do Contrato da Via 040.
LOCATION:Microsoft Teams
PRIORITY:3
TRANSP:0
END:VEVENT
END:VCALENDAR
