BEGIN:VCALENDAR
PRODID:brasil.gov.agenda
VERSION:1.0
BEGIN:VEVENT
DTSTART:20210326T110000Z
DTEND:20210326T150000Z
DCREATED:20210326T152427Z
UID:Compromisso-540cbbd65cb544ce9bb5dfea16e8caf0
SEQUENCE:0
LAST-MODIFIED:20210326T152427Z
SUMMARY:Despacho Interno
LOCATION:SRE/AM
PRIORITY:3
TRANSP:0
END:VEVENT
END:VCALENDAR
