BEGIN:VCALENDAR
PRODID:brasil.gov.agenda
VERSION:1.0
BEGIN:VEVENT
DTSTART:20210426T163000Z
DTEND:20210426T173000Z
DCREATED:20210423T172954Z
UID:Compromisso-1652943da9af41dcad132bb3faa50750
SEQUENCE:0
LAST-MODIFIED:20210423T172954Z
SUMMARY:Despachos Internos.
LOCATION:O Diretor do Departamento de Desporto Militar do Ministério da Defesa cumpre agenda de trabalho em Brasília (DF).
PRIORITY:3
TRANSP:0
END:VEVENT
END:VCALENDAR
