BEGIN:VCALENDAR
PRODID:brasil.gov.agenda
VERSION:1.0
BEGIN:VEVENT
DTSTART:20201007T143000Z
DTEND:20201007T030000Z
DCREATED:20201007T111719Z
UID:Compromisso-47e4047a9b1a449eb66f01bc153f05cc
SEQUENCE:0
LAST-MODIFIED:20201007T114232Z
SUMMARY:Reunião com o Alto Comando da Força Aérea Brasileira.
LOCATION:Comando da Aeronáutica
PRIORITY:3
TRANSP:0
END:VEVENT
END:VCALENDAR
