BEGIN:VCALENDAR
PRODID:brasil.gov.agenda
VERSION:1.0
BEGIN:VEVENT
DTSTART:20220314T120000Z
DTEND:20220314T160000Z
DCREATED:20220321T131714Z
UID:Compromisso-7a4f5f1bd79c4543acdd95b6ab32881b
SEQUENCE:0
LAST-MODIFIED:20220321T135451Z
SUMMARY:Despachos Internos
LOCATION:Trabalho Remoto
PRIORITY:3
TRANSP:0
END:VEVENT
END:VCALENDAR
