Workbook

Sheet Planilha Orcamentaria
A1: OBRA | B1: INSTALAÇÃO DE SISTEMA DE GERAÇÃO DE ENERGIA SOLAR PARA ATENDIMENTO DAS NECESSIDADES ENERGÉTICAS DA UNIDADE DE ARMAZENAMENTO DA CONAB DE CANOAS\RS
B2: PLANILHA ORÇAMENTÁRIA | G2: BDI | H2: =BDI!C16 -> 0.24444303
G3: Data | H3: 45748
A4: Item | B4: Código | C4: Banco | D4: Descrição | E4: Unidade | F4: Quantidade | G4: Valores com BDI
G5: R$ Unitário | H5: R$ Total
A6: 1 | D6: Elaboração de Projeto Executivo | H6: =SUM(H7:H8) -> 35314.488
A7: 1.1 | B7: Comp01 | C7: Próprio | D7: Elaboração de Projeto Executivo do sistema de geração de energia solar, incluindo toda a documentação, trâmites e aprovação da distribuidora de energia | E7: un | F7: 1 | G7: =Comp01!F3*(1+'Planilha Orcamentaria'!H2) -> 35043.018 | H7: =F7*G7 -> 35043.018
A8: 1.2 | B8: 515/2024 | C8: CREA RS | D8: Anotação de Responsabilidade Técnica - ART do projeto Executivo, conforme Portaria 515/2024 do CREA RS | E8: un | F8: 1 | G8: 271.47 | H8: =F8*G8 -> 271.47
A9: 2 | D9: Adequação da subestação de energia | H9: =SUM(H10) -> 170526.87
A10: 2.1 | B10: Comp02 | C10: Próprio | D10: Serviços de adequação da subestação de energia com fornecimento de materiais e mão de obre de execução, conforme Estudo de Coordenação e Seletividade | E10: un | F10: 1 | G10: =Comp02!I3*(1+'Planilha Orcamentaria'!H2) -> 170526.87 | H10: =F10*G10 -> 170526.87
A11: 3 | D11: Execução da obra | H11: =SUM(H12:H15) -> 413777.44
A12: 3.1 | B12: 103689 | C12: SINAPI | D12: FORNECIMENTO E INSTALAÇÃO DE PLACA DE OBRA COM CHAPA GALVANIZADA E ESTRUTURA DE MADEIRA. | E12: m² | F12: 2.24 | G12: =461.14*(1+'Planilha Orcamentaria'!H2) -> 573.86246 | H12: =F12*G12 -> 1285.4519
A13: 3.2 | B13: Comp03 | C13: Próprio | D13: Sistema de geração de energia solar com potência mínima de 100KW par os inversores e 137,5KWp para os módulos, conforme termo de referência e projeto executivo aprovado. Materiais. | E13: un | F13: 1 | G13: =Comp03!I3*(1+'Planilha Orcamentaria'!H2) -> 267485.36 | H13: =F13*G13 -> 267485.36
A14: 3.3 | B14: Comp04 | C14: Próprio | D14: =Comp04!B3 -> ESTRUTURA PARA INSTALAÇÃO DE 250 PAINÉIS FOTOVOLTAICOS EM SOLO NO LAYOUT 5 MESAS PARA 50 PAINÉIS (2 x 25) - Materiais | E14: un | F14: 1 | G14: =Comp04!I3*(1+'Planilha Orcamentaria'!H2) -> 57946.518 | H14: =F14*G14 -> 57946.518
A15: 3.4 | B15: Comp05 | C15: Próprio | D15: =Comp05!B3 -> Mão de Obra para instalaçãio de sistema de geração de energia solar com potência mínima de 100KW par os inversores e 137,5KWp para os módulos, conforme termo de referência e projeto executivo aprovado, incluindo escavação e concretagem. | E15: un | F15: 1 | G15: =Comp05!F3*(1+'Planilha Orcamentaria'!H2) -> 87060.114 | H15: =F15*G15 -> 87060.114
A16: Valor total com BDI | G16: =SUM(H6,H9,H11) -> 619618.8

Sheet Comp01
A1: ='Planilha Orcamentaria'!B1 -> INSTALAÇÃO DE SISTEMA DE GERAÇÃO DE ENERGIA SOLAR PARA ATENDIMENTO DAS NECESSIDADES ENERGÉTICAS DA UNIDADE DE ARMAZENAMENTO DA CONAB DE CANOAS\RS
A2: Elaboração de Projeto Executivo do sistema de geração de energia solar Valores sem BDI
A3: COMP01 | B3: Elaboração de Projeto Executivo do sistema de geração de energia solar, incluindo toda a documentação, trâmites e aprovação da distribuidora de energia | F3: =SUM(F5:F6) -> 28159.6
A4: Origem/ Cód. Sinapi | B4: Item | C4: Qtd | D4: Un | E4: Valor Unitário | F4: Valor Total
A5: 2707 | B5: Engenheiro Eletrico | C5: 200 | D5: horas | E5: =Comp05!E5 -> 131.57 | F5: =E5*C5 -> 26314
A6: 2436 | B6: Eletricista | C6: 80 | D6: horas | E6: =Comp05!E7 -> 23.07 | F6: =E6*C6 -> 1845.6

Sheet Comp02
A1: ='Planilha Orcamentaria'!B1 -> INSTALAÇÃO DE SISTEMA DE GERAÇÃO DE ENERGIA SOLAR PARA ATENDIMENTO DAS NECESSIDADES ENERGÉTICAS DA UNIDADE DE ARMAZENAMENTO DA CONAB DE CANOAS\RS
A2: Adequação da subestação de energia com fornecimento de materiais e mão de obra de execução Valores sem BDI
A3: COMP02 | B3: Adequação da subestação de energia com fornecimento de materiais e mão de obra de execução, conforme Estudo de Coordenação e Seletividade | I3: =SUM(I25,I4) -> 137030.68
A4: Materiais | I4: =SUM(I6:I24) -> 108017.08
A5: Origem/ Cód. Sinapi | B5: Item | C5: Qtd | D5: Un | E5: Tecnoporto | F5: Solar Power | G5: Potência | H5: Valor Unitário médio | I5: Valor Total
A6: Cotação | B6: Disjuntor a vacuo ou SF6 630A 16KA 24KV com motorização, Bobina de Abertura 220V e Bobina de Fechamento 220V | C6: 1 | D6: un | E6: 39800 | F6: 66987 | G6: 44974 | H6: =MEDIAN(E6:G6) -> 44974 | I6: =C6*H6 -> 44974
A7: Cotação | B7: Painel de Proteção com Rele Multifunção de Proteção secundária Microprocessado Funções 50/51, 50/51N, 67,67N, 32,47,25,51V, 27,81u/o, 59, 59N | C7: 1 | D7: un | E7: 19500 | F7: 25678 | G7: 22035 | H7: =MEDIAN(E7:G7) -> 22035 | I7: =C7*H7 -> 22035
A8: Cotação | B8: Transformador de Corrente 300/5 A 10b 100 - 24KV | C8: 3 | D8: un | E8: 2380 | F8: 451.27 | G8: 2951.2 | H8: =MEDIAN(E8:G8) -> 2380 | I8: =C8*H8 -> 7140
A9: Cotação | B9: Transformador de Potencial 500VA - 03P75 23100/RAIZ3 - 115V | C9: 3 | D9: un | E9: 5400 | F9: 4201.34 | G9: 6210 | H9: =MEDIAN(E9:G9) -> 5400 | I9: =C9*H9 -> 16200
A10: Cotação | B10: Transformador de Potencial 1000VA - comando 23100 - 220V | C10: 1 | D10: un | E10: 6400 | F10: 4998.76 | G10: 7936 | H10: =MEDIAN(E10:G10) -> 6400 | I10: =C10*H10 -> 6400
A11: Cotação | B11: Barra de cobre redondo puro 3/8 x 3m | C11: 4 | D11: un | E11: 475 | F11: 410.23 | G11: 589 | H11: =MEDIAN(E11:G11) -> 475 | I11: =C11*H11 -> 1900
A12: Cotação | B12: Terminal olhal reto 3/8 concêntrico | C12: 22 | D12: un | E12: 27.9 | F12: 48.19 | G12: 34.6 | H12: =MEDIAN(E12:G12) -> 34.6 | I12: =C12*H12 -> 761.2
A13: Cotação | B13: Cabo cobre nu 35mm² | C13: 30 | D13: un | E13: 37.85 | F13: 48.9 | G13: 46.93 | H13: =MEDIAN(E13:G13) -> 46.93 | I13: =C13*H13 -> 1407.9
A14: Cotação | B14: Terminal de compressão 35mm olhar | C14: 12 | D14: un | E14: 18 | F14: 3.4 | G14: 22.32 | H14: =MEDIAN(E14:G14) -> 18 | I14: =C14*H14 -> 216
A15: Cotação | B15: Terminal parafuso fendido 50mm | C15: 6 | D15: un | E15: 42 | F15: 18.9 | G15: 52.08 | H15: =MEDIAN(E15:G15) -> 42 | I15: =C15*H15 -> 252
A16: Cotação | B16: Conduite PAD 1" | C16: 10 | D16: un | E16: 18.5 | F16: 8.45 | G16: 22.94 | H16: =MEDIAN(E16:G16) -> 18.5 | I16: =C16*H16 -> 185
A17: Cotação | B17: Tinta esmalte Vermelho 250ml | C17: 1 | D17: un | E17: 35 | F17: 22.4 | G17: 43.4 | H17: =MEDIAN(E17:G17) -> 35 | I17: =C17*H17 -> 35
... A24: Cotação | B24: Cavalete Metalico para 1 TP | C24: 1 | D24: un | E24: 750 | F24: 980 | G24: 930 | H24: =MEDIAN(E24:G24) -> 930 | I24: =C24*H24 -> 930
A25: Mão de obra | I25: =SUM(I27:I30) -> 29013.6
A26: Origem/ Cód. Sinapi | B26: Item | C26: Qtd | D26: Un | H26: Valor Unitário | I26: Valor Total
A27: 2707 | B27: Engenheiro Eletrico | C27: 120 | D27: hora | H27: =Comp05!E5 -> 131.57 | I27: =C27*H27 -> 15788.4
A28: 4083 | B28: Encarregado | C28: =C27 -> 120 | D28: hora | H28: =Comp05!E6 -> 68.93 | I28: =C28*H28 -> 8271.6
A29: 2436 | B29: Eletricista | C29: =C28 -> 120 | D29: hora | H29: =Comp05!E7 -> 23.07 | I29: =C29*H29 -> 2768.4
A30: 247 | B30: Auxiliar eletricista | C30: =C29 -> 120 | D30: hora | H30: =Comp05!E8 -> 18.21 | I30: =C30*H30 -> 2185.2

Sheet Comp03
A1: ='Planilha Orcamentaria'!B1 -> INSTALAÇÃO DE SISTEMA DE GERAÇÃO DE ENERGIA SOLAR PARA ATENDIMENTO DAS NECESSIDADES ENERGÉTICAS DA UNIDADE DE ARMAZENAMENTO DA CONAB DE CANOAS\RS
A2: Sistema de geração de energia solar com potência mínima de 100KW - Materiais Valores sem BDI
A3: COMP03 | B3: Sistema de geração de energia solar com potência mínima de 100KW par os inversores e 137,5KWp para os módulos, conforme termo de referência e projeto executivo aprovado. Materiais. | I3: =SUM(I5:I36) -> 214943.83
A4: Origem/ Cód. Sinapi | B4: Item | C4: Qtd | D4: Un | E4: Trento | F4: Solar Power | G4: Free Energia | H4: Valor Unitário médio | I4: Valor Total
A5: Cotação | B5: Inversor Fotovoltaico de 100 kWp Trifasico modelo SIW500G T100 W0 Weg ou similar | C5: 1 | D5: un | E5: 49000 | F5: 42576 | G5: 27172.83 | H5: =MEDIAN(E5:G5) -> 42576 | I5: =C5*H5 -> 42576
A6: Cotação | B6: Módulos Fotovoltaicos com potência de 550 Wp Monocristalina modelo WPV 550-555 HMM3 Weg ou similar | C6: 250 | D6: un | E6: =205000/256 -> 800.78125 | F6: 425 | G6: 539.54 | H6: =MEDIAN(E6:G6) -> 539.54 | I6: =C6*H6 -> 134885
A7: Cotação | B7: Cabo CC 6mm² 1.8kV Preto | C7: 700 | D7: un | E7: 8.5 | F7: 4.49 | G7: 4.1206571 | H7: =MEDIAN(E7:G7) -> 4.49 | I7: =C7*H7 -> 3143 | P7: Não
A8: Cotação | B8: Cabo CC 6mm² 1.8kV Vermelho | C8: 700 | D8: un | E8: 8.5 | F8: 4.49 | G8: 4.1206571 | H8: =MEDIAN(E8:G8) -> 4.49 | I8: =C8*H8 -> 3143 | P8: Não
A9: 2378 | B9: DISJUNTOR TERMOMAGNETICO TRIPOLAR 300 A / 600 V, TIPO JXD / ICC - 40 KA | C9: 1 | D9: un | H9: 1191.57 | I9: =C9*H9 -> 1191.57 | P9: DISJUNTOR TERMOMAGNETICO TRIPOLAR 200 A / 600 V, TIPO FXD / ICC - 35 KA | Q9: 2377 | R9: 610.77 | S9: =C9*R9 -> 610.77
A10: 39471 | B10: DISPOSITIVO DPS CLASSE II, 1 POLO, TENSAO MAXIMA DE 275 V, CORRENTE MAXIMA DE *45* KA (TIPO AC) | C10: 3 | D10: un | H10: 97.77 | I10: =C10*H10 -> 293.31 | P10: DISPOSITIVO DPS CLASSE II, 1 POLO, TENSAO MAXIMA DE 385 V, CORRENTE MAXIMA DE *90*KA | Q10: 39476 | R10: 294.63 | S10: =C10*R10 -> 883.89
A11: Cotação | B11: Conectores MC4 | C11: 30 | D11: un | E11: 13.18 | F11: 14.5 | G11: 7.5462006 | H11: =MEDIAN(E11:G11) -> 13.18 | I11: =C11*H11 -> 395.4 | P11: Não
A12: 5033 | B12: POSTE DE CONCRETO ARMADO DE SECAO DUPLO T, EXTENSAO DE 9,00 M, RESISTENCIA DE 300 A 400 DAN, TIPO B OU D | C12: 1 | D12: un | H12: 960.45 | I12: =C12*H12 -> 960.45 | P12: Materiais elétricos diversos para a instalação elétrica do SFV
A13: 998 | B13: CABO DE COBRE, FLEXIVEL, CLASSE 4 OU 5, ISOLACAO EM PVC/A, ANTICHAMA BWF-B, COBERTURA PVC-ST1, ANTICHAMA BWF-B, 1 CONDUTOR, 0,6/1 KV, SECAO NOMINAL 95 MM2 | C13: 120 | D13: MT | H13: 90.1 | I13: =C13*H13 -> 10812
A14: 1018 | B14: CABO DE COBRE, FLEXIVEL, CLASSE 4 OU 5, ISOLACAO EM PVC/A, ANTICHAMA BWF-B, COBERTURA PVC-ST1, ANTICHAMA BWF-B, 1 CONDUTOR, 0,6/1 KV, SECAO NOMINAL 50 MM2 | C14: 40 | D14: MT | H14: 49.6 | I14: =C14*H14 -> 1984
A15: Cotação | B15: CURVA 90 ELETR. LONGA 3" | C15: 5 | D15: un | E15: 31.15 | F15: 53.76 | G15: 17.834913 | H15: =MEDIAN(E15:G15) -> 31.15 | I15: =C15*H15 -> 155.75
A16: Cotação | B16: LUVA ELETR PESADO 3" | C16: 12 | D16: un | E16: 9.35 | F16: 28.98 | G16: 5.3533365 | H16: =MEDIAN(E16:G16) -> 9.35 | I16: =C16*H16 -> 112.2
A17: Cotação | B17: TUBO ELETRODUTO 3" X 3M | C17: 4 | D17: barra | E17: 88.13 | F17: 127 | G17: 50.458775 | H17: =MEDIAN(E17:G17) -> 88.13 | I17: =C17*H17 -> 352.52
A18: Cotação | B18: CINTA PERFURADA 35MM X 3MT CH16 | C18: 6 | D18: metro | E18: 10.64 | F18: 4.67 | G18: 6.0919252 | H18: =MEDIAN(E18:G18) -> 6.0919252 | I18: =C18*H18 -> 36.551551
A19: Cotação | B19: CONECTOR BOX RETO 3" 56127008 | C19: 2 | D19: un | E19: 58.88 | F19: 49.58 | G19: 33.711706 | H19: =MEDIAN(E19:G19) -> 49.58 | I19: =C19*H19 -> 99.16
A20: 2686 | B20: ELETRODUTO DE PVC RIGIDO ROSCAVEL DE 3" | C20: 6 | D20: MT | E20: 43.08 | F20: 36.66 | G20: 24.665426 | H20: =MEDIAN(E20:G20) -> 36.66 | I20: =C20*H20 -> 219.96
A21: Cotação | B21: CONECTOR BOX RETO 2" 56127026 | C21: 6 | D21: un | E21: 17.04 | F21: 19.9 | G21: 9.7562411 | H21: =MEDIAN(E21:G21) -> 17.04 | I21: =C21*H21 -> 102.24
A22: Cotação | B22: MASSA CALAFETAR 350G | C22: 5 | D22: un | E22: 15.54 | F22: 8.9 | G22: 8.8974171 | H22: =MEDIAN(E22:G22) -> 8.9 | I22: =C22*H22 -> 44.5
A23: 39761 | B23: QUADRO DE DISTRIBUICAO COM BARRAMENTO TRIFASICO, DE SOBREPOR, EM CHAPA DE ACO GALVANIZADO, PARA 48 DISJUNTORES DIN, 100 A | C23: 1 | D23: un | H23: 1025.22 | I23: =C23*H23 -> 1025.22
A24: Cotação | B24: BARRA PROTECAO NEUTRO BRG-N/T | C24: 2 | D24: un | E24: 149.5 | F24: 32.45 | G24: 85.596129 | H24: =MEDIAN(E24:G24) -> 85.596129 | I24: =C24*H24 -> 171.19226
A25: 34709 | B25: DISJUNTOR TERMOMAGNETICO PARA TRILHO DIN (IEC), TRIPOLAR, 10 - 50 A | C25: 1 | D25: un | H25: 59.65 | I25: =C25*H25 -> 59.65
A26: 34653 | B26: DISJUNTOR TERMOMAGNETICO PARA TRILHO DIN (IEC), MONOPOLAR, 6 - 32 A | C26: 2 | D26: un | H26: 8.49 | I26: =C26*H26 -> 16.98
A27: 980 | B27: CABO DE COBRE, FLEXIVEL, CLASSE 4 OU 5, ISOLACAO EM PVC/A, ANTICHAMA BWF-B, 1 CONDUTOR, 450/750 V, SECAO NOMINAL 10 MM2 | C27: 10 | D27: metro | H27: 10.08 | I27: =C27*H27 -> 100.8
A28: Cotação | B28: MANGUEIRA CORRUG 3" DUTOFLEX PEAD | C28: 100 | D28: metro | E28: 4.54 | F28: 7.67 | G28: 2.5993741 | H28: =MEDIAN(E28:G28) -> 4.54 | I28: =C28*H28 -> 454
A29: Cotação | B29: CX CONCRETO 50X50X60 C/ TAMPA S/ FUNDO | C29: 5 | D29: un | E29: 410.7 | F29: 197 | G29: 235.14602 | H29: =MEDIAN(E29:G29) -> 235.14602 | I29: =C29*H29 -> 1175.7301
A30: 3379 | B30: HASTE DE ATERRAMENTO EM ACO COM 3,00 M DE COMPRIMENTO E DN = 5/8", REVESTIDA COM BAIXA CAMADA DE COBRE, SEM CONECTOR | C30: 10 | D30: un | H30: 93.22 | I30: =C30*H30 -> 932.2
A31: 38056 | B31: GRAMPO METALICO TIPO U PARA HASTE DE ATERRAMENTO DE ATE 5/8", CONDUTOR DE 10 A 25 MM2 | C31: 10 | D31: un | H31: 47.56 | I31: =C31*H31 -> 475.6
A32: 867 | B32: CABO DE COBRE NU 50 MM2 MEIO-DURO | C32: 150 | D32: metro | H32: 52.15 | I32: =C32*H32 -> 7822.5
A33: 1562 | B33: CONECTOR METALICO TIPO PARAFUSO FENDIDO (SPLIT BOLT), COM SEPARADOR DE CABOS BIMETALICOS, PARA CABOS ATE 50 MM2 | C33: 10 | D33: un | H33: 20 | I33: =C33*H33 -> 200
A34: Cotação | B34: ELETROCALHA PERFURADA 100 X 100mm 3M CH18 C/ VIROLA 180º | C34: 5 | D34: un | E34: 149.48 | F34: 147.65 | G34: 85.584679 | H34: =MEDIAN(E34:G34) -> 147.65 | I34: =C34*H34 -> 738.25
A35: Cotação | B35: TAMPA ELETROC 100X3000MM | C35: 5 | D35: barra | E35: 35.02 | F35: 48.9 | G35: 20.050679 | H35: =MEDIAN(E35:G35) -> 35.02 | I35: =C35*H35 -> 175.1
A36: 408 | B36: ABRACADEIRA DE NYLON PARA AMARRACAO DE CABOS, COMPRIMENTO DE 390 X *4,6* MM | C36: 1000 | D36: un | H36: 1.09 | I36: =C36*H36 -> 1090

Sheet Comp04
A1: ='Planilha Orcamentaria'!B1 -> INSTALAÇÃO DE SISTEMA DE GERAÇÃO DE ENERGIA SOLAR PARA ATENDIMENTO DAS NECESSIDADES ENERGÉTICAS DA UNIDADE DE ARMAZENAMENTO DA CONAB DE CANOAS\RS
A2: ESTRUTURA PARA INSTALAÇÃO DE 250 PAINÉIS FOTOVOLTAICOS EM SOLO Valores sem BDI
A3: COMP04 | B3: ESTRUTURA PARA INSTALAÇÃO DE 250 PAINÉIS FOTOVOLTAICOS EM SOLO NO LAYOUT 5 MESAS PARA 50 PAINÉIS (2 x 25) - Materiais | I3: =SUM(I5:I20) -> 46564.219
A4: Origem/ Cód. Sinapi | B4: Item | C4: Qtd | D4: Un | E4: Acerta | F4: Solar Power | G4: Free Energia | H4: Valor Unitário médio | I4: Valor Total
A5: Cotação | B5: COLUNA - PERFIL U ENRIJ 2MM - 100X40X15X2000MM GALV | C5: 70 | D5: un | E5: 100.2736 | F5: 188 | G5: 89.427776 | H5: =MEDIAN(E5:G5) -> 100.2736 | I5: =C5*H5 -> 7019.152
A6: Cotação | B6: TESOURA - PERFIL U ENRIJ 2MM - 127X50X15X3500MM GALV | C6: 70 | D6: un | E6: 205.6881 | F6: 236.89 | G6: 183.4404 | H6: =MEDIAN(E6:G6) -> 205.6881 | I6: =C6*H6 -> 14398.167
A7: Cotação | B7: CONTRAVENTAMENTO - PERFIL AL JUNÇÃO/CONTRAV 3,50M | C7: 15 | D7: un | E7: 65.8683 | F7: 220 | G7: 58.743833 | H7: =MEDIAN(E7:G7) -> 65.8683 | I7: =C7*H7 -> 988.0245
A8: Cotação | B8: TERÇA - PERFIL AL 6,00M | C8: 100 | D8: un | E8: 154.3968 | F8: 265.76 | G8: 137.69689 | H8: =MEDIAN(E8:G8) -> 154.3968 | I8: =C8*H8 -> 15439.68
A9: Cotação | B9: FIXADOR Z | C9: 1040 | D9: un | E9: 0.7339 | F9: 11.23 | G9: 0.65451968 | H9: =MEDIAN(E9:G9) -> 0.7339 | I9: =C9*H9 -> 763.256
A10: Cotação | B10: LUVA JUNÇÃO 0,25M SLIM POWER | C10: 80 | D10: un | E10: 4.9115 | F10: 8.1 | G10: 4.3802608 | H10: =MEDIAN(E10:G10) -> 4.9115 | I10: =C10*H10 -> 392.92
A11: Cotação | B11: MÃO FRANCESA - CANTONEIRA 1.1/2" x 1/8" - 1,257m | C11: 70 | D11: un | E11: 46.838 | F11: 44.85 | G11: 41.771894 | H11: =MEDIAN(E11:G11) -> 44.85 | I11: =C11*H11 -> 3139.5
A12: Cotação | B12: PF BROC SEX 5,5 x 25 GEOMET | C12: 160 | D12: un | E12: 0.551 | F12: 0.52 | G12: 0.49140257 | H12: =MEDIAN(E12:G12) -> 0.52 | I12: =C12*H12 -> 83.2
A13: Cotação | B13: PF BROC SEX 5,5 x 38 GEOMET C/ EPDM | C13: 40 | D13: un | E13: 0.7714 | F13: 0.1 | G13: 0.6879636 | H13: =MEDIAN(E13:G13) -> 0.6879636 | I13: =C13*H13 -> 27.518544
A14: Cotação | B14: CJ PARAFUSO SEXT PORCA ARRUELA M12 x 20 GEOMET | C14: 70 | D14: un | E14: 1.8735 | F14: 1.76 | G14: 1.6708579 | H14: =MEDIAN(E14:G14) -> 1.76 | I14: =C14*H14 -> 123.2
A15: Cotação | B15: CJ PARAFUSO LENTILHA PORCA ARRUELA M10 x 25 GEOMET | C15: 170 | D15: un | E15: 2.4797 | F15: 1.95 | G15: 2.2114899 | H15: =MEDIAN(E15:G15) -> 2.2114899 | I15: =C15*H15 -> 375.95329
A16: Cotação | B16: CJ PARAFUSO SEXT PORCA ARRUELA M8 x 20 GEOMET | C16: 560 | D16: un | E16: 0.7439 | F16: 2.1 | G16: 0.66343806 | H16: =MEDIAN(E16:G16) -> 0.7439 | I16: =C16*H16 -> 416.584
... A20: Cotação | B20: Frete | C20: 1 | D20: un | E20: 2540 | F20: 900 | G20: 2265.2677 | H20: =MEDIAN(E20:G20) -> 2265.2677 | I20: =C20*H20 -> 2265.2677

Sheet Comp05
A1: ='Planilha Orcamentaria'!B1 -> INSTALAÇÃO DE SISTEMA DE GERAÇÃO DE ENERGIA SOLAR PARA ATENDIMENTO DAS NECESSIDADES ENERGÉTICAS DA UNIDADE DE ARMAZENAMENTO DA CONAB DE CANOAS\RS
A2: Mão de Obra para instalaçãio de sistema de geração de energia solar com potência mínima de 100KW Valores sem BDI
A3: COMP05 | B3: Mão de Obra para instalaçãio de sistema de geração de energia solar com potência mínima de 100KW par os inversores e 137,5KWp para os módulos, conforme termo de referência e projeto executivo aprovado, incluindo escavação e concretagem. | F3: =SUM(F5:F10) -> 69959.1
A4: Origem/ Cód. Sinapi | B4: Item | C4: Qtd | D4: Un | E4: Valor Unitário | F4: Valor Total
A5: 2707 | B5: Engenheiro | C5: 100 | D5: hora | E5: 131.57 | F5: =C5*E5 -> 13157
A6: 4083 | B6: Encarregado | C6: 200 | D6: hora | E6: 68.93 | F6: =C6*E6 -> 13786
A7: 2436 | B7: Eletricista | C7: 400 | D7: hora | E7: 23.07 | F7: =C7*E7 -> 9228
A8: 247 | B8: Auxiliar eletricista | C8: 400 | D8: hora | E8: 18.21 | F8: =C8*E8 -> 7284
A9: 96523 | B9: ESCAVAÇÃO MANUAL PARA BLOCO DE COROAMENTO OU SAPATA | C9: =140*(0.5*0.5*1) -> 35 | D9: m³ | E9: 99.82 | F9: =C9*E9 -> 3493.7
A10: 102475 | B10: CONCRETO FCK = 20MPA, TRAÇO 1:2,6:2,9 | C10: =C9 -> 35 | D10: m³ | E10: 657.44 | F10: =C10*E10 -> 23010.4

Sheet BDI
A1: OBRA | B1: INSTALAÇÃO DE SISTEMA DE GERAÇÃO DE ENERGIA SOLAR PARA ATENDIMENTO DAS NECESSIDADES ENERGÉTICAS DA UNIDADE DE ARMAZENAMENTO DA CONAB DE CANOAS\RS
A2: COMPOSIÇÃO BDI
A3: ITEM | B3: COMPONENTES | C3: %
A4: 1 | B4: DESPESAS COM ADMINISTRAÇÃO CENTRAL (AC) | C4: 0.015
A5: 2 | B5: DESPESAS FINANCEIRAS (DF) | C5: 0.0056
A6: 3 | B6: SEGUROS, RISCOS E GARANTIAS (S,R,G) | C6: 0.0086
A7: 3.1 | B7: SEGUROS (S) | C7: 0.0015
A8: 3.2 | B8: RISCOS (R) | C8: 0.0056
A9: 3.3 | B9: GARANTIAS (G) | C9: 0.0015
A10: 4 | B10: TRIBUTOS (I) | C10: =SUM(C11:C14) -> 0.1315
A11: 4.1 | B11: ISS | C11: 0.05
A12: 4.2 | B12: PIS | C12: 0.0065
A13: 4.3 | B13: CPRB | C13: 0.045
A14: 4.4 | B14: COFINS | C14: 0.03
A15: 5 | B15: LUCRO (L) | C15: 0.05
B16: TOTAL | C16: =((((1+C4+C7+C9+C8)*(1+C5)*(1+C15))/(1-C10))-1) -> 0.24444303
A20: 1) Os Tributos normalmente aplicáveis são: PIS (O,65%), COFINS (3,00%) e ISS (variável até 5,00% conforme o município).
A21: 2) O cálculo do BDI se baseia na fórmula utilizada pelo Acórdão 2622/13 do TCU.
A22: 3) Se optante do Simples Nacional (informar os respectivos percentuais de acordo com o previsto no Anexo IV da Lei Complementar 123/2006).
A23: 4) Com o advento da Lei 13.161/2015, houve uma alteração referente à Contribuição Previdenciária sobre a Receita Bruta - CPRB, da Lei 12.546/2011, que trata da desoneração das contribuições previdenciárias, majorando a alíquota de 2,00% para 4,50%.
