BEGIN:VCALENDAR
PRODID:brasil.gov.agenda
VERSION:1.0
BEGIN:VEVENT
DTSTART:20211112T120000Z
DTEND:20211112T130000Z
DCREATED:20211112T134019Z
UID:Compromisso-8acec187325f46808a5640ba12fca4df
SEQUENCE:0
LAST-MODIFIED:20211112T134019Z
SUMMARY:Despachos internos.
LOCATION:CNPq
PRIORITY:3
TRANSP:0
END:VEVENT
END:VCALENDAR
