BEGIN:VCALENDAR
PRODID:brasil.gov.agenda
VERSION:1.0
BEGIN:VEVENT
DTSTART:20211111T200000Z
DTEND:20211111T210000Z
DCREATED:20211111T201428Z
UID:Compromisso-4a02ff3998ab4176b6ba5d6f7010a15b
SEQUENCE:0
LAST-MODIFIED:20211111T201428Z
SUMMARY:Despachos internos.
LOCATION:PRE/CNPq
PRIORITY:3
TRANSP:0
END:VEVENT
END:VCALENDAR
