BEGIN:VCALENDAR
PRODID:brasil.gov.agenda
VERSION:1.0
BEGIN:VEVENT
DTSTART:20211030T170000Z
DTEND:20211030T220000Z
DCREATED:20210930T132742Z
UID:Compromisso-8a95a299e68d4604a45968ac2db23e4b
SEQUENCE:0
LAST-MODIFIED:20210930T132742Z
SUMMARY:Despachos Internos.
LOCATION:GAB/PRE
PRIORITY:3
TRANSP:0
END:VEVENT
END:VCALENDAR
