BEGIN:VCALENDAR
PRODID:brasil.gov.agenda
VERSION:1.0
BEGIN:VEVENT
DTSTART:20211029T130000Z
DTEND:20211029T150000Z
DCREATED:20211029T114709Z
UID:Compromisso-3d20f4426266431ab1669ac0c3c22526
SEQUENCE:0
LAST-MODIFIED:20211029T114709Z
SUMMARY:Despachos Internos.
LOCATION:GAB/PRE
PRIORITY:3
TRANSP:0
END:VEVENT
END:VCALENDAR
