BEGIN:VCALENDAR
PRODID:brasil.gov.agenda
VERSION:1.0
BEGIN:VEVENT
DTSTART:20190822T173000Z
DTEND:20190822T183000Z
DCREATED:20190822T110959Z
UID:Compromisso-540a0f97dbf24bf88e3a598908429477
SEQUENCE:0
LAST-MODIFIED:20190822T111851Z
SUMMARY:Reunião com o Brigadeiro Volkmer e a Srª Edileuza - CENSIPAM.
DESCRIPTION:Reunião com o Brigadeiro Volkmer e a Srª Edileuza - CENS
 IPAM.
LOCATION:GAB/PRE
PRIORITY:3
TRANSP:0
END:VEVENT
END:VCALENDAR
