BEGIN:VCALENDAR
PRODID:brasil.gov.agenda
VERSION:1.0
BEGIN:VEVENT
DTSTART:20190529T170000Z
DTEND:20190529T220000Z
DCREATED:20190529T114028Z
UID:Compromisso-c41b148a6f9944279b1556ba59e890eb
SEQUENCE:0
LAST-MODIFIED:20190529T114157Z
SUMMARY:Despachos Internos.
DESCRIPTION:Despachos Internos.
LOCATION:GAB/PRE
PRIORITY:3
TRANSP:0
END:VEVENT
END:VCALENDAR
