BEGIN:VCALENDAR
PRODID:brasil.gov.agenda
VERSION:1.0
BEGIN:VEVENT
DTSTART:20170904T210000Z
DTEND:20170904T220000Z
DCREATED:20170904T113143Z
UID:Compromisso-bb6114f87cba4def87fd64862cc8668c
SEQUENCE:0
LAST-MODIFIED:20170904T113225Z
SUMMARY:Reunião com a Dra. Ana Lúcia Assad.
DESCRIPTION:Reunião com a Dra. Ana Lúcia Assad.
LOCATION:GAB/PRE.
PRIORITY:3
TRANSP:0
END:VEVENT
END:VCALENDAR
