BEGIN:VCALENDAR
PRODID:brasil.gov.agenda
VERSION:1.0
BEGIN:VEVENT
DTSTART:20170512T140000Z
DTEND:20170512T150000Z
DCREATED:20170512T110835Z
UID:Compromisso-f5ed8ef66a774bb08593a91b4683ec5d
SEQUENCE:0
LAST-MODIFIED:20170512T111621Z
SUMMARY:Reunião com o Dr. Ary Mergulhão.
DESCRIPTION:Reunião com o Dr. Ary Mergulhão.
LOCATION:GAB/PRE
PRIORITY:3
TRANSP:0
END:VEVENT
END:VCALENDAR
