BEGIN:VCALENDAR
PRODID:brasil.gov.agenda
VERSION:1.0
BEGIN:VEVENT
DTSTART:20210609T170000Z
DTEND:20210609T210000Z
DCREATED:20210528T011535Z
UID:Compromisso-cf6b2a00bb88440f85ab19981910cac1
SEQUENCE:0
LAST-MODIFIED:20220504T214452Z
SUMMARY:Despachos internos
LOCATION:FCRB
PRIORITY:3
TRANSP:0
END:VEVENT
END:VCALENDAR
