BEGIN:VCALENDAR
PRODID:brasil.gov.agenda
VERSION:1.0
BEGIN:VEVENT
DTSTART:20260206T143000Z
DTEND:20260206T144500Z
DCREATED:20260205T203953Z
UID:Compromisso-750c301b9d2d4b378d2cbb625c2d78ce
SEQUENCE:0
LAST-MODIFIED:20260205T203953Z
SUMMARY:Audiência - Eduardo Monteiro Cardoso
LOCATION:Video conferencia - via Teams
PRIORITY:3
TRANSP:0
END:VEVENT
END:VCALENDAR
