BEGIN:VCALENDAR
PRODID:brasil.gov.agenda
VERSION:1.0
BEGIN:VEVENT
DTSTART:20260129T123000Z
DTEND:20260129T130000Z
DCREATED:20260129T123304Z
UID:Compromisso-6fbcac9beabe4796b89734953b81827e
SEQUENCE:0
LAST-MODIFIED:20260129T123304Z
SUMMARY:Audiência - Roberto Junqueira de Alvarenga Neto
LOCATION:Video Conferencia - Via Teams
PRIORITY:3
TRANSP:0
END:VEVENT
END:VCALENDAR
