BEGIN:VCALENDAR
PRODID:brasil.gov.agenda
VERSION:1.0
BEGIN:VEVENT
DTSTART:20251002T170000Z
DTEND:20251002T173000Z
DCREATED:20251002T170720Z
UID:Compromisso-c25e35edb5e24c798fc1176ea0b422b1
SEQUENCE:0
LAST-MODIFIED:20251002T170720Z
SUMMARY:Audiência - Alfredo Jorge Madeira Rosa
DESCRIPTION:Processo em Tramitação no CARF
LOCATION:Video Conferencia - Via Teams
PRIORITY:3
TRANSP:0
END:VEVENT
END:VCALENDAR
