BEGIN:VCALENDAR
PRODID:brasil.gov.agenda
VERSION:1.0
BEGIN:VEVENT
DTSTART:20220728T173000Z
DTEND:20220728T183000Z
DCREATED:20220728T201239Z
UID:Compromisso-246f7d5de45a48519aa85643f9c168f2
SEQUENCE:0
LAST-MODIFIED:20220728T201239Z
SUMMARY:Despacho interno
LOCATION:CAPES
PRIORITY:3
TRANSP:0
END:VEVENT
END:VCALENDAR
