BEGIN:VCALENDAR
PRODID:brasil.gov.agenda
VERSION:1.0
BEGIN:VEVENT
DTSTART:20220728T130000Z
DTEND:20220728T140000Z
DCREATED:20220728T200221Z
UID:Compromisso-31e19e0f34bb4889a463d1205e1a417a
SEQUENCE:0
LAST-MODIFIED:20220728T200221Z
SUMMARY:Despacho interno com o Prof. Sérgio Avellar - DAV
LOCATION:CAPES - Presidência
PRIORITY:3
TRANSP:0
END:VEVENT
END:VCALENDAR
