BEGIN:VCALENDAR
PRODID:brasil.gov.agenda
VERSION:1.0
BEGIN:VEVENT
DTSTART:20211007T193000Z
DTEND:20211007T220000Z
DCREATED:20211015T180319Z
UID:Compromisso-ec42f70e46c8418495e4c219c2b9689a
SEQUENCE:0
LAST-MODIFIED:20211015T180319Z
SUMMARY:Agenda interna
PRIORITY:3
TRANSP:0
END:VEVENT
END:VCALENDAR
