BEGIN:VCALENDAR
PRODID:brasil.gov.agenda
VERSION:1.0
BEGIN:VEVENT
DTSTART:20220520T130000Z
DTEND:20220520T160000Z
DCREATED:20220520T185742Z
UID:Compromisso-8c042c6285f24cfaa60e95bc52366cf2
SEQUENCE:0
LAST-MODIFIED:20220520T185742Z
SUMMARY:Agenda Interna
LOCATION:CADE
PRIORITY:3
TRANSP:0
END:VEVENT
END:VCALENDAR
