BEGIN:VCALENDAR
PRODID:brasil.gov.agenda
VERSION:1.0
BEGIN:VEVENT
DTSTART:20220121T110000Z
DTEND:20220121T210000Z
DCREATED:20220119T142530Z
UID:Compromisso-29079e1c972e41318ca1a1a8251dccba
SEQUENCE:0
LAST-MODIFIED:20220121T141538Z
SUMMARY:Viagem Oficial
DESCRIPTION:2022 Antitrust Midwinter Leadership Meeting Event
LOCATION:Califórnia/ EUA
PRIORITY:3
TRANSP:0
END:VEVENT
END:VCALENDAR
