BEGIN:VCALENDAR
PRODID:brasil.gov.agenda
VERSION:1.0
BEGIN:VEVENT
DTSTART:20220107T170000Z
DTEND:20220107T210000Z
DCREATED:20220117T145045Z
UID:Compromisso-712eed7dec6d4a44889e26b633cfa603
SEQUENCE:0
LAST-MODIFIED:20220117T145045Z
SUMMARY:Agenda Interna
LOCATION:CADE
PRIORITY:3
TRANSP:0
END:VEVENT
END:VCALENDAR
