BEGIN:VCALENDAR
PRODID:brasil.gov.agenda
VERSION:1.0
BEGIN:VEVENT
DTSTART:20211110T130000Z
DTEND:20211110T140000Z
DCREATED:20211110T172006Z
UID:Compromisso-62808fd763a747dda1d92a4287d23962
SEQUENCE:0
LAST-MODIFIED:20211110T172006Z
SUMMARY:Reunião
DESCRIPTION:ICN: Steering Group Meeting
LOCATION:Virtual
PRIORITY:3
TRANSP:0
END:VEVENT
END:VCALENDAR
