BEGIN:VCALENDAR
PRODID:brasil.gov.agenda
VERSION:1.0
BEGIN:VEVENT
DTSTART:20211103T123000Z
DTEND:20211103T130000Z
DCREATED:20211103T141546Z
UID:Compromisso-d6be767beff84694a1fe54674e3d8c57
SEQUENCE:0
LAST-MODIFIED:20211103T141546Z
SUMMARY:Webinar - SIC: VII International Conference on Competition Protection: What does the future hold for competition law?
LOCATION:Virtual
PRIORITY:3
TRANSP:0
END:VEVENT
END:VCALENDAR
