BEGIN:VCALENDAR
PRODID:brasil.gov.agenda
VERSION:1.0
BEGIN:VEVENT
DTSTART:20220210T173000Z
DTEND:20220210T193000Z
DCREATED:20220210T114751Z
UID:Compromisso-bda1db0805f046ccabe3fad328b1f028
SEQUENCE:0
LAST-MODIFIED:20220210T144842Z
SUMMARY:Despachos com a Secretaria-Geral da Diretoria Colegiada
DESCRIPTION:Despachos Internos
LOCATION:Sede - ANVISA
PRIORITY:3
TRANSP:0
END:VEVENT
END:VCALENDAR
