BEGIN:VCALENDAR
PRODID:brasil.gov.agenda
VERSION:1.0
BEGIN:VEVENT
DTSTART:20220204T123000Z
DTEND:20220204T143000Z
DCREATED:20220204T115424Z
UID:Compromisso-05e61296cea5494f9eb022f7a1d74a16
SEQUENCE:0
LAST-MODIFIED:20220204T115425Z
SUMMARY:Reunião com a Assessoria
LOCATION:Sede - ANVISA
PRIORITY:3
TRANSP:0
END:VEVENT
END:VCALENDAR
