BEGIN:VCALENDAR
PRODID:brasil.gov.agenda
VERSION:1.0
BEGIN:VEVENT
DTSTART:20220202T130000Z
DTEND:20220202T143000Z
DCREATED:20220126T200434Z
UID:Compromisso-0766f9f578ff45308d6c26f8a5b673fc
SEQUENCE:0
LAST-MODIFIED:20220126T200434Z
SUMMARY:Despachos com a Secretaria-Geral da Diretoria Colegiada
LOCATION:Sede - ANVISA
PRIORITY:3
TRANSP:0
END:VEVENT
END:VCALENDAR
