BEGIN:VCALENDAR
PRODID:brasil.gov.agenda
VERSION:1.0
BEGIN:VEVENT
DTSTART:20210708T130000Z
DTEND:20210708T140000Z
DCREATED:20210708T180425Z
UID:Compromisso-8248468e2cef4c2a95bb1d35af3cbab8
SEQUENCE:0
LAST-MODIFIED:20210708T180506Z
SUMMARY:Despacho Interno
DESCRIPTION:Procedimentos de Processos de Denúncias
LOCATION:Reunião do Microsoft Teams
PRIORITY:3
TRANSP:0
END:VEVENT
END:VCALENDAR
