BEGIN:VCALENDAR
PRODID:brasil.gov.agenda
VERSION:1.0
BEGIN:VEVENT
DTSTART:20210629T180000Z
DTEND:20210629T190000Z
DCREATED:20210630T124026Z
UID:Compromisso-ba40d46be6de439b86d8e075641c8c77
SEQUENCE:0
LAST-MODIFIED:20210630T124026Z
SUMMARY:Despacho Interno
DESCRIPTION:45ª Reunião do Comitê Gestor do Teletrabalho - CGT
LOCATION:Reunião do Microsoft Teams
PRIORITY:3
TRANSP:0
END:VEVENT
END:VCALENDAR
