BEGIN:VCALENDAR
PRODID:brasil.gov.agenda
VERSION:1.0
BEGIN:VEVENT
DTSTART:20210531T173000Z
DTEND:20210531T213000Z
DCREATED:20210708T195659Z
UID:Compromisso-065f2402105648d5909c930e87e9d736
SEQUENCE:0
LAST-MODIFIED:20210708T195659Z
SUMMARY:Despacho interno.
PRIORITY:3
TRANSP:0
END:VEVENT
END:VCALENDAR
