BEGIN:VCALENDAR
PRODID:brasil.gov.agenda
VERSION:1.0
BEGIN:VEVENT
DTSTART:20220704T170000Z
DTEND:20220704T180000Z
DCREATED:20220704T195409Z
UID:Compromisso-2c77b68bbedd4d2084f823ff6f841056
SEQUENCE:0
LAST-MODIFIED:20220704T200645Z
SUMMARY:Deslocamento para o Aeroporto de Congonhas
LOCATION:São Paulo\, SP.
PRIORITY:3
TRANSP:0
END:VEVENT
END:VCALENDAR
