BEGIN:VCALENDAR
PRODID:brasil.gov.agenda
VERSION:1.0
BEGIN:VEVENT
DTSTART:20211216T170000Z
DTEND:20211216T210000Z
DCREATED:20211216T202744Z
UID:Compromisso-f40ec0bea6194d488ecb50087debfa3d
SEQUENCE:0
LAST-MODIFIED:20211217T182501Z
SUMMARY:Sem compromissos oficiais
LOCATION:Brasília
PRIORITY:3
TRANSP:0
END:VEVENT
END:VCALENDAR
