BEGIN:VCALENDAR
PRODID:brasil.gov.agenda
VERSION:1.0
BEGIN:VEVENT
DTSTART:20211213T180000Z
DTEND:20211213T200000Z
DCREATED:20211214T023741Z
UID:Compromisso-3ee086c95d44429bb71d53f6267d8df2
SEQUENCE:0
LAST-MODIFIED:20211214T023950Z
SUMMARY:Sem compromissos oficiais
LOCATION:São Paulo
PRIORITY:3
TRANSP:0
END:VEVENT
END:VCALENDAR
