BEGIN:VCALENDAR
PRODID:brasil.gov.agenda
VERSION:1.0
BEGIN:VEVENT
DTSTART:20211207T200000Z
DTEND:20211207T210000Z
DCREATED:20211207T222301Z
UID:Compromisso-6e03c96c3b894ab988b933d435a106df
SEQUENCE:0
LAST-MODIFIED:20211207T222301Z
SUMMARY:Sem compromissos oficiais
LOCATION:Brasília
PRIORITY:3
TRANSP:0
END:VEVENT
END:VCALENDAR
