BEGIN:VCALENDAR
PRODID:brasil.gov.agenda
VERSION:1.0
BEGIN:VEVENT
DTSTART:20211008T190000Z
DTEND:20211008T210000Z
DCREATED:20211013T172411Z
UID:Compromisso-aa5b5e7f6dae4e56a1fb7d8431c844a1
SEQUENCE:0
LAST-MODIFIED:20211013T172411Z
SUMMARY:Sem compromissos oficiais
LOCATION:Brasília
PRIORITY:3
TRANSP:0
END:VEVENT
END:VCALENDAR
