BEGIN:VCALENDAR
PRODID:brasil.gov.agenda
VERSION:1.0
BEGIN:VEVENT
DTSTART:20211008T150000Z
DTEND:20211008T160000Z
DCREATED:20211013T171859Z
UID:Compromisso-8da811aeff18445b9dd1c6b36e66bdfe
SEQUENCE:0
LAST-MODIFIED:20211013T171859Z
SUMMARY:Horário reservado para almoço
LOCATION:Brasília
PRIORITY:3
TRANSP:0
END:VEVENT
END:VCALENDAR
