{"text_format":"3","workbook":"xlsx","n_sheets":8,"sheets":["Capa","Inputs_Financeiros","Inputs_Operacionais","Depreciação_Mensal","Depreciação_Anual","Fluxo de Caixa","Reajuste CAPEX","IGPM e IPCA"],"not_rendered":{"images":1,"external_links":194,"defined_names":30636,"comments":2},"read":"whole","date_system":"1900"}

{"sheet":"Capa","index":0,"n_rows":26,"n_cols":9,"rows_kept":26}
{"$rows_empty":15}
[null,"Valoração GASIG"]
[]
[]
[null,null,"Modelo Financeiro",{"$nulls":5},"Código de Cores: "]
[{"$nulls":8},"Fórmula"]
[{"$nulls":8},"Referência a outras abas"]
[null,null,"Analista Responsável",null,"Julia Gomes",{"$nulls":3},"Número Codificado"]
[{"$nulls":8},"Referência a outras planilhas"]
[]
[]
[null,null,"Confidencial"]

{"sheet":"Inputs_Financeiros","index":1,"n_rows":72,"n_cols":14,"rows_kept":72}
["Confidencial"]
[]
[]
[null,"Legenda:"]
[null,"input"]
[null,"Calculado"]
[]
[]
[]
[null,"Tax",null,"Geral"]
[null,"Pis/Cofins",{"v":0.0925,"d":"9.25%"},"AR",60]
[null,"ICMS",{"v":0.12,"d":"12.0%"},"AP",30]
[{"$nulls":3},"Poder Calorifico",0.037302179]
[null,"Imposto de renda"]
[null,"IR",{"v":0.25,"d":"25%"}]
[null,"CSLL ",{"v":0.09,"d":"9%"}]
[]
[]
[]
[null,"Target Volume Mensal",{"$nulls":8},"Indicadores Financeiros",null,"Fonte: Banco Central do Brasil (15/03/24)"]
[]
[null,"Ano",null,"Duto - Gas",{"$nulls":6},{"$f":"B22","v":"Ano"},"IGP-M","IPCA","Composição"]
[null,{"$f":"YEAR(Inputs_Operacionais!C13)","v":2022},{"$nulls":5},{"$f":"SUM(D23:G23)","v":0},null,null,{"$f":"YEAR(Inputs_Operacionais!C13)","v":2022}]
[null,{"$f":"IF(K23<YEAR(Inputs_Operacionais!$C$14),K23+1,\"\")","v":2023},{"$nulls":5},{"$f":"SUM(D24:G24)","v":0},null,null,{"$f":"IF(K23<YEAR(Inputs_Operacionais!$C$14),K23+1,\"\")","v":2023}]
[null,{"$f":"IF(K24<YEAR(Inputs_Operacionais!$C$14),K24+1,\"\")","v":2024},null,{"v":13,"d":"13.0"},{"$f":"IF(B25<>\"\",E24,)","v":0},null,null,13,null,null,{"$f":"IF(K24<YEAR(Inputs_Operacionais!$C$14),K24+1,\"\")","v":2024},{"v":0.025459,"d":"2.5%"},{"v":0.037911,"d":"3.8%"},{"v":0.037200000000000004,"d":"3.7%"}]
[null,{"$f":"IF(K25<YEAR(Inputs_Operacionais!$C$14),K25+1,\"\")","v":2025},null,{"$f":"$D$25","v":{"v":13,"d":"13.0"}},{"$f":"IF(B26<>\"\",E25,)","v":0},null,null,13,null,null,{"$f":"IF(K25<YEAR(Inputs_Operacionais!$C$14),K25+1,\"\")","v":2025},{"v":0.038,"d":"3.8%"},{"v":0.03517,"d":"3.5%"},{"v":0.03665,"d":"3.7%"}]
[null,{"$f":"IF(K26<YEAR(Inputs_Operacionais!$C$14),K26+1,\"\")","v":2026},null,{"$f":"$D$25","v":{"v":13,"d":"13.0"}},0,null,null,13,null,null,{"$f":"IF(K26<YEAR(Inputs_Operacionais!$C$14),K26+1,\"\")","v":2026},{"v":0.039,"d":"3.9%"},{"v":0.035,"d":"3.5%"},{"v":0.035550000000000005,"d":"3.6%"}]
[null,{"$f":"IF(K27<YEAR(Inputs_Operacionais!$C$14),K27+1,\"\")","v":2027},null,{"v":13,"d":"13.0"},0,null,null,13,null,null,{"$f":"IF(K27<YEAR(Inputs_Operacionais!$C$14),K27+1,\"\")","v":2027},{"v":0.038,"d":"3.8%"},{"v":0.035,"d":"3.5%"},{"v":0.035550000000000005,"d":"3.6%"}]
[null,{"$f":"IF(K28<YEAR(Inputs_Operacionais!$C$14),K28+1,\"\")","v":2028},null,{"v":13,"d":"13.0"},0,null,null,13,null,null,{"$f":"IF(K28<YEAR(Inputs_Operacionais!$C$14),K28+1,\"\")","v":2028},{"v":0.036,"d":"3.6%"},{"v":0.035,"d":"3.5%"},{"$f":"55%*L29+45%*M29","v":{"v":0.035550000000000005,"d":"3.6%"}}]
[null,{"$f":"IF(K29<YEAR(Inputs_Operacionais!$C$14),K29+1,\"\")","v":2029},null,{"v":13,"d":"13.0"},0,null,null,13,null,null,{"$f":"IF(K29<YEAR(Inputs_Operacionais!$C$14),K29+1,\"\")","v":2029},{"$f":"IF(K30<>\"\",+L29,\"\")","v":{"v":0.036,"d":"3.6%"}},{"$f":"M29","v":{"v":0.035,"d":"3.5%"}},{"$f":"55%*L30+45%*M30","v":{"v":0.035550000000000005,"d":"3.6%"}}]
[null,{"$f":"IF(K30<YEAR(Inputs_Operacionais!$C$14),K30+1,\"\")","v":2030},null,{"v":13,"d":"13.0"},0,null,null,13,null,null,{"$f":"IF(K30<YEAR(Inputs_Operacionais!$C$14),K30+1,\"\")","v":2030},{"v":0.036,"d":"3.6%"},{"v":0.035,"d":"3.5%"},{"v":0.035550000000000005,"d":"3.6%"}]
[null,{"$f":"IF(K31<YEAR(Inputs_Operacionais!$C$14),K31+1,\"\")","v":2031},null,{"v":13,"d":"13.0"},0,null,null,13,null,null,{"$f":"IF(K31<YEAR(Inputs_Operacionais!$C$14),K31+1,\"\")","v":2031},{"v":0.036,"d":"3.6%"},{"v":0.035,"d":"3.5%"},{"v":0.035550000000000005,"d":"3.6%"}]
[null,{"$f":"IF(K32<YEAR(Inputs_Operacionais!$C$14),K32+1,\"\")","v":2032},null,{"v":13,"d":"13.0"},0,null,null,13,null,null,{"$f":"IF(K32<YEAR(Inputs_Operacionais!$C$14),K32+1,\"\")","v":2032},{"v":0.036,"d":"3.6%"},{"v":0.035,"d":"3.5%"},{"v":0.035550000000000005,"d":"3.6%"}]
[null,{"$f":"IF(K33<YEAR(Inputs_Operacionais!$C$14),K33+1,\"\")","v":2033},null,{"v":13,"d":"13.0"},0,null,null,13,null,null,{"$f":"IF(K33<YEAR(Inputs_Operacionais!$C$14),K33+1,\"\")","v":2033},{"v":0.036,"d":"3.6%"},{"v":0.035,"d":"3.5%"},{"v":0.035550000000000005,"d":"3.6%"}]
[null,{"$f":"IF(K34<YEAR(Inputs_Operacionais!$C$14),K34+1,\"\")","v":2034},null,{"v":13,"d":"13.0"},0,null,null,13,null,null,{"$f":"IF(K34<YEAR(Inputs_Operacionais!$C$14),K34+1,\"\")","v":2034},{"v":0.036,"d":"3.6%"},{"v":0.035,"d":"3.5%"},{"v":0.035550000000000005,"d":"3.6%"}]
[null,{"$f":"IF(K35<YEAR(Inputs_Operacionais!$C$14),K35+1,\"\")","v":2035},null,{"v":13,"d":"13.0"},0,null,null,{"$f":"SUM(D36:G36)","v":13},null,null,{"$f":"IF(K35<YEAR(Inputs_Operacionais!$C$14),K35+1,\"\")","v":2035},{"v":0.036,"d":"3.6%"},{"v":0.035,"d":"3.5%"},{"v":0.035550000000000005,"d":"3.6%"}]
[null,{"$f":"IF(K36<YEAR(Inputs_Operacionais!$C$14),K36+1,\"\")","v":2036},null,{"v":13,"d":"13.0"},0,null,null,{"$f":"SUM(D37:G37)","v":13},null,null,{"$f":"IF(K36<YEAR(Inputs_Operacionais!$C$14),K36+1,\"\")","v":2036},{"v":0.036,"d":"3.6%"},{"v":0.035,"d":"3.5%"},{"v":0.035550000000000005,"d":"3.6%"}]
[null,{"$f":"IF(K37<YEAR(Inputs_Operacionais!$C$14),K37+1,\"\")","v":2037},null,{"v":13,"d":"13.0"},0,null,null,{"$f":"SUM(D38:G38)","v":13},null,null,{"$f":"IF(K37<YEAR(Inputs_Operacionais!$C$14),K37+1,\"\")","v":2037},{"v":0.036,"d":"3.6%"},{"v":0.035,"d":"3.5%"},{"v":0.035550000000000005,"d":"3.6%"}]
[null,{"$f":"IF(K38<YEAR(Inputs_Operacionais!$C$14),K38+1,\"\")","v":2038},null,{"v":13,"d":"13.0"},0,null,null,{"$f":"SUM(D39:G39)","v":13},null,null,{"$f":"IF(K38<YEAR(Inputs_Operacionais!$C$14),K38+1,\"\")","v":2038},{"v":0.036,"d":"3.6%"},{"v":0.035,"d":"3.5%"},{"v":0.035550000000000005,"d":"3.6%"}]
[null,{"$f":"IF(K39<YEAR(Inputs_Operacionais!$C$14),K39+1,\"\")","v":2039},null,{"v":13,"d":"13.0"},0,null,null,13,null,null,{"$f":"IF(K39<YEAR(Inputs_Operacionais!$C$14),K39+1,\"\")","v":2039},{"v":0.036,"d":"3.6%"},{"v":0.035,"d":"3.5%"},{"v":0.035550000000000005,"d":"3.6%"}]
[null,{"$f":"IF(K40<YEAR(Inputs_Operacionais!$C$14),K40+1,\"\")","v":2040},null,{"v":13,"d":"13.0"},0,null,null,13,null,null,{"$f":"IF(K40<YEAR(Inputs_Operacionais!$C$14),K40+1,\"\")","v":2040},{"v":0.036,"d":"3.6%"},{"v":0.035,"d":"3.5%"},{"v":0.035550000000000005,"d":"3.6%"}]
[null,{"$f":"IF(K41<YEAR(Inputs_Operacionais!$C$14),K41+1,\"\")","v":""},null,null,0,null,null,0,null,null,{"$f":"IF(K41<YEAR(Inputs_Operacionais!$C$14),K41+1,\"\")","v":""},""]
[null,{"$f":"IF(K42<YEAR(Inputs_Operacionais!$C$14),K42+1,\"\")","v":""},null,null,0,null,null,0,null,null,{"$f":"IF(K42<YEAR(Inputs_Operacionais!$C$14),K42+1,\"\")","v":""},""]
[null,{"$f":"IF(K43<YEAR(Inputs_Operacionais!$C$14),K43+1,\"\")","v":""},null,null,0,null,null,0,null,null,{"$f":"IF(K43<YEAR(Inputs_Operacionais!$C$14),K43+1,\"\")","v":""},""]
[null,{"$f":"IF(K44<YEAR(Inputs_Operacionais!$C$14),K44+1,\"\")","v":""},null,null,0,null,null,0,null,null,{"$f":"IF(K44<YEAR(Inputs_Operacionais!$C$14),K44+1,\"\")","v":""},""]
[null,{"$f":"IF(K45<YEAR(Inputs_Operacionais!$C$14),K45+1,\"\")","v":""},null,null,0,null,null,0,null,null,{"$f":"IF(K45<YEAR(Inputs_Operacionais!$C$14),K45+1,\"\")","v":""},""]
[null,{"$f":"IF(K46<YEAR(Inputs_Operacionais!$C$14),K46+1,\"\")","v":""},null,null,0,null,null,0,null,null,{"$f":"IF(K46<YEAR(Inputs_Operacionais!$C$14),K46+1,\"\")","v":""},""]
[null,{"$f":"IF(K47<YEAR(Inputs_Operacionais!$C$14),K47+1,\"\")","v":""},null,null,0,null,null,0,null,null,{"$f":"IF(K47<YEAR(Inputs_Operacionais!$C$14),K47+1,\"\")","v":""},""]
[null,{"$f":"IF(K48<YEAR(Inputs_Operacionais!$C$14),K48+1,\"\")","v":""},null,null,0,null,null,0,null,null,{"$f":"IF(K48<YEAR(Inputs_Operacionais!$C$14),K48+1,\"\")","v":""},""]
[null,{"$f":"IF(K49<YEAR(Inputs_Operacionais!$C$14),K49+1,\"\")","v":""},null,null,0,null,null,0,null,null,{"$f":"IF(K49<YEAR(Inputs_Operacionais!$C$14),K49+1,\"\")","v":""},""]
[null,{"$f":"IF(K50<YEAR(Inputs_Operacionais!$C$14),K50+1,\"\")","v":""},null,null,0,null,null,0,null,null,{"$f":"IF(K50<YEAR(Inputs_Operacionais!$C$14),K50+1,\"\")","v":""},""]
[null,{"$f":"IF(K51<YEAR(Inputs_Operacionais!$C$14),K51+1,\"\")","v":""},null,null,0,null,null,0,null,null,{"$f":"IF(K51<YEAR(Inputs_Operacionais!$C$14),K51+1,\"\")","v":""},""]
[null,{"$f":"IF(K52<YEAR(Inputs_Operacionais!$C$14),K52+1,\"\")","v":""},null,null,0,null,null,{"$f":"SUM(D53:G53)","v":0},null,null,{"$f":"IF(K52<YEAR(Inputs_Operacionais!$C$14),K52+1,\"\")","v":""},""]
[null,{"$f":"IF(K53<YEAR(Inputs_Operacionais!$C$14),K53+1,\"\")","v":""},null,null,{"$f":"IF(B54<>\"\",E53,)","v":0},null,null,{"$f":"SUM(D54:G54)","v":0},null,null,{"$f":"IF(K53<YEAR(Inputs_Operacionais!$C$14),K53+1,\"\")","v":""},""]
[null,{"$f":"IF(K54<YEAR(Inputs_Operacionais!$C$14),K54+1,\"\")","v":""},null,null,0,null,null,0,null,null,{"$f":"IF(K54<YEAR(Inputs_Operacionais!$C$14),K54+1,\"\")","v":""},""]
[null,{"$f":"IF(K55<YEAR(Inputs_Operacionais!$C$14),K55+1,\"\")","v":""},null,null,0,null,null,0,null,null,{"$f":"IF(K55<YEAR(Inputs_Operacionais!$C$14),K55+1,\"\")","v":""},""]
[null,{"$f":"IF(K56<YEAR(Inputs_Operacionais!$C$14),K56+1,\"\")","v":""},null,null,0,null,null,0,null,null,{"$f":"IF(K56<YEAR(Inputs_Operacionais!$C$14),K56+1,\"\")","v":""},""]
[null,{"$f":"IF(K57<YEAR(Inputs_Operacionais!$C$14),K57+1,\"\")","v":""},null,null,0,null,null,0,null,null,{"$f":"IF(K57<YEAR(Inputs_Operacionais!$C$14),K57+1,\"\")","v":""},""]
[null,{"$f":"IF(K58<YEAR(Inputs_Operacionais!$C$14),K58+1,\"\")","v":""},null,null,0,null,null,0,null,null,{"$f":"IF(K58<YEAR(Inputs_Operacionais!$C$14),K58+1,\"\")","v":""},""]
[null,{"$f":"IF(K59<YEAR(Inputs_Operacionais!$C$14),K59+1,\"\")","v":""},null,null,{"$f":"IF(B60<>\"\",E59,)","v":0},null,null,{"$f":"SUM(D60:G60)","v":0},null,null,{"$f":"IF(K59<YEAR(Inputs_Operacionais!$C$14),K59+1,\"\")","v":""},""]
[null,{"$f":"IF(K60<YEAR(Inputs_Operacionais!$C$14),K60+1,\"\")","v":""},null,null,0,null,null,0,null,null,{"$f":"IF(K60<YEAR(Inputs_Operacionais!$C$14),K60+1,\"\")","v":""},""]
[null,{"$f":"IF(K61<YEAR(Inputs_Operacionais!$C$14),K61+1,\"\")","v":""},null,null,0,null,null,0,null,null,{"$f":"IF(K61<YEAR(Inputs_Operacionais!$C$14),K61+1,\"\")","v":""},""]
[null,{"$f":"IF(K62<YEAR(Inputs_Operacionais!$C$14),K62+1,\"\")","v":""},null,null,0,null,null,0,null,null,{"$f":"IF(K62<YEAR(Inputs_Operacionais!$C$14),K62+1,\"\")","v":""},""]
[null,{"$f":"IF(K63<YEAR(Inputs_Operacionais!$C$14),K63+1,\"\")","v":""},null,null,0,null,null,0,null,null,{"$f":"IF(K63<YEAR(Inputs_Operacionais!$C$14),K63+1,\"\")","v":""},""]
[null,{"$f":"IF(K64<YEAR(Inputs_Operacionais!$C$14),K64+1,\"\")","v":""},null,null,0,null,null,0,null,null,{"$f":"IF(K64<YEAR(Inputs_Operacionais!$C$14),K64+1,\"\")","v":""},""]
[{"$nulls":10},{"$f":"IF(K65<YEAR(Inputs_Operacionais!$C$14),K65+1,\"\")","v":""},""]
[{"$nulls":10},{"$f":"IF(K66<YEAR(Inputs_Operacionais!$C$14),K66+1,\"\")","v":""},""]
[{"$nulls":10},{"$f":"IF(K67<YEAR(Inputs_Operacionais!$C$14),K67+1,\"\")","v":""},""]
[{"$nulls":10},{"$f":"IF(K68<YEAR(Inputs_Operacionais!$C$14),K68+1,\"\")","v":""},""]
[{"$nulls":10},{"$f":"IF(K69<YEAR(Inputs_Operacionais!$C$14),K69+1,\"\")","v":""},""]
[{"$nulls":10},{"$f":"IF(K70<YEAR(Inputs_Operacionais!$C$14),K70+1,\"\")","v":""},""]
[{"$nulls":10},{"$f":"IF(K71<YEAR(Inputs_Operacionais!$C$14),K71+1,\"\")","v":""},""]

{"sheet":"Inputs_Operacionais","index":2,"n_rows":51,"n_cols":8,"rows_kept":51,"merged":[[31,1,31,3],[32,1,32,2],[33,1,33,2],[34,1,34,2],[35,1,35,2],[36,1,36,2],[37,1,37,2],[38,1,38,2],[39,1,39,2],[40,1,40,2],[41,1,41,2],[45,1,45,3],[46,1,46,2],[47,1,47,2],[48,1,48,2],[49,1,49,2],[50,1,50,2]]}
["Confidencial"]
[]
[]
[]
[null,"Projeto","GASIG"]
[]
[null,"Depreciação ",{"v":15,"d":"15 Anos"}]
[]
[null,"O&M",{"$f":"D42","v":{"v":4446.25911431921,"d":"4,446.26"}}]
[]
[null,"G&A",{"$f":"D51","v":{"v":614,"d":"614.00"}}]
[]
[null,"Data de Início do Modelo","2022-01-01"]
[null,"Fim",{"$f":"DATE('Fluxo de Caixa'!G35,12,31)","v":"2040-12-31"}]
[null,"Anos de Fluxo",{"$f":"C7+COUNTIF(D26:H26,\">\"&0)","v":18}]
[null,"Inicio Operação","2024-06-01"]
[]
[]
[null,null,"data-base jan/24"]
[null,"CAPEX",{"$f":"'Reajuste CAPEX'!E30/10^3","v":{"v":167982.49580918133,"d":"167,982"}}]
[]
[]
[]
[{"$nulls":3},{"$f":"DATE(D25,3,31)","v":"2022-03-31"},{"$f":"DATE(E25,3,31)","v":"2023-03-31"},{"$f":"DATE(F25,3,31)","v":"2024-03-31"},{"$f":"DATE(G25,3,31)","v":"2025-03-31"},{"$f":"DATE(H25,3,31)","v":"2026-03-31"}]
[null,null,"Calendarização Capex",{"$f":"+'Fluxo de Caixa'!D34","v":2022},{"$f":"+D25+1","v":2023},{"$f":"+E25+1","v":2024},{"$f":"+F25+1","v":2025},{"$f":"+G25+1","v":2026}]
[null,null,"Mil R$",{"$f":"+$C$20*D27","v":{"v":132200.00441859424,"d":"132,200"}},{"$f":"+$C$20*E27","v":{"v":33783.19960663797,"d":"33,783"}},{"$f":"+$C$20*F27","v":{"v":1999.2917839491076,"d":"1,999"}},{"$f":"+$C$20*G46","v":0},{"$f":"+$C$20*H46","v":0}]
[null,null,"%",{"$f":"SUM('Reajuste CAPEX'!E4:E13)/'Reajuste CAPEX'!E30","v":{"v":0.7869867856277478,"d":"79%"}},{"$f":"SUM('Reajuste CAPEX'!E14:E25)/'Reajuste CAPEX'!E30","v":{"v":0.20111142797291084,"d":"20%"}},{"$f":"SUM('Reajuste CAPEX'!E26:E29)/'Reajuste CAPEX'!E30","v":{"v":0.011901786399341219,"d":"1%"}}]
[]
[]
[]
[]
[null,"O&M Total Anual   (R$ Mil)"]
[null,"Item",null,"Orçamento Revisado"]
[null,"Supervisão e controle operacional",null,{"v":299.82914999999997,"d":"300"}]
[null,"Certificação e recertificação",null,{"v":121.44,"d":"121"}]
[null,"Manutenção preventiva e corretiva",null,{"v":2070,"d":"2,070"}]
[null,"Integridade e Inspeção",null,{"v":372.8851007163729,"d":"373"}]
[null,"Medição e Qualidade",null,500]
[null,"SSMS",null,{"v":154.1859594240291,"d":"154"}]
[null,"Aluguéis, Compartilhamento de Faixa e Seguros",null,{"v":674.8305871399301,"d":"675"}]
[null,"Demais serviços de apoio",null,{"v":253.08831703887782,"d":"253"}]
[null,"O&M Total Anual",null,{"$f":"SUM(D34:D41)","v":{"v":4446.25911431921,"d":"4,446.26"}}]
[]
[]
[]
[null,"G&A Total Anual   (R$ Mil)"]
[null,"Item",null,"Orçamento Revisado"]
[null,"Despesa incremental tributária e contabil (Abertura de filial, aluguel de espaço e impostos devidos )",null,{"v":153.5,"d":"154"}]
[null,"Despesa incremental para as atividades: roteamento, alocação, faturamento, tributário e financeiro, serviços terceirizados para atividades rotineiras de faturamento",null,{"v":368.4,"d":"368"}]
[null,"Gerais - Despesas Administrativas Incrementais para apoio a execução dos serviços acima mencionados",null,{"v":92.1,"d":"92"}]
[null,"G&A Total anual",null,{"$f":"SUM(D48:D50)","v":{"v":614,"d":"614.00"}}]

{"sheet":"Depreciação_Mensal","index":3,"n_rows":62,"n_cols":474,"rows_kept":62}
["Confidencial"]
[]
[{"$nulls":4},"Data",null,{"$f":"EOMONTH(Inputs_Operacionais!C13,0)","v":"2022-01-31"},{"$f":"EOMONTH(DATE(YEAR(G3),MONTH(G3)+1,1),0)","v":"2022-02-28"},{"$f":"EOMONTH(DATE(YEAR(H3),MONTH(H3)+1,1),0)","v":"2022-03-31"},{"$f":"EOMONTH(DATE(YEAR(I3),MONTH(I3)+1,1),0)","v":"2022-04-30"},"2022-05-31","2022-06-30","2022-07-31","2022-08-31","2022-09-30","2022-10-31","2022-11-30","2022-12-31","2023-01-31","2023-02-28","2023-03-31","2023-04-30","2023-05-31","2023-06-30","2023-07-31","2023-08-31","2023-09-30","2023-10-31","2023-11-30","2023-12-31","2024-01-31","2024-02-29","2024-03-31","2024-04-30","2024-05-31","2024-06-30","2024-07-31","2024-08-31","2024-09-30","2024-10-31","2024-11-30","2024-12-31","2025-01-31","2025-02-28","2025-03-31","2025-04-30","2025-05-31","2025-06-30","2025-07-31","2025-08-31","2025-09-30","2025-10-31","2025-11-30","2025-12-31","2026-01-31","2026-02-28","2026-03-31","2026-04-30","2026-05-31","2026-06-30","2026-07-31","2026-08-31","2026-09-30","2026-10-31","2026-11-30","2026-12-31","2027-01-31","2027-02-28","2027-03-31","2027-04-30","2027-05-31","2027-06-30",{"$f":"EOMONTH(DATE(YEAR(BT3),MONTH(BT3)+1,1),0)","v":"2027-07-31"},"2027-08-31","2027-09-30","2027-10-31","2027-11-30","2027-12-31","2028-01-31","2028-02-29","2028-03-31","2028-04-30","2028-05-31","2028-06-30","2028-07-31","2028-08-31","2028-09-30","2028-10-31","2028-11-30","2028-12-31","2029-01-31","2029-02-28","2029-03-31","2029-04-30","2029-05-31","2029-06-30","2029-07-31","2029-08-31","2029-09-30","2029-10-31","2029-11-30","2029-12-31","2030-01-31","2030-02-28","2030-03-31","2030-04-30","2030-05-31","2030-06-30","2030-07-31","2030-08-31","2030-09-30","2030-10-31","2030-11-30","2030-12-31","2031-01-31","2031-02-28","2031-03-31","2031-04-30","2031-05-31","2031-06-30","2031-07-31","2031-08-31","2031-09-30","2031-10-31","2031-11-30","2031-12-31","2032-01-31","2032-02-29","2032-03-31","2032-04-30","2032-05-31","2032-06-30","2032-07-31","2032-08-31","2032-09-30","2032-10-31",{"$f":"EOMONTH(DATE(YEAR(EF3),MONTH(EF3)+1,1),0)","v":"2032-11-30"},"2032-12-31","2033-01-31","2033-02-28","2033-03-31","2033-04-30","2033-05-31","2033-06-30","2033-07-31","2033-08-31","2033-09-30","2033-10-31","2033-11-30","2033-12-31","2034-01-31","2034-02-28","2034-03-31","2034-04-30","2034-05-31","2034-06-30","2034-07-31","2034-08-31","2034-09-30","2034-10-31","2034-11-30","2034-12-31","2035-01-31","2035-02-28","2035-03-31","2035-04-30","2035-05-31","2035-06-30","2035-07-31","2035-08-31","2035-09-30","2035-10-31","2035-11-30","2035-12-31","2036-01-31","2036-02-29","2036-03-31","2036-04-30","2036-05-31","2036-06-30","2036-07-31","2036-08-31","2036-09-30","2036-10-31","2036-11-30","2036-12-31","2037-01-31","2037-02-28","2037-03-31","2037-04-30","2037-05-31","2037-06-30","2037-07-31","2037-08-31","2037-09-30","2037-10-31","2037-11-30","2037-12-31","2038-01-31","2038-02-28",{"$f":"EOMONTH(DATE(YEAR(GR3),MONTH(GR3)+1,1),0)","v":"2038-03-31"},"2038-04-30","2038-05-31","2038-06-30","2038-07-31","2038-08-31","2038-09-30","2038-10-31","2038-11-30","2038-12-31","2039-01-31","2039-02-28","2039-03-31","2039-04-30","2039-05-31","2039-06-30","2039-07-31","2039-08-31","2039-09-30","2039-10-31","2039-11-30","2039-12-31","2040-01-31","2040-02-29","2040-03-31","2040-04-30","2040-05-31","2040-06-30","2040-07-31","2040-08-31","2040-09-30","2040-10-31","2040-11-30","2040-12-31","2041-01-31","2041-02-28","2041-03-31","2041-04-30","2041-05-31","2041-06-30","2041-07-31","2041-08-31","2041-09-30","2041-10-31","2041-11-30","2041-12-31","2042-01-31","2042-02-28","2042-03-31","2042-04-30","2042-05-31","2042-06-30","2042-07-31","2042-08-31","2042-09-30","2042-10-31","2042-11-30","2042-12-31","2043-01-31","2043-02-28","2043-03-31","2043-04-30","2043-05-31","2043-06-30",{"$f":"EOMONTH(DATE(YEAR(JD3),MONTH(JD3)+1,1),0)","v":"2043-07-31"},"2043-08-31","2043-09-30","2043-10-31","2043-11-30","2043-12-31","2044-01-31","2044-02-29","2044-03-31","2044-04-30","2044-05-31","2044-06-30","2044-07-31","2044-08-31","2044-09-30","2044-10-31","2044-11-30","2044-12-31","2045-01-31","2045-02-28","2045-03-31","2045-04-30","2045-05-31","2045-06-30","2045-07-31","2045-08-31","2045-09-30","2045-10-31","2045-11-30","2045-12-31","2046-01-31","2046-02-28","2046-03-31","2046-04-30","2046-05-31","2046-06-30","2046-07-31","2046-08-31","2046-09-30","2046-10-31","2046-11-30","2046-12-31","2047-01-31","2047-02-28","2047-03-31","2047-04-30","2047-05-31","2047-06-30","2047-07-31","2047-08-31","2047-09-30","2047-10-31","2047-11-30","2047-12-31","2048-01-31","2048-02-29","2048-03-31","2048-04-30","2048-05-31","2048-06-30","2048-07-31","2048-08-31","2048-09-30","2048-10-31",{"$f":"EOMONTH(DATE(YEAR(LP3),MONTH(LP3)+1,1),0)","v":"2048-11-30"},"2048-12-31","2049-01-31","2049-02-28","2049-03-31","2049-04-30","2049-05-31","2049-06-30","2049-07-31","2049-08-31","2049-09-30","2049-10-31","2049-11-30","2049-12-31","2050-01-31","2050-02-28","2050-03-31","2050-04-30","2050-05-31","2050-06-30","2050-07-31","2050-08-31","2050-09-30","2050-10-31","2050-11-30","2050-12-31",{"$f":"EOMONTH(DATE(YEAR(MP3),MONTH(MP3)+1,1),0)","v":"2051-01-31"},"2051-02-28","2051-03-31","2051-04-30","2051-05-31","2051-06-30","2051-07-31","2051-08-31","2051-09-30","2051-10-31","2051-11-30","2051-12-31","2052-01-31","2052-02-29","2052-03-31","2052-04-30","2052-05-31","2052-06-30","2052-07-31","2052-08-31","2052-09-30","2052-10-31","2052-11-30","2052-12-31","2053-01-31","2053-02-28","2053-03-31","2053-04-30","2053-05-31","2053-06-30","2053-07-31","2053-08-31",{"$f":"EOMONTH(DATE(YEAR(NV3),MONTH(NV3)+1,1),0)","v":"2053-09-30"},"2053-10-31","2053-11-30","2053-12-31","2054-01-31","2054-02-28","2054-03-31","2054-04-30","2054-05-31","2054-06-30","2054-07-31","2054-08-31","2054-09-30","2054-10-31","2054-11-30","2054-12-31","2055-01-31","2055-02-28","2055-03-31","2055-04-30","2055-05-31","2055-06-30","2055-07-31","2055-08-31","2055-09-30","2055-10-31","2055-11-30","2055-12-31","2056-01-31","2056-02-29","2056-03-31","2056-04-30",{"$f":"EOMONTH(DATE(YEAR(PB3),MONTH(PB3)+1,1),0)","v":"2056-05-31"},"2056-06-30","2056-07-31","2056-08-31","2056-09-30","2056-10-31","2056-11-30","2056-12-31","2057-01-31","2057-02-28","2057-03-31","2057-04-30","2057-05-31","2057-06-30","2057-07-31","2057-08-31","2057-09-30","2057-10-31","2057-11-30","2057-12-31","2058-01-31","2058-02-28","2058-03-31","2058-04-30","2058-05-31","2058-06-30","2058-07-31","2058-08-31","2058-09-30","2058-10-31","2058-11-30","2058-12-31",{"$f":"EOMONTH(DATE(YEAR(QH3),MONTH(QH3)+1,1),0)","v":"2059-01-31"},"2059-02-28","2059-03-31","2059-04-30","2059-05-31","2059-06-30","2059-07-31","2059-08-31","2059-09-30","2059-10-31","2059-11-30","2059-12-31","2060-01-31","2060-02-29","2060-03-31","2060-04-30","2060-05-31","2060-06-30","2060-07-31","2060-08-31","2060-09-30","2060-10-31","2060-11-30","2060-12-31"]
[{"$nulls":4},"Ano",null,{"$f":"YEAR(G3)","v":2022},{"$f":"YEAR(H3)","v":2022},2022,2022,2022,2022,2022,2022,2022,2022,2022,2022,2023,2023,2023,2023,2023,2023,2023,2023,2023,2023,2023,2023,2024,2024,2024,2024,2024,2024,2024,2024,2024,2024,2024,2024,2025,2025,2025,2025,2025,2025,2025,2025,2025,2025,2025,2025,2026,2026,2026,2026,2026,2026,2026,2026,2026,2026,2026,2026,2027,2027,2027,2027,2027,{"$f":"YEAR(BT3)","v":2027},2027,2027,2027,2027,2027,2027,2028,2028,2028,2028,2028,2028,2028,2028,2028,2028,2028,2028,2029,2029,2029,2029,2029,2029,2029,2029,2029,2029,2029,2029,2030,2030,2030,2030,2030,2030,2030,2030,2030,2030,2030,2030,2031,2031,2031,2031,2031,2031,2031,2031,2031,2031,2031,2031,2032,2032,2032,{"$f":"YEAR(DZ3)","v":2032},{"$f":"YEAR(EA3)","v":2032},{"$f":"YEAR(EB3)","v":2032},{"$f":"YEAR(EC3)","v":2032},2032,2032,2032,2032,2032,2033,2033,2033,2033,2033,2033,2033,2033,2033,2033,2033,2033,2034,2034,2034,2034,2034,2034,2034,2034,2034,2034,2034,2034,2035,2035,2035,2035,2035,2035,2035,2035,2035,2035,2035,2035,2036,2036,2036,2036,2036,2036,2036,2036,2036,2036,2036,2036,2037,2037,2037,2037,2037,2037,2037,2037,2037,2037,{"$f":"YEAR(GO3)","v":2037},2037,2038,2038,2038,2038,2038,2038,2038,2038,2038,2038,2038,2038,2039,2039,2039,2039,2039,2039,2039,2039,2039,2039,2039,2039,2040,2040,2040,2040,2040,2040,2040,2040,2040,2040,2040,2040,2041,2041,2041,2041,2041,2041,2041,2041,2041,2041,2041,2041,2042,2042,2042,2042,2042,2042,2042,2042,2042,2042,2042,2042,2043,2043,{"$f":"YEAR(JA3)","v":2043},2043,2043,2043,2043,2043,2043,2043,2043,2043,2044,2044,2044,2044,2044,2044,2044,2044,2044,2044,2044,2044,2045,2045,2045,2045,2045,2045,2045,2045,2045,2045,2045,2045,2046,2046,2046,2046,2046,2046,2046,2046,2046,2046,2046,2046,2047,2047,2047,2047,2047,2047,2047,2047,2047,2047,2047,2047,2048,2048,2048,2048,2048,2048,{"$f":"YEAR(LM3)","v":2048},2048,2048,2048,2048,2048,2049,2049,2049,2049,2049,2049,2049,2049,2049,2049,2049,2049,2050,2050,2050,2050,2050,2050,2050,2050,2050,2050,2050,2050,{"$f":"YEAR(MQ3)","v":2051},2051,2051,2051,2051,2051,2051,2051,2051,2051,2051,2051,2052,2052,2052,2052,2052,2052,2052,2052,2052,2052,2052,2052,2053,2053,2053,2053,2053,2053,2053,2053,2053,2053,2053,2053,2054,2054,2054,2054,2054,2054,2054,2054,2054,2054,2054,2054,2055,2055,2055,2055,2055,2055,2055,2055,2055,2055,2055,2055,2056,2056,2056,2056,{"$f":"YEAR(PC3)","v":2056},2056,2056,2056,2056,2056,2056,2056,2057,2057,2057,2057,2057,2057,2057,2057,2057,2057,2057,2057,2058,2058,2058,2058,2058,2058,2058,2058,2058,2058,2058,2058,2059,2059,2059,2059,2059,2059,2059,2059,2059,2059,2059,2059,2060,2060,2060,2060,2060,2060,2060,2060,2060,2060,2060,2060]
[null,"Inicio Op.",{"$f":"+Inputs_Operacionais!C16","v":"2024-06-01"},null,"Mês",null,{"$f":"MONTH(G3)","v":1},{"$f":"MONTH(H3)","v":2},3,4,5,6,7,8,9,10,11,12,1,2,3,4,5,6,7,8,9,10,11,12,1,2,3,4,5,6,7,8,9,10,11,12,1,2,3,4,5,6,7,8,9,10,11,12,1,2,3,4,5,6,7,8,9,10,11,12,1,2,3,4,5,{"$f":"MONTH(BT3)","v":6},7,8,9,10,11,12,1,2,3,4,5,6,7,8,9,10,11,12,1,2,3,4,5,6,7,8,9,10,11,12,1,2,3,4,5,6,7,8,9,10,11,12,1,2,3,4,5,6,7,8,9,10,11,12,1,2,3,{"$f":"MONTH(DZ3)","v":4},{"$f":"MONTH(EA3)","v":5},{"$f":"MONTH(EB3)","v":6},{"$f":"MONTH(EC3)","v":7},8,9,10,11,12,1,2,3,4,5,6,7,8,9,10,11,12,1,2,3,4,5,6,7,8,9,10,11,12,1,2,3,4,5,6,7,8,9,10,11,12,1,2,3,4,5,6,7,8,9,10,11,12,1,2,3,4,5,6,7,8,9,10,{"$f":"MONTH(GO3)","v":11},12,1,2,3,4,5,6,7,8,9,10,11,12,1,2,3,4,5,6,7,8,9,10,11,12,1,2,3,4,5,6,7,8,9,10,11,12,1,2,3,4,5,6,7,8,9,10,11,12,1,2,3,4,5,6,7,8,9,10,11,12,1,2,{"$f":"MONTH(JA3)","v":3},4,5,6,7,8,9,10,11,12,1,2,3,4,5,6,7,8,9,10,11,12,1,2,3,4,5,6,7,8,9,10,11,12,1,2,3,4,5,6,7,8,9,10,11,12,1,2,3,4,5,6,7,8,9,10,11,12,1,2,3,4,5,6,{"$f":"MONTH(LM3)","v":7},8,9,10,11,12,1,2,3,4,5,6,7,8,9,10,11,12,1,2,3,4,5,6,7,8,9,10,11,12,{"$f":"MONTH(MQ3)","v":1},2,3,4,5,6,7,8,9,10,11,12,1,2,3,4,5,6,7,8,9,10,11,12,1,2,3,4,5,6,7,8,9,10,11,12,1,2,3,4,5,6,7,8,9,10,11,12,1,2,3,4,5,6,7,8,9,10,11,12,1,2,3,4,{"$f":"MONTH(PC3)","v":5},6,7,8,9,10,11,12,1,2,3,4,5,6,7,8,9,10,11,12,1,2,3,4,5,6,7,8,9,10,11,12,1,2,3,4,5,6,7,8,9,10,11,12,1,2,3,4,5,6,7,8,9,10,11,12]
[null,"Fim",{"$f":"+Inputs_Operacionais!C14","v":"2040-12-31"},null,"Operação",null,{"$f":"IF(F6=1,1,IF(AND(G5=MONTH($C$5),G4=YEAR($C$5)),1,))","v":0},{"$f":"IF(AND(H3>$C$5,H3<=$C$6),1,0)","v":0},{"$f":"IF(AND(I3>$C$5,I3<=$C$6),1,0)","v":0},0,0,0,0,0,0,0,0,0,0,0,0,0,0,0,0,0,0,0,0,0,0,0,0,0,0,1,1,1,1,1,1,1,1,1,1,1,1,1,1,1,1,1,1,1,1,1,1,1,1,1,1,1,1,1,1,1,1,1,1,1,1,1,{"$f":"IF(AND(BU3>$C$5,BU3<=$C$6),1,0)","v":1},1,1,1,1,1,1,1,1,1,1,1,1,1,1,1,1,1,1,1,1,1,1,1,1,1,1,1,1,1,1,1,1,1,1,1,1,1,1,1,1,1,1,1,1,1,1,1,1,1,1,1,1,1,1,1,1,1,1,1,1,1,1,1,{"$f":"IF(AND(EG3>$C$5,EG3<=$C$6),1,0)","v":1},1,1,1,1,1,1,1,1,1,1,1,1,1,1,1,1,1,1,1,1,1,1,1,1,1,1,1,1,1,1,1,1,1,1,1,1,1,1,1,1,1,1,1,1,1,1,1,1,1,1,1,1,1,1,1,1,1,1,1,1,1,1,1,{"$f":"IF(AND(GS3>$C$5,GS3<=$C$6),1,0)","v":1},1,1,1,1,1,1,1,1,1,1,1,1,1,1,1,1,1,1,1,1,1,1,1,1,1,1,1,1,1,1,1,1,1,0,0,0,0,0,0,0,0,0,0,0,0,0,0,0,0,0,0,0,0,0,0,0,0,0,0,0,0,0,0,{"$f":"IF(AND(JE3>$C$5,JE3<=$C$6),1,0)","v":0},0,0,0,0,0,0,0,0,0,0,0,0,0,0,0,0,0,0,0,0,0,0,0,0,0,0,0,0,0,0,0,0,0,0,0,0,0,0,0,0,0,0,0,0,0,0,0,0,0,0,0,0,0,0,0,0,0,0,0,0,0,0,0,{"$f":"IF(AND(LQ3>$C$5,LQ3<=$C$6),1,0)","v":0},0,0,0,0,0,0,0,0,0,0,0,0,0,0,0,0,0,0,0,0,0,0,0,0,0,{"$f":"IF(AND(MQ3>$C$5,MQ3<=$C$6),1,0)","v":0},0,0,0,0,0,0,0,0,0,0,0,0,0,0,0,0,0,0,0,0,0,0,0,0,0,0,0,0,0,0,0,0,0,0,0,0,0,0,0,0,0,0,0,0,0,0,0,0,0,0,0,0,0,0,0,0,0,0,0,0,0,0,0,{"$f":"IF(AND(PC3>$C$5,PC3<=$C$6),1,0)","v":0},0,0,0,0,0,0,0,0,0,0,0,0,0,0,0,0,0,0,0,0,0,0,0,0,0,0,0,0,0,0,0,0,0,0,0,0,0,0,0,0,0,0,0,0,0,0,0,0,0,0,0,0,0,0,0]
[{"$nulls":4},"Periodo",null,1,{"$f":"IF(H5=1,G7+1,G7)","v":1},1,1,1,1,1,1,1,1,1,1,2,2,2,2,2,2,2,2,2,2,2,2,3,3,3,3,3,3,3,3,3,3,3,3,4,4,4,4,4,4,4,4,4,4,4,4,5,5,5,5,5,5,5,5,5,5,5,5,6,6,6,6,6,{"$f":"IF(BT5=1,BS7+1,BS7)","v":6},6,6,6,6,6,6,7,7,7,7,7,7,7,7,7,7,7,7,8,8,8,8,8,8,8,8,8,8,8,8,9,9,9,9,9,9,9,9,9,9,9,9,10,10,10,10,10,10,10,10,10,10,10,10,11,11,11,11,11,11,11,11,11,{"$f":"IF(EF5=1,EE7+1,EE7)","v":11},11,11,12,12,12,12,12,12,12,12,12,12,12,12,13,13,13,13,13,13,13,13,13,13,13,13,14,14,14,14,14,14,14,14,14,14,14,14,15,15,15,15,15,15,15,15,15,15,15,15,16,16,16,16,16,16,16,16,16,16,16,16,17,{"$f":"IF(GR5=1,GQ7+1,GQ7)","v":17},17,17,17,17,17,17,17,17,17,17,18,18,18,18,18,18,18,18,18,18,18,18,19,19,19,19,19,19,19,19,19,19,19,19,20,20,20,20,20,20,20,20,20,20,20,20,21,21,21,21,21,21,21,21,21,21,21,21,22,22,22,22,22,{"$f":"IF(JD5=1,JC7+1,JC7)","v":22},22,22,22,22,22,22,23,23,23,23,23,23,23,23,23,23,23,23,24,24,24,24,24,24,24,24,24,24,24,24,25,25,25,25,25,25,25,25,25,25,25,25,26,26,26,26,26,26,26,26,26,26,26,26,27,27,27,27,27,27,27,27,27,{"$f":"IF(LP5=1,LO7+1,LO7)","v":27},27,27,28,28,28,28,28,28,28,28,28,28,28,28,29,29,29,29,29,29,29,29,29,29,29,29,{"$f":"IF(MQ5=1,MP7+1,MP7)","v":30},30,30,30,30,30,30,30,30,30,30,30,31,31,31,31,31,31,31,31,31,31,31,31,32,32,32,32,32,32,32,32,{"$f":"IF(NW5=1,NV7+1,NV7)","v":32},32,32,32,33,33,33,33,33,33,33,33,33,33,33,33,34,34,34,34,34,34,34,34,34,34,34,34,35,35,35,35,{"$f":"IF(PC5=1,PB7+1,PB7)","v":35},35,35,35,35,35,35,35,36,36,36,36,36,36,36,36,36,36,36,36,37,37,37,37,37,37,37,37,37,37,37,37,{"$f":"IF(QI5=1,QH7+1,QH7)","v":38},38,38,38,38,38,38,38,38,38,38,38,39,39,39,39,39,39,39,39,39,39,39,39]
[]
["xxxxxx","CAPEX"]
[null,"Ativo","Valor","Ciclo de Vida (Anos)","Ciclo de Vida (Meses)",null,{"$f":"+G11","v":0},{"$f":"+H11","v":0},{"v":132200004.41859424,"d":"132,200,004"},0,0,0,0,0,0,0,0,0,0,0,{"v":33783199.60663797,"d":"33,783,200"},0,0,0,0,0,0,0,0,0,0,0,{"v":1999291.7839491076,"d":"1,999,292"},0,0,0,0,0,0,0,0,0,0,0,0,0,0,0,0,0,0,0,0,0,0,0,0,0,0,0,0,0,0,0,0,0,0,0,0,0,0,{"$f":"+BT11","v":0},0,0,0,0,0,0,0,0,0,0,0,0,0,0,0,0,0,0,0,0,0,0,0,0,0,0,0,0,0,0,0,0,0,0,0,0,0,0,0,0,0,0,0,0,0,0,0,0,0,0,0,0,0,0,0,0,0,0,0,0,0,0,0,{"$f":"+EF11","v":0},0,0,0,0,0,0,0,0,0,0,0,0,0,0,0,0,0,0,0,0,0,0,0,0,0,0,0,0,0,0,0,0,0,0,0,0,0,0,0,0,0,0,0,0,0,0,0,0,0,0,0,0,0,0,0,0,0,0,0,0,0,0,0,{"$f":"+GR11","v":0},0,0,0,0,0,0,0,0,0,0,0,0,0,0,0,0,0,0,0,0,0,0,0,0,0,0,0,0,0,0,0,0,0,0,0,0,0,0,0,0,0,0,0,0,0,0,0,0,0,0,0,0,0,0,0,0,0,0,0,0,0,0,0,{"$f":"+JD11","v":0},0,0,0,0,0,0,0,0,0,0,0,0,0,0,0,0,0,0,0,0,0,0,0,0,0,0,0,0,0,0,0,0,0,0,0,0,0,0,0,0,0,0,0,0,0,0,0,0,0,0,0,0,0,0,0,0,0,0,0,0,0,0,0,{"$f":"+LP11","v":0},0,0,0,0,0,0,0,0,0,0,0,0,0,0,0,0,0,0,0,0,0,0,0,0,0,0,0,0,0,0,0,0,0,0,0,0,0,0,0,0,0,0,0,0,0,0,0,0,0,0,0,0,0,0,0,0,0,0,0,0,0,0,0,{"$f":"+OB11","v":0},0,0,0,0,0,0,0,0,0,0,0,0,0,0,0,0,0,0,0,0,0,0,0,0,0,0,0,0,0,0,0,0,0,0,0,0,0,0,0,0,0,0,0,0,0,0,0,0,0,0,0,0,0,0,0,0,0,0,0,0,0,0,0,{"$f":"+QN11","v":0},0,0,0,0,0,0,0,0,0,0,0,0,0,0,0,0,0,0]
[null,{"$f":"+Inputs_Operacionais!C5","v":"GASIG"},{"$f":"+Inputs_Operacionais!C20*1000","v":{"v":167982495.80918133,"d":"167,982,496"}},{"$f":"+Inputs_Operacionais!$C$7","v":15},{"$f":"+D11*12","v":180},null,{"$f":"IFERROR(HLOOKUP(G3,Inputs_Operacionais!$D$24:$H$26,ROWS(Inputs_Operacionais!$D$24:$D$26),0)*1000,0)","v":0},{"$f":"IFERROR(HLOOKUP(H3,Inputs_Operacionais!$D$24:$H$26,ROWS(Inputs_Operacionais!$D$24:$D$26),0)*1000,0)","v":0},{"$f":"IFERROR(HLOOKUP(I3,Inputs_Operacionais!$D$24:$H$26,ROWS(Inputs_Operacionais!$D$24:$D$26),0)*1000,0)","v":{"v":132200004.41859424,"d":"132,200,004"}},{"$f":"IFERROR(HLOOKUP(J3,Inputs_Operacionais!$D$24:$H$26,ROWS(Inputs_Operacionais!$D$24:$D$26),0)*1000,0)","v":0},{"$f":"IFERROR(HLOOKUP(K3,Inputs_Operacionais!$D$24:$H$26,ROWS(Inputs_Operacionais!$D$24:$D$26),0)*1000,0)","v":0},{"$f":"IFERROR(HLOOKUP(L3,Inputs_Operacionais!$D$24:$H$26,ROWS(Inputs_Operacionais!$D$24:$D$26),0)*1000,0)","v":0},{"$f":"IFERROR(HLOOKUP(M3,Inputs_Operacionais!$D$24:$H$26,ROWS(Inputs_Operacionais!$D$24:$D$26),0)*1000,0)","v":0},{"$f":"IFERROR(HLOOKUP(N3,Inputs_Operacionais!$D$24:$H$26,ROWS(Inputs_Operacionais!$D$24:$D$26),0)*1000,0)","v":0},{"$f":"IFERROR(HLOOKUP(O3,Inputs_Operacionais!$D$24:$H$26,ROWS(Inputs_Operacionais!$D$24:$D$26),0)*1000,0)","v":0},{"$f":"IFERROR(HLOOKUP(P3,Inputs_Operacionais!$D$24:$H$26,ROWS(Inputs_Operacionais!$D$24:$D$26),0)*1000,0)","v":0},{"$f":"IFERROR(HLOOKUP(Q3,Inputs_Operacionais!$D$24:$H$26,ROWS(Inputs_Operacionais!$D$24:$D$26),0)*1000,0)","v":0},{"$f":"IFERROR(HLOOKUP(R3,Inputs_Operacionais!$D$24:$H$26,ROWS(Inputs_Operacionais!$D$24:$D$26),0)*1000,0)","v":0},{"$f":"IFERROR(HLOOKUP(S3,Inputs_Operacionais!$D$24:$H$26,ROWS(Inputs_Operacionais!$D$24:$D$26),0)*1000,0)","v":0},{"$f":"IFERROR(HLOOKUP(T3,Inputs_Operacionais!$D$24:$H$26,ROWS(Inputs_Operacionais!$D$24:$D$26),0)*1000,0)","v":0},{"$f":"IFERROR(HLOOKUP(U3,Inputs_Operacionais!$D$24:$H$26,ROWS(Inputs_Operacionais!$D$24:$D$26),0)*1000,0)","v":{"v":33783199.60663797,"d":"33,783,200"}},{"$f":"IFERROR(HLOOKUP(V3,Inputs_Operacionais!$D$24:$H$26,ROWS(Inputs_Operacionais!$D$24:$D$26),0)*1000,0)","v":0},{"$f":"IFERROR(HLOOKUP(W3,Inputs_Operacionais!$D$24:$H$26,ROWS(Inputs_Operacionais!$D$24:$D$26),0)*1000,0)","v":0},{"$f":"IFERROR(HLOOKUP(X3,Inputs_Operacionais!$D$24:$H$26,ROWS(Inputs_Operacionais!$D$24:$D$26),0)*1000,0)","v":0},{"$f":"IFERROR(HLOOKUP(Y3,Inputs_Operacionais!$D$24:$H$26,ROWS(Inputs_Operacionais!$D$24:$D$26),0)*1000,0)","v":0},{"$f":"IFERROR(HLOOKUP(Z3,Inputs_Operacionais!$D$24:$H$26,ROWS(Inputs_Operacionais!$D$24:$D$26),0)*1000,0)","v":0},{"$f":"IFERROR(HLOOKUP(AA3,Inputs_Operacionais!$D$24:$H$26,ROWS(Inputs_Operacionais!$D$24:$D$26),0)*1000,0)","v":0},{"$f":"IFERROR(HLOOKUP(AB3,Inputs_Operacionais!$D$24:$H$26,ROWS(Inputs_Operacionais!$D$24:$D$26),0)*1000,0)","v":0},{"$f":"IFERROR(HLOOKUP(AC3,Inputs_Operacionais!$D$24:$H$26,ROWS(Inputs_Operacionais!$D$24:$D$26),0)*1000,0)","v":0},{"$f":"IFERROR(HLOOKUP(AD3,Inputs_Operacionais!$D$24:$H$26,ROWS(Inputs_Operacionais!$D$24:$D$26),0)*1000,0)","v":0},{"$f":"IFERROR(HLOOKUP(AE3,Inputs_Operacionais!$D$24:$H$26,ROWS(Inputs_Operacionais!$D$24:$D$26),0)*1000,0)","v":0},{"$f":"IFERROR(HLOOKUP(AF3,Inputs_Operacionais!$D$24:$H$26,ROWS(Inputs_Operacionais!$D$24:$D$26),0)*1000,0)","v":0},{"$f":"IFERROR(HLOOKUP(AG3,Inputs_Operacionais!$D$24:$H$26,ROWS(Inputs_Operacionais!$D$24:$D$26),0)*1000,0)","v":{"v":1999291.7839491076,"d":"1,999,292"}},{"$f":"IFERROR(HLOOKUP(AH3,Inputs_Operacionais!$D$24:$H$26,ROWS(Inputs_Operacionais!$D$24:$D$26),0)*1000,0)","v":0},{"$f":"IFERROR(HLOOKUP(AI3,Inputs_Operacionais!$D$24:$H$26,ROWS(Inputs_Operacionais!$D$24:$D$26),0)*1000,0)","v":0},{"$f":"IFERROR(HLOOKUP(AJ3,Inputs_Operacionais!$D$24:$H$26,ROWS(Inputs_Operacionais!$D$24:$D$26),0)*1000,0)","v":0},{"$f":"IFERROR(HLOOKUP(AK3,Inputs_Operacionais!$D$24:$H$26,ROWS(Inputs_Operacionais!$D$24:$D$26),0)*1000,0)","v":0},{"$f":"IFERROR(HLOOKUP(AL3,Inputs_Operacionais!$D$24:$H$26,ROWS(Inputs_Operacionais!$D$24:$D$26),0)*1000,0)","v":0},{"$f":"IFERROR(HLOOKUP(AM3,Inputs_Operacionais!$D$24:$H$26,ROWS(Inputs_Operacionais!$D$24:$D$26),0)*1000,0)","v":0},{"$f":"IFERROR(HLOOKUP(AN3,Inputs_Operacionais!$D$24:$H$26,ROWS(Inputs_Operacionais!$D$24:$D$26),0)*1000,0)","v":0},{"$f":"IFERROR(HLOOKUP(AO3,Inputs_Operacionais!$D$24:$H$26,ROWS(Inputs_Operacionais!$D$24:$D$26),0)*1000,0)","v":0},{"$f":"IFERROR(HLOOKUP(AP3,Inputs_Operacionais!$D$24:$H$26,ROWS(Inputs_Operacionais!$D$24:$D$26),0)*1000,0)","v":0},{"$f":"IFERROR(HLOOKUP(AQ3,Inputs_Operacionais!$D$24:$H$26,ROWS(Inputs_Operacionais!$D$24:$D$26),0)*1000,0)","v":0},{"$f":"IFERROR(HLOOKUP(AR3,Inputs_Operacionais!$D$24:$H$26,ROWS(Inputs_Operacionais!$D$24:$D$26),0)*1000,0)","v":0},{"$f":"IFERROR(HLOOKUP(AS3,Inputs_Operacionais!$D$24:$H$26,ROWS(Inputs_Operacionais!$D$24:$D$26),0)*1000,0)","v":0},{"$f":"IFERROR(HLOOKUP(AT3,Inputs_Operacionais!$D$24:$H$26,ROWS(Inputs_Operacionais!$D$24:$D$26),0)*1000,0)","v":0},{"$f":"IFERROR(HLOOKUP(AU3,Inputs_Operacionais!$D$24:$H$26,ROWS(Inputs_Operacionais!$D$24:$D$26),0)*1000,0)","v":0},{"$f":"IFERROR(HLOOKUP(AV3,Inputs_Operacionais!$D$24:$H$26,ROWS(Inputs_Operacionais!$D$24:$D$26),0)*1000,0)","v":0},{"$f":"IFERROR(HLOOKUP(AW3,Inputs_Operacionais!$D$24:$H$26,ROWS(Inputs_Operacionais!$D$24:$D$26),0)*1000,0)","v":0},{"$f":"IFERROR(HLOOKUP(AX3,Inputs_Operacionais!$D$24:$H$26,ROWS(Inputs_Operacionais!$D$24:$D$26),0)*1000,0)","v":0},{"$f":"IFERROR(HLOOKUP(AY3,Inputs_Operacionais!$D$24:$H$26,ROWS(Inputs_Operacionais!$D$24:$D$26),0)*1000,0)","v":0},{"$f":"IFERROR(HLOOKUP(AZ3,Inputs_Operacionais!$D$24:$H$26,ROWS(Inputs_Operacionais!$D$24:$D$26),0)*1000,0)","v":0},{"$f":"IFERROR(HLOOKUP(BA3,Inputs_Operacionais!$D$24:$H$26,ROWS(Inputs_Operacionais!$D$24:$D$26),0)*1000,0)","v":0},{"$f":"IFERROR(HLOOKUP(BB3,Inputs_Operacionais!$D$24:$H$26,ROWS(Inputs_Operacionais!$D$24:$D$26),0)*1000,0)","v":0},{"$f":"IFERROR(HLOOKUP(BC3,Inputs_Operacionais!$D$24:$H$26,ROWS(Inputs_Operacionais!$D$24:$D$26),0)*1000,0)","v":0},{"$f":"IFERROR(HLOOKUP(BD3,Inputs_Operacionais!$D$24:$H$26,ROWS(Inputs_Operacionais!$D$24:$D$26),0)*1000,0)","v":0},{"$f":"IFERROR(HLOOKUP(BE3,Inputs_Operacionais!$D$24:$H$26,ROWS(Inputs_Operacionais!$D$24:$D$26),0)*1000,0)","v":0},{"$f":"IFERROR(HLOOKUP(BF3,Inputs_Operacionais!$D$24:$H$26,ROWS(Inputs_Operacionais!$D$24:$D$26),0)*1000,0)","v":0},{"$f":"IFERROR(HLOOKUP(BG3,Inputs_Operacionais!$D$24:$H$26,ROWS(Inputs_Operacionais!$D$24:$D$26),0)*1000,0)","v":0},{"$f":"IFERROR(HLOOKUP(BH3,Inputs_Operacionais!$D$24:$H$26,ROWS(Inputs_Operacionais!$D$24:$D$26),0)*1000,0)","v":0},{"$f":"IFERROR(HLOOKUP(BI3,Inputs_Operacionais!$D$24:$H$26,ROWS(Inputs_Operacionais!$D$24:$D$26),0)*1000,0)","v":0},{"$f":"IFERROR(HLOOKUP(BJ3,Inputs_Operacionais!$D$24:$H$26,ROWS(Inputs_Operacionais!$D$24:$D$26),0)*1000,0)","v":0},{"$f":"IFERROR(HLOOKUP(BK3,Inputs_Operacionais!$D$24:$H$26,ROWS(Inputs_Operacionais!$D$24:$D$26),0)*1000,0)","v":0},{"$f":"IFERROR(HLOOKUP(BL3,Inputs_Operacionais!$D$24:$H$26,ROWS(Inputs_Operacionais!$D$24:$D$26),0)*1000,0)","v":0},{"$f":"IFERROR(HLOOKUP(BM3,Inputs_Operacionais!$D$24:$H$26,ROWS(Inputs_Operacionais!$D$24:$D$26),0)*1000,0)","v":0},{"$f":"IFERROR(HLOOKUP(BN3,Inputs_Operacionais!$D$24:$H$26,ROWS(Inputs_Operacionais!$D$24:$D$26),0)*1000,0)","v":0},{"$f":"IFERROR(HLOOKUP(BO3,Inputs_Operacionais!$D$24:$H$26,ROWS(Inputs_Operacionais!$D$24:$D$26),0)*1000,0)","v":0},{"$f":"IFERROR(HLOOKUP(BP3,Inputs_Operacionais!$D$24:$H$26,ROWS(Inputs_Operacionais!$D$24:$D$26),0)*1000,0)","v":0},{"$f":"IFERROR(HLOOKUP(BQ3,Inputs_Operacionais!$D$24:$H$26,ROWS(Inputs_Operacionais!$D$24:$D$26),0)*1000,0)","v":0},{"$f":"IFERROR(HLOOKUP(BR3,Inputs_Operacionais!$D$24:$H$26,ROWS(Inputs_Operacionais!$D$24:$D$26),0)*1000,0)","v":0},{"$f":"IFERROR(HLOOKUP(BS3,Inputs_Operacionais!$D$24:$H$26,ROWS(Inputs_Operacionais!$D$24:$D$26),0)*1000,0)","v":0},{"$f":"IFERROR(HLOOKUP(BT3,Inputs_Operacionais!$D$24:$H$26,ROWS(Inputs_Operacionais!$D$24:$D$26),0)*1000,0)","v":0},{"$f":"IFERROR(HLOOKUP(BU3,Inputs_Operacionais!$D$24:$H$26,ROWS(Inputs_Operacionais!$D$24:$D$26),0)*1000,0)","v":0},{"$f":"IFERROR(HLOOKUP(BV3,Inputs_Operacionais!$D$24:$H$26,ROWS(Inputs_Operacionais!$D$24:$D$26),0)*1000,0)","v":0},{"$f":"IFERROR(HLOOKUP(BW3,Inputs_Operacionais!$D$24:$H$26,ROWS(Inputs_Operacionais!$D$24:$D$26),0)*1000,0)","v":0},{"$f":"IFERROR(HLOOKUP(BX3,Inputs_Operacionais!$D$24:$H$26,ROWS(Inputs_Operacionais!$D$24:$D$26),0)*1000,0)","v":0},{"$f":"IFERROR(HLOOKUP(BY3,Inputs_Operacionais!$D$24:$H$26,ROWS(Inputs_Operacionais!$D$24:$D$26),0)*1000,0)","v":0},{"$f":"IFERROR(HLOOKUP(BZ3,Inputs_Operacionais!$D$24:$H$26,ROWS(Inputs_Operacionais!$D$24:$D$26),0)*1000,0)","v":0},{"$f":"IFERROR(HLOOKUP(CA3,Inputs_Operacionais!$D$24:$H$26,ROWS(Inputs_Operacionais!$D$24:$D$26),0)*1000,0)","v":0},{"$f":"IFERROR(HLOOKUP(CB3,Inputs_Operacionais!$D$24:$H$26,ROWS(Inputs_Operacionais!$D$24:$D$26),0)*1000,0)","v":0},{"$f":"IFERROR(HLOOKUP(CC3,Inputs_Operacionais!$D$24:$H$26,ROWS(Inputs_Operacionais!$D$24:$D$26),0)*1000,0)","v":0},{"$f":"IFERROR(HLOOKUP(CD3,Inputs_Operacionais!$D$24:$H$26,ROWS(Inputs_Operacionais!$D$24:$D$26),0)*1000,0)","v":0},{"$f":"IFERROR(HLOOKUP(CE3,Inputs_Operacionais!$D$24:$H$26,ROWS(Inputs_Operacionais!$D$24:$D$26),0)*1000,0)","v":0},{"$f":"IFERROR(HLOOKUP(CF3,Inputs_Operacionais!$D$24:$H$26,ROWS(Inputs_Operacionais!$D$24:$D$26),0)*1000,0)","v":0},{"$f":"IFERROR(HLOOKUP(CG3,Inputs_Operacionais!$D$24:$H$26,ROWS(Inputs_Operacionais!$D$24:$D$26),0)*1000,0)","v":0},{"$f":"IFERROR(HLOOKUP(CH3,Inputs_Operacionais!$D$24:$H$26,ROWS(Inputs_Operacionais!$D$24:$D$26),0)*1000,0)","v":0},{"$f":"IFERROR(HLOOKUP(CI3,Inputs_Operacionais!$D$24:$H$26,ROWS(Inputs_Operacionais!$D$24:$D$26),0)*1000,0)","v":0},{"$f":"IFERROR(HLOOKUP(CJ3,Inputs_Operacionais!$D$24:$H$26,ROWS(Inputs_Operacionais!$D$24:$D$26),0)*1000,0)","v":0},{"$f":"IFERROR(HLOOKUP(CK3,Inputs_Operacionais!$D$24:$H$26,ROWS(Inputs_Operacionais!$D$24:$D$26),0)*1000,0)","v":0},{"$f":"IFERROR(HLOOKUP(CL3,Inputs_Operacionais!$D$24:$H$26,ROWS(Inputs_Operacionais!$D$24:$D$26),0)*1000,0)","v":0},{"$f":"IFERROR(HLOOKUP(CM3,Inputs_Operacionais!$D$24:$H$26,ROWS(Inputs_Operacionais!$D$24:$D$26),0)*1000,0)","v":0},{"$f":"IFERROR(HLOOKUP(CN3,Inputs_Operacionais!$D$24:$H$26,ROWS(Inputs_Operacionais!$D$24:$D$26),0)*1000,0)","v":0},{"$f":"IFERROR(HLOOKUP(CO3,Inputs_Operacionais!$D$24:$H$26,ROWS(Inputs_Operacionais!$D$24:$D$26),0)*1000,0)","v":0},{"$f":"IFERROR(HLOOKUP(CP3,Inputs_Operacionais!$D$24:$H$26,ROWS(Inputs_Operacionais!$D$24:$D$26),0)*1000,0)","v":0},{"$f":"IFERROR(HLOOKUP(CQ3,Inputs_Operacionais!$D$24:$H$26,ROWS(Inputs_Operacionais!$D$24:$D$26),0)*1000,0)","v":0},{"$f":"IFERROR(HLOOKUP(CR3,Inputs_Operacionais!$D$24:$H$26,ROWS(Inputs_Operacionais!$D$24:$D$26),0)*1000,0)","v":0},{"$f":"IFERROR(HLOOKUP(CS3,Inputs_Operacionais!$D$24:$H$26,ROWS(Inputs_Operacionais!$D$24:$D$26),0)*1000,0)","v":0},{"$f":"IFERROR(HLOOKUP(CT3,Inputs_Operacionais!$D$24:$H$26,ROWS(Inputs_Operacionais!$D$24:$D$26),0)*1000,0)","v":0},{"$f":"IFERROR(HLOOKUP(CU3,Inputs_Operacionais!$D$24:$H$26,ROWS(Inputs_Operacionais!$D$24:$D$26),0)*1000,0)","v":0},{"$f":"IFERROR(HLOOKUP(CV3,Inputs_Operacionais!$D$24:$H$26,ROWS(Inputs_Operacionais!$D$24:$D$26),0)*1000,0)","v":0},{"$f":"IFERROR(HLOOKUP(CW3,Inputs_Operacionais!$D$24:$H$26,ROWS(Inputs_Operacionais!$D$24:$D$26),0)*1000,0)","v":0},{"$f":"IFERROR(HLOOKUP(CX3,Inputs_Operacionais!$D$24:$H$26,ROWS(Inputs_Operacionais!$D$24:$D$26),0)*1000,0)","v":0}]
{"$rows_empty":11}
["xxxxxx","Depreciação Regulatória"]
[null,"Ativo","Valor","Ciclo de Vida (Anos)","Ciclo de Vida (Meses)",null,{"$f":"+G25","v":0},{"$f":"+H25","v":0},0,0,0,0,0,0,0,0,0,0,0,0,0,0,0,0,0,0,0,0,0,0,0,0,0,0,0,{"v":933236.0878287851,"d":"933,236"},{"v":933236.0878287851,"d":"933,236"},{"v":933236.0878287851,"d":"933,236"},{"v":933236.0878287851,"d":"933,236"},{"v":933236.0878287851,"d":"933,236"},{"v":933236.0878287851,"d":"933,236"},{"v":933236.0878287851,"d":"933,236"},{"v":933236.0878287851,"d":"933,236"},{"v":933236.0878287851,"d":"933,236"},{"v":933236.0878287851,"d":"933,236"},{"v":933236.0878287851,"d":"933,236"},{"v":933236.0878287851,"d":"933,236"},{"v":933236.0878287851,"d":"933,236"},{"v":933236.0878287851,"d":"933,236"},{"v":933236.0878287851,"d":"933,236"},{"v":933236.0878287851,"d":"933,236"},{"v":933236.0878287851,"d":"933,236"},{"v":933236.0878287851,"d":"933,236"},{"v":933236.0878287851,"d":"933,236"},{"v":933236.0878287851,"d":"933,236"},{"v":933236.0878287851,"d":"933,236"},{"v":933236.0878287851,"d":"933,236"},{"v":933236.0878287851,"d":"933,236"},{"v":933236.0878287851,"d":"933,236"},{"v":933236.0878287851,"d":"933,236"},{"v":933236.0878287851,"d":"933,236"},{"v":933236.0878287851,"d":"933,236"},{"v":933236.0878287851,"d":"933,236"},{"v":933236.0878287851,"d":"933,236"},{"v":933236.0878287851,"d":"933,236"},{"v":933236.0878287851,"d":"933,236"},{"v":933236.0878287851,"d":"933,236"},{"v":933236.0878287851,"d":"933,236"},{"v":933236.0878287851,"d":"933,236"},{"v":933236.0878287851,"d":"933,236"},{"v":933236.0878287851,"d":"933,236"},{"$f":"+BT25","v":{"v":933236.0878287851,"d":"933,236"}},{"v":933236.0878287851,"d":"933,236"},{"v":933236.0878287851,"d":"933,236"},{"v":933236.0878287851,"d":"933,236"},{"v":933236.0878287851,"d":"933,236"},{"v":933236.0878287851,"d":"933,236"},{"v":933236.0878287851,"d":"933,236"},{"v":933236.0878287851,"d":"933,236"},{"v":933236.0878287851,"d":"933,236"},{"v":933236.0878287851,"d":"933,236"},{"v":933236.0878287851,"d":"933,236"},{"v":933236.0878287851,"d":"933,236"},{"v":933236.0878287851,"d":"933,236"},{"v":933236.0878287851,"d":"933,236"},{"v":933236.0878287851,"d":"933,236"},{"v":933236.0878287851,"d":"933,236"},{"v":933236.0878287851,"d":"933,236"},{"v":933236.0878287851,"d":"933,236"},{"v":933236.0878287851,"d":"933,236"},{"v":933236.0878287851,"d":"933,236"},{"v":933236.0878287851,"d":"933,236"},{"v":933236.0878287851,"d":"933,236"},{"v":933236.0878287851,"d":"933,236"},{"v":933236.0878287851,"d":"933,236"},{"v":933236.0878287851,"d":"933,236"},{"v":933236.0878287851,"d":"933,236"},{"v":933236.0878287851,"d":"933,236"},{"v":933236.0878287851,"d":"933,236"},{"v":933236.0878287851,"d":"933,236"},{"v":933236.0878287851,"d":"933,236"},{"v":933236.0878287851,"d":"933,236"},{"v":933236.0878287851,"d":"933,236"},{"v":933236.0878287851,"d":"933,236"},{"v":933236.0878287851,"d":"933,236"},{"v":933236.0878287851,"d":"933,236"},{"v":933236.0878287851,"d":"933,236"},{"v":933236.0878287851,"d":"933,236"},{"v":933236.0878287851,"d":"933,236"},{"v":933236.0878287851,"d":"933,236"},{"v":933236.0878287851,"d":"933,236"},{"v":933236.0878287851,"d":"933,236"},{"v":933236.0878287851,"d":"933,236"},{"v":933236.0878287851,"d":"933,236"},{"v":933236.0878287851,"d":"933,236"},{"v":933236.0878287851,"d":"933,236"},{"v":933236.0878287851,"d":"933,236"},{"v":933236.0878287851,"d":"933,236"},{"v":933236.0878287851,"d":"933,236"},{"v":933236.0878287851,"d":"933,236"},{"v":933236.0878287851,"d":"933,236"},{"v":933236.0878287851,"d":"933,236"},{"v":933236.0878287851,"d":"933,236"},{"v":933236.0878287851,"d":"933,236"},{"v":933236.0878287851,"d":"933,236"},{"v":933236.0878287851,"d":"933,236"},{"v":933236.0878287851,"d":"933,236"},{"v":933236.0878287851,"d":"933,236"},{"v":933236.0878287851,"d":"933,236"},{"v":933236.0878287851,"d":"933,236"},{"v":933236.0878287851,"d":"933,236"},{"v":933236.0878287851,"d":"933,236"},{"v":933236.0878287851,"d":"933,236"},{"v":933236.0878287851,"d":"933,236"},{"v":933236.0878287851,"d":"933,236"},{"$f":"+EF25","v":{"v":933236.0878287851,"d":"933,236"}},{"v":933236.0878287851,"d":"933,236"},{"v":933236.0878287851,"d":"933,236"},{"v":933236.0878287851,"d":"933,236"},{"v":933236.0878287851,"d":"933,236"},{"v":933236.0878287851,"d":"933,236"},{"v":933236.0878287851,"d":"933,236"},{"v":933236.0878287851,"d":"933,236"},{"v":933236.0878287851,"d":"933,236"},{"v":933236.0878287851,"d":"933,236"},{"v":933236.0878287851,"d":"933,236"},{"v":933236.0878287851,"d":"933,236"},{"v":933236.0878287851,"d":"933,236"},{"v":933236.0878287851,"d":"933,236"},{"v":933236.0878287851,"d":"933,236"},{"v":933236.0878287851,"d":"933,236"},{"v":933236.0878287851,"d":"933,236"},{"v":933236.0878287851,"d":"933,236"},{"v":933236.0878287851,"d":"933,236"},{"v":933236.0878287851,"d":"933,236"},{"v":933236.0878287851,"d":"933,236"},{"v":933236.0878287851,"d":"933,236"},{"v":933236.0878287851,"d":"933,236"},{"v":933236.0878287851,"d":"933,236"},{"v":933236.0878287851,"d":"933,236"},{"v":933236.0878287851,"d":"933,236"},{"v":933236.0878287851,"d":"933,236"},{"v":933236.0878287851,"d":"933,236"},{"v":933236.0878287851,"d":"933,236"},{"v":933236.0878287851,"d":"933,236"},{"v":933236.0878287851,"d":"933,236"},{"v":933236.0878287851,"d":"933,236"},{"v":933236.0878287851,"d":"933,236"},{"v":933236.0878287851,"d":"933,236"},{"v":933236.0878287851,"d":"933,236"},{"v":933236.0878287851,"d":"933,236"},{"v":933236.0878287851,"d":"933,236"},{"v":933236.0878287851,"d":"933,236"},{"v":933236.0878287851,"d":"933,236"},{"v":933236.0878287851,"d":"933,236"},{"v":933236.0878287851,"d":"933,236"},{"v":933236.0878287851,"d":"933,236"},{"v":933236.0878287851,"d":"933,236"},{"v":933236.0878287851,"d":"933,236"},{"v":933236.0878287851,"d":"933,236"},{"v":933236.0878287851,"d":"933,236"},{"v":933236.0878287851,"d":"933,236"},{"v":933236.0878287851,"d":"933,236"},{"v":933236.0878287851,"d":"933,236"},{"v":933236.0878287851,"d":"933,236"},{"v":933236.0878287851,"d":"933,236"},{"v":933236.0878287851,"d":"933,236"},{"v":933236.0878287851,"d":"933,236"},{"v":933236.0878287851,"d":"933,236"},{"v":933236.0878287851,"d":"933,236"},{"v":933236.0878287851,"d":"933,236"},{"v":933236.0878287851,"d":"933,236"},{"v":933236.0878287851,"d":"933,236"},{"v":933236.0878287851,"d":"933,236"},{"v":933236.0878287851,"d":"933,236"},{"v":933236.0878287851,"d":"933,236"},{"v":933236.0878287851,"d":"933,236"},{"v":933236.0878287851,"d":"933,236"},{"v":933236.0878287851,"d":"933,236"},{"$f":"+GR25","v":{"v":933236.0878287851,"d":"933,236"}},{"v":933236.0878287851,"d":"933,236"},{"v":933236.0878287851,"d":"933,236"},{"v":933236.0878287851,"d":"933,236"},{"v":933236.0878287851,"d":"933,236"},{"v":933236.0878287851,"d":"933,236"},{"v":933236.0878287851,"d":"933,236"},{"v":933236.0878287851,"d":"933,236"},{"v":933236.0878287851,"d":"933,236"},{"v":933236.0878287851,"d":"933,236"},{"v":933236.0878287851,"d":"933,236"},{"v":933236.0878287851,"d":"933,236"},{"v":933236.0878287851,"d":"933,236"},{"v":933236.0878287851,"d":"933,236"},{"v":933236.0878287851,"d":"933,236"},{"v":933236.0878287851,"d":"933,236"},0,0,0,0,0,0,0,0,0,0,0,0,0,0,0,0,0,0,0,0,0,0,0,0,0,0,0,0,0,0,0,0,0,0,0,0,0,0,0,0,0,0,0,0,0,0,0,0,{"$f":"+JD25","v":0},0,0,0,0,0,0,0,0,0,0,0,0,0,0,0,0,0,0,0,0,0,0,0,0,0,0,0,0,0,0,0,0,0,0,0,0,0,0,0,0,0,0,0,0,0,0,0,0,0,0,0,0,0,0,0,0,0,0,0,0,0,0,0,{"$f":"+LP25","v":0},0,0,0,0,0,0,0,0,0,0,0,0,0,0,0,0,0,0,0,0,0,0,0,0,0,0,0,0,0,0,0,0,0,0,0,0,0,0,0,0,0,0,0,0,0,0,0,0,0,0,0,0,0,0,0,0,0,0,0,0,0,0,0,{"$f":"+OB25","v":0},0,0,0,0,0,0,0,0,0,0,0,0,0,0,0,0,0,0,0,0,0,0,0,0,0,0,0,0,0,0,0,0,0,0,0,0,0,0,0,0,0,0,0,0,0,0,0,0,0,0,0,0,0,0,0,0,0,0,0,0,0,0,0,{"$f":"+QN25","v":0},0,0,0,0,0,0,0,0,0,0,0,0,0,0,0,0,0,0]
[null,{"$f":"+B11","v":"GASIG"},{"$f":"+C11","v":{"v":167982495.80918133,"d":"167,982,496"}},{"$f":"+D11","v":15},{"$f":"+E11","v":180},null,{"$f":"IF(G$6>0,IF((SUM($F25:F25)+0.1<$C25),$C25/$E25,0),)","v":0},{"$f":"IF(H$6>0,IF((SUM($F25:G25)+0.1<SUM($G11:G11)),SUM($G11:G11)/$E25,0),)","v":0},{"$f":"IF(I$6>0,IF((SUM($F25:H25)+0.1<SUM($G11:H11)),SUM($G11:H11)/$E25,0),)","v":0},{"$f":"IF(J$6>0,IF((SUM($F25:I25)+0.1<SUM($G11:I11)),SUM($G11:I11)/$E25,0),)","v":0},{"$f":"IF(K$6>0,IF((SUM($F25:J25)+0.1<SUM($G11:J11)),SUM($G11:J11)/$E25,0),)","v":0},{"$f":"IF(L$6>0,IF((SUM($F25:K25)+0.1<SUM($G11:K11)),SUM($G11:K11)/$E25,0),)","v":0},{"$f":"IF(M$6>0,IF((SUM($F25:L25)+0.1<SUM($G11:L11)),SUM($G11:L11)/$E25,0),)","v":0},{"$f":"IF(N$6>0,IF((SUM($F25:M25)+0.1<SUM($G11:M11)),SUM($G11:M11)/$E25,0),)","v":0},{"$f":"IF(O$6>0,IF((SUM($F25:N25)+0.1<SUM($G11:N11)),SUM($G11:N11)/$E25,0),)","v":0},{"$f":"IF(P$6>0,IF((SUM($F25:O25)+0.1<SUM($G11:O11)),SUM($G11:O11)/$E25,0),)","v":0},{"$f":"IF(Q$6>0,IF((SUM($F25:P25)+0.1<SUM($G11:P11)),SUM($G11:P11)/$E25,0),)","v":0},{"$f":"IF(R$6>0,IF((SUM($F25:Q25)+0.1<SUM($G11:Q11)),SUM($G11:Q11)/$E25,0),)","v":0},{"$f":"IF(S$6>0,IF((SUM($F25:R25)+0.1<SUM($G11:R11)),SUM($G11:R11)/$E25,0),)","v":0},{"$f":"IF(T$6>0,IF((SUM($F25:S25)+0.1<SUM($G11:S11)),SUM($G11:S11)/$E25,0),)","v":0},{"$f":"IF(U$6>0,IF((SUM($F25:T25)+0.1<SUM($G11:T11)),SUM($G11:T11)/$E25,0),)","v":0},{"$f":"IF(V$6>0,IF((SUM($F25:U25)+0.1<SUM($G11:U11)),SUM($G11:U11)/$E25,0),)","v":0},{"$f":"IF(W$6>0,IF((SUM($F25:V25)+0.1<SUM($G11:V11)),SUM($G11:V11)/$E25,0),)","v":0},{"$f":"IF(X$6>0,IF((SUM($F25:W25)+0.1<SUM($G11:W11)),SUM($G11:W11)/$E25,0),)","v":0},{"$f":"IF(Y$6>0,IF((SUM($F25:X25)+0.1<SUM($G11:X11)),SUM($G11:X11)/$E25,0),)","v":0},{"$f":"IF(Z$6>0,IF((SUM($F25:Y25)+0.1<SUM($G11:Y11)),SUM($G11:Y11)/$E25,0),)","v":0},{"$f":"IF(AA$6>0,IF((SUM($F25:Z25)+0.1<SUM($G11:Z11)),SUM($G11:Z11)/$E25,0),)","v":0},{"$f":"IF(AB$6>0,IF((SUM($F25:AA25)+0.1<SUM($G11:AA11)),SUM($G11:AA11)/$E25,0),)","v":0},{"$f":"IF(AC$6>0,IF((SUM($F25:AB25)+0.1<SUM($G11:AB11)),SUM($G11:AB11)/$E25,0),)","v":0},{"$f":"IF(AD$6>0,IF((SUM($F25:AC25)+0.1<SUM($G11:AC11)),SUM($G11:AC11)/$E25,0),)","v":0},{"$f":"IF(AE$6>0,IF((SUM($F25:AD25)+0.1<SUM($G11:AD11)),SUM($G11:AD11)/$E25,0),)","v":0},{"$f":"IF(AF$6>0,IF((SUM($F25:AE25)+0.1<SUM($G11:AE11)),SUM($G11:AE11)/$E25,0),)","v":0},{"$f":"IF(AG$6>0,IF((SUM($F25:AF25)+0.1<SUM($G11:AF11)),SUM($G11:AF11)/$E25,0),)","v":0},{"$f":"IF(AH$6>0,IF((SUM($F25:AG25)+0.1<SUM($G11:AG11)),SUM($G11:AG11)/$E25,0),)","v":0},{"$f":"IF(AI$6>0,IF((SUM($F25:AH25)+0.1<SUM($G11:AH11)),SUM($G11:AH11)/$E25,0),)","v":0},{"$f":"IF(AJ$6>0,IF((SUM($F25:AI25)+0.1<SUM($G11:AI11)),SUM($G11:AI11)/$E25,0),)","v":{"v":933236.0878287851,"d":"933,236"}},{"$f":"IF(AK$6>0,IF((SUM($F25:AJ25)+0.1<SUM($G11:AJ11)),SUM($G11:AJ11)/$E25,0),)","v":{"v":933236.0878287851,"d":"933,236"}},{"$f":"IF(AL$6>0,IF((SUM($F25:AK25)+0.1<SUM($G11:AK11)),SUM($G11:AK11)/$E25,0),)","v":{"v":933236.0878287851,"d":"933,236"}},{"$f":"IF(AM$6>0,IF((SUM($F25:AL25)+0.1<SUM($G11:AL11)),SUM($G11:AL11)/$E25,0),)","v":{"v":933236.0878287851,"d":"933,236"}},{"$f":"IF(AN$6>0,IF((SUM($F25:AM25)+0.1<SUM($G11:AM11)),SUM($G11:AM11)/$E25,0),)","v":{"v":933236.0878287851,"d":"933,236"}},{"$f":"IF(AO$6>0,IF((SUM($F25:AN25)+0.1<SUM($G11:AN11)),SUM($G11:AN11)/$E25,0),)","v":{"v":933236.0878287851,"d":"933,236"}},{"$f":"IF(AP$6>0,IF((SUM($F25:AO25)+0.1<SUM($G11:AO11)),SUM($G11:AO11)/$E25,0),)","v":{"v":933236.0878287851,"d":"933,236"}},{"$f":"IF(AQ$6>0,IF((SUM($F25:AP25)+0.1<SUM($G11:AP11)),SUM($G11:AP11)/$E25,0),)","v":{"v":933236.0878287851,"d":"933,236"}},{"$f":"IF(AR$6>0,IF((SUM($F25:AQ25)+0.1<SUM($G11:AQ11)),SUM($G11:AQ11)/$E25,0),)","v":{"v":933236.0878287851,"d":"933,236"}},{"$f":"IF(AS$6>0,IF((SUM($F25:AR25)+0.1<SUM($G11:AR11)),SUM($G11:AR11)/$E25,0),)","v":{"v":933236.0878287851,"d":"933,236"}},{"$f":"IF(AT$6>0,IF((SUM($F25:AS25)+0.1<SUM($G11:AS11)),SUM($G11:AS11)/$E25,0),)","v":{"v":933236.0878287851,"d":"933,236"}},{"$f":"IF(AU$6>0,IF((SUM($F25:AT25)+0.1<SUM($G11:AT11)),SUM($G11:AT11)/$E25,0),)","v":{"v":933236.0878287851,"d":"933,236"}},{"$f":"IF(AV$6>0,IF((SUM($F25:AU25)+0.1<SUM($G11:AU11)),SUM($G11:AU11)/$E25,0),)","v":{"v":933236.0878287851,"d":"933,236"}},{"$f":"IF(AW$6>0,IF((SUM($F25:AV25)+0.1<SUM($G11:AV11)),SUM($G11:AV11)/$E25,0),)","v":{"v":933236.0878287851,"d":"933,236"}},{"$f":"IF(AX$6>0,IF((SUM($F25:AW25)+0.1<SUM($G11:AW11)),SUM($G11:AW11)/$E25,0),)","v":{"v":933236.0878287851,"d":"933,236"}},{"$f":"IF(AY$6>0,IF((SUM($F25:AX25)+0.1<SUM($G11:AX11)),SUM($G11:AX11)/$E25,0),)","v":{"v":933236.0878287851,"d":"933,236"}},{"$f":"IF(AZ$6>0,IF((SUM($F25:AY25)+0.1<SUM($G11:AY11)),SUM($G11:AY11)/$E25,0),)","v":{"v":933236.0878287851,"d":"933,236"}},{"$f":"IF(BA$6>0,IF((SUM($F25:AZ25)+0.1<SUM($G11:AZ11)),SUM($G11:AZ11)/$E25,0),)","v":{"v":933236.0878287851,"d":"933,236"}},{"$f":"IF(BB$6>0,IF((SUM($F25:BA25)+0.1<SUM($G11:BA11)),SUM($G11:BA11)/$E25,0),)","v":{"v":933236.0878287851,"d":"933,236"}},{"$f":"IF(BC$6>0,IF((SUM($F25:BB25)+0.1<SUM($G11:BB11)),SUM($G11:BB11)/$E25,0),)","v":{"v":933236.0878287851,"d":"933,236"}},{"$f":"IF(BD$6>0,IF((SUM($F25:BC25)+0.1<SUM($G11:BC11)),SUM($G11:BC11)/$E25,0),)","v":{"v":933236.0878287851,"d":"933,236"}},{"$f":"IF(BE$6>0,IF((SUM($F25:BD25)+0.1<SUM($G11:BD11)),SUM($G11:BD11)/$E25,0),)","v":{"v":933236.0878287851,"d":"933,236"}},{"$f":"IF(BF$6>0,IF((SUM($F25:BE25)+0.1<SUM($G11:BE11)),SUM($G11:BE11)/$E25,0),)","v":{"v":933236.0878287851,"d":"933,236"}},{"$f":"IF(BG$6>0,IF((SUM($F25:BF25)+0.1<SUM($G11:BF11)),SUM($G11:BF11)/$E25,0),)","v":{"v":933236.0878287851,"d":"933,236"}},{"$f":"IF(BH$6>0,IF((SUM($F25:BG25)+0.1<SUM($G11:BG11)),SUM($G11:BG11)/$E25,0),)","v":{"v":933236.0878287851,"d":"933,236"}},{"$f":"IF(BI$6>0,IF((SUM($F25:BH25)+0.1<SUM($G11:BH11)),SUM($G11:BH11)/$E25,0),)","v":{"v":933236.0878287851,"d":"933,236"}},{"$f":"IF(BJ$6>0,IF((SUM($F25:BI25)+0.1<SUM($G11:BI11)),SUM($G11:BI11)/$E25,0),)","v":{"v":933236.0878287851,"d":"933,236"}},{"$f":"IF(BK$6>0,IF((SUM($F25:BJ25)+0.1<SUM($G11:BJ11)),SUM($G11:BJ11)/$E25,0),)","v":{"v":933236.0878287851,"d":"933,236"}},{"$f":"IF(BL$6>0,IF((SUM($F25:BK25)+0.1<SUM($G11:BK11)),SUM($G11:BK11)/$E25,0),)","v":{"v":933236.0878287851,"d":"933,236"}},{"$f":"IF(BM$6>0,IF((SUM($F25:BL25)+0.1<SUM($G11:BL11)),SUM($G11:BL11)/$E25,0),)","v":{"v":933236.0878287851,"d":"933,236"}},{"$f":"IF(BN$6>0,IF((SUM($F25:BM25)+0.1<SUM($G11:BM11)),SUM($G11:BM11)/$E25,0),)","v":{"v":933236.0878287851,"d":"933,236"}},{"$f":"IF(BO$6>0,IF((SUM($F25:BN25)+0.1<SUM($G11:BN11)),SUM($G11:BN11)/$E25,0),)","v":{"v":933236.0878287851,"d":"933,236"}},{"$f":"IF(BP$6>0,IF((SUM($F25:BO25)+0.1<SUM($G11:BO11)),SUM($G11:BO11)/$E25,0),)","v":{"v":933236.0878287851,"d":"933,236"}},{"$f":"IF(BQ$6>0,IF((SUM($F25:BP25)+0.1<SUM($G11:BP11)),SUM($G11:BP11)/$E25,0),)","v":{"v":933236.0878287851,"d":"933,236"}},{"$f":"IF(BR$6>0,IF((SUM($F25:BQ25)+0.1<SUM($G11:BQ11)),SUM($G11:BQ11)/$E25,0),)","v":{"v":933236.0878287851,"d":"933,236"}},{"$f":"IF(BS$6>0,IF((SUM($F25:BR25)+0.1<SUM($G11:BR11)),SUM($G11:BR11)/$E25,0),)","v":{"v":933236.0878287851,"d":"933,236"}},{"$f":"IF(BT$6>0,IF((SUM($F25:BS25)+0.1<SUM($G11:BS11)),SUM($G11:BS11)/$E25,0),)","v":{"v":933236.0878287851,"d":"933,236"}},{"$f":"IF(BU$6>0,IF((SUM($F25:BT25)+0.1<SUM($G11:BT11)),SUM($G11:BT11)/$E25,0),)","v":{"v":933236.0878287851,"d":"933,236"}},{"$f":"IF(BV$6>0,IF((SUM($F25:BU25)+0.1<SUM($G11:BU11)),SUM($G11:BU11)/$E25,0),)","v":{"v":933236.0878287851,"d":"933,236"}},{"$f":"IF(BW$6>0,IF((SUM($F25:BV25)+0.1<SUM($G11:BV11)),SUM($G11:BV11)/$E25,0),)","v":{"v":933236.0878287851,"d":"933,236"}},{"$f":"IF(BX$6>0,IF((SUM($F25:BW25)+0.1<SUM($G11:BW11)),SUM($G11:BW11)/$E25,0),)","v":{"v":933236.0878287851,"d":"933,236"}},{"$f":"IF(BY$6>0,IF((SUM($F25:BX25)+0.1<SUM($G11:BX11)),SUM($G11:BX11)/$E25,0),)","v":{"v":933236.0878287851,"d":"933,236"}},{"$f":"IF(BZ$6>0,IF((SUM($F25:BY25)+0.1<SUM($G11:BY11)),SUM($G11:BY11)/$E25,0),)","v":{"v":933236.0878287851,"d":"933,236"}},{"$f":"IF(CA$6>0,IF((SUM($F25:BZ25)+0.1<SUM($G11:BZ11)),SUM($G11:BZ11)/$E25,0),)","v":{"v":933236.0878287851,"d":"933,236"}},{"$f":"IF(CB$6>0,IF((SUM($F25:CA25)+0.1<SUM($G11:CA11)),SUM($G11:CA11)/$E25,0),)","v":{"v":933236.0878287851,"d":"933,236"}},{"$f":"IF(CC$6>0,IF((SUM($F25:CB25)+0.1<SUM($G11:CB11)),SUM($G11:CB11)/$E25,0),)","v":{"v":933236.0878287851,"d":"933,236"}},{"$f":"IF(CD$6>0,IF((SUM($F25:CC25)+0.1<SUM($G11:CC11)),SUM($G11:CC11)/$E25,0),)","v":{"v":933236.0878287851,"d":"933,236"}},{"$f":"IF(CE$6>0,IF((SUM($F25:CD25)+0.1<SUM($G11:CD11)),SUM($G11:CD11)/$E25,0),)","v":{"v":933236.0878287851,"d":"933,236"}},{"$f":"IF(CF$6>0,IF((SUM($F25:CE25)+0.1<SUM($G11:CE11)),SUM($G11:CE11)/$E25,0),)","v":{"v":933236.0878287851,"d":"933,236"}},{"$f":"IF(CG$6>0,IF((SUM($F25:CF25)+0.1<SUM($G11:CF11)),SUM($G11:CF11)/$E25,0),)","v":{"v":933236.0878287851,"d":"933,236"}},{"$f":"IF(CH$6>0,IF((SUM($F25:CG25)+0.1<SUM($G11:CG11)),SUM($G11:CG11)/$E25,0),)","v":{"v":933236.0878287851,"d":"933,236"}},{"$f":"IF(CI$6>0,IF((SUM($F25:CH25)+0.1<SUM($G11:CH11)),SUM($G11:CH11)/$E25,0),)","v":{"v":933236.0878287851,"d":"933,236"}},{"$f":"IF(CJ$6>0,IF((SUM($F25:CI25)+0.1<SUM($G11:CI11)),SUM($G11:CI11)/$E25,0),)","v":{"v":933236.0878287851,"d":"933,236"}},{"$f":"IF(CK$6>0,IF((SUM($F25:CJ25)+0.1<SUM($G11:CJ11)),SUM($G11:CJ11)/$E25,0),)","v":{"v":933236.0878287851,"d":"933,236"}},{"$f":"IF(CL$6>0,IF((SUM($F25:CK25)+0.1<SUM($G11:CK11)),SUM($G11:CK11)/$E25,0),)","v":{"v":933236.0878287851,"d":"933,236"}},{"$f":"IF(CM$6>0,IF((SUM($F25:CL25)+0.1<SUM($G11:CL11)),SUM($G11:CL11)/$E25,0),)","v":{"v":933236.0878287851,"d":"933,236"}},{"$f":"IF(CN$6>0,IF((SUM($F25:CM25)+0.1<SUM($G11:CM11)),SUM($G11:CM11)/$E25,0),)","v":{"v":933236.0878287851,"d":"933,236"}},{"$f":"IF(CO$6>0,IF((SUM($F25:CN25)+0.1<SUM($G11:CN11)),SUM($G11:CN11)/$E25,0),)","v":{"v":933236.0878287851,"d":"933,236"}},{"$f":"IF(CP$6>0,IF((SUM($F25:CO25)+0.1<SUM($G11:CO11)),SUM($G11:CO11)/$E25,0),)","v":{"v":933236.0878287851,"d":"933,236"}},{"$f":"IF(CQ$6>0,IF((SUM($F25:CP25)+0.1<SUM($G11:CP11)),SUM($G11:CP11)/$E25,0),)","v":{"v":933236.0878287851,"d":"933,236"}},{"$f":"IF(CR$6>0,IF((SUM($F25:CQ25)+0.1<SUM($G11:CQ11)),SUM($G11:CQ11)/$E25,0),)","v":{"v":933236.0878287851,"d":"933,236"}},{"$f":"IF(CS$6>0,IF((SUM($F25:CR25)+0.1<SUM($G11:CR11)),SUM($G11:CR11)/$E25,0),)","v":{"v":933236.0878287851,"d":"933,236"}},{"$f":"IF(CT$6>0,IF((SUM($F25:CS25)+0.1<SUM($G11:CS11)),SUM($G11:CS11)/$E25,0),)","v":{"v":933236.0878287851,"d":"933,236"}},{"$f":"IF(CU$6>0,IF((SUM($F25:CT25)+0.1<SUM($G11:CT11)),SUM($G11:CT11)/$E25,0),)","v":{"v":933236.0878287851,"d":"933,236"}},{"$f":"IF(CV$6>0,IF((SUM($F25:CU25)+0.1<SUM($G11:CU11)),SUM($G11:CU11)/$E25,0),)","v":{"v":933236.0878287851,"d":"933,236"}},{"$f":"IF(CW$6>0,IF((SUM($F25:CV25)+0.1<SUM($G11:CV11)),SUM($G11:CV11)/$E25,0),)","v":{"v":933236.0878287851,"d":"933,236"}},{"$f":"IF(CX$6>0,IF((SUM($F25:CW25)+0.1<SUM($G11:CW11)),SUM($G11:CW11)/$E25,0),)","v":{"v":933236.0878287851,"d":"933,236"}},{"$f":"IF(CY$6>0,IF((SUM($F25:CX25)+0.1<SUM($G11:CX11)),SUM($G11:CX11)/$E25,0),)","v":{"v":933236.0878287851,"d":"933,236"}},{"$f":"IF(CZ$6>0,IF((SUM($F25:CY25)+0.1<SUM($G11:CY11)),SUM($G11:CY11)/$E25,0),)","v":{"v":933236.0878287851,"d":"933,236"}},{"$f":"IF(DA$6>0,IF((SUM($F25:CZ25)+0.1<SUM($G11:CZ11)),SUM($G11:CZ11)/$E25,0),)","v":{"v":933236.0878287851,"d":"933,236"}},{"$f":"IF(DB$6>0,IF((SUM($F25:DA25)+0.1<SUM($G11:DA11)),SUM($G11:DA11)/$E25,0),)","v":{"v":933236.0878287851,"d":"933,236"}},{"$f":"IF(DC$6>0,IF((SUM($F25:DB25)+0.1<SUM($G11:DB11)),SUM($G11:DB11)/$E25,0),)","v":{"v":933236.0878287851,"d":"933,236"}},{"$f":"IF(DD$6>0,IF((SUM($F25:DC25)+0.1<SUM($G11:DC11)),SUM($G11:DC11)/$E25,0),)","v":{"v":933236.0878287851,"d":"933,236"}},{"$f":"IF(DE$6>0,IF((SUM($F25:DD25)+0.1<SUM($G11:DD11)),SUM($G11:DD11)/$E25,0),)","v":{"v":933236.0878287851,"d":"933,236"}},{"$f":"IF(DF$6>0,IF((SUM($F25:DE25)+0.1<SUM($G11:DE11)),SUM($G11:DE11)/$E25,0),)","v":{"v":933236.0878287851,"d":"933,236"}},{"$f":"IF(DG$6>0,IF((SUM($F25:DF25)+0.1<SUM($G11:DF11)),SUM($G11:DF11)/$E25,0),)","v":{"v":933236.0878287851,"d":"933,236"}},{"$f":"IF(DH$6>0,IF((SUM($F25:DG25)+0.1<SUM($G11:DG11)),SUM($G11:DG11)/$E25,0),)","v":{"v":933236.0878287851,"d":"933,236"}},{"$f":"IF(DI$6>0,IF((SUM($F25:DH25)+0.1<SUM($G11:DH11)),SUM($G11:DH11)/$E25,0),)","v":{"v":933236.0878287851,"d":"933,236"}},{"$f":"IF(DJ$6>0,IF((SUM($F25:DI25)+0.1<SUM($G11:DI11)),SUM($G11:DI11)/$E25,0),)","v":{"v":933236.0878287851,"d":"933,236"}},{"$f":"IF(DK$6>0,IF((SUM($F25:DJ25)+0.1<SUM($G11:DJ11)),SUM($G11:DJ11)/$E25,0),)","v":{"v":933236.0878287851,"d":"933,236"}},{"$f":"IF(DL$6>0,IF((SUM($F25:DK25)+0.1<SUM($G11:DK11)),SUM($G11:DK11)/$E25,0),)","v":{"v":933236.0878287851,"d":"933,236"}},{"$f":"IF(DM$6>0,IF((SUM($F25:DL25)+0.1<SUM($G11:DL11)),SUM($G11:DL11)/$E25,0),)","v":{"v":933236.0878287851,"d":"933,236"}},{"$f":"IF(DN$6>0,IF((SUM($F25:DM25)+0.1<SUM($G11:DM11)),SUM($G11:DM11)/$E25,0),)","v":{"v":933236.0878287851,"d":"933,236"}},{"$f":"IF(DO$6>0,IF((SUM($F25:DN25)+0.1<SUM($G11:DN11)),SUM($G11:DN11)/$E25,0),)","v":{"v":933236.0878287851,"d":"933,236"}},{"$f":"IF(DP$6>0,IF((SUM($F25:DO25)+0.1<SUM($G11:DO11)),SUM($G11:DO11)/$E25,0),)","v":{"v":933236.0878287851,"d":"933,236"}},{"$f":"IF(DQ$6>0,IF((SUM($F25:DP25)+0.1<SUM($G11:DP11)),SUM($G11:DP11)/$E25,0),)","v":{"v":933236.0878287851,"d":"933,236"}},{"$f":"IF(DR$6>0,IF((SUM($F25:DQ25)+0.1<SUM($G11:DQ11)),SUM($G11:DQ11)/$E25,0),)","v":{"v":933236.0878287851,"d":"933,236"}},{"$f":"IF(DS$6>0,IF((SUM($F25:DR25)+0.1<SUM($G11:DR11)),SUM($G11:DR11)/$E25,0),)","v":{"v":933236.0878287851,"d":"933,236"}},{"$f":"IF(DT$6>0,IF((SUM($F25:DS25)+0.1<SUM($G11:DS11)),SUM($G11:DS11)/$E25,0),)","v":{"v":933236.0878287851,"d":"933,236"}},{"$f":"IF(DU$6>0,IF((SUM($F25:DT25)+0.1<SUM($G11:DT11)),SUM($G11:DT11)/$E25,0),)","v":{"v":933236.0878287851,"d":"933,236"}},{"$f":"IF(DV$6>0,IF((SUM($F25:DU25)+0.1<SUM($G11:DU11)),SUM($G11:DU11)/$E25,0),)","v":{"v":933236.0878287851,"d":"933,236"}},{"$f":"IF(DW$6>0,IF((SUM($F25:DV25)+0.1<SUM($G11:DV11)),SUM($G11:DV11)/$E25,0),)","v":{"v":933236.0878287851,"d":"933,236"}},{"$f":"IF(DX$6>0,IF((SUM($F25:DW25)+0.1<SUM($G11:DW11)),SUM($G11:DW11)/$E25,0),)","v":{"v":933236.0878287851,"d":"933,236"}},{"$f":"IF(DY$6>0,IF((SUM($F25:DX25)+0.1<SUM($G11:DX11)),SUM($G11:DX11)/$E25,0),)","v":{"v":933236.0878287851,"d":"933,236"}},{"$f":"IF(DZ$6>0,IF((SUM($F25:DY25)+0.1<SUM($G11:DY11)),SUM($G11:DY11)/$E25,0),)","v":{"v":933236.0878287851,"d":"933,236"}},{"$f":"IF(EA$6>0,IF((SUM($F25:DZ25)+0.1<SUM($G11:DZ11)),SUM($G11:DZ11)/$E25,0),)","v":{"v":933236.0878287851,"d":"933,236"}},{"$f":"IF(EB$6>0,IF((SUM($F25:EA25)+0.1<SUM($G11:EA11)),SUM($G11:EA11)/$E25,0),)","v":{"v":933236.0878287851,"d":"933,236"}},{"$f":"IF(EC$6>0,IF((SUM($F25:EB25)+0.1<SUM($G11:EB11)),SUM($G11:EB11)/$E25,0),)","v":{"v":933236.0878287851,"d":"933,236"}},{"$f":"IF(ED$6>0,IF((SUM($F25:EC25)+0.1<SUM($G11:EC11)),SUM($G11:EC11)/$E25,0),)","v":{"v":933236.0878287851,"d":"933,236"}},{"$f":"IF(EE$6>0,IF((SUM($F25:ED25)+0.1<SUM($G11:ED11)),SUM($G11:ED11)/$E25,0),)","v":{"v":933236.0878287851,"d":"933,236"}},{"$f":"IF(EF$6>0,IF((SUM($F25:EE25)+0.1<SUM($G11:EE11)),SUM($G11:EE11)/$E25,0),)","v":{"v":933236.0878287851,"d":"933,236"}},{"$f":"IF(EG$6>0,IF((SUM($F25:EF25)+0.1<SUM($G11:EF11)),SUM($G11:EF11)/$E25,0),)","v":{"v":933236.0878287851,"d":"933,236"}},{"$f":"IF(EH$6>0,IF((SUM($F25:EG25)+0.1<SUM($G11:EG11)),SUM($G11:EG11)/$E25,0),)","v":{"v":933236.0878287851,"d":"933,236"}},{"$f":"IF(EI$6>0,IF((SUM($F25:EH25)+0.1<SUM($G11:EH11)),SUM($G11:EH11)/$E25,0),)","v":{"v":933236.0878287851,"d":"933,236"}},{"$f":"IF(EJ$6>0,IF((SUM($F25:EI25)+0.1<SUM($G11:EI11)),SUM($G11:EI11)/$E25,0),)","v":{"v":933236.0878287851,"d":"933,236"}},{"$f":"IF(EK$6>0,IF((SUM($F25:EJ25)+0.1<SUM($G11:EJ11)),SUM($G11:EJ11)/$E25,0),)","v":{"v":933236.0878287851,"d":"933,236"}},{"$f":"IF(EL$6>0,IF((SUM($F25:EK25)+0.1<SUM($G11:EK11)),SUM($G11:EK11)/$E25,0),)","v":{"v":933236.0878287851,"d":"933,236"}},{"$f":"IF(EM$6>0,IF((SUM($F25:EL25)+0.1<SUM($G11:EL11)),SUM($G11:EL11)/$E25,0),)","v":{"v":933236.0878287851,"d":"933,236"}},{"$f":"IF(EN$6>0,IF((SUM($F25:EM25)+0.1<SUM($G11:EM11)),SUM($G11:EM11)/$E25,0),)","v":{"v":933236.0878287851,"d":"933,236"}},{"$f":"IF(EO$6>0,IF((SUM($F25:EN25)+0.1<SUM($G11:EN11)),SUM($G11:EN11)/$E25,0),)","v":{"v":933236.0878287851,"d":"933,236"}},{"$f":"IF(EP$6>0,IF((SUM($F25:EO25)+0.1<SUM($G11:EO11)),SUM($G11:EO11)/$E25,0),)","v":{"v":933236.0878287851,"d":"933,236"}},{"$f":"IF(EQ$6>0,IF((SUM($F25:EP25)+0.1<SUM($G11:EP11)),SUM($G11:EP11)/$E25,0),)","v":{"v":933236.0878287851,"d":"933,236"}},{"$f":"IF(ER$6>0,IF((SUM($F25:EQ25)+0.1<SUM($G11:EQ11)),SUM($G11:EQ11)/$E25,0),)","v":{"v":933236.0878287851,"d":"933,236"}},{"$f":"IF(ES$6>0,IF((SUM($F25:ER25)+0.1<SUM($G11:ER11)),SUM($G11:ER11)/$E25,0),)","v":{"v":933236.0878287851,"d":"933,236"}},{"$f":"IF(ET$6>0,IF((SUM($F25:ES25)+0.1<SUM($G11:ES11)),SUM($G11:ES11)/$E25,0),)","v":{"v":933236.0878287851,"d":"933,236"}},{"$f":"IF(EU$6>0,IF((SUM($F25:ET25)+0.1<SUM($G11:ET11)),SUM($G11:ET11)/$E25,0),)","v":{"v":933236.0878287851,"d":"933,236"}},{"$f":"IF(EV$6>0,IF((SUM($F25:EU25)+0.1<SUM($G11:EU11)),SUM($G11:EU11)/$E25,0),)","v":{"v":933236.0878287851,"d":"933,236"}},{"$f":"IF(EW$6>0,IF((SUM($F25:EV25)+0.1<SUM($G11:EV11)),SUM($G11:EV11)/$E25,0),)","v":{"v":933236.0878287851,"d":"933,236"}},{"$f":"IF(EX$6>0,IF((SUM($F25:EW25)+0.1<SUM($G11:EW11)),SUM($G11:EW11)/$E25,0),)","v":{"v":933236.0878287851,"d":"933,236"}},{"$f":"IF(EY$6>0,IF((SUM($F25:EX25)+0.1<SUM($G11:EX11)),SUM($G11:EX11)/$E25,0),)","v":{"v":933236.0878287851,"d":"933,236"}},{"$f":"IF(EZ$6>0,IF((SUM($F25:EY25)+0.1<SUM($G11:EY11)),SUM($G11:EY11)/$E25,0),)","v":{"v":933236.0878287851,"d":"933,236"}},{"$f":"IF(FA$6>0,IF((SUM($F25:EZ25)+0.1<SUM($G11:EZ11)),SUM($G11:EZ11)/$E25,0),)","v":{"v":933236.0878287851,"d":"933,236"}},{"$f":"IF(FB$6>0,IF((SUM($F25:FA25)+0.1<SUM($G11:FA11)),SUM($G11:FA11)/$E25,0),)","v":{"v":933236.0878287851,"d":"933,236"}},{"$f":"IF(FC$6>0,IF((SUM($F25:FB25)+0.1<SUM($G11:FB11)),SUM($G11:FB11)/$E25,0),)","v":{"v":933236.0878287851,"d":"933,236"}},{"$f":"IF(FD$6>0,IF((SUM($F25:FC25)+0.1<SUM($G11:FC11)),SUM($G11:FC11)/$E25,0),)","v":{"v":933236.0878287851,"d":"933,236"}},{"$f":"IF(FE$6>0,IF((SUM($F25:FD25)+0.1<SUM($G11:FD11)),SUM($G11:FD11)/$E25,0),)","v":{"v":933236.0878287851,"d":"933,236"}},{"$f":"IF(FF$6>0,IF((SUM($F25:FE25)+0.1<SUM($G11:FE11)),SUM($G11:FE11)/$E25,0),)","v":{"v":933236.0878287851,"d":"933,236"}},{"$f":"IF(FG$6>0,IF((SUM($F25:FF25)+0.1<SUM($G11:FF11)),SUM($G11:FF11)/$E25,0),)","v":{"v":933236.0878287851,"d":"933,236"}},{"$f":"IF(FH$6>0,IF((SUM($F25:FG25)+0.1<SUM($G11:FG11)),SUM($G11:FG11)/$E25,0),)","v":{"v":933236.0878287851,"d":"933,236"}},{"$f":"IF(FI$6>0,IF((SUM($F25:FH25)+0.1<SUM($G11:FH11)),SUM($G11:FH11)/$E25,0),)","v":{"v":933236.0878287851,"d":"933,236"}},{"$f":"IF(FJ$6>0,IF((SUM($F25:FI25)+0.1<SUM($G11:FI11)),SUM($G11:FI11)/$E25,0),)","v":{"v":933236.0878287851,"d":"933,236"}},{"$f":"IF(FK$6>0,IF((SUM($F25:FJ25)+0.1<SUM($G11:FJ11)),SUM($G11:FJ11)/$E25,0),)","v":{"v":933236.0878287851,"d":"933,236"}},{"$f":"IF(FL$6>0,IF((SUM($F25:FK25)+0.1<SUM($G11:FK11)),SUM($G11:FK11)/$E25,0),)","v":{"v":933236.0878287851,"d":"933,236"}},{"$f":"IF(FM$6>0,IF((SUM($F25:FL25)+0.1<SUM($G11:FL11)),SUM($G11:FL11)/$E25,0),)","v":{"v":933236.0878287851,"d":"933,236"}},{"$f":"IF(FN$6>0,IF((SUM($F25:FM25)+0.1<SUM($G11:FM11)),SUM($G11:FM11)/$E25,0),)","v":{"v":933236.0878287851,"d":"933,236"}},{"$f":"IF(FO$6>0,IF((SUM($F25:FN25)+0.1<SUM($G11:FN11)),SUM($G11:FN11)/$E25,0),)","v":{"v":933236.0878287851,"d":"933,236"}},{"$f":"IF(FP$6>0,IF((SUM($F25:FO25)+0.1<SUM($G11:FO11)),SUM($G11:FO11)/$E25,0),)","v":{"v":933236.0878287851,"d":"933,236"}},{"$f":"IF(FQ$6>0,IF((SUM($F25:FP25)+0.1<SUM($G11:FP11)),SUM($G11:FP11)/$E25,0),)","v":{"v":933236.0878287851,"d":"933,236"}},{"$f":"IF(FR$6>0,IF((SUM($F25:FQ25)+0.1<SUM($G11:FQ11)),SUM($G11:FQ11)/$E25,0),)","v":{"v":933236.0878287851,"d":"933,236"}},{"$f":"IF(FS$6>0,IF((SUM($F25:FR25)+0.1<SUM($G11:FR11)),SUM($G11:FR11)/$E25,0),)","v":{"v":933236.0878287851,"d":"933,236"}},{"$f":"IF(FT$6>0,IF((SUM($F25:FS25)+0.1<SUM($G11:FS11)),SUM($G11:FS11)/$E25,0),)","v":{"v":933236.0878287851,"d":"933,236"}},{"$f":"IF(FU$6>0,IF((SUM($F25:FT25)+0.1<SUM($G11:FT11)),SUM($G11:FT11)/$E25,0),)","v":{"v":933236.0878287851,"d":"933,236"}},{"$f":"IF(FV$6>0,IF((SUM($F25:FU25)+0.1<SUM($G11:FU11)),SUM($G11:FU11)/$E25,0),)","v":{"v":933236.0878287851,"d":"933,236"}},{"$f":"IF(FW$6>0,IF((SUM($F25:FV25)+0.1<SUM($G11:FV11)),SUM($G11:FV11)/$E25,0),)","v":{"v":933236.0878287851,"d":"933,236"}},{"$f":"IF(FX$6>0,IF((SUM($F25:FW25)+0.1<SUM($G11:FW11)),SUM($G11:FW11)/$E25,0),)","v":{"v":933236.0878287851,"d":"933,236"}},{"$f":"IF(FY$6>0,IF((SUM($F25:FX25)+0.1<SUM($G11:FX11)),SUM($G11:FX11)/$E25,0),)","v":{"v":933236.0878287851,"d":"933,236"}},{"$f":"IF(FZ$6>0,IF((SUM($F25:FY25)+0.1<SUM($G11:FY11)),SUM($G11:FY11)/$E25,0),)","v":{"v":933236.0878287851,"d":"933,236"}},{"$f":"IF(GA$6>0,IF((SUM($F25:FZ25)+0.1<SUM($G11:FZ11)),SUM($G11:FZ11)/$E25,0),)","v":{"v":933236.0878287851,"d":"933,236"}},{"$f":"IF(GB$6>0,IF((SUM($F25:GA25)+0.1<SUM($G11:GA11)),SUM($G11:GA11)/$E25,0),)","v":{"v":933236.0878287851,"d":"933,236"}},{"$f":"IF(GC$6>0,IF((SUM($F25:GB25)+0.1<SUM($G11:GB11)),SUM($G11:GB11)/$E25,0),)","v":{"v":933236.0878287851,"d":"933,236"}},{"$f":"IF(GD$6>0,IF((SUM($F25:GC25)+0.1<SUM($G11:GC11)),SUM($G11:GC11)/$E25,0),)","v":{"v":933236.0878287851,"d":"933,236"}},{"$f":"IF(GE$6>0,IF((SUM($F25:GD25)+0.1<SUM($G11:GD11)),SUM($G11:GD11)/$E25,0),)","v":{"v":933236.0878287851,"d":"933,236"}},{"$f":"IF(GF$6>0,IF((SUM($F25:GE25)+0.1<SUM($G11:GE11)),SUM($G11:GE11)/$E25,0),)","v":{"v":933236.0878287851,"d":"933,236"}},{"$f":"IF(GG$6>0,IF((SUM($F25:GF25)+0.1<SUM($G11:GF11)),SUM($G11:GF11)/$E25,0),)","v":{"v":933236.0878287851,"d":"933,236"}},{"$f":"IF(GH$6>0,IF((SUM($F25:GG25)+0.1<SUM($G11:GG11)),SUM($G11:GG11)/$E25,0),)","v":{"v":933236.0878287851,"d":"933,236"}},{"$f":"IF(GI$6>0,IF((SUM($F25:GH25)+0.1<SUM($G11:GH11)),SUM($G11:GH11)/$E25,0),)","v":{"v":933236.0878287851,"d":"933,236"}},{"$f":"IF(GJ$6>0,IF((SUM($F25:GI25)+0.1<SUM($G11:GI11)),SUM($G11:GI11)/$E25,0),)","v":{"v":933236.0878287851,"d":"933,236"}},{"$f":"IF(GK$6>0,IF((SUM($F25:GJ25)+0.1<SUM($G11:GJ11)),SUM($G11:GJ11)/$E25,0),)","v":{"v":933236.0878287851,"d":"933,236"}},{"$f":"IF(GL$6>0,IF((SUM($F25:GK25)+0.1<SUM($G11:GK11)),SUM($G11:GK11)/$E25,0),)","v":{"v":933236.0878287851,"d":"933,236"}},{"$f":"IF(GM$6>0,IF((SUM($F25:GL25)+0.1<SUM($G11:GL11)),SUM($G11:GL11)/$E25,0),)","v":{"v":933236.0878287851,"d":"933,236"}},{"$f":"IF(GN$6>0,IF((SUM($F25:GM25)+0.1<SUM($G11:GM11)),SUM($G11:GM11)/$E25,0),)","v":{"v":933236.0878287851,"d":"933,236"}},{"$f":"IF(GO$6>0,IF((SUM($F25:GN25)+0.1<SUM($G11:GN11)),SUM($G11:GN11)/$E25,0),)","v":{"v":933236.0878287851,"d":"933,236"}},{"$f":"IF(GP$6>0,IF((SUM($F25:GO25)+0.1<SUM($G11:GO11)),SUM($G11:GO11)/$E25,0),)","v":{"v":933236.0878287851,"d":"933,236"}},{"$f":"IF(GQ$6>0,IF((SUM($F25:GP25)+0.1<SUM($G11:GP11)),SUM($G11:GP11)/$E25,0),)","v":{"v":933236.0878287851,"d":"933,236"}},{"$f":"IF(GR$6>0,IF((SUM($F25:GQ25)+0.1<SUM($G11:GQ11)),SUM($G11:GQ11)/$E25,0),)","v":{"v":933236.0878287851,"d":"933,236"}},{"$f":"IF(GS$6>0,IF((SUM($F25:GR25)+0.1<SUM($G11:GR11)),SUM($G11:GR11)/$E25,0),)","v":{"v":933236.0878287851,"d":"933,236"}},{"$f":"IF(GT$6>0,IF((SUM($F25:GS25)+0.1<SUM($G11:GS11)),SUM($G11:GS11)/$E25,0),)","v":{"v":933236.0878287851,"d":"933,236"}},{"$f":"IF(GU$6>0,IF((SUM($F25:GT25)+0.1<SUM($G11:GT11)),SUM($G11:GT11)/$E25,0),)","v":{"v":933236.0878287851,"d":"933,236"}},{"$f":"IF(GV$6>0,IF((SUM($F25:GU25)+0.1<SUM($G11:GU11)),SUM($G11:GU11)/$E25,0),)","v":{"v":933236.0878287851,"d":"933,236"}},{"$f":"IF(GW$6>0,IF((SUM($F25:GV25)+0.1<SUM($G11:GV11)),SUM($G11:GV11)/$E25,0),)","v":{"v":933236.0878287851,"d":"933,236"}},{"$f":"IF(GX$6>0,IF((SUM($F25:GW25)+0.1<SUM($G11:GW11)),SUM($G11:GW11)/$E25,0),)","v":{"v":933236.0878287851,"d":"933,236"}},{"$f":"IF(GY$6>0,IF((SUM($F25:GX25)+0.1<SUM($G11:GX11)),SUM($G11:GX11)/$E25,0),)","v":{"v":933236.0878287851,"d":"933,236"}},{"$f":"IF(GZ$6>0,IF((SUM($F25:GY25)+0.1<SUM($G11:GY11)),SUM($G11:GY11)/$E25,0),)","v":{"v":933236.0878287851,"d":"933,236"}},{"$f":"IF(HA$6>0,IF((SUM($F25:GZ25)+0.1<SUM($G11:GZ11)),SUM($G11:GZ11)/$E25,0),)","v":{"v":933236.0878287851,"d":"933,236"}},{"$f":"IF(HB$6>0,IF((SUM($F25:HA25)+0.1<SUM($G11:HA11)),SUM($G11:HA11)/$E25,0),)","v":{"v":933236.0878287851,"d":"933,236"}},{"$f":"IF(HC$6>0,IF((SUM($F25:HB25)+0.1<SUM($G11:HB11)),SUM($G11:HB11)/$E25,0),)","v":{"v":933236.0878287851,"d":"933,236"}},{"$f":"IF(HD$6>0,IF((SUM($F25:HC25)+0.1<SUM($G11:HC11)),SUM($G11:HC11)/$E25,0),)","v":{"v":933236.0878287851,"d":"933,236"}},{"$f":"IF(HE$6>0,IF((SUM($F25:HD25)+0.1<SUM($G11:HD11)),SUM($G11:HD11)/$E25,0),)","v":{"v":933236.0878287851,"d":"933,236"}},{"$f":"IF(HF$6>0,IF((SUM($F25:HE25)+0.1<SUM($G11:HE11)),SUM($G11:HE11)/$E25,0),)","v":{"v":933236.0878287851,"d":"933,236"}},{"$f":"IF(HG$6>0,IF((SUM($F25:HF25)+0.1<SUM($G11:HF11)),SUM($G11:HF11)/$E25,0),)","v":{"v":933236.0878287851,"d":"933,236"}},{"$f":"IF(HH$6>0,IF((SUM($F25:HG25)+0.1<SUM($G11:HG11)),SUM($G11:HG11)/$E25,0),)","v":0},{"$f":"IF(HI$6>0,IF((SUM($F25:HH25)+0.1<SUM($G11:HH11)),SUM($G11:HH11)/$E25,0),)","v":0},{"$f":"IF(HJ$6>0,IF((SUM($F25:HI25)+0.1<SUM($G11:HI11)),SUM($G11:HI11)/$E25,0),)","v":0},{"$f":"IF(HK$6>0,IF((SUM($F25:HJ25)+0.1<SUM($G11:HJ11)),SUM($G11:HJ11)/$E25,0),)","v":0},{"$f":"IF(HL$6>0,IF((SUM($F25:HK25)+0.1<SUM($G11:HK11)),SUM($G11:HK11)/$E25,0),)","v":0},{"$f":"IF(HM$6>0,IF((SUM($F25:HL25)+0.1<SUM($G11:HL11)),SUM($G11:HL11)/$E25,0),)","v":0},{"$f":"IF(HN$6>0,IF((SUM($F25:HM25)+0.1<SUM($G11:HM11)),SUM($G11:HM11)/$E25,0),)","v":0},{"$f":"IF(HO$6>0,IF((SUM($F25:HN25)+0.1<SUM($G11:HN11)),SUM($G11:HN11)/$E25,0),)","v":0},{"$f":"IF(HP$6>0,IF((SUM($F25:HO25)+0.1<SUM($G11:HO11)),SUM($G11:HO11)/$E25,0),)","v":0},{"$f":"IF(HQ$6>0,IF((SUM($F25:HP25)+0.1<SUM($G11:HP11)),SUM($G11:HP11)/$E25,0),)","v":0},{"$f":"IF(HR$6>0,IF((SUM($F25:HQ25)+0.1<SUM($G11:HQ11)),SUM($G11:HQ11)/$E25,0),)","v":0},{"$f":"IF(HS$6>0,IF((SUM($F25:HR25)+0.1<SUM($G11:HR11)),SUM($G11:HR11)/$E25,0),)","v":0},{"$f":"IF(HT$6>0,IF((SUM($F25:HS25)+0.1<SUM($G11:HS11)),SUM($G11:HS11)/$E25,0),)","v":0},{"$f":"IF(HU$6>0,IF((SUM($F25:HT25)+0.1<SUM($G11:HT11)),SUM($G11:HT11)/$E25,0),)","v":0},{"$f":"IF(HV$6>0,IF((SUM($F25:HU25)+0.1<SUM($G11:HU11)),SUM($G11:HU11)/$E25,0),)","v":0},{"$f":"IF(HW$6>0,IF((SUM($F25:HV25)+0.1<SUM($G11:HV11)),SUM($G11:HV11)/$E25,0),)","v":0},{"$f":"IF(HX$6>0,IF((SUM($F25:HW25)+0.1<SUM($G11:HW11)),SUM($G11:HW11)/$E25,0),)","v":0},{"$f":"IF(HY$6>0,IF((SUM($F25:HX25)+0.1<SUM($G11:HX11)),SUM($G11:HX11)/$E25,0),)","v":0},{"$f":"IF(HZ$6>0,IF((SUM($F25:HY25)+0.1<SUM($G11:HY11)),SUM($G11:HY11)/$E25,0),)","v":0},{"$f":"IF(IA$6>0,IF((SUM($F25:HZ25)+0.1<SUM($G11:HZ11)),SUM($G11:HZ11)/$E25,0),)","v":0},{"$f":"IF(IB$6>0,IF((SUM($F25:IA25)+0.1<SUM($G11:IA11)),SUM($G11:IA11)/$E25,0),)","v":0},{"$f":"IF(IC$6>0,IF((SUM($F25:IB25)+0.1<SUM($G11:IB11)),SUM($G11:IB11)/$E25,0),)","v":0},{"$f":"IF(ID$6>0,IF((SUM($F25:IC25)+0.1<SUM($G11:IC11)),SUM($G11:IC11)/$E25,0),)","v":0},{"$f":"IF(IE$6>0,IF((SUM($F25:ID25)+0.1<SUM($G11:ID11)),SUM($G11:ID11)/$E25,0),)","v":0},{"$f":"IF(IF$6>0,IF((SUM($F25:IE25)+0.1<SUM($G11:IE11)),SUM($G11:IE11)/$E25,0),)","v":0},{"$f":"IF(IG$6>0,IF((SUM($F25:IF25)+0.1<SUM($G11:IF11)),SUM($G11:IF11)/$E25,0),)","v":0},{"$f":"IF(IH$6>0,IF((SUM($F25:IG25)+0.1<SUM($G11:IG11)),SUM($G11:IG11)/$E25,0),)","v":0},{"$f":"IF(II$6>0,IF((SUM($F25:IH25)+0.1<SUM($G11:IH11)),SUM($G11:IH11)/$E25,0),)","v":0},{"$f":"IF(IJ$6>0,IF((SUM($F25:II25)+0.1<SUM($G11:II11)),SUM($G11:II11)/$E25,0),)","v":0},{"$f":"IF(IK$6>0,IF((SUM($F25:IJ25)+0.1<SUM($G11:IJ11)),SUM($G11:IJ11)/$E25,0),)","v":0},{"$f":"IF(IL$6>0,IF((SUM($F25:IK25)+0.1<SUM($G11:IK11)),SUM($G11:IK11)/$E25,0),)","v":0},{"$f":"IF(IM$6>0,IF((SUM($F25:IL25)+0.1<SUM($G11:IL11)),SUM($G11:IL11)/$E25,0),)","v":0},{"$f":"IF(IN$6>0,IF((SUM($F25:IM25)+0.1<SUM($G11:IM11)),SUM($G11:IM11)/$E25,0),)","v":0},{"$f":"IF(IO$6>0,IF((SUM($F25:IN25)+0.1<SUM($G11:IN11)),SUM($G11:IN11)/$E25,0),)","v":0},{"$f":"IF(IP$6>0,IF((SUM($F25:IO25)+0.1<SUM($G11:IO11)),SUM($G11:IO11)/$E25,0),)","v":0},{"$f":"IF(IQ$6>0,IF((SUM($F25:IP25)+0.1<SUM($G11:IP11)),SUM($G11:IP11)/$E25,0),)","v":0},{"$f":"IF(IR$6>0,IF((SUM($F25:IQ25)+0.1<SUM($G11:IQ11)),SUM($G11:IQ11)/$E25,0),)","v":0},{"$f":"IF(IS$6>0,IF((SUM($F25:IR25)+0.1<SUM($G11:IR11)),SUM($G11:IR11)/$E25,0),)","v":0},{"$f":"IF(IT$6>0,IF((SUM($F25:IS25)+0.1<SUM($G11:IS11)),SUM($G11:IS11)/$E25,0),)","v":0},{"$f":"IF(IU$6>0,IF((SUM($F25:IT25)+0.1<SUM($G11:IT11)),SUM($G11:IT11)/$E25,0),)","v":0},{"$f":"IF(IV$6>0,IF((SUM($F25:IU25)+0.1<SUM($G11:IU11)),SUM($G11:IU11)/$E25,0),)","v":0},{"$f":"IF(IW$6>0,IF((SUM($F25:IV25)+0.1<SUM($G11:IV11)),SUM($G11:IV11)/$E25,0),)","v":0},{"$f":"IF(IX$6>0,IF((SUM($F25:IW25)+0.1<SUM($G11:IW11)),SUM($G11:IW11)/$E25,0),)","v":0},{"$f":"IF(IY$6>0,IF((SUM($F25:IX25)+0.1<SUM($G11:IX11)),SUM($G11:IX11)/$E25,0),)","v":0},{"$f":"IF(IZ$6>0,IF((SUM($F25:IY25)+0.1<SUM($G11:IY11)),SUM($G11:IY11)/$E25,0),)","v":0},{"$f":"IF(JA$6>0,IF((SUM($F25:IZ25)+0.1<SUM($G11:IZ11)),SUM($G11:IZ11)/$E25,0),)","v":0},{"$f":"IF(JB$6>0,IF((SUM($F25:JA25)+0.1<SUM($G11:JA11)),SUM($G11:JA11)/$E25,0),)","v":0},{"$f":"IF(JC$6>0,IF((SUM($F25:JB25)+0.1<SUM($G11:JB11)),SUM($G11:JB11)/$E25,0),)","v":0},{"$f":"IF(JD$6>0,IF((SUM($F25:JC25)+0.1<SUM($G11:JC11)),SUM($G11:JC11)/$E25,0),)","v":0},{"$f":"IF(JE$6>0,IF((SUM($F25:JD25)+0.1<SUM($G11:JD11)),SUM($G11:JD11)/$E25,0),)","v":0},{"$f":"IF(JF$6>0,IF((SUM($F25:JE25)+0.1<SUM($G11:JE11)),SUM($G11:JE11)/$E25,0),)","v":0},{"$f":"IF(JG$6>0,IF((SUM($F25:JF25)+0.1<SUM($G11:JF11)),SUM($G11:JF11)/$E25,0),)","v":0},{"$f":"IF(JH$6>0,IF((SUM($F25:JG25)+0.1<SUM($G11:JG11)),SUM($G11:JG11)/$E25,0),)","v":0},{"$f":"IF(JI$6>0,IF((SUM($F25:JH25)+0.1<SUM($G11:JH11)),SUM($G11:JH11)/$E25,0),)","v":0},{"$f":"IF(JJ$6>0,IF((SUM($F25:JI25)+0.1<SUM($G11:JI11)),SUM($G11:JI11)/$E25,0),)","v":0},{"$f":"IF(JK$6>0,IF((SUM($F25:JJ25)+0.1<SUM($G11:JJ11)),SUM($G11:JJ11)/$E25,0),)","v":0},{"$f":"IF(JL$6>0,IF((SUM($F25:JK25)+0.1<SUM($G11:JK11)),SUM($G11:JK11)/$E25,0),)","v":0},{"$f":"IF(JM$6>0,IF((SUM($F25:JL25)+0.1<SUM($G11:JL11)),SUM($G11:JL11)/$E25,0),)","v":0},{"$f":"IF(JN$6>0,IF((SUM($F25:JM25)+0.1<SUM($G11:JM11)),SUM($G11:JM11)/$E25,0),)","v":0},{"$f":"IF(JO$6>0,IF((SUM($F25:JN25)+0.1<SUM($G11:JN11)),SUM($G11:JN11)/$E25,0),)","v":0},{"$f":"IF(JP$6>0,IF((SUM($F25:JO25)+0.1<SUM($G11:JO11)),SUM($G11:JO11)/$E25,0),)","v":0},{"$f":"IF(JQ$6>0,IF((SUM($F25:JP25)+0.1<SUM($G11:JP11)),SUM($G11:JP11)/$E25,0),)","v":0},{"$f":"IF(JR$6>0,IF((SUM($F25:JQ25)+0.1<SUM($G11:JQ11)),SUM($G11:JQ11)/$E25,0),)","v":0},{"$f":"IF(JS$6>0,IF((SUM($F25:JR25)+0.1<SUM($G11:JR11)),SUM($G11:JR11)/$E25,0),)","v":0},{"$f":"IF(JT$6>0,IF((SUM($F25:JS25)+0.1<SUM($G11:JS11)),SUM($G11:JS11)/$E25,0),)","v":0},{"$f":"IF(JU$6>0,IF((SUM($F25:JT25)+0.1<SUM($G11:JT11)),SUM($G11:JT11)/$E25,0),)","v":0},{"$f":"IF(JV$6>0,IF((SUM($F25:JU25)+0.1<SUM($G11:JU11)),SUM($G11:JU11)/$E25,0),)","v":0},{"$f":"IF(JW$6>0,IF((SUM($F25:JV25)+0.1<SUM($G11:JV11)),SUM($G11:JV11)/$E25,0),)","v":0},{"$f":"IF(JX$6>0,IF((SUM($F25:JW25)+0.1<SUM($G11:JW11)),SUM($G11:JW11)/$E25,0),)","v":0},{"$f":"IF(JY$6>0,IF((SUM($F25:JX25)+0.1<SUM($G11:JX11)),SUM($G11:JX11)/$E25,0),)","v":0},{"$f":"IF(JZ$6>0,IF((SUM($F25:JY25)+0.1<SUM($G11:JY11)),SUM($G11:JY11)/$E25,0),)","v":0},{"$f":"IF(KA$6>0,IF((SUM($F25:JZ25)+0.1<SUM($G11:JZ11)),SUM($G11:JZ11)/$E25,0),)","v":0},{"$f":"IF(KB$6>0,IF((SUM($F25:KA25)+0.1<SUM($G11:KA11)),SUM($G11:KA11)/$E25,0),)","v":0},{"$f":"IF(KC$6>0,IF((SUM($F25:KB25)+0.1<SUM($G11:KB11)),SUM($G11:KB11)/$E25,0),)","v":0},{"$f":"IF(KD$6>0,IF((SUM($F25:KC25)+0.1<SUM($G11:KC11)),SUM($G11:KC11)/$E25,0),)","v":0},{"$f":"IF(KE$6>0,IF((SUM($F25:KD25)+0.1<SUM($G11:KD11)),SUM($G11:KD11)/$E25,0),)","v":0},{"$f":"IF(KF$6>0,IF((SUM($F25:KE25)+0.1<SUM($G11:KE11)),SUM($G11:KE11)/$E25,0),)","v":0},{"$f":"IF(KG$6>0,IF((SUM($F25:KF25)+0.1<SUM($G11:KF11)),SUM($G11:KF11)/$E25,0),)","v":0},{"$f":"IF(KH$6>0,IF((SUM($F25:KG25)+0.1<SUM($G11:KG11)),SUM($G11:KG11)/$E25,0),)","v":0},{"$f":"IF(KI$6>0,IF((SUM($F25:KH25)+0.1<SUM($G11:KH11)),SUM($G11:KH11)/$E25,0),)","v":0},{"$f":"IF(KJ$6>0,IF((SUM($F25:KI25)+0.1<SUM($G11:KI11)),SUM($G11:KI11)/$E25,0),)","v":0},{"$f":"IF(KK$6>0,IF((SUM($F25:KJ25)+0.1<SUM($G11:KJ11)),SUM($G11:KJ11)/$E25,0),)","v":0},{"$f":"IF(KL$6>0,IF((SUM($F25:KK25)+0.1<SUM($G11:KK11)),SUM($G11:KK11)/$E25,0),)","v":0},{"$f":"IF(KM$6>0,IF((SUM($F25:KL25)+0.1<SUM($G11:KL11)),SUM($G11:KL11)/$E25,0),)","v":0},{"$f":"IF(KN$6>0,IF((SUM($F25:KM25)+0.1<SUM($G11:KM11)),SUM($G11:KM11)/$E25,0),)","v":0},{"$f":"IF(KO$6>0,IF((SUM($F25:KN25)+0.1<SUM($G11:KN11)),SUM($G11:KN11)/$E25,0),)","v":0},{"$f":"IF(KP$6>0,IF((SUM($F25:KO25)+0.1<SUM($G11:KO11)),SUM($G11:KO11)/$E25,0),)","v":0},{"$f":"IF(KQ$6>0,IF((SUM($F25:KP25)+0.1<SUM($G11:KP11)),SUM($G11:KP11)/$E25,0),)","v":0},{"$f":"IF(KR$6>0,IF((SUM($F25:KQ25)+0.1<SUM($G11:KQ11)),SUM($G11:KQ11)/$E25,0),)","v":0},{"$f":"IF(KS$6>0,IF((SUM($F25:KR25)+0.1<SUM($G11:KR11)),SUM($G11:KR11)/$E25,0),)","v":0},{"$f":"IF(KT$6>0,IF((SUM($F25:KS25)+0.1<SUM($G11:KS11)),SUM($G11:KS11)/$E25,0),)","v":0},{"$f":"IF(KU$6>0,IF((SUM($F25:KT25)+0.1<SUM($G11:KT11)),SUM($G11:KT11)/$E25,0),)","v":0},{"$f":"IF(KV$6>0,IF((SUM($F25:KU25)+0.1<SUM($G11:KU11)),SUM($G11:KU11)/$E25,0),)","v":0},{"$f":"IF(KW$6>0,IF((SUM($F25:KV25)+0.1<SUM($G11:KV11)),SUM($G11:KV11)/$E25,0),)","v":0},{"$f":"IF(KX$6>0,IF((SUM($F25:KW25)+0.1<SUM($G11:KW11)),SUM($G11:KW11)/$E25,0),)","v":0},{"$f":"IF(KY$6>0,IF((SUM($F25:KX25)+0.1<SUM($G11:KX11)),SUM($G11:KX11)/$E25,0),)","v":0},{"$f":"IF(KZ$6>0,IF((SUM($F25:KY25)+0.1<SUM($G11:KY11)),SUM($G11:KY11)/$E25,0),)","v":0},{"$f":"IF(LA$6>0,IF((SUM($F25:KZ25)+0.1<SUM($G11:KZ11)),SUM($G11:KZ11)/$E25,0),)","v":0},{"$f":"IF(LB$6>0,IF((SUM($F25:LA25)+0.1<SUM($G11:LA11)),SUM($G11:LA11)/$E25,0),)","v":0},{"$f":"IF(LC$6>0,IF((SUM($F25:LB25)+0.1<SUM($G11:LB11)),SUM($G11:LB11)/$E25,0),)","v":0},{"$f":"IF(LD$6>0,IF((SUM($F25:LC25)+0.1<SUM($G11:LC11)),SUM($G11:LC11)/$E25,0),)","v":0},{"$f":"IF(LE$6>0,IF((SUM($F25:LD25)+0.1<SUM($G11:LD11)),SUM($G11:LD11)/$E25,0),)","v":0},{"$f":"IF(LF$6>0,IF((SUM($F25:LE25)+0.1<SUM($G11:LE11)),SUM($G11:LE11)/$E25,0),)","v":0},{"$f":"IF(LG$6>0,IF((SUM($F25:LF25)+0.1<SUM($G11:LF11)),SUM($G11:LF11)/$E25,0),)","v":0},{"$f":"IF(LH$6>0,IF((SUM($F25:LG25)+0.1<SUM($G11:LG11)),SUM($G11:LG11)/$E25,0),)","v":0},{"$f":"IF(LI$6>0,IF((SUM($F25:LH25)+0.1<SUM($G11:LH11)),SUM($G11:LH11)/$E25,0),)","v":0},{"$f":"IF(LJ$6>0,IF((SUM($F25:LI25)+0.1<SUM($G11:LI11)),SUM($G11:LI11)/$E25,0),)","v":0},{"$f":"IF(LK$6>0,IF((SUM($F25:LJ25)+0.1<SUM($G11:LJ11)),SUM($G11:LJ11)/$E25,0),)","v":0},{"$f":"IF(LL$6>0,IF((SUM($F25:LK25)+0.1<SUM($G11:LK11)),SUM($G11:LK11)/$E25,0),)","v":0},{"$f":"IF(LM$6>0,IF((SUM($F25:LL25)+0.1<SUM($G11:LL11)),SUM($G11:LL11)/$E25,0),)","v":0},{"$f":"IF(LN$6>0,IF((SUM($F25:LM25)+0.1<SUM($G11:LM11)),SUM($G11:LM11)/$E25,0),)","v":0},{"$f":"IF(LO$6>0,IF((SUM($F25:LN25)+0.1<SUM($G11:LN11)),SUM($G11:LN11)/$E25,0),)","v":0},{"$f":"IF(LP$6>0,IF((SUM($F25:LO25)+0.1<SUM($G11:LO11)),SUM($G11:LO11)/$E25,0),)","v":0},{"$f":"IF(LQ$6>0,IF((SUM($F25:LP25)+0.1<SUM($G11:LP11)),SUM($G11:LP11)/$E25,0),)","v":0},{"$f":"IF(LR$6>0,IF((SUM($F25:LQ25)+0.1<SUM($G11:LQ11)),SUM($G11:LQ11)/$E25,0),)","v":0},{"$f":"IF(LS$6>0,IF((SUM($F25:LR25)+0.1<SUM($G11:LR11)),SUM($G11:LR11)/$E25,0),)","v":0},{"$f":"IF(LT$6>0,IF((SUM($F25:LS25)+0.1<SUM($G11:LS11)),SUM($G11:LS11)/$E25,0),)","v":0},{"$f":"IF(LU$6>0,IF((SUM($F25:LT25)+0.1<SUM($G11:LT11)),SUM($G11:LT11)/$E25,0),)","v":0},{"$f":"IF(LV$6>0,IF((SUM($F25:LU25)+0.1<SUM($G11:LU11)),SUM($G11:LU11)/$E25,0),)","v":0},{"$f":"IF(LW$6>0,IF((SUM($F25:LV25)+0.1<SUM($G11:LV11)),SUM($G11:LV11)/$E25,0),)","v":0},{"$f":"IF(LX$6>0,IF((SUM($F25:LW25)+0.1<SUM($G11:LW11)),SUM($G11:LW11)/$E25,0),)","v":0},{"$f":"IF(LY$6>0,IF((SUM($F25:LX25)+0.1<SUM($G11:LX11)),SUM($G11:LX11)/$E25,0),)","v":0},{"$f":"IF(LZ$6>0,IF((SUM($F25:LY25)+0.1<SUM($G11:LY11)),SUM($G11:LY11)/$E25,0),)","v":0},{"$f":"IF(MA$6>0,IF((SUM($F25:LZ25)+0.1<SUM($G11:LZ11)),SUM($G11:LZ11)/$E25,0),)","v":0},{"$f":"IF(MB$6>0,IF((SUM($F25:MA25)+0.1<SUM($G11:MA11)),SUM($G11:MA11)/$E25,0),)","v":0},{"$f":"IF(MC$6>0,IF((SUM($F25:MB25)+0.1<SUM($G11:MB11)),SUM($G11:MB11)/$E25,0),)","v":0},{"$f":"IF(MD$6>0,IF((SUM($F25:MC25)+0.1<SUM($G11:MC11)),SUM($G11:MC11)/$E25,0),)","v":0},{"$f":"IF(ME$6>0,IF((SUM($F25:MD25)+0.1<SUM($G11:MD11)),SUM($G11:MD11)/$E25,0),)","v":0},{"$f":"IF(MF$6>0,IF((SUM($F25:ME25)+0.1<SUM($G11:ME11)),SUM($G11:ME11)/$E25,0),)","v":0},{"$f":"IF(MG$6>0,IF((SUM($F25:MF25)+0.1<SUM($G11:MF11)),SUM($G11:MF11)/$E25,0),)","v":0},{"$f":"IF(MH$6>0,IF((SUM($F25:MG25)+0.1<SUM($G11:MG11)),SUM($G11:MG11)/$E25,0),)","v":0},{"$f":"IF(MI$6>0,IF((SUM($F25:MH25)+0.1<SUM($G11:MH11)),SUM($G11:MH11)/$E25,0),)","v":0},{"$f":"IF(MJ$6>0,IF((SUM($F25:MI25)+0.1<SUM($G11:MI11)),SUM($G11:MI11)/$E25,0),)","v":0},{"$f":"IF(MK$6>0,IF((SUM($F25:MJ25)+0.1<SUM($G11:MJ11)),SUM($G11:MJ11)/$E25,0),)","v":0},{"$f":"IF(ML$6>0,IF((SUM($F25:MK25)+0.1<SUM($G11:MK11)),SUM($G11:MK11)/$E25,0),)","v":0},{"$f":"IF(MM$6>0,IF((SUM($F25:ML25)+0.1<SUM($G11:ML11)),SUM($G11:ML11)/$E25,0),)","v":0},{"$f":"IF(MN$6>0,IF((SUM($F25:MM25)+0.1<SUM($G11:MM11)),SUM($G11:MM11)/$E25,0),)","v":0},{"$f":"IF(MO$6>0,IF((SUM($F25:MN25)+0.1<SUM($G11:MN11)),SUM($G11:MN11)/$E25,0),)","v":0},{"$f":"IF(MP$6>0,IF((SUM($F25:MO25)+0.1<SUM($G11:MO11)),SUM($G11:MO11)/$E25,0),)","v":0},{"$f":"IF(MQ$6>0,IF((SUM($F25:MP25)+0.1<SUM($G11:MP11)),SUM($G11:MP11)/$E25,0),)","v":0},{"$f":"IF(MR$6>0,IF((SUM($F25:MQ25)+0.1<SUM($G11:MQ11)),SUM($G11:MQ11)/$E25,0),)","v":0},{"$f":"IF(MS$6>0,IF((SUM($F25:MR25)+0.1<SUM($G11:MR11)),SUM($G11:MR11)/$E25,0),)","v":0},{"$f":"IF(MT$6>0,IF((SUM($F25:MS25)+0.1<SUM($G11:MS11)),SUM($G11:MS11)/$E25,0),)","v":0},{"$f":"IF(MU$6>0,IF((SUM($F25:MT25)+0.1<SUM($G11:MT11)),SUM($G11:MT11)/$E25,0),)","v":0},{"$f":"IF(MV$6>0,IF((SUM($F25:MU25)+0.1<SUM($G11:MU11)),SUM($G11:MU11)/$E25,0),)","v":0},{"$f":"IF(MW$6>0,IF((SUM($F25:MV25)+0.1<SUM($G11:MV11)),SUM($G11:MV11)/$E25,0),)","v":0},{"$f":"IF(MX$6>0,IF((SUM($F25:MW25)+0.1<SUM($G11:MW11)),SUM($G11:MW11)/$E25,0),)","v":0},{"$f":"IF(MY$6>0,IF((SUM($F25:MX25)+0.1<SUM($G11:MX11)),SUM($G11:MX11)/$E25,0),)","v":0},{"$f":"IF(MZ$6>0,IF((SUM($F25:MY25)+0.1<SUM($G11:MY11)),SUM($G11:MY11)/$E25,0),)","v":0},{"$f":"IF(NA$6>0,IF((SUM($F25:MZ25)+0.1<SUM($G11:MZ11)),SUM($G11:MZ11)/$E25,0),)","v":0},{"$f":"IF(NB$6>0,IF((SUM($F25:NA25)+0.1<SUM($G11:NA11)),SUM($G11:NA11)/$E25,0),)","v":0},{"$f":"IF(NC$6>0,IF((SUM($F25:NB25)+0.1<SUM($G11:NB11)),SUM($G11:NB11)/$E25,0),)","v":0},{"$f":"IF(ND$6>0,IF((SUM($F25:NC25)+0.1<SUM($G11:NC11)),SUM($G11:NC11)/$E25,0),)","v":0},{"$f":"IF(NE$6>0,IF((SUM($F25:ND25)+0.1<SUM($G11:ND11)),SUM($G11:ND11)/$E25,0),)","v":0},{"$f":"IF(NF$6>0,IF((SUM($F25:NE25)+0.1<SUM($G11:NE11)),SUM($G11:NE11)/$E25,0),)","v":0},{"$f":"IF(NG$6>0,IF((SUM($F25:NF25)+0.1<SUM($G11:NF11)),SUM($G11:NF11)/$E25,0),)","v":0},{"$f":"IF(NH$6>0,IF((SUM($F25:NG25)+0.1<SUM($G11:NG11)),SUM($G11:NG11)/$E25,0),)","v":0},{"$f":"IF(NI$6>0,IF((SUM($F25:NH25)+0.1<SUM($G11:NH11)),SUM($G11:NH11)/$E25,0),)","v":0},{"$f":"IF(NJ$6>0,IF((SUM($F25:NI25)+0.1<SUM($G11:NI11)),SUM($G11:NI11)/$E25,0),)","v":0},{"$f":"IF(NK$6>0,IF((SUM($F25:NJ25)+0.1<SUM($G11:NJ11)),SUM($G11:NJ11)/$E25,0),)","v":0},{"$f":"IF(NL$6>0,IF((SUM($F25:NK25)+0.1<SUM($G11:NK11)),SUM($G11:NK11)/$E25,0),)","v":0},{"$f":"IF(NM$6>0,IF((SUM($F25:NL25)+0.1<SUM($G11:NL11)),SUM($G11:NL11)/$E25,0),)","v":0},{"$f":"IF(NN$6>0,IF((SUM($F25:NM25)+0.1<SUM($G11:NM11)),SUM($G11:NM11)/$E25,0),)","v":0},{"$f":"IF(NO$6>0,IF((SUM($F25:NN25)+0.1<SUM($G11:NN11)),SUM($G11:NN11)/$E25,0),)","v":0},{"$f":"IF(NP$6>0,IF((SUM($F25:NO25)+0.1<SUM($G11:NO11)),SUM($G11:NO11)/$E25,0),)","v":0},{"$f":"IF(NQ$6>0,IF((SUM($F25:NP25)+0.1<SUM($G11:NP11)),SUM($G11:NP11)/$E25,0),)","v":0},{"$f":"IF(NR$6>0,IF((SUM($F25:NQ25)+0.1<SUM($G11:NQ11)),SUM($G11:NQ11)/$E25,0),)","v":0},{"$f":"IF(NS$6>0,IF((SUM($F25:NR25)+0.1<SUM($G11:NR11)),SUM($G11:NR11)/$E25,0),)","v":0},{"$f":"IF(NT$6>0,IF((SUM($F25:NS25)+0.1<SUM($G11:NS11)),SUM($G11:NS11)/$E25,0),)","v":0},{"$f":"IF(NU$6>0,IF((SUM($F25:NT25)+0.1<SUM($G11:NT11)),SUM($G11:NT11)/$E25,0),)","v":0},{"$f":"IF(NV$6>0,IF((SUM($F25:NU25)+0.1<SUM($G11:NU11)),SUM($G11:NU11)/$E25,0),)","v":0},{"$f":"IF(NW$6>0,IF((SUM($F25:NV25)+0.1<SUM($G11:NV11)),SUM($G11:NV11)/$E25,0),)","v":0},{"$f":"IF(NX$6>0,IF((SUM($F25:NW25)+0.1<SUM($G11:NW11)),SUM($G11:NW11)/$E25,0),)","v":0},{"$f":"IF(NY$6>0,IF((SUM($F25:NX25)+0.1<SUM($G11:NX11)),SUM($G11:NX11)/$E25,0),)","v":0},{"$f":"IF(NZ$6>0,IF((SUM($F25:NY25)+0.1<SUM($G11:NY11)),SUM($G11:NY11)/$E25,0),)","v":0},{"$f":"IF(OA$6>0,IF((SUM($F25:NZ25)+0.1<SUM($G11:NZ11)),SUM($G11:NZ11)/$E25,0),)","v":0},{"$f":"IF(OB$6>0,IF((SUM($F25:OA25)+0.1<SUM($G11:OA11)),SUM($G11:OA11)/$E25,0),)","v":0},{"$f":"IF(OC$6>0,IF((SUM($F25:OB25)+0.1<SUM($G11:OB11)),SUM($G11:OB11)/$E25,0),)","v":0},{"$f":"IF(OD$6>0,IF((SUM($F25:OC25)+0.1<SUM($G11:OC11)),SUM($G11:OC11)/$E25,0),)","v":0},{"$f":"IF(OE$6>0,IF((SUM($F25:OD25)+0.1<SUM($G11:OD11)),SUM($G11:OD11)/$E25,0),)","v":0},{"$f":"IF(OF$6>0,IF((SUM($F25:OE25)+0.1<SUM($G11:OE11)),SUM($G11:OE11)/$E25,0),)","v":0},{"$f":"IF(OG$6>0,IF((SUM($F25:OF25)+0.1<SUM($G11:OF11)),SUM($G11:OF11)/$E25,0),)","v":0},{"$f":"IF(OH$6>0,IF((SUM($F25:OG25)+0.1<SUM($G11:OG11)),SUM($G11:OG11)/$E25,0),)","v":0},{"$f":"IF(OI$6>0,IF((SUM($F25:OH25)+0.1<SUM($G11:OH11)),SUM($G11:OH11)/$E25,0),)","v":0},{"$f":"IF(OJ$6>0,IF((SUM($F25:OI25)+0.1<SUM($G11:OI11)),SUM($G11:OI11)/$E25,0),)","v":0},{"$f":"IF(OK$6>0,IF((SUM($F25:OJ25)+0.1<SUM($G11:OJ11)),SUM($G11:OJ11)/$E25,0),)","v":0},{"$f":"IF(OL$6>0,IF((SUM($F25:OK25)+0.1<SUM($G11:OK11)),SUM($G11:OK11)/$E25,0),)","v":0},{"$f":"IF(OM$6>0,IF((SUM($F25:OL25)+0.1<SUM($G11:OL11)),SUM($G11:OL11)/$E25,0),)","v":0},{"$f":"IF(ON$6>0,IF((SUM($F25:OM25)+0.1<SUM($G11:OM11)),SUM($G11:OM11)/$E25,0),)","v":0},{"$f":"IF(OO$6>0,IF((SUM($F25:ON25)+0.1<SUM($G11:ON11)),SUM($G11:ON11)/$E25,0),)","v":0},{"$f":"IF(OP$6>0,IF((SUM($F25:OO25)+0.1<SUM($G11:OO11)),SUM($G11:OO11)/$E25,0),)","v":0},{"$f":"IF(OQ$6>0,IF((SUM($F25:OP25)+0.1<SUM($G11:OP11)),SUM($G11:OP11)/$E25,0),)","v":0},{"$f":"IF(OR$6>0,IF((SUM($F25:OQ25)+0.1<SUM($G11:OQ11)),SUM($G11:OQ11)/$E25,0),)","v":0},{"$f":"IF(OS$6>0,IF((SUM($F25:OR25)+0.1<SUM($G11:OR11)),SUM($G11:OR11)/$E25,0),)","v":0},{"$f":"IF(OT$6>0,IF((SUM($F25:OS25)+0.1<SUM($G11:OS11)),SUM($G11:OS11)/$E25,0),)","v":0},{"$f":"IF(OU$6>0,IF((SUM($F25:OT25)+0.1<SUM($G11:OT11)),SUM($G11:OT11)/$E25,0),)","v":0},{"$f":"IF(OV$6>0,IF((SUM($F25:OU25)+0.1<SUM($G11:OU11)),SUM($G11:OU11)/$E25,0),)","v":0},{"$f":"IF(OW$6>0,IF((SUM($F25:OV25)+0.1<SUM($G11:OV11)),SUM($G11:OV11)/$E25,0),)","v":0},{"$f":"IF(OX$6>0,IF((SUM($F25:OW25)+0.1<SUM($G11:OW11)),SUM($G11:OW11)/$E25,0),)","v":0},{"$f":"IF(OY$6>0,IF((SUM($F25:OX25)+0.1<SUM($G11:OX11)),SUM($G11:OX11)/$E25,0),)","v":0},{"$f":"IF(OZ$6>0,IF((SUM($F25:OY25)+0.1<SUM($G11:OY11)),SUM($G11:OY11)/$E25,0),)","v":0},{"$f":"IF(PA$6>0,IF((SUM($F25:OZ25)+0.1<SUM($G11:OZ11)),SUM($G11:OZ11)/$E25,0),)","v":0},{"$f":"IF(PB$6>0,IF((SUM($F25:PA25)+0.1<SUM($G11:PA11)),SUM($G11:PA11)/$E25,0),)","v":0},{"$f":"IF(PC$6>0,IF((SUM($F25:PB25)+0.1<SUM($G11:PB11)),SUM($G11:PB11)/$E25,0),)","v":0},{"$f":"IF(PD$6>0,IF((SUM($F25:PC25)+0.1<SUM($G11:PC11)),SUM($G11:PC11)/$E25,0),)","v":0},{"$f":"IF(PE$6>0,IF((SUM($F25:PD25)+0.1<SUM($G11:PD11)),SUM($G11:PD11)/$E25,0),)","v":0},{"$f":"IF(PF$6>0,IF((SUM($F25:PE25)+0.1<SUM($G11:PE11)),SUM($G11:PE11)/$E25,0),)","v":0},{"$f":"IF(PG$6>0,IF((SUM($F25:PF25)+0.1<SUM($G11:PF11)),SUM($G11:PF11)/$E25,0),)","v":0},{"$f":"IF(PH$6>0,IF((SUM($F25:PG25)+0.1<SUM($G11:PG11)),SUM($G11:PG11)/$E25,0),)","v":0},{"$f":"IF(PI$6>0,IF((SUM($F25:PH25)+0.1<SUM($G11:PH11)),SUM($G11:PH11)/$E25,0),)","v":0},{"$f":"IF(PJ$6>0,IF((SUM($F25:PI25)+0.1<SUM($G11:PI11)),SUM($G11:PI11)/$E25,0),)","v":0},{"$f":"IF(PK$6>0,IF((SUM($F25:PJ25)+0.1<SUM($G11:PJ11)),SUM($G11:PJ11)/$E25,0),)","v":0},{"$f":"IF(PL$6>0,IF((SUM($F25:PK25)+0.1<SUM($G11:PK11)),SUM($G11:PK11)/$E25,0),)","v":0},{"$f":"IF(PM$6>0,IF((SUM($F25:PL25)+0.1<SUM($G11:PL11)),SUM($G11:PL11)/$E25,0),)","v":0},{"$f":"IF(PN$6>0,IF((SUM($F25:PM25)+0.1<SUM($G11:PM11)),SUM($G11:PM11)/$E25,0),)","v":0},{"$f":"IF(PO$6>0,IF((SUM($F25:PN25)+0.1<SUM($G11:PN11)),SUM($G11:PN11)/$E25,0),)","v":0},{"$f":"IF(PP$6>0,IF((SUM($F25:PO25)+0.1<SUM($G11:PO11)),SUM($G11:PO11)/$E25,0),)","v":0},{"$f":"IF(PQ$6>0,IF((SUM($F25:PP25)+0.1<SUM($G11:PP11)),SUM($G11:PP11)/$E25,0),)","v":0},{"$f":"IF(PR$6>0,IF((SUM($F25:PQ25)+0.1<SUM($G11:PQ11)),SUM($G11:PQ11)/$E25,0),)","v":0},{"$f":"IF(PS$6>0,IF((SUM($F25:PR25)+0.1<SUM($G11:PR11)),SUM($G11:PR11)/$E25,0),)","v":0},{"$f":"IF(PT$6>0,IF((SUM($F25:PS25)+0.1<SUM($G11:PS11)),SUM($G11:PS11)/$E25,0),)","v":0},{"$f":"IF(PU$6>0,IF((SUM($F25:PT25)+0.1<SUM($G11:PT11)),SUM($G11:PT11)/$E25,0),)","v":0},{"$f":"IF(PV$6>0,IF((SUM($F25:PU25)+0.1<SUM($G11:PU11)),SUM($G11:PU11)/$E25,0),)","v":0},{"$f":"IF(PW$6>0,IF((SUM($F25:PV25)+0.1<SUM($G11:PV11)),SUM($G11:PV11)/$E25,0),)","v":0},{"$f":"IF(PX$6>0,IF((SUM($F25:PW25)+0.1<SUM($G11:PW11)),SUM($G11:PW11)/$E25,0),)","v":0},{"$f":"IF(PY$6>0,IF((SUM($F25:PX25)+0.1<SUM($G11:PX11)),SUM($G11:PX11)/$E25,0),)","v":0},{"$f":"IF(PZ$6>0,IF((SUM($F25:PY25)+0.1<SUM($G11:PY11)),SUM($G11:PY11)/$E25,0),)","v":0},{"$f":"IF(QA$6>0,IF((SUM($F25:PZ25)+0.1<SUM($G11:PZ11)),SUM($G11:PZ11)/$E25,0),)","v":0},{"$f":"IF(QB$6>0,IF((SUM($F25:QA25)+0.1<SUM($G11:QA11)),SUM($G11:QA11)/$E25,0),)","v":0},{"$f":"IF(QC$6>0,IF((SUM($F25:QB25)+0.1<SUM($G11:QB11)),SUM($G11:QB11)/$E25,0),)","v":0},{"$f":"IF(QD$6>0,IF((SUM($F25:QC25)+0.1<SUM($G11:QC11)),SUM($G11:QC11)/$E25,0),)","v":0},{"$f":"IF(QE$6>0,IF((SUM($F25:QD25)+0.1<SUM($G11:QD11)),SUM($G11:QD11)/$E25,0),)","v":0},{"$f":"IF(QF$6>0,IF((SUM($F25:QE25)+0.1<SUM($G11:QE11)),SUM($G11:QE11)/$E25,0),)","v":0},{"$f":"IF(QG$6>0,IF((SUM($F25:QF25)+0.1<SUM($G11:QF11)),SUM($G11:QF11)/$E25,0),)","v":0},{"$f":"IF(QH$6>0,IF((SUM($F25:QG25)+0.1<SUM($G11:QG11)),SUM($G11:QG11)/$E25,0),)","v":0},{"$f":"IF(QI$6>0,IF((SUM($F25:QH25)+0.1<SUM($G11:QH11)),SUM($G11:QH11)/$E25,0),)","v":0},{"$f":"IF(QJ$6>0,IF((SUM($F25:QI25)+0.1<SUM($G11:QI11)),SUM($G11:QI11)/$E25,0),)","v":0},{"$f":"IF(QK$6>0,IF((SUM($F25:QJ25)+0.1<SUM($G11:QJ11)),SUM($G11:QJ11)/$E25,0),)","v":0},{"$f":"IF(QL$6>0,IF((SUM($F25:QK25)+0.1<SUM($G11:QK11)),SUM($G11:QK11)/$E25,0),)","v":0},{"$f":"IF(QM$6>0,IF((SUM($F25:QL25)+0.1<SUM($G11:QL11)),SUM($G11:QL11)/$E25,0),)","v":0},{"$f":"IF(QN$6>0,IF((SUM($F25:QM25)+0.1<SUM($G11:QM11)),SUM($G11:QM11)/$E25,0),)","v":0},{"$f":"IF(QO$6>0,IF((SUM($F25:QN25)+0.1<SUM($G11:QN11)),SUM($G11:QN11)/$E25,0),)","v":0},{"$f":"IF(QP$6>0,IF((SUM($F25:QO25)+0.1<SUM($G11:QO11)),SUM($G11:QO11)/$E25,0),)","v":0},{"$f":"IF(QQ$6>0,IF((SUM($F25:QP25)+0.1<SUM($G11:QP11)),SUM($G11:QP11)/$E25,0),)","v":0},{"$f":"IF(QR$6>0,IF((SUM($F25:QQ25)+0.1<SUM($G11:QQ11)),SUM($G11:QQ11)/$E25,0),)","v":0},{"$f":"IF(QS$6>0,IF((SUM($F25:QR25)+0.1<SUM($G11:QR11)),SUM($G11:QR11)/$E25,0),)","v":0},{"$f":"IF(QT$6>0,IF((SUM($F25:QS25)+0.1<SUM($G11:QS11)),SUM($G11:QS11)/$E25,0),)","v":0},{"$f":"IF(QU$6>0,IF((SUM($F25:QT25)+0.1<SUM($G11:QT11)),SUM($G11:QT11)/$E25,0),)","v":0},{"$f":"IF(QV$6>0,IF((SUM($F25:QU25)+0.1<SUM($G11:QU11)),SUM($G11:QU11)/$E25,0),)","v":0},{"$f":"IF(QW$6>0,IF((SUM($F25:QV25)+0.1<SUM($G11:QV11)),SUM($G11:QV11)/$E25,0),)","v":0},{"$f":"IF(QX$6>0,IF((SUM($F25:QW25)+0.1<SUM($G11:QW11)),SUM($G11:QW11)/$E25,0),)","v":0},{"$f":"IF(QY$6>0,IF((SUM($F25:QX25)+0.1<SUM($G11:QX11)),SUM($G11:QX11)/$E25,0),)","v":0},{"$f":"IF(QZ$6>0,IF((SUM($F25:QY25)+0.1<SUM($G11:QY11)),SUM($G11:QY11)/$E25,0),)","v":0},{"$f":"IF(RA$6>0,IF((SUM($F25:QZ25)+0.1<SUM($G11:QZ11)),SUM($G11:QZ11)/$E25,0),)","v":0},{"$f":"IF(RB$6>0,IF((SUM($F25:RA25)+0.1<SUM($G11:RA11)),SUM($G11:RA11)/$E25,0),)","v":0},{"$f":"IF(RC$6>0,IF((SUM($F25:RB25)+0.1<SUM($G11:RB11)),SUM($G11:RB11)/$E25,0),)","v":0},{"$f":"IF(RD$6>0,IF((SUM($F25:RC25)+0.1<SUM($G11:RC11)),SUM($G11:RC11)/$E25,0),)","v":0},{"$f":"IF(RE$6>0,IF((SUM($F25:RD25)+0.1<SUM($G11:RD11)),SUM($G11:RD11)/$E25,0),)","v":0},{"$f":"IF(RF$6>0,IF((SUM($F25:RE25)+0.1<SUM($G11:RE11)),SUM($G11:RE11)/$E25,0),)","v":0}]
[null,{"$f":"+B12","v":0},0,0,0,null,{"$f":"IF(G$6>0,IF((SUM($F26:F26)+0.1<$C26),$C26/$E26,0),)","v":0},{"$f":"IF(H$6>0,IF((SUM($F26:G26)+0.1<SUM($G12:G12)),SUM($G12:G12)/$E26,0),)","v":0},{"$f":"IF(I$6>0,IF((SUM($F26:H26)+0.1<SUM($G12:H12)),SUM($G12:H12)/$E26,0),)","v":0},{"$f":"IF(J$6>0,IF((SUM($F26:I26)+0.1<SUM($G12:I12)),SUM($G12:I12)/$E26,0),)","v":0},{"$f":"IF(K$6>0,IF((SUM($F26:J26)+0.1<SUM($G12:J12)),SUM($G12:J12)/$E26,0),)","v":0},{"$f":"IF(L$6>0,IF((SUM($F26:K26)+0.1<SUM($G12:K12)),SUM($G12:K12)/$E26,0),)","v":0},{"$f":"IF(M$6>0,IF((SUM($F26:L26)+0.1<SUM($G12:L12)),SUM($G12:L12)/$E26,0),)","v":0},{"$f":"IF(N$6>0,IF((SUM($F26:M26)+0.1<SUM($G12:M12)),SUM($G12:M12)/$E26,0),)","v":0},{"$f":"IF(O$6>0,IF((SUM($F26:N26)+0.1<SUM($G12:N12)),SUM($G12:N12)/$E26,0),)","v":0},{"$f":"IF(P$6>0,IF((SUM($F26:O26)+0.1<SUM($G12:O12)),SUM($G12:O12)/$E26,0),)","v":0},{"$f":"IF(Q$6>0,IF((SUM($F26:P26)+0.1<SUM($G12:P12)),SUM($G12:P12)/$E26,0),)","v":0},{"$f":"IF(R$6>0,IF((SUM($F26:Q26)+0.1<SUM($G12:Q12)),SUM($G12:Q12)/$E26,0),)","v":0},{"$f":"IF(S$6>0,IF((SUM($F26:R26)+0.1<SUM($G12:R12)),SUM($G12:R12)/$E26,0),)","v":0},{"$f":"IF(T$6>0,IF((SUM($F26:S26)+0.1<SUM($G12:S12)),SUM($G12:S12)/$E26,0),)","v":0},{"$f":"IF(U$6>0,IF((SUM($F26:T26)+0.1<SUM($G12:T12)),SUM($G12:T12)/$E26,0),)","v":0},{"$f":"IF(V$6>0,IF((SUM($F26:U26)+0.1<SUM($G12:U12)),SUM($G12:U12)/$E26,0),)","v":0},{"$f":"IF(W$6>0,IF((SUM($F26:V26)+0.1<SUM($G12:V12)),SUM($G12:V12)/$E26,0),)","v":0},{"$f":"IF(X$6>0,IF((SUM($F26:W26)+0.1<SUM($G12:W12)),SUM($G12:W12)/$E26,0),)","v":0},{"$f":"IF(Y$6>0,IF((SUM($F26:X26)+0.1<SUM($G12:X12)),SUM($G12:X12)/$E26,0),)","v":0},{"$f":"IF(Z$6>0,IF((SUM($F26:Y26)+0.1<SUM($G12:Y12)),SUM($G12:Y12)/$E26,0),)","v":0},{"$f":"IF(AA$6>0,IF((SUM($F26:Z26)+0.1<SUM($G12:Z12)),SUM($G12:Z12)/$E26,0),)","v":0},{"$f":"IF(AB$6>0,IF((SUM($F26:AA26)+0.1<SUM($G12:AA12)),SUM($G12:AA12)/$E26,0),)","v":0},{"$f":"IF(AC$6>0,IF((SUM($F26:AB26)+0.1<SUM($G12:AB12)),SUM($G12:AB12)/$E26,0),)","v":0},{"$f":"IF(AD$6>0,IF((SUM($F26:AC26)+0.1<SUM($G12:AC12)),SUM($G12:AC12)/$E26,0),)","v":0},{"$f":"IF(AE$6>0,IF((SUM($F26:AD26)+0.1<SUM($G12:AD12)),SUM($G12:AD12)/$E26,0),)","v":0},{"$f":"IF(AF$6>0,IF((SUM($F26:AE26)+0.1<SUM($G12:AE12)),SUM($G12:AE12)/$E26,0),)","v":0},{"$f":"IF(AG$6>0,IF((SUM($F26:AF26)+0.1<SUM($G12:AF12)),SUM($G12:AF12)/$E26,0),)","v":0},{"$f":"IF(AH$6>0,IF((SUM($F26:AG26)+0.1<SUM($G12:AG12)),SUM($G12:AG12)/$E26,0),)","v":0},{"$f":"IF(AI$6>0,IF((SUM($F26:AH26)+0.1<SUM($G12:AH12)),SUM($G12:AH12)/$E26,0),)","v":0},{"$f":"IF(AJ$6>0,IF((SUM($F26:AI26)+0.1<SUM($G12:AI12)),SUM($G12:AI12)/$E26,0),)","v":0},{"$f":"IF(AK$6>0,IF((SUM($F26:AJ26)+0.1<SUM($G12:AJ12)),SUM($G12:AJ12)/$E26,0),)","v":0},{"$f":"IF(AL$6>0,IF((SUM($F26:AK26)+0.1<SUM($G12:AK12)),SUM($G12:AK12)/$E26,0),)","v":0},{"$f":"IF(AM$6>0,IF((SUM($F26:AL26)+0.1<SUM($G12:AL12)),SUM($G12:AL12)/$E26,0),)","v":0},{"$f":"IF(AN$6>0,IF((SUM($F26:AM26)+0.1<SUM($G12:AM12)),SUM($G12:AM12)/$E26,0),)","v":0},{"$f":"IF(AO$6>0,IF((SUM($F26:AN26)+0.1<SUM($G12:AN12)),SUM($G12:AN12)/$E26,0),)","v":0},{"$f":"IF(AP$6>0,IF((SUM($F26:AO26)+0.1<SUM($G12:AO12)),SUM($G12:AO12)/$E26,0),)","v":0},{"$f":"IF(AQ$6>0,IF((SUM($F26:AP26)+0.1<SUM($G12:AP12)),SUM($G12:AP12)/$E26,0),)","v":0},{"$f":"IF(AR$6>0,IF((SUM($F26:AQ26)+0.1<SUM($G12:AQ12)),SUM($G12:AQ12)/$E26,0),)","v":0},{"$f":"IF(AS$6>0,IF((SUM($F26:AR26)+0.1<SUM($G12:AR12)),SUM($G12:AR12)/$E26,0),)","v":0},{"$f":"IF(AT$6>0,IF((SUM($F26:AS26)+0.1<SUM($G12:AS12)),SUM($G12:AS12)/$E26,0),)","v":0},{"$f":"IF(AU$6>0,IF((SUM($F26:AT26)+0.1<SUM($G12:AT12)),SUM($G12:AT12)/$E26,0),)","v":0},{"$f":"IF(AV$6>0,IF((SUM($F26:AU26)+0.1<SUM($G12:AU12)),SUM($G12:AU12)/$E26,0),)","v":0},{"$f":"IF(AW$6>0,IF((SUM($F26:AV26)+0.1<SUM($G12:AV12)),SUM($G12:AV12)/$E26,0),)","v":0},{"$f":"IF(AX$6>0,IF((SUM($F26:AW26)+0.1<SUM($G12:AW12)),SUM($G12:AW12)/$E26,0),)","v":0},{"$f":"IF(AY$6>0,IF((SUM($F26:AX26)+0.1<SUM($G12:AX12)),SUM($G12:AX12)/$E26,0),)","v":0},{"$f":"IF(AZ$6>0,IF((SUM($F26:AY26)+0.1<SUM($G12:AY12)),SUM($G12:AY12)/$E26,0),)","v":0},{"$f":"IF(BA$6>0,IF((SUM($F26:AZ26)+0.1<SUM($G12:AZ12)),SUM($G12:AZ12)/$E26,0),)","v":0},{"$f":"IF(BB$6>0,IF((SUM($F26:BA26)+0.1<SUM($G12:BA12)),SUM($G12:BA12)/$E26,0),)","v":0},{"$f":"IF(BC$6>0,IF((SUM($F26:BB26)+0.1<SUM($G12:BB12)),SUM($G12:BB12)/$E26,0),)","v":0},{"$f":"IF(BD$6>0,IF((SUM($F26:BC26)+0.1<SUM($G12:BC12)),SUM($G12:BC12)/$E26,0),)","v":0},{"$f":"IF(BE$6>0,IF((SUM($F26:BD26)+0.1<SUM($G12:BD12)),SUM($G12:BD12)/$E26,0),)","v":0},{"$f":"IF(BF$6>0,IF((SUM($F26:BE26)+0.1<SUM($G12:BE12)),SUM($G12:BE12)/$E26,0),)","v":0},{"$f":"IF(BG$6>0,IF((SUM($F26:BF26)+0.1<SUM($G12:BF12)),SUM($G12:BF12)/$E26,0),)","v":0},{"$f":"IF(BH$6>0,IF((SUM($F26:BG26)+0.1<SUM($G12:BG12)),SUM($G12:BG12)/$E26,0),)","v":0},{"$f":"IF(BI$6>0,IF((SUM($F26:BH26)+0.1<SUM($G12:BH12)),SUM($G12:BH12)/$E26,0),)","v":0},{"$f":"IF(BJ$6>0,IF((SUM($F26:BI26)+0.1<SUM($G12:BI12)),SUM($G12:BI12)/$E26,0),)","v":0},{"$f":"IF(BK$6>0,IF((SUM($F26:BJ26)+0.1<SUM($G12:BJ12)),SUM($G12:BJ12)/$E26,0),)","v":0},{"$f":"IF(BL$6>0,IF((SUM($F26:BK26)+0.1<SUM($G12:BK12)),SUM($G12:BK12)/$E26,0),)","v":0},{"$f":"IF(BM$6>0,IF((SUM($F26:BL26)+0.1<SUM($G12:BL12)),SUM($G12:BL12)/$E26,0),)","v":0},{"$f":"IF(BN$6>0,IF((SUM($F26:BM26)+0.1<SUM($G12:BM12)),SUM($G12:BM12)/$E26,0),)","v":0},{"$f":"IF(BO$6>0,IF((SUM($F26:BN26)+0.1<SUM($G12:BN12)),SUM($G12:BN12)/$E26,0),)","v":0},{"$f":"IF(BP$6>0,IF((SUM($F26:BO26)+0.1<SUM($G12:BO12)),SUM($G12:BO12)/$E26,0),)","v":0},{"$f":"IF(BQ$6>0,IF((SUM($F26:BP26)+0.1<SUM($G12:BP12)),SUM($G12:BP12)/$E26,0),)","v":0},{"$f":"IF(BR$6>0,IF((SUM($F26:BQ26)+0.1<SUM($G12:BQ12)),SUM($G12:BQ12)/$E26,0),)","v":0},{"$f":"IF(BS$6>0,IF((SUM($F26:BR26)+0.1<SUM($G12:BR12)),SUM($G12:BR12)/$E26,0),)","v":0},{"$f":"IF(BT$6>0,IF((SUM($F26:BS26)+0.1<SUM($G12:BS12)),SUM($G12:BS12)/$E26,0),)","v":0},{"$f":"IF(BU$6>0,IF((SUM($F26:BT26)+0.1<SUM($G12:BT12)),SUM($G12:BT12)/$E26,0),)","v":0},{"$f":"IF(BV$6>0,IF((SUM($F26:BU26)+0.1<SUM($G12:BU12)),SUM($G12:BU12)/$E26,0),)","v":0},{"$f":"IF(BW$6>0,IF((SUM($F26:BV26)+0.1<SUM($G12:BV12)),SUM($G12:BV12)/$E26,0),)","v":0},{"$f":"IF(BX$6>0,IF((SUM($F26:BW26)+0.1<SUM($G12:BW12)),SUM($G12:BW12)/$E26,0),)","v":0},{"$f":"IF(BY$6>0,IF((SUM($F26:BX26)+0.1<SUM($G12:BX12)),SUM($G12:BX12)/$E26,0),)","v":0},{"$f":"IF(BZ$6>0,IF((SUM($F26:BY26)+0.1<SUM($G12:BY12)),SUM($G12:BY12)/$E26,0),)","v":0},{"$f":"IF(CA$6>0,IF((SUM($F26:BZ26)+0.1<SUM($G12:BZ12)),SUM($G12:BZ12)/$E26,0),)","v":0},{"$f":"IF(CB$6>0,IF((SUM($F26:CA26)+0.1<SUM($G12:CA12)),SUM($G12:CA12)/$E26,0),)","v":0},{"$f":"IF(CC$6>0,IF((SUM($F26:CB26)+0.1<SUM($G12:CB12)),SUM($G12:CB12)/$E26,0),)","v":0},{"$f":"IF(CD$6>0,IF((SUM($F26:CC26)+0.1<SUM($G12:CC12)),SUM($G12:CC12)/$E26,0),)","v":0},{"$f":"IF(CE$6>0,IF((SUM($F26:CD26)+0.1<SUM($G12:CD12)),SUM($G12:CD12)/$E26,0),)","v":0},{"$f":"IF(CF$6>0,IF((SUM($F26:CE26)+0.1<SUM($G12:CE12)),SUM($G12:CE12)/$E26,0),)","v":0},{"$f":"IF(CG$6>0,IF((SUM($F26:CF26)+0.1<SUM($G12:CF12)),SUM($G12:CF12)/$E26,0),)","v":0},{"$f":"IF(CH$6>0,IF((SUM($F26:CG26)+0.1<SUM($G12:CG12)),SUM($G12:CG12)/$E26,0),)","v":0},{"$f":"IF(CI$6>0,IF((SUM($F26:CH26)+0.1<SUM($G12:CH12)),SUM($G12:CH12)/$E26,0),)","v":0},{"$f":"IF(CJ$6>0,IF((SUM($F26:CI26)+0.1<SUM($G12:CI12)),SUM($G12:CI12)/$E26,0),)","v":0},{"$f":"IF(CK$6>0,IF((SUM($F26:CJ26)+0.1<SUM($G12:CJ12)),SUM($G12:CJ12)/$E26,0),)","v":0},{"$f":"IF(CL$6>0,IF((SUM($F26:CK26)+0.1<SUM($G12:CK12)),SUM($G12:CK12)/$E26,0),)","v":0},{"$f":"IF(CM$6>0,IF((SUM($F26:CL26)+0.1<SUM($G12:CL12)),SUM($G12:CL12)/$E26,0),)","v":0},{"$f":"IF(CN$6>0,IF((SUM($F26:CM26)+0.1<SUM($G12:CM12)),SUM($G12:CM12)/$E26,0),)","v":0},{"$f":"IF(CO$6>0,IF((SUM($F26:CN26)+0.1<SUM($G12:CN12)),SUM($G12:CN12)/$E26,0),)","v":0},{"$f":"IF(CP$6>0,IF((SUM($F26:CO26)+0.1<SUM($G12:CO12)),SUM($G12:CO12)/$E26,0),)","v":0},{"$f":"IF(CQ$6>0,IF((SUM($F26:CP26)+0.1<SUM($G12:CP12)),SUM($G12:CP12)/$E26,0),)","v":0},{"$f":"IF(CR$6>0,IF((SUM($F26:CQ26)+0.1<SUM($G12:CQ12)),SUM($G12:CQ12)/$E26,0),)","v":0},{"$f":"IF(CS$6>0,IF((SUM($F26:CR26)+0.1<SUM($G12:CR12)),SUM($G12:CR12)/$E26,0),)","v":0},{"$f":"IF(CT$6>0,IF((SUM($F26:CS26)+0.1<SUM($G12:CS12)),SUM($G12:CS12)/$E26,0),)","v":0},{"$f":"IF(CU$6>0,IF((SUM($F26:CT26)+0.1<SUM($G12:CT12)),SUM($G12:CT12)/$E26,0),)","v":0},{"$f":"IF(CV$6>0,IF((SUM($F26:CU26)+0.1<SUM($G12:CU12)),SUM($G12:CU12)/$E26,0),)","v":0},{"$f":"IF(CW$6>0,IF((SUM($F26:CV26)+0.1<SUM($G12:CV12)),SUM($G12:CV12)/$E26,0),)","v":0},{"$f":"IF(CX$6>0,IF((SUM($F26:CW26)+0.1<SUM($G12:CW12)),SUM($G12:CW12)/$E26,0),)","v":0},{"$f":"IF(CY$6>0,IF((SUM($F26:CX26)+0.1<SUM($G12:CX12)),SUM($G12:CX12)/$E26,0),)","v":0},{"$f":"IF(CZ$6>0,IF((SUM($F26:CY26)+0.1<SUM($G12:CY12)),SUM($G12:CY12)/$E26,0),)","v":0},{"$f":"IF(DA$6>0,IF((SUM($F26:CZ26)+0.1<SUM($G12:CZ12)),SUM($G12:CZ12)/$E26,0),)","v":0},{"$f":"IF(DB$6>0,IF((SUM($F26:DA26)+0.1<SUM($G12:DA12)),SUM($G12:DA12)/$E26,0),)","v":0},{"$f":"IF(DC$6>0,IF((SUM($F26:DB26)+0.1<SUM($G12:DB12)),SUM($G12:DB12)/$E26,0),)","v":0},{"$f":"IF(DD$6>0,IF((SUM($F26:DC26)+0.1<SUM($G12:DC12)),SUM($G12:DC12)/$E26,0),)","v":0},{"$f":"IF(DE$6>0,IF((SUM($F26:DD26)+0.1<SUM($G12:DD12)),SUM($G12:DD12)/$E26,0),)","v":0},{"$f":"IF(DF$6>0,IF((SUM($F26:DE26)+0.1<SUM($G12:DE12)),SUM($G12:DE12)/$E26,0),)","v":0},{"$f":"IF(DG$6>0,IF((SUM($F26:DF26)+0.1<SUM($G12:DF12)),SUM($G12:DF12)/$E26,0),)","v":0},{"$f":"IF(DH$6>0,IF((SUM($F26:DG26)+0.1<SUM($G12:DG12)),SUM($G12:DG12)/$E26,0),)","v":0},{"$f":"IF(DI$6>0,IF((SUM($F26:DH26)+0.1<SUM($G12:DH12)),SUM($G12:DH12)/$E26,0),)","v":0},{"$f":"IF(DJ$6>0,IF((SUM($F26:DI26)+0.1<SUM($G12:DI12)),SUM($G12:DI12)/$E26,0),)","v":0},{"$f":"IF(DK$6>0,IF((SUM($F26:DJ26)+0.1<SUM($G12:DJ12)),SUM($G12:DJ12)/$E26,0),)","v":0},{"$f":"IF(DL$6>0,IF((SUM($F26:DK26)+0.1<SUM($G12:DK12)),SUM($G12:DK12)/$E26,0),)","v":0},{"$f":"IF(DM$6>0,IF((SUM($F26:DL26)+0.1<SUM($G12:DL12)),SUM($G12:DL12)/$E26,0),)","v":0},{"$f":"IF(DN$6>0,IF((SUM($F26:DM26)+0.1<SUM($G12:DM12)),SUM($G12:DM12)/$E26,0),)","v":0},{"$f":"IF(DO$6>0,IF((SUM($F26:DN26)+0.1<SUM($G12:DN12)),SUM($G12:DN12)/$E26,0),)","v":0},{"$f":"IF(DP$6>0,IF((SUM($F26:DO26)+0.1<SUM($G12:DO12)),SUM($G12:DO12)/$E26,0),)","v":0},{"$f":"IF(DQ$6>0,IF((SUM($F26:DP26)+0.1<SUM($G12:DP12)),SUM($G12:DP12)/$E26,0),)","v":0},{"$f":"IF(DR$6>0,IF((SUM($F26:DQ26)+0.1<SUM($G12:DQ12)),SUM($G12:DQ12)/$E26,0),)","v":0},{"$f":"IF(DS$6>0,IF((SUM($F26:DR26)+0.1<SUM($G12:DR12)),SUM($G12:DR12)/$E26,0),)","v":0},{"$f":"IF(DT$6>0,IF((SUM($F26:DS26)+0.1<SUM($G12:DS12)),SUM($G12:DS12)/$E26,0),)","v":0},{"$f":"IF(DU$6>0,IF((SUM($F26:DT26)+0.1<SUM($G12:DT12)),SUM($G12:DT12)/$E26,0),)","v":0},{"$f":"IF(DV$6>0,IF((SUM($F26:DU26)+0.1<SUM($G12:DU12)),SUM($G12:DU12)/$E26,0),)","v":0},{"$f":"IF(DW$6>0,IF((SUM($F26:DV26)+0.1<SUM($G12:DV12)),SUM($G12:DV12)/$E26,0),)","v":0},{"$f":"IF(DX$6>0,IF((SUM($F26:DW26)+0.1<SUM($G12:DW12)),SUM($G12:DW12)/$E26,0),)","v":0},{"$f":"IF(DY$6>0,IF((SUM($F26:DX26)+0.1<SUM($G12:DX12)),SUM($G12:DX12)/$E26,0),)","v":0},{"$f":"IF(DZ$6>0,IF((SUM($F26:DY26)+0.1<SUM($G12:DY12)),SUM($G12:DY12)/$E26,0),)","v":0},{"$f":"IF(EA$6>0,IF((SUM($F26:DZ26)+0.1<SUM($G12:DZ12)),SUM($G12:DZ12)/$E26,0),)","v":0},{"$f":"IF(EB$6>0,IF((SUM($F26:EA26)+0.1<SUM($G12:EA12)),SUM($G12:EA12)/$E26,0),)","v":0},{"$f":"IF(EC$6>0,IF((SUM($F26:EB26)+0.1<SUM($G12:EB12)),SUM($G12:EB12)/$E26,0),)","v":0},{"$f":"IF(ED$6>0,IF((SUM($F26:EC26)+0.1<SUM($G12:EC12)),SUM($G12:EC12)/$E26,0),)","v":0},{"$f":"IF(EE$6>0,IF((SUM($F26:ED26)+0.1<SUM($G12:ED12)),SUM($G12:ED12)/$E26,0),)","v":0},{"$f":"IF(EF$6>0,IF((SUM($F26:EE26)+0.1<SUM($G12:EE12)),SUM($G12:EE12)/$E26,0),)","v":0},{"$f":"IF(EG$6>0,IF((SUM($F26:EF26)+0.1<SUM($G12:EF12)),SUM($G12:EF12)/$E26,0),)","v":0},{"$f":"IF(EH$6>0,IF((SUM($F26:EG26)+0.1<SUM($G12:EG12)),SUM($G12:EG12)/$E26,0),)","v":0},{"$f":"IF(EI$6>0,IF((SUM($F26:EH26)+0.1<SUM($G12:EH12)),SUM($G12:EH12)/$E26,0),)","v":0},{"$f":"IF(EJ$6>0,IF((SUM($F26:EI26)+0.1<SUM($G12:EI12)),SUM($G12:EI12)/$E26,0),)","v":0},{"$f":"IF(EK$6>0,IF((SUM($F26:EJ26)+0.1<SUM($G12:EJ12)),SUM($G12:EJ12)/$E26,0),)","v":0},{"$f":"IF(EL$6>0,IF((SUM($F26:EK26)+0.1<SUM($G12:EK12)),SUM($G12:EK12)/$E26,0),)","v":0},{"$f":"IF(EM$6>0,IF((SUM($F26:EL26)+0.1<SUM($G12:EL12)),SUM($G12:EL12)/$E26,0),)","v":0},{"$f":"IF(EN$6>0,IF((SUM($F26:EM26)+0.1<SUM($G12:EM12)),SUM($G12:EM12)/$E26,0),)","v":0},{"$f":"IF(EO$6>0,IF((SUM($F26:EN26)+0.1<SUM($G12:EN12)),SUM($G12:EN12)/$E26,0),)","v":0},{"$f":"IF(EP$6>0,IF((SUM($F26:EO26)+0.1<SUM($G12:EO12)),SUM($G12:EO12)/$E26,0),)","v":0},{"$f":"IF(EQ$6>0,IF((SUM($F26:EP26)+0.1<SUM($G12:EP12)),SUM($G12:EP12)/$E26,0),)","v":0},{"$f":"IF(ER$6>0,IF((SUM($F26:EQ26)+0.1<SUM($G12:EQ12)),SUM($G12:EQ12)/$E26,0),)","v":0},{"$f":"IF(ES$6>0,IF((SUM($F26:ER26)+0.1<SUM($G12:ER12)),SUM($G12:ER12)/$E26,0),)","v":0},{"$f":"IF(ET$6>0,IF((SUM($F26:ES26)+0.1<SUM($G12:ES12)),SUM($G12:ES12)/$E26,0),)","v":0},{"$f":"IF(EU$6>0,IF((SUM($F26:ET26)+0.1<SUM($G12:ET12)),SUM($G12:ET12)/$E26,0),)","v":0},{"$f":"IF(EV$6>0,IF((SUM($F26:EU26)+0.1<SUM($G12:EU12)),SUM($G12:EU12)/$E26,0),)","v":0},{"$f":"IF(EW$6>0,IF((SUM($F26:EV26)+0.1<SUM($G12:EV12)),SUM($G12:EV12)/$E26,0),)","v":0},{"$f":"IF(EX$6>0,IF((SUM($F26:EW26)+0.1<SUM($G12:EW12)),SUM($G12:EW12)/$E26,0),)","v":0},{"$f":"IF(EY$6>0,IF((SUM($F26:EX26)+0.1<SUM($G12:EX12)),SUM($G12:EX12)/$E26,0),)","v":0},{"$f":"IF(EZ$6>0,IF((SUM($F26:EY26)+0.1<SUM($G12:EY12)),SUM($G12:EY12)/$E26,0),)","v":0},{"$f":"IF(FA$6>0,IF((SUM($F26:EZ26)+0.1<SUM($G12:EZ12)),SUM($G12:EZ12)/$E26,0),)","v":0},{"$f":"IF(FB$6>0,IF((SUM($F26:FA26)+0.1<SUM($G12:FA12)),SUM($G12:FA12)/$E26,0),)","v":0},{"$f":"IF(FC$6>0,IF((SUM($F26:FB26)+0.1<SUM($G12:FB12)),SUM($G12:FB12)/$E26,0),)","v":0},{"$f":"IF(FD$6>0,IF((SUM($F26:FC26)+0.1<SUM($G12:FC12)),SUM($G12:FC12)/$E26,0),)","v":0},{"$f":"IF(FE$6>0,IF((SUM($F26:FD26)+0.1<SUM($G12:FD12)),SUM($G12:FD12)/$E26,0),)","v":0},{"$f":"IF(FF$6>0,IF((SUM($F26:FE26)+0.1<SUM($G12:FE12)),SUM($G12:FE12)/$E26,0),)","v":0},{"$f":"IF(FG$6>0,IF((SUM($F26:FF26)+0.1<SUM($G12:FF12)),SUM($G12:FF12)/$E26,0),)","v":0},{"$f":"IF(FH$6>0,IF((SUM($F26:FG26)+0.1<SUM($G12:FG12)),SUM($G12:FG12)/$E26,0),)","v":0},{"$f":"IF(FI$6>0,IF((SUM($F26:FH26)+0.1<SUM($G12:FH12)),SUM($G12:FH12)/$E26,0),)","v":0},{"$f":"IF(FJ$6>0,IF((SUM($F26:FI26)+0.1<SUM($G12:FI12)),SUM($G12:FI12)/$E26,0),)","v":0},{"$f":"IF(FK$6>0,IF((SUM($F26:FJ26)+0.1<SUM($G12:FJ12)),SUM($G12:FJ12)/$E26,0),)","v":0},{"$f":"IF(FL$6>0,IF((SUM($F26:FK26)+0.1<SUM($G12:FK12)),SUM($G12:FK12)/$E26,0),)","v":0},{"$f":"IF(FM$6>0,IF((SUM($F26:FL26)+0.1<SUM($G12:FL12)),SUM($G12:FL12)/$E26,0),)","v":0},{"$f":"IF(FN$6>0,IF((SUM($F26:FM26)+0.1<SUM($G12:FM12)),SUM($G12:FM12)/$E26,0),)","v":0},{"$f":"IF(FO$6>0,IF((SUM($F26:FN26)+0.1<SUM($G12:FN12)),SUM($G12:FN12)/$E26,0),)","v":0},{"$f":"IF(FP$6>0,IF((SUM($F26:FO26)+0.1<SUM($G12:FO12)),SUM($G12:FO12)/$E26,0),)","v":0},{"$f":"IF(FQ$6>0,IF((SUM($F26:FP26)+0.1<SUM($G12:FP12)),SUM($G12:FP12)/$E26,0),)","v":0},{"$f":"IF(FR$6>0,IF((SUM($F26:FQ26)+0.1<SUM($G12:FQ12)),SUM($G12:FQ12)/$E26,0),)","v":0},{"$f":"IF(FS$6>0,IF((SUM($F26:FR26)+0.1<SUM($G12:FR12)),SUM($G12:FR12)/$E26,0),)","v":0},{"$f":"IF(FT$6>0,IF((SUM($F26:FS26)+0.1<SUM($G12:FS12)),SUM($G12:FS12)/$E26,0),)","v":0},{"$f":"IF(FU$6>0,IF((SUM($F26:FT26)+0.1<SUM($G12:FT12)),SUM($G12:FT12)/$E26,0),)","v":0},{"$f":"IF(FV$6>0,IF((SUM($F26:FU26)+0.1<SUM($G12:FU12)),SUM($G12:FU12)/$E26,0),)","v":0},{"$f":"IF(FW$6>0,IF((SUM($F26:FV26)+0.1<SUM($G12:FV12)),SUM($G12:FV12)/$E26,0),)","v":0},{"$f":"IF(FX$6>0,IF((SUM($F26:FW26)+0.1<SUM($G12:FW12)),SUM($G12:FW12)/$E26,0),)","v":0},{"$f":"IF(FY$6>0,IF((SUM($F26:FX26)+0.1<SUM($G12:FX12)),SUM($G12:FX12)/$E26,0),)","v":0},{"$f":"IF(FZ$6>0,IF((SUM($F26:FY26)+0.1<SUM($G12:FY12)),SUM($G12:FY12)/$E26,0),)","v":0},{"$f":"IF(GA$6>0,IF((SUM($F26:FZ26)+0.1<SUM($G12:FZ12)),SUM($G12:FZ12)/$E26,0),)","v":0},{"$f":"IF(GB$6>0,IF((SUM($F26:GA26)+0.1<SUM($G12:GA12)),SUM($G12:GA12)/$E26,0),)","v":0},{"$f":"IF(GC$6>0,IF((SUM($F26:GB26)+0.1<SUM($G12:GB12)),SUM($G12:GB12)/$E26,0),)","v":0},{"$f":"IF(GD$6>0,IF((SUM($F26:GC26)+0.1<SUM($G12:GC12)),SUM($G12:GC12)/$E26,0),)","v":0},{"$f":"IF(GE$6>0,IF((SUM($F26:GD26)+0.1<SUM($G12:GD12)),SUM($G12:GD12)/$E26,0),)","v":0},{"$f":"IF(GF$6>0,IF((SUM($F26:GE26)+0.1<SUM($G12:GE12)),SUM($G12:GE12)/$E26,0),)","v":0},{"$f":"IF(GG$6>0,IF((SUM($F26:GF26)+0.1<SUM($G12:GF12)),SUM($G12:GF12)/$E26,0),)","v":0},{"$f":"IF(GH$6>0,IF((SUM($F26:GG26)+0.1<SUM($G12:GG12)),SUM($G12:GG12)/$E26,0),)","v":0},{"$f":"IF(GI$6>0,IF((SUM($F26:GH26)+0.1<SUM($G12:GH12)),SUM($G12:GH12)/$E26,0),)","v":0},{"$f":"IF(GJ$6>0,IF((SUM($F26:GI26)+0.1<SUM($G12:GI12)),SUM($G12:GI12)/$E26,0),)","v":0},{"$f":"IF(GK$6>0,IF((SUM($F26:GJ26)+0.1<SUM($G12:GJ12)),SUM($G12:GJ12)/$E26,0),)","v":0},{"$f":"IF(GL$6>0,IF((SUM($F26:GK26)+0.1<SUM($G12:GK12)),SUM($G12:GK12)/$E26,0),)","v":0},{"$f":"IF(GM$6>0,IF((SUM($F26:GL26)+0.1<SUM($G12:GL12)),SUM($G12:GL12)/$E26,0),)","v":0},{"$f":"IF(GN$6>0,IF((SUM($F26:GM26)+0.1<SUM($G12:GM12)),SUM($G12:GM12)/$E26,0),)","v":0},{"$f":"IF(GO$6>0,IF((SUM($F26:GN26)+0.1<SUM($G12:GN12)),SUM($G12:GN12)/$E26,0),)","v":0},{"$f":"IF(GP$6>0,IF((SUM($F26:GO26)+0.1<SUM($G12:GO12)),SUM($G12:GO12)/$E26,0),)","v":0},{"$f":"IF(GQ$6>0,IF((SUM($F26:GP26)+0.1<SUM($G12:GP12)),SUM($G12:GP12)/$E26,0),)","v":0},{"$f":"IF(GR$6>0,IF((SUM($F26:GQ26)+0.1<SUM($G12:GQ12)),SUM($G12:GQ12)/$E26,0),)","v":0},{"$f":"IF(GS$6>0,IF((SUM($F26:GR26)+0.1<SUM($G12:GR12)),SUM($G12:GR12)/$E26,0),)","v":0},{"$f":"IF(GT$6>0,IF((SUM($F26:GS26)+0.1<SUM($G12:GS12)),SUM($G12:GS12)/$E26,0),)","v":0},{"$f":"IF(GU$6>0,IF((SUM($F26:GT26)+0.1<SUM($G12:GT12)),SUM($G12:GT12)/$E26,0),)","v":0},{"$f":"IF(GV$6>0,IF((SUM($F26:GU26)+0.1<SUM($G12:GU12)),SUM($G12:GU12)/$E26,0),)","v":0},{"$f":"IF(GW$6>0,IF((SUM($F26:GV26)+0.1<SUM($G12:GV12)),SUM($G12:GV12)/$E26,0),)","v":0},{"$f":"IF(GX$6>0,IF((SUM($F26:GW26)+0.1<SUM($G12:GW12)),SUM($G12:GW12)/$E26,0),)","v":0},{"$f":"IF(GY$6>0,IF((SUM($F26:GX26)+0.1<SUM($G12:GX12)),SUM($G12:GX12)/$E26,0),)","v":0},{"$f":"IF(GZ$6>0,IF((SUM($F26:GY26)+0.1<SUM($G12:GY12)),SUM($G12:GY12)/$E26,0),)","v":0},{"$f":"IF(HA$6>0,IF((SUM($F26:GZ26)+0.1<SUM($G12:GZ12)),SUM($G12:GZ12)/$E26,0),)","v":0},{"$f":"IF(HB$6>0,IF((SUM($F26:HA26)+0.1<SUM($G12:HA12)),SUM($G12:HA12)/$E26,0),)","v":0},{"$f":"IF(HC$6>0,IF((SUM($F26:HB26)+0.1<SUM($G12:HB12)),SUM($G12:HB12)/$E26,0),)","v":0},{"$f":"IF(HD$6>0,IF((SUM($F26:HC26)+0.1<SUM($G12:HC12)),SUM($G12:HC12)/$E26,0),)","v":0},{"$f":"IF(HE$6>0,IF((SUM($F26:HD26)+0.1<SUM($G12:HD12)),SUM($G12:HD12)/$E26,0),)","v":0},{"$f":"IF(HF$6>0,IF((SUM($F26:HE26)+0.1<SUM($G12:HE12)),SUM($G12:HE12)/$E26,0),)","v":0},{"$f":"IF(HG$6>0,IF((SUM($F26:HF26)+0.1<SUM($G12:HF12)),SUM($G12:HF12)/$E26,0),)","v":0},{"$f":"IF(HH$6>0,IF((SUM($F26:HG26)+0.1<SUM($G12:HG12)),SUM($G12:HG12)/$E26,0),)","v":0},{"$f":"IF(HI$6>0,IF((SUM($F26:HH26)+0.1<SUM($G12:HH12)),SUM($G12:HH12)/$E26,0),)","v":0},{"$f":"IF(HJ$6>0,IF((SUM($F26:HI26)+0.1<SUM($G12:HI12)),SUM($G12:HI12)/$E26,0),)","v":0},{"$f":"IF(HK$6>0,IF((SUM($F26:HJ26)+0.1<SUM($G12:HJ12)),SUM($G12:HJ12)/$E26,0),)","v":0},{"$f":"IF(HL$6>0,IF((SUM($F26:HK26)+0.1<SUM($G12:HK12)),SUM($G12:HK12)/$E26,0),)","v":0},{"$f":"IF(HM$6>0,IF((SUM($F26:HL26)+0.1<SUM($G12:HL12)),SUM($G12:HL12)/$E26,0),)","v":0},{"$f":"IF(HN$6>0,IF((SUM($F26:HM26)+0.1<SUM($G12:HM12)),SUM($G12:HM12)/$E26,0),)","v":0},{"$f":"IF(HO$6>0,IF((SUM($F26:HN26)+0.1<SUM($G12:HN12)),SUM($G12:HN12)/$E26,0),)","v":0},{"$f":"IF(HP$6>0,IF((SUM($F26:HO26)+0.1<SUM($G12:HO12)),SUM($G12:HO12)/$E26,0),)","v":0},{"$f":"IF(HQ$6>0,IF((SUM($F26:HP26)+0.1<SUM($G12:HP12)),SUM($G12:HP12)/$E26,0),)","v":0},{"$f":"IF(HR$6>0,IF((SUM($F26:HQ26)+0.1<SUM($G12:HQ12)),SUM($G12:HQ12)/$E26,0),)","v":0},{"$f":"IF(HS$6>0,IF((SUM($F26:HR26)+0.1<SUM($G12:HR12)),SUM($G12:HR12)/$E26,0),)","v":0},{"$f":"IF(HT$6>0,IF((SUM($F26:HS26)+0.1<SUM($G12:HS12)),SUM($G12:HS12)/$E26,0),)","v":0},{"$f":"IF(HU$6>0,IF((SUM($F26:HT26)+0.1<SUM($G12:HT12)),SUM($G12:HT12)/$E26,0),)","v":0},{"$f":"IF(HV$6>0,IF((SUM($F26:HU26)+0.1<SUM($G12:HU12)),SUM($G12:HU12)/$E26,0),)","v":0},{"$f":"IF(HW$6>0,IF((SUM($F26:HV26)+0.1<SUM($G12:HV12)),SUM($G12:HV12)/$E26,0),)","v":0},{"$f":"IF(HX$6>0,IF((SUM($F26:HW26)+0.1<SUM($G12:HW12)),SUM($G12:HW12)/$E26,0),)","v":0},{"$f":"IF(HY$6>0,IF((SUM($F26:HX26)+0.1<SUM($G12:HX12)),SUM($G12:HX12)/$E26,0),)","v":0},{"$f":"IF(HZ$6>0,IF((SUM($F26:HY26)+0.1<SUM($G12:HY12)),SUM($G12:HY12)/$E26,0),)","v":0},{"$f":"IF(IA$6>0,IF((SUM($F26:HZ26)+0.1<SUM($G12:HZ12)),SUM($G12:HZ12)/$E26,0),)","v":0},{"$f":"IF(IB$6>0,IF((SUM($F26:IA26)+0.1<SUM($G12:IA12)),SUM($G12:IA12)/$E26,0),)","v":0},{"$f":"IF(IC$6>0,IF((SUM($F26:IB26)+0.1<SUM($G12:IB12)),SUM($G12:IB12)/$E26,0),)","v":0},{"$f":"IF(ID$6>0,IF((SUM($F26:IC26)+0.1<SUM($G12:IC12)),SUM($G12:IC12)/$E26,0),)","v":0},{"$f":"IF(IE$6>0,IF((SUM($F26:ID26)+0.1<SUM($G12:ID12)),SUM($G12:ID12)/$E26,0),)","v":0},{"$f":"IF(IF$6>0,IF((SUM($F26:IE26)+0.1<SUM($G12:IE12)),SUM($G12:IE12)/$E26,0),)","v":0},{"$f":"IF(IG$6>0,IF((SUM($F26:IF26)+0.1<SUM($G12:IF12)),SUM($G12:IF12)/$E26,0),)","v":0},{"$f":"IF(IH$6>0,IF((SUM($F26:IG26)+0.1<SUM($G12:IG12)),SUM($G12:IG12)/$E26,0),)","v":0},{"$f":"IF(II$6>0,IF((SUM($F26:IH26)+0.1<SUM($G12:IH12)),SUM($G12:IH12)/$E26,0),)","v":0},{"$f":"IF(IJ$6>0,IF((SUM($F26:II26)+0.1<SUM($G12:II12)),SUM($G12:II12)/$E26,0),)","v":0},{"$f":"IF(IK$6>0,IF((SUM($F26:IJ26)+0.1<SUM($G12:IJ12)),SUM($G12:IJ12)/$E26,0),)","v":0},{"$f":"IF(IL$6>0,IF((SUM($F26:IK26)+0.1<SUM($G12:IK12)),SUM($G12:IK12)/$E26,0),)","v":0},{"$f":"IF(IM$6>0,IF((SUM($F26:IL26)+0.1<SUM($G12:IL12)),SUM($G12:IL12)/$E26,0),)","v":0},{"$f":"IF(IN$6>0,IF((SUM($F26:IM26)+0.1<SUM($G12:IM12)),SUM($G12:IM12)/$E26,0),)","v":0},{"$f":"IF(IO$6>0,IF((SUM($F26:IN26)+0.1<SUM($G12:IN12)),SUM($G12:IN12)/$E26,0),)","v":0},{"$f":"IF(IP$6>0,IF((SUM($F26:IO26)+0.1<SUM($G12:IO12)),SUM($G12:IO12)/$E26,0),)","v":0},{"$f":"IF(IQ$6>0,IF((SUM($F26:IP26)+0.1<SUM($G12:IP12)),SUM($G12:IP12)/$E26,0),)","v":0},{"$f":"IF(IR$6>0,IF((SUM($F26:IQ26)+0.1<SUM($G12:IQ12)),SUM($G12:IQ12)/$E26,0),)","v":0},{"$f":"IF(IS$6>0,IF((SUM($F26:IR26)+0.1<SUM($G12:IR12)),SUM($G12:IR12)/$E26,0),)","v":0},{"$f":"IF(IT$6>0,IF((SUM($F26:IS26)+0.1<SUM($G12:IS12)),SUM($G12:IS12)/$E26,0),)","v":0},{"$f":"IF(IU$6>0,IF((SUM($F26:IT26)+0.1<SUM($G12:IT12)),SUM($G12:IT12)/$E26,0),)","v":0},{"$f":"IF(IV$6>0,IF((SUM($F26:IU26)+0.1<SUM($G12:IU12)),SUM($G12:IU12)/$E26,0),)","v":0},{"$f":"IF(IW$6>0,IF((SUM($F26:IV26)+0.1<SUM($G12:IV12)),SUM($G12:IV12)/$E26,0),)","v":0},{"$f":"IF(IX$6>0,IF((SUM($F26:IW26)+0.1<SUM($G12:IW12)),SUM($G12:IW12)/$E26,0),)","v":0},{"$f":"IF(IY$6>0,IF((SUM($F26:IX26)+0.1<SUM($G12:IX12)),SUM($G12:IX12)/$E26,0),)","v":0},{"$f":"IF(IZ$6>0,IF((SUM($F26:IY26)+0.1<SUM($G12:IY12)),SUM($G12:IY12)/$E26,0),)","v":0},{"$f":"IF(JA$6>0,IF((SUM($F26:IZ26)+0.1<SUM($G12:IZ12)),SUM($G12:IZ12)/$E26,0),)","v":0},{"$f":"IF(JB$6>0,IF((SUM($F26:JA26)+0.1<SUM($G12:JA12)),SUM($G12:JA12)/$E26,0),)","v":0},{"$f":"IF(JC$6>0,IF((SUM($F26:JB26)+0.1<SUM($G12:JB12)),SUM($G12:JB12)/$E26,0),)","v":0},{"$f":"IF(JD$6>0,IF((SUM($F26:JC26)+0.1<SUM($G12:JC12)),SUM($G12:JC12)/$E26,0),)","v":0},{"$f":"IF(JE$6>0,IF((SUM($F26:JD26)+0.1<SUM($G12:JD12)),SUM($G12:JD12)/$E26,0),)","v":0},{"$f":"IF(JF$6>0,IF((SUM($F26:JE26)+0.1<SUM($G12:JE12)),SUM($G12:JE12)/$E26,0),)","v":0},{"$f":"IF(JG$6>0,IF((SUM($F26:JF26)+0.1<SUM($G12:JF12)),SUM($G12:JF12)/$E26,0),)","v":0},{"$f":"IF(JH$6>0,IF((SUM($F26:JG26)+0.1<SUM($G12:JG12)),SUM($G12:JG12)/$E26,0),)","v":0},{"$f":"IF(JI$6>0,IF((SUM($F26:JH26)+0.1<SUM($G12:JH12)),SUM($G12:JH12)/$E26,0),)","v":0},{"$f":"IF(JJ$6>0,IF((SUM($F26:JI26)+0.1<SUM($G12:JI12)),SUM($G12:JI12)/$E26,0),)","v":0},{"$f":"IF(JK$6>0,IF((SUM($F26:JJ26)+0.1<SUM($G12:JJ12)),SUM($G12:JJ12)/$E26,0),)","v":0},{"$f":"IF(JL$6>0,IF((SUM($F26:JK26)+0.1<SUM($G12:JK12)),SUM($G12:JK12)/$E26,0),)","v":0},{"$f":"IF(JM$6>0,IF((SUM($F26:JL26)+0.1<SUM($G12:JL12)),SUM($G12:JL12)/$E26,0),)","v":0},{"$f":"IF(JN$6>0,IF((SUM($F26:JM26)+0.1<SUM($G12:JM12)),SUM($G12:JM12)/$E26,0),)","v":0},{"$f":"IF(JO$6>0,IF((SUM($F26:JN26)+0.1<SUM($G12:JN12)),SUM($G12:JN12)/$E26,0),)","v":0},{"$f":"IF(JP$6>0,IF((SUM($F26:JO26)+0.1<SUM($G12:JO12)),SUM($G12:JO12)/$E26,0),)","v":0},{"$f":"IF(JQ$6>0,IF((SUM($F26:JP26)+0.1<SUM($G12:JP12)),SUM($G12:JP12)/$E26,0),)","v":0},{"$f":"IF(JR$6>0,IF((SUM($F26:JQ26)+0.1<SUM($G12:JQ12)),SUM($G12:JQ12)/$E26,0),)","v":0},{"$f":"IF(JS$6>0,IF((SUM($F26:JR26)+0.1<SUM($G12:JR12)),SUM($G12:JR12)/$E26,0),)","v":0},{"$f":"IF(JT$6>0,IF((SUM($F26:JS26)+0.1<SUM($G12:JS12)),SUM($G12:JS12)/$E26,0),)","v":0},{"$f":"IF(JU$6>0,IF((SUM($F26:JT26)+0.1<SUM($G12:JT12)),SUM($G12:JT12)/$E26,0),)","v":0},{"$f":"IF(JV$6>0,IF((SUM($F26:JU26)+0.1<SUM($G12:JU12)),SUM($G12:JU12)/$E26,0),)","v":0},{"$f":"IF(JW$6>0,IF((SUM($F26:JV26)+0.1<SUM($G12:JV12)),SUM($G12:JV12)/$E26,0),)","v":0},{"$f":"IF(JX$6>0,IF((SUM($F26:JW26)+0.1<SUM($G12:JW12)),SUM($G12:JW12)/$E26,0),)","v":0},{"$f":"IF(JY$6>0,IF((SUM($F26:JX26)+0.1<SUM($G12:JX12)),SUM($G12:JX12)/$E26,0),)","v":0},{"$f":"IF(JZ$6>0,IF((SUM($F26:JY26)+0.1<SUM($G12:JY12)),SUM($G12:JY12)/$E26,0),)","v":0},{"$f":"IF(KA$6>0,IF((SUM($F26:JZ26)+0.1<SUM($G12:JZ12)),SUM($G12:JZ12)/$E26,0),)","v":0},{"$f":"IF(KB$6>0,IF((SUM($F26:KA26)+0.1<SUM($G12:KA12)),SUM($G12:KA12)/$E26,0),)","v":0},{"$f":"IF(KC$6>0,IF((SUM($F26:KB26)+0.1<SUM($G12:KB12)),SUM($G12:KB12)/$E26,0),)","v":0},{"$f":"IF(KD$6>0,IF((SUM($F26:KC26)+0.1<SUM($G12:KC12)),SUM($G12:KC12)/$E26,0),)","v":0},{"$f":"IF(KE$6>0,IF((SUM($F26:KD26)+0.1<SUM($G12:KD12)),SUM($G12:KD12)/$E26,0),)","v":0},{"$f":"IF(KF$6>0,IF((SUM($F26:KE26)+0.1<SUM($G12:KE12)),SUM($G12:KE12)/$E26,0),)","v":0},{"$f":"IF(KG$6>0,IF((SUM($F26:KF26)+0.1<SUM($G12:KF12)),SUM($G12:KF12)/$E26,0),)","v":0},{"$f":"IF(KH$6>0,IF((SUM($F26:KG26)+0.1<SUM($G12:KG12)),SUM($G12:KG12)/$E26,0),)","v":0},{"$f":"IF(KI$6>0,IF((SUM($F26:KH26)+0.1<SUM($G12:KH12)),SUM($G12:KH12)/$E26,0),)","v":0},{"$f":"IF(KJ$6>0,IF((SUM($F26:KI26)+0.1<SUM($G12:KI12)),SUM($G12:KI12)/$E26,0),)","v":0},{"$f":"IF(KK$6>0,IF((SUM($F26:KJ26)+0.1<SUM($G12:KJ12)),SUM($G12:KJ12)/$E26,0),)","v":0},{"$f":"IF(KL$6>0,IF((SUM($F26:KK26)+0.1<SUM($G12:KK12)),SUM($G12:KK12)/$E26,0),)","v":0},{"$f":"IF(KM$6>0,IF((SUM($F26:KL26)+0.1<SUM($G12:KL12)),SUM($G12:KL12)/$E26,0),)","v":0},{"$f":"IF(KN$6>0,IF((SUM($F26:KM26)+0.1<SUM($G12:KM12)),SUM($G12:KM12)/$E26,0),)","v":0},{"$f":"IF(KO$6>0,IF((SUM($F26:KN26)+0.1<SUM($G12:KN12)),SUM($G12:KN12)/$E26,0),)","v":0},{"$f":"IF(KP$6>0,IF((SUM($F26:KO26)+0.1<SUM($G12:KO12)),SUM($G12:KO12)/$E26,0),)","v":0},{"$f":"IF(KQ$6>0,IF((SUM($F26:KP26)+0.1<SUM($G12:KP12)),SUM($G12:KP12)/$E26,0),)","v":0},{"$f":"IF(KR$6>0,IF((SUM($F26:KQ26)+0.1<SUM($G12:KQ12)),SUM($G12:KQ12)/$E26,0),)","v":0},{"$f":"IF(KS$6>0,IF((SUM($F26:KR26)+0.1<SUM($G12:KR12)),SUM($G12:KR12)/$E26,0),)","v":0},{"$f":"IF(KT$6>0,IF((SUM($F26:KS26)+0.1<SUM($G12:KS12)),SUM($G12:KS12)/$E26,0),)","v":0},{"$f":"IF(KU$6>0,IF((SUM($F26:KT26)+0.1<SUM($G12:KT12)),SUM($G12:KT12)/$E26,0),)","v":0},{"$f":"IF(KV$6>0,IF((SUM($F26:KU26)+0.1<SUM($G12:KU12)),SUM($G12:KU12)/$E26,0),)","v":0},{"$f":"IF(KW$6>0,IF((SUM($F26:KV26)+0.1<SUM($G12:KV12)),SUM($G12:KV12)/$E26,0),)","v":0},{"$f":"IF(KX$6>0,IF((SUM($F26:KW26)+0.1<SUM($G12:KW12)),SUM($G12:KW12)/$E26,0),)","v":0},{"$f":"IF(KY$6>0,IF((SUM($F26:KX26)+0.1<SUM($G12:KX12)),SUM($G12:KX12)/$E26,0),)","v":0},{"$f":"IF(KZ$6>0,IF((SUM($F26:KY26)+0.1<SUM($G12:KY12)),SUM($G12:KY12)/$E26,0),)","v":0},{"$f":"IF(LA$6>0,IF((SUM($F26:KZ26)+0.1<SUM($G12:KZ12)),SUM($G12:KZ12)/$E26,0),)","v":0},{"$f":"IF(LB$6>0,IF((SUM($F26:LA26)+0.1<SUM($G12:LA12)),SUM($G12:LA12)/$E26,0),)","v":0},{"$f":"IF(LC$6>0,IF((SUM($F26:LB26)+0.1<SUM($G12:LB12)),SUM($G12:LB12)/$E26,0),)","v":0},{"$f":"IF(LD$6>0,IF((SUM($F26:LC26)+0.1<SUM($G12:LC12)),SUM($G12:LC12)/$E26,0),)","v":0},{"$f":"IF(LE$6>0,IF((SUM($F26:LD26)+0.1<SUM($G12:LD12)),SUM($G12:LD12)/$E26,0),)","v":0},{"$f":"IF(LF$6>0,IF((SUM($F26:LE26)+0.1<SUM($G12:LE12)),SUM($G12:LE12)/$E26,0),)","v":0},{"$f":"IF(LG$6>0,IF((SUM($F26:LF26)+0.1<SUM($G12:LF12)),SUM($G12:LF12)/$E26,0),)","v":0},{"$f":"IF(LH$6>0,IF((SUM($F26:LG26)+0.1<SUM($G12:LG12)),SUM($G12:LG12)/$E26,0),)","v":0},{"$f":"IF(LI$6>0,IF((SUM($F26:LH26)+0.1<SUM($G12:LH12)),SUM($G12:LH12)/$E26,0),)","v":0},{"$f":"IF(LJ$6>0,IF((SUM($F26:LI26)+0.1<SUM($G12:LI12)),SUM($G12:LI12)/$E26,0),)","v":0},{"$f":"IF(LK$6>0,IF((SUM($F26:LJ26)+0.1<SUM($G12:LJ12)),SUM($G12:LJ12)/$E26,0),)","v":0},{"$f":"IF(LL$6>0,IF((SUM($F26:LK26)+0.1<SUM($G12:LK12)),SUM($G12:LK12)/$E26,0),)","v":0},{"$f":"IF(LM$6>0,IF((SUM($F26:LL26)+0.1<SUM($G12:LL12)),SUM($G12:LL12)/$E26,0),)","v":0},{"$f":"IF(LN$6>0,IF((SUM($F26:LM26)+0.1<SUM($G12:LM12)),SUM($G12:LM12)/$E26,0),)","v":0},{"$f":"IF(LO$6>0,IF((SUM($F26:LN26)+0.1<SUM($G12:LN12)),SUM($G12:LN12)/$E26,0),)","v":0},{"$f":"IF(LP$6>0,IF((SUM($F26:LO26)+0.1<SUM($G12:LO12)),SUM($G12:LO12)/$E26,0),)","v":0},{"$f":"IF(LQ$6>0,IF((SUM($F26:LP26)+0.1<SUM($G12:LP12)),SUM($G12:LP12)/$E26,0),)","v":0},{"$f":"IF(LR$6>0,IF((SUM($F26:LQ26)+0.1<SUM($G12:LQ12)),SUM($G12:LQ12)/$E26,0),)","v":0},{"$f":"IF(LS$6>0,IF((SUM($F26:LR26)+0.1<SUM($G12:LR12)),SUM($G12:LR12)/$E26,0),)","v":0},{"$f":"IF(LT$6>0,IF((SUM($F26:LS26)+0.1<SUM($G12:LS12)),SUM($G12:LS12)/$E26,0),)","v":0},{"$f":"IF(LU$6>0,IF((SUM($F26:LT26)+0.1<SUM($G12:LT12)),SUM($G12:LT12)/$E26,0),)","v":0},{"$f":"IF(LV$6>0,IF((SUM($F26:LU26)+0.1<SUM($G12:LU12)),SUM($G12:LU12)/$E26,0),)","v":0},{"$f":"IF(LW$6>0,IF((SUM($F26:LV26)+0.1<SUM($G12:LV12)),SUM($G12:LV12)/$E26,0),)","v":0},{"$f":"IF(LX$6>0,IF((SUM($F26:LW26)+0.1<SUM($G12:LW12)),SUM($G12:LW12)/$E26,0),)","v":0},{"$f":"IF(LY$6>0,IF((SUM($F26:LX26)+0.1<SUM($G12:LX12)),SUM($G12:LX12)/$E26,0),)","v":0},{"$f":"IF(LZ$6>0,IF((SUM($F26:LY26)+0.1<SUM($G12:LY12)),SUM($G12:LY12)/$E26,0),)","v":0},{"$f":"IF(MA$6>0,IF((SUM($F26:LZ26)+0.1<SUM($G12:LZ12)),SUM($G12:LZ12)/$E26,0),)","v":0},{"$f":"IF(MB$6>0,IF((SUM($F26:MA26)+0.1<SUM($G12:MA12)),SUM($G12:MA12)/$E26,0),)","v":0},{"$f":"IF(MC$6>0,IF((SUM($F26:MB26)+0.1<SUM($G12:MB12)),SUM($G12:MB12)/$E26,0),)","v":0},{"$f":"IF(MD$6>0,IF((SUM($F26:MC26)+0.1<SUM($G12:MC12)),SUM($G12:MC12)/$E26,0),)","v":0},{"$f":"IF(ME$6>0,IF((SUM($F26:MD26)+0.1<SUM($G12:MD12)),SUM($G12:MD12)/$E26,0),)","v":0},{"$f":"IF(MF$6>0,IF((SUM($F26:ME26)+0.1<SUM($G12:ME12)),SUM($G12:ME12)/$E26,0),)","v":0},{"$f":"IF(MG$6>0,IF((SUM($F26:MF26)+0.1<SUM($G12:MF12)),SUM($G12:MF12)/$E26,0),)","v":0},{"$f":"IF(MH$6>0,IF((SUM($F26:MG26)+0.1<SUM($G12:MG12)),SUM($G12:MG12)/$E26,0),)","v":0},{"$f":"IF(MI$6>0,IF((SUM($F26:MH26)+0.1<SUM($G12:MH12)),SUM($G12:MH12)/$E26,0),)","v":0},{"$f":"IF(MJ$6>0,IF((SUM($F26:MI26)+0.1<SUM($G12:MI12)),SUM($G12:MI12)/$E26,0),)","v":0},{"$f":"IF(MK$6>0,IF((SUM($F26:MJ26)+0.1<SUM($G12:MJ12)),SUM($G12:MJ12)/$E26,0),)","v":0},{"$f":"IF(ML$6>0,IF((SUM($F26:MK26)+0.1<SUM($G12:MK12)),SUM($G12:MK12)/$E26,0),)","v":0},{"$f":"IF(MM$6>0,IF((SUM($F26:ML26)+0.1<SUM($G12:ML12)),SUM($G12:ML12)/$E26,0),)","v":0},{"$f":"IF(MN$6>0,IF((SUM($F26:MM26)+0.1<SUM($G12:MM12)),SUM($G12:MM12)/$E26,0),)","v":0},{"$f":"IF(MO$6>0,IF((SUM($F26:MN26)+0.1<SUM($G12:MN12)),SUM($G12:MN12)/$E26,0),)","v":0},{"$f":"IF(MP$6>0,IF((SUM($F26:MO26)+0.1<SUM($G12:MO12)),SUM($G12:MO12)/$E26,0),)","v":0},{"$f":"IF(MQ$6>0,IF((SUM($F26:MP26)+0.1<SUM($G12:MP12)),SUM($G12:MP12)/$E26,0),)","v":0},{"$f":"IF(MR$6>0,IF((SUM($F26:MQ26)+0.1<SUM($G12:MQ12)),SUM($G12:MQ12)/$E26,0),)","v":0},{"$f":"IF(MS$6>0,IF((SUM($F26:MR26)+0.1<SUM($G12:MR12)),SUM($G12:MR12)/$E26,0),)","v":0},{"$f":"IF(MT$6>0,IF((SUM($F26:MS26)+0.1<SUM($G12:MS12)),SUM($G12:MS12)/$E26,0),)","v":0},{"$f":"IF(MU$6>0,IF((SUM($F26:MT26)+0.1<SUM($G12:MT12)),SUM($G12:MT12)/$E26,0),)","v":0},{"$f":"IF(MV$6>0,IF((SUM($F26:MU26)+0.1<SUM($G12:MU12)),SUM($G12:MU12)/$E26,0),)","v":0},{"$f":"IF(MW$6>0,IF((SUM($F26:MV26)+0.1<SUM($G12:MV12)),SUM($G12:MV12)/$E26,0),)","v":0},{"$f":"IF(MX$6>0,IF((SUM($F26:MW26)+0.1<SUM($G12:MW12)),SUM($G12:MW12)/$E26,0),)","v":0},{"$f":"IF(MY$6>0,IF((SUM($F26:MX26)+0.1<SUM($G12:MX12)),SUM($G12:MX12)/$E26,0),)","v":0},{"$f":"IF(MZ$6>0,IF((SUM($F26:MY26)+0.1<SUM($G12:MY12)),SUM($G12:MY12)/$E26,0),)","v":0},{"$f":"IF(NA$6>0,IF((SUM($F26:MZ26)+0.1<SUM($G12:MZ12)),SUM($G12:MZ12)/$E26,0),)","v":0},{"$f":"IF(NB$6>0,IF((SUM($F26:NA26)+0.1<SUM($G12:NA12)),SUM($G12:NA12)/$E26,0),)","v":0},{"$f":"IF(NC$6>0,IF((SUM($F26:NB26)+0.1<SUM($G12:NB12)),SUM($G12:NB12)/$E26,0),)","v":0},{"$f":"IF(ND$6>0,IF((SUM($F26:NC26)+0.1<SUM($G12:NC12)),SUM($G12:NC12)/$E26,0),)","v":0},{"$f":"IF(NE$6>0,IF((SUM($F26:ND26)+0.1<SUM($G12:ND12)),SUM($G12:ND12)/$E26,0),)","v":0},{"$f":"IF(NF$6>0,IF((SUM($F26:NE26)+0.1<SUM($G12:NE12)),SUM($G12:NE12)/$E26,0),)","v":0},{"$f":"IF(NG$6>0,IF((SUM($F26:NF26)+0.1<SUM($G12:NF12)),SUM($G12:NF12)/$E26,0),)","v":0},{"$f":"IF(NH$6>0,IF((SUM($F26:NG26)+0.1<SUM($G12:NG12)),SUM($G12:NG12)/$E26,0),)","v":0},{"$f":"IF(NI$6>0,IF((SUM($F26:NH26)+0.1<SUM($G12:NH12)),SUM($G12:NH12)/$E26,0),)","v":0},{"$f":"IF(NJ$6>0,IF((SUM($F26:NI26)+0.1<SUM($G12:NI12)),SUM($G12:NI12)/$E26,0),)","v":0},{"$f":"IF(NK$6>0,IF((SUM($F26:NJ26)+0.1<SUM($G12:NJ12)),SUM($G12:NJ12)/$E26,0),)","v":0},{"$f":"IF(NL$6>0,IF((SUM($F26:NK26)+0.1<SUM($G12:NK12)),SUM($G12:NK12)/$E26,0),)","v":0},{"$f":"IF(NM$6>0,IF((SUM($F26:NL26)+0.1<SUM($G12:NL12)),SUM($G12:NL12)/$E26,0),)","v":0},{"$f":"IF(NN$6>0,IF((SUM($F26:NM26)+0.1<SUM($G12:NM12)),SUM($G12:NM12)/$E26,0),)","v":0},{"$f":"IF(NO$6>0,IF((SUM($F26:NN26)+0.1<SUM($G12:NN12)),SUM($G12:NN12)/$E26,0),)","v":0},{"$f":"IF(NP$6>0,IF((SUM($F26:NO26)+0.1<SUM($G12:NO12)),SUM($G12:NO12)/$E26,0),)","v":0},{"$f":"IF(NQ$6>0,IF((SUM($F26:NP26)+0.1<SUM($G12:NP12)),SUM($G12:NP12)/$E26,0),)","v":0},{"$f":"IF(NR$6>0,IF((SUM($F26:NQ26)+0.1<SUM($G12:NQ12)),SUM($G12:NQ12)/$E26,0),)","v":0},{"$f":"IF(NS$6>0,IF((SUM($F26:NR26)+0.1<SUM($G12:NR12)),SUM($G12:NR12)/$E26,0),)","v":0},{"$f":"IF(NT$6>0,IF((SUM($F26:NS26)+0.1<SUM($G12:NS12)),SUM($G12:NS12)/$E26,0),)","v":0},{"$f":"IF(NU$6>0,IF((SUM($F26:NT26)+0.1<SUM($G12:NT12)),SUM($G12:NT12)/$E26,0),)","v":0},{"$f":"IF(NV$6>0,IF((SUM($F26:NU26)+0.1<SUM($G12:NU12)),SUM($G12:NU12)/$E26,0),)","v":0},{"$f":"IF(NW$6>0,IF((SUM($F26:NV26)+0.1<SUM($G12:NV12)),SUM($G12:NV12)/$E26,0),)","v":0},{"$f":"IF(NX$6>0,IF((SUM($F26:NW26)+0.1<SUM($G12:NW12)),SUM($G12:NW12)/$E26,0),)","v":0},{"$f":"IF(NY$6>0,IF((SUM($F26:NX26)+0.1<SUM($G12:NX12)),SUM($G12:NX12)/$E26,0),)","v":0},{"$f":"IF(NZ$6>0,IF((SUM($F26:NY26)+0.1<SUM($G12:NY12)),SUM($G12:NY12)/$E26,0),)","v":0},{"$f":"IF(OA$6>0,IF((SUM($F26:NZ26)+0.1<SUM($G12:NZ12)),SUM($G12:NZ12)/$E26,0),)","v":0},{"$f":"IF(OB$6>0,IF((SUM($F26:OA26)+0.1<SUM($G12:OA12)),SUM($G12:OA12)/$E26,0),)","v":0},{"$f":"IF(OC$6>0,IF((SUM($F26:OB26)+0.1<SUM($G12:OB12)),SUM($G12:OB12)/$E26,0),)","v":0},{"$f":"IF(OD$6>0,IF((SUM($F26:OC26)+0.1<SUM($G12:OC12)),SUM($G12:OC12)/$E26,0),)","v":0},{"$f":"IF(OE$6>0,IF((SUM($F26:OD26)+0.1<SUM($G12:OD12)),SUM($G12:OD12)/$E26,0),)","v":0},{"$f":"IF(OF$6>0,IF((SUM($F26:OE26)+0.1<SUM($G12:OE12)),SUM($G12:OE12)/$E26,0),)","v":0},{"$f":"IF(OG$6>0,IF((SUM($F26:OF26)+0.1<SUM($G12:OF12)),SUM($G12:OF12)/$E26,0),)","v":0},{"$f":"IF(OH$6>0,IF((SUM($F26:OG26)+0.1<SUM($G12:OG12)),SUM($G12:OG12)/$E26,0),)","v":0},{"$f":"IF(OI$6>0,IF((SUM($F26:OH26)+0.1<SUM($G12:OH12)),SUM($G12:OH12)/$E26,0),)","v":0},{"$f":"IF(OJ$6>0,IF((SUM($F26:OI26)+0.1<SUM($G12:OI12)),SUM($G12:OI12)/$E26,0),)","v":0},{"$f":"IF(OK$6>0,IF((SUM($F26:OJ26)+0.1<SUM($G12:OJ12)),SUM($G12:OJ12)/$E26,0),)","v":0},{"$f":"IF(OL$6>0,IF((SUM($F26:OK26)+0.1<SUM($G12:OK12)),SUM($G12:OK12)/$E26,0),)","v":0},{"$f":"IF(OM$6>0,IF((SUM($F26:OL26)+0.1<SUM($G12:OL12)),SUM($G12:OL12)/$E26,0),)","v":0},{"$f":"IF(ON$6>0,IF((SUM($F26:OM26)+0.1<SUM($G12:OM12)),SUM($G12:OM12)/$E26,0),)","v":0},{"$f":"IF(OO$6>0,IF((SUM($F26:ON26)+0.1<SUM($G12:ON12)),SUM($G12:ON12)/$E26,0),)","v":0},{"$f":"IF(OP$6>0,IF((SUM($F26:OO26)+0.1<SUM($G12:OO12)),SUM($G12:OO12)/$E26,0),)","v":0},{"$f":"IF(OQ$6>0,IF((SUM($F26:OP26)+0.1<SUM($G12:OP12)),SUM($G12:OP12)/$E26,0),)","v":0},{"$f":"IF(OR$6>0,IF((SUM($F26:OQ26)+0.1<SUM($G12:OQ12)),SUM($G12:OQ12)/$E26,0),)","v":0},{"$f":"IF(OS$6>0,IF((SUM($F26:OR26)+0.1<SUM($G12:OR12)),SUM($G12:OR12)/$E26,0),)","v":0},{"$f":"IF(OT$6>0,IF((SUM($F26:OS26)+0.1<SUM($G12:OS12)),SUM($G12:OS12)/$E26,0),)","v":0},{"$f":"IF(OU$6>0,IF((SUM($F26:OT26)+0.1<SUM($G12:OT12)),SUM($G12:OT12)/$E26,0),)","v":0},{"$f":"IF(OV$6>0,IF((SUM($F26:OU26)+0.1<SUM($G12:OU12)),SUM($G12:OU12)/$E26,0),)","v":0},{"$f":"IF(OW$6>0,IF((SUM($F26:OV26)+0.1<SUM($G12:OV12)),SUM($G12:OV12)/$E26,0),)","v":0},{"$f":"IF(OX$6>0,IF((SUM($F26:OW26)+0.1<SUM($G12:OW12)),SUM($G12:OW12)/$E26,0),)","v":0},{"$f":"IF(OY$6>0,IF((SUM($F26:OX26)+0.1<SUM($G12:OX12)),SUM($G12:OX12)/$E26,0),)","v":0},{"$f":"IF(OZ$6>0,IF((SUM($F26:OY26)+0.1<SUM($G12:OY12)),SUM($G12:OY12)/$E26,0),)","v":0},{"$f":"IF(PA$6>0,IF((SUM($F26:OZ26)+0.1<SUM($G12:OZ12)),SUM($G12:OZ12)/$E26,0),)","v":0},{"$f":"IF(PB$6>0,IF((SUM($F26:PA26)+0.1<SUM($G12:PA12)),SUM($G12:PA12)/$E26,0),)","v":0},{"$f":"IF(PC$6>0,IF((SUM($F26:PB26)+0.1<SUM($G12:PB12)),SUM($G12:PB12)/$E26,0),)","v":0},{"$f":"IF(PD$6>0,IF((SUM($F26:PC26)+0.1<SUM($G12:PC12)),SUM($G12:PC12)/$E26,0),)","v":0},{"$f":"IF(PE$6>0,IF((SUM($F26:PD26)+0.1<SUM($G12:PD12)),SUM($G12:PD12)/$E26,0),)","v":0},{"$f":"IF(PF$6>0,IF((SUM($F26:PE26)+0.1<SUM($G12:PE12)),SUM($G12:PE12)/$E26,0),)","v":0},{"$f":"IF(PG$6>0,IF((SUM($F26:PF26)+0.1<SUM($G12:PF12)),SUM($G12:PF12)/$E26,0),)","v":0},{"$f":"IF(PH$6>0,IF((SUM($F26:PG26)+0.1<SUM($G12:PG12)),SUM($G12:PG12)/$E26,0),)","v":0},{"$f":"IF(PI$6>0,IF((SUM($F26:PH26)+0.1<SUM($G12:PH12)),SUM($G12:PH12)/$E26,0),)","v":0},{"$f":"IF(PJ$6>0,IF((SUM($F26:PI26)+0.1<SUM($G12:PI12)),SUM($G12:PI12)/$E26,0),)","v":0},{"$f":"IF(PK$6>0,IF((SUM($F26:PJ26)+0.1<SUM($G12:PJ12)),SUM($G12:PJ12)/$E26,0),)","v":0},{"$f":"IF(PL$6>0,IF((SUM($F26:PK26)+0.1<SUM($G12:PK12)),SUM($G12:PK12)/$E26,0),)","v":0},{"$f":"IF(PM$6>0,IF((SUM($F26:PL26)+0.1<SUM($G12:PL12)),SUM($G12:PL12)/$E26,0),)","v":0},{"$f":"IF(PN$6>0,IF((SUM($F26:PM26)+0.1<SUM($G12:PM12)),SUM($G12:PM12)/$E26,0),)","v":0},{"$f":"IF(PO$6>0,IF((SUM($F26:PN26)+0.1<SUM($G12:PN12)),SUM($G12:PN12)/$E26,0),)","v":0},{"$f":"IF(PP$6>0,IF((SUM($F26:PO26)+0.1<SUM($G12:PO12)),SUM($G12:PO12)/$E26,0),)","v":0},{"$f":"IF(PQ$6>0,IF((SUM($F26:PP26)+0.1<SUM($G12:PP12)),SUM($G12:PP12)/$E26,0),)","v":0},{"$f":"IF(PR$6>0,IF((SUM($F26:PQ26)+0.1<SUM($G12:PQ12)),SUM($G12:PQ12)/$E26,0),)","v":0},{"$f":"IF(PS$6>0,IF((SUM($F26:PR26)+0.1<SUM($G12:PR12)),SUM($G12:PR12)/$E26,0),)","v":0},{"$f":"IF(PT$6>0,IF((SUM($F26:PS26)+0.1<SUM($G12:PS12)),SUM($G12:PS12)/$E26,0),)","v":0},{"$f":"IF(PU$6>0,IF((SUM($F26:PT26)+0.1<SUM($G12:PT12)),SUM($G12:PT12)/$E26,0),)","v":0},{"$f":"IF(PV$6>0,IF((SUM($F26:PU26)+0.1<SUM($G12:PU12)),SUM($G12:PU12)/$E26,0),)","v":0},{"$f":"IF(PW$6>0,IF((SUM($F26:PV26)+0.1<SUM($G12:PV12)),SUM($G12:PV12)/$E26,0),)","v":0},{"$f":"IF(PX$6>0,IF((SUM($F26:PW26)+0.1<SUM($G12:PW12)),SUM($G12:PW12)/$E26,0),)","v":0},{"$f":"IF(PY$6>0,IF((SUM($F26:PX26)+0.1<SUM($G12:PX12)),SUM($G12:PX12)/$E26,0),)","v":0},{"$f":"IF(PZ$6>0,IF((SUM($F26:PY26)+0.1<SUM($G12:PY12)),SUM($G12:PY12)/$E26,0),)","v":0},{"$f":"IF(QA$6>0,IF((SUM($F26:PZ26)+0.1<SUM($G12:PZ12)),SUM($G12:PZ12)/$E26,0),)","v":0},{"$f":"IF(QB$6>0,IF((SUM($F26:QA26)+0.1<SUM($G12:QA12)),SUM($G12:QA12)/$E26,0),)","v":0},{"$f":"IF(QC$6>0,IF((SUM($F26:QB26)+0.1<SUM($G12:QB12)),SUM($G12:QB12)/$E26,0),)","v":0},{"$f":"IF(QD$6>0,IF((SUM($F26:QC26)+0.1<SUM($G12:QC12)),SUM($G12:QC12)/$E26,0),)","v":0},{"$f":"IF(QE$6>0,IF((SUM($F26:QD26)+0.1<SUM($G12:QD12)),SUM($G12:QD12)/$E26,0),)","v":0},{"$f":"IF(QF$6>0,IF((SUM($F26:QE26)+0.1<SUM($G12:QE12)),SUM($G12:QE12)/$E26,0),)","v":0},{"$f":"IF(QG$6>0,IF((SUM($F26:QF26)+0.1<SUM($G12:QF12)),SUM($G12:QF12)/$E26,0),)","v":0},{"$f":"IF(QH$6>0,IF((SUM($F26:QG26)+0.1<SUM($G12:QG12)),SUM($G12:QG12)/$E26,0),)","v":0},{"$f":"IF(QI$6>0,IF((SUM($F26:QH26)+0.1<SUM($G12:QH12)),SUM($G12:QH12)/$E26,0),)","v":0},{"$f":"IF(QJ$6>0,IF((SUM($F26:QI26)+0.1<SUM($G12:QI12)),SUM($G12:QI12)/$E26,0),)","v":0},{"$f":"IF(QK$6>0,IF((SUM($F26:QJ26)+0.1<SUM($G12:QJ12)),SUM($G12:QJ12)/$E26,0),)","v":0},{"$f":"IF(QL$6>0,IF((SUM($F26:QK26)+0.1<SUM($G12:QK12)),SUM($G12:QK12)/$E26,0),)","v":0},{"$f":"IF(QM$6>0,IF((SUM($F26:QL26)+0.1<SUM($G12:QL12)),SUM($G12:QL12)/$E26,0),)","v":0},{"$f":"IF(QN$6>0,IF((SUM($F26:QM26)+0.1<SUM($G12:QM12)),SUM($G12:QM12)/$E26,0),)","v":0},{"$f":"IF(QO$6>0,IF((SUM($F26:QN26)+0.1<SUM($G12:QN12)),SUM($G12:QN12)/$E26,0),)","v":0},{"$f":"IF(QP$6>0,IF((SUM($F26:QO26)+0.1<SUM($G12:QO12)),SUM($G12:QO12)/$E26,0),)","v":0},{"$f":"IF(QQ$6>0,IF((SUM($F26:QP26)+0.1<SUM($G12:QP12)),SUM($G12:QP12)/$E26,0),)","v":0},{"$f":"IF(QR$6>0,IF((SUM($F26:QQ26)+0.1<SUM($G12:QQ12)),SUM($G12:QQ12)/$E26,0),)","v":0},{"$f":"IF(QS$6>0,IF((SUM($F26:QR26)+0.1<SUM($G12:QR12)),SUM($G12:QR12)/$E26,0),)","v":0},{"$f":"IF(QT$6>0,IF((SUM($F26:QS26)+0.1<SUM($G12:QS12)),SUM($G12:QS12)/$E26,0),)","v":0},{"$f":"IF(QU$6>0,IF((SUM($F26:QT26)+0.1<SUM($G12:QT12)),SUM($G12:QT12)/$E26,0),)","v":0},{"$f":"IF(QV$6>0,IF((SUM($F26:QU26)+0.1<SUM($G12:QU12)),SUM($G12:QU12)/$E26,0),)","v":0},{"$f":"IF(QW$6>0,IF((SUM($F26:QV26)+0.1<SUM($G12:QV12)),SUM($G12:QV12)/$E26,0),)","v":0},{"$f":"IF(QX$6>0,IF((SUM($F26:QW26)+0.1<SUM($G12:QW12)),SUM($G12:QW12)/$E26,0),)","v":0},{"$f":"IF(QY$6>0,IF((SUM($F26:QX26)+0.1<SUM($G12:QX12)),SUM($G12:QX12)/$E26,0),)","v":0},{"$f":"IF(QZ$6>0,IF((SUM($F26:QY26)+0.1<SUM($G12:QY12)),SUM($G12:QY12)/$E26,0),)","v":0},{"$f":"IF(RA$6>0,IF((SUM($F26:QZ26)+0.1<SUM($G12:QZ12)),SUM($G12:QZ12)/$E26,0),)","v":0},{"$f":"IF(RB$6>0,IF((SUM($F26:RA26)+0.1<SUM($G12:RA12)),SUM($G12:RA12)/$E26,0),)","v":0},{"$f":"IF(RC$6>0,IF((SUM($F26:RB26)+0.1<SUM($G12:RB12)),SUM($G12:RB12)/$E26,0),)","v":0},{"$f":"IF(RD$6>0,IF((SUM($F26:RC26)+0.1<SUM($G12:RC12)),SUM($G12:RC12)/$E26,0),)","v":0},{"$f":"IF(RE$6>0,IF((SUM($F26:RD26)+0.1<SUM($G12:RD12)),SUM($G12:RD12)/$E26,0),)","v":0},{"$f":"IF(RF$6>0,IF((SUM($F26:RE26)+0.1<SUM($G12:RE12)),SUM($G12:RE12)/$E26,0),)","v":0}]
[null,0,0,0,0,null,{"$f":"IF(G$6>0,IF((SUM($F27:F27)+0.1<$C27),$C27/$E27,0),)","v":0},{"$f":"IF(H$6>0,IF((SUM($F27:G27)+0.1<SUM($G13:G13)),SUM($G13:G13)/$E27,0),)","v":0},{"$f":"IF(I$6>0,IF((SUM($F27:H27)+0.1<SUM($G13:H13)),SUM($G13:H13)/$E27,0),)","v":0},{"$f":"IF(J$6>0,IF((SUM($F27:I27)+0.1<SUM($G13:I13)),SUM($G13:I13)/$E27,0),)","v":0},{"$f":"IF(K$6>0,IF((SUM($F27:J27)+0.1<SUM($G13:J13)),SUM($G13:J13)/$E27,0),)","v":0},{"$f":"IF(L$6>0,IF((SUM($F27:K27)+0.1<SUM($G13:K13)),SUM($G13:K13)/$E27,0),)","v":0},{"$f":"IF(M$6>0,IF((SUM($F27:L27)+0.1<SUM($G13:L13)),SUM($G13:L13)/$E27,0),)","v":0},{"$f":"IF(N$6>0,IF((SUM($F27:M27)+0.1<SUM($G13:M13)),SUM($G13:M13)/$E27,0),)","v":0},{"$f":"IF(O$6>0,IF((SUM($F27:N27)+0.1<SUM($G13:N13)),SUM($G13:N13)/$E27,0),)","v":0},{"$f":"IF(P$6>0,IF((SUM($F27:O27)+0.1<SUM($G13:O13)),SUM($G13:O13)/$E27,0),)","v":0},{"$f":"IF(Q$6>0,IF((SUM($F27:P27)+0.1<SUM($G13:P13)),SUM($G13:P13)/$E27,0),)","v":0},{"$f":"IF(R$6>0,IF((SUM($F27:Q27)+0.1<SUM($G13:Q13)),SUM($G13:Q13)/$E27,0),)","v":0},{"$f":"IF(S$6>0,IF((SUM($F27:R27)+0.1<SUM($G13:R13)),SUM($G13:R13)/$E27,0),)","v":0},{"$f":"IF(T$6>0,IF((SUM($F27:S27)+0.1<SUM($G13:S13)),SUM($G13:S13)/$E27,0),)","v":0},{"$f":"IF(U$6>0,IF((SUM($F27:T27)+0.1<SUM($G13:T13)),SUM($G13:T13)/$E27,0),)","v":0},{"$f":"IF(V$6>0,IF((SUM($F27:U27)+0.1<SUM($G13:U13)),SUM($G13:U13)/$E27,0),)","v":0},{"$f":"IF(W$6>0,IF((SUM($F27:V27)+0.1<SUM($G13:V13)),SUM($G13:V13)/$E27,0),)","v":0},{"$f":"IF(X$6>0,IF((SUM($F27:W27)+0.1<SUM($G13:W13)),SUM($G13:W13)/$E27,0),)","v":0},{"$f":"IF(Y$6>0,IF((SUM($F27:X27)+0.1<SUM($G13:X13)),SUM($G13:X13)/$E27,0),)","v":0},{"$f":"IF(Z$6>0,IF((SUM($F27:Y27)+0.1<SUM($G13:Y13)),SUM($G13:Y13)/$E27,0),)","v":0},{"$f":"IF(AA$6>0,IF((SUM($F27:Z27)+0.1<SUM($G13:Z13)),SUM($G13:Z13)/$E27,0),)","v":0},{"$f":"IF(AB$6>0,IF((SUM($F27:AA27)+0.1<SUM($G13:AA13)),SUM($G13:AA13)/$E27,0),)","v":0},{"$f":"IF(AC$6>0,IF((SUM($F27:AB27)+0.1<SUM($G13:AB13)),SUM($G13:AB13)/$E27,0),)","v":0},{"$f":"IF(AD$6>0,IF((SUM($F27:AC27)+0.1<SUM($G13:AC13)),SUM($G13:AC13)/$E27,0),)","v":0},{"$f":"IF(AE$6>0,IF((SUM($F27:AD27)+0.1<SUM($G13:AD13)),SUM($G13:AD13)/$E27,0),)","v":0},{"$f":"IF(AF$6>0,IF((SUM($F27:AE27)+0.1<SUM($G13:AE13)),SUM($G13:AE13)/$E27,0),)","v":0},{"$f":"IF(AG$6>0,IF((SUM($F27:AF27)+0.1<SUM($G13:AF13)),SUM($G13:AF13)/$E27,0),)","v":0},{"$f":"IF(AH$6>0,IF((SUM($F27:AG27)+0.1<SUM($G13:AG13)),SUM($G13:AG13)/$E27,0),)","v":0},{"$f":"IF(AI$6>0,IF((SUM($F27:AH27)+0.1<SUM($G13:AH13)),SUM($G13:AH13)/$E27,0),)","v":0},{"$f":"IF(AJ$6>0,IF((SUM($F27:AI27)+0.1<SUM($G13:AI13)),SUM($G13:AI13)/$E27,0),)","v":0},{"$f":"IF(AK$6>0,IF((SUM($F27:AJ27)+0.1<SUM($G13:AJ13)),SUM($G13:AJ13)/$E27,0),)","v":0},{"$f":"IF(AL$6>0,IF((SUM($F27:AK27)+0.1<SUM($G13:AK13)),SUM($G13:AK13)/$E27,0),)","v":0},{"$f":"IF(AM$6>0,IF((SUM($F27:AL27)+0.1<SUM($G13:AL13)),SUM($G13:AL13)/$E27,0),)","v":0},{"$f":"IF(AN$6>0,IF((SUM($F27:AM27)+0.1<SUM($G13:AM13)),SUM($G13:AM13)/$E27,0),)","v":0},{"$f":"IF(AO$6>0,IF((SUM($F27:AN27)+0.1<SUM($G13:AN13)),SUM($G13:AN13)/$E27,0),)","v":0},{"$f":"IF(AP$6>0,IF((SUM($F27:AO27)+0.1<SUM($G13:AO13)),SUM($G13:AO13)/$E27,0),)","v":0},{"$f":"IF(AQ$6>0,IF((SUM($F27:AP27)+0.1<SUM($G13:AP13)),SUM($G13:AP13)/$E27,0),)","v":0},{"$f":"IF(AR$6>0,IF((SUM($F27:AQ27)+0.1<SUM($G13:AQ13)),SUM($G13:AQ13)/$E27,0),)","v":0},{"$f":"IF(AS$6>0,IF((SUM($F27:AR27)+0.1<SUM($G13:AR13)),SUM($G13:AR13)/$E27,0),)","v":0},{"$f":"IF(AT$6>0,IF((SUM($F27:AS27)+0.1<SUM($G13:AS13)),SUM($G13:AS13)/$E27,0),)","v":0},{"$f":"IF(AU$6>0,IF((SUM($F27:AT27)+0.1<SUM($G13:AT13)),SUM($G13:AT13)/$E27,0),)","v":0},{"$f":"IF(AV$6>0,IF((SUM($F27:AU27)+0.1<SUM($G13:AU13)),SUM($G13:AU13)/$E27,0),)","v":0},{"$f":"IF(AW$6>0,IF((SUM($F27:AV27)+0.1<SUM($G13:AV13)),SUM($G13:AV13)/$E27,0),)","v":0},{"$f":"IF(AX$6>0,IF((SUM($F27:AW27)+0.1<SUM($G13:AW13)),SUM($G13:AW13)/$E27,0),)","v":0},{"$f":"IF(AY$6>0,IF((SUM($F27:AX27)+0.1<SUM($G13:AX13)),SUM($G13:AX13)/$E27,0),)","v":0},{"$f":"IF(AZ$6>0,IF((SUM($F27:AY27)+0.1<SUM($G13:AY13)),SUM($G13:AY13)/$E27,0),)","v":0},{"$f":"IF(BA$6>0,IF((SUM($F27:AZ27)+0.1<SUM($G13:AZ13)),SUM($G13:AZ13)/$E27,0),)","v":0},{"$f":"IF(BB$6>0,IF((SUM($F27:BA27)+0.1<SUM($G13:BA13)),SUM($G13:BA13)/$E27,0),)","v":0},{"$f":"IF(BC$6>0,IF((SUM($F27:BB27)+0.1<SUM($G13:BB13)),SUM($G13:BB13)/$E27,0),)","v":0},{"$f":"IF(BD$6>0,IF((SUM($F27:BC27)+0.1<SUM($G13:BC13)),SUM($G13:BC13)/$E27,0),)","v":0},{"$f":"IF(BE$6>0,IF((SUM($F27:BD27)+0.1<SUM($G13:BD13)),SUM($G13:BD13)/$E27,0),)","v":0},{"$f":"IF(BF$6>0,IF((SUM($F27:BE27)+0.1<SUM($G13:BE13)),SUM($G13:BE13)/$E27,0),)","v":0},{"$f":"IF(BG$6>0,IF((SUM($F27:BF27)+0.1<SUM($G13:BF13)),SUM($G13:BF13)/$E27,0),)","v":0},{"$f":"IF(BH$6>0,IF((SUM($F27:BG27)+0.1<SUM($G13:BG13)),SUM($G13:BG13)/$E27,0),)","v":0},{"$f":"IF(BI$6>0,IF((SUM($F27:BH27)+0.1<SUM($G13:BH13)),SUM($G13:BH13)/$E27,0),)","v":0},{"$f":"IF(BJ$6>0,IF((SUM($F27:BI27)+0.1<SUM($G13:BI13)),SUM($G13:BI13)/$E27,0),)","v":0},{"$f":"IF(BK$6>0,IF((SUM($F27:BJ27)+0.1<SUM($G13:BJ13)),SUM($G13:BJ13)/$E27,0),)","v":0},{"$f":"IF(BL$6>0,IF((SUM($F27:BK27)+0.1<SUM($G13:BK13)),SUM($G13:BK13)/$E27,0),)","v":0},{"$f":"IF(BM$6>0,IF((SUM($F27:BL27)+0.1<SUM($G13:BL13)),SUM($G13:BL13)/$E27,0),)","v":0},{"$f":"IF(BN$6>0,IF((SUM($F27:BM27)+0.1<SUM($G13:BM13)),SUM($G13:BM13)/$E27,0),)","v":0},{"$f":"IF(BO$6>0,IF((SUM($F27:BN27)+0.1<SUM($G13:BN13)),SUM($G13:BN13)/$E27,0),)","v":0},{"$f":"IF(BP$6>0,IF((SUM($F27:BO27)+0.1<SUM($G13:BO13)),SUM($G13:BO13)/$E27,0),)","v":0},{"$f":"IF(BQ$6>0,IF((SUM($F27:BP27)+0.1<SUM($G13:BP13)),SUM($G13:BP13)/$E27,0),)","v":0},{"$f":"IF(BR$6>0,IF((SUM($F27:BQ27)+0.1<SUM($G13:BQ13)),SUM($G13:BQ13)/$E27,0),)","v":0},{"$f":"IF(BS$6>0,IF((SUM($F27:BR27)+0.1<SUM($G13:BR13)),SUM($G13:BR13)/$E27,0),)","v":0},{"$f":"IF(BT$6>0,IF((SUM($F27:BS27)+0.1<SUM($G13:BS13)),SUM($G13:BS13)/$E27,0),)","v":0},{"$f":"IF(BU$6>0,IF((SUM($F27:BT27)+0.1<SUM($G13:BT13)),SUM($G13:BT13)/$E27,0),)","v":0},{"$f":"IF(BV$6>0,IF((SUM($F27:BU27)+0.1<SUM($G13:BU13)),SUM($G13:BU13)/$E27,0),)","v":0},{"$f":"IF(BW$6>0,IF((SUM($F27:BV27)+0.1<SUM($G13:BV13)),SUM($G13:BV13)/$E27,0),)","v":0},{"$f":"IF(BX$6>0,IF((SUM($F27:BW27)+0.1<SUM($G13:BW13)),SUM($G13:BW13)/$E27,0),)","v":0},{"$f":"IF(BY$6>0,IF((SUM($F27:BX27)+0.1<SUM($G13:BX13)),SUM($G13:BX13)/$E27,0),)","v":0},{"$f":"IF(BZ$6>0,IF((SUM($F27:BY27)+0.1<SUM($G13:BY13)),SUM($G13:BY13)/$E27,0),)","v":0},{"$f":"IF(CA$6>0,IF((SUM($F27:BZ27)+0.1<SUM($G13:BZ13)),SUM($G13:BZ13)/$E27,0),)","v":0},{"$f":"IF(CB$6>0,IF((SUM($F27:CA27)+0.1<SUM($G13:CA13)),SUM($G13:CA13)/$E27,0),)","v":0},{"$f":"IF(CC$6>0,IF((SUM($F27:CB27)+0.1<SUM($G13:CB13)),SUM($G13:CB13)/$E27,0),)","v":0},{"$f":"IF(CD$6>0,IF((SUM($F27:CC27)+0.1<SUM($G13:CC13)),SUM($G13:CC13)/$E27,0),)","v":0},{"$f":"IF(CE$6>0,IF((SUM($F27:CD27)+0.1<SUM($G13:CD13)),SUM($G13:CD13)/$E27,0),)","v":0},{"$f":"IF(CF$6>0,IF((SUM($F27:CE27)+0.1<SUM($G13:CE13)),SUM($G13:CE13)/$E27,0),)","v":0},{"$f":"IF(CG$6>0,IF((SUM($F27:CF27)+0.1<SUM($G13:CF13)),SUM($G13:CF13)/$E27,0),)","v":0},{"$f":"IF(CH$6>0,IF((SUM($F27:CG27)+0.1<SUM($G13:CG13)),SUM($G13:CG13)/$E27,0),)","v":0},{"$f":"IF(CI$6>0,IF((SUM($F27:CH27)+0.1<SUM($G13:CH13)),SUM($G13:CH13)/$E27,0),)","v":0},{"$f":"IF(CJ$6>0,IF((SUM($F27:CI27)+0.1<SUM($G13:CI13)),SUM($G13:CI13)/$E27,0),)","v":0},{"$f":"IF(CK$6>0,IF((SUM($F27:CJ27)+0.1<SUM($G13:CJ13)),SUM($G13:CJ13)/$E27,0),)","v":0},{"$f":"IF(CL$6>0,IF((SUM($F27:CK27)+0.1<SUM($G13:CK13)),SUM($G13:CK13)/$E27,0),)","v":0},{"$f":"IF(CM$6>0,IF((SUM($F27:CL27)+0.1<SUM($G13:CL13)),SUM($G13:CL13)/$E27,0),)","v":0},{"$f":"IF(CN$6>0,IF((SUM($F27:CM27)+0.1<SUM($G13:CM13)),SUM($G13:CM13)/$E27,0),)","v":0},{"$f":"IF(CO$6>0,IF((SUM($F27:CN27)+0.1<SUM($G13:CN13)),SUM($G13:CN13)/$E27,0),)","v":0},{"$f":"IF(CP$6>0,IF((SUM($F27:CO27)+0.1<SUM($G13:CO13)),SUM($G13:CO13)/$E27,0),)","v":0},{"$f":"IF(CQ$6>0,IF((SUM($F27:CP27)+0.1<SUM($G13:CP13)),SUM($G13:CP13)/$E27,0),)","v":0},{"$f":"IF(CR$6>0,IF((SUM($F27:CQ27)+0.1<SUM($G13:CQ13)),SUM($G13:CQ13)/$E27,0),)","v":0},{"$f":"IF(CS$6>0,IF((SUM($F27:CR27)+0.1<SUM($G13:CR13)),SUM($G13:CR13)/$E27,0),)","v":0},{"$f":"IF(CT$6>0,IF((SUM($F27:CS27)+0.1<SUM($G13:CS13)),SUM($G13:CS13)/$E27,0),)","v":0},{"$f":"IF(CU$6>0,IF((SUM($F27:CT27)+0.1<SUM($G13:CT13)),SUM($G13:CT13)/$E27,0),)","v":0},{"$f":"IF(CV$6>0,IF((SUM($F27:CU27)+0.1<SUM($G13:CU13)),SUM($G13:CU13)/$E27,0),)","v":0},{"$f":"IF(CW$6>0,IF((SUM($F27:CV27)+0.1<SUM($G13:CV13)),SUM($G13:CV13)/$E27,0),)","v":0},{"$f":"IF(CX$6>0,IF((SUM($F27:CW27)+0.1<SUM($G13:CW13)),SUM($G13:CW13)/$E27,0),)","v":0},{"$f":"IF(CY$6>0,IF((SUM($F27:CX27)+0.1<SUM($G13:CX13)),SUM($G13:CX13)/$E27,0),)","v":0},{"$f":"IF(CZ$6>0,IF((SUM($F27:CY27)+0.1<SUM($G13:CY13)),SUM($G13:CY13)/$E27,0),)","v":0},{"$f":"IF(DA$6>0,IF((SUM($F27:CZ27)+0.1<SUM($G13:CZ13)),SUM($G13:CZ13)/$E27,0),)","v":0},{"$f":"IF(DB$6>0,IF((SUM($F27:DA27)+0.1<SUM($G13:DA13)),SUM($G13:DA13)/$E27,0),)","v":0},{"$f":"IF(DC$6>0,IF((SUM($F27:DB27)+0.1<SUM($G13:DB13)),SUM($G13:DB13)/$E27,0),)","v":0},{"$f":"IF(DD$6>0,IF((SUM($F27:DC27)+0.1<SUM($G13:DC13)),SUM($G13:DC13)/$E27,0),)","v":0},{"$f":"IF(DE$6>0,IF((SUM($F27:DD27)+0.1<SUM($G13:DD13)),SUM($G13:DD13)/$E27,0),)","v":0},{"$f":"IF(DF$6>0,IF((SUM($F27:DE27)+0.1<SUM($G13:DE13)),SUM($G13:DE13)/$E27,0),)","v":0},{"$f":"IF(DG$6>0,IF((SUM($F27:DF27)+0.1<SUM($G13:DF13)),SUM($G13:DF13)/$E27,0),)","v":0},{"$f":"IF(DH$6>0,IF((SUM($F27:DG27)+0.1<SUM($G13:DG13)),SUM($G13:DG13)/$E27,0),)","v":0},{"$f":"IF(DI$6>0,IF((SUM($F27:DH27)+0.1<SUM($G13:DH13)),SUM($G13:DH13)/$E27,0),)","v":0},{"$f":"IF(DJ$6>0,IF((SUM($F27:DI27)+0.1<SUM($G13:DI13)),SUM($G13:DI13)/$E27,0),)","v":0},{"$f":"IF(DK$6>0,IF((SUM($F27:DJ27)+0.1<SUM($G13:DJ13)),SUM($G13:DJ13)/$E27,0),)","v":0},{"$f":"IF(DL$6>0,IF((SUM($F27:DK27)+0.1<SUM($G13:DK13)),SUM($G13:DK13)/$E27,0),)","v":0},{"$f":"IF(DM$6>0,IF((SUM($F27:DL27)+0.1<SUM($G13:DL13)),SUM($G13:DL13)/$E27,0),)","v":0},{"$f":"IF(DN$6>0,IF((SUM($F27:DM27)+0.1<SUM($G13:DM13)),SUM($G13:DM13)/$E27,0),)","v":0},{"$f":"IF(DO$6>0,IF((SUM($F27:DN27)+0.1<SUM($G13:DN13)),SUM($G13:DN13)/$E27,0),)","v":0},{"$f":"IF(DP$6>0,IF((SUM($F27:DO27)+0.1<SUM($G13:DO13)),SUM($G13:DO13)/$E27,0),)","v":0},{"$f":"IF(DQ$6>0,IF((SUM($F27:DP27)+0.1<SUM($G13:DP13)),SUM($G13:DP13)/$E27,0),)","v":0},{"$f":"IF(DR$6>0,IF((SUM($F27:DQ27)+0.1<SUM($G13:DQ13)),SUM($G13:DQ13)/$E27,0),)","v":0},{"$f":"IF(DS$6>0,IF((SUM($F27:DR27)+0.1<SUM($G13:DR13)),SUM($G13:DR13)/$E27,0),)","v":0},{"$f":"IF(DT$6>0,IF((SUM($F27:DS27)+0.1<SUM($G13:DS13)),SUM($G13:DS13)/$E27,0),)","v":0},{"$f":"IF(DU$6>0,IF((SUM($F27:DT27)+0.1<SUM($G13:DT13)),SUM($G13:DT13)/$E27,0),)","v":0},{"$f":"IF(DV$6>0,IF((SUM($F27:DU27)+0.1<SUM($G13:DU13)),SUM($G13:DU13)/$E27,0),)","v":0},{"$f":"IF(DW$6>0,IF((SUM($F27:DV27)+0.1<SUM($G13:DV13)),SUM($G13:DV13)/$E27,0),)","v":0},{"$f":"IF(DX$6>0,IF((SUM($F27:DW27)+0.1<SUM($G13:DW13)),SUM($G13:DW13)/$E27,0),)","v":0},{"$f":"IF(DY$6>0,IF((SUM($F27:DX27)+0.1<SUM($G13:DX13)),SUM($G13:DX13)/$E27,0),)","v":0},{"$f":"IF(DZ$6>0,IF((SUM($F27:DY27)+0.1<SUM($G13:DY13)),SUM($G13:DY13)/$E27,0),)","v":0},{"$f":"IF(EA$6>0,IF((SUM($F27:DZ27)+0.1<SUM($G13:DZ13)),SUM($G13:DZ13)/$E27,0),)","v":0},{"$f":"IF(EB$6>0,IF((SUM($F27:EA27)+0.1<SUM($G13:EA13)),SUM($G13:EA13)/$E27,0),)","v":0},{"$f":"IF(EC$6>0,IF((SUM($F27:EB27)+0.1<SUM($G13:EB13)),SUM($G13:EB13)/$E27,0),)","v":0},{"$f":"IF(ED$6>0,IF((SUM($F27:EC27)+0.1<SUM($G13:EC13)),SUM($G13:EC13)/$E27,0),)","v":0},{"$f":"IF(EE$6>0,IF((SUM($F27:ED27)+0.1<SUM($G13:ED13)),SUM($G13:ED13)/$E27,0),)","v":0},{"$f":"IF(EF$6>0,IF((SUM($F27:EE27)+0.1<SUM($G13:EE13)),SUM($G13:EE13)/$E27,0),)","v":0},{"$f":"IF(EG$6>0,IF((SUM($F27:EF27)+0.1<SUM($G13:EF13)),SUM($G13:EF13)/$E27,0),)","v":0},{"$f":"IF(EH$6>0,IF((SUM($F27:EG27)+0.1<SUM($G13:EG13)),SUM($G13:EG13)/$E27,0),)","v":0},{"$f":"IF(EI$6>0,IF((SUM($F27:EH27)+0.1<SUM($G13:EH13)),SUM($G13:EH13)/$E27,0),)","v":0},{"$f":"IF(EJ$6>0,IF((SUM($F27:EI27)+0.1<SUM($G13:EI13)),SUM($G13:EI13)/$E27,0),)","v":0},{"$f":"IF(EK$6>0,IF((SUM($F27:EJ27)+0.1<SUM($G13:EJ13)),SUM($G13:EJ13)/$E27,0),)","v":0},{"$f":"IF(EL$6>0,IF((SUM($F27:EK27)+0.1<SUM($G13:EK13)),SUM($G13:EK13)/$E27,0),)","v":0},{"$f":"IF(EM$6>0,IF((SUM($F27:EL27)+0.1<SUM($G13:EL13)),SUM($G13:EL13)/$E27,0),)","v":0},{"$f":"IF(EN$6>0,IF((SUM($F27:EM27)+0.1<SUM($G13:EM13)),SUM($G13:EM13)/$E27,0),)","v":0},{"$f":"IF(EO$6>0,IF((SUM($F27:EN27)+0.1<SUM($G13:EN13)),SUM($G13:EN13)/$E27,0),)","v":0},{"$f":"IF(EP$6>0,IF((SUM($F27:EO27)+0.1<SUM($G13:EO13)),SUM($G13:EO13)/$E27,0),)","v":0},{"$f":"IF(EQ$6>0,IF((SUM($F27:EP27)+0.1<SUM($G13:EP13)),SUM($G13:EP13)/$E27,0),)","v":0},{"$f":"IF(ER$6>0,IF((SUM($F27:EQ27)+0.1<SUM($G13:EQ13)),SUM($G13:EQ13)/$E27,0),)","v":0},{"$f":"IF(ES$6>0,IF((SUM($F27:ER27)+0.1<SUM($G13:ER13)),SUM($G13:ER13)/$E27,0),)","v":0},{"$f":"IF(ET$6>0,IF((SUM($F27:ES27)+0.1<SUM($G13:ES13)),SUM($G13:ES13)/$E27,0),)","v":0},{"$f":"IF(EU$6>0,IF((SUM($F27:ET27)+0.1<SUM($G13:ET13)),SUM($G13:ET13)/$E27,0),)","v":0},{"$f":"IF(EV$6>0,IF((SUM($F27:EU27)+0.1<SUM($G13:EU13)),SUM($G13:EU13)/$E27,0),)","v":0},{"$f":"IF(EW$6>0,IF((SUM($F27:EV27)+0.1<SUM($G13:EV13)),SUM($G13:EV13)/$E27,0),)","v":0},{"$f":"IF(EX$6>0,IF((SUM($F27:EW27)+0.1<SUM($G13:EW13)),SUM($G13:EW13)/$E27,0),)","v":0},{"$f":"IF(EY$6>0,IF((SUM($F27:EX27)+0.1<SUM($G13:EX13)),SUM($G13:EX13)/$E27,0),)","v":0},{"$f":"IF(EZ$6>0,IF((SUM($F27:EY27)+0.1<SUM($G13:EY13)),SUM($G13:EY13)/$E27,0),)","v":0},{"$f":"IF(FA$6>0,IF((SUM($F27:EZ27)+0.1<SUM($G13:EZ13)),SUM($G13:EZ13)/$E27,0),)","v":0},{"$f":"IF(FB$6>0,IF((SUM($F27:FA27)+0.1<SUM($G13:FA13)),SUM($G13:FA13)/$E27,0),)","v":0},{"$f":"IF(FC$6>0,IF((SUM($F27:FB27)+0.1<SUM($G13:FB13)),SUM($G13:FB13)/$E27,0),)","v":0},{"$f":"IF(FD$6>0,IF((SUM($F27:FC27)+0.1<SUM($G13:FC13)),SUM($G13:FC13)/$E27,0),)","v":0},{"$f":"IF(FE$6>0,IF((SUM($F27:FD27)+0.1<SUM($G13:FD13)),SUM($G13:FD13)/$E27,0),)","v":0},{"$f":"IF(FF$6>0,IF((SUM($F27:FE27)+0.1<SUM($G13:FE13)),SUM($G13:FE13)/$E27,0),)","v":0},{"$f":"IF(FG$6>0,IF((SUM($F27:FF27)+0.1<SUM($G13:FF13)),SUM($G13:FF13)/$E27,0),)","v":0},{"$f":"IF(FH$6>0,IF((SUM($F27:FG27)+0.1<SUM($G13:FG13)),SUM($G13:FG13)/$E27,0),)","v":0},{"$f":"IF(FI$6>0,IF((SUM($F27:FH27)+0.1<SUM($G13:FH13)),SUM($G13:FH13)/$E27,0),)","v":0},{"$f":"IF(FJ$6>0,IF((SUM($F27:FI27)+0.1<SUM($G13:FI13)),SUM($G13:FI13)/$E27,0),)","v":0},{"$f":"IF(FK$6>0,IF((SUM($F27:FJ27)+0.1<SUM($G13:FJ13)),SUM($G13:FJ13)/$E27,0),)","v":0},{"$f":"IF(FL$6>0,IF((SUM($F27:FK27)+0.1<SUM($G13:FK13)),SUM($G13:FK13)/$E27,0),)","v":0},{"$f":"IF(FM$6>0,IF((SUM($F27:FL27)+0.1<SUM($G13:FL13)),SUM($G13:FL13)/$E27,0),)","v":0},{"$f":"IF(FN$6>0,IF((SUM($F27:FM27)+0.1<SUM($G13:FM13)),SUM($G13:FM13)/$E27,0),)","v":0},{"$f":"IF(FO$6>0,IF((SUM($F27:FN27)+0.1<SUM($G13:FN13)),SUM($G13:FN13)/$E27,0),)","v":0},{"$f":"IF(FP$6>0,IF((SUM($F27:FO27)+0.1<SUM($G13:FO13)),SUM($G13:FO13)/$E27,0),)","v":0},{"$f":"IF(FQ$6>0,IF((SUM($F27:FP27)+0.1<SUM($G13:FP13)),SUM($G13:FP13)/$E27,0),)","v":0},{"$f":"IF(FR$6>0,IF((SUM($F27:FQ27)+0.1<SUM($G13:FQ13)),SUM($G13:FQ13)/$E27,0),)","v":0},{"$f":"IF(FS$6>0,IF((SUM($F27:FR27)+0.1<SUM($G13:FR13)),SUM($G13:FR13)/$E27,0),)","v":0},{"$f":"IF(FT$6>0,IF((SUM($F27:FS27)+0.1<SUM($G13:FS13)),SUM($G13:FS13)/$E27,0),)","v":0},{"$f":"IF(FU$6>0,IF((SUM($F27:FT27)+0.1<SUM($G13:FT13)),SUM($G13:FT13)/$E27,0),)","v":0},{"$f":"IF(FV$6>0,IF((SUM($F27:FU27)+0.1<SUM($G13:FU13)),SUM($G13:FU13)/$E27,0),)","v":0},{"$f":"IF(FW$6>0,IF((SUM($F27:FV27)+0.1<SUM($G13:FV13)),SUM($G13:FV13)/$E27,0),)","v":0},{"$f":"IF(FX$6>0,IF((SUM($F27:FW27)+0.1<SUM($G13:FW13)),SUM($G13:FW13)/$E27,0),)","v":0},{"$f":"IF(FY$6>0,IF((SUM($F27:FX27)+0.1<SUM($G13:FX13)),SUM($G13:FX13)/$E27,0),)","v":0},{"$f":"IF(FZ$6>0,IF((SUM($F27:FY27)+0.1<SUM($G13:FY13)),SUM($G13:FY13)/$E27,0),)","v":0},{"$f":"IF(GA$6>0,IF((SUM($F27:FZ27)+0.1<SUM($G13:FZ13)),SUM($G13:FZ13)/$E27,0),)","v":0},{"$f":"IF(GB$6>0,IF((SUM($F27:GA27)+0.1<SUM($G13:GA13)),SUM($G13:GA13)/$E27,0),)","v":0},{"$f":"IF(GC$6>0,IF((SUM($F27:GB27)+0.1<SUM($G13:GB13)),SUM($G13:GB13)/$E27,0),)","v":0},{"$f":"IF(GD$6>0,IF((SUM($F27:GC27)+0.1<SUM($G13:GC13)),SUM($G13:GC13)/$E27,0),)","v":0},{"$f":"IF(GE$6>0,IF((SUM($F27:GD27)+0.1<SUM($G13:GD13)),SUM($G13:GD13)/$E27,0),)","v":0},{"$f":"IF(GF$6>0,IF((SUM($F27:GE27)+0.1<SUM($G13:GE13)),SUM($G13:GE13)/$E27,0),)","v":0},{"$f":"IF(GG$6>0,IF((SUM($F27:GF27)+0.1<SUM($G13:GF13)),SUM($G13:GF13)/$E27,0),)","v":0},{"$f":"IF(GH$6>0,IF((SUM($F27:GG27)+0.1<SUM($G13:GG13)),SUM($G13:GG13)/$E27,0),)","v":0},{"$f":"IF(GI$6>0,IF((SUM($F27:GH27)+0.1<SUM($G13:GH13)),SUM($G13:GH13)/$E27,0),)","v":0},{"$f":"IF(GJ$6>0,IF((SUM($F27:GI27)+0.1<SUM($G13:GI13)),SUM($G13:GI13)/$E27,0),)","v":0},{"$f":"IF(GK$6>0,IF((SUM($F27:GJ27)+0.1<SUM($G13:GJ13)),SUM($G13:GJ13)/$E27,0),)","v":0},{"$f":"IF(GL$6>0,IF((SUM($F27:GK27)+0.1<SUM($G13:GK13)),SUM($G13:GK13)/$E27,0),)","v":0},{"$f":"IF(GM$6>0,IF((SUM($F27:GL27)+0.1<SUM($G13:GL13)),SUM($G13:GL13)/$E27,0),)","v":0},{"$f":"IF(GN$6>0,IF((SUM($F27:GM27)+0.1<SUM($G13:GM13)),SUM($G13:GM13)/$E27,0),)","v":0},{"$f":"IF(GO$6>0,IF((SUM($F27:GN27)+0.1<SUM($G13:GN13)),SUM($G13:GN13)/$E27,0),)","v":0},{"$f":"IF(GP$6>0,IF((SUM($F27:GO27)+0.1<SUM($G13:GO13)),SUM($G13:GO13)/$E27,0),)","v":0},{"$f":"IF(GQ$6>0,IF((SUM($F27:GP27)+0.1<SUM($G13:GP13)),SUM($G13:GP13)/$E27,0),)","v":0},{"$f":"IF(GR$6>0,IF((SUM($F27:GQ27)+0.1<SUM($G13:GQ13)),SUM($G13:GQ13)/$E27,0),)","v":0},{"$f":"IF(GS$6>0,IF((SUM($F27:GR27)+0.1<SUM($G13:GR13)),SUM($G13:GR13)/$E27,0),)","v":0},{"$f":"IF(GT$6>0,IF((SUM($F27:GS27)+0.1<SUM($G13:GS13)),SUM($G13:GS13)/$E27,0),)","v":0},{"$f":"IF(GU$6>0,IF((SUM($F27:GT27)+0.1<SUM($G13:GT13)),SUM($G13:GT13)/$E27,0),)","v":0},{"$f":"IF(GV$6>0,IF((SUM($F27:GU27)+0.1<SUM($G13:GU13)),SUM($G13:GU13)/$E27,0),)","v":0},{"$f":"IF(GW$6>0,IF((SUM($F27:GV27)+0.1<SUM($G13:GV13)),SUM($G13:GV13)/$E27,0),)","v":0},{"$f":"IF(GX$6>0,IF((SUM($F27:GW27)+0.1<SUM($G13:GW13)),SUM($G13:GW13)/$E27,0),)","v":0},{"$f":"IF(GY$6>0,IF((SUM($F27:GX27)+0.1<SUM($G13:GX13)),SUM($G13:GX13)/$E27,0),)","v":0},{"$f":"IF(GZ$6>0,IF((SUM($F27:GY27)+0.1<SUM($G13:GY13)),SUM($G13:GY13)/$E27,0),)","v":0},{"$f":"IF(HA$6>0,IF((SUM($F27:GZ27)+0.1<SUM($G13:GZ13)),SUM($G13:GZ13)/$E27,0),)","v":0},{"$f":"IF(HB$6>0,IF((SUM($F27:HA27)+0.1<SUM($G13:HA13)),SUM($G13:HA13)/$E27,0),)","v":0},{"$f":"IF(HC$6>0,IF((SUM($F27:HB27)+0.1<SUM($G13:HB13)),SUM($G13:HB13)/$E27,0),)","v":0},{"$f":"IF(HD$6>0,IF((SUM($F27:HC27)+0.1<SUM($G13:HC13)),SUM($G13:HC13)/$E27,0),)","v":0},{"$f":"IF(HE$6>0,IF((SUM($F27:HD27)+0.1<SUM($G13:HD13)),SUM($G13:HD13)/$E27,0),)","v":0},{"$f":"IF(HF$6>0,IF((SUM($F27:HE27)+0.1<SUM($G13:HE13)),SUM($G13:HE13)/$E27,0),)","v":0},{"$f":"IF(HG$6>0,IF((SUM($F27:HF27)+0.1<SUM($G13:HF13)),SUM($G13:HF13)/$E27,0),)","v":0},{"$f":"IF(HH$6>0,IF((SUM($F27:HG27)+0.1<SUM($G13:HG13)),SUM($G13:HG13)/$E27,0),)","v":0},{"$f":"IF(HI$6>0,IF((SUM($F27:HH27)+0.1<SUM($G13:HH13)),SUM($G13:HH13)/$E27,0),)","v":0},{"$f":"IF(HJ$6>0,IF((SUM($F27:HI27)+0.1<SUM($G13:HI13)),SUM($G13:HI13)/$E27,0),)","v":0},{"$f":"IF(HK$6>0,IF((SUM($F27:HJ27)+0.1<SUM($G13:HJ13)),SUM($G13:HJ13)/$E27,0),)","v":0},{"$f":"IF(HL$6>0,IF((SUM($F27:HK27)+0.1<SUM($G13:HK13)),SUM($G13:HK13)/$E27,0),)","v":0},{"$f":"IF(HM$6>0,IF((SUM($F27:HL27)+0.1<SUM($G13:HL13)),SUM($G13:HL13)/$E27,0),)","v":0},{"$f":"IF(HN$6>0,IF((SUM($F27:HM27)+0.1<SUM($G13:HM13)),SUM($G13:HM13)/$E27,0),)","v":0},{"$f":"IF(HO$6>0,IF((SUM($F27:HN27)+0.1<SUM($G13:HN13)),SUM($G13:HN13)/$E27,0),)","v":0},{"$f":"IF(HP$6>0,IF((SUM($F27:HO27)+0.1<SUM($G13:HO13)),SUM($G13:HO13)/$E27,0),)","v":0},{"$f":"IF(HQ$6>0,IF((SUM($F27:HP27)+0.1<SUM($G13:HP13)),SUM($G13:HP13)/$E27,0),)","v":0},{"$f":"IF(HR$6>0,IF((SUM($F27:HQ27)+0.1<SUM($G13:HQ13)),SUM($G13:HQ13)/$E27,0),)","v":0},{"$f":"IF(HS$6>0,IF((SUM($F27:HR27)+0.1<SUM($G13:HR13)),SUM($G13:HR13)/$E27,0),)","v":0},{"$f":"IF(HT$6>0,IF((SUM($F27:HS27)+0.1<SUM($G13:HS13)),SUM($G13:HS13)/$E27,0),)","v":0},{"$f":"IF(HU$6>0,IF((SUM($F27:HT27)+0.1<SUM($G13:HT13)),SUM($G13:HT13)/$E27,0),)","v":0},{"$f":"IF(HV$6>0,IF((SUM($F27:HU27)+0.1<SUM($G13:HU13)),SUM($G13:HU13)/$E27,0),)","v":0},{"$f":"IF(HW$6>0,IF((SUM($F27:HV27)+0.1<SUM($G13:HV13)),SUM($G13:HV13)/$E27,0),)","v":0},{"$f":"IF(HX$6>0,IF((SUM($F27:HW27)+0.1<SUM($G13:HW13)),SUM($G13:HW13)/$E27,0),)","v":0},{"$f":"IF(HY$6>0,IF((SUM($F27:HX27)+0.1<SUM($G13:HX13)),SUM($G13:HX13)/$E27,0),)","v":0},{"$f":"IF(HZ$6>0,IF((SUM($F27:HY27)+0.1<SUM($G13:HY13)),SUM($G13:HY13)/$E27,0),)","v":0},{"$f":"IF(IA$6>0,IF((SUM($F27:HZ27)+0.1<SUM($G13:HZ13)),SUM($G13:HZ13)/$E27,0),)","v":0},{"$f":"IF(IB$6>0,IF((SUM($F27:IA27)+0.1<SUM($G13:IA13)),SUM($G13:IA13)/$E27,0),)","v":0},{"$f":"IF(IC$6>0,IF((SUM($F27:IB27)+0.1<SUM($G13:IB13)),SUM($G13:IB13)/$E27,0),)","v":0},{"$f":"IF(ID$6>0,IF((SUM($F27:IC27)+0.1<SUM($G13:IC13)),SUM($G13:IC13)/$E27,0),)","v":0},{"$f":"IF(IE$6>0,IF((SUM($F27:ID27)+0.1<SUM($G13:ID13)),SUM($G13:ID13)/$E27,0),)","v":0},{"$f":"IF(IF$6>0,IF((SUM($F27:IE27)+0.1<SUM($G13:IE13)),SUM($G13:IE13)/$E27,0),)","v":0},{"$f":"IF(IG$6>0,IF((SUM($F27:IF27)+0.1<SUM($G13:IF13)),SUM($G13:IF13)/$E27,0),)","v":0},{"$f":"IF(IH$6>0,IF((SUM($F27:IG27)+0.1<SUM($G13:IG13)),SUM($G13:IG13)/$E27,0),)","v":0},{"$f":"IF(II$6>0,IF((SUM($F27:IH27)+0.1<SUM($G13:IH13)),SUM($G13:IH13)/$E27,0),)","v":0},{"$f":"IF(IJ$6>0,IF((SUM($F27:II27)+0.1<SUM($G13:II13)),SUM($G13:II13)/$E27,0),)","v":0},{"$f":"IF(IK$6>0,IF((SUM($F27:IJ27)+0.1<SUM($G13:IJ13)),SUM($G13:IJ13)/$E27,0),)","v":0},{"$f":"IF(IL$6>0,IF((SUM($F27:IK27)+0.1<SUM($G13:IK13)),SUM($G13:IK13)/$E27,0),)","v":0},{"$f":"IF(IM$6>0,IF((SUM($F27:IL27)+0.1<SUM($G13:IL13)),SUM($G13:IL13)/$E27,0),)","v":0},{"$f":"IF(IN$6>0,IF((SUM($F27:IM27)+0.1<SUM($G13:IM13)),SUM($G13:IM13)/$E27,0),)","v":0},{"$f":"IF(IO$6>0,IF((SUM($F27:IN27)+0.1<SUM($G13:IN13)),SUM($G13:IN13)/$E27,0),)","v":0},{"$f":"IF(IP$6>0,IF((SUM($F27:IO27)+0.1<SUM($G13:IO13)),SUM($G13:IO13)/$E27,0),)","v":0},{"$f":"IF(IQ$6>0,IF((SUM($F27:IP27)+0.1<SUM($G13:IP13)),SUM($G13:IP13)/$E27,0),)","v":0},{"$f":"IF(IR$6>0,IF((SUM($F27:IQ27)+0.1<SUM($G13:IQ13)),SUM($G13:IQ13)/$E27,0),)","v":0},{"$f":"IF(IS$6>0,IF((SUM($F27:IR27)+0.1<SUM($G13:IR13)),SUM($G13:IR13)/$E27,0),)","v":0},{"$f":"IF(IT$6>0,IF((SUM($F27:IS27)+0.1<SUM($G13:IS13)),SUM($G13:IS13)/$E27,0),)","v":0},{"$f":"IF(IU$6>0,IF((SUM($F27:IT27)+0.1<SUM($G13:IT13)),SUM($G13:IT13)/$E27,0),)","v":0},{"$f":"IF(IV$6>0,IF((SUM($F27:IU27)+0.1<SUM($G13:IU13)),SUM($G13:IU13)/$E27,0),)","v":0},{"$f":"IF(IW$6>0,IF((SUM($F27:IV27)+0.1<SUM($G13:IV13)),SUM($G13:IV13)/$E27,0),)","v":0},{"$f":"IF(IX$6>0,IF((SUM($F27:IW27)+0.1<SUM($G13:IW13)),SUM($G13:IW13)/$E27,0),)","v":0},{"$f":"IF(IY$6>0,IF((SUM($F27:IX27)+0.1<SUM($G13:IX13)),SUM($G13:IX13)/$E27,0),)","v":0},{"$f":"IF(IZ$6>0,IF((SUM($F27:IY27)+0.1<SUM($G13:IY13)),SUM($G13:IY13)/$E27,0),)","v":0},{"$f":"IF(JA$6>0,IF((SUM($F27:IZ27)+0.1<SUM($G13:IZ13)),SUM($G13:IZ13)/$E27,0),)","v":0},{"$f":"IF(JB$6>0,IF((SUM($F27:JA27)+0.1<SUM($G13:JA13)),SUM($G13:JA13)/$E27,0),)","v":0},{"$f":"IF(JC$6>0,IF((SUM($F27:JB27)+0.1<SUM($G13:JB13)),SUM($G13:JB13)/$E27,0),)","v":0},{"$f":"IF(JD$6>0,IF((SUM($F27:JC27)+0.1<SUM($G13:JC13)),SUM($G13:JC13)/$E27,0),)","v":0},{"$f":"IF(JE$6>0,IF((SUM($F27:JD27)+0.1<SUM($G13:JD13)),SUM($G13:JD13)/$E27,0),)","v":0},{"$f":"IF(JF$6>0,IF((SUM($F27:JE27)+0.1<SUM($G13:JE13)),SUM($G13:JE13)/$E27,0),)","v":0},{"$f":"IF(JG$6>0,IF((SUM($F27:JF27)+0.1<SUM($G13:JF13)),SUM($G13:JF13)/$E27,0),)","v":0},{"$f":"IF(JH$6>0,IF((SUM($F27:JG27)+0.1<SUM($G13:JG13)),SUM($G13:JG13)/$E27,0),)","v":0},{"$f":"IF(JI$6>0,IF((SUM($F27:JH27)+0.1<SUM($G13:JH13)),SUM($G13:JH13)/$E27,0),)","v":0},{"$f":"IF(JJ$6>0,IF((SUM($F27:JI27)+0.1<SUM($G13:JI13)),SUM($G13:JI13)/$E27,0),)","v":0},{"$f":"IF(JK$6>0,IF((SUM($F27:JJ27)+0.1<SUM($G13:JJ13)),SUM($G13:JJ13)/$E27,0),)","v":0},{"$f":"IF(JL$6>0,IF((SUM($F27:JK27)+0.1<SUM($G13:JK13)),SUM($G13:JK13)/$E27,0),)","v":0},{"$f":"IF(JM$6>0,IF((SUM($F27:JL27)+0.1<SUM($G13:JL13)),SUM($G13:JL13)/$E27,0),)","v":0},{"$f":"IF(JN$6>0,IF((SUM($F27:JM27)+0.1<SUM($G13:JM13)),SUM($G13:JM13)/$E27,0),)","v":0},{"$f":"IF(JO$6>0,IF((SUM($F27:JN27)+0.1<SUM($G13:JN13)),SUM($G13:JN13)/$E27,0),)","v":0},{"$f":"IF(JP$6>0,IF((SUM($F27:JO27)+0.1<SUM($G13:JO13)),SUM($G13:JO13)/$E27,0),)","v":0},{"$f":"IF(JQ$6>0,IF((SUM($F27:JP27)+0.1<SUM($G13:JP13)),SUM($G13:JP13)/$E27,0),)","v":0},{"$f":"IF(JR$6>0,IF((SUM($F27:JQ27)+0.1<SUM($G13:JQ13)),SUM($G13:JQ13)/$E27,0),)","v":0},{"$f":"IF(JS$6>0,IF((SUM($F27:JR27)+0.1<SUM($G13:JR13)),SUM($G13:JR13)/$E27,0),)","v":0},{"$f":"IF(JT$6>0,IF((SUM($F27:JS27)+0.1<SUM($G13:JS13)),SUM($G13:JS13)/$E27,0),)","v":0},{"$f":"IF(JU$6>0,IF((SUM($F27:JT27)+0.1<SUM($G13:JT13)),SUM($G13:JT13)/$E27,0),)","v":0},{"$f":"IF(JV$6>0,IF((SUM($F27:JU27)+0.1<SUM($G13:JU13)),SUM($G13:JU13)/$E27,0),)","v":0},{"$f":"IF(JW$6>0,IF((SUM($F27:JV27)+0.1<SUM($G13:JV13)),SUM($G13:JV13)/$E27,0),)","v":0},{"$f":"IF(JX$6>0,IF((SUM($F27:JW27)+0.1<SUM($G13:JW13)),SUM($G13:JW13)/$E27,0),)","v":0},{"$f":"IF(JY$6>0,IF((SUM($F27:JX27)+0.1<SUM($G13:JX13)),SUM($G13:JX13)/$E27,0),)","v":0},{"$f":"IF(JZ$6>0,IF((SUM($F27:JY27)+0.1<SUM($G13:JY13)),SUM($G13:JY13)/$E27,0),)","v":0},{"$f":"IF(KA$6>0,IF((SUM($F27:JZ27)+0.1<SUM($G13:JZ13)),SUM($G13:JZ13)/$E27,0),)","v":0},{"$f":"IF(KB$6>0,IF((SUM($F27:KA27)+0.1<SUM($G13:KA13)),SUM($G13:KA13)/$E27,0),)","v":0},{"$f":"IF(KC$6>0,IF((SUM($F27:KB27)+0.1<SUM($G13:KB13)),SUM($G13:KB13)/$E27,0),)","v":0},{"$f":"IF(KD$6>0,IF((SUM($F27:KC27)+0.1<SUM($G13:KC13)),SUM($G13:KC13)/$E27,0),)","v":0},{"$f":"IF(KE$6>0,IF((SUM($F27:KD27)+0.1<SUM($G13:KD13)),SUM($G13:KD13)/$E27,0),)","v":0},{"$f":"IF(KF$6>0,IF((SUM($F27:KE27)+0.1<SUM($G13:KE13)),SUM($G13:KE13)/$E27,0),)","v":0},{"$f":"IF(KG$6>0,IF((SUM($F27:KF27)+0.1<SUM($G13:KF13)),SUM($G13:KF13)/$E27,0),)","v":0},{"$f":"IF(KH$6>0,IF((SUM($F27:KG27)+0.1<SUM($G13:KG13)),SUM($G13:KG13)/$E27,0),)","v":0},{"$f":"IF(KI$6>0,IF((SUM($F27:KH27)+0.1<SUM($G13:KH13)),SUM($G13:KH13)/$E27,0),)","v":0},{"$f":"IF(KJ$6>0,IF((SUM($F27:KI27)+0.1<SUM($G13:KI13)),SUM($G13:KI13)/$E27,0),)","v":0},{"$f":"IF(KK$6>0,IF((SUM($F27:KJ27)+0.1<SUM($G13:KJ13)),SUM($G13:KJ13)/$E27,0),)","v":0},{"$f":"IF(KL$6>0,IF((SUM($F27:KK27)+0.1<SUM($G13:KK13)),SUM($G13:KK13)/$E27,0),)","v":0},{"$f":"IF(KM$6>0,IF((SUM($F27:KL27)+0.1<SUM($G13:KL13)),SUM($G13:KL13)/$E27,0),)","v":0},{"$f":"IF(KN$6>0,IF((SUM($F27:KM27)+0.1<SUM($G13:KM13)),SUM($G13:KM13)/$E27,0),)","v":0},{"$f":"IF(KO$6>0,IF((SUM($F27:KN27)+0.1<SUM($G13:KN13)),SUM($G13:KN13)/$E27,0),)","v":0},{"$f":"IF(KP$6>0,IF((SUM($F27:KO27)+0.1<SUM($G13:KO13)),SUM($G13:KO13)/$E27,0),)","v":0},{"$f":"IF(KQ$6>0,IF((SUM($F27:KP27)+0.1<SUM($G13:KP13)),SUM($G13:KP13)/$E27,0),)","v":0},{"$f":"IF(KR$6>0,IF((SUM($F27:KQ27)+0.1<SUM($G13:KQ13)),SUM($G13:KQ13)/$E27,0),)","v":0},{"$f":"IF(KS$6>0,IF((SUM($F27:KR27)+0.1<SUM($G13:KR13)),SUM($G13:KR13)/$E27,0),)","v":0},{"$f":"IF(KT$6>0,IF((SUM($F27:KS27)+0.1<SUM($G13:KS13)),SUM($G13:KS13)/$E27,0),)","v":0},{"$f":"IF(KU$6>0,IF((SUM($F27:KT27)+0.1<SUM($G13:KT13)),SUM($G13:KT13)/$E27,0),)","v":0},{"$f":"IF(KV$6>0,IF((SUM($F27:KU27)+0.1<SUM($G13:KU13)),SUM($G13:KU13)/$E27,0),)","v":0},{"$f":"IF(KW$6>0,IF((SUM($F27:KV27)+0.1<SUM($G13:KV13)),SUM($G13:KV13)/$E27,0),)","v":0},{"$f":"IF(KX$6>0,IF((SUM($F27:KW27)+0.1<SUM($G13:KW13)),SUM($G13:KW13)/$E27,0),)","v":0},{"$f":"IF(KY$6>0,IF((SUM($F27:KX27)+0.1<SUM($G13:KX13)),SUM($G13:KX13)/$E27,0),)","v":0},{"$f":"IF(KZ$6>0,IF((SUM($F27:KY27)+0.1<SUM($G13:KY13)),SUM($G13:KY13)/$E27,0),)","v":0},{"$f":"IF(LA$6>0,IF((SUM($F27:KZ27)+0.1<SUM($G13:KZ13)),SUM($G13:KZ13)/$E27,0),)","v":0},{"$f":"IF(LB$6>0,IF((SUM($F27:LA27)+0.1<SUM($G13:LA13)),SUM($G13:LA13)/$E27,0),)","v":0},{"$f":"IF(LC$6>0,IF((SUM($F27:LB27)+0.1<SUM($G13:LB13)),SUM($G13:LB13)/$E27,0),)","v":0},{"$f":"IF(LD$6>0,IF((SUM($F27:LC27)+0.1<SUM($G13:LC13)),SUM($G13:LC13)/$E27,0),)","v":0},{"$f":"IF(LE$6>0,IF((SUM($F27:LD27)+0.1<SUM($G13:LD13)),SUM($G13:LD13)/$E27,0),)","v":0},{"$f":"IF(LF$6>0,IF((SUM($F27:LE27)+0.1<SUM($G13:LE13)),SUM($G13:LE13)/$E27,0),)","v":0},{"$f":"IF(LG$6>0,IF((SUM($F27:LF27)+0.1<SUM($G13:LF13)),SUM($G13:LF13)/$E27,0),)","v":0},{"$f":"IF(LH$6>0,IF((SUM($F27:LG27)+0.1<SUM($G13:LG13)),SUM($G13:LG13)/$E27,0),)","v":0},{"$f":"IF(LI$6>0,IF((SUM($F27:LH27)+0.1<SUM($G13:LH13)),SUM($G13:LH13)/$E27,0),)","v":0},{"$f":"IF(LJ$6>0,IF((SUM($F27:LI27)+0.1<SUM($G13:LI13)),SUM($G13:LI13)/$E27,0),)","v":0},{"$f":"IF(LK$6>0,IF((SUM($F27:LJ27)+0.1<SUM($G13:LJ13)),SUM($G13:LJ13)/$E27,0),)","v":0},{"$f":"IF(LL$6>0,IF((SUM($F27:LK27)+0.1<SUM($G13:LK13)),SUM($G13:LK13)/$E27,0),)","v":0},{"$f":"IF(LM$6>0,IF((SUM($F27:LL27)+0.1<SUM($G13:LL13)),SUM($G13:LL13)/$E27,0),)","v":0},{"$f":"IF(LN$6>0,IF((SUM($F27:LM27)+0.1<SUM($G13:LM13)),SUM($G13:LM13)/$E27,0),)","v":0},{"$f":"IF(LO$6>0,IF((SUM($F27:LN27)+0.1<SUM($G13:LN13)),SUM($G13:LN13)/$E27,0),)","v":0},{"$f":"IF(LP$6>0,IF((SUM($F27:LO27)+0.1<SUM($G13:LO13)),SUM($G13:LO13)/$E27,0),)","v":0},{"$f":"IF(LQ$6>0,IF((SUM($F27:LP27)+0.1<SUM($G13:LP13)),SUM($G13:LP13)/$E27,0),)","v":0},{"$f":"IF(LR$6>0,IF((SUM($F27:LQ27)+0.1<SUM($G13:LQ13)),SUM($G13:LQ13)/$E27,0),)","v":0},{"$f":"IF(LS$6>0,IF((SUM($F27:LR27)+0.1<SUM($G13:LR13)),SUM($G13:LR13)/$E27,0),)","v":0},{"$f":"IF(LT$6>0,IF((SUM($F27:LS27)+0.1<SUM($G13:LS13)),SUM($G13:LS13)/$E27,0),)","v":0},{"$f":"IF(LU$6>0,IF((SUM($F27:LT27)+0.1<SUM($G13:LT13)),SUM($G13:LT13)/$E27,0),)","v":0},{"$f":"IF(LV$6>0,IF((SUM($F27:LU27)+0.1<SUM($G13:LU13)),SUM($G13:LU13)/$E27,0),)","v":0},{"$f":"IF(LW$6>0,IF((SUM($F27:LV27)+0.1<SUM($G13:LV13)),SUM($G13:LV13)/$E27,0),)","v":0},{"$f":"IF(LX$6>0,IF((SUM($F27:LW27)+0.1<SUM($G13:LW13)),SUM($G13:LW13)/$E27,0),)","v":0},{"$f":"IF(LY$6>0,IF((SUM($F27:LX27)+0.1<SUM($G13:LX13)),SUM($G13:LX13)/$E27,0),)","v":0},{"$f":"IF(LZ$6>0,IF((SUM($F27:LY27)+0.1<SUM($G13:LY13)),SUM($G13:LY13)/$E27,0),)","v":0},{"$f":"IF(MA$6>0,IF((SUM($F27:LZ27)+0.1<SUM($G13:LZ13)),SUM($G13:LZ13)/$E27,0),)","v":0},{"$f":"IF(MB$6>0,IF((SUM($F27:MA27)+0.1<SUM($G13:MA13)),SUM($G13:MA13)/$E27,0),)","v":0},{"$f":"IF(MC$6>0,IF((SUM($F27:MB27)+0.1<SUM($G13:MB13)),SUM($G13:MB13)/$E27,0),)","v":0},{"$f":"IF(MD$6>0,IF((SUM($F27:MC27)+0.1<SUM($G13:MC13)),SUM($G13:MC13)/$E27,0),)","v":0},{"$f":"IF(ME$6>0,IF((SUM($F27:MD27)+0.1<SUM($G13:MD13)),SUM($G13:MD13)/$E27,0),)","v":0},{"$f":"IF(MF$6>0,IF((SUM($F27:ME27)+0.1<SUM($G13:ME13)),SUM($G13:ME13)/$E27,0),)","v":0},{"$f":"IF(MG$6>0,IF((SUM($F27:MF27)+0.1<SUM($G13:MF13)),SUM($G13:MF13)/$E27,0),)","v":0},{"$f":"IF(MH$6>0,IF((SUM($F27:MG27)+0.1<SUM($G13:MG13)),SUM($G13:MG13)/$E27,0),)","v":0},{"$f":"IF(MI$6>0,IF((SUM($F27:MH27)+0.1<SUM($G13:MH13)),SUM($G13:MH13)/$E27,0),)","v":0},{"$f":"IF(MJ$6>0,IF((SUM($F27:MI27)+0.1<SUM($G13:MI13)),SUM($G13:MI13)/$E27,0),)","v":0},{"$f":"IF(MK$6>0,IF((SUM($F27:MJ27)+0.1<SUM($G13:MJ13)),SUM($G13:MJ13)/$E27,0),)","v":0},{"$f":"IF(ML$6>0,IF((SUM($F27:MK27)+0.1<SUM($G13:MK13)),SUM($G13:MK13)/$E27,0),)","v":0},{"$f":"IF(MM$6>0,IF((SUM($F27:ML27)+0.1<SUM($G13:ML13)),SUM($G13:ML13)/$E27,0),)","v":0},{"$f":"IF(MN$6>0,IF((SUM($F27:MM27)+0.1<SUM($G13:MM13)),SUM($G13:MM13)/$E27,0),)","v":0},{"$f":"IF(MO$6>0,IF((SUM($F27:MN27)+0.1<SUM($G13:MN13)),SUM($G13:MN13)/$E27,0),)","v":0},{"$f":"IF(MP$6>0,IF((SUM($F27:MO27)+0.1<SUM($G13:MO13)),SUM($G13:MO13)/$E27,0),)","v":0},{"$f":"IF(MQ$6>0,IF((SUM($F27:MP27)+0.1<SUM($G13:MP13)),SUM($G13:MP13)/$E27,0),)","v":0},{"$f":"IF(MR$6>0,IF((SUM($F27:MQ27)+0.1<SUM($G13:MQ13)),SUM($G13:MQ13)/$E27,0),)","v":0},{"$f":"IF(MS$6>0,IF((SUM($F27:MR27)+0.1<SUM($G13:MR13)),SUM($G13:MR13)/$E27,0),)","v":0},{"$f":"IF(MT$6>0,IF((SUM($F27:MS27)+0.1<SUM($G13:MS13)),SUM($G13:MS13)/$E27,0),)","v":0},{"$f":"IF(MU$6>0,IF((SUM($F27:MT27)+0.1<SUM($G13:MT13)),SUM($G13:MT13)/$E27,0),)","v":0},{"$f":"IF(MV$6>0,IF((SUM($F27:MU27)+0.1<SUM($G13:MU13)),SUM($G13:MU13)/$E27,0),)","v":0},{"$f":"IF(MW$6>0,IF((SUM($F27:MV27)+0.1<SUM($G13:MV13)),SUM($G13:MV13)/$E27,0),)","v":0},{"$f":"IF(MX$6>0,IF((SUM($F27:MW27)+0.1<SUM($G13:MW13)),SUM($G13:MW13)/$E27,0),)","v":0},{"$f":"IF(MY$6>0,IF((SUM($F27:MX27)+0.1<SUM($G13:MX13)),SUM($G13:MX13)/$E27,0),)","v":0},{"$f":"IF(MZ$6>0,IF((SUM($F27:MY27)+0.1<SUM($G13:MY13)),SUM($G13:MY13)/$E27,0),)","v":0},{"$f":"IF(NA$6>0,IF((SUM($F27:MZ27)+0.1<SUM($G13:MZ13)),SUM($G13:MZ13)/$E27,0),)","v":0},{"$f":"IF(NB$6>0,IF((SUM($F27:NA27)+0.1<SUM($G13:NA13)),SUM($G13:NA13)/$E27,0),)","v":0},{"$f":"IF(NC$6>0,IF((SUM($F27:NB27)+0.1<SUM($G13:NB13)),SUM($G13:NB13)/$E27,0),)","v":0},{"$f":"IF(ND$6>0,IF((SUM($F27:NC27)+0.1<SUM($G13:NC13)),SUM($G13:NC13)/$E27,0),)","v":0},{"$f":"IF(NE$6>0,IF((SUM($F27:ND27)+0.1<SUM($G13:ND13)),SUM($G13:ND13)/$E27,0),)","v":0},{"$f":"IF(NF$6>0,IF((SUM($F27:NE27)+0.1<SUM($G13:NE13)),SUM($G13:NE13)/$E27,0),)","v":0},{"$f":"IF(NG$6>0,IF((SUM($F27:NF27)+0.1<SUM($G13:NF13)),SUM($G13:NF13)/$E27,0),)","v":0},{"$f":"IF(NH$6>0,IF((SUM($F27:NG27)+0.1<SUM($G13:NG13)),SUM($G13:NG13)/$E27,0),)","v":0},{"$f":"IF(NI$6>0,IF((SUM($F27:NH27)+0.1<SUM($G13:NH13)),SUM($G13:NH13)/$E27,0),)","v":0},{"$f":"IF(NJ$6>0,IF((SUM($F27:NI27)+0.1<SUM($G13:NI13)),SUM($G13:NI13)/$E27,0),)","v":0},{"$f":"IF(NK$6>0,IF((SUM($F27:NJ27)+0.1<SUM($G13:NJ13)),SUM($G13:NJ13)/$E27,0),)","v":0},{"$f":"IF(NL$6>0,IF((SUM($F27:NK27)+0.1<SUM($G13:NK13)),SUM($G13:NK13)/$E27,0),)","v":0},{"$f":"IF(NM$6>0,IF((SUM($F27:NL27)+0.1<SUM($G13:NL13)),SUM($G13:NL13)/$E27,0),)","v":0},{"$f":"IF(NN$6>0,IF((SUM($F27:NM27)+0.1<SUM($G13:NM13)),SUM($G13:NM13)/$E27,0),)","v":0},{"$f":"IF(NO$6>0,IF((SUM($F27:NN27)+0.1<SUM($G13:NN13)),SUM($G13:NN13)/$E27,0),)","v":0},{"$f":"IF(NP$6>0,IF((SUM($F27:NO27)+0.1<SUM($G13:NO13)),SUM($G13:NO13)/$E27,0),)","v":0},{"$f":"IF(NQ$6>0,IF((SUM($F27:NP27)+0.1<SUM($G13:NP13)),SUM($G13:NP13)/$E27,0),)","v":0},{"$f":"IF(NR$6>0,IF((SUM($F27:NQ27)+0.1<SUM($G13:NQ13)),SUM($G13:NQ13)/$E27,0),)","v":0},{"$f":"IF(NS$6>0,IF((SUM($F27:NR27)+0.1<SUM($G13:NR13)),SUM($G13:NR13)/$E27,0),)","v":0},{"$f":"IF(NT$6>0,IF((SUM($F27:NS27)+0.1<SUM($G13:NS13)),SUM($G13:NS13)/$E27,0),)","v":0},{"$f":"IF(NU$6>0,IF((SUM($F27:NT27)+0.1<SUM($G13:NT13)),SUM($G13:NT13)/$E27,0),)","v":0},{"$f":"IF(NV$6>0,IF((SUM($F27:NU27)+0.1<SUM($G13:NU13)),SUM($G13:NU13)/$E27,0),)","v":0},{"$f":"IF(NW$6>0,IF((SUM($F27:NV27)+0.1<SUM($G13:NV13)),SUM($G13:NV13)/$E27,0),)","v":0},{"$f":"IF(NX$6>0,IF((SUM($F27:NW27)+0.1<SUM($G13:NW13)),SUM($G13:NW13)/$E27,0),)","v":0},{"$f":"IF(NY$6>0,IF((SUM($F27:NX27)+0.1<SUM($G13:NX13)),SUM($G13:NX13)/$E27,0),)","v":0},{"$f":"IF(NZ$6>0,IF((SUM($F27:NY27)+0.1<SUM($G13:NY13)),SUM($G13:NY13)/$E27,0),)","v":0},{"$f":"IF(OA$6>0,IF((SUM($F27:NZ27)+0.1<SUM($G13:NZ13)),SUM($G13:NZ13)/$E27,0),)","v":0},{"$f":"IF(OB$6>0,IF((SUM($F27:OA27)+0.1<SUM($G13:OA13)),SUM($G13:OA13)/$E27,0),)","v":0},{"$f":"IF(OC$6>0,IF((SUM($F27:OB27)+0.1<SUM($G13:OB13)),SUM($G13:OB13)/$E27,0),)","v":0},{"$f":"IF(OD$6>0,IF((SUM($F27:OC27)+0.1<SUM($G13:OC13)),SUM($G13:OC13)/$E27,0),)","v":0},{"$f":"IF(OE$6>0,IF((SUM($F27:OD27)+0.1<SUM($G13:OD13)),SUM($G13:OD13)/$E27,0),)","v":0},{"$f":"IF(OF$6>0,IF((SUM($F27:OE27)+0.1<SUM($G13:OE13)),SUM($G13:OE13)/$E27,0),)","v":0},{"$f":"IF(OG$6>0,IF((SUM($F27:OF27)+0.1<SUM($G13:OF13)),SUM($G13:OF13)/$E27,0),)","v":0},{"$f":"IF(OH$6>0,IF((SUM($F27:OG27)+0.1<SUM($G13:OG13)),SUM($G13:OG13)/$E27,0),)","v":0},{"$f":"IF(OI$6>0,IF((SUM($F27:OH27)+0.1<SUM($G13:OH13)),SUM($G13:OH13)/$E27,0),)","v":0},{"$f":"IF(OJ$6>0,IF((SUM($F27:OI27)+0.1<SUM($G13:OI13)),SUM($G13:OI13)/$E27,0),)","v":0},{"$f":"IF(OK$6>0,IF((SUM($F27:OJ27)+0.1<SUM($G13:OJ13)),SUM($G13:OJ13)/$E27,0),)","v":0},{"$f":"IF(OL$6>0,IF((SUM($F27:OK27)+0.1<SUM($G13:OK13)),SUM($G13:OK13)/$E27,0),)","v":0},{"$f":"IF(OM$6>0,IF((SUM($F27:OL27)+0.1<SUM($G13:OL13)),SUM($G13:OL13)/$E27,0),)","v":0},{"$f":"IF(ON$6>0,IF((SUM($F27:OM27)+0.1<SUM($G13:OM13)),SUM($G13:OM13)/$E27,0),)","v":0},{"$f":"IF(OO$6>0,IF((SUM($F27:ON27)+0.1<SUM($G13:ON13)),SUM($G13:ON13)/$E27,0),)","v":0},{"$f":"IF(OP$6>0,IF((SUM($F27:OO27)+0.1<SUM($G13:OO13)),SUM($G13:OO13)/$E27,0),)","v":0},{"$f":"IF(OQ$6>0,IF((SUM($F27:OP27)+0.1<SUM($G13:OP13)),SUM($G13:OP13)/$E27,0),)","v":0},{"$f":"IF(OR$6>0,IF((SUM($F27:OQ27)+0.1<SUM($G13:OQ13)),SUM($G13:OQ13)/$E27,0),)","v":0},{"$f":"IF(OS$6>0,IF((SUM($F27:OR27)+0.1<SUM($G13:OR13)),SUM($G13:OR13)/$E27,0),)","v":0},{"$f":"IF(OT$6>0,IF((SUM($F27:OS27)+0.1<SUM($G13:OS13)),SUM($G13:OS13)/$E27,0),)","v":0},{"$f":"IF(OU$6>0,IF((SUM($F27:OT27)+0.1<SUM($G13:OT13)),SUM($G13:OT13)/$E27,0),)","v":0},{"$f":"IF(OV$6>0,IF((SUM($F27:OU27)+0.1<SUM($G13:OU13)),SUM($G13:OU13)/$E27,0),)","v":0},{"$f":"IF(OW$6>0,IF((SUM($F27:OV27)+0.1<SUM($G13:OV13)),SUM($G13:OV13)/$E27,0),)","v":0},{"$f":"IF(OX$6>0,IF((SUM($F27:OW27)+0.1<SUM($G13:OW13)),SUM($G13:OW13)/$E27,0),)","v":0},{"$f":"IF(OY$6>0,IF((SUM($F27:OX27)+0.1<SUM($G13:OX13)),SUM($G13:OX13)/$E27,0),)","v":0},{"$f":"IF(OZ$6>0,IF((SUM($F27:OY27)+0.1<SUM($G13:OY13)),SUM($G13:OY13)/$E27,0),)","v":0},{"$f":"IF(PA$6>0,IF((SUM($F27:OZ27)+0.1<SUM($G13:OZ13)),SUM($G13:OZ13)/$E27,0),)","v":0},{"$f":"IF(PB$6>0,IF((SUM($F27:PA27)+0.1<SUM($G13:PA13)),SUM($G13:PA13)/$E27,0),)","v":0},{"$f":"IF(PC$6>0,IF((SUM($F27:PB27)+0.1<SUM($G13:PB13)),SUM($G13:PB13)/$E27,0),)","v":0},{"$f":"IF(PD$6>0,IF((SUM($F27:PC27)+0.1<SUM($G13:PC13)),SUM($G13:PC13)/$E27,0),)","v":0},{"$f":"IF(PE$6>0,IF((SUM($F27:PD27)+0.1<SUM($G13:PD13)),SUM($G13:PD13)/$E27,0),)","v":0},{"$f":"IF(PF$6>0,IF((SUM($F27:PE27)+0.1<SUM($G13:PE13)),SUM($G13:PE13)/$E27,0),)","v":0},{"$f":"IF(PG$6>0,IF((SUM($F27:PF27)+0.1<SUM($G13:PF13)),SUM($G13:PF13)/$E27,0),)","v":0},{"$f":"IF(PH$6>0,IF((SUM($F27:PG27)+0.1<SUM($G13:PG13)),SUM($G13:PG13)/$E27,0),)","v":0},{"$f":"IF(PI$6>0,IF((SUM($F27:PH27)+0.1<SUM($G13:PH13)),SUM($G13:PH13)/$E27,0),)","v":0},{"$f":"IF(PJ$6>0,IF((SUM($F27:PI27)+0.1<SUM($G13:PI13)),SUM($G13:PI13)/$E27,0),)","v":0},{"$f":"IF(PK$6>0,IF((SUM($F27:PJ27)+0.1<SUM($G13:PJ13)),SUM($G13:PJ13)/$E27,0),)","v":0},{"$f":"IF(PL$6>0,IF((SUM($F27:PK27)+0.1<SUM($G13:PK13)),SUM($G13:PK13)/$E27,0),)","v":0},{"$f":"IF(PM$6>0,IF((SUM($F27:PL27)+0.1<SUM($G13:PL13)),SUM($G13:PL13)/$E27,0),)","v":0},{"$f":"IF(PN$6>0,IF((SUM($F27:PM27)+0.1<SUM($G13:PM13)),SUM($G13:PM13)/$E27,0),)","v":0},{"$f":"IF(PO$6>0,IF((SUM($F27:PN27)+0.1<SUM($G13:PN13)),SUM($G13:PN13)/$E27,0),)","v":0},{"$f":"IF(PP$6>0,IF((SUM($F27:PO27)+0.1<SUM($G13:PO13)),SUM($G13:PO13)/$E27,0),)","v":0},{"$f":"IF(PQ$6>0,IF((SUM($F27:PP27)+0.1<SUM($G13:PP13)),SUM($G13:PP13)/$E27,0),)","v":0},{"$f":"IF(PR$6>0,IF((SUM($F27:PQ27)+0.1<SUM($G13:PQ13)),SUM($G13:PQ13)/$E27,0),)","v":0},{"$f":"IF(PS$6>0,IF((SUM($F27:PR27)+0.1<SUM($G13:PR13)),SUM($G13:PR13)/$E27,0),)","v":0},{"$f":"IF(PT$6>0,IF((SUM($F27:PS27)+0.1<SUM($G13:PS13)),SUM($G13:PS13)/$E27,0),)","v":0},{"$f":"IF(PU$6>0,IF((SUM($F27:PT27)+0.1<SUM($G13:PT13)),SUM($G13:PT13)/$E27,0),)","v":0},{"$f":"IF(PV$6>0,IF((SUM($F27:PU27)+0.1<SUM($G13:PU13)),SUM($G13:PU13)/$E27,0),)","v":0},{"$f":"IF(PW$6>0,IF((SUM($F27:PV27)+0.1<SUM($G13:PV13)),SUM($G13:PV13)/$E27,0),)","v":0},{"$f":"IF(PX$6>0,IF((SUM($F27:PW27)+0.1<SUM($G13:PW13)),SUM($G13:PW13)/$E27,0),)","v":0},{"$f":"IF(PY$6>0,IF((SUM($F27:PX27)+0.1<SUM($G13:PX13)),SUM($G13:PX13)/$E27,0),)","v":0},{"$f":"IF(PZ$6>0,IF((SUM($F27:PY27)+0.1<SUM($G13:PY13)),SUM($G13:PY13)/$E27,0),)","v":0},{"$f":"IF(QA$6>0,IF((SUM($F27:PZ27)+0.1<SUM($G13:PZ13)),SUM($G13:PZ13)/$E27,0),)","v":0},{"$f":"IF(QB$6>0,IF((SUM($F27:QA27)+0.1<SUM($G13:QA13)),SUM($G13:QA13)/$E27,0),)","v":0},{"$f":"IF(QC$6>0,IF((SUM($F27:QB27)+0.1<SUM($G13:QB13)),SUM($G13:QB13)/$E27,0),)","v":0},{"$f":"IF(QD$6>0,IF((SUM($F27:QC27)+0.1<SUM($G13:QC13)),SUM($G13:QC13)/$E27,0),)","v":0},{"$f":"IF(QE$6>0,IF((SUM($F27:QD27)+0.1<SUM($G13:QD13)),SUM($G13:QD13)/$E27,0),)","v":0},{"$f":"IF(QF$6>0,IF((SUM($F27:QE27)+0.1<SUM($G13:QE13)),SUM($G13:QE13)/$E27,0),)","v":0},{"$f":"IF(QG$6>0,IF((SUM($F27:QF27)+0.1<SUM($G13:QF13)),SUM($G13:QF13)/$E27,0),)","v":0},{"$f":"IF(QH$6>0,IF((SUM($F27:QG27)+0.1<SUM($G13:QG13)),SUM($G13:QG13)/$E27,0),)","v":0},{"$f":"IF(QI$6>0,IF((SUM($F27:QH27)+0.1<SUM($G13:QH13)),SUM($G13:QH13)/$E27,0),)","v":0},{"$f":"IF(QJ$6>0,IF((SUM($F27:QI27)+0.1<SUM($G13:QI13)),SUM($G13:QI13)/$E27,0),)","v":0},{"$f":"IF(QK$6>0,IF((SUM($F27:QJ27)+0.1<SUM($G13:QJ13)),SUM($G13:QJ13)/$E27,0),)","v":0},{"$f":"IF(QL$6>0,IF((SUM($F27:QK27)+0.1<SUM($G13:QK13)),SUM($G13:QK13)/$E27,0),)","v":0},{"$f":"IF(QM$6>0,IF((SUM($F27:QL27)+0.1<SUM($G13:QL13)),SUM($G13:QL13)/$E27,0),)","v":0},{"$f":"IF(QN$6>0,IF((SUM($F27:QM27)+0.1<SUM($G13:QM13)),SUM($G13:QM13)/$E27,0),)","v":0},{"$f":"IF(QO$6>0,IF((SUM($F27:QN27)+0.1<SUM($G13:QN13)),SUM($G13:QN13)/$E27,0),)","v":0},{"$f":"IF(QP$6>0,IF((SUM($F27:QO27)+0.1<SUM($G13:QO13)),SUM($G13:QO13)/$E27,0),)","v":0},{"$f":"IF(QQ$6>0,IF((SUM($F27:QP27)+0.1<SUM($G13:QP13)),SUM($G13:QP13)/$E27,0),)","v":0},{"$f":"IF(QR$6>0,IF((SUM($F27:QQ27)+0.1<SUM($G13:QQ13)),SUM($G13:QQ13)/$E27,0),)","v":0},{"$f":"IF(QS$6>0,IF((SUM($F27:QR27)+0.1<SUM($G13:QR13)),SUM($G13:QR13)/$E27,0),)","v":0},{"$f":"IF(QT$6>0,IF((SUM($F27:QS27)+0.1<SUM($G13:QS13)),SUM($G13:QS13)/$E27,0),)","v":0},{"$f":"IF(QU$6>0,IF((SUM($F27:QT27)+0.1<SUM($G13:QT13)),SUM($G13:QT13)/$E27,0),)","v":0},{"$f":"IF(QV$6>0,IF((SUM($F27:QU27)+0.1<SUM($G13:QU13)),SUM($G13:QU13)/$E27,0),)","v":0},{"$f":"IF(QW$6>0,IF((SUM($F27:QV27)+0.1<SUM($G13:QV13)),SUM($G13:QV13)/$E27,0),)","v":0},{"$f":"IF(QX$6>0,IF((SUM($F27:QW27)+0.1<SUM($G13:QW13)),SUM($G13:QW13)/$E27,0),)","v":0},{"$f":"IF(QY$6>0,IF((SUM($F27:QX27)+0.1<SUM($G13:QX13)),SUM($G13:QX13)/$E27,0),)","v":0},{"$f":"IF(QZ$6>0,IF((SUM($F27:QY27)+0.1<SUM($G13:QY13)),SUM($G13:QY13)/$E27,0),)","v":0},{"$f":"IF(RA$6>0,IF((SUM($F27:QZ27)+0.1<SUM($G13:QZ13)),SUM($G13:QZ13)/$E27,0),)","v":0},{"$f":"IF(RB$6>0,IF((SUM($F27:RA27)+0.1<SUM($G13:RA13)),SUM($G13:RA13)/$E27,0),)","v":0},{"$f":"IF(RC$6>0,IF((SUM($F27:RB27)+0.1<SUM($G13:RB13)),SUM($G13:RB13)/$E27,0),)","v":0},{"$f":"IF(RD$6>0,IF((SUM($F27:RC27)+0.1<SUM($G13:RC13)),SUM($G13:RC13)/$E27,0),)","v":0},{"$f":"IF(RE$6>0,IF((SUM($F27:RD27)+0.1<SUM($G13:RD13)),SUM($G13:RD13)/$E27,0),)","v":0},{"$f":"IF(RF$6>0,IF((SUM($F27:RE27)+0.1<SUM($G13:RE13)),SUM($G13:RE13)/$E27,0),)","v":0}]
[null,0,0,0,0,null,{"$f":"IF(G$6>0,IF((SUM($F28:F28)+0.1<$C28),$C28/$E28,0),)","v":0},{"$f":"IF(H$6>0,IF((SUM($F28:G28)+0.1<SUM($G14:G14)),SUM($G14:G14)/$E28,0),)","v":0},{"$f":"IF(I$6>0,IF((SUM($F28:H28)+0.1<SUM($G14:H14)),SUM($G14:H14)/$E28,0),)","v":0},{"$f":"IF(J$6>0,IF((SUM($F28:I28)+0.1<SUM($G14:I14)),SUM($G14:I14)/$E28,0),)","v":0},{"$f":"IF(K$6>0,IF((SUM($F28:J28)+0.1<SUM($G14:J14)),SUM($G14:J14)/$E28,0),)","v":0},{"$f":"IF(L$6>0,IF((SUM($F28:K28)+0.1<SUM($G14:K14)),SUM($G14:K14)/$E28,0),)","v":0},{"$f":"IF(M$6>0,IF((SUM($F28:L28)+0.1<SUM($G14:L14)),SUM($G14:L14)/$E28,0),)","v":0},{"$f":"IF(N$6>0,IF((SUM($F28:M28)+0.1<SUM($G14:M14)),SUM($G14:M14)/$E28,0),)","v":0},{"$f":"IF(O$6>0,IF((SUM($F28:N28)+0.1<SUM($G14:N14)),SUM($G14:N14)/$E28,0),)","v":0},{"$f":"IF(P$6>0,IF((SUM($F28:O28)+0.1<SUM($G14:O14)),SUM($G14:O14)/$E28,0),)","v":0},{"$f":"IF(Q$6>0,IF((SUM($F28:P28)+0.1<SUM($G14:P14)),SUM($G14:P14)/$E28,0),)","v":0},{"$f":"IF(R$6>0,IF((SUM($F28:Q28)+0.1<SUM($G14:Q14)),SUM($G14:Q14)/$E28,0),)","v":0},{"$f":"IF(S$6>0,IF((SUM($F28:R28)+0.1<SUM($G14:R14)),SUM($G14:R14)/$E28,0),)","v":0},{"$f":"IF(T$6>0,IF((SUM($F28:S28)+0.1<SUM($G14:S14)),SUM($G14:S14)/$E28,0),)","v":0},{"$f":"IF(U$6>0,IF((SUM($F28:T28)+0.1<SUM($G14:T14)),SUM($G14:T14)/$E28,0),)","v":0},{"$f":"IF(V$6>0,IF((SUM($F28:U28)+0.1<SUM($G14:U14)),SUM($G14:U14)/$E28,0),)","v":0},{"$f":"IF(W$6>0,IF((SUM($F28:V28)+0.1<SUM($G14:V14)),SUM($G14:V14)/$E28,0),)","v":0},{"$f":"IF(X$6>0,IF((SUM($F28:W28)+0.1<SUM($G14:W14)),SUM($G14:W14)/$E28,0),)","v":0},{"$f":"IF(Y$6>0,IF((SUM($F28:X28)+0.1<SUM($G14:X14)),SUM($G14:X14)/$E28,0),)","v":0},{"$f":"IF(Z$6>0,IF((SUM($F28:Y28)+0.1<SUM($G14:Y14)),SUM($G14:Y14)/$E28,0),)","v":0},{"$f":"IF(AA$6>0,IF((SUM($F28:Z28)+0.1<SUM($G14:Z14)),SUM($G14:Z14)/$E28,0),)","v":0},{"$f":"IF(AB$6>0,IF((SUM($F28:AA28)+0.1<SUM($G14:AA14)),SUM($G14:AA14)/$E28,0),)","v":0},{"$f":"IF(AC$6>0,IF((SUM($F28:AB28)+0.1<SUM($G14:AB14)),SUM($G14:AB14)/$E28,0),)","v":0},{"$f":"IF(AD$6>0,IF((SUM($F28:AC28)+0.1<SUM($G14:AC14)),SUM($G14:AC14)/$E28,0),)","v":0},{"$f":"IF(AE$6>0,IF((SUM($F28:AD28)+0.1<SUM($G14:AD14)),SUM($G14:AD14)/$E28,0),)","v":0},{"$f":"IF(AF$6>0,IF((SUM($F28:AE28)+0.1<SUM($G14:AE14)),SUM($G14:AE14)/$E28,0),)","v":0},{"$f":"IF(AG$6>0,IF((SUM($F28:AF28)+0.1<SUM($G14:AF14)),SUM($G14:AF14)/$E28,0),)","v":0},{"$f":"IF(AH$6>0,IF((SUM($F28:AG28)+0.1<SUM($G14:AG14)),SUM($G14:AG14)/$E28,0),)","v":0},{"$f":"IF(AI$6>0,IF((SUM($F28:AH28)+0.1<SUM($G14:AH14)),SUM($G14:AH14)/$E28,0),)","v":0},{"$f":"IF(AJ$6>0,IF((SUM($F28:AI28)+0.1<SUM($G14:AI14)),SUM($G14:AI14)/$E28,0),)","v":0},{"$f":"IF(AK$6>0,IF((SUM($F28:AJ28)+0.1<SUM($G14:AJ14)),SUM($G14:AJ14)/$E28,0),)","v":0},{"$f":"IF(AL$6>0,IF((SUM($F28:AK28)+0.1<SUM($G14:AK14)),SUM($G14:AK14)/$E28,0),)","v":0},{"$f":"IF(AM$6>0,IF((SUM($F28:AL28)+0.1<SUM($G14:AL14)),SUM($G14:AL14)/$E28,0),)","v":0},{"$f":"IF(AN$6>0,IF((SUM($F28:AM28)+0.1<SUM($G14:AM14)),SUM($G14:AM14)/$E28,0),)","v":0},{"$f":"IF(AO$6>0,IF((SUM($F28:AN28)+0.1<SUM($G14:AN14)),SUM($G14:AN14)/$E28,0),)","v":0},{"$f":"IF(AP$6>0,IF((SUM($F28:AO28)+0.1<SUM($G14:AO14)),SUM($G14:AO14)/$E28,0),)","v":0},{"$f":"IF(AQ$6>0,IF((SUM($F28:AP28)+0.1<SUM($G14:AP14)),SUM($G14:AP14)/$E28,0),)","v":0},{"$f":"IF(AR$6>0,IF((SUM($F28:AQ28)+0.1<SUM($G14:AQ14)),SUM($G14:AQ14)/$E28,0),)","v":0},{"$f":"IF(AS$6>0,IF((SUM($F28:AR28)+0.1<SUM($G14:AR14)),SUM($G14:AR14)/$E28,0),)","v":0},{"$f":"IF(AT$6>0,IF((SUM($F28:AS28)+0.1<SUM($G14:AS14)),SUM($G14:AS14)/$E28,0),)","v":0},{"$f":"IF(AU$6>0,IF((SUM($F28:AT28)+0.1<SUM($G14:AT14)),SUM($G14:AT14)/$E28,0),)","v":0},{"$f":"IF(AV$6>0,IF((SUM($F28:AU28)+0.1<SUM($G14:AU14)),SUM($G14:AU14)/$E28,0),)","v":0},{"$f":"IF(AW$6>0,IF((SUM($F28:AV28)+0.1<SUM($G14:AV14)),SUM($G14:AV14)/$E28,0),)","v":0},{"$f":"IF(AX$6>0,IF((SUM($F28:AW28)+0.1<SUM($G14:AW14)),SUM($G14:AW14)/$E28,0),)","v":0},{"$f":"IF(AY$6>0,IF((SUM($F28:AX28)+0.1<SUM($G14:AX14)),SUM($G14:AX14)/$E28,0),)","v":0},{"$f":"IF(AZ$6>0,IF((SUM($F28:AY28)+0.1<SUM($G14:AY14)),SUM($G14:AY14)/$E28,0),)","v":0},{"$f":"IF(BA$6>0,IF((SUM($F28:AZ28)+0.1<SUM($G14:AZ14)),SUM($G14:AZ14)/$E28,0),)","v":0},{"$f":"IF(BB$6>0,IF((SUM($F28:BA28)+0.1<SUM($G14:BA14)),SUM($G14:BA14)/$E28,0),)","v":0},{"$f":"IF(BC$6>0,IF((SUM($F28:BB28)+0.1<SUM($G14:BB14)),SUM($G14:BB14)/$E28,0),)","v":0},{"$f":"IF(BD$6>0,IF((SUM($F28:BC28)+0.1<SUM($G14:BC14)),SUM($G14:BC14)/$E28,0),)","v":0},{"$f":"IF(BE$6>0,IF((SUM($F28:BD28)+0.1<SUM($G14:BD14)),SUM($G14:BD14)/$E28,0),)","v":0},{"$f":"IF(BF$6>0,IF((SUM($F28:BE28)+0.1<SUM($G14:BE14)),SUM($G14:BE14)/$E28,0),)","v":0},{"$f":"IF(BG$6>0,IF((SUM($F28:BF28)+0.1<SUM($G14:BF14)),SUM($G14:BF14)/$E28,0),)","v":0},{"$f":"IF(BH$6>0,IF((SUM($F28:BG28)+0.1<SUM($G14:BG14)),SUM($G14:BG14)/$E28,0),)","v":0},{"$f":"IF(BI$6>0,IF((SUM($F28:BH28)+0.1<SUM($G14:BH14)),SUM($G14:BH14)/$E28,0),)","v":0},{"$f":"IF(BJ$6>0,IF((SUM($F28:BI28)+0.1<SUM($G14:BI14)),SUM($G14:BI14)/$E28,0),)","v":0},{"$f":"IF(BK$6>0,IF((SUM($F28:BJ28)+0.1<SUM($G14:BJ14)),SUM($G14:BJ14)/$E28,0),)","v":0},{"$f":"IF(BL$6>0,IF((SUM($F28:BK28)+0.1<SUM($G14:BK14)),SUM($G14:BK14)/$E28,0),)","v":0},{"$f":"IF(BM$6>0,IF((SUM($F28:BL28)+0.1<SUM($G14:BL14)),SUM($G14:BL14)/$E28,0),)","v":0},{"$f":"IF(BN$6>0,IF((SUM($F28:BM28)+0.1<SUM($G14:BM14)),SUM($G14:BM14)/$E28,0),)","v":0},{"$f":"IF(BO$6>0,IF((SUM($F28:BN28)+0.1<SUM($G14:BN14)),SUM($G14:BN14)/$E28,0),)","v":0},{"$f":"IF(BP$6>0,IF((SUM($F28:BO28)+0.1<SUM($G14:BO14)),SUM($G14:BO14)/$E28,0),)","v":0},{"$f":"IF(BQ$6>0,IF((SUM($F28:BP28)+0.1<SUM($G14:BP14)),SUM($G14:BP14)/$E28,0),)","v":0},{"$f":"IF(BR$6>0,IF((SUM($F28:BQ28)+0.1<SUM($G14:BQ14)),SUM($G14:BQ14)/$E28,0),)","v":0},{"$f":"IF(BS$6>0,IF((SUM($F28:BR28)+0.1<SUM($G14:BR14)),SUM($G14:BR14)/$E28,0),)","v":0},{"$f":"IF(BT$6>0,IF((SUM($F28:BS28)+0.1<SUM($G14:BS14)),SUM($G14:BS14)/$E28,0),)","v":0},{"$f":"IF(BU$6>0,IF((SUM($F28:BT28)+0.1<SUM($G14:BT14)),SUM($G14:BT14)/$E28,0),)","v":0},{"$f":"IF(BV$6>0,IF((SUM($F28:BU28)+0.1<SUM($G14:BU14)),SUM($G14:BU14)/$E28,0),)","v":0},{"$f":"IF(BW$6>0,IF((SUM($F28:BV28)+0.1<SUM($G14:BV14)),SUM($G14:BV14)/$E28,0),)","v":0},{"$f":"IF(BX$6>0,IF((SUM($F28:BW28)+0.1<SUM($G14:BW14)),SUM($G14:BW14)/$E28,0),)","v":0},{"$f":"IF(BY$6>0,IF((SUM($F28:BX28)+0.1<SUM($G14:BX14)),SUM($G14:BX14)/$E28,0),)","v":0},{"$f":"IF(BZ$6>0,IF((SUM($F28:BY28)+0.1<SUM($G14:BY14)),SUM($G14:BY14)/$E28,0),)","v":0},{"$f":"IF(CA$6>0,IF((SUM($F28:BZ28)+0.1<SUM($G14:BZ14)),SUM($G14:BZ14)/$E28,0),)","v":0},{"$f":"IF(CB$6>0,IF((SUM($F28:CA28)+0.1<SUM($G14:CA14)),SUM($G14:CA14)/$E28,0),)","v":0},{"$f":"IF(CC$6>0,IF((SUM($F28:CB28)+0.1<SUM($G14:CB14)),SUM($G14:CB14)/$E28,0),)","v":0},{"$f":"IF(CD$6>0,IF((SUM($F28:CC28)+0.1<SUM($G14:CC14)),SUM($G14:CC14)/$E28,0),)","v":0},{"$f":"IF(CE$6>0,IF((SUM($F28:CD28)+0.1<SUM($G14:CD14)),SUM($G14:CD14)/$E28,0),)","v":0},{"$f":"IF(CF$6>0,IF((SUM($F28:CE28)+0.1<SUM($G14:CE14)),SUM($G14:CE14)/$E28,0),)","v":0},{"$f":"IF(CG$6>0,IF((SUM($F28:CF28)+0.1<SUM($G14:CF14)),SUM($G14:CF14)/$E28,0),)","v":0},{"$f":"IF(CH$6>0,IF((SUM($F28:CG28)+0.1<SUM($G14:CG14)),SUM($G14:CG14)/$E28,0),)","v":0},{"$f":"IF(CI$6>0,IF((SUM($F28:CH28)+0.1<SUM($G14:CH14)),SUM($G14:CH14)/$E28,0),)","v":0},{"$f":"IF(CJ$6>0,IF((SUM($F28:CI28)+0.1<SUM($G14:CI14)),SUM($G14:CI14)/$E28,0),)","v":0},{"$f":"IF(CK$6>0,IF((SUM($F28:CJ28)+0.1<SUM($G14:CJ14)),SUM($G14:CJ14)/$E28,0),)","v":0},{"$f":"IF(CL$6>0,IF((SUM($F28:CK28)+0.1<SUM($G14:CK14)),SUM($G14:CK14)/$E28,0),)","v":0},{"$f":"IF(CM$6>0,IF((SUM($F28:CL28)+0.1<SUM($G14:CL14)),SUM($G14:CL14)/$E28,0),)","v":0},{"$f":"IF(CN$6>0,IF((SUM($F28:CM28)+0.1<SUM($G14:CM14)),SUM($G14:CM14)/$E28,0),)","v":0},{"$f":"IF(CO$6>0,IF((SUM($F28:CN28)+0.1<SUM($G14:CN14)),SUM($G14:CN14)/$E28,0),)","v":0},{"$f":"IF(CP$6>0,IF((SUM($F28:CO28)+0.1<SUM($G14:CO14)),SUM($G14:CO14)/$E28,0),)","v":0},{"$f":"IF(CQ$6>0,IF((SUM($F28:CP28)+0.1<SUM($G14:CP14)),SUM($G14:CP14)/$E28,0),)","v":0},{"$f":"IF(CR$6>0,IF((SUM($F28:CQ28)+0.1<SUM($G14:CQ14)),SUM($G14:CQ14)/$E28,0),)","v":0},{"$f":"IF(CS$6>0,IF((SUM($F28:CR28)+0.1<SUM($G14:CR14)),SUM($G14:CR14)/$E28,0),)","v":0},{"$f":"IF(CT$6>0,IF((SUM($F28:CS28)+0.1<SUM($G14:CS14)),SUM($G14:CS14)/$E28,0),)","v":0},{"$f":"IF(CU$6>0,IF((SUM($F28:CT28)+0.1<SUM($G14:CT14)),SUM($G14:CT14)/$E28,0),)","v":0},{"$f":"IF(CV$6>0,IF((SUM($F28:CU28)+0.1<SUM($G14:CU14)),SUM($G14:CU14)/$E28,0),)","v":0},{"$f":"IF(CW$6>0,IF((SUM($F28:CV28)+0.1<SUM($G14:CV14)),SUM($G14:CV14)/$E28,0),)","v":0},{"$f":"IF(CX$6>0,IF((SUM($F28:CW28)+0.1<SUM($G14:CW14)),SUM($G14:CW14)/$E28,0),)","v":0},{"$f":"IF(CY$6>0,IF((SUM($F28:CX28)+0.1<SUM($G14:CX14)),SUM($G14:CX14)/$E28,0),)","v":0},{"$f":"IF(CZ$6>0,IF((SUM($F28:CY28)+0.1<SUM($G14:CY14)),SUM($G14:CY14)/$E28,0),)","v":0},{"$f":"IF(DA$6>0,IF((SUM($F28:CZ28)+0.1<SUM($G14:CZ14)),SUM($G14:CZ14)/$E28,0),)","v":0},{"$f":"IF(DB$6>0,IF((SUM($F28:DA28)+0.1<SUM($G14:DA14)),SUM($G14:DA14)/$E28,0),)","v":0},{"$f":"IF(DC$6>0,IF((SUM($F28:DB28)+0.1<SUM($G14:DB14)),SUM($G14:DB14)/$E28,0),)","v":0},{"$f":"IF(DD$6>0,IF((SUM($F28:DC28)+0.1<SUM($G14:DC14)),SUM($G14:DC14)/$E28,0),)","v":0},{"$f":"IF(DE$6>0,IF((SUM($F28:DD28)+0.1<SUM($G14:DD14)),SUM($G14:DD14)/$E28,0),)","v":0},{"$f":"IF(DF$6>0,IF((SUM($F28:DE28)+0.1<SUM($G14:DE14)),SUM($G14:DE14)/$E28,0),)","v":0},{"$f":"IF(DG$6>0,IF((SUM($F28:DF28)+0.1<SUM($G14:DF14)),SUM($G14:DF14)/$E28,0),)","v":0},{"$f":"IF(DH$6>0,IF((SUM($F28:DG28)+0.1<SUM($G14:DG14)),SUM($G14:DG14)/$E28,0),)","v":0},{"$f":"IF(DI$6>0,IF((SUM($F28:DH28)+0.1<SUM($G14:DH14)),SUM($G14:DH14)/$E28,0),)","v":0},{"$f":"IF(DJ$6>0,IF((SUM($F28:DI28)+0.1<SUM($G14:DI14)),SUM($G14:DI14)/$E28,0),)","v":0},{"$f":"IF(DK$6>0,IF((SUM($F28:DJ28)+0.1<SUM($G14:DJ14)),SUM($G14:DJ14)/$E28,0),)","v":0},{"$f":"IF(DL$6>0,IF((SUM($F28:DK28)+0.1<SUM($G14:DK14)),SUM($G14:DK14)/$E28,0),)","v":0},{"$f":"IF(DM$6>0,IF((SUM($F28:DL28)+0.1<SUM($G14:DL14)),SUM($G14:DL14)/$E28,0),)","v":0},{"$f":"IF(DN$6>0,IF((SUM($F28:DM28)+0.1<SUM($G14:DM14)),SUM($G14:DM14)/$E28,0),)","v":0},{"$f":"IF(DO$6>0,IF((SUM($F28:DN28)+0.1<SUM($G14:DN14)),SUM($G14:DN14)/$E28,0),)","v":0},{"$f":"IF(DP$6>0,IF((SUM($F28:DO28)+0.1<SUM($G14:DO14)),SUM($G14:DO14)/$E28,0),)","v":0},{"$f":"IF(DQ$6>0,IF((SUM($F28:DP28)+0.1<SUM($G14:DP14)),SUM($G14:DP14)/$E28,0),)","v":0},{"$f":"IF(DR$6>0,IF((SUM($F28:DQ28)+0.1<SUM($G14:DQ14)),SUM($G14:DQ14)/$E28,0),)","v":0},{"$f":"IF(DS$6>0,IF((SUM($F28:DR28)+0.1<SUM($G14:DR14)),SUM($G14:DR14)/$E28,0),)","v":0},{"$f":"IF(DT$6>0,IF((SUM($F28:DS28)+0.1<SUM($G14:DS14)),SUM($G14:DS14)/$E28,0),)","v":0},{"$f":"IF(DU$6>0,IF((SUM($F28:DT28)+0.1<SUM($G14:DT14)),SUM($G14:DT14)/$E28,0),)","v":0},{"$f":"IF(DV$6>0,IF((SUM($F28:DU28)+0.1<SUM($G14:DU14)),SUM($G14:DU14)/$E28,0),)","v":0},{"$f":"IF(DW$6>0,IF((SUM($F28:DV28)+0.1<SUM($G14:DV14)),SUM($G14:DV14)/$E28,0),)","v":0},{"$f":"IF(DX$6>0,IF((SUM($F28:DW28)+0.1<SUM($G14:DW14)),SUM($G14:DW14)/$E28,0),)","v":0},{"$f":"IF(DY$6>0,IF((SUM($F28:DX28)+0.1<SUM($G14:DX14)),SUM($G14:DX14)/$E28,0),)","v":0},{"$f":"IF(DZ$6>0,IF((SUM($F28:DY28)+0.1<SUM($G14:DY14)),SUM($G14:DY14)/$E28,0),)","v":0},{"$f":"IF(EA$6>0,IF((SUM($F28:DZ28)+0.1<SUM($G14:DZ14)),SUM($G14:DZ14)/$E28,0),)","v":0},{"$f":"IF(EB$6>0,IF((SUM($F28:EA28)+0.1<SUM($G14:EA14)),SUM($G14:EA14)/$E28,0),)","v":0},{"$f":"IF(EC$6>0,IF((SUM($F28:EB28)+0.1<SUM($G14:EB14)),SUM($G14:EB14)/$E28,0),)","v":0},{"$f":"IF(ED$6>0,IF((SUM($F28:EC28)+0.1<SUM($G14:EC14)),SUM($G14:EC14)/$E28,0),)","v":0},{"$f":"IF(EE$6>0,IF((SUM($F28:ED28)+0.1<SUM($G14:ED14)),SUM($G14:ED14)/$E28,0),)","v":0},{"$f":"IF(EF$6>0,IF((SUM($F28:EE28)+0.1<SUM($G14:EE14)),SUM($G14:EE14)/$E28,0),)","v":0},{"$f":"IF(EG$6>0,IF((SUM($F28:EF28)+0.1<SUM($G14:EF14)),SUM($G14:EF14)/$E28,0),)","v":0},{"$f":"IF(EH$6>0,IF((SUM($F28:EG28)+0.1<SUM($G14:EG14)),SUM($G14:EG14)/$E28,0),)","v":0},{"$f":"IF(EI$6>0,IF((SUM($F28:EH28)+0.1<SUM($G14:EH14)),SUM($G14:EH14)/$E28,0),)","v":0},{"$f":"IF(EJ$6>0,IF((SUM($F28:EI28)+0.1<SUM($G14:EI14)),SUM($G14:EI14)/$E28,0),)","v":0},{"$f":"IF(EK$6>0,IF((SUM($F28:EJ28)+0.1<SUM($G14:EJ14)),SUM($G14:EJ14)/$E28,0),)","v":0},{"$f":"IF(EL$6>0,IF((SUM($F28:EK28)+0.1<SUM($G14:EK14)),SUM($G14:EK14)/$E28,0),)","v":0},{"$f":"IF(EM$6>0,IF((SUM($F28:EL28)+0.1<SUM($G14:EL14)),SUM($G14:EL14)/$E28,0),)","v":0},{"$f":"IF(EN$6>0,IF((SUM($F28:EM28)+0.1<SUM($G14:EM14)),SUM($G14:EM14)/$E28,0),)","v":0},{"$f":"IF(EO$6>0,IF((SUM($F28:EN28)+0.1<SUM($G14:EN14)),SUM($G14:EN14)/$E28,0),)","v":0},{"$f":"IF(EP$6>0,IF((SUM($F28:EO28)+0.1<SUM($G14:EO14)),SUM($G14:EO14)/$E28,0),)","v":0},{"$f":"IF(EQ$6>0,IF((SUM($F28:EP28)+0.1<SUM($G14:EP14)),SUM($G14:EP14)/$E28,0),)","v":0},{"$f":"IF(ER$6>0,IF((SUM($F28:EQ28)+0.1<SUM($G14:EQ14)),SUM($G14:EQ14)/$E28,0),)","v":0},{"$f":"IF(ES$6>0,IF((SUM($F28:ER28)+0.1<SUM($G14:ER14)),SUM($G14:ER14)/$E28,0),)","v":0},{"$f":"IF(ET$6>0,IF((SUM($F28:ES28)+0.1<SUM($G14:ES14)),SUM($G14:ES14)/$E28,0),)","v":0},{"$f":"IF(EU$6>0,IF((SUM($F28:ET28)+0.1<SUM($G14:ET14)),SUM($G14:ET14)/$E28,0),)","v":0},{"$f":"IF(EV$6>0,IF((SUM($F28:EU28)+0.1<SUM($G14:EU14)),SUM($G14:EU14)/$E28,0),)","v":0},{"$f":"IF(EW$6>0,IF((SUM($F28:EV28)+0.1<SUM($G14:EV14)),SUM($G14:EV14)/$E28,0),)","v":0},{"$f":"IF(EX$6>0,IF((SUM($F28:EW28)+0.1<SUM($G14:EW14)),SUM($G14:EW14)/$E28,0),)","v":0},{"$f":"IF(EY$6>0,IF((SUM($F28:EX28)+0.1<SUM($G14:EX14)),SUM($G14:EX14)/$E28,0),)","v":0},{"$f":"IF(EZ$6>0,IF((SUM($F28:EY28)+0.1<SUM($G14:EY14)),SUM($G14:EY14)/$E28,0),)","v":0},{"$f":"IF(FA$6>0,IF((SUM($F28:EZ28)+0.1<SUM($G14:EZ14)),SUM($G14:EZ14)/$E28,0),)","v":0},{"$f":"IF(FB$6>0,IF((SUM($F28:FA28)+0.1<SUM($G14:FA14)),SUM($G14:FA14)/$E28,0),)","v":0},{"$f":"IF(FC$6>0,IF((SUM($F28:FB28)+0.1<SUM($G14:FB14)),SUM($G14:FB14)/$E28,0),)","v":0},{"$f":"IF(FD$6>0,IF((SUM($F28:FC28)+0.1<SUM($G14:FC14)),SUM($G14:FC14)/$E28,0),)","v":0},{"$f":"IF(FE$6>0,IF((SUM($F28:FD28)+0.1<SUM($G14:FD14)),SUM($G14:FD14)/$E28,0),)","v":0},{"$f":"IF(FF$6>0,IF((SUM($F28:FE28)+0.1<SUM($G14:FE14)),SUM($G14:FE14)/$E28,0),)","v":0},{"$f":"IF(FG$6>0,IF((SUM($F28:FF28)+0.1<SUM($G14:FF14)),SUM($G14:FF14)/$E28,0),)","v":0},{"$f":"IF(FH$6>0,IF((SUM($F28:FG28)+0.1<SUM($G14:FG14)),SUM($G14:FG14)/$E28,0),)","v":0},{"$f":"IF(FI$6>0,IF((SUM($F28:FH28)+0.1<SUM($G14:FH14)),SUM($G14:FH14)/$E28,0),)","v":0},{"$f":"IF(FJ$6>0,IF((SUM($F28:FI28)+0.1<SUM($G14:FI14)),SUM($G14:FI14)/$E28,0),)","v":0},{"$f":"IF(FK$6>0,IF((SUM($F28:FJ28)+0.1<SUM($G14:FJ14)),SUM($G14:FJ14)/$E28,0),)","v":0},{"$f":"IF(FL$6>0,IF((SUM($F28:FK28)+0.1<SUM($G14:FK14)),SUM($G14:FK14)/$E28,0),)","v":0},{"$f":"IF(FM$6>0,IF((SUM($F28:FL28)+0.1<SUM($G14:FL14)),SUM($G14:FL14)/$E28,0),)","v":0},{"$f":"IF(FN$6>0,IF((SUM($F28:FM28)+0.1<SUM($G14:FM14)),SUM($G14:FM14)/$E28,0),)","v":0},{"$f":"IF(FO$6>0,IF((SUM($F28:FN28)+0.1<SUM($G14:FN14)),SUM($G14:FN14)/$E28,0),)","v":0},{"$f":"IF(FP$6>0,IF((SUM($F28:FO28)+0.1<SUM($G14:FO14)),SUM($G14:FO14)/$E28,0),)","v":0},{"$f":"IF(FQ$6>0,IF((SUM($F28:FP28)+0.1<SUM($G14:FP14)),SUM($G14:FP14)/$E28,0),)","v":0},{"$f":"IF(FR$6>0,IF((SUM($F28:FQ28)+0.1<SUM($G14:FQ14)),SUM($G14:FQ14)/$E28,0),)","v":0},{"$f":"IF(FS$6>0,IF((SUM($F28:FR28)+0.1<SUM($G14:FR14)),SUM($G14:FR14)/$E28,0),)","v":0},{"$f":"IF(FT$6>0,IF((SUM($F28:FS28)+0.1<SUM($G14:FS14)),SUM($G14:FS14)/$E28,0),)","v":0},{"$f":"IF(FU$6>0,IF((SUM($F28:FT28)+0.1<SUM($G14:FT14)),SUM($G14:FT14)/$E28,0),)","v":0},{"$f":"IF(FV$6>0,IF((SUM($F28:FU28)+0.1<SUM($G14:FU14)),SUM($G14:FU14)/$E28,0),)","v":0},{"$f":"IF(FW$6>0,IF((SUM($F28:FV28)+0.1<SUM($G14:FV14)),SUM($G14:FV14)/$E28,0),)","v":0},{"$f":"IF(FX$6>0,IF((SUM($F28:FW28)+0.1<SUM($G14:FW14)),SUM($G14:FW14)/$E28,0),)","v":0},{"$f":"IF(FY$6>0,IF((SUM($F28:FX28)+0.1<SUM($G14:FX14)),SUM($G14:FX14)/$E28,0),)","v":0},{"$f":"IF(FZ$6>0,IF((SUM($F28:FY28)+0.1<SUM($G14:FY14)),SUM($G14:FY14)/$E28,0),)","v":0},{"$f":"IF(GA$6>0,IF((SUM($F28:FZ28)+0.1<SUM($G14:FZ14)),SUM($G14:FZ14)/$E28,0),)","v":0},{"$f":"IF(GB$6>0,IF((SUM($F28:GA28)+0.1<SUM($G14:GA14)),SUM($G14:GA14)/$E28,0),)","v":0},{"$f":"IF(GC$6>0,IF((SUM($F28:GB28)+0.1<SUM($G14:GB14)),SUM($G14:GB14)/$E28,0),)","v":0},{"$f":"IF(GD$6>0,IF((SUM($F28:GC28)+0.1<SUM($G14:GC14)),SUM($G14:GC14)/$E28,0),)","v":0},{"$f":"IF(GE$6>0,IF((SUM($F28:GD28)+0.1<SUM($G14:GD14)),SUM($G14:GD14)/$E28,0),)","v":0},{"$f":"IF(GF$6>0,IF((SUM($F28:GE28)+0.1<SUM($G14:GE14)),SUM($G14:GE14)/$E28,0),)","v":0},{"$f":"IF(GG$6>0,IF((SUM($F28:GF28)+0.1<SUM($G14:GF14)),SUM($G14:GF14)/$E28,0),)","v":0},{"$f":"IF(GH$6>0,IF((SUM($F28:GG28)+0.1<SUM($G14:GG14)),SUM($G14:GG14)/$E28,0),)","v":0},{"$f":"IF(GI$6>0,IF((SUM($F28:GH28)+0.1<SUM($G14:GH14)),SUM($G14:GH14)/$E28,0),)","v":0},{"$f":"IF(GJ$6>0,IF((SUM($F28:GI28)+0.1<SUM($G14:GI14)),SUM($G14:GI14)/$E28,0),)","v":0},{"$f":"IF(GK$6>0,IF((SUM($F28:GJ28)+0.1<SUM($G14:GJ14)),SUM($G14:GJ14)/$E28,0),)","v":0},{"$f":"IF(GL$6>0,IF((SUM($F28:GK28)+0.1<SUM($G14:GK14)),SUM($G14:GK14)/$E28,0),)","v":0},{"$f":"IF(GM$6>0,IF((SUM($F28:GL28)+0.1<SUM($G14:GL14)),SUM($G14:GL14)/$E28,0),)","v":0},{"$f":"IF(GN$6>0,IF((SUM($F28:GM28)+0.1<SUM($G14:GM14)),SUM($G14:GM14)/$E28,0),)","v":0},{"$f":"IF(GO$6>0,IF((SUM($F28:GN28)+0.1<SUM($G14:GN14)),SUM($G14:GN14)/$E28,0),)","v":0},{"$f":"IF(GP$6>0,IF((SUM($F28:GO28)+0.1<SUM($G14:GO14)),SUM($G14:GO14)/$E28,0),)","v":0},{"$f":"IF(GQ$6>0,IF((SUM($F28:GP28)+0.1<SUM($G14:GP14)),SUM($G14:GP14)/$E28,0),)","v":0},{"$f":"IF(GR$6>0,IF((SUM($F28:GQ28)+0.1<SUM($G14:GQ14)),SUM($G14:GQ14)/$E28,0),)","v":0},{"$f":"IF(GS$6>0,IF((SUM($F28:GR28)+0.1<SUM($G14:GR14)),SUM($G14:GR14)/$E28,0),)","v":0},{"$f":"IF(GT$6>0,IF((SUM($F28:GS28)+0.1<SUM($G14:GS14)),SUM($G14:GS14)/$E28,0),)","v":0},{"$f":"IF(GU$6>0,IF((SUM($F28:GT28)+0.1<SUM($G14:GT14)),SUM($G14:GT14)/$E28,0),)","v":0},{"$f":"IF(GV$6>0,IF((SUM($F28:GU28)+0.1<SUM($G14:GU14)),SUM($G14:GU14)/$E28,0),)","v":0},{"$f":"IF(GW$6>0,IF((SUM($F28:GV28)+0.1<SUM($G14:GV14)),SUM($G14:GV14)/$E28,0),)","v":0},{"$f":"IF(GX$6>0,IF((SUM($F28:GW28)+0.1<SUM($G14:GW14)),SUM($G14:GW14)/$E28,0),)","v":0},{"$f":"IF(GY$6>0,IF((SUM($F28:GX28)+0.1<SUM($G14:GX14)),SUM($G14:GX14)/$E28,0),)","v":0},{"$f":"IF(GZ$6>0,IF((SUM($F28:GY28)+0.1<SUM($G14:GY14)),SUM($G14:GY14)/$E28,0),)","v":0},{"$f":"IF(HA$6>0,IF((SUM($F28:GZ28)+0.1<SUM($G14:GZ14)),SUM($G14:GZ14)/$E28,0),)","v":0},{"$f":"IF(HB$6>0,IF((SUM($F28:HA28)+0.1<SUM($G14:HA14)),SUM($G14:HA14)/$E28,0),)","v":0},{"$f":"IF(HC$6>0,IF((SUM($F28:HB28)+0.1<SUM($G14:HB14)),SUM($G14:HB14)/$E28,0),)","v":0},{"$f":"IF(HD$6>0,IF((SUM($F28:HC28)+0.1<SUM($G14:HC14)),SUM($G14:HC14)/$E28,0),)","v":0},{"$f":"IF(HE$6>0,IF((SUM($F28:HD28)+0.1<SUM($G14:HD14)),SUM($G14:HD14)/$E28,0),)","v":0},{"$f":"IF(HF$6>0,IF((SUM($F28:HE28)+0.1<SUM($G14:HE14)),SUM($G14:HE14)/$E28,0),)","v":0},{"$f":"IF(HG$6>0,IF((SUM($F28:HF28)+0.1<SUM($G14:HF14)),SUM($G14:HF14)/$E28,0),)","v":0},{"$f":"IF(HH$6>0,IF((SUM($F28:HG28)+0.1<SUM($G14:HG14)),SUM($G14:HG14)/$E28,0),)","v":0},{"$f":"IF(HI$6>0,IF((SUM($F28:HH28)+0.1<SUM($G14:HH14)),SUM($G14:HH14)/$E28,0),)","v":0},{"$f":"IF(HJ$6>0,IF((SUM($F28:HI28)+0.1<SUM($G14:HI14)),SUM($G14:HI14)/$E28,0),)","v":0},{"$f":"IF(HK$6>0,IF((SUM($F28:HJ28)+0.1<SUM($G14:HJ14)),SUM($G14:HJ14)/$E28,0),)","v":0},{"$f":"IF(HL$6>0,IF((SUM($F28:HK28)+0.1<SUM($G14:HK14)),SUM($G14:HK14)/$E28,0),)","v":0},{"$f":"IF(HM$6>0,IF((SUM($F28:HL28)+0.1<SUM($G14:HL14)),SUM($G14:HL14)/$E28,0),)","v":0},{"$f":"IF(HN$6>0,IF((SUM($F28:HM28)+0.1<SUM($G14:HM14)),SUM($G14:HM14)/$E28,0),)","v":0},{"$f":"IF(HO$6>0,IF((SUM($F28:HN28)+0.1<SUM($G14:HN14)),SUM($G14:HN14)/$E28,0),)","v":0},{"$f":"IF(HP$6>0,IF((SUM($F28:HO28)+0.1<SUM($G14:HO14)),SUM($G14:HO14)/$E28,0),)","v":0},{"$f":"IF(HQ$6>0,IF((SUM($F28:HP28)+0.1<SUM($G14:HP14)),SUM($G14:HP14)/$E28,0),)","v":0},{"$f":"IF(HR$6>0,IF((SUM($F28:HQ28)+0.1<SUM($G14:HQ14)),SUM($G14:HQ14)/$E28,0),)","v":0},{"$f":"IF(HS$6>0,IF((SUM($F28:HR28)+0.1<SUM($G14:HR14)),SUM($G14:HR14)/$E28,0),)","v":0},{"$f":"IF(HT$6>0,IF((SUM($F28:HS28)+0.1<SUM($G14:HS14)),SUM($G14:HS14)/$E28,0),)","v":0},{"$f":"IF(HU$6>0,IF((SUM($F28:HT28)+0.1<SUM($G14:HT14)),SUM($G14:HT14)/$E28,0),)","v":0},{"$f":"IF(HV$6>0,IF((SUM($F28:HU28)+0.1<SUM($G14:HU14)),SUM($G14:HU14)/$E28,0),)","v":0},{"$f":"IF(HW$6>0,IF((SUM($F28:HV28)+0.1<SUM($G14:HV14)),SUM($G14:HV14)/$E28,0),)","v":0},{"$f":"IF(HX$6>0,IF((SUM($F28:HW28)+0.1<SUM($G14:HW14)),SUM($G14:HW14)/$E28,0),)","v":0},{"$f":"IF(HY$6>0,IF((SUM($F28:HX28)+0.1<SUM($G14:HX14)),SUM($G14:HX14)/$E28,0),)","v":0},{"$f":"IF(HZ$6>0,IF((SUM($F28:HY28)+0.1<SUM($G14:HY14)),SUM($G14:HY14)/$E28,0),)","v":0},{"$f":"IF(IA$6>0,IF((SUM($F28:HZ28)+0.1<SUM($G14:HZ14)),SUM($G14:HZ14)/$E28,0),)","v":0},{"$f":"IF(IB$6>0,IF((SUM($F28:IA28)+0.1<SUM($G14:IA14)),SUM($G14:IA14)/$E28,0),)","v":0},{"$f":"IF(IC$6>0,IF((SUM($F28:IB28)+0.1<SUM($G14:IB14)),SUM($G14:IB14)/$E28,0),)","v":0},{"$f":"IF(ID$6>0,IF((SUM($F28:IC28)+0.1<SUM($G14:IC14)),SUM($G14:IC14)/$E28,0),)","v":0},{"$f":"IF(IE$6>0,IF((SUM($F28:ID28)+0.1<SUM($G14:ID14)),SUM($G14:ID14)/$E28,0),)","v":0},{"$f":"IF(IF$6>0,IF((SUM($F28:IE28)+0.1<SUM($G14:IE14)),SUM($G14:IE14)/$E28,0),)","v":0},{"$f":"IF(IG$6>0,IF((SUM($F28:IF28)+0.1<SUM($G14:IF14)),SUM($G14:IF14)/$E28,0),)","v":0},{"$f":"IF(IH$6>0,IF((SUM($F28:IG28)+0.1<SUM($G14:IG14)),SUM($G14:IG14)/$E28,0),)","v":0},{"$f":"IF(II$6>0,IF((SUM($F28:IH28)+0.1<SUM($G14:IH14)),SUM($G14:IH14)/$E28,0),)","v":0},{"$f":"IF(IJ$6>0,IF((SUM($F28:II28)+0.1<SUM($G14:II14)),SUM($G14:II14)/$E28,0),)","v":0},{"$f":"IF(IK$6>0,IF((SUM($F28:IJ28)+0.1<SUM($G14:IJ14)),SUM($G14:IJ14)/$E28,0),)","v":0},{"$f":"IF(IL$6>0,IF((SUM($F28:IK28)+0.1<SUM($G14:IK14)),SUM($G14:IK14)/$E28,0),)","v":0},{"$f":"IF(IM$6>0,IF((SUM($F28:IL28)+0.1<SUM($G14:IL14)),SUM($G14:IL14)/$E28,0),)","v":0},{"$f":"IF(IN$6>0,IF((SUM($F28:IM28)+0.1<SUM($G14:IM14)),SUM($G14:IM14)/$E28,0),)","v":0},{"$f":"IF(IO$6>0,IF((SUM($F28:IN28)+0.1<SUM($G14:IN14)),SUM($G14:IN14)/$E28,0),)","v":0},{"$f":"IF(IP$6>0,IF((SUM($F28:IO28)+0.1<SUM($G14:IO14)),SUM($G14:IO14)/$E28,0),)","v":0},{"$f":"IF(IQ$6>0,IF((SUM($F28:IP28)+0.1<SUM($G14:IP14)),SUM($G14:IP14)/$E28,0),)","v":0},{"$f":"IF(IR$6>0,IF((SUM($F28:IQ28)+0.1<SUM($G14:IQ14)),SUM($G14:IQ14)/$E28,0),)","v":0},{"$f":"IF(IS$6>0,IF((SUM($F28:IR28)+0.1<SUM($G14:IR14)),SUM($G14:IR14)/$E28,0),)","v":0},{"$f":"IF(IT$6>0,IF((SUM($F28:IS28)+0.1<SUM($G14:IS14)),SUM($G14:IS14)/$E28,0),)","v":0},{"$f":"IF(IU$6>0,IF((SUM($F28:IT28)+0.1<SUM($G14:IT14)),SUM($G14:IT14)/$E28,0),)","v":0},{"$f":"IF(IV$6>0,IF((SUM($F28:IU28)+0.1<SUM($G14:IU14)),SUM($G14:IU14)/$E28,0),)","v":0},{"$f":"IF(IW$6>0,IF((SUM($F28:IV28)+0.1<SUM($G14:IV14)),SUM($G14:IV14)/$E28,0),)","v":0},{"$f":"IF(IX$6>0,IF((SUM($F28:IW28)+0.1<SUM($G14:IW14)),SUM($G14:IW14)/$E28,0),)","v":0},{"$f":"IF(IY$6>0,IF((SUM($F28:IX28)+0.1<SUM($G14:IX14)),SUM($G14:IX14)/$E28,0),)","v":0},{"$f":"IF(IZ$6>0,IF((SUM($F28:IY28)+0.1<SUM($G14:IY14)),SUM($G14:IY14)/$E28,0),)","v":0},{"$f":"IF(JA$6>0,IF((SUM($F28:IZ28)+0.1<SUM($G14:IZ14)),SUM($G14:IZ14)/$E28,0),)","v":0},{"$f":"IF(JB$6>0,IF((SUM($F28:JA28)+0.1<SUM($G14:JA14)),SUM($G14:JA14)/$E28,0),)","v":0},{"$f":"IF(JC$6>0,IF((SUM($F28:JB28)+0.1<SUM($G14:JB14)),SUM($G14:JB14)/$E28,0),)","v":0},{"$f":"IF(JD$6>0,IF((SUM($F28:JC28)+0.1<SUM($G14:JC14)),SUM($G14:JC14)/$E28,0),)","v":0},{"$f":"IF(JE$6>0,IF((SUM($F28:JD28)+0.1<SUM($G14:JD14)),SUM($G14:JD14)/$E28,0),)","v":0},{"$f":"IF(JF$6>0,IF((SUM($F28:JE28)+0.1<SUM($G14:JE14)),SUM($G14:JE14)/$E28,0),)","v":0},{"$f":"IF(JG$6>0,IF((SUM($F28:JF28)+0.1<SUM($G14:JF14)),SUM($G14:JF14)/$E28,0),)","v":0},{"$f":"IF(JH$6>0,IF((SUM($F28:JG28)+0.1<SUM($G14:JG14)),SUM($G14:JG14)/$E28,0),)","v":0},{"$f":"IF(JI$6>0,IF((SUM($F28:JH28)+0.1<SUM($G14:JH14)),SUM($G14:JH14)/$E28,0),)","v":0},{"$f":"IF(JJ$6>0,IF((SUM($F28:JI28)+0.1<SUM($G14:JI14)),SUM($G14:JI14)/$E28,0),)","v":0},{"$f":"IF(JK$6>0,IF((SUM($F28:JJ28)+0.1<SUM($G14:JJ14)),SUM($G14:JJ14)/$E28,0),)","v":0},{"$f":"IF(JL$6>0,IF((SUM($F28:JK28)+0.1<SUM($G14:JK14)),SUM($G14:JK14)/$E28,0),)","v":0},{"$f":"IF(JM$6>0,IF((SUM($F28:JL28)+0.1<SUM($G14:JL14)),SUM($G14:JL14)/$E28,0),)","v":0},{"$f":"IF(JN$6>0,IF((SUM($F28:JM28)+0.1<SUM($G14:JM14)),SUM($G14:JM14)/$E28,0),)","v":0},{"$f":"IF(JO$6>0,IF((SUM($F28:JN28)+0.1<SUM($G14:JN14)),SUM($G14:JN14)/$E28,0),)","v":0},{"$f":"IF(JP$6>0,IF((SUM($F28:JO28)+0.1<SUM($G14:JO14)),SUM($G14:JO14)/$E28,0),)","v":0},{"$f":"IF(JQ$6>0,IF((SUM($F28:JP28)+0.1<SUM($G14:JP14)),SUM($G14:JP14)/$E28,0),)","v":0},{"$f":"IF(JR$6>0,IF((SUM($F28:JQ28)+0.1<SUM($G14:JQ14)),SUM($G14:JQ14)/$E28,0),)","v":0},{"$f":"IF(JS$6>0,IF((SUM($F28:JR28)+0.1<SUM($G14:JR14)),SUM($G14:JR14)/$E28,0),)","v":0},{"$f":"IF(JT$6>0,IF((SUM($F28:JS28)+0.1<SUM($G14:JS14)),SUM($G14:JS14)/$E28,0),)","v":0},{"$f":"IF(JU$6>0,IF((SUM($F28:JT28)+0.1<SUM($G14:JT14)),SUM($G14:JT14)/$E28,0),)","v":0},{"$f":"IF(JV$6>0,IF((SUM($F28:JU28)+0.1<SUM($G14:JU14)),SUM($G14:JU14)/$E28,0),)","v":0},{"$f":"IF(JW$6>0,IF((SUM($F28:JV28)+0.1<SUM($G14:JV14)),SUM($G14:JV14)/$E28,0),)","v":0},{"$f":"IF(JX$6>0,IF((SUM($F28:JW28)+0.1<SUM($G14:JW14)),SUM($G14:JW14)/$E28,0),)","v":0},{"$f":"IF(JY$6>0,IF((SUM($F28:JX28)+0.1<SUM($G14:JX14)),SUM($G14:JX14)/$E28,0),)","v":0},{"$f":"IF(JZ$6>0,IF((SUM($F28:JY28)+0.1<SUM($G14:JY14)),SUM($G14:JY14)/$E28,0),)","v":0},{"$f":"IF(KA$6>0,IF((SUM($F28:JZ28)+0.1<SUM($G14:JZ14)),SUM($G14:JZ14)/$E28,0),)","v":0},{"$f":"IF(KB$6>0,IF((SUM($F28:KA28)+0.1<SUM($G14:KA14)),SUM($G14:KA14)/$E28,0),)","v":0},{"$f":"IF(KC$6>0,IF((SUM($F28:KB28)+0.1<SUM($G14:KB14)),SUM($G14:KB14)/$E28,0),)","v":0},{"$f":"IF(KD$6>0,IF((SUM($F28:KC28)+0.1<SUM($G14:KC14)),SUM($G14:KC14)/$E28,0),)","v":0},{"$f":"IF(KE$6>0,IF((SUM($F28:KD28)+0.1<SUM($G14:KD14)),SUM($G14:KD14)/$E28,0),)","v":0},{"$f":"IF(KF$6>0,IF((SUM($F28:KE28)+0.1<SUM($G14:KE14)),SUM($G14:KE14)/$E28,0),)","v":0},{"$f":"IF(KG$6>0,IF((SUM($F28:KF28)+0.1<SUM($G14:KF14)),SUM($G14:KF14)/$E28,0),)","v":0},{"$f":"IF(KH$6>0,IF((SUM($F28:KG28)+0.1<SUM($G14:KG14)),SUM($G14:KG14)/$E28,0),)","v":0},{"$f":"IF(KI$6>0,IF((SUM($F28:KH28)+0.1<SUM($G14:KH14)),SUM($G14:KH14)/$E28,0),)","v":0},{"$f":"IF(KJ$6>0,IF((SUM($F28:KI28)+0.1<SUM($G14:KI14)),SUM($G14:KI14)/$E28,0),)","v":0},{"$f":"IF(KK$6>0,IF((SUM($F28:KJ28)+0.1<SUM($G14:KJ14)),SUM($G14:KJ14)/$E28,0),)","v":0},{"$f":"IF(KL$6>0,IF((SUM($F28:KK28)+0.1<SUM($G14:KK14)),SUM($G14:KK14)/$E28,0),)","v":0},{"$f":"IF(KM$6>0,IF((SUM($F28:KL28)+0.1<SUM($G14:KL14)),SUM($G14:KL14)/$E28,0),)","v":0},{"$f":"IF(KN$6>0,IF((SUM($F28:KM28)+0.1<SUM($G14:KM14)),SUM($G14:KM14)/$E28,0),)","v":0},{"$f":"IF(KO$6>0,IF((SUM($F28:KN28)+0.1<SUM($G14:KN14)),SUM($G14:KN14)/$E28,0),)","v":0},{"$f":"IF(KP$6>0,IF((SUM($F28:KO28)+0.1<SUM($G14:KO14)),SUM($G14:KO14)/$E28,0),)","v":0},{"$f":"IF(KQ$6>0,IF((SUM($F28:KP28)+0.1<SUM($G14:KP14)),SUM($G14:KP14)/$E28,0),)","v":0},{"$f":"IF(KR$6>0,IF((SUM($F28:KQ28)+0.1<SUM($G14:KQ14)),SUM($G14:KQ14)/$E28,0),)","v":0},{"$f":"IF(KS$6>0,IF((SUM($F28:KR28)+0.1<SUM($G14:KR14)),SUM($G14:KR14)/$E28,0),)","v":0},{"$f":"IF(KT$6>0,IF((SUM($F28:KS28)+0.1<SUM($G14:KS14)),SUM($G14:KS14)/$E28,0),)","v":0},{"$f":"IF(KU$6>0,IF((SUM($F28:KT28)+0.1<SUM($G14:KT14)),SUM($G14:KT14)/$E28,0),)","v":0},{"$f":"IF(KV$6>0,IF((SUM($F28:KU28)+0.1<SUM($G14:KU14)),SUM($G14:KU14)/$E28,0),)","v":0},{"$f":"IF(KW$6>0,IF((SUM($F28:KV28)+0.1<SUM($G14:KV14)),SUM($G14:KV14)/$E28,0),)","v":0},{"$f":"IF(KX$6>0,IF((SUM($F28:KW28)+0.1<SUM($G14:KW14)),SUM($G14:KW14)/$E28,0),)","v":0},{"$f":"IF(KY$6>0,IF((SUM($F28:KX28)+0.1<SUM($G14:KX14)),SUM($G14:KX14)/$E28,0),)","v":0},{"$f":"IF(KZ$6>0,IF((SUM($F28:KY28)+0.1<SUM($G14:KY14)),SUM($G14:KY14)/$E28,0),)","v":0},{"$f":"IF(LA$6>0,IF((SUM($F28:KZ28)+0.1<SUM($G14:KZ14)),SUM($G14:KZ14)/$E28,0),)","v":0},{"$f":"IF(LB$6>0,IF((SUM($F28:LA28)+0.1<SUM($G14:LA14)),SUM($G14:LA14)/$E28,0),)","v":0},{"$f":"IF(LC$6>0,IF((SUM($F28:LB28)+0.1<SUM($G14:LB14)),SUM($G14:LB14)/$E28,0),)","v":0},{"$f":"IF(LD$6>0,IF((SUM($F28:LC28)+0.1<SUM($G14:LC14)),SUM($G14:LC14)/$E28,0),)","v":0},{"$f":"IF(LE$6>0,IF((SUM($F28:LD28)+0.1<SUM($G14:LD14)),SUM($G14:LD14)/$E28,0),)","v":0},{"$f":"IF(LF$6>0,IF((SUM($F28:LE28)+0.1<SUM($G14:LE14)),SUM($G14:LE14)/$E28,0),)","v":0},{"$f":"IF(LG$6>0,IF((SUM($F28:LF28)+0.1<SUM($G14:LF14)),SUM($G14:LF14)/$E28,0),)","v":0},{"$f":"IF(LH$6>0,IF((SUM($F28:LG28)+0.1<SUM($G14:LG14)),SUM($G14:LG14)/$E28,0),)","v":0},{"$f":"IF(LI$6>0,IF((SUM($F28:LH28)+0.1<SUM($G14:LH14)),SUM($G14:LH14)/$E28,0),)","v":0},{"$f":"IF(LJ$6>0,IF((SUM($F28:LI28)+0.1<SUM($G14:LI14)),SUM($G14:LI14)/$E28,0),)","v":0},{"$f":"IF(LK$6>0,IF((SUM($F28:LJ28)+0.1<SUM($G14:LJ14)),SUM($G14:LJ14)/$E28,0),)","v":0},{"$f":"IF(LL$6>0,IF((SUM($F28:LK28)+0.1<SUM($G14:LK14)),SUM($G14:LK14)/$E28,0),)","v":0},{"$f":"IF(LM$6>0,IF((SUM($F28:LL28)+0.1<SUM($G14:LL14)),SUM($G14:LL14)/$E28,0),)","v":0},{"$f":"IF(LN$6>0,IF((SUM($F28:LM28)+0.1<SUM($G14:LM14)),SUM($G14:LM14)/$E28,0),)","v":0},{"$f":"IF(LO$6>0,IF((SUM($F28:LN28)+0.1<SUM($G14:LN14)),SUM($G14:LN14)/$E28,0),)","v":0},{"$f":"IF(LP$6>0,IF((SUM($F28:LO28)+0.1<SUM($G14:LO14)),SUM($G14:LO14)/$E28,0),)","v":0},{"$f":"IF(LQ$6>0,IF((SUM($F28:LP28)+0.1<SUM($G14:LP14)),SUM($G14:LP14)/$E28,0),)","v":0},{"$f":"IF(LR$6>0,IF((SUM($F28:LQ28)+0.1<SUM($G14:LQ14)),SUM($G14:LQ14)/$E28,0),)","v":0},{"$f":"IF(LS$6>0,IF((SUM($F28:LR28)+0.1<SUM($G14:LR14)),SUM($G14:LR14)/$E28,0),)","v":0},{"$f":"IF(LT$6>0,IF((SUM($F28:LS28)+0.1<SUM($G14:LS14)),SUM($G14:LS14)/$E28,0),)","v":0},{"$f":"IF(LU$6>0,IF((SUM($F28:LT28)+0.1<SUM($G14:LT14)),SUM($G14:LT14)/$E28,0),)","v":0},{"$f":"IF(LV$6>0,IF((SUM($F28:LU28)+0.1<SUM($G14:LU14)),SUM($G14:LU14)/$E28,0),)","v":0},{"$f":"IF(LW$6>0,IF((SUM($F28:LV28)+0.1<SUM($G14:LV14)),SUM($G14:LV14)/$E28,0),)","v":0},{"$f":"IF(LX$6>0,IF((SUM($F28:LW28)+0.1<SUM($G14:LW14)),SUM($G14:LW14)/$E28,0),)","v":0},{"$f":"IF(LY$6>0,IF((SUM($F28:LX28)+0.1<SUM($G14:LX14)),SUM($G14:LX14)/$E28,0),)","v":0},{"$f":"IF(LZ$6>0,IF((SUM($F28:LY28)+0.1<SUM($G14:LY14)),SUM($G14:LY14)/$E28,0),)","v":0},{"$f":"IF(MA$6>0,IF((SUM($F28:LZ28)+0.1<SUM($G14:LZ14)),SUM($G14:LZ14)/$E28,0),)","v":0},{"$f":"IF(MB$6>0,IF((SUM($F28:MA28)+0.1<SUM($G14:MA14)),SUM($G14:MA14)/$E28,0),)","v":0},{"$f":"IF(MC$6>0,IF((SUM($F28:MB28)+0.1<SUM($G14:MB14)),SUM($G14:MB14)/$E28,0),)","v":0},{"$f":"IF(MD$6>0,IF((SUM($F28:MC28)+0.1<SUM($G14:MC14)),SUM($G14:MC14)/$E28,0),)","v":0},{"$f":"IF(ME$6>0,IF((SUM($F28:MD28)+0.1<SUM($G14:MD14)),SUM($G14:MD14)/$E28,0),)","v":0},{"$f":"IF(MF$6>0,IF((SUM($F28:ME28)+0.1<SUM($G14:ME14)),SUM($G14:ME14)/$E28,0),)","v":0},{"$f":"IF(MG$6>0,IF((SUM($F28:MF28)+0.1<SUM($G14:MF14)),SUM($G14:MF14)/$E28,0),)","v":0},{"$f":"IF(MH$6>0,IF((SUM($F28:MG28)+0.1<SUM($G14:MG14)),SUM($G14:MG14)/$E28,0),)","v":0},{"$f":"IF(MI$6>0,IF((SUM($F28:MH28)+0.1<SUM($G14:MH14)),SUM($G14:MH14)/$E28,0),)","v":0},{"$f":"IF(MJ$6>0,IF((SUM($F28:MI28)+0.1<SUM($G14:MI14)),SUM($G14:MI14)/$E28,0),)","v":0},{"$f":"IF(MK$6>0,IF((SUM($F28:MJ28)+0.1<SUM($G14:MJ14)),SUM($G14:MJ14)/$E28,0),)","v":0},{"$f":"IF(ML$6>0,IF((SUM($F28:MK28)+0.1<SUM($G14:MK14)),SUM($G14:MK14)/$E28,0),)","v":0},{"$f":"IF(MM$6>0,IF((SUM($F28:ML28)+0.1<SUM($G14:ML14)),SUM($G14:ML14)/$E28,0),)","v":0},{"$f":"IF(MN$6>0,IF((SUM($F28:MM28)+0.1<SUM($G14:MM14)),SUM($G14:MM14)/$E28,0),)","v":0},{"$f":"IF(MO$6>0,IF((SUM($F28:MN28)+0.1<SUM($G14:MN14)),SUM($G14:MN14)/$E28,0),)","v":0},{"$f":"IF(MP$6>0,IF((SUM($F28:MO28)+0.1<SUM($G14:MO14)),SUM($G14:MO14)/$E28,0),)","v":0},{"$f":"IF(MQ$6>0,IF((SUM($F28:MP28)+0.1<SUM($G14:MP14)),SUM($G14:MP14)/$E28,0),)","v":0},{"$f":"IF(MR$6>0,IF((SUM($F28:MQ28)+0.1<SUM($G14:MQ14)),SUM($G14:MQ14)/$E28,0),)","v":0},{"$f":"IF(MS$6>0,IF((SUM($F28:MR28)+0.1<SUM($G14:MR14)),SUM($G14:MR14)/$E28,0),)","v":0},{"$f":"IF(MT$6>0,IF((SUM($F28:MS28)+0.1<SUM($G14:MS14)),SUM($G14:MS14)/$E28,0),)","v":0},{"$f":"IF(MU$6>0,IF((SUM($F28:MT28)+0.1<SUM($G14:MT14)),SUM($G14:MT14)/$E28,0),)","v":0},{"$f":"IF(MV$6>0,IF((SUM($F28:MU28)+0.1<SUM($G14:MU14)),SUM($G14:MU14)/$E28,0),)","v":0},{"$f":"IF(MW$6>0,IF((SUM($F28:MV28)+0.1<SUM($G14:MV14)),SUM($G14:MV14)/$E28,0),)","v":0},{"$f":"IF(MX$6>0,IF((SUM($F28:MW28)+0.1<SUM($G14:MW14)),SUM($G14:MW14)/$E28,0),)","v":0},{"$f":"IF(MY$6>0,IF((SUM($F28:MX28)+0.1<SUM($G14:MX14)),SUM($G14:MX14)/$E28,0),)","v":0},{"$f":"IF(MZ$6>0,IF((SUM($F28:MY28)+0.1<SUM($G14:MY14)),SUM($G14:MY14)/$E28,0),)","v":0},{"$f":"IF(NA$6>0,IF((SUM($F28:MZ28)+0.1<SUM($G14:MZ14)),SUM($G14:MZ14)/$E28,0),)","v":0},{"$f":"IF(NB$6>0,IF((SUM($F28:NA28)+0.1<SUM($G14:NA14)),SUM($G14:NA14)/$E28,0),)","v":0},{"$f":"IF(NC$6>0,IF((SUM($F28:NB28)+0.1<SUM($G14:NB14)),SUM($G14:NB14)/$E28,0),)","v":0},{"$f":"IF(ND$6>0,IF((SUM($F28:NC28)+0.1<SUM($G14:NC14)),SUM($G14:NC14)/$E28,0),)","v":0},{"$f":"IF(NE$6>0,IF((SUM($F28:ND28)+0.1<SUM($G14:ND14)),SUM($G14:ND14)/$E28,0),)","v":0},{"$f":"IF(NF$6>0,IF((SUM($F28:NE28)+0.1<SUM($G14:NE14)),SUM($G14:NE14)/$E28,0),)","v":0},{"$f":"IF(NG$6>0,IF((SUM($F28:NF28)+0.1<SUM($G14:NF14)),SUM($G14:NF14)/$E28,0),)","v":0},{"$f":"IF(NH$6>0,IF((SUM($F28:NG28)+0.1<SUM($G14:NG14)),SUM($G14:NG14)/$E28,0),)","v":0},{"$f":"IF(NI$6>0,IF((SUM($F28:NH28)+0.1<SUM($G14:NH14)),SUM($G14:NH14)/$E28,0),)","v":0},{"$f":"IF(NJ$6>0,IF((SUM($F28:NI28)+0.1<SUM($G14:NI14)),SUM($G14:NI14)/$E28,0),)","v":0},{"$f":"IF(NK$6>0,IF((SUM($F28:NJ28)+0.1<SUM($G14:NJ14)),SUM($G14:NJ14)/$E28,0),)","v":0},{"$f":"IF(NL$6>0,IF((SUM($F28:NK28)+0.1<SUM($G14:NK14)),SUM($G14:NK14)/$E28,0),)","v":0},{"$f":"IF(NM$6>0,IF((SUM($F28:NL28)+0.1<SUM($G14:NL14)),SUM($G14:NL14)/$E28,0),)","v":0},{"$f":"IF(NN$6>0,IF((SUM($F28:NM28)+0.1<SUM($G14:NM14)),SUM($G14:NM14)/$E28,0),)","v":0},{"$f":"IF(NO$6>0,IF((SUM($F28:NN28)+0.1<SUM($G14:NN14)),SUM($G14:NN14)/$E28,0),)","v":0},{"$f":"IF(NP$6>0,IF((SUM($F28:NO28)+0.1<SUM($G14:NO14)),SUM($G14:NO14)/$E28,0),)","v":0},{"$f":"IF(NQ$6>0,IF((SUM($F28:NP28)+0.1<SUM($G14:NP14)),SUM($G14:NP14)/$E28,0),)","v":0},{"$f":"IF(NR$6>0,IF((SUM($F28:NQ28)+0.1<SUM($G14:NQ14)),SUM($G14:NQ14)/$E28,0),)","v":0},{"$f":"IF(NS$6>0,IF((SUM($F28:NR28)+0.1<SUM($G14:NR14)),SUM($G14:NR14)/$E28,0),)","v":0},{"$f":"IF(NT$6>0,IF((SUM($F28:NS28)+0.1<SUM($G14:NS14)),SUM($G14:NS14)/$E28,0),)","v":0},{"$f":"IF(NU$6>0,IF((SUM($F28:NT28)+0.1<SUM($G14:NT14)),SUM($G14:NT14)/$E28,0),)","v":0},{"$f":"IF(NV$6>0,IF((SUM($F28:NU28)+0.1<SUM($G14:NU14)),SUM($G14:NU14)/$E28,0),)","v":0},{"$f":"IF(NW$6>0,IF((SUM($F28:NV28)+0.1<SUM($G14:NV14)),SUM($G14:NV14)/$E28,0),)","v":0},{"$f":"IF(NX$6>0,IF((SUM($F28:NW28)+0.1<SUM($G14:NW14)),SUM($G14:NW14)/$E28,0),)","v":0},{"$f":"IF(NY$6>0,IF((SUM($F28:NX28)+0.1<SUM($G14:NX14)),SUM($G14:NX14)/$E28,0),)","v":0},{"$f":"IF(NZ$6>0,IF((SUM($F28:NY28)+0.1<SUM($G14:NY14)),SUM($G14:NY14)/$E28,0),)","v":0},{"$f":"IF(OA$6>0,IF((SUM($F28:NZ28)+0.1<SUM($G14:NZ14)),SUM($G14:NZ14)/$E28,0),)","v":0},{"$f":"IF(OB$6>0,IF((SUM($F28:OA28)+0.1<SUM($G14:OA14)),SUM($G14:OA14)/$E28,0),)","v":0},{"$f":"IF(OC$6>0,IF((SUM($F28:OB28)+0.1<SUM($G14:OB14)),SUM($G14:OB14)/$E28,0),)","v":0},{"$f":"IF(OD$6>0,IF((SUM($F28:OC28)+0.1<SUM($G14:OC14)),SUM($G14:OC14)/$E28,0),)","v":0},{"$f":"IF(OE$6>0,IF((SUM($F28:OD28)+0.1<SUM($G14:OD14)),SUM($G14:OD14)/$E28,0),)","v":0},{"$f":"IF(OF$6>0,IF((SUM($F28:OE28)+0.1<SUM($G14:OE14)),SUM($G14:OE14)/$E28,0),)","v":0},{"$f":"IF(OG$6>0,IF((SUM($F28:OF28)+0.1<SUM($G14:OF14)),SUM($G14:OF14)/$E28,0),)","v":0},{"$f":"IF(OH$6>0,IF((SUM($F28:OG28)+0.1<SUM($G14:OG14)),SUM($G14:OG14)/$E28,0),)","v":0},{"$f":"IF(OI$6>0,IF((SUM($F28:OH28)+0.1<SUM($G14:OH14)),SUM($G14:OH14)/$E28,0),)","v":0},{"$f":"IF(OJ$6>0,IF((SUM($F28:OI28)+0.1<SUM($G14:OI14)),SUM($G14:OI14)/$E28,0),)","v":0},{"$f":"IF(OK$6>0,IF((SUM($F28:OJ28)+0.1<SUM($G14:OJ14)),SUM($G14:OJ14)/$E28,0),)","v":0},{"$f":"IF(OL$6>0,IF((SUM($F28:OK28)+0.1<SUM($G14:OK14)),SUM($G14:OK14)/$E28,0),)","v":0},{"$f":"IF(OM$6>0,IF((SUM($F28:OL28)+0.1<SUM($G14:OL14)),SUM($G14:OL14)/$E28,0),)","v":0},{"$f":"IF(ON$6>0,IF((SUM($F28:OM28)+0.1<SUM($G14:OM14)),SUM($G14:OM14)/$E28,0),)","v":0},{"$f":"IF(OO$6>0,IF((SUM($F28:ON28)+0.1<SUM($G14:ON14)),SUM($G14:ON14)/$E28,0),)","v":0},{"$f":"IF(OP$6>0,IF((SUM($F28:OO28)+0.1<SUM($G14:OO14)),SUM($G14:OO14)/$E28,0),)","v":0},{"$f":"IF(OQ$6>0,IF((SUM($F28:OP28)+0.1<SUM($G14:OP14)),SUM($G14:OP14)/$E28,0),)","v":0},{"$f":"IF(OR$6>0,IF((SUM($F28:OQ28)+0.1<SUM($G14:OQ14)),SUM($G14:OQ14)/$E28,0),)","v":0},{"$f":"IF(OS$6>0,IF((SUM($F28:OR28)+0.1<SUM($G14:OR14)),SUM($G14:OR14)/$E28,0),)","v":0},{"$f":"IF(OT$6>0,IF((SUM($F28:OS28)+0.1<SUM($G14:OS14)),SUM($G14:OS14)/$E28,0),)","v":0},{"$f":"IF(OU$6>0,IF((SUM($F28:OT28)+0.1<SUM($G14:OT14)),SUM($G14:OT14)/$E28,0),)","v":0},{"$f":"IF(OV$6>0,IF((SUM($F28:OU28)+0.1<SUM($G14:OU14)),SUM($G14:OU14)/$E28,0),)","v":0},{"$f":"IF(OW$6>0,IF((SUM($F28:OV28)+0.1<SUM($G14:OV14)),SUM($G14:OV14)/$E28,0),)","v":0},{"$f":"IF(OX$6>0,IF((SUM($F28:OW28)+0.1<SUM($G14:OW14)),SUM($G14:OW14)/$E28,0),)","v":0},{"$f":"IF(OY$6>0,IF((SUM($F28:OX28)+0.1<SUM($G14:OX14)),SUM($G14:OX14)/$E28,0),)","v":0},{"$f":"IF(OZ$6>0,IF((SUM($F28:OY28)+0.1<SUM($G14:OY14)),SUM($G14:OY14)/$E28,0),)","v":0},{"$f":"IF(PA$6>0,IF((SUM($F28:OZ28)+0.1<SUM($G14:OZ14)),SUM($G14:OZ14)/$E28,0),)","v":0},{"$f":"IF(PB$6>0,IF((SUM($F28:PA28)+0.1<SUM($G14:PA14)),SUM($G14:PA14)/$E28,0),)","v":0},{"$f":"IF(PC$6>0,IF((SUM($F28:PB28)+0.1<SUM($G14:PB14)),SUM($G14:PB14)/$E28,0),)","v":0},{"$f":"IF(PD$6>0,IF((SUM($F28:PC28)+0.1<SUM($G14:PC14)),SUM($G14:PC14)/$E28,0),)","v":0},{"$f":"IF(PE$6>0,IF((SUM($F28:PD28)+0.1<SUM($G14:PD14)),SUM($G14:PD14)/$E28,0),)","v":0},{"$f":"IF(PF$6>0,IF((SUM($F28:PE28)+0.1<SUM($G14:PE14)),SUM($G14:PE14)/$E28,0),)","v":0},{"$f":"IF(PG$6>0,IF((SUM($F28:PF28)+0.1<SUM($G14:PF14)),SUM($G14:PF14)/$E28,0),)","v":0},{"$f":"IF(PH$6>0,IF((SUM($F28:PG28)+0.1<SUM($G14:PG14)),SUM($G14:PG14)/$E28,0),)","v":0},{"$f":"IF(PI$6>0,IF((SUM($F28:PH28)+0.1<SUM($G14:PH14)),SUM($G14:PH14)/$E28,0),)","v":0},{"$f":"IF(PJ$6>0,IF((SUM($F28:PI28)+0.1<SUM($G14:PI14)),SUM($G14:PI14)/$E28,0),)","v":0},{"$f":"IF(PK$6>0,IF((SUM($F28:PJ28)+0.1<SUM($G14:PJ14)),SUM($G14:PJ14)/$E28,0),)","v":0},{"$f":"IF(PL$6>0,IF((SUM($F28:PK28)+0.1<SUM($G14:PK14)),SUM($G14:PK14)/$E28,0),)","v":0},{"$f":"IF(PM$6>0,IF((SUM($F28:PL28)+0.1<SUM($G14:PL14)),SUM($G14:PL14)/$E28,0),)","v":0},{"$f":"IF(PN$6>0,IF((SUM($F28:PM28)+0.1<SUM($G14:PM14)),SUM($G14:PM14)/$E28,0),)","v":0},{"$f":"IF(PO$6>0,IF((SUM($F28:PN28)+0.1<SUM($G14:PN14)),SUM($G14:PN14)/$E28,0),)","v":0},{"$f":"IF(PP$6>0,IF((SUM($F28:PO28)+0.1<SUM($G14:PO14)),SUM($G14:PO14)/$E28,0),)","v":0},{"$f":"IF(PQ$6>0,IF((SUM($F28:PP28)+0.1<SUM($G14:PP14)),SUM($G14:PP14)/$E28,0),)","v":0},{"$f":"IF(PR$6>0,IF((SUM($F28:PQ28)+0.1<SUM($G14:PQ14)),SUM($G14:PQ14)/$E28,0),)","v":0},{"$f":"IF(PS$6>0,IF((SUM($F28:PR28)+0.1<SUM($G14:PR14)),SUM($G14:PR14)/$E28,0),)","v":0},{"$f":"IF(PT$6>0,IF((SUM($F28:PS28)+0.1<SUM($G14:PS14)),SUM($G14:PS14)/$E28,0),)","v":0},{"$f":"IF(PU$6>0,IF((SUM($F28:PT28)+0.1<SUM($G14:PT14)),SUM($G14:PT14)/$E28,0),)","v":0},{"$f":"IF(PV$6>0,IF((SUM($F28:PU28)+0.1<SUM($G14:PU14)),SUM($G14:PU14)/$E28,0),)","v":0},{"$f":"IF(PW$6>0,IF((SUM($F28:PV28)+0.1<SUM($G14:PV14)),SUM($G14:PV14)/$E28,0),)","v":0},{"$f":"IF(PX$6>0,IF((SUM($F28:PW28)+0.1<SUM($G14:PW14)),SUM($G14:PW14)/$E28,0),)","v":0},{"$f":"IF(PY$6>0,IF((SUM($F28:PX28)+0.1<SUM($G14:PX14)),SUM($G14:PX14)/$E28,0),)","v":0},{"$f":"IF(PZ$6>0,IF((SUM($F28:PY28)+0.1<SUM($G14:PY14)),SUM($G14:PY14)/$E28,0),)","v":0},{"$f":"IF(QA$6>0,IF((SUM($F28:PZ28)+0.1<SUM($G14:PZ14)),SUM($G14:PZ14)/$E28,0),)","v":0},{"$f":"IF(QB$6>0,IF((SUM($F28:QA28)+0.1<SUM($G14:QA14)),SUM($G14:QA14)/$E28,0),)","v":0},{"$f":"IF(QC$6>0,IF((SUM($F28:QB28)+0.1<SUM($G14:QB14)),SUM($G14:QB14)/$E28,0),)","v":0},{"$f":"IF(QD$6>0,IF((SUM($F28:QC28)+0.1<SUM($G14:QC14)),SUM($G14:QC14)/$E28,0),)","v":0},{"$f":"IF(QE$6>0,IF((SUM($F28:QD28)+0.1<SUM($G14:QD14)),SUM($G14:QD14)/$E28,0),)","v":0},{"$f":"IF(QF$6>0,IF((SUM($F28:QE28)+0.1<SUM($G14:QE14)),SUM($G14:QE14)/$E28,0),)","v":0},{"$f":"IF(QG$6>0,IF((SUM($F28:QF28)+0.1<SUM($G14:QF14)),SUM($G14:QF14)/$E28,0),)","v":0},{"$f":"IF(QH$6>0,IF((SUM($F28:QG28)+0.1<SUM($G14:QG14)),SUM($G14:QG14)/$E28,0),)","v":0},{"$f":"IF(QI$6>0,IF((SUM($F28:QH28)+0.1<SUM($G14:QH14)),SUM($G14:QH14)/$E28,0),)","v":0},{"$f":"IF(QJ$6>0,IF((SUM($F28:QI28)+0.1<SUM($G14:QI14)),SUM($G14:QI14)/$E28,0),)","v":0},{"$f":"IF(QK$6>0,IF((SUM($F28:QJ28)+0.1<SUM($G14:QJ14)),SUM($G14:QJ14)/$E28,0),)","v":0},{"$f":"IF(QL$6>0,IF((SUM($F28:QK28)+0.1<SUM($G14:QK14)),SUM($G14:QK14)/$E28,0),)","v":0},{"$f":"IF(QM$6>0,IF((SUM($F28:QL28)+0.1<SUM($G14:QL14)),SUM($G14:QL14)/$E28,0),)","v":0},{"$f":"IF(QN$6>0,IF((SUM($F28:QM28)+0.1<SUM($G14:QM14)),SUM($G14:QM14)/$E28,0),)","v":0},{"$f":"IF(QO$6>0,IF((SUM($F28:QN28)+0.1<SUM($G14:QN14)),SUM($G14:QN14)/$E28,0),)","v":0},{"$f":"IF(QP$6>0,IF((SUM($F28:QO28)+0.1<SUM($G14:QO14)),SUM($G14:QO14)/$E28,0),)","v":0},{"$f":"IF(QQ$6>0,IF((SUM($F28:QP28)+0.1<SUM($G14:QP14)),SUM($G14:QP14)/$E28,0),)","v":0},{"$f":"IF(QR$6>0,IF((SUM($F28:QQ28)+0.1<SUM($G14:QQ14)),SUM($G14:QQ14)/$E28,0),)","v":0},{"$f":"IF(QS$6>0,IF((SUM($F28:QR28)+0.1<SUM($G14:QR14)),SUM($G14:QR14)/$E28,0),)","v":0},{"$f":"IF(QT$6>0,IF((SUM($F28:QS28)+0.1<SUM($G14:QS14)),SUM($G14:QS14)/$E28,0),)","v":0},{"$f":"IF(QU$6>0,IF((SUM($F28:QT28)+0.1<SUM($G14:QT14)),SUM($G14:QT14)/$E28,0),)","v":0},{"$f":"IF(QV$6>0,IF((SUM($F28:QU28)+0.1<SUM($G14:QU14)),SUM($G14:QU14)/$E28,0),)","v":0},{"$f":"IF(QW$6>0,IF((SUM($F28:QV28)+0.1<SUM($G14:QV14)),SUM($G14:QV14)/$E28,0),)","v":0},{"$f":"IF(QX$6>0,IF((SUM($F28:QW28)+0.1<SUM($G14:QW14)),SUM($G14:QW14)/$E28,0),)","v":0},{"$f":"IF(QY$6>0,IF((SUM($F28:QX28)+0.1<SUM($G14:QX14)),SUM($G14:QX14)/$E28,0),)","v":0},{"$f":"IF(QZ$6>0,IF((SUM($F28:QY28)+0.1<SUM($G14:QY14)),SUM($G14:QY14)/$E28,0),)","v":0},{"$f":"IF(RA$6>0,IF((SUM($F28:QZ28)+0.1<SUM($G14:QZ14)),SUM($G14:QZ14)/$E28,0),)","v":0},{"$f":"IF(RB$6>0,IF((SUM($F28:RA28)+0.1<SUM($G14:RA14)),SUM($G14:RA14)/$E28,0),)","v":0},{"$f":"IF(RC$6>0,IF((SUM($F28:RB28)+0.1<SUM($G14:RB14)),SUM($G14:RB14)/$E28,0),)","v":0},{"$f":"IF(RD$6>0,IF((SUM($F28:RC28)+0.1<SUM($G14:RC14)),SUM($G14:RC14)/$E28,0),)","v":0},{"$f":"IF(RE$6>0,IF((SUM($F28:RD28)+0.1<SUM($G14:RD14)),SUM($G14:RD14)/$E28,0),)","v":0},{"$f":"IF(RF$6>0,IF((SUM($F28:RE28)+0.1<SUM($G14:RE14)),SUM($G14:RE14)/$E28,0),)","v":0}]
[null,0,0,0,0,null,{"$f":"IF(G$6>0,IF((SUM($F29:F29)+0.1<$C29),$C29/$E29,0),)","v":0},{"$f":"IF(H$6>0,IF((SUM($F29:G29)+0.1<SUM($G15:G15)),SUM($G15:G15)/$E29,0),)","v":0},{"$f":"IF(I$6>0,IF((SUM($F29:H29)+0.1<SUM($G15:H15)),SUM($G15:H15)/$E29,0),)","v":0},{"$f":"IF(J$6>0,IF((SUM($F29:I29)+0.1<SUM($G15:I15)),SUM($G15:I15)/$E29,0),)","v":0},{"$f":"IF(K$6>0,IF((SUM($F29:J29)+0.1<SUM($G15:J15)),SUM($G15:J15)/$E29,0),)","v":0},{"$f":"IF(L$6>0,IF((SUM($F29:K29)+0.1<SUM($G15:K15)),SUM($G15:K15)/$E29,0),)","v":0},{"$f":"IF(M$6>0,IF((SUM($F29:L29)+0.1<SUM($G15:L15)),SUM($G15:L15)/$E29,0),)","v":0},{"$f":"IF(N$6>0,IF((SUM($F29:M29)+0.1<SUM($G15:M15)),SUM($G15:M15)/$E29,0),)","v":0},{"$f":"IF(O$6>0,IF((SUM($F29:N29)+0.1<SUM($G15:N15)),SUM($G15:N15)/$E29,0),)","v":0},{"$f":"IF(P$6>0,IF((SUM($F29:O29)+0.1<SUM($G15:O15)),SUM($G15:O15)/$E29,0),)","v":0},{"$f":"IF(Q$6>0,IF((SUM($F29:P29)+0.1<SUM($G15:P15)),SUM($G15:P15)/$E29,0),)","v":0},{"$f":"IF(R$6>0,IF((SUM($F29:Q29)+0.1<SUM($G15:Q15)),SUM($G15:Q15)/$E29,0),)","v":0},{"$f":"IF(S$6>0,IF((SUM($F29:R29)+0.1<SUM($G15:R15)),SUM($G15:R15)/$E29,0),)","v":0},{"$f":"IF(T$6>0,IF((SUM($F29:S29)+0.1<SUM($G15:S15)),SUM($G15:S15)/$E29,0),)","v":0},{"$f":"IF(U$6>0,IF((SUM($F29:T29)+0.1<SUM($G15:T15)),SUM($G15:T15)/$E29,0),)","v":0},{"$f":"IF(V$6>0,IF((SUM($F29:U29)+0.1<SUM($G15:U15)),SUM($G15:U15)/$E29,0),)","v":0},{"$f":"IF(W$6>0,IF((SUM($F29:V29)+0.1<SUM($G15:V15)),SUM($G15:V15)/$E29,0),)","v":0},{"$f":"IF(X$6>0,IF((SUM($F29:W29)+0.1<SUM($G15:W15)),SUM($G15:W15)/$E29,0),)","v":0},{"$f":"IF(Y$6>0,IF((SUM($F29:X29)+0.1<SUM($G15:X15)),SUM($G15:X15)/$E29,0),)","v":0},{"$f":"IF(Z$6>0,IF((SUM($F29:Y29)+0.1<SUM($G15:Y15)),SUM($G15:Y15)/$E29,0),)","v":0},{"$f":"IF(AA$6>0,IF((SUM($F29:Z29)+0.1<SUM($G15:Z15)),SUM($G15:Z15)/$E29,0),)","v":0},{"$f":"IF(AB$6>0,IF((SUM($F29:AA29)+0.1<SUM($G15:AA15)),SUM($G15:AA15)/$E29,0),)","v":0},{"$f":"IF(AC$6>0,IF((SUM($F29:AB29)+0.1<SUM($G15:AB15)),SUM($G15:AB15)/$E29,0),)","v":0},{"$f":"IF(AD$6>0,IF((SUM($F29:AC29)+0.1<SUM($G15:AC15)),SUM($G15:AC15)/$E29,0),)","v":0},{"$f":"IF(AE$6>0,IF((SUM($F29:AD29)+0.1<SUM($G15:AD15)),SUM($G15:AD15)/$E29,0),)","v":0},{"$f":"IF(AF$6>0,IF((SUM($F29:AE29)+0.1<SUM($G15:AE15)),SUM($G15:AE15)/$E29,0),)","v":0},{"$f":"IF(AG$6>0,IF((SUM($F29:AF29)+0.1<SUM($G15:AF15)),SUM($G15:AF15)/$E29,0),)","v":0},{"$f":"IF(AH$6>0,IF((SUM($F29:AG29)+0.1<SUM($G15:AG15)),SUM($G15:AG15)/$E29,0),)","v":0},{"$f":"IF(AI$6>0,IF((SUM($F29:AH29)+0.1<SUM($G15:AH15)),SUM($G15:AH15)/$E29,0),)","v":0},{"$f":"IF(AJ$6>0,IF((SUM($F29:AI29)+0.1<SUM($G15:AI15)),SUM($G15:AI15)/$E29,0),)","v":0},{"$f":"IF(AK$6>0,IF((SUM($F29:AJ29)+0.1<SUM($G15:AJ15)),SUM($G15:AJ15)/$E29,0),)","v":0},{"$f":"IF(AL$6>0,IF((SUM($F29:AK29)+0.1<SUM($G15:AK15)),SUM($G15:AK15)/$E29,0),)","v":0},{"$f":"IF(AM$6>0,IF((SUM($F29:AL29)+0.1<SUM($G15:AL15)),SUM($G15:AL15)/$E29,0),)","v":0},{"$f":"IF(AN$6>0,IF((SUM($F29:AM29)+0.1<SUM($G15:AM15)),SUM($G15:AM15)/$E29,0),)","v":0},{"$f":"IF(AO$6>0,IF((SUM($F29:AN29)+0.1<SUM($G15:AN15)),SUM($G15:AN15)/$E29,0),)","v":0},{"$f":"IF(AP$6>0,IF((SUM($F29:AO29)+0.1<SUM($G15:AO15)),SUM($G15:AO15)/$E29,0),)","v":0},{"$f":"IF(AQ$6>0,IF((SUM($F29:AP29)+0.1<SUM($G15:AP15)),SUM($G15:AP15)/$E29,0),)","v":0},{"$f":"IF(AR$6>0,IF((SUM($F29:AQ29)+0.1<SUM($G15:AQ15)),SUM($G15:AQ15)/$E29,0),)","v":0},{"$f":"IF(AS$6>0,IF((SUM($F29:AR29)+0.1<SUM($G15:AR15)),SUM($G15:AR15)/$E29,0),)","v":0},{"$f":"IF(AT$6>0,IF((SUM($F29:AS29)+0.1<SUM($G15:AS15)),SUM($G15:AS15)/$E29,0),)","v":0},{"$f":"IF(AU$6>0,IF((SUM($F29:AT29)+0.1<SUM($G15:AT15)),SUM($G15:AT15)/$E29,0),)","v":0},{"$f":"IF(AV$6>0,IF((SUM($F29:AU29)+0.1<SUM($G15:AU15)),SUM($G15:AU15)/$E29,0),)","v":0},{"$f":"IF(AW$6>0,IF((SUM($F29:AV29)+0.1<SUM($G15:AV15)),SUM($G15:AV15)/$E29,0),)","v":0},{"$f":"IF(AX$6>0,IF((SUM($F29:AW29)+0.1<SUM($G15:AW15)),SUM($G15:AW15)/$E29,0),)","v":0},{"$f":"IF(AY$6>0,IF((SUM($F29:AX29)+0.1<SUM($G15:AX15)),SUM($G15:AX15)/$E29,0),)","v":0},{"$f":"IF(AZ$6>0,IF((SUM($F29:AY29)+0.1<SUM($G15:AY15)),SUM($G15:AY15)/$E29,0),)","v":0},{"$f":"IF(BA$6>0,IF((SUM($F29:AZ29)+0.1<SUM($G15:AZ15)),SUM($G15:AZ15)/$E29,0),)","v":0},{"$f":"IF(BB$6>0,IF((SUM($F29:BA29)+0.1<SUM($G15:BA15)),SUM($G15:BA15)/$E29,0),)","v":0},{"$f":"IF(BC$6>0,IF((SUM($F29:BB29)+0.1<SUM($G15:BB15)),SUM($G15:BB15)/$E29,0),)","v":0},{"$f":"IF(BD$6>0,IF((SUM($F29:BC29)+0.1<SUM($G15:BC15)),SUM($G15:BC15)/$E29,0),)","v":0},{"$f":"IF(BE$6>0,IF((SUM($F29:BD29)+0.1<SUM($G15:BD15)),SUM($G15:BD15)/$E29,0),)","v":0},{"$f":"IF(BF$6>0,IF((SUM($F29:BE29)+0.1<SUM($G15:BE15)),SUM($G15:BE15)/$E29,0),)","v":0},{"$f":"IF(BG$6>0,IF((SUM($F29:BF29)+0.1<SUM($G15:BF15)),SUM($G15:BF15)/$E29,0),)","v":0},{"$f":"IF(BH$6>0,IF((SUM($F29:BG29)+0.1<SUM($G15:BG15)),SUM($G15:BG15)/$E29,0),)","v":0},{"$f":"IF(BI$6>0,IF((SUM($F29:BH29)+0.1<SUM($G15:BH15)),SUM($G15:BH15)/$E29,0),)","v":0},{"$f":"IF(BJ$6>0,IF((SUM($F29:BI29)+0.1<SUM($G15:BI15)),SUM($G15:BI15)/$E29,0),)","v":0},{"$f":"IF(BK$6>0,IF((SUM($F29:BJ29)+0.1<SUM($G15:BJ15)),SUM($G15:BJ15)/$E29,0),)","v":0},{"$f":"IF(BL$6>0,IF((SUM($F29:BK29)+0.1<SUM($G15:BK15)),SUM($G15:BK15)/$E29,0),)","v":0},{"$f":"IF(BM$6>0,IF((SUM($F29:BL29)+0.1<SUM($G15:BL15)),SUM($G15:BL15)/$E29,0),)","v":0},{"$f":"IF(BN$6>0,IF((SUM($F29:BM29)+0.1<SUM($G15:BM15)),SUM($G15:BM15)/$E29,0),)","v":0},{"$f":"IF(BO$6>0,IF((SUM($F29:BN29)+0.1<SUM($G15:BN15)),SUM($G15:BN15)/$E29,0),)","v":0},{"$f":"IF(BP$6>0,IF((SUM($F29:BO29)+0.1<SUM($G15:BO15)),SUM($G15:BO15)/$E29,0),)","v":0},{"$f":"IF(BQ$6>0,IF((SUM($F29:BP29)+0.1<SUM($G15:BP15)),SUM($G15:BP15)/$E29,0),)","v":0},{"$f":"IF(BR$6>0,IF((SUM($F29:BQ29)+0.1<SUM($G15:BQ15)),SUM($G15:BQ15)/$E29,0),)","v":0},{"$f":"IF(BS$6>0,IF((SUM($F29:BR29)+0.1<SUM($G15:BR15)),SUM($G15:BR15)/$E29,0),)","v":0},{"$f":"IF(BT$6>0,IF((SUM($F29:BS29)+0.1<SUM($G15:BS15)),SUM($G15:BS15)/$E29,0),)","v":0},{"$f":"IF(BU$6>0,IF((SUM($F29:BT29)+0.1<SUM($G15:BT15)),SUM($G15:BT15)/$E29,0),)","v":0},{"$f":"IF(BV$6>0,IF((SUM($F29:BU29)+0.1<SUM($G15:BU15)),SUM($G15:BU15)/$E29,0),)","v":0},{"$f":"IF(BW$6>0,IF((SUM($F29:BV29)+0.1<SUM($G15:BV15)),SUM($G15:BV15)/$E29,0),)","v":0},{"$f":"IF(BX$6>0,IF((SUM($F29:BW29)+0.1<SUM($G15:BW15)),SUM($G15:BW15)/$E29,0),)","v":0},{"$f":"IF(BY$6>0,IF((SUM($F29:BX29)+0.1<SUM($G15:BX15)),SUM($G15:BX15)/$E29,0),)","v":0},{"$f":"IF(BZ$6>0,IF((SUM($F29:BY29)+0.1<SUM($G15:BY15)),SUM($G15:BY15)/$E29,0),)","v":0},{"$f":"IF(CA$6>0,IF((SUM($F29:BZ29)+0.1<SUM($G15:BZ15)),SUM($G15:BZ15)/$E29,0),)","v":0},{"$f":"IF(CB$6>0,IF((SUM($F29:CA29)+0.1<SUM($G15:CA15)),SUM($G15:CA15)/$E29,0),)","v":0},{"$f":"IF(CC$6>0,IF((SUM($F29:CB29)+0.1<SUM($G15:CB15)),SUM($G15:CB15)/$E29,0),)","v":0},{"$f":"IF(CD$6>0,IF((SUM($F29:CC29)+0.1<SUM($G15:CC15)),SUM($G15:CC15)/$E29,0),)","v":0},{"$f":"IF(CE$6>0,IF((SUM($F29:CD29)+0.1<SUM($G15:CD15)),SUM($G15:CD15)/$E29,0),)","v":0},{"$f":"IF(CF$6>0,IF((SUM($F29:CE29)+0.1<SUM($G15:CE15)),SUM($G15:CE15)/$E29,0),)","v":0},{"$f":"IF(CG$6>0,IF((SUM($F29:CF29)+0.1<SUM($G15:CF15)),SUM($G15:CF15)/$E29,0),)","v":0},{"$f":"IF(CH$6>0,IF((SUM($F29:CG29)+0.1<SUM($G15:CG15)),SUM($G15:CG15)/$E29,0),)","v":0},{"$f":"IF(CI$6>0,IF((SUM($F29:CH29)+0.1<SUM($G15:CH15)),SUM($G15:CH15)/$E29,0),)","v":0},{"$f":"IF(CJ$6>0,IF((SUM($F29:CI29)+0.1<SUM($G15:CI15)),SUM($G15:CI15)/$E29,0),)","v":0},{"$f":"IF(CK$6>0,IF((SUM($F29:CJ29)+0.1<SUM($G15:CJ15)),SUM($G15:CJ15)/$E29,0),)","v":0},{"$f":"IF(CL$6>0,IF((SUM($F29:CK29)+0.1<SUM($G15:CK15)),SUM($G15:CK15)/$E29,0),)","v":0},{"$f":"IF(CM$6>0,IF((SUM($F29:CL29)+0.1<SUM($G15:CL15)),SUM($G15:CL15)/$E29,0),)","v":0},{"$f":"IF(CN$6>0,IF((SUM($F29:CM29)+0.1<SUM($G15:CM15)),SUM($G15:CM15)/$E29,0),)","v":0},{"$f":"IF(CO$6>0,IF((SUM($F29:CN29)+0.1<SUM($G15:CN15)),SUM($G15:CN15)/$E29,0),)","v":0},{"$f":"IF(CP$6>0,IF((SUM($F29:CO29)+0.1<SUM($G15:CO15)),SUM($G15:CO15)/$E29,0),)","v":0},{"$f":"IF(CQ$6>0,IF((SUM($F29:CP29)+0.1<SUM($G15:CP15)),SUM($G15:CP15)/$E29,0),)","v":0},{"$f":"IF(CR$6>0,IF((SUM($F29:CQ29)+0.1<SUM($G15:CQ15)),SUM($G15:CQ15)/$E29,0),)","v":0},{"$f":"IF(CS$6>0,IF((SUM($F29:CR29)+0.1<SUM($G15:CR15)),SUM($G15:CR15)/$E29,0),)","v":0},{"$f":"IF(CT$6>0,IF((SUM($F29:CS29)+0.1<SUM($G15:CS15)),SUM($G15:CS15)/$E29,0),)","v":0},{"$f":"IF(CU$6>0,IF((SUM($F29:CT29)+0.1<SUM($G15:CT15)),SUM($G15:CT15)/$E29,0),)","v":0},{"$f":"IF(CV$6>0,IF((SUM($F29:CU29)+0.1<SUM($G15:CU15)),SUM($G15:CU15)/$E29,0),)","v":0},{"$f":"IF(CW$6>0,IF((SUM($F29:CV29)+0.1<SUM($G15:CV15)),SUM($G15:CV15)/$E29,0),)","v":0},{"$f":"IF(CX$6>0,IF((SUM($F29:CW29)+0.1<SUM($G15:CW15)),SUM($G15:CW15)/$E29,0),)","v":0},{"$f":"IF(CY$6>0,IF((SUM($F29:CX29)+0.1<SUM($G15:CX15)),SUM($G15:CX15)/$E29,0),)","v":0},{"$f":"IF(CZ$6>0,IF((SUM($F29:CY29)+0.1<SUM($G15:CY15)),SUM($G15:CY15)/$E29,0),)","v":0},{"$f":"IF(DA$6>0,IF((SUM($F29:CZ29)+0.1<SUM($G15:CZ15)),SUM($G15:CZ15)/$E29,0),)","v":0},{"$f":"IF(DB$6>0,IF((SUM($F29:DA29)+0.1<SUM($G15:DA15)),SUM($G15:DA15)/$E29,0),)","v":0},{"$f":"IF(DC$6>0,IF((SUM($F29:DB29)+0.1<SUM($G15:DB15)),SUM($G15:DB15)/$E29,0),)","v":0},{"$f":"IF(DD$6>0,IF((SUM($F29:DC29)+0.1<SUM($G15:DC15)),SUM($G15:DC15)/$E29,0),)","v":0},{"$f":"IF(DE$6>0,IF((SUM($F29:DD29)+0.1<SUM($G15:DD15)),SUM($G15:DD15)/$E29,0),)","v":0},{"$f":"IF(DF$6>0,IF((SUM($F29:DE29)+0.1<SUM($G15:DE15)),SUM($G15:DE15)/$E29,0),)","v":0},{"$f":"IF(DG$6>0,IF((SUM($F29:DF29)+0.1<SUM($G15:DF15)),SUM($G15:DF15)/$E29,0),)","v":0},{"$f":"IF(DH$6>0,IF((SUM($F29:DG29)+0.1<SUM($G15:DG15)),SUM($G15:DG15)/$E29,0),)","v":0},{"$f":"IF(DI$6>0,IF((SUM($F29:DH29)+0.1<SUM($G15:DH15)),SUM($G15:DH15)/$E29,0),)","v":0},{"$f":"IF(DJ$6>0,IF((SUM($F29:DI29)+0.1<SUM($G15:DI15)),SUM($G15:DI15)/$E29,0),)","v":0},{"$f":"IF(DK$6>0,IF((SUM($F29:DJ29)+0.1<SUM($G15:DJ15)),SUM($G15:DJ15)/$E29,0),)","v":0},{"$f":"IF(DL$6>0,IF((SUM($F29:DK29)+0.1<SUM($G15:DK15)),SUM($G15:DK15)/$E29,0),)","v":0},{"$f":"IF(DM$6>0,IF((SUM($F29:DL29)+0.1<SUM($G15:DL15)),SUM($G15:DL15)/$E29,0),)","v":0},{"$f":"IF(DN$6>0,IF((SUM($F29:DM29)+0.1<SUM($G15:DM15)),SUM($G15:DM15)/$E29,0),)","v":0},{"$f":"IF(DO$6>0,IF((SUM($F29:DN29)+0.1<SUM($G15:DN15)),SUM($G15:DN15)/$E29,0),)","v":0},{"$f":"IF(DP$6>0,IF((SUM($F29:DO29)+0.1<SUM($G15:DO15)),SUM($G15:DO15)/$E29,0),)","v":0},{"$f":"IF(DQ$6>0,IF((SUM($F29:DP29)+0.1<SUM($G15:DP15)),SUM($G15:DP15)/$E29,0),)","v":0},{"$f":"IF(DR$6>0,IF((SUM($F29:DQ29)+0.1<SUM($G15:DQ15)),SUM($G15:DQ15)/$E29,0),)","v":0},{"$f":"IF(DS$6>0,IF((SUM($F29:DR29)+0.1<SUM($G15:DR15)),SUM($G15:DR15)/$E29,0),)","v":0},{"$f":"IF(DT$6>0,IF((SUM($F29:DS29)+0.1<SUM($G15:DS15)),SUM($G15:DS15)/$E29,0),)","v":0},{"$f":"IF(DU$6>0,IF((SUM($F29:DT29)+0.1<SUM($G15:DT15)),SUM($G15:DT15)/$E29,0),)","v":0},{"$f":"IF(DV$6>0,IF((SUM($F29:DU29)+0.1<SUM($G15:DU15)),SUM($G15:DU15)/$E29,0),)","v":0},{"$f":"IF(DW$6>0,IF((SUM($F29:DV29)+0.1<SUM($G15:DV15)),SUM($G15:DV15)/$E29,0),)","v":0},{"$f":"IF(DX$6>0,IF((SUM($F29:DW29)+0.1<SUM($G15:DW15)),SUM($G15:DW15)/$E29,0),)","v":0},{"$f":"IF(DY$6>0,IF((SUM($F29:DX29)+0.1<SUM($G15:DX15)),SUM($G15:DX15)/$E29,0),)","v":0},{"$f":"IF(DZ$6>0,IF((SUM($F29:DY29)+0.1<SUM($G15:DY15)),SUM($G15:DY15)/$E29,0),)","v":0},{"$f":"IF(EA$6>0,IF((SUM($F29:DZ29)+0.1<SUM($G15:DZ15)),SUM($G15:DZ15)/$E29,0),)","v":0},{"$f":"IF(EB$6>0,IF((SUM($F29:EA29)+0.1<SUM($G15:EA15)),SUM($G15:EA15)/$E29,0),)","v":0},{"$f":"IF(EC$6>0,IF((SUM($F29:EB29)+0.1<SUM($G15:EB15)),SUM($G15:EB15)/$E29,0),)","v":0},{"$f":"IF(ED$6>0,IF((SUM($F29:EC29)+0.1<SUM($G15:EC15)),SUM($G15:EC15)/$E29,0),)","v":0},{"$f":"IF(EE$6>0,IF((SUM($F29:ED29)+0.1<SUM($G15:ED15)),SUM($G15:ED15)/$E29,0),)","v":0},{"$f":"IF(EF$6>0,IF((SUM($F29:EE29)+0.1<SUM($G15:EE15)),SUM($G15:EE15)/$E29,0),)","v":0},{"$f":"IF(EG$6>0,IF((SUM($F29:EF29)+0.1<SUM($G15:EF15)),SUM($G15:EF15)/$E29,0),)","v":0},{"$f":"IF(EH$6>0,IF((SUM($F29:EG29)+0.1<SUM($G15:EG15)),SUM($G15:EG15)/$E29,0),)","v":0},{"$f":"IF(EI$6>0,IF((SUM($F29:EH29)+0.1<SUM($G15:EH15)),SUM($G15:EH15)/$E29,0),)","v":0},{"$f":"IF(EJ$6>0,IF((SUM($F29:EI29)+0.1<SUM($G15:EI15)),SUM($G15:EI15)/$E29,0),)","v":0},{"$f":"IF(EK$6>0,IF((SUM($F29:EJ29)+0.1<SUM($G15:EJ15)),SUM($G15:EJ15)/$E29,0),)","v":0},{"$f":"IF(EL$6>0,IF((SUM($F29:EK29)+0.1<SUM($G15:EK15)),SUM($G15:EK15)/$E29,0),)","v":0},{"$f":"IF(EM$6>0,IF((SUM($F29:EL29)+0.1<SUM($G15:EL15)),SUM($G15:EL15)/$E29,0),)","v":0},{"$f":"IF(EN$6>0,IF((SUM($F29:EM29)+0.1<SUM($G15:EM15)),SUM($G15:EM15)/$E29,0),)","v":0},{"$f":"IF(EO$6>0,IF((SUM($F29:EN29)+0.1<SUM($G15:EN15)),SUM($G15:EN15)/$E29,0),)","v":0},{"$f":"IF(EP$6>0,IF((SUM($F29:EO29)+0.1<SUM($G15:EO15)),SUM($G15:EO15)/$E29,0),)","v":0},{"$f":"IF(EQ$6>0,IF((SUM($F29:EP29)+0.1<SUM($G15:EP15)),SUM($G15:EP15)/$E29,0),)","v":0},{"$f":"IF(ER$6>0,IF((SUM($F29:EQ29)+0.1<SUM($G15:EQ15)),SUM($G15:EQ15)/$E29,0),)","v":0},{"$f":"IF(ES$6>0,IF((SUM($F29:ER29)+0.1<SUM($G15:ER15)),SUM($G15:ER15)/$E29,0),)","v":0},{"$f":"IF(ET$6>0,IF((SUM($F29:ES29)+0.1<SUM($G15:ES15)),SUM($G15:ES15)/$E29,0),)","v":0},{"$f":"IF(EU$6>0,IF((SUM($F29:ET29)+0.1<SUM($G15:ET15)),SUM($G15:ET15)/$E29,0),)","v":0},{"$f":"IF(EV$6>0,IF((SUM($F29:EU29)+0.1<SUM($G15:EU15)),SUM($G15:EU15)/$E29,0),)","v":0},{"$f":"IF(EW$6>0,IF((SUM($F29:EV29)+0.1<SUM($G15:EV15)),SUM($G15:EV15)/$E29,0),)","v":0},{"$f":"IF(EX$6>0,IF((SUM($F29:EW29)+0.1<SUM($G15:EW15)),SUM($G15:EW15)/$E29,0),)","v":0},{"$f":"IF(EY$6>0,IF((SUM($F29:EX29)+0.1<SUM($G15:EX15)),SUM($G15:EX15)/$E29,0),)","v":0},{"$f":"IF(EZ$6>0,IF((SUM($F29:EY29)+0.1<SUM($G15:EY15)),SUM($G15:EY15)/$E29,0),)","v":0},{"$f":"IF(FA$6>0,IF((SUM($F29:EZ29)+0.1<SUM($G15:EZ15)),SUM($G15:EZ15)/$E29,0),)","v":0},{"$f":"IF(FB$6>0,IF((SUM($F29:FA29)+0.1<SUM($G15:FA15)),SUM($G15:FA15)/$E29,0),)","v":0},{"$f":"IF(FC$6>0,IF((SUM($F29:FB29)+0.1<SUM($G15:FB15)),SUM($G15:FB15)/$E29,0),)","v":0},{"$f":"IF(FD$6>0,IF((SUM($F29:FC29)+0.1<SUM($G15:FC15)),SUM($G15:FC15)/$E29,0),)","v":0},{"$f":"IF(FE$6>0,IF((SUM($F29:FD29)+0.1<SUM($G15:FD15)),SUM($G15:FD15)/$E29,0),)","v":0},{"$f":"IF(FF$6>0,IF((SUM($F29:FE29)+0.1<SUM($G15:FE15)),SUM($G15:FE15)/$E29,0),)","v":0},{"$f":"IF(FG$6>0,IF((SUM($F29:FF29)+0.1<SUM($G15:FF15)),SUM($G15:FF15)/$E29,0),)","v":0},{"$f":"IF(FH$6>0,IF((SUM($F29:FG29)+0.1<SUM($G15:FG15)),SUM($G15:FG15)/$E29,0),)","v":0},{"$f":"IF(FI$6>0,IF((SUM($F29:FH29)+0.1<SUM($G15:FH15)),SUM($G15:FH15)/$E29,0),)","v":0},{"$f":"IF(FJ$6>0,IF((SUM($F29:FI29)+0.1<SUM($G15:FI15)),SUM($G15:FI15)/$E29,0),)","v":0},{"$f":"IF(FK$6>0,IF((SUM($F29:FJ29)+0.1<SUM($G15:FJ15)),SUM($G15:FJ15)/$E29,0),)","v":0},{"$f":"IF(FL$6>0,IF((SUM($F29:FK29)+0.1<SUM($G15:FK15)),SUM($G15:FK15)/$E29,0),)","v":0},{"$f":"IF(FM$6>0,IF((SUM($F29:FL29)+0.1<SUM($G15:FL15)),SUM($G15:FL15)/$E29,0),)","v":0},{"$f":"IF(FN$6>0,IF((SUM($F29:FM29)+0.1<SUM($G15:FM15)),SUM($G15:FM15)/$E29,0),)","v":0},{"$f":"IF(FO$6>0,IF((SUM($F29:FN29)+0.1<SUM($G15:FN15)),SUM($G15:FN15)/$E29,0),)","v":0},{"$f":"IF(FP$6>0,IF((SUM($F29:FO29)+0.1<SUM($G15:FO15)),SUM($G15:FO15)/$E29,0),)","v":0},{"$f":"IF(FQ$6>0,IF((SUM($F29:FP29)+0.1<SUM($G15:FP15)),SUM($G15:FP15)/$E29,0),)","v":0},{"$f":"IF(FR$6>0,IF((SUM($F29:FQ29)+0.1<SUM($G15:FQ15)),SUM($G15:FQ15)/$E29,0),)","v":0},{"$f":"IF(FS$6>0,IF((SUM($F29:FR29)+0.1<SUM($G15:FR15)),SUM($G15:FR15)/$E29,0),)","v":0},{"$f":"IF(FT$6>0,IF((SUM($F29:FS29)+0.1<SUM($G15:FS15)),SUM($G15:FS15)/$E29,0),)","v":0},{"$f":"IF(FU$6>0,IF((SUM($F29:FT29)+0.1<SUM($G15:FT15)),SUM($G15:FT15)/$E29,0),)","v":0},{"$f":"IF(FV$6>0,IF((SUM($F29:FU29)+0.1<SUM($G15:FU15)),SUM($G15:FU15)/$E29,0),)","v":0},{"$f":"IF(FW$6>0,IF((SUM($F29:FV29)+0.1<SUM($G15:FV15)),SUM($G15:FV15)/$E29,0),)","v":0},{"$f":"IF(FX$6>0,IF((SUM($F29:FW29)+0.1<SUM($G15:FW15)),SUM($G15:FW15)/$E29,0),)","v":0},{"$f":"IF(FY$6>0,IF((SUM($F29:FX29)+0.1<SUM($G15:FX15)),SUM($G15:FX15)/$E29,0),)","v":0},{"$f":"IF(FZ$6>0,IF((SUM($F29:FY29)+0.1<SUM($G15:FY15)),SUM($G15:FY15)/$E29,0),)","v":0},{"$f":"IF(GA$6>0,IF((SUM($F29:FZ29)+0.1<SUM($G15:FZ15)),SUM($G15:FZ15)/$E29,0),)","v":0},{"$f":"IF(GB$6>0,IF((SUM($F29:GA29)+0.1<SUM($G15:GA15)),SUM($G15:GA15)/$E29,0),)","v":0},{"$f":"IF(GC$6>0,IF((SUM($F29:GB29)+0.1<SUM($G15:GB15)),SUM($G15:GB15)/$E29,0),)","v":0},{"$f":"IF(GD$6>0,IF((SUM($F29:GC29)+0.1<SUM($G15:GC15)),SUM($G15:GC15)/$E29,0),)","v":0},{"$f":"IF(GE$6>0,IF((SUM($F29:GD29)+0.1<SUM($G15:GD15)),SUM($G15:GD15)/$E29,0),)","v":0},{"$f":"IF(GF$6>0,IF((SUM($F29:GE29)+0.1<SUM($G15:GE15)),SUM($G15:GE15)/$E29,0),)","v":0},{"$f":"IF(GG$6>0,IF((SUM($F29:GF29)+0.1<SUM($G15:GF15)),SUM($G15:GF15)/$E29,0),)","v":0},{"$f":"IF(GH$6>0,IF((SUM($F29:GG29)+0.1<SUM($G15:GG15)),SUM($G15:GG15)/$E29,0),)","v":0},{"$f":"IF(GI$6>0,IF((SUM($F29:GH29)+0.1<SUM($G15:GH15)),SUM($G15:GH15)/$E29,0),)","v":0},{"$f":"IF(GJ$6>0,IF((SUM($F29:GI29)+0.1<SUM($G15:GI15)),SUM($G15:GI15)/$E29,0),)","v":0},{"$f":"IF(GK$6>0,IF((SUM($F29:GJ29)+0.1<SUM($G15:GJ15)),SUM($G15:GJ15)/$E29,0),)","v":0},{"$f":"IF(GL$6>0,IF((SUM($F29:GK29)+0.1<SUM($G15:GK15)),SUM($G15:GK15)/$E29,0),)","v":0},{"$f":"IF(GM$6>0,IF((SUM($F29:GL29)+0.1<SUM($G15:GL15)),SUM($G15:GL15)/$E29,0),)","v":0},{"$f":"IF(GN$6>0,IF((SUM($F29:GM29)+0.1<SUM($G15:GM15)),SUM($G15:GM15)/$E29,0),)","v":0},{"$f":"IF(GO$6>0,IF((SUM($F29:GN29)+0.1<SUM($G15:GN15)),SUM($G15:GN15)/$E29,0),)","v":0},{"$f":"IF(GP$6>0,IF((SUM($F29:GO29)+0.1<SUM($G15:GO15)),SUM($G15:GO15)/$E29,0),)","v":0},{"$f":"IF(GQ$6>0,IF((SUM($F29:GP29)+0.1<SUM($G15:GP15)),SUM($G15:GP15)/$E29,0),)","v":0},{"$f":"IF(GR$6>0,IF((SUM($F29:GQ29)+0.1<SUM($G15:GQ15)),SUM($G15:GQ15)/$E29,0),)","v":0},{"$f":"IF(GS$6>0,IF((SUM($F29:GR29)+0.1<SUM($G15:GR15)),SUM($G15:GR15)/$E29,0),)","v":0},{"$f":"IF(GT$6>0,IF((SUM($F29:GS29)+0.1<SUM($G15:GS15)),SUM($G15:GS15)/$E29,0),)","v":0},{"$f":"IF(GU$6>0,IF((SUM($F29:GT29)+0.1<SUM($G15:GT15)),SUM($G15:GT15)/$E29,0),)","v":0},{"$f":"IF(GV$6>0,IF((SUM($F29:GU29)+0.1<SUM($G15:GU15)),SUM($G15:GU15)/$E29,0),)","v":0},{"$f":"IF(GW$6>0,IF((SUM($F29:GV29)+0.1<SUM($G15:GV15)),SUM($G15:GV15)/$E29,0),)","v":0},{"$f":"IF(GX$6>0,IF((SUM($F29:GW29)+0.1<SUM($G15:GW15)),SUM($G15:GW15)/$E29,0),)","v":0},{"$f":"IF(GY$6>0,IF((SUM($F29:GX29)+0.1<SUM($G15:GX15)),SUM($G15:GX15)/$E29,0),)","v":0},{"$f":"IF(GZ$6>0,IF((SUM($F29:GY29)+0.1<SUM($G15:GY15)),SUM($G15:GY15)/$E29,0),)","v":0},{"$f":"IF(HA$6>0,IF((SUM($F29:GZ29)+0.1<SUM($G15:GZ15)),SUM($G15:GZ15)/$E29,0),)","v":0},{"$f":"IF(HB$6>0,IF((SUM($F29:HA29)+0.1<SUM($G15:HA15)),SUM($G15:HA15)/$E29,0),)","v":0},{"$f":"IF(HC$6>0,IF((SUM($F29:HB29)+0.1<SUM($G15:HB15)),SUM($G15:HB15)/$E29,0),)","v":0},{"$f":"IF(HD$6>0,IF((SUM($F29:HC29)+0.1<SUM($G15:HC15)),SUM($G15:HC15)/$E29,0),)","v":0},{"$f":"IF(HE$6>0,IF((SUM($F29:HD29)+0.1<SUM($G15:HD15)),SUM($G15:HD15)/$E29,0),)","v":0},{"$f":"IF(HF$6>0,IF((SUM($F29:HE29)+0.1<SUM($G15:HE15)),SUM($G15:HE15)/$E29,0),)","v":0},{"$f":"IF(HG$6>0,IF((SUM($F29:HF29)+0.1<SUM($G15:HF15)),SUM($G15:HF15)/$E29,0),)","v":0},{"$f":"IF(HH$6>0,IF((SUM($F29:HG29)+0.1<SUM($G15:HG15)),SUM($G15:HG15)/$E29,0),)","v":0},{"$f":"IF(HI$6>0,IF((SUM($F29:HH29)+0.1<SUM($G15:HH15)),SUM($G15:HH15)/$E29,0),)","v":0},{"$f":"IF(HJ$6>0,IF((SUM($F29:HI29)+0.1<SUM($G15:HI15)),SUM($G15:HI15)/$E29,0),)","v":0},{"$f":"IF(HK$6>0,IF((SUM($F29:HJ29)+0.1<SUM($G15:HJ15)),SUM($G15:HJ15)/$E29,0),)","v":0},{"$f":"IF(HL$6>0,IF((SUM($F29:HK29)+0.1<SUM($G15:HK15)),SUM($G15:HK15)/$E29,0),)","v":0},{"$f":"IF(HM$6>0,IF((SUM($F29:HL29)+0.1<SUM($G15:HL15)),SUM($G15:HL15)/$E29,0),)","v":0},{"$f":"IF(HN$6>0,IF((SUM($F29:HM29)+0.1<SUM($G15:HM15)),SUM($G15:HM15)/$E29,0),)","v":0},{"$f":"IF(HO$6>0,IF((SUM($F29:HN29)+0.1<SUM($G15:HN15)),SUM($G15:HN15)/$E29,0),)","v":0},{"$f":"IF(HP$6>0,IF((SUM($F29:HO29)+0.1<SUM($G15:HO15)),SUM($G15:HO15)/$E29,0),)","v":0},{"$f":"IF(HQ$6>0,IF((SUM($F29:HP29)+0.1<SUM($G15:HP15)),SUM($G15:HP15)/$E29,0),)","v":0},{"$f":"IF(HR$6>0,IF((SUM($F29:HQ29)+0.1<SUM($G15:HQ15)),SUM($G15:HQ15)/$E29,0),)","v":0},{"$f":"IF(HS$6>0,IF((SUM($F29:HR29)+0.1<SUM($G15:HR15)),SUM($G15:HR15)/$E29,0),)","v":0},{"$f":"IF(HT$6>0,IF((SUM($F29:HS29)+0.1<SUM($G15:HS15)),SUM($G15:HS15)/$E29,0),)","v":0},{"$f":"IF(HU$6>0,IF((SUM($F29:HT29)+0.1<SUM($G15:HT15)),SUM($G15:HT15)/$E29,0),)","v":0},{"$f":"IF(HV$6>0,IF((SUM($F29:HU29)+0.1<SUM($G15:HU15)),SUM($G15:HU15)/$E29,0),)","v":0},{"$f":"IF(HW$6>0,IF((SUM($F29:HV29)+0.1<SUM($G15:HV15)),SUM($G15:HV15)/$E29,0),)","v":0},{"$f":"IF(HX$6>0,IF((SUM($F29:HW29)+0.1<SUM($G15:HW15)),SUM($G15:HW15)/$E29,0),)","v":0},{"$f":"IF(HY$6>0,IF((SUM($F29:HX29)+0.1<SUM($G15:HX15)),SUM($G15:HX15)/$E29,0),)","v":0},{"$f":"IF(HZ$6>0,IF((SUM($F29:HY29)+0.1<SUM($G15:HY15)),SUM($G15:HY15)/$E29,0),)","v":0},{"$f":"IF(IA$6>0,IF((SUM($F29:HZ29)+0.1<SUM($G15:HZ15)),SUM($G15:HZ15)/$E29,0),)","v":0},{"$f":"IF(IB$6>0,IF((SUM($F29:IA29)+0.1<SUM($G15:IA15)),SUM($G15:IA15)/$E29,0),)","v":0},{"$f":"IF(IC$6>0,IF((SUM($F29:IB29)+0.1<SUM($G15:IB15)),SUM($G15:IB15)/$E29,0),)","v":0},{"$f":"IF(ID$6>0,IF((SUM($F29:IC29)+0.1<SUM($G15:IC15)),SUM($G15:IC15)/$E29,0),)","v":0},{"$f":"IF(IE$6>0,IF((SUM($F29:ID29)+0.1<SUM($G15:ID15)),SUM($G15:ID15)/$E29,0),)","v":0},{"$f":"IF(IF$6>0,IF((SUM($F29:IE29)+0.1<SUM($G15:IE15)),SUM($G15:IE15)/$E29,0),)","v":0},{"$f":"IF(IG$6>0,IF((SUM($F29:IF29)+0.1<SUM($G15:IF15)),SUM($G15:IF15)/$E29,0),)","v":0},{"$f":"IF(IH$6>0,IF((SUM($F29:IG29)+0.1<SUM($G15:IG15)),SUM($G15:IG15)/$E29,0),)","v":0},{"$f":"IF(II$6>0,IF((SUM($F29:IH29)+0.1<SUM($G15:IH15)),SUM($G15:IH15)/$E29,0),)","v":0},{"$f":"IF(IJ$6>0,IF((SUM($F29:II29)+0.1<SUM($G15:II15)),SUM($G15:II15)/$E29,0),)","v":0},{"$f":"IF(IK$6>0,IF((SUM($F29:IJ29)+0.1<SUM($G15:IJ15)),SUM($G15:IJ15)/$E29,0),)","v":0},{"$f":"IF(IL$6>0,IF((SUM($F29:IK29)+0.1<SUM($G15:IK15)),SUM($G15:IK15)/$E29,0),)","v":0},{"$f":"IF(IM$6>0,IF((SUM($F29:IL29)+0.1<SUM($G15:IL15)),SUM($G15:IL15)/$E29,0),)","v":0},{"$f":"IF(IN$6>0,IF((SUM($F29:IM29)+0.1<SUM($G15:IM15)),SUM($G15:IM15)/$E29,0),)","v":0},{"$f":"IF(IO$6>0,IF((SUM($F29:IN29)+0.1<SUM($G15:IN15)),SUM($G15:IN15)/$E29,0),)","v":0},{"$f":"IF(IP$6>0,IF((SUM($F29:IO29)+0.1<SUM($G15:IO15)),SUM($G15:IO15)/$E29,0),)","v":0},{"$f":"IF(IQ$6>0,IF((SUM($F29:IP29)+0.1<SUM($G15:IP15)),SUM($G15:IP15)/$E29,0),)","v":0},{"$f":"IF(IR$6>0,IF((SUM($F29:IQ29)+0.1<SUM($G15:IQ15)),SUM($G15:IQ15)/$E29,0),)","v":0},{"$f":"IF(IS$6>0,IF((SUM($F29:IR29)+0.1<SUM($G15:IR15)),SUM($G15:IR15)/$E29,0),)","v":0},{"$f":"IF(IT$6>0,IF((SUM($F29:IS29)+0.1<SUM($G15:IS15)),SUM($G15:IS15)/$E29,0),)","v":0},{"$f":"IF(IU$6>0,IF((SUM($F29:IT29)+0.1<SUM($G15:IT15)),SUM($G15:IT15)/$E29,0),)","v":0},{"$f":"IF(IV$6>0,IF((SUM($F29:IU29)+0.1<SUM($G15:IU15)),SUM($G15:IU15)/$E29,0),)","v":0},{"$f":"IF(IW$6>0,IF((SUM($F29:IV29)+0.1<SUM($G15:IV15)),SUM($G15:IV15)/$E29,0),)","v":0},{"$f":"IF(IX$6>0,IF((SUM($F29:IW29)+0.1<SUM($G15:IW15)),SUM($G15:IW15)/$E29,0),)","v":0},{"$f":"IF(IY$6>0,IF((SUM($F29:IX29)+0.1<SUM($G15:IX15)),SUM($G15:IX15)/$E29,0),)","v":0},{"$f":"IF(IZ$6>0,IF((SUM($F29:IY29)+0.1<SUM($G15:IY15)),SUM($G15:IY15)/$E29,0),)","v":0},{"$f":"IF(JA$6>0,IF((SUM($F29:IZ29)+0.1<SUM($G15:IZ15)),SUM($G15:IZ15)/$E29,0),)","v":0},{"$f":"IF(JB$6>0,IF((SUM($F29:JA29)+0.1<SUM($G15:JA15)),SUM($G15:JA15)/$E29,0),)","v":0},{"$f":"IF(JC$6>0,IF((SUM($F29:JB29)+0.1<SUM($G15:JB15)),SUM($G15:JB15)/$E29,0),)","v":0},{"$f":"IF(JD$6>0,IF((SUM($F29:JC29)+0.1<SUM($G15:JC15)),SUM($G15:JC15)/$E29,0),)","v":0},{"$f":"IF(JE$6>0,IF((SUM($F29:JD29)+0.1<SUM($G15:JD15)),SUM($G15:JD15)/$E29,0),)","v":0},{"$f":"IF(JF$6>0,IF((SUM($F29:JE29)+0.1<SUM($G15:JE15)),SUM($G15:JE15)/$E29,0),)","v":0},{"$f":"IF(JG$6>0,IF((SUM($F29:JF29)+0.1<SUM($G15:JF15)),SUM($G15:JF15)/$E29,0),)","v":0},{"$f":"IF(JH$6>0,IF((SUM($F29:JG29)+0.1<SUM($G15:JG15)),SUM($G15:JG15)/$E29,0),)","v":0},{"$f":"IF(JI$6>0,IF((SUM($F29:JH29)+0.1<SUM($G15:JH15)),SUM($G15:JH15)/$E29,0),)","v":0},{"$f":"IF(JJ$6>0,IF((SUM($F29:JI29)+0.1<SUM($G15:JI15)),SUM($G15:JI15)/$E29,0),)","v":0},{"$f":"IF(JK$6>0,IF((SUM($F29:JJ29)+0.1<SUM($G15:JJ15)),SUM($G15:JJ15)/$E29,0),)","v":0},{"$f":"IF(JL$6>0,IF((SUM($F29:JK29)+0.1<SUM($G15:JK15)),SUM($G15:JK15)/$E29,0),)","v":0},{"$f":"IF(JM$6>0,IF((SUM($F29:JL29)+0.1<SUM($G15:JL15)),SUM($G15:JL15)/$E29,0),)","v":0},{"$f":"IF(JN$6>0,IF((SUM($F29:JM29)+0.1<SUM($G15:JM15)),SUM($G15:JM15)/$E29,0),)","v":0},{"$f":"IF(JO$6>0,IF((SUM($F29:JN29)+0.1<SUM($G15:JN15)),SUM($G15:JN15)/$E29,0),)","v":0},{"$f":"IF(JP$6>0,IF((SUM($F29:JO29)+0.1<SUM($G15:JO15)),SUM($G15:JO15)/$E29,0),)","v":0},{"$f":"IF(JQ$6>0,IF((SUM($F29:JP29)+0.1<SUM($G15:JP15)),SUM($G15:JP15)/$E29,0),)","v":0},{"$f":"IF(JR$6>0,IF((SUM($F29:JQ29)+0.1<SUM($G15:JQ15)),SUM($G15:JQ15)/$E29,0),)","v":0},{"$f":"IF(JS$6>0,IF((SUM($F29:JR29)+0.1<SUM($G15:JR15)),SUM($G15:JR15)/$E29,0),)","v":0},{"$f":"IF(JT$6>0,IF((SUM($F29:JS29)+0.1<SUM($G15:JS15)),SUM($G15:JS15)/$E29,0),)","v":0},{"$f":"IF(JU$6>0,IF((SUM($F29:JT29)+0.1<SUM($G15:JT15)),SUM($G15:JT15)/$E29,0),)","v":0},{"$f":"IF(JV$6>0,IF((SUM($F29:JU29)+0.1<SUM($G15:JU15)),SUM($G15:JU15)/$E29,0),)","v":0},{"$f":"IF(JW$6>0,IF((SUM($F29:JV29)+0.1<SUM($G15:JV15)),SUM($G15:JV15)/$E29,0),)","v":0},{"$f":"IF(JX$6>0,IF((SUM($F29:JW29)+0.1<SUM($G15:JW15)),SUM($G15:JW15)/$E29,0),)","v":0},{"$f":"IF(JY$6>0,IF((SUM($F29:JX29)+0.1<SUM($G15:JX15)),SUM($G15:JX15)/$E29,0),)","v":0},{"$f":"IF(JZ$6>0,IF((SUM($F29:JY29)+0.1<SUM($G15:JY15)),SUM($G15:JY15)/$E29,0),)","v":0},{"$f":"IF(KA$6>0,IF((SUM($F29:JZ29)+0.1<SUM($G15:JZ15)),SUM($G15:JZ15)/$E29,0),)","v":0},{"$f":"IF(KB$6>0,IF((SUM($F29:KA29)+0.1<SUM($G15:KA15)),SUM($G15:KA15)/$E29,0),)","v":0},{"$f":"IF(KC$6>0,IF((SUM($F29:KB29)+0.1<SUM($G15:KB15)),SUM($G15:KB15)/$E29,0),)","v":0},{"$f":"IF(KD$6>0,IF((SUM($F29:KC29)+0.1<SUM($G15:KC15)),SUM($G15:KC15)/$E29,0),)","v":0},{"$f":"IF(KE$6>0,IF((SUM($F29:KD29)+0.1<SUM($G15:KD15)),SUM($G15:KD15)/$E29,0),)","v":0},{"$f":"IF(KF$6>0,IF((SUM($F29:KE29)+0.1<SUM($G15:KE15)),SUM($G15:KE15)/$E29,0),)","v":0},{"$f":"IF(KG$6>0,IF((SUM($F29:KF29)+0.1<SUM($G15:KF15)),SUM($G15:KF15)/$E29,0),)","v":0},{"$f":"IF(KH$6>0,IF((SUM($F29:KG29)+0.1<SUM($G15:KG15)),SUM($G15:KG15)/$E29,0),)","v":0},{"$f":"IF(KI$6>0,IF((SUM($F29:KH29)+0.1<SUM($G15:KH15)),SUM($G15:KH15)/$E29,0),)","v":0},{"$f":"IF(KJ$6>0,IF((SUM($F29:KI29)+0.1<SUM($G15:KI15)),SUM($G15:KI15)/$E29,0),)","v":0},{"$f":"IF(KK$6>0,IF((SUM($F29:KJ29)+0.1<SUM($G15:KJ15)),SUM($G15:KJ15)/$E29,0),)","v":0},{"$f":"IF(KL$6>0,IF((SUM($F29:KK29)+0.1<SUM($G15:KK15)),SUM($G15:KK15)/$E29,0),)","v":0},{"$f":"IF(KM$6>0,IF((SUM($F29:KL29)+0.1<SUM($G15:KL15)),SUM($G15:KL15)/$E29,0),)","v":0},{"$f":"IF(KN$6>0,IF((SUM($F29:KM29)+0.1<SUM($G15:KM15)),SUM($G15:KM15)/$E29,0),)","v":0},{"$f":"IF(KO$6>0,IF((SUM($F29:KN29)+0.1<SUM($G15:KN15)),SUM($G15:KN15)/$E29,0),)","v":0},{"$f":"IF(KP$6>0,IF((SUM($F29:KO29)+0.1<SUM($G15:KO15)),SUM($G15:KO15)/$E29,0),)","v":0},{"$f":"IF(KQ$6>0,IF((SUM($F29:KP29)+0.1<SUM($G15:KP15)),SUM($G15:KP15)/$E29,0),)","v":0},{"$f":"IF(KR$6>0,IF((SUM($F29:KQ29)+0.1<SUM($G15:KQ15)),SUM($G15:KQ15)/$E29,0),)","v":0},{"$f":"IF(KS$6>0,IF((SUM($F29:KR29)+0.1<SUM($G15:KR15)),SUM($G15:KR15)/$E29,0),)","v":0},{"$f":"IF(KT$6>0,IF((SUM($F29:KS29)+0.1<SUM($G15:KS15)),SUM($G15:KS15)/$E29,0),)","v":0},{"$f":"IF(KU$6>0,IF((SUM($F29:KT29)+0.1<SUM($G15:KT15)),SUM($G15:KT15)/$E29,0),)","v":0},{"$f":"IF(KV$6>0,IF((SUM($F29:KU29)+0.1<SUM($G15:KU15)),SUM($G15:KU15)/$E29,0),)","v":0},{"$f":"IF(KW$6>0,IF((SUM($F29:KV29)+0.1<SUM($G15:KV15)),SUM($G15:KV15)/$E29,0),)","v":0},{"$f":"IF(KX$6>0,IF((SUM($F29:KW29)+0.1<SUM($G15:KW15)),SUM($G15:KW15)/$E29,0),)","v":0},{"$f":"IF(KY$6>0,IF((SUM($F29:KX29)+0.1<SUM($G15:KX15)),SUM($G15:KX15)/$E29,0),)","v":0},{"$f":"IF(KZ$6>0,IF((SUM($F29:KY29)+0.1<SUM($G15:KY15)),SUM($G15:KY15)/$E29,0),)","v":0},{"$f":"IF(LA$6>0,IF((SUM($F29:KZ29)+0.1<SUM($G15:KZ15)),SUM($G15:KZ15)/$E29,0),)","v":0},{"$f":"IF(LB$6>0,IF((SUM($F29:LA29)+0.1<SUM($G15:LA15)),SUM($G15:LA15)/$E29,0),)","v":0},{"$f":"IF(LC$6>0,IF((SUM($F29:LB29)+0.1<SUM($G15:LB15)),SUM($G15:LB15)/$E29,0),)","v":0},{"$f":"IF(LD$6>0,IF((SUM($F29:LC29)+0.1<SUM($G15:LC15)),SUM($G15:LC15)/$E29,0),)","v":0},{"$f":"IF(LE$6>0,IF((SUM($F29:LD29)+0.1<SUM($G15:LD15)),SUM($G15:LD15)/$E29,0),)","v":0},{"$f":"IF(LF$6>0,IF((SUM($F29:LE29)+0.1<SUM($G15:LE15)),SUM($G15:LE15)/$E29,0),)","v":0},{"$f":"IF(LG$6>0,IF((SUM($F29:LF29)+0.1<SUM($G15:LF15)),SUM($G15:LF15)/$E29,0),)","v":0},{"$f":"IF(LH$6>0,IF((SUM($F29:LG29)+0.1<SUM($G15:LG15)),SUM($G15:LG15)/$E29,0),)","v":0},{"$f":"IF(LI$6>0,IF((SUM($F29:LH29)+0.1<SUM($G15:LH15)),SUM($G15:LH15)/$E29,0),)","v":0},{"$f":"IF(LJ$6>0,IF((SUM($F29:LI29)+0.1<SUM($G15:LI15)),SUM($G15:LI15)/$E29,0),)","v":0},{"$f":"IF(LK$6>0,IF((SUM($F29:LJ29)+0.1<SUM($G15:LJ15)),SUM($G15:LJ15)/$E29,0),)","v":0},{"$f":"IF(LL$6>0,IF((SUM($F29:LK29)+0.1<SUM($G15:LK15)),SUM($G15:LK15)/$E29,0),)","v":0},{"$f":"IF(LM$6>0,IF((SUM($F29:LL29)+0.1<SUM($G15:LL15)),SUM($G15:LL15)/$E29,0),)","v":0},{"$f":"IF(LN$6>0,IF((SUM($F29:LM29)+0.1<SUM($G15:LM15)),SUM($G15:LM15)/$E29,0),)","v":0},{"$f":"IF(LO$6>0,IF((SUM($F29:LN29)+0.1<SUM($G15:LN15)),SUM($G15:LN15)/$E29,0),)","v":0},{"$f":"IF(LP$6>0,IF((SUM($F29:LO29)+0.1<SUM($G15:LO15)),SUM($G15:LO15)/$E29,0),)","v":0},{"$f":"IF(LQ$6>0,IF((SUM($F29:LP29)+0.1<SUM($G15:LP15)),SUM($G15:LP15)/$E29,0),)","v":0},{"$f":"IF(LR$6>0,IF((SUM($F29:LQ29)+0.1<SUM($G15:LQ15)),SUM($G15:LQ15)/$E29,0),)","v":0},{"$f":"IF(LS$6>0,IF((SUM($F29:LR29)+0.1<SUM($G15:LR15)),SUM($G15:LR15)/$E29,0),)","v":0},{"$f":"IF(LT$6>0,IF((SUM($F29:LS29)+0.1<SUM($G15:LS15)),SUM($G15:LS15)/$E29,0),)","v":0},{"$f":"IF(LU$6>0,IF((SUM($F29:LT29)+0.1<SUM($G15:LT15)),SUM($G15:LT15)/$E29,0),)","v":0},{"$f":"IF(LV$6>0,IF((SUM($F29:LU29)+0.1<SUM($G15:LU15)),SUM($G15:LU15)/$E29,0),)","v":0},{"$f":"IF(LW$6>0,IF((SUM($F29:LV29)+0.1<SUM($G15:LV15)),SUM($G15:LV15)/$E29,0),)","v":0},{"$f":"IF(LX$6>0,IF((SUM($F29:LW29)+0.1<SUM($G15:LW15)),SUM($G15:LW15)/$E29,0),)","v":0},{"$f":"IF(LY$6>0,IF((SUM($F29:LX29)+0.1<SUM($G15:LX15)),SUM($G15:LX15)/$E29,0),)","v":0},{"$f":"IF(LZ$6>0,IF((SUM($F29:LY29)+0.1<SUM($G15:LY15)),SUM($G15:LY15)/$E29,0),)","v":0},{"$f":"IF(MA$6>0,IF((SUM($F29:LZ29)+0.1<SUM($G15:LZ15)),SUM($G15:LZ15)/$E29,0),)","v":0},{"$f":"IF(MB$6>0,IF((SUM($F29:MA29)+0.1<SUM($G15:MA15)),SUM($G15:MA15)/$E29,0),)","v":0},{"$f":"IF(MC$6>0,IF((SUM($F29:MB29)+0.1<SUM($G15:MB15)),SUM($G15:MB15)/$E29,0),)","v":0},{"$f":"IF(MD$6>0,IF((SUM($F29:MC29)+0.1<SUM($G15:MC15)),SUM($G15:MC15)/$E29,0),)","v":0},{"$f":"IF(ME$6>0,IF((SUM($F29:MD29)+0.1<SUM($G15:MD15)),SUM($G15:MD15)/$E29,0),)","v":0},{"$f":"IF(MF$6>0,IF((SUM($F29:ME29)+0.1<SUM($G15:ME15)),SUM($G15:ME15)/$E29,0),)","v":0},{"$f":"IF(MG$6>0,IF((SUM($F29:MF29)+0.1<SUM($G15:MF15)),SUM($G15:MF15)/$E29,0),)","v":0},{"$f":"IF(MH$6>0,IF((SUM($F29:MG29)+0.1<SUM($G15:MG15)),SUM($G15:MG15)/$E29,0),)","v":0},{"$f":"IF(MI$6>0,IF((SUM($F29:MH29)+0.1<SUM($G15:MH15)),SUM($G15:MH15)/$E29,0),)","v":0},{"$f":"IF(MJ$6>0,IF((SUM($F29:MI29)+0.1<SUM($G15:MI15)),SUM($G15:MI15)/$E29,0),)","v":0},{"$f":"IF(MK$6>0,IF((SUM($F29:MJ29)+0.1<SUM($G15:MJ15)),SUM($G15:MJ15)/$E29,0),)","v":0},{"$f":"IF(ML$6>0,IF((SUM($F29:MK29)+0.1<SUM($G15:MK15)),SUM($G15:MK15)/$E29,0),)","v":0},{"$f":"IF(MM$6>0,IF((SUM($F29:ML29)+0.1<SUM($G15:ML15)),SUM($G15:ML15)/$E29,0),)","v":0},{"$f":"IF(MN$6>0,IF((SUM($F29:MM29)+0.1<SUM($G15:MM15)),SUM($G15:MM15)/$E29,0),)","v":0},{"$f":"IF(MO$6>0,IF((SUM($F29:MN29)+0.1<SUM($G15:MN15)),SUM($G15:MN15)/$E29,0),)","v":0},{"$f":"IF(MP$6>0,IF((SUM($F29:MO29)+0.1<SUM($G15:MO15)),SUM($G15:MO15)/$E29,0),)","v":0},{"$f":"IF(MQ$6>0,IF((SUM($F29:MP29)+0.1<SUM($G15:MP15)),SUM($G15:MP15)/$E29,0),)","v":0},{"$f":"IF(MR$6>0,IF((SUM($F29:MQ29)+0.1<SUM($G15:MQ15)),SUM($G15:MQ15)/$E29,0),)","v":0},{"$f":"IF(MS$6>0,IF((SUM($F29:MR29)+0.1<SUM($G15:MR15)),SUM($G15:MR15)/$E29,0),)","v":0},{"$f":"IF(MT$6>0,IF((SUM($F29:MS29)+0.1<SUM($G15:MS15)),SUM($G15:MS15)/$E29,0),)","v":0},{"$f":"IF(MU$6>0,IF((SUM($F29:MT29)+0.1<SUM($G15:MT15)),SUM($G15:MT15)/$E29,0),)","v":0},{"$f":"IF(MV$6>0,IF((SUM($F29:MU29)+0.1<SUM($G15:MU15)),SUM($G15:MU15)/$E29,0),)","v":0},{"$f":"IF(MW$6>0,IF((SUM($F29:MV29)+0.1<SUM($G15:MV15)),SUM($G15:MV15)/$E29,0),)","v":0},{"$f":"IF(MX$6>0,IF((SUM($F29:MW29)+0.1<SUM($G15:MW15)),SUM($G15:MW15)/$E29,0),)","v":0},{"$f":"IF(MY$6>0,IF((SUM($F29:MX29)+0.1<SUM($G15:MX15)),SUM($G15:MX15)/$E29,0),)","v":0},{"$f":"IF(MZ$6>0,IF((SUM($F29:MY29)+0.1<SUM($G15:MY15)),SUM($G15:MY15)/$E29,0),)","v":0},{"$f":"IF(NA$6>0,IF((SUM($F29:MZ29)+0.1<SUM($G15:MZ15)),SUM($G15:MZ15)/$E29,0),)","v":0},{"$f":"IF(NB$6>0,IF((SUM($F29:NA29)+0.1<SUM($G15:NA15)),SUM($G15:NA15)/$E29,0),)","v":0},{"$f":"IF(NC$6>0,IF((SUM($F29:NB29)+0.1<SUM($G15:NB15)),SUM($G15:NB15)/$E29,0),)","v":0},{"$f":"IF(ND$6>0,IF((SUM($F29:NC29)+0.1<SUM($G15:NC15)),SUM($G15:NC15)/$E29,0),)","v":0},{"$f":"IF(NE$6>0,IF((SUM($F29:ND29)+0.1<SUM($G15:ND15)),SUM($G15:ND15)/$E29,0),)","v":0},{"$f":"IF(NF$6>0,IF((SUM($F29:NE29)+0.1<SUM($G15:NE15)),SUM($G15:NE15)/$E29,0),)","v":0},{"$f":"IF(NG$6>0,IF((SUM($F29:NF29)+0.1<SUM($G15:NF15)),SUM($G15:NF15)/$E29,0),)","v":0},{"$f":"IF(NH$6>0,IF((SUM($F29:NG29)+0.1<SUM($G15:NG15)),SUM($G15:NG15)/$E29,0),)","v":0},{"$f":"IF(NI$6>0,IF((SUM($F29:NH29)+0.1<SUM($G15:NH15)),SUM($G15:NH15)/$E29,0),)","v":0},{"$f":"IF(NJ$6>0,IF((SUM($F29:NI29)+0.1<SUM($G15:NI15)),SUM($G15:NI15)/$E29,0),)","v":0},{"$f":"IF(NK$6>0,IF((SUM($F29:NJ29)+0.1<SUM($G15:NJ15)),SUM($G15:NJ15)/$E29,0),)","v":0},{"$f":"IF(NL$6>0,IF((SUM($F29:NK29)+0.1<SUM($G15:NK15)),SUM($G15:NK15)/$E29,0),)","v":0},{"$f":"IF(NM$6>0,IF((SUM($F29:NL29)+0.1<SUM($G15:NL15)),SUM($G15:NL15)/$E29,0),)","v":0},{"$f":"IF(NN$6>0,IF((SUM($F29:NM29)+0.1<SUM($G15:NM15)),SUM($G15:NM15)/$E29,0),)","v":0},{"$f":"IF(NO$6>0,IF((SUM($F29:NN29)+0.1<SUM($G15:NN15)),SUM($G15:NN15)/$E29,0),)","v":0},{"$f":"IF(NP$6>0,IF((SUM($F29:NO29)+0.1<SUM($G15:NO15)),SUM($G15:NO15)/$E29,0),)","v":0},{"$f":"IF(NQ$6>0,IF((SUM($F29:NP29)+0.1<SUM($G15:NP15)),SUM($G15:NP15)/$E29,0),)","v":0},{"$f":"IF(NR$6>0,IF((SUM($F29:NQ29)+0.1<SUM($G15:NQ15)),SUM($G15:NQ15)/$E29,0),)","v":0},{"$f":"IF(NS$6>0,IF((SUM($F29:NR29)+0.1<SUM($G15:NR15)),SUM($G15:NR15)/$E29,0),)","v":0},{"$f":"IF(NT$6>0,IF((SUM($F29:NS29)+0.1<SUM($G15:NS15)),SUM($G15:NS15)/$E29,0),)","v":0},{"$f":"IF(NU$6>0,IF((SUM($F29:NT29)+0.1<SUM($G15:NT15)),SUM($G15:NT15)/$E29,0),)","v":0},{"$f":"IF(NV$6>0,IF((SUM($F29:NU29)+0.1<SUM($G15:NU15)),SUM($G15:NU15)/$E29,0),)","v":0},{"$f":"IF(NW$6>0,IF((SUM($F29:NV29)+0.1<SUM($G15:NV15)),SUM($G15:NV15)/$E29,0),)","v":0},{"$f":"IF(NX$6>0,IF((SUM($F29:NW29)+0.1<SUM($G15:NW15)),SUM($G15:NW15)/$E29,0),)","v":0},{"$f":"IF(NY$6>0,IF((SUM($F29:NX29)+0.1<SUM($G15:NX15)),SUM($G15:NX15)/$E29,0),)","v":0},{"$f":"IF(NZ$6>0,IF((SUM($F29:NY29)+0.1<SUM($G15:NY15)),SUM($G15:NY15)/$E29,0),)","v":0},{"$f":"IF(OA$6>0,IF((SUM($F29:NZ29)+0.1<SUM($G15:NZ15)),SUM($G15:NZ15)/$E29,0),)","v":0},{"$f":"IF(OB$6>0,IF((SUM($F29:OA29)+0.1<SUM($G15:OA15)),SUM($G15:OA15)/$E29,0),)","v":0},{"$f":"IF(OC$6>0,IF((SUM($F29:OB29)+0.1<SUM($G15:OB15)),SUM($G15:OB15)/$E29,0),)","v":0},{"$f":"IF(OD$6>0,IF((SUM($F29:OC29)+0.1<SUM($G15:OC15)),SUM($G15:OC15)/$E29,0),)","v":0},{"$f":"IF(OE$6>0,IF((SUM($F29:OD29)+0.1<SUM($G15:OD15)),SUM($G15:OD15)/$E29,0),)","v":0},{"$f":"IF(OF$6>0,IF((SUM($F29:OE29)+0.1<SUM($G15:OE15)),SUM($G15:OE15)/$E29,0),)","v":0},{"$f":"IF(OG$6>0,IF((SUM($F29:OF29)+0.1<SUM($G15:OF15)),SUM($G15:OF15)/$E29,0),)","v":0},{"$f":"IF(OH$6>0,IF((SUM($F29:OG29)+0.1<SUM($G15:OG15)),SUM($G15:OG15)/$E29,0),)","v":0},{"$f":"IF(OI$6>0,IF((SUM($F29:OH29)+0.1<SUM($G15:OH15)),SUM($G15:OH15)/$E29,0),)","v":0},{"$f":"IF(OJ$6>0,IF((SUM($F29:OI29)+0.1<SUM($G15:OI15)),SUM($G15:OI15)/$E29,0),)","v":0},{"$f":"IF(OK$6>0,IF((SUM($F29:OJ29)+0.1<SUM($G15:OJ15)),SUM($G15:OJ15)/$E29,0),)","v":0},{"$f":"IF(OL$6>0,IF((SUM($F29:OK29)+0.1<SUM($G15:OK15)),SUM($G15:OK15)/$E29,0),)","v":0},{"$f":"IF(OM$6>0,IF((SUM($F29:OL29)+0.1<SUM($G15:OL15)),SUM($G15:OL15)/$E29,0),)","v":0},{"$f":"IF(ON$6>0,IF((SUM($F29:OM29)+0.1<SUM($G15:OM15)),SUM($G15:OM15)/$E29,0),)","v":0},{"$f":"IF(OO$6>0,IF((SUM($F29:ON29)+0.1<SUM($G15:ON15)),SUM($G15:ON15)/$E29,0),)","v":0},{"$f":"IF(OP$6>0,IF((SUM($F29:OO29)+0.1<SUM($G15:OO15)),SUM($G15:OO15)/$E29,0),)","v":0},{"$f":"IF(OQ$6>0,IF((SUM($F29:OP29)+0.1<SUM($G15:OP15)),SUM($G15:OP15)/$E29,0),)","v":0},{"$f":"IF(OR$6>0,IF((SUM($F29:OQ29)+0.1<SUM($G15:OQ15)),SUM($G15:OQ15)/$E29,0),)","v":0},{"$f":"IF(OS$6>0,IF((SUM($F29:OR29)+0.1<SUM($G15:OR15)),SUM($G15:OR15)/$E29,0),)","v":0},{"$f":"IF(OT$6>0,IF((SUM($F29:OS29)+0.1<SUM($G15:OS15)),SUM($G15:OS15)/$E29,0),)","v":0},{"$f":"IF(OU$6>0,IF((SUM($F29:OT29)+0.1<SUM($G15:OT15)),SUM($G15:OT15)/$E29,0),)","v":0},{"$f":"IF(OV$6>0,IF((SUM($F29:OU29)+0.1<SUM($G15:OU15)),SUM($G15:OU15)/$E29,0),)","v":0},{"$f":"IF(OW$6>0,IF((SUM($F29:OV29)+0.1<SUM($G15:OV15)),SUM($G15:OV15)/$E29,0),)","v":0},{"$f":"IF(OX$6>0,IF((SUM($F29:OW29)+0.1<SUM($G15:OW15)),SUM($G15:OW15)/$E29,0),)","v":0},{"$f":"IF(OY$6>0,IF((SUM($F29:OX29)+0.1<SUM($G15:OX15)),SUM($G15:OX15)/$E29,0),)","v":0},{"$f":"IF(OZ$6>0,IF((SUM($F29:OY29)+0.1<SUM($G15:OY15)),SUM($G15:OY15)/$E29,0),)","v":0},{"$f":"IF(PA$6>0,IF((SUM($F29:OZ29)+0.1<SUM($G15:OZ15)),SUM($G15:OZ15)/$E29,0),)","v":0},{"$f":"IF(PB$6>0,IF((SUM($F29:PA29)+0.1<SUM($G15:PA15)),SUM($G15:PA15)/$E29,0),)","v":0},{"$f":"IF(PC$6>0,IF((SUM($F29:PB29)+0.1<SUM($G15:PB15)),SUM($G15:PB15)/$E29,0),)","v":0},{"$f":"IF(PD$6>0,IF((SUM($F29:PC29)+0.1<SUM($G15:PC15)),SUM($G15:PC15)/$E29,0),)","v":0},{"$f":"IF(PE$6>0,IF((SUM($F29:PD29)+0.1<SUM($G15:PD15)),SUM($G15:PD15)/$E29,0),)","v":0},{"$f":"IF(PF$6>0,IF((SUM($F29:PE29)+0.1<SUM($G15:PE15)),SUM($G15:PE15)/$E29,0),)","v":0},{"$f":"IF(PG$6>0,IF((SUM($F29:PF29)+0.1<SUM($G15:PF15)),SUM($G15:PF15)/$E29,0),)","v":0},{"$f":"IF(PH$6>0,IF((SUM($F29:PG29)+0.1<SUM($G15:PG15)),SUM($G15:PG15)/$E29,0),)","v":0},{"$f":"IF(PI$6>0,IF((SUM($F29:PH29)+0.1<SUM($G15:PH15)),SUM($G15:PH15)/$E29,0),)","v":0},{"$f":"IF(PJ$6>0,IF((SUM($F29:PI29)+0.1<SUM($G15:PI15)),SUM($G15:PI15)/$E29,0),)","v":0},{"$f":"IF(PK$6>0,IF((SUM($F29:PJ29)+0.1<SUM($G15:PJ15)),SUM($G15:PJ15)/$E29,0),)","v":0},{"$f":"IF(PL$6>0,IF((SUM($F29:PK29)+0.1<SUM($G15:PK15)),SUM($G15:PK15)/$E29,0),)","v":0},{"$f":"IF(PM$6>0,IF((SUM($F29:PL29)+0.1<SUM($G15:PL15)),SUM($G15:PL15)/$E29,0),)","v":0},{"$f":"IF(PN$6>0,IF((SUM($F29:PM29)+0.1<SUM($G15:PM15)),SUM($G15:PM15)/$E29,0),)","v":0},{"$f":"IF(PO$6>0,IF((SUM($F29:PN29)+0.1<SUM($G15:PN15)),SUM($G15:PN15)/$E29,0),)","v":0},{"$f":"IF(PP$6>0,IF((SUM($F29:PO29)+0.1<SUM($G15:PO15)),SUM($G15:PO15)/$E29,0),)","v":0},{"$f":"IF(PQ$6>0,IF((SUM($F29:PP29)+0.1<SUM($G15:PP15)),SUM($G15:PP15)/$E29,0),)","v":0},{"$f":"IF(PR$6>0,IF((SUM($F29:PQ29)+0.1<SUM($G15:PQ15)),SUM($G15:PQ15)/$E29,0),)","v":0},{"$f":"IF(PS$6>0,IF((SUM($F29:PR29)+0.1<SUM($G15:PR15)),SUM($G15:PR15)/$E29,0),)","v":0},{"$f":"IF(PT$6>0,IF((SUM($F29:PS29)+0.1<SUM($G15:PS15)),SUM($G15:PS15)/$E29,0),)","v":0},{"$f":"IF(PU$6>0,IF((SUM($F29:PT29)+0.1<SUM($G15:PT15)),SUM($G15:PT15)/$E29,0),)","v":0},{"$f":"IF(PV$6>0,IF((SUM($F29:PU29)+0.1<SUM($G15:PU15)),SUM($G15:PU15)/$E29,0),)","v":0},{"$f":"IF(PW$6>0,IF((SUM($F29:PV29)+0.1<SUM($G15:PV15)),SUM($G15:PV15)/$E29,0),)","v":0},{"$f":"IF(PX$6>0,IF((SUM($F29:PW29)+0.1<SUM($G15:PW15)),SUM($G15:PW15)/$E29,0),)","v":0},{"$f":"IF(PY$6>0,IF((SUM($F29:PX29)+0.1<SUM($G15:PX15)),SUM($G15:PX15)/$E29,0),)","v":0},{"$f":"IF(PZ$6>0,IF((SUM($F29:PY29)+0.1<SUM($G15:PY15)),SUM($G15:PY15)/$E29,0),)","v":0},{"$f":"IF(QA$6>0,IF((SUM($F29:PZ29)+0.1<SUM($G15:PZ15)),SUM($G15:PZ15)/$E29,0),)","v":0},{"$f":"IF(QB$6>0,IF((SUM($F29:QA29)+0.1<SUM($G15:QA15)),SUM($G15:QA15)/$E29,0),)","v":0},{"$f":"IF(QC$6>0,IF((SUM($F29:QB29)+0.1<SUM($G15:QB15)),SUM($G15:QB15)/$E29,0),)","v":0},{"$f":"IF(QD$6>0,IF((SUM($F29:QC29)+0.1<SUM($G15:QC15)),SUM($G15:QC15)/$E29,0),)","v":0},{"$f":"IF(QE$6>0,IF((SUM($F29:QD29)+0.1<SUM($G15:QD15)),SUM($G15:QD15)/$E29,0),)","v":0},{"$f":"IF(QF$6>0,IF((SUM($F29:QE29)+0.1<SUM($G15:QE15)),SUM($G15:QE15)/$E29,0),)","v":0},{"$f":"IF(QG$6>0,IF((SUM($F29:QF29)+0.1<SUM($G15:QF15)),SUM($G15:QF15)/$E29,0),)","v":0},{"$f":"IF(QH$6>0,IF((SUM($F29:QG29)+0.1<SUM($G15:QG15)),SUM($G15:QG15)/$E29,0),)","v":0},{"$f":"IF(QI$6>0,IF((SUM($F29:QH29)+0.1<SUM($G15:QH15)),SUM($G15:QH15)/$E29,0),)","v":0},{"$f":"IF(QJ$6>0,IF((SUM($F29:QI29)+0.1<SUM($G15:QI15)),SUM($G15:QI15)/$E29,0),)","v":0},{"$f":"IF(QK$6>0,IF((SUM($F29:QJ29)+0.1<SUM($G15:QJ15)),SUM($G15:QJ15)/$E29,0),)","v":0},{"$f":"IF(QL$6>0,IF((SUM($F29:QK29)+0.1<SUM($G15:QK15)),SUM($G15:QK15)/$E29,0),)","v":0},{"$f":"IF(QM$6>0,IF((SUM($F29:QL29)+0.1<SUM($G15:QL15)),SUM($G15:QL15)/$E29,0),)","v":0},{"$f":"IF(QN$6>0,IF((SUM($F29:QM29)+0.1<SUM($G15:QM15)),SUM($G15:QM15)/$E29,0),)","v":0},{"$f":"IF(QO$6>0,IF((SUM($F29:QN29)+0.1<SUM($G15:QN15)),SUM($G15:QN15)/$E29,0),)","v":0},{"$f":"IF(QP$6>0,IF((SUM($F29:QO29)+0.1<SUM($G15:QO15)),SUM($G15:QO15)/$E29,0),)","v":0},{"$f":"IF(QQ$6>0,IF((SUM($F29:QP29)+0.1<SUM($G15:QP15)),SUM($G15:QP15)/$E29,0),)","v":0},{"$f":"IF(QR$6>0,IF((SUM($F29:QQ29)+0.1<SUM($G15:QQ15)),SUM($G15:QQ15)/$E29,0),)","v":0},{"$f":"IF(QS$6>0,IF((SUM($F29:QR29)+0.1<SUM($G15:QR15)),SUM($G15:QR15)/$E29,0),)","v":0},{"$f":"IF(QT$6>0,IF((SUM($F29:QS29)+0.1<SUM($G15:QS15)),SUM($G15:QS15)/$E29,0),)","v":0},{"$f":"IF(QU$6>0,IF((SUM($F29:QT29)+0.1<SUM($G15:QT15)),SUM($G15:QT15)/$E29,0),)","v":0},{"$f":"IF(QV$6>0,IF((SUM($F29:QU29)+0.1<SUM($G15:QU15)),SUM($G15:QU15)/$E29,0),)","v":0},{"$f":"IF(QW$6>0,IF((SUM($F29:QV29)+0.1<SUM($G15:QV15)),SUM($G15:QV15)/$E29,0),)","v":0},{"$f":"IF(QX$6>0,IF((SUM($F29:QW29)+0.1<SUM($G15:QW15)),SUM($G15:QW15)/$E29,0),)","v":0},{"$f":"IF(QY$6>0,IF((SUM($F29:QX29)+0.1<SUM($G15:QX15)),SUM($G15:QX15)/$E29,0),)","v":0},{"$f":"IF(QZ$6>0,IF((SUM($F29:QY29)+0.1<SUM($G15:QY15)),SUM($G15:QY15)/$E29,0),)","v":0},{"$f":"IF(RA$6>0,IF((SUM($F29:QZ29)+0.1<SUM($G15:QZ15)),SUM($G15:QZ15)/$E29,0),)","v":0},{"$f":"IF(RB$6>0,IF((SUM($F29:RA29)+0.1<SUM($G15:RA15)),SUM($G15:RA15)/$E29,0),)","v":0},{"$f":"IF(RC$6>0,IF((SUM($F29:RB29)+0.1<SUM($G15:RB15)),SUM($G15:RB15)/$E29,0),)","v":0},{"$f":"IF(RD$6>0,IF((SUM($F29:RC29)+0.1<SUM($G15:RC15)),SUM($G15:RC15)/$E29,0),)","v":0},{"$f":"IF(RE$6>0,IF((SUM($F29:RD29)+0.1<SUM($G15:RD15)),SUM($G15:RD15)/$E29,0),)","v":0},{"$f":"IF(RF$6>0,IF((SUM($F29:RE29)+0.1<SUM($G15:RE15)),SUM($G15:RE15)/$E29,0),)","v":0}]
[null,0,0,0,0,null,{"$f":"IF(G$6>0,IF((SUM($F30:F30)+0.1<$C30),$C30/$E30,0),)","v":0},{"$f":"IF(H$6>0,IF((SUM($F30:G30)+0.1<SUM($G16:G16)),SUM($G16:G16)/$E30,0),)","v":0},{"$f":"IF(I$6>0,IF((SUM($F30:H30)+0.1<SUM($G16:H16)),SUM($G16:H16)/$E30,0),)","v":0},{"$f":"IF(J$6>0,IF((SUM($F30:I30)+0.1<SUM($G16:I16)),SUM($G16:I16)/$E30,0),)","v":0},{"$f":"IF(K$6>0,IF((SUM($F30:J30)+0.1<SUM($G16:J16)),SUM($G16:J16)/$E30,0),)","v":0},{"$f":"IF(L$6>0,IF((SUM($F30:K30)+0.1<SUM($G16:K16)),SUM($G16:K16)/$E30,0),)","v":0},{"$f":"IF(M$6>0,IF((SUM($F30:L30)+0.1<SUM($G16:L16)),SUM($G16:L16)/$E30,0),)","v":0},{"$f":"IF(N$6>0,IF((SUM($F30:M30)+0.1<SUM($G16:M16)),SUM($G16:M16)/$E30,0),)","v":0},{"$f":"IF(O$6>0,IF((SUM($F30:N30)+0.1<SUM($G16:N16)),SUM($G16:N16)/$E30,0),)","v":0},{"$f":"IF(P$6>0,IF((SUM($F30:O30)+0.1<SUM($G16:O16)),SUM($G16:O16)/$E30,0),)","v":0},{"$f":"IF(Q$6>0,IF((SUM($F30:P30)+0.1<SUM($G16:P16)),SUM($G16:P16)/$E30,0),)","v":0},{"$f":"IF(R$6>0,IF((SUM($F30:Q30)+0.1<SUM($G16:Q16)),SUM($G16:Q16)/$E30,0),)","v":0},{"$f":"IF(S$6>0,IF((SUM($F30:R30)+0.1<SUM($G16:R16)),SUM($G16:R16)/$E30,0),)","v":0},{"$f":"IF(T$6>0,IF((SUM($F30:S30)+0.1<SUM($G16:S16)),SUM($G16:S16)/$E30,0),)","v":0},{"$f":"IF(U$6>0,IF((SUM($F30:T30)+0.1<SUM($G16:T16)),SUM($G16:T16)/$E30,0),)","v":0},{"$f":"IF(V$6>0,IF((SUM($F30:U30)+0.1<SUM($G16:U16)),SUM($G16:U16)/$E30,0),)","v":0},{"$f":"IF(W$6>0,IF((SUM($F30:V30)+0.1<SUM($G16:V16)),SUM($G16:V16)/$E30,0),)","v":0},{"$f":"IF(X$6>0,IF((SUM($F30:W30)+0.1<SUM($G16:W16)),SUM($G16:W16)/$E30,0),)","v":0},{"$f":"IF(Y$6>0,IF((SUM($F30:X30)+0.1<SUM($G16:X16)),SUM($G16:X16)/$E30,0),)","v":0},{"$f":"IF(Z$6>0,IF((SUM($F30:Y30)+0.1<SUM($G16:Y16)),SUM($G16:Y16)/$E30,0),)","v":0},{"$f":"IF(AA$6>0,IF((SUM($F30:Z30)+0.1<SUM($G16:Z16)),SUM($G16:Z16)/$E30,0),)","v":0},{"$f":"IF(AB$6>0,IF((SUM($F30:AA30)+0.1<SUM($G16:AA16)),SUM($G16:AA16)/$E30,0),)","v":0},{"$f":"IF(AC$6>0,IF((SUM($F30:AB30)+0.1<SUM($G16:AB16)),SUM($G16:AB16)/$E30,0),)","v":0},{"$f":"IF(AD$6>0,IF((SUM($F30:AC30)+0.1<SUM($G16:AC16)),SUM($G16:AC16)/$E30,0),)","v":0},{"$f":"IF(AE$6>0,IF((SUM($F30:AD30)+0.1<SUM($G16:AD16)),SUM($G16:AD16)/$E30,0),)","v":0},{"$f":"IF(AF$6>0,IF((SUM($F30:AE30)+0.1<SUM($G16:AE16)),SUM($G16:AE16)/$E30,0),)","v":0},{"$f":"IF(AG$6>0,IF((SUM($F30:AF30)+0.1<SUM($G16:AF16)),SUM($G16:AF16)/$E30,0),)","v":0},{"$f":"IF(AH$6>0,IF((SUM($F30:AG30)+0.1<SUM($G16:AG16)),SUM($G16:AG16)/$E30,0),)","v":0},{"$f":"IF(AI$6>0,IF((SUM($F30:AH30)+0.1<SUM($G16:AH16)),SUM($G16:AH16)/$E30,0),)","v":0},{"$f":"IF(AJ$6>0,IF((SUM($F30:AI30)+0.1<SUM($G16:AI16)),SUM($G16:AI16)/$E30,0),)","v":0},{"$f":"IF(AK$6>0,IF((SUM($F30:AJ30)+0.1<SUM($G16:AJ16)),SUM($G16:AJ16)/$E30,0),)","v":0},{"$f":"IF(AL$6>0,IF((SUM($F30:AK30)+0.1<SUM($G16:AK16)),SUM($G16:AK16)/$E30,0),)","v":0},{"$f":"IF(AM$6>0,IF((SUM($F30:AL30)+0.1<SUM($G16:AL16)),SUM($G16:AL16)/$E30,0),)","v":0},{"$f":"IF(AN$6>0,IF((SUM($F30:AM30)+0.1<SUM($G16:AM16)),SUM($G16:AM16)/$E30,0),)","v":0},{"$f":"IF(AO$6>0,IF((SUM($F30:AN30)+0.1<SUM($G16:AN16)),SUM($G16:AN16)/$E30,0),)","v":0},{"$f":"IF(AP$6>0,IF((SUM($F30:AO30)+0.1<SUM($G16:AO16)),SUM($G16:AO16)/$E30,0),)","v":0},{"$f":"IF(AQ$6>0,IF((SUM($F30:AP30)+0.1<SUM($G16:AP16)),SUM($G16:AP16)/$E30,0),)","v":0},{"$f":"IF(AR$6>0,IF((SUM($F30:AQ30)+0.1<SUM($G16:AQ16)),SUM($G16:AQ16)/$E30,0),)","v":0},{"$f":"IF(AS$6>0,IF((SUM($F30:AR30)+0.1<SUM($G16:AR16)),SUM($G16:AR16)/$E30,0),)","v":0},{"$f":"IF(AT$6>0,IF((SUM($F30:AS30)+0.1<SUM($G16:AS16)),SUM($G16:AS16)/$E30,0),)","v":0},{"$f":"IF(AU$6>0,IF((SUM($F30:AT30)+0.1<SUM($G16:AT16)),SUM($G16:AT16)/$E30,0),)","v":0},{"$f":"IF(AV$6>0,IF((SUM($F30:AU30)+0.1<SUM($G16:AU16)),SUM($G16:AU16)/$E30,0),)","v":0},{"$f":"IF(AW$6>0,IF((SUM($F30:AV30)+0.1<SUM($G16:AV16)),SUM($G16:AV16)/$E30,0),)","v":0},{"$f":"IF(AX$6>0,IF((SUM($F30:AW30)+0.1<SUM($G16:AW16)),SUM($G16:AW16)/$E30,0),)","v":0},{"$f":"IF(AY$6>0,IF((SUM($F30:AX30)+0.1<SUM($G16:AX16)),SUM($G16:AX16)/$E30,0),)","v":0},{"$f":"IF(AZ$6>0,IF((SUM($F30:AY30)+0.1<SUM($G16:AY16)),SUM($G16:AY16)/$E30,0),)","v":0},{"$f":"IF(BA$6>0,IF((SUM($F30:AZ30)+0.1<SUM($G16:AZ16)),SUM($G16:AZ16)/$E30,0),)","v":0},{"$f":"IF(BB$6>0,IF((SUM($F30:BA30)+0.1<SUM($G16:BA16)),SUM($G16:BA16)/$E30,0),)","v":0},{"$f":"IF(BC$6>0,IF((SUM($F30:BB30)+0.1<SUM($G16:BB16)),SUM($G16:BB16)/$E30,0),)","v":0},{"$f":"IF(BD$6>0,IF((SUM($F30:BC30)+0.1<SUM($G16:BC16)),SUM($G16:BC16)/$E30,0),)","v":0},{"$f":"IF(BE$6>0,IF((SUM($F30:BD30)+0.1<SUM($G16:BD16)),SUM($G16:BD16)/$E30,0),)","v":0},{"$f":"IF(BF$6>0,IF((SUM($F30:BE30)+0.1<SUM($G16:BE16)),SUM($G16:BE16)/$E30,0),)","v":0},{"$f":"IF(BG$6>0,IF((SUM($F30:BF30)+0.1<SUM($G16:BF16)),SUM($G16:BF16)/$E30,0),)","v":0},{"$f":"IF(BH$6>0,IF((SUM($F30:BG30)+0.1<SUM($G16:BG16)),SUM($G16:BG16)/$E30,0),)","v":0},{"$f":"IF(BI$6>0,IF((SUM($F30:BH30)+0.1<SUM($G16:BH16)),SUM($G16:BH16)/$E30,0),)","v":0},{"$f":"IF(BJ$6>0,IF((SUM($F30:BI30)+0.1<SUM($G16:BI16)),SUM($G16:BI16)/$E30,0),)","v":0},{"$f":"IF(BK$6>0,IF((SUM($F30:BJ30)+0.1<SUM($G16:BJ16)),SUM($G16:BJ16)/$E30,0),)","v":0},{"$f":"IF(BL$6>0,IF((SUM($F30:BK30)+0.1<SUM($G16:BK16)),SUM($G16:BK16)/$E30,0),)","v":0},{"$f":"IF(BM$6>0,IF((SUM($F30:BL30)+0.1<SUM($G16:BL16)),SUM($G16:BL16)/$E30,0),)","v":0},{"$f":"IF(BN$6>0,IF((SUM($F30:BM30)+0.1<SUM($G16:BM16)),SUM($G16:BM16)/$E30,0),)","v":0},{"$f":"IF(BO$6>0,IF((SUM($F30:BN30)+0.1<SUM($G16:BN16)),SUM($G16:BN16)/$E30,0),)","v":0},{"$f":"IF(BP$6>0,IF((SUM($F30:BO30)+0.1<SUM($G16:BO16)),SUM($G16:BO16)/$E30,0),)","v":0},{"$f":"IF(BQ$6>0,IF((SUM($F30:BP30)+0.1<SUM($G16:BP16)),SUM($G16:BP16)/$E30,0),)","v":0},{"$f":"IF(BR$6>0,IF((SUM($F30:BQ30)+0.1<SUM($G16:BQ16)),SUM($G16:BQ16)/$E30,0),)","v":0},{"$f":"IF(BS$6>0,IF((SUM($F30:BR30)+0.1<SUM($G16:BR16)),SUM($G16:BR16)/$E30,0),)","v":0},{"$f":"IF(BT$6>0,IF((SUM($F30:BS30)+0.1<SUM($G16:BS16)),SUM($G16:BS16)/$E30,0),)","v":0},{"$f":"IF(BU$6>0,IF((SUM($F30:BT30)+0.1<SUM($G16:BT16)),SUM($G16:BT16)/$E30,0),)","v":0},{"$f":"IF(BV$6>0,IF((SUM($F30:BU30)+0.1<SUM($G16:BU16)),SUM($G16:BU16)/$E30,0),)","v":0},{"$f":"IF(BW$6>0,IF((SUM($F30:BV30)+0.1<SUM($G16:BV16)),SUM($G16:BV16)/$E30,0),)","v":0},{"$f":"IF(BX$6>0,IF((SUM($F30:BW30)+0.1<SUM($G16:BW16)),SUM($G16:BW16)/$E30,0),)","v":0},{"$f":"IF(BY$6>0,IF((SUM($F30:BX30)+0.1<SUM($G16:BX16)),SUM($G16:BX16)/$E30,0),)","v":0},{"$f":"IF(BZ$6>0,IF((SUM($F30:BY30)+0.1<SUM($G16:BY16)),SUM($G16:BY16)/$E30,0),)","v":0},{"$f":"IF(CA$6>0,IF((SUM($F30:BZ30)+0.1<SUM($G16:BZ16)),SUM($G16:BZ16)/$E30,0),)","v":0},{"$f":"IF(CB$6>0,IF((SUM($F30:CA30)+0.1<SUM($G16:CA16)),SUM($G16:CA16)/$E30,0),)","v":0},{"$f":"IF(CC$6>0,IF((SUM($F30:CB30)+0.1<SUM($G16:CB16)),SUM($G16:CB16)/$E30,0),)","v":0},{"$f":"IF(CD$6>0,IF((SUM($F30:CC30)+0.1<SUM($G16:CC16)),SUM($G16:CC16)/$E30,0),)","v":0},{"$f":"IF(CE$6>0,IF((SUM($F30:CD30)+0.1<SUM($G16:CD16)),SUM($G16:CD16)/$E30,0),)","v":0},{"$f":"IF(CF$6>0,IF((SUM($F30:CE30)+0.1<SUM($G16:CE16)),SUM($G16:CE16)/$E30,0),)","v":0},{"$f":"IF(CG$6>0,IF((SUM($F30:CF30)+0.1<SUM($G16:CF16)),SUM($G16:CF16)/$E30,0),)","v":0},{"$f":"IF(CH$6>0,IF((SUM($F30:CG30)+0.1<SUM($G16:CG16)),SUM($G16:CG16)/$E30,0),)","v":0},{"$f":"IF(CI$6>0,IF((SUM($F30:CH30)+0.1<SUM($G16:CH16)),SUM($G16:CH16)/$E30,0),)","v":0},{"$f":"IF(CJ$6>0,IF((SUM($F30:CI30)+0.1<SUM($G16:CI16)),SUM($G16:CI16)/$E30,0),)","v":0},{"$f":"IF(CK$6>0,IF((SUM($F30:CJ30)+0.1<SUM($G16:CJ16)),SUM($G16:CJ16)/$E30,0),)","v":0},{"$f":"IF(CL$6>0,IF((SUM($F30:CK30)+0.1<SUM($G16:CK16)),SUM($G16:CK16)/$E30,0),)","v":0},{"$f":"IF(CM$6>0,IF((SUM($F30:CL30)+0.1<SUM($G16:CL16)),SUM($G16:CL16)/$E30,0),)","v":0},{"$f":"IF(CN$6>0,IF((SUM($F30:CM30)+0.1<SUM($G16:CM16)),SUM($G16:CM16)/$E30,0),)","v":0},{"$f":"IF(CO$6>0,IF((SUM($F30:CN30)+0.1<SUM($G16:CN16)),SUM($G16:CN16)/$E30,0),)","v":0},{"$f":"IF(CP$6>0,IF((SUM($F30:CO30)+0.1<SUM($G16:CO16)),SUM($G16:CO16)/$E30,0),)","v":0},{"$f":"IF(CQ$6>0,IF((SUM($F30:CP30)+0.1<SUM($G16:CP16)),SUM($G16:CP16)/$E30,0),)","v":0},{"$f":"IF(CR$6>0,IF((SUM($F30:CQ30)+0.1<SUM($G16:CQ16)),SUM($G16:CQ16)/$E30,0),)","v":0},{"$f":"IF(CS$6>0,IF((SUM($F30:CR30)+0.1<SUM($G16:CR16)),SUM($G16:CR16)/$E30,0),)","v":0},{"$f":"IF(CT$6>0,IF((SUM($F30:CS30)+0.1<SUM($G16:CS16)),SUM($G16:CS16)/$E30,0),)","v":0},{"$f":"IF(CU$6>0,IF((SUM($F30:CT30)+0.1<SUM($G16:CT16)),SUM($G16:CT16)/$E30,0),)","v":0},{"$f":"IF(CV$6>0,IF((SUM($F30:CU30)+0.1<SUM($G16:CU16)),SUM($G16:CU16)/$E30,0),)","v":0},{"$f":"IF(CW$6>0,IF((SUM($F30:CV30)+0.1<SUM($G16:CV16)),SUM($G16:CV16)/$E30,0),)","v":0},{"$f":"IF(CX$6>0,IF((SUM($F30:CW30)+0.1<SUM($G16:CW16)),SUM($G16:CW16)/$E30,0),)","v":0},{"$f":"IF(CY$6>0,IF((SUM($F30:CX30)+0.1<SUM($G16:CX16)),SUM($G16:CX16)/$E30,0),)","v":0},{"$f":"IF(CZ$6>0,IF((SUM($F30:CY30)+0.1<SUM($G16:CY16)),SUM($G16:CY16)/$E30,0),)","v":0},{"$f":"IF(DA$6>0,IF((SUM($F30:CZ30)+0.1<SUM($G16:CZ16)),SUM($G16:CZ16)/$E30,0),)","v":0},{"$f":"IF(DB$6>0,IF((SUM($F30:DA30)+0.1<SUM($G16:DA16)),SUM($G16:DA16)/$E30,0),)","v":0},{"$f":"IF(DC$6>0,IF((SUM($F30:DB30)+0.1<SUM($G16:DB16)),SUM($G16:DB16)/$E30,0),)","v":0},{"$f":"IF(DD$6>0,IF((SUM($F30:DC30)+0.1<SUM($G16:DC16)),SUM($G16:DC16)/$E30,0),)","v":0},{"$f":"IF(DE$6>0,IF((SUM($F30:DD30)+0.1<SUM($G16:DD16)),SUM($G16:DD16)/$E30,0),)","v":0},{"$f":"IF(DF$6>0,IF((SUM($F30:DE30)+0.1<SUM($G16:DE16)),SUM($G16:DE16)/$E30,0),)","v":0},{"$f":"IF(DG$6>0,IF((SUM($F30:DF30)+0.1<SUM($G16:DF16)),SUM($G16:DF16)/$E30,0),)","v":0},{"$f":"IF(DH$6>0,IF((SUM($F30:DG30)+0.1<SUM($G16:DG16)),SUM($G16:DG16)/$E30,0),)","v":0},{"$f":"IF(DI$6>0,IF((SUM($F30:DH30)+0.1<SUM($G16:DH16)),SUM($G16:DH16)/$E30,0),)","v":0},{"$f":"IF(DJ$6>0,IF((SUM($F30:DI30)+0.1<SUM($G16:DI16)),SUM($G16:DI16)/$E30,0),)","v":0},{"$f":"IF(DK$6>0,IF((SUM($F30:DJ30)+0.1<SUM($G16:DJ16)),SUM($G16:DJ16)/$E30,0),)","v":0},{"$f":"IF(DL$6>0,IF((SUM($F30:DK30)+0.1<SUM($G16:DK16)),SUM($G16:DK16)/$E30,0),)","v":0},{"$f":"IF(DM$6>0,IF((SUM($F30:DL30)+0.1<SUM($G16:DL16)),SUM($G16:DL16)/$E30,0),)","v":0},{"$f":"IF(DN$6>0,IF((SUM($F30:DM30)+0.1<SUM($G16:DM16)),SUM($G16:DM16)/$E30,0),)","v":0},{"$f":"IF(DO$6>0,IF((SUM($F30:DN30)+0.1<SUM($G16:DN16)),SUM($G16:DN16)/$E30,0),)","v":0},{"$f":"IF(DP$6>0,IF((SUM($F30:DO30)+0.1<SUM($G16:DO16)),SUM($G16:DO16)/$E30,0),)","v":0},{"$f":"IF(DQ$6>0,IF((SUM($F30:DP30)+0.1<SUM($G16:DP16)),SUM($G16:DP16)/$E30,0),)","v":0},{"$f":"IF(DR$6>0,IF((SUM($F30:DQ30)+0.1<SUM($G16:DQ16)),SUM($G16:DQ16)/$E30,0),)","v":0},{"$f":"IF(DS$6>0,IF((SUM($F30:DR30)+0.1<SUM($G16:DR16)),SUM($G16:DR16)/$E30,0),)","v":0},{"$f":"IF(DT$6>0,IF((SUM($F30:DS30)+0.1<SUM($G16:DS16)),SUM($G16:DS16)/$E30,0),)","v":0},{"$f":"IF(DU$6>0,IF((SUM($F30:DT30)+0.1<SUM($G16:DT16)),SUM($G16:DT16)/$E30,0),)","v":0},{"$f":"IF(DV$6>0,IF((SUM($F30:DU30)+0.1<SUM($G16:DU16)),SUM($G16:DU16)/$E30,0),)","v":0},{"$f":"IF(DW$6>0,IF((SUM($F30:DV30)+0.1<SUM($G16:DV16)),SUM($G16:DV16)/$E30,0),)","v":0},{"$f":"IF(DX$6>0,IF((SUM($F30:DW30)+0.1<SUM($G16:DW16)),SUM($G16:DW16)/$E30,0),)","v":0},{"$f":"IF(DY$6>0,IF((SUM($F30:DX30)+0.1<SUM($G16:DX16)),SUM($G16:DX16)/$E30,0),)","v":0},{"$f":"IF(DZ$6>0,IF((SUM($F30:DY30)+0.1<SUM($G16:DY16)),SUM($G16:DY16)/$E30,0),)","v":0},{"$f":"IF(EA$6>0,IF((SUM($F30:DZ30)+0.1<SUM($G16:DZ16)),SUM($G16:DZ16)/$E30,0),)","v":0},{"$f":"IF(EB$6>0,IF((SUM($F30:EA30)+0.1<SUM($G16:EA16)),SUM($G16:EA16)/$E30,0),)","v":0},{"$f":"IF(EC$6>0,IF((SUM($F30:EB30)+0.1<SUM($G16:EB16)),SUM($G16:EB16)/$E30,0),)","v":0},{"$f":"IF(ED$6>0,IF((SUM($F30:EC30)+0.1<SUM($G16:EC16)),SUM($G16:EC16)/$E30,0),)","v":0},{"$f":"IF(EE$6>0,IF((SUM($F30:ED30)+0.1<SUM($G16:ED16)),SUM($G16:ED16)/$E30,0),)","v":0},{"$f":"IF(EF$6>0,IF((SUM($F30:EE30)+0.1<SUM($G16:EE16)),SUM($G16:EE16)/$E30,0),)","v":0},{"$f":"IF(EG$6>0,IF((SUM($F30:EF30)+0.1<SUM($G16:EF16)),SUM($G16:EF16)/$E30,0),)","v":0},{"$f":"IF(EH$6>0,IF((SUM($F30:EG30)+0.1<SUM($G16:EG16)),SUM($G16:EG16)/$E30,0),)","v":0},{"$f":"IF(EI$6>0,IF((SUM($F30:EH30)+0.1<SUM($G16:EH16)),SUM($G16:EH16)/$E30,0),)","v":0},{"$f":"IF(EJ$6>0,IF((SUM($F30:EI30)+0.1<SUM($G16:EI16)),SUM($G16:EI16)/$E30,0),)","v":0},{"$f":"IF(EK$6>0,IF((SUM($F30:EJ30)+0.1<SUM($G16:EJ16)),SUM($G16:EJ16)/$E30,0),)","v":0},{"$f":"IF(EL$6>0,IF((SUM($F30:EK30)+0.1<SUM($G16:EK16)),SUM($G16:EK16)/$E30,0),)","v":0},{"$f":"IF(EM$6>0,IF((SUM($F30:EL30)+0.1<SUM($G16:EL16)),SUM($G16:EL16)/$E30,0),)","v":0},{"$f":"IF(EN$6>0,IF((SUM($F30:EM30)+0.1<SUM($G16:EM16)),SUM($G16:EM16)/$E30,0),)","v":0},{"$f":"IF(EO$6>0,IF((SUM($F30:EN30)+0.1<SUM($G16:EN16)),SUM($G16:EN16)/$E30,0),)","v":0},{"$f":"IF(EP$6>0,IF((SUM($F30:EO30)+0.1<SUM($G16:EO16)),SUM($G16:EO16)/$E30,0),)","v":0},{"$f":"IF(EQ$6>0,IF((SUM($F30:EP30)+0.1<SUM($G16:EP16)),SUM($G16:EP16)/$E30,0),)","v":0},{"$f":"IF(ER$6>0,IF((SUM($F30:EQ30)+0.1<SUM($G16:EQ16)),SUM($G16:EQ16)/$E30,0),)","v":0},{"$f":"IF(ES$6>0,IF((SUM($F30:ER30)+0.1<SUM($G16:ER16)),SUM($G16:ER16)/$E30,0),)","v":0},{"$f":"IF(ET$6>0,IF((SUM($F30:ES30)+0.1<SUM($G16:ES16)),SUM($G16:ES16)/$E30,0),)","v":0},{"$f":"IF(EU$6>0,IF((SUM($F30:ET30)+0.1<SUM($G16:ET16)),SUM($G16:ET16)/$E30,0),)","v":0},{"$f":"IF(EV$6>0,IF((SUM($F30:EU30)+0.1<SUM($G16:EU16)),SUM($G16:EU16)/$E30,0),)","v":0},{"$f":"IF(EW$6>0,IF((SUM($F30:EV30)+0.1<SUM($G16:EV16)),SUM($G16:EV16)/$E30,0),)","v":0},{"$f":"IF(EX$6>0,IF((SUM($F30:EW30)+0.1<SUM($G16:EW16)),SUM($G16:EW16)/$E30,0),)","v":0},{"$f":"IF(EY$6>0,IF((SUM($F30:EX30)+0.1<SUM($G16:EX16)),SUM($G16:EX16)/$E30,0),)","v":0},{"$f":"IF(EZ$6>0,IF((SUM($F30:EY30)+0.1<SUM($G16:EY16)),SUM($G16:EY16)/$E30,0),)","v":0},{"$f":"IF(FA$6>0,IF((SUM($F30:EZ30)+0.1<SUM($G16:EZ16)),SUM($G16:EZ16)/$E30,0),)","v":0},{"$f":"IF(FB$6>0,IF((SUM($F30:FA30)+0.1<SUM($G16:FA16)),SUM($G16:FA16)/$E30,0),)","v":0},{"$f":"IF(FC$6>0,IF((SUM($F30:FB30)+0.1<SUM($G16:FB16)),SUM($G16:FB16)/$E30,0),)","v":0},{"$f":"IF(FD$6>0,IF((SUM($F30:FC30)+0.1<SUM($G16:FC16)),SUM($G16:FC16)/$E30,0),)","v":0},{"$f":"IF(FE$6>0,IF((SUM($F30:FD30)+0.1<SUM($G16:FD16)),SUM($G16:FD16)/$E30,0),)","v":0},{"$f":"IF(FF$6>0,IF((SUM($F30:FE30)+0.1<SUM($G16:FE16)),SUM($G16:FE16)/$E30,0),)","v":0},{"$f":"IF(FG$6>0,IF((SUM($F30:FF30)+0.1<SUM($G16:FF16)),SUM($G16:FF16)/$E30,0),)","v":0},{"$f":"IF(FH$6>0,IF((SUM($F30:FG30)+0.1<SUM($G16:FG16)),SUM($G16:FG16)/$E30,0),)","v":0},{"$f":"IF(FI$6>0,IF((SUM($F30:FH30)+0.1<SUM($G16:FH16)),SUM($G16:FH16)/$E30,0),)","v":0},{"$f":"IF(FJ$6>0,IF((SUM($F30:FI30)+0.1<SUM($G16:FI16)),SUM($G16:FI16)/$E30,0),)","v":0},{"$f":"IF(FK$6>0,IF((SUM($F30:FJ30)+0.1<SUM($G16:FJ16)),SUM($G16:FJ16)/$E30,0),)","v":0},{"$f":"IF(FL$6>0,IF((SUM($F30:FK30)+0.1<SUM($G16:FK16)),SUM($G16:FK16)/$E30,0),)","v":0},{"$f":"IF(FM$6>0,IF((SUM($F30:FL30)+0.1<SUM($G16:FL16)),SUM($G16:FL16)/$E30,0),)","v":0},{"$f":"IF(FN$6>0,IF((SUM($F30:FM30)+0.1<SUM($G16:FM16)),SUM($G16:FM16)/$E30,0),)","v":0},{"$f":"IF(FO$6>0,IF((SUM($F30:FN30)+0.1<SUM($G16:FN16)),SUM($G16:FN16)/$E30,0),)","v":0},{"$f":"IF(FP$6>0,IF((SUM($F30:FO30)+0.1<SUM($G16:FO16)),SUM($G16:FO16)/$E30,0),)","v":0},{"$f":"IF(FQ$6>0,IF((SUM($F30:FP30)+0.1<SUM($G16:FP16)),SUM($G16:FP16)/$E30,0),)","v":0},{"$f":"IF(FR$6>0,IF((SUM($F30:FQ30)+0.1<SUM($G16:FQ16)),SUM($G16:FQ16)/$E30,0),)","v":0},{"$f":"IF(FS$6>0,IF((SUM($F30:FR30)+0.1<SUM($G16:FR16)),SUM($G16:FR16)/$E30,0),)","v":0},{"$f":"IF(FT$6>0,IF((SUM($F30:FS30)+0.1<SUM($G16:FS16)),SUM($G16:FS16)/$E30,0),)","v":0},{"$f":"IF(FU$6>0,IF((SUM($F30:FT30)+0.1<SUM($G16:FT16)),SUM($G16:FT16)/$E30,0),)","v":0},{"$f":"IF(FV$6>0,IF((SUM($F30:FU30)+0.1<SUM($G16:FU16)),SUM($G16:FU16)/$E30,0),)","v":0},{"$f":"IF(FW$6>0,IF((SUM($F30:FV30)+0.1<SUM($G16:FV16)),SUM($G16:FV16)/$E30,0),)","v":0},{"$f":"IF(FX$6>0,IF((SUM($F30:FW30)+0.1<SUM($G16:FW16)),SUM($G16:FW16)/$E30,0),)","v":0},{"$f":"IF(FY$6>0,IF((SUM($F30:FX30)+0.1<SUM($G16:FX16)),SUM($G16:FX16)/$E30,0),)","v":0},{"$f":"IF(FZ$6>0,IF((SUM($F30:FY30)+0.1<SUM($G16:FY16)),SUM($G16:FY16)/$E30,0),)","v":0},{"$f":"IF(GA$6>0,IF((SUM($F30:FZ30)+0.1<SUM($G16:FZ16)),SUM($G16:FZ16)/$E30,0),)","v":0},{"$f":"IF(GB$6>0,IF((SUM($F30:GA30)+0.1<SUM($G16:GA16)),SUM($G16:GA16)/$E30,0),)","v":0},{"$f":"IF(GC$6>0,IF((SUM($F30:GB30)+0.1<SUM($G16:GB16)),SUM($G16:GB16)/$E30,0),)","v":0},{"$f":"IF(GD$6>0,IF((SUM($F30:GC30)+0.1<SUM($G16:GC16)),SUM($G16:GC16)/$E30,0),)","v":0},{"$f":"IF(GE$6>0,IF((SUM($F30:GD30)+0.1<SUM($G16:GD16)),SUM($G16:GD16)/$E30,0),)","v":0},{"$f":"IF(GF$6>0,IF((SUM($F30:GE30)+0.1<SUM($G16:GE16)),SUM($G16:GE16)/$E30,0),)","v":0},{"$f":"IF(GG$6>0,IF((SUM($F30:GF30)+0.1<SUM($G16:GF16)),SUM($G16:GF16)/$E30,0),)","v":0},{"$f":"IF(GH$6>0,IF((SUM($F30:GG30)+0.1<SUM($G16:GG16)),SUM($G16:GG16)/$E30,0),)","v":0},{"$f":"IF(GI$6>0,IF((SUM($F30:GH30)+0.1<SUM($G16:GH16)),SUM($G16:GH16)/$E30,0),)","v":0},{"$f":"IF(GJ$6>0,IF((SUM($F30:GI30)+0.1<SUM($G16:GI16)),SUM($G16:GI16)/$E30,0),)","v":0},{"$f":"IF(GK$6>0,IF((SUM($F30:GJ30)+0.1<SUM($G16:GJ16)),SUM($G16:GJ16)/$E30,0),)","v":0},{"$f":"IF(GL$6>0,IF((SUM($F30:GK30)+0.1<SUM($G16:GK16)),SUM($G16:GK16)/$E30,0),)","v":0},{"$f":"IF(GM$6>0,IF((SUM($F30:GL30)+0.1<SUM($G16:GL16)),SUM($G16:GL16)/$E30,0),)","v":0},{"$f":"IF(GN$6>0,IF((SUM($F30:GM30)+0.1<SUM($G16:GM16)),SUM($G16:GM16)/$E30,0),)","v":0},{"$f":"IF(GO$6>0,IF((SUM($F30:GN30)+0.1<SUM($G16:GN16)),SUM($G16:GN16)/$E30,0),)","v":0},{"$f":"IF(GP$6>0,IF((SUM($F30:GO30)+0.1<SUM($G16:GO16)),SUM($G16:GO16)/$E30,0),)","v":0},{"$f":"IF(GQ$6>0,IF((SUM($F30:GP30)+0.1<SUM($G16:GP16)),SUM($G16:GP16)/$E30,0),)","v":0},{"$f":"IF(GR$6>0,IF((SUM($F30:GQ30)+0.1<SUM($G16:GQ16)),SUM($G16:GQ16)/$E30,0),)","v":0},{"$f":"IF(GS$6>0,IF((SUM($F30:GR30)+0.1<SUM($G16:GR16)),SUM($G16:GR16)/$E30,0),)","v":0},{"$f":"IF(GT$6>0,IF((SUM($F30:GS30)+0.1<SUM($G16:GS16)),SUM($G16:GS16)/$E30,0),)","v":0},{"$f":"IF(GU$6>0,IF((SUM($F30:GT30)+0.1<SUM($G16:GT16)),SUM($G16:GT16)/$E30,0),)","v":0},{"$f":"IF(GV$6>0,IF((SUM($F30:GU30)+0.1<SUM($G16:GU16)),SUM($G16:GU16)/$E30,0),)","v":0},{"$f":"IF(GW$6>0,IF((SUM($F30:GV30)+0.1<SUM($G16:GV16)),SUM($G16:GV16)/$E30,0),)","v":0},{"$f":"IF(GX$6>0,IF((SUM($F30:GW30)+0.1<SUM($G16:GW16)),SUM($G16:GW16)/$E30,0),)","v":0},{"$f":"IF(GY$6>0,IF((SUM($F30:GX30)+0.1<SUM($G16:GX16)),SUM($G16:GX16)/$E30,0),)","v":0},{"$f":"IF(GZ$6>0,IF((SUM($F30:GY30)+0.1<SUM($G16:GY16)),SUM($G16:GY16)/$E30,0),)","v":0},{"$f":"IF(HA$6>0,IF((SUM($F30:GZ30)+0.1<SUM($G16:GZ16)),SUM($G16:GZ16)/$E30,0),)","v":0},{"$f":"IF(HB$6>0,IF((SUM($F30:HA30)+0.1<SUM($G16:HA16)),SUM($G16:HA16)/$E30,0),)","v":0},{"$f":"IF(HC$6>0,IF((SUM($F30:HB30)+0.1<SUM($G16:HB16)),SUM($G16:HB16)/$E30,0),)","v":0},{"$f":"IF(HD$6>0,IF((SUM($F30:HC30)+0.1<SUM($G16:HC16)),SUM($G16:HC16)/$E30,0),)","v":0},{"$f":"IF(HE$6>0,IF((SUM($F30:HD30)+0.1<SUM($G16:HD16)),SUM($G16:HD16)/$E30,0),)","v":0},{"$f":"IF(HF$6>0,IF((SUM($F30:HE30)+0.1<SUM($G16:HE16)),SUM($G16:HE16)/$E30,0),)","v":0},{"$f":"IF(HG$6>0,IF((SUM($F30:HF30)+0.1<SUM($G16:HF16)),SUM($G16:HF16)/$E30,0),)","v":0},{"$f":"IF(HH$6>0,IF((SUM($F30:HG30)+0.1<SUM($G16:HG16)),SUM($G16:HG16)/$E30,0),)","v":0},{"$f":"IF(HI$6>0,IF((SUM($F30:HH30)+0.1<SUM($G16:HH16)),SUM($G16:HH16)/$E30,0),)","v":0},{"$f":"IF(HJ$6>0,IF((SUM($F30:HI30)+0.1<SUM($G16:HI16)),SUM($G16:HI16)/$E30,0),)","v":0},{"$f":"IF(HK$6>0,IF((SUM($F30:HJ30)+0.1<SUM($G16:HJ16)),SUM($G16:HJ16)/$E30,0),)","v":0},{"$f":"IF(HL$6>0,IF((SUM($F30:HK30)+0.1<SUM($G16:HK16)),SUM($G16:HK16)/$E30,0),)","v":0},{"$f":"IF(HM$6>0,IF((SUM($F30:HL30)+0.1<SUM($G16:HL16)),SUM($G16:HL16)/$E30,0),)","v":0},{"$f":"IF(HN$6>0,IF((SUM($F30:HM30)+0.1<SUM($G16:HM16)),SUM($G16:HM16)/$E30,0),)","v":0},{"$f":"IF(HO$6>0,IF((SUM($F30:HN30)+0.1<SUM($G16:HN16)),SUM($G16:HN16)/$E30,0),)","v":0},{"$f":"IF(HP$6>0,IF((SUM($F30:HO30)+0.1<SUM($G16:HO16)),SUM($G16:HO16)/$E30,0),)","v":0},{"$f":"IF(HQ$6>0,IF((SUM($F30:HP30)+0.1<SUM($G16:HP16)),SUM($G16:HP16)/$E30,0),)","v":0},{"$f":"IF(HR$6>0,IF((SUM($F30:HQ30)+0.1<SUM($G16:HQ16)),SUM($G16:HQ16)/$E30,0),)","v":0},{"$f":"IF(HS$6>0,IF((SUM($F30:HR30)+0.1<SUM($G16:HR16)),SUM($G16:HR16)/$E30,0),)","v":0},{"$f":"IF(HT$6>0,IF((SUM($F30:HS30)+0.1<SUM($G16:HS16)),SUM($G16:HS16)/$E30,0),)","v":0},{"$f":"IF(HU$6>0,IF((SUM($F30:HT30)+0.1<SUM($G16:HT16)),SUM($G16:HT16)/$E30,0),)","v":0},{"$f":"IF(HV$6>0,IF((SUM($F30:HU30)+0.1<SUM($G16:HU16)),SUM($G16:HU16)/$E30,0),)","v":0},{"$f":"IF(HW$6>0,IF((SUM($F30:HV30)+0.1<SUM($G16:HV16)),SUM($G16:HV16)/$E30,0),)","v":0},{"$f":"IF(HX$6>0,IF((SUM($F30:HW30)+0.1<SUM($G16:HW16)),SUM($G16:HW16)/$E30,0),)","v":0},{"$f":"IF(HY$6>0,IF((SUM($F30:HX30)+0.1<SUM($G16:HX16)),SUM($G16:HX16)/$E30,0),)","v":0},{"$f":"IF(HZ$6>0,IF((SUM($F30:HY30)+0.1<SUM($G16:HY16)),SUM($G16:HY16)/$E30,0),)","v":0},{"$f":"IF(IA$6>0,IF((SUM($F30:HZ30)+0.1<SUM($G16:HZ16)),SUM($G16:HZ16)/$E30,0),)","v":0},{"$f":"IF(IB$6>0,IF((SUM($F30:IA30)+0.1<SUM($G16:IA16)),SUM($G16:IA16)/$E30,0),)","v":0},{"$f":"IF(IC$6>0,IF((SUM($F30:IB30)+0.1<SUM($G16:IB16)),SUM($G16:IB16)/$E30,0),)","v":0},{"$f":"IF(ID$6>0,IF((SUM($F30:IC30)+0.1<SUM($G16:IC16)),SUM($G16:IC16)/$E30,0),)","v":0},{"$f":"IF(IE$6>0,IF((SUM($F30:ID30)+0.1<SUM($G16:ID16)),SUM($G16:ID16)/$E30,0),)","v":0},{"$f":"IF(IF$6>0,IF((SUM($F30:IE30)+0.1<SUM($G16:IE16)),SUM($G16:IE16)/$E30,0),)","v":0},{"$f":"IF(IG$6>0,IF((SUM($F30:IF30)+0.1<SUM($G16:IF16)),SUM($G16:IF16)/$E30,0),)","v":0},{"$f":"IF(IH$6>0,IF((SUM($F30:IG30)+0.1<SUM($G16:IG16)),SUM($G16:IG16)/$E30,0),)","v":0},{"$f":"IF(II$6>0,IF((SUM($F30:IH30)+0.1<SUM($G16:IH16)),SUM($G16:IH16)/$E30,0),)","v":0},{"$f":"IF(IJ$6>0,IF((SUM($F30:II30)+0.1<SUM($G16:II16)),SUM($G16:II16)/$E30,0),)","v":0},{"$f":"IF(IK$6>0,IF((SUM($F30:IJ30)+0.1<SUM($G16:IJ16)),SUM($G16:IJ16)/$E30,0),)","v":0},{"$f":"IF(IL$6>0,IF((SUM($F30:IK30)+0.1<SUM($G16:IK16)),SUM($G16:IK16)/$E30,0),)","v":0},{"$f":"IF(IM$6>0,IF((SUM($F30:IL30)+0.1<SUM($G16:IL16)),SUM($G16:IL16)/$E30,0),)","v":0},{"$f":"IF(IN$6>0,IF((SUM($F30:IM30)+0.1<SUM($G16:IM16)),SUM($G16:IM16)/$E30,0),)","v":0},{"$f":"IF(IO$6>0,IF((SUM($F30:IN30)+0.1<SUM($G16:IN16)),SUM($G16:IN16)/$E30,0),)","v":0},{"$f":"IF(IP$6>0,IF((SUM($F30:IO30)+0.1<SUM($G16:IO16)),SUM($G16:IO16)/$E30,0),)","v":0},{"$f":"IF(IQ$6>0,IF((SUM($F30:IP30)+0.1<SUM($G16:IP16)),SUM($G16:IP16)/$E30,0),)","v":0},{"$f":"IF(IR$6>0,IF((SUM($F30:IQ30)+0.1<SUM($G16:IQ16)),SUM($G16:IQ16)/$E30,0),)","v":0},{"$f":"IF(IS$6>0,IF((SUM($F30:IR30)+0.1<SUM($G16:IR16)),SUM($G16:IR16)/$E30,0),)","v":0},{"$f":"IF(IT$6>0,IF((SUM($F30:IS30)+0.1<SUM($G16:IS16)),SUM($G16:IS16)/$E30,0),)","v":0},{"$f":"IF(IU$6>0,IF((SUM($F30:IT30)+0.1<SUM($G16:IT16)),SUM($G16:IT16)/$E30,0),)","v":0},{"$f":"IF(IV$6>0,IF((SUM($F30:IU30)+0.1<SUM($G16:IU16)),SUM($G16:IU16)/$E30,0),)","v":0},{"$f":"IF(IW$6>0,IF((SUM($F30:IV30)+0.1<SUM($G16:IV16)),SUM($G16:IV16)/$E30,0),)","v":0},{"$f":"IF(IX$6>0,IF((SUM($F30:IW30)+0.1<SUM($G16:IW16)),SUM($G16:IW16)/$E30,0),)","v":0},{"$f":"IF(IY$6>0,IF((SUM($F30:IX30)+0.1<SUM($G16:IX16)),SUM($G16:IX16)/$E30,0),)","v":0},{"$f":"IF(IZ$6>0,IF((SUM($F30:IY30)+0.1<SUM($G16:IY16)),SUM($G16:IY16)/$E30,0),)","v":0},{"$f":"IF(JA$6>0,IF((SUM($F30:IZ30)+0.1<SUM($G16:IZ16)),SUM($G16:IZ16)/$E30,0),)","v":0},{"$f":"IF(JB$6>0,IF((SUM($F30:JA30)+0.1<SUM($G16:JA16)),SUM($G16:JA16)/$E30,0),)","v":0},{"$f":"IF(JC$6>0,IF((SUM($F30:JB30)+0.1<SUM($G16:JB16)),SUM($G16:JB16)/$E30,0),)","v":0},{"$f":"IF(JD$6>0,IF((SUM($F30:JC30)+0.1<SUM($G16:JC16)),SUM($G16:JC16)/$E30,0),)","v":0},{"$f":"IF(JE$6>0,IF((SUM($F30:JD30)+0.1<SUM($G16:JD16)),SUM($G16:JD16)/$E30,0),)","v":0},{"$f":"IF(JF$6>0,IF((SUM($F30:JE30)+0.1<SUM($G16:JE16)),SUM($G16:JE16)/$E30,0),)","v":0},{"$f":"IF(JG$6>0,IF((SUM($F30:JF30)+0.1<SUM($G16:JF16)),SUM($G16:JF16)/$E30,0),)","v":0},{"$f":"IF(JH$6>0,IF((SUM($F30:JG30)+0.1<SUM($G16:JG16)),SUM($G16:JG16)/$E30,0),)","v":0},{"$f":"IF(JI$6>0,IF((SUM($F30:JH30)+0.1<SUM($G16:JH16)),SUM($G16:JH16)/$E30,0),)","v":0},{"$f":"IF(JJ$6>0,IF((SUM($F30:JI30)+0.1<SUM($G16:JI16)),SUM($G16:JI16)/$E30,0),)","v":0},{"$f":"IF(JK$6>0,IF((SUM($F30:JJ30)+0.1<SUM($G16:JJ16)),SUM($G16:JJ16)/$E30,0),)","v":0},{"$f":"IF(JL$6>0,IF((SUM($F30:JK30)+0.1<SUM($G16:JK16)),SUM($G16:JK16)/$E30,0),)","v":0},{"$f":"IF(JM$6>0,IF((SUM($F30:JL30)+0.1<SUM($G16:JL16)),SUM($G16:JL16)/$E30,0),)","v":0},{"$f":"IF(JN$6>0,IF((SUM($F30:JM30)+0.1<SUM($G16:JM16)),SUM($G16:JM16)/$E30,0),)","v":0},{"$f":"IF(JO$6>0,IF((SUM($F30:JN30)+0.1<SUM($G16:JN16)),SUM($G16:JN16)/$E30,0),)","v":0},{"$f":"IF(JP$6>0,IF((SUM($F30:JO30)+0.1<SUM($G16:JO16)),SUM($G16:JO16)/$E30,0),)","v":0},{"$f":"IF(JQ$6>0,IF((SUM($F30:JP30)+0.1<SUM($G16:JP16)),SUM($G16:JP16)/$E30,0),)","v":0},{"$f":"IF(JR$6>0,IF((SUM($F30:JQ30)+0.1<SUM($G16:JQ16)),SUM($G16:JQ16)/$E30,0),)","v":0},{"$f":"IF(JS$6>0,IF((SUM($F30:JR30)+0.1<SUM($G16:JR16)),SUM($G16:JR16)/$E30,0),)","v":0},{"$f":"IF(JT$6>0,IF((SUM($F30:JS30)+0.1<SUM($G16:JS16)),SUM($G16:JS16)/$E30,0),)","v":0},{"$f":"IF(JU$6>0,IF((SUM($F30:JT30)+0.1<SUM($G16:JT16)),SUM($G16:JT16)/$E30,0),)","v":0},{"$f":"IF(JV$6>0,IF((SUM($F30:JU30)+0.1<SUM($G16:JU16)),SUM($G16:JU16)/$E30,0),)","v":0},{"$f":"IF(JW$6>0,IF((SUM($F30:JV30)+0.1<SUM($G16:JV16)),SUM($G16:JV16)/$E30,0),)","v":0},{"$f":"IF(JX$6>0,IF((SUM($F30:JW30)+0.1<SUM($G16:JW16)),SUM($G16:JW16)/$E30,0),)","v":0},{"$f":"IF(JY$6>0,IF((SUM($F30:JX30)+0.1<SUM($G16:JX16)),SUM($G16:JX16)/$E30,0),)","v":0},{"$f":"IF(JZ$6>0,IF((SUM($F30:JY30)+0.1<SUM($G16:JY16)),SUM($G16:JY16)/$E30,0),)","v":0},{"$f":"IF(KA$6>0,IF((SUM($F30:JZ30)+0.1<SUM($G16:JZ16)),SUM($G16:JZ16)/$E30,0),)","v":0},{"$f":"IF(KB$6>0,IF((SUM($F30:KA30)+0.1<SUM($G16:KA16)),SUM($G16:KA16)/$E30,0),)","v":0},{"$f":"IF(KC$6>0,IF((SUM($F30:KB30)+0.1<SUM($G16:KB16)),SUM($G16:KB16)/$E30,0),)","v":0},{"$f":"IF(KD$6>0,IF((SUM($F30:KC30)+0.1<SUM($G16:KC16)),SUM($G16:KC16)/$E30,0),)","v":0},{"$f":"IF(KE$6>0,IF((SUM($F30:KD30)+0.1<SUM($G16:KD16)),SUM($G16:KD16)/$E30,0),)","v":0},{"$f":"IF(KF$6>0,IF((SUM($F30:KE30)+0.1<SUM($G16:KE16)),SUM($G16:KE16)/$E30,0),)","v":0},{"$f":"IF(KG$6>0,IF((SUM($F30:KF30)+0.1<SUM($G16:KF16)),SUM($G16:KF16)/$E30,0),)","v":0},{"$f":"IF(KH$6>0,IF((SUM($F30:KG30)+0.1<SUM($G16:KG16)),SUM($G16:KG16)/$E30,0),)","v":0},{"$f":"IF(KI$6>0,IF((SUM($F30:KH30)+0.1<SUM($G16:KH16)),SUM($G16:KH16)/$E30,0),)","v":0},{"$f":"IF(KJ$6>0,IF((SUM($F30:KI30)+0.1<SUM($G16:KI16)),SUM($G16:KI16)/$E30,0),)","v":0},{"$f":"IF(KK$6>0,IF((SUM($F30:KJ30)+0.1<SUM($G16:KJ16)),SUM($G16:KJ16)/$E30,0),)","v":0},{"$f":"IF(KL$6>0,IF((SUM($F30:KK30)+0.1<SUM($G16:KK16)),SUM($G16:KK16)/$E30,0),)","v":0},{"$f":"IF(KM$6>0,IF((SUM($F30:KL30)+0.1<SUM($G16:KL16)),SUM($G16:KL16)/$E30,0),)","v":0},{"$f":"IF(KN$6>0,IF((SUM($F30:KM30)+0.1<SUM($G16:KM16)),SUM($G16:KM16)/$E30,0),)","v":0},{"$f":"IF(KO$6>0,IF((SUM($F30:KN30)+0.1<SUM($G16:KN16)),SUM($G16:KN16)/$E30,0),)","v":0},{"$f":"IF(KP$6>0,IF((SUM($F30:KO30)+0.1<SUM($G16:KO16)),SUM($G16:KO16)/$E30,0),)","v":0},{"$f":"IF(KQ$6>0,IF((SUM($F30:KP30)+0.1<SUM($G16:KP16)),SUM($G16:KP16)/$E30,0),)","v":0},{"$f":"IF(KR$6>0,IF((SUM($F30:KQ30)+0.1<SUM($G16:KQ16)),SUM($G16:KQ16)/$E30,0),)","v":0},{"$f":"IF(KS$6>0,IF((SUM($F30:KR30)+0.1<SUM($G16:KR16)),SUM($G16:KR16)/$E30,0),)","v":0},{"$f":"IF(KT$6>0,IF((SUM($F30:KS30)+0.1<SUM($G16:KS16)),SUM($G16:KS16)/$E30,0),)","v":0},{"$f":"IF(KU$6>0,IF((SUM($F30:KT30)+0.1<SUM($G16:KT16)),SUM($G16:KT16)/$E30,0),)","v":0},{"$f":"IF(KV$6>0,IF((SUM($F30:KU30)+0.1<SUM($G16:KU16)),SUM($G16:KU16)/$E30,0),)","v":0},{"$f":"IF(KW$6>0,IF((SUM($F30:KV30)+0.1<SUM($G16:KV16)),SUM($G16:KV16)/$E30,0),)","v":0},{"$f":"IF(KX$6>0,IF((SUM($F30:KW30)+0.1<SUM($G16:KW16)),SUM($G16:KW16)/$E30,0),)","v":0},{"$f":"IF(KY$6>0,IF((SUM($F30:KX30)+0.1<SUM($G16:KX16)),SUM($G16:KX16)/$E30,0),)","v":0},{"$f":"IF(KZ$6>0,IF((SUM($F30:KY30)+0.1<SUM($G16:KY16)),SUM($G16:KY16)/$E30,0),)","v":0},{"$f":"IF(LA$6>0,IF((SUM($F30:KZ30)+0.1<SUM($G16:KZ16)),SUM($G16:KZ16)/$E30,0),)","v":0},{"$f":"IF(LB$6>0,IF((SUM($F30:LA30)+0.1<SUM($G16:LA16)),SUM($G16:LA16)/$E30,0),)","v":0},{"$f":"IF(LC$6>0,IF((SUM($F30:LB30)+0.1<SUM($G16:LB16)),SUM($G16:LB16)/$E30,0),)","v":0},{"$f":"IF(LD$6>0,IF((SUM($F30:LC30)+0.1<SUM($G16:LC16)),SUM($G16:LC16)/$E30,0),)","v":0},{"$f":"IF(LE$6>0,IF((SUM($F30:LD30)+0.1<SUM($G16:LD16)),SUM($G16:LD16)/$E30,0),)","v":0},{"$f":"IF(LF$6>0,IF((SUM($F30:LE30)+0.1<SUM($G16:LE16)),SUM($G16:LE16)/$E30,0),)","v":0},{"$f":"IF(LG$6>0,IF((SUM($F30:LF30)+0.1<SUM($G16:LF16)),SUM($G16:LF16)/$E30,0),)","v":0},{"$f":"IF(LH$6>0,IF((SUM($F30:LG30)+0.1<SUM($G16:LG16)),SUM($G16:LG16)/$E30,0),)","v":0},{"$f":"IF(LI$6>0,IF((SUM($F30:LH30)+0.1<SUM($G16:LH16)),SUM($G16:LH16)/$E30,0),)","v":0},{"$f":"IF(LJ$6>0,IF((SUM($F30:LI30)+0.1<SUM($G16:LI16)),SUM($G16:LI16)/$E30,0),)","v":0},{"$f":"IF(LK$6>0,IF((SUM($F30:LJ30)+0.1<SUM($G16:LJ16)),SUM($G16:LJ16)/$E30,0),)","v":0},{"$f":"IF(LL$6>0,IF((SUM($F30:LK30)+0.1<SUM($G16:LK16)),SUM($G16:LK16)/$E30,0),)","v":0},{"$f":"IF(LM$6>0,IF((SUM($F30:LL30)+0.1<SUM($G16:LL16)),SUM($G16:LL16)/$E30,0),)","v":0},{"$f":"IF(LN$6>0,IF((SUM($F30:LM30)+0.1<SUM($G16:LM16)),SUM($G16:LM16)/$E30,0),)","v":0},{"$f":"IF(LO$6>0,IF((SUM($F30:LN30)+0.1<SUM($G16:LN16)),SUM($G16:LN16)/$E30,0),)","v":0},{"$f":"IF(LP$6>0,IF((SUM($F30:LO30)+0.1<SUM($G16:LO16)),SUM($G16:LO16)/$E30,0),)","v":0},{"$f":"IF(LQ$6>0,IF((SUM($F30:LP30)+0.1<SUM($G16:LP16)),SUM($G16:LP16)/$E30,0),)","v":0},{"$f":"IF(LR$6>0,IF((SUM($F30:LQ30)+0.1<SUM($G16:LQ16)),SUM($G16:LQ16)/$E30,0),)","v":0},{"$f":"IF(LS$6>0,IF((SUM($F30:LR30)+0.1<SUM($G16:LR16)),SUM($G16:LR16)/$E30,0),)","v":0},{"$f":"IF(LT$6>0,IF((SUM($F30:LS30)+0.1<SUM($G16:LS16)),SUM($G16:LS16)/$E30,0),)","v":0},{"$f":"IF(LU$6>0,IF((SUM($F30:LT30)+0.1<SUM($G16:LT16)),SUM($G16:LT16)/$E30,0),)","v":0},{"$f":"IF(LV$6>0,IF((SUM($F30:LU30)+0.1<SUM($G16:LU16)),SUM($G16:LU16)/$E30,0),)","v":0},{"$f":"IF(LW$6>0,IF((SUM($F30:LV30)+0.1<SUM($G16:LV16)),SUM($G16:LV16)/$E30,0),)","v":0},{"$f":"IF(LX$6>0,IF((SUM($F30:LW30)+0.1<SUM($G16:LW16)),SUM($G16:LW16)/$E30,0),)","v":0},{"$f":"IF(LY$6>0,IF((SUM($F30:LX30)+0.1<SUM($G16:LX16)),SUM($G16:LX16)/$E30,0),)","v":0},{"$f":"IF(LZ$6>0,IF((SUM($F30:LY30)+0.1<SUM($G16:LY16)),SUM($G16:LY16)/$E30,0),)","v":0},{"$f":"IF(MA$6>0,IF((SUM($F30:LZ30)+0.1<SUM($G16:LZ16)),SUM($G16:LZ16)/$E30,0),)","v":0},{"$f":"IF(MB$6>0,IF((SUM($F30:MA30)+0.1<SUM($G16:MA16)),SUM($G16:MA16)/$E30,0),)","v":0},{"$f":"IF(MC$6>0,IF((SUM($F30:MB30)+0.1<SUM($G16:MB16)),SUM($G16:MB16)/$E30,0),)","v":0},{"$f":"IF(MD$6>0,IF((SUM($F30:MC30)+0.1<SUM($G16:MC16)),SUM($G16:MC16)/$E30,0),)","v":0},{"$f":"IF(ME$6>0,IF((SUM($F30:MD30)+0.1<SUM($G16:MD16)),SUM($G16:MD16)/$E30,0),)","v":0},{"$f":"IF(MF$6>0,IF((SUM($F30:ME30)+0.1<SUM($G16:ME16)),SUM($G16:ME16)/$E30,0),)","v":0},{"$f":"IF(MG$6>0,IF((SUM($F30:MF30)+0.1<SUM($G16:MF16)),SUM($G16:MF16)/$E30,0),)","v":0},{"$f":"IF(MH$6>0,IF((SUM($F30:MG30)+0.1<SUM($G16:MG16)),SUM($G16:MG16)/$E30,0),)","v":0},{"$f":"IF(MI$6>0,IF((SUM($F30:MH30)+0.1<SUM($G16:MH16)),SUM($G16:MH16)/$E30,0),)","v":0},{"$f":"IF(MJ$6>0,IF((SUM($F30:MI30)+0.1<SUM($G16:MI16)),SUM($G16:MI16)/$E30,0),)","v":0},{"$f":"IF(MK$6>0,IF((SUM($F30:MJ30)+0.1<SUM($G16:MJ16)),SUM($G16:MJ16)/$E30,0),)","v":0},{"$f":"IF(ML$6>0,IF((SUM($F30:MK30)+0.1<SUM($G16:MK16)),SUM($G16:MK16)/$E30,0),)","v":0},{"$f":"IF(MM$6>0,IF((SUM($F30:ML30)+0.1<SUM($G16:ML16)),SUM($G16:ML16)/$E30,0),)","v":0},{"$f":"IF(MN$6>0,IF((SUM($F30:MM30)+0.1<SUM($G16:MM16)),SUM($G16:MM16)/$E30,0),)","v":0},{"$f":"IF(MO$6>0,IF((SUM($F30:MN30)+0.1<SUM($G16:MN16)),SUM($G16:MN16)/$E30,0),)","v":0},{"$f":"IF(MP$6>0,IF((SUM($F30:MO30)+0.1<SUM($G16:MO16)),SUM($G16:MO16)/$E30,0),)","v":0},{"$f":"IF(MQ$6>0,IF((SUM($F30:MP30)+0.1<SUM($G16:MP16)),SUM($G16:MP16)/$E30,0),)","v":0},{"$f":"IF(MR$6>0,IF((SUM($F30:MQ30)+0.1<SUM($G16:MQ16)),SUM($G16:MQ16)/$E30,0),)","v":0},{"$f":"IF(MS$6>0,IF((SUM($F30:MR30)+0.1<SUM($G16:MR16)),SUM($G16:MR16)/$E30,0),)","v":0},{"$f":"IF(MT$6>0,IF((SUM($F30:MS30)+0.1<SUM($G16:MS16)),SUM($G16:MS16)/$E30,0),)","v":0},{"$f":"IF(MU$6>0,IF((SUM($F30:MT30)+0.1<SUM($G16:MT16)),SUM($G16:MT16)/$E30,0),)","v":0},{"$f":"IF(MV$6>0,IF((SUM($F30:MU30)+0.1<SUM($G16:MU16)),SUM($G16:MU16)/$E30,0),)","v":0},{"$f":"IF(MW$6>0,IF((SUM($F30:MV30)+0.1<SUM($G16:MV16)),SUM($G16:MV16)/$E30,0),)","v":0},{"$f":"IF(MX$6>0,IF((SUM($F30:MW30)+0.1<SUM($G16:MW16)),SUM($G16:MW16)/$E30,0),)","v":0},{"$f":"IF(MY$6>0,IF((SUM($F30:MX30)+0.1<SUM($G16:MX16)),SUM($G16:MX16)/$E30,0),)","v":0},{"$f":"IF(MZ$6>0,IF((SUM($F30:MY30)+0.1<SUM($G16:MY16)),SUM($G16:MY16)/$E30,0),)","v":0},{"$f":"IF(NA$6>0,IF((SUM($F30:MZ30)+0.1<SUM($G16:MZ16)),SUM($G16:MZ16)/$E30,0),)","v":0},{"$f":"IF(NB$6>0,IF((SUM($F30:NA30)+0.1<SUM($G16:NA16)),SUM($G16:NA16)/$E30,0),)","v":0},{"$f":"IF(NC$6>0,IF((SUM($F30:NB30)+0.1<SUM($G16:NB16)),SUM($G16:NB16)/$E30,0),)","v":0},{"$f":"IF(ND$6>0,IF((SUM($F30:NC30)+0.1<SUM($G16:NC16)),SUM($G16:NC16)/$E30,0),)","v":0},{"$f":"IF(NE$6>0,IF((SUM($F30:ND30)+0.1<SUM($G16:ND16)),SUM($G16:ND16)/$E30,0),)","v":0},{"$f":"IF(NF$6>0,IF((SUM($F30:NE30)+0.1<SUM($G16:NE16)),SUM($G16:NE16)/$E30,0),)","v":0},{"$f":"IF(NG$6>0,IF((SUM($F30:NF30)+0.1<SUM($G16:NF16)),SUM($G16:NF16)/$E30,0),)","v":0},{"$f":"IF(NH$6>0,IF((SUM($F30:NG30)+0.1<SUM($G16:NG16)),SUM($G16:NG16)/$E30,0),)","v":0},{"$f":"IF(NI$6>0,IF((SUM($F30:NH30)+0.1<SUM($G16:NH16)),SUM($G16:NH16)/$E30,0),)","v":0},{"$f":"IF(NJ$6>0,IF((SUM($F30:NI30)+0.1<SUM($G16:NI16)),SUM($G16:NI16)/$E30,0),)","v":0},{"$f":"IF(NK$6>0,IF((SUM($F30:NJ30)+0.1<SUM($G16:NJ16)),SUM($G16:NJ16)/$E30,0),)","v":0},{"$f":"IF(NL$6>0,IF((SUM($F30:NK30)+0.1<SUM($G16:NK16)),SUM($G16:NK16)/$E30,0),)","v":0},{"$f":"IF(NM$6>0,IF((SUM($F30:NL30)+0.1<SUM($G16:NL16)),SUM($G16:NL16)/$E30,0),)","v":0},{"$f":"IF(NN$6>0,IF((SUM($F30:NM30)+0.1<SUM($G16:NM16)),SUM($G16:NM16)/$E30,0),)","v":0},{"$f":"IF(NO$6>0,IF((SUM($F30:NN30)+0.1<SUM($G16:NN16)),SUM($G16:NN16)/$E30,0),)","v":0},{"$f":"IF(NP$6>0,IF((SUM($F30:NO30)+0.1<SUM($G16:NO16)),SUM($G16:NO16)/$E30,0),)","v":0},{"$f":"IF(NQ$6>0,IF((SUM($F30:NP30)+0.1<SUM($G16:NP16)),SUM($G16:NP16)/$E30,0),)","v":0},{"$f":"IF(NR$6>0,IF((SUM($F30:NQ30)+0.1<SUM($G16:NQ16)),SUM($G16:NQ16)/$E30,0),)","v":0},{"$f":"IF(NS$6>0,IF((SUM($F30:NR30)+0.1<SUM($G16:NR16)),SUM($G16:NR16)/$E30,0),)","v":0},{"$f":"IF(NT$6>0,IF((SUM($F30:NS30)+0.1<SUM($G16:NS16)),SUM($G16:NS16)/$E30,0),)","v":0},{"$f":"IF(NU$6>0,IF((SUM($F30:NT30)+0.1<SUM($G16:NT16)),SUM($G16:NT16)/$E30,0),)","v":0},{"$f":"IF(NV$6>0,IF((SUM($F30:NU30)+0.1<SUM($G16:NU16)),SUM($G16:NU16)/$E30,0),)","v":0},{"$f":"IF(NW$6>0,IF((SUM($F30:NV30)+0.1<SUM($G16:NV16)),SUM($G16:NV16)/$E30,0),)","v":0},{"$f":"IF(NX$6>0,IF((SUM($F30:NW30)+0.1<SUM($G16:NW16)),SUM($G16:NW16)/$E30,0),)","v":0},{"$f":"IF(NY$6>0,IF((SUM($F30:NX30)+0.1<SUM($G16:NX16)),SUM($G16:NX16)/$E30,0),)","v":0},{"$f":"IF(NZ$6>0,IF((SUM($F30:NY30)+0.1<SUM($G16:NY16)),SUM($G16:NY16)/$E30,0),)","v":0},{"$f":"IF(OA$6>0,IF((SUM($F30:NZ30)+0.1<SUM($G16:NZ16)),SUM($G16:NZ16)/$E30,0),)","v":0},{"$f":"IF(OB$6>0,IF((SUM($F30:OA30)+0.1<SUM($G16:OA16)),SUM($G16:OA16)/$E30,0),)","v":0},{"$f":"IF(OC$6>0,IF((SUM($F30:OB30)+0.1<SUM($G16:OB16)),SUM($G16:OB16)/$E30,0),)","v":0},{"$f":"IF(OD$6>0,IF((SUM($F30:OC30)+0.1<SUM($G16:OC16)),SUM($G16:OC16)/$E30,0),)","v":0},{"$f":"IF(OE$6>0,IF((SUM($F30:OD30)+0.1<SUM($G16:OD16)),SUM($G16:OD16)/$E30,0),)","v":0},{"$f":"IF(OF$6>0,IF((SUM($F30:OE30)+0.1<SUM($G16:OE16)),SUM($G16:OE16)/$E30,0),)","v":0},{"$f":"IF(OG$6>0,IF((SUM($F30:OF30)+0.1<SUM($G16:OF16)),SUM($G16:OF16)/$E30,0),)","v":0},{"$f":"IF(OH$6>0,IF((SUM($F30:OG30)+0.1<SUM($G16:OG16)),SUM($G16:OG16)/$E30,0),)","v":0},{"$f":"IF(OI$6>0,IF((SUM($F30:OH30)+0.1<SUM($G16:OH16)),SUM($G16:OH16)/$E30,0),)","v":0},{"$f":"IF(OJ$6>0,IF((SUM($F30:OI30)+0.1<SUM($G16:OI16)),SUM($G16:OI16)/$E30,0),)","v":0},{"$f":"IF(OK$6>0,IF((SUM($F30:OJ30)+0.1<SUM($G16:OJ16)),SUM($G16:OJ16)/$E30,0),)","v":0},{"$f":"IF(OL$6>0,IF((SUM($F30:OK30)+0.1<SUM($G16:OK16)),SUM($G16:OK16)/$E30,0),)","v":0},{"$f":"IF(OM$6>0,IF((SUM($F30:OL30)+0.1<SUM($G16:OL16)),SUM($G16:OL16)/$E30,0),)","v":0},{"$f":"IF(ON$6>0,IF((SUM($F30:OM30)+0.1<SUM($G16:OM16)),SUM($G16:OM16)/$E30,0),)","v":0},{"$f":"IF(OO$6>0,IF((SUM($F30:ON30)+0.1<SUM($G16:ON16)),SUM($G16:ON16)/$E30,0),)","v":0},{"$f":"IF(OP$6>0,IF((SUM($F30:OO30)+0.1<SUM($G16:OO16)),SUM($G16:OO16)/$E30,0),)","v":0},{"$f":"IF(OQ$6>0,IF((SUM($F30:OP30)+0.1<SUM($G16:OP16)),SUM($G16:OP16)/$E30,0),)","v":0},{"$f":"IF(OR$6>0,IF((SUM($F30:OQ30)+0.1<SUM($G16:OQ16)),SUM($G16:OQ16)/$E30,0),)","v":0},{"$f":"IF(OS$6>0,IF((SUM($F30:OR30)+0.1<SUM($G16:OR16)),SUM($G16:OR16)/$E30,0),)","v":0},{"$f":"IF(OT$6>0,IF((SUM($F30:OS30)+0.1<SUM($G16:OS16)),SUM($G16:OS16)/$E30,0),)","v":0},{"$f":"IF(OU$6>0,IF((SUM($F30:OT30)+0.1<SUM($G16:OT16)),SUM($G16:OT16)/$E30,0),)","v":0},{"$f":"IF(OV$6>0,IF((SUM($F30:OU30)+0.1<SUM($G16:OU16)),SUM($G16:OU16)/$E30,0),)","v":0},{"$f":"IF(OW$6>0,IF((SUM($F30:OV30)+0.1<SUM($G16:OV16)),SUM($G16:OV16)/$E30,0),)","v":0},{"$f":"IF(OX$6>0,IF((SUM($F30:OW30)+0.1<SUM($G16:OW16)),SUM($G16:OW16)/$E30,0),)","v":0},{"$f":"IF(OY$6>0,IF((SUM($F30:OX30)+0.1<SUM($G16:OX16)),SUM($G16:OX16)/$E30,0),)","v":0},{"$f":"IF(OZ$6>0,IF((SUM($F30:OY30)+0.1<SUM($G16:OY16)),SUM($G16:OY16)/$E30,0),)","v":0},{"$f":"IF(PA$6>0,IF((SUM($F30:OZ30)+0.1<SUM($G16:OZ16)),SUM($G16:OZ16)/$E30,0),)","v":0},{"$f":"IF(PB$6>0,IF((SUM($F30:PA30)+0.1<SUM($G16:PA16)),SUM($G16:PA16)/$E30,0),)","v":0},{"$f":"IF(PC$6>0,IF((SUM($F30:PB30)+0.1<SUM($G16:PB16)),SUM($G16:PB16)/$E30,0),)","v":0},{"$f":"IF(PD$6>0,IF((SUM($F30:PC30)+0.1<SUM($G16:PC16)),SUM($G16:PC16)/$E30,0),)","v":0},{"$f":"IF(PE$6>0,IF((SUM($F30:PD30)+0.1<SUM($G16:PD16)),SUM($G16:PD16)/$E30,0),)","v":0},{"$f":"IF(PF$6>0,IF((SUM($F30:PE30)+0.1<SUM($G16:PE16)),SUM($G16:PE16)/$E30,0),)","v":0},{"$f":"IF(PG$6>0,IF((SUM($F30:PF30)+0.1<SUM($G16:PF16)),SUM($G16:PF16)/$E30,0),)","v":0},{"$f":"IF(PH$6>0,IF((SUM($F30:PG30)+0.1<SUM($G16:PG16)),SUM($G16:PG16)/$E30,0),)","v":0},{"$f":"IF(PI$6>0,IF((SUM($F30:PH30)+0.1<SUM($G16:PH16)),SUM($G16:PH16)/$E30,0),)","v":0},{"$f":"IF(PJ$6>0,IF((SUM($F30:PI30)+0.1<SUM($G16:PI16)),SUM($G16:PI16)/$E30,0),)","v":0},{"$f":"IF(PK$6>0,IF((SUM($F30:PJ30)+0.1<SUM($G16:PJ16)),SUM($G16:PJ16)/$E30,0),)","v":0},{"$f":"IF(PL$6>0,IF((SUM($F30:PK30)+0.1<SUM($G16:PK16)),SUM($G16:PK16)/$E30,0),)","v":0},{"$f":"IF(PM$6>0,IF((SUM($F30:PL30)+0.1<SUM($G16:PL16)),SUM($G16:PL16)/$E30,0),)","v":0},{"$f":"IF(PN$6>0,IF((SUM($F30:PM30)+0.1<SUM($G16:PM16)),SUM($G16:PM16)/$E30,0),)","v":0},{"$f":"IF(PO$6>0,IF((SUM($F30:PN30)+0.1<SUM($G16:PN16)),SUM($G16:PN16)/$E30,0),)","v":0},{"$f":"IF(PP$6>0,IF((SUM($F30:PO30)+0.1<SUM($G16:PO16)),SUM($G16:PO16)/$E30,0),)","v":0},{"$f":"IF(PQ$6>0,IF((SUM($F30:PP30)+0.1<SUM($G16:PP16)),SUM($G16:PP16)/$E30,0),)","v":0},{"$f":"IF(PR$6>0,IF((SUM($F30:PQ30)+0.1<SUM($G16:PQ16)),SUM($G16:PQ16)/$E30,0),)","v":0},{"$f":"IF(PS$6>0,IF((SUM($F30:PR30)+0.1<SUM($G16:PR16)),SUM($G16:PR16)/$E30,0),)","v":0},{"$f":"IF(PT$6>0,IF((SUM($F30:PS30)+0.1<SUM($G16:PS16)),SUM($G16:PS16)/$E30,0),)","v":0},{"$f":"IF(PU$6>0,IF((SUM($F30:PT30)+0.1<SUM($G16:PT16)),SUM($G16:PT16)/$E30,0),)","v":0},{"$f":"IF(PV$6>0,IF((SUM($F30:PU30)+0.1<SUM($G16:PU16)),SUM($G16:PU16)/$E30,0),)","v":0},{"$f":"IF(PW$6>0,IF((SUM($F30:PV30)+0.1<SUM($G16:PV16)),SUM($G16:PV16)/$E30,0),)","v":0},{"$f":"IF(PX$6>0,IF((SUM($F30:PW30)+0.1<SUM($G16:PW16)),SUM($G16:PW16)/$E30,0),)","v":0},{"$f":"IF(PY$6>0,IF((SUM($F30:PX30)+0.1<SUM($G16:PX16)),SUM($G16:PX16)/$E30,0),)","v":0},{"$f":"IF(PZ$6>0,IF((SUM($F30:PY30)+0.1<SUM($G16:PY16)),SUM($G16:PY16)/$E30,0),)","v":0},{"$f":"IF(QA$6>0,IF((SUM($F30:PZ30)+0.1<SUM($G16:PZ16)),SUM($G16:PZ16)/$E30,0),)","v":0},{"$f":"IF(QB$6>0,IF((SUM($F30:QA30)+0.1<SUM($G16:QA16)),SUM($G16:QA16)/$E30,0),)","v":0},{"$f":"IF(QC$6>0,IF((SUM($F30:QB30)+0.1<SUM($G16:QB16)),SUM($G16:QB16)/$E30,0),)","v":0},{"$f":"IF(QD$6>0,IF((SUM($F30:QC30)+0.1<SUM($G16:QC16)),SUM($G16:QC16)/$E30,0),)","v":0},{"$f":"IF(QE$6>0,IF((SUM($F30:QD30)+0.1<SUM($G16:QD16)),SUM($G16:QD16)/$E30,0),)","v":0},{"$f":"IF(QF$6>0,IF((SUM($F30:QE30)+0.1<SUM($G16:QE16)),SUM($G16:QE16)/$E30,0),)","v":0},{"$f":"IF(QG$6>0,IF((SUM($F30:QF30)+0.1<SUM($G16:QF16)),SUM($G16:QF16)/$E30,0),)","v":0},{"$f":"IF(QH$6>0,IF((SUM($F30:QG30)+0.1<SUM($G16:QG16)),SUM($G16:QG16)/$E30,0),)","v":0},{"$f":"IF(QI$6>0,IF((SUM($F30:QH30)+0.1<SUM($G16:QH16)),SUM($G16:QH16)/$E30,0),)","v":0},{"$f":"IF(QJ$6>0,IF((SUM($F30:QI30)+0.1<SUM($G16:QI16)),SUM($G16:QI16)/$E30,0),)","v":0},{"$f":"IF(QK$6>0,IF((SUM($F30:QJ30)+0.1<SUM($G16:QJ16)),SUM($G16:QJ16)/$E30,0),)","v":0},{"$f":"IF(QL$6>0,IF((SUM($F30:QK30)+0.1<SUM($G16:QK16)),SUM($G16:QK16)/$E30,0),)","v":0},{"$f":"IF(QM$6>0,IF((SUM($F30:QL30)+0.1<SUM($G16:QL16)),SUM($G16:QL16)/$E30,0),)","v":0},{"$f":"IF(QN$6>0,IF((SUM($F30:QM30)+0.1<SUM($G16:QM16)),SUM($G16:QM16)/$E30,0),)","v":0},{"$f":"IF(QO$6>0,IF((SUM($F30:QN30)+0.1<SUM($G16:QN16)),SUM($G16:QN16)/$E30,0),)","v":0},{"$f":"IF(QP$6>0,IF((SUM($F30:QO30)+0.1<SUM($G16:QO16)),SUM($G16:QO16)/$E30,0),)","v":0},{"$f":"IF(QQ$6>0,IF((SUM($F30:QP30)+0.1<SUM($G16:QP16)),SUM($G16:QP16)/$E30,0),)","v":0},{"$f":"IF(QR$6>0,IF((SUM($F30:QQ30)+0.1<SUM($G16:QQ16)),SUM($G16:QQ16)/$E30,0),)","v":0},{"$f":"IF(QS$6>0,IF((SUM($F30:QR30)+0.1<SUM($G16:QR16)),SUM($G16:QR16)/$E30,0),)","v":0},{"$f":"IF(QT$6>0,IF((SUM($F30:QS30)+0.1<SUM($G16:QS16)),SUM($G16:QS16)/$E30,0),)","v":0},{"$f":"IF(QU$6>0,IF((SUM($F30:QT30)+0.1<SUM($G16:QT16)),SUM($G16:QT16)/$E30,0),)","v":0},{"$f":"IF(QV$6>0,IF((SUM($F30:QU30)+0.1<SUM($G16:QU16)),SUM($G16:QU16)/$E30,0),)","v":0},{"$f":"IF(QW$6>0,IF((SUM($F30:QV30)+0.1<SUM($G16:QV16)),SUM($G16:QV16)/$E30,0),)","v":0},{"$f":"IF(QX$6>0,IF((SUM($F30:QW30)+0.1<SUM($G16:QW16)),SUM($G16:QW16)/$E30,0),)","v":0},{"$f":"IF(QY$6>0,IF((SUM($F30:QX30)+0.1<SUM($G16:QX16)),SUM($G16:QX16)/$E30,0),)","v":0},{"$f":"IF(QZ$6>0,IF((SUM($F30:QY30)+0.1<SUM($G16:QY16)),SUM($G16:QY16)/$E30,0),)","v":0},{"$f":"IF(RA$6>0,IF((SUM($F30:QZ30)+0.1<SUM($G16:QZ16)),SUM($G16:QZ16)/$E30,0),)","v":0},{"$f":"IF(RB$6>0,IF((SUM($F30:RA30)+0.1<SUM($G16:RA16)),SUM($G16:RA16)/$E30,0),)","v":0},{"$f":"IF(RC$6>0,IF((SUM($F30:RB30)+0.1<SUM($G16:RB16)),SUM($G16:RB16)/$E30,0),)","v":0},{"$f":"IF(RD$6>0,IF((SUM($F30:RC30)+0.1<SUM($G16:RC16)),SUM($G16:RC16)/$E30,0),)","v":0},{"$f":"IF(RE$6>0,IF((SUM($F30:RD30)+0.1<SUM($G16:RD16)),SUM($G16:RD16)/$E30,0),)","v":0},{"$f":"IF(RF$6>0,IF((SUM($F30:RE30)+0.1<SUM($G16:RE16)),SUM($G16:RE16)/$E30,0),)","v":0}]
[null,0,0,0,0,null,{"$f":"IF(G$6>0,IF((SUM($F31:F31)+0.1<$C31),$C31/$E31,0),)","v":0},{"$f":"IF(H$6>0,IF((SUM($F31:G31)+0.1<SUM($G17:G17)),SUM($G17:G17)/$E31,0),)","v":0},{"$f":"IF(I$6>0,IF((SUM($F31:H31)+0.1<SUM($G17:H17)),SUM($G17:H17)/$E31,0),)","v":0},{"$f":"IF(J$6>0,IF((SUM($F31:I31)+0.1<SUM($G17:I17)),SUM($G17:I17)/$E31,0),)","v":0},{"$f":"IF(K$6>0,IF((SUM($F31:J31)+0.1<SUM($G17:J17)),SUM($G17:J17)/$E31,0),)","v":0},{"$f":"IF(L$6>0,IF((SUM($F31:K31)+0.1<SUM($G17:K17)),SUM($G17:K17)/$E31,0),)","v":0},{"$f":"IF(M$6>0,IF((SUM($F31:L31)+0.1<SUM($G17:L17)),SUM($G17:L17)/$E31,0),)","v":0},{"$f":"IF(N$6>0,IF((SUM($F31:M31)+0.1<SUM($G17:M17)),SUM($G17:M17)/$E31,0),)","v":0},{"$f":"IF(O$6>0,IF((SUM($F31:N31)+0.1<SUM($G17:N17)),SUM($G17:N17)/$E31,0),)","v":0},{"$f":"IF(P$6>0,IF((SUM($F31:O31)+0.1<SUM($G17:O17)),SUM($G17:O17)/$E31,0),)","v":0},{"$f":"IF(Q$6>0,IF((SUM($F31:P31)+0.1<SUM($G17:P17)),SUM($G17:P17)/$E31,0),)","v":0},{"$f":"IF(R$6>0,IF((SUM($F31:Q31)+0.1<SUM($G17:Q17)),SUM($G17:Q17)/$E31,0),)","v":0},{"$f":"IF(S$6>0,IF((SUM($F31:R31)+0.1<SUM($G17:R17)),SUM($G17:R17)/$E31,0),)","v":0},{"$f":"IF(T$6>0,IF((SUM($F31:S31)+0.1<SUM($G17:S17)),SUM($G17:S17)/$E31,0),)","v":0},{"$f":"IF(U$6>0,IF((SUM($F31:T31)+0.1<SUM($G17:T17)),SUM($G17:T17)/$E31,0),)","v":0},{"$f":"IF(V$6>0,IF((SUM($F31:U31)+0.1<SUM($G17:U17)),SUM($G17:U17)/$E31,0),)","v":0},{"$f":"IF(W$6>0,IF((SUM($F31:V31)+0.1<SUM($G17:V17)),SUM($G17:V17)/$E31,0),)","v":0},{"$f":"IF(X$6>0,IF((SUM($F31:W31)+0.1<SUM($G17:W17)),SUM($G17:W17)/$E31,0),)","v":0},{"$f":"IF(Y$6>0,IF((SUM($F31:X31)+0.1<SUM($G17:X17)),SUM($G17:X17)/$E31,0),)","v":0},{"$f":"IF(Z$6>0,IF((SUM($F31:Y31)+0.1<SUM($G17:Y17)),SUM($G17:Y17)/$E31,0),)","v":0},{"$f":"IF(AA$6>0,IF((SUM($F31:Z31)+0.1<SUM($G17:Z17)),SUM($G17:Z17)/$E31,0),)","v":0},{"$f":"IF(AB$6>0,IF((SUM($F31:AA31)+0.1<SUM($G17:AA17)),SUM($G17:AA17)/$E31,0),)","v":0},{"$f":"IF(AC$6>0,IF((SUM($F31:AB31)+0.1<SUM($G17:AB17)),SUM($G17:AB17)/$E31,0),)","v":0},{"$f":"IF(AD$6>0,IF((SUM($F31:AC31)+0.1<SUM($G17:AC17)),SUM($G17:AC17)/$E31,0),)","v":0},{"$f":"IF(AE$6>0,IF((SUM($F31:AD31)+0.1<SUM($G17:AD17)),SUM($G17:AD17)/$E31,0),)","v":0},{"$f":"IF(AF$6>0,IF((SUM($F31:AE31)+0.1<SUM($G17:AE17)),SUM($G17:AE17)/$E31,0),)","v":0},{"$f":"IF(AG$6>0,IF((SUM($F31:AF31)+0.1<SUM($G17:AF17)),SUM($G17:AF17)/$E31,0),)","v":0},{"$f":"IF(AH$6>0,IF((SUM($F31:AG31)+0.1<SUM($G17:AG17)),SUM($G17:AG17)/$E31,0),)","v":0},{"$f":"IF(AI$6>0,IF((SUM($F31:AH31)+0.1<SUM($G17:AH17)),SUM($G17:AH17)/$E31,0),)","v":0},{"$f":"IF(AJ$6>0,IF((SUM($F31:AI31)+0.1<SUM($G17:AI17)),SUM($G17:AI17)/$E31,0),)","v":0},{"$f":"IF(AK$6>0,IF((SUM($F31:AJ31)+0.1<SUM($G17:AJ17)),SUM($G17:AJ17)/$E31,0),)","v":0},{"$f":"IF(AL$6>0,IF((SUM($F31:AK31)+0.1<SUM($G17:AK17)),SUM($G17:AK17)/$E31,0),)","v":0},{"$f":"IF(AM$6>0,IF((SUM($F31:AL31)+0.1<SUM($G17:AL17)),SUM($G17:AL17)/$E31,0),)","v":0},{"$f":"IF(AN$6>0,IF((SUM($F31:AM31)+0.1<SUM($G17:AM17)),SUM($G17:AM17)/$E31,0),)","v":0},{"$f":"IF(AO$6>0,IF((SUM($F31:AN31)+0.1<SUM($G17:AN17)),SUM($G17:AN17)/$E31,0),)","v":0},{"$f":"IF(AP$6>0,IF((SUM($F31:AO31)+0.1<SUM($G17:AO17)),SUM($G17:AO17)/$E31,0),)","v":0},{"$f":"IF(AQ$6>0,IF((SUM($F31:AP31)+0.1<SUM($G17:AP17)),SUM($G17:AP17)/$E31,0),)","v":0},{"$f":"IF(AR$6>0,IF((SUM($F31:AQ31)+0.1<SUM($G17:AQ17)),SUM($G17:AQ17)/$E31,0),)","v":0},{"$f":"IF(AS$6>0,IF((SUM($F31:AR31)+0.1<SUM($G17:AR17)),SUM($G17:AR17)/$E31,0),)","v":0},{"$f":"IF(AT$6>0,IF((SUM($F31:AS31)+0.1<SUM($G17:AS17)),SUM($G17:AS17)/$E31,0),)","v":0},{"$f":"IF(AU$6>0,IF((SUM($F31:AT31)+0.1<SUM($G17:AT17)),SUM($G17:AT17)/$E31,0),)","v":0},{"$f":"IF(AV$6>0,IF((SUM($F31:AU31)+0.1<SUM($G17:AU17)),SUM($G17:AU17)/$E31,0),)","v":0},{"$f":"IF(AW$6>0,IF((SUM($F31:AV31)+0.1<SUM($G17:AV17)),SUM($G17:AV17)/$E31,0),)","v":0},{"$f":"IF(AX$6>0,IF((SUM($F31:AW31)+0.1<SUM($G17:AW17)),SUM($G17:AW17)/$E31,0),)","v":0},{"$f":"IF(AY$6>0,IF((SUM($F31:AX31)+0.1<SUM($G17:AX17)),SUM($G17:AX17)/$E31,0),)","v":0},{"$f":"IF(AZ$6>0,IF((SUM($F31:AY31)+0.1<SUM($G17:AY17)),SUM($G17:AY17)/$E31,0),)","v":0},{"$f":"IF(BA$6>0,IF((SUM($F31:AZ31)+0.1<SUM($G17:AZ17)),SUM($G17:AZ17)/$E31,0),)","v":0},{"$f":"IF(BB$6>0,IF((SUM($F31:BA31)+0.1<SUM($G17:BA17)),SUM($G17:BA17)/$E31,0),)","v":0},{"$f":"IF(BC$6>0,IF((SUM($F31:BB31)+0.1<SUM($G17:BB17)),SUM($G17:BB17)/$E31,0),)","v":0},{"$f":"IF(BD$6>0,IF((SUM($F31:BC31)+0.1<SUM($G17:BC17)),SUM($G17:BC17)/$E31,0),)","v":0},{"$f":"IF(BE$6>0,IF((SUM($F31:BD31)+0.1<SUM($G17:BD17)),SUM($G17:BD17)/$E31,0),)","v":0},{"$f":"IF(BF$6>0,IF((SUM($F31:BE31)+0.1<SUM($G17:BE17)),SUM($G17:BE17)/$E31,0),)","v":0},{"$f":"IF(BG$6>0,IF((SUM($F31:BF31)+0.1<SUM($G17:BF17)),SUM($G17:BF17)/$E31,0),)","v":0},{"$f":"IF(BH$6>0,IF((SUM($F31:BG31)+0.1<SUM($G17:BG17)),SUM($G17:BG17)/$E31,0),)","v":0},{"$f":"IF(BI$6>0,IF((SUM($F31:BH31)+0.1<SUM($G17:BH17)),SUM($G17:BH17)/$E31,0),)","v":0},{"$f":"IF(BJ$6>0,IF((SUM($F31:BI31)+0.1<SUM($G17:BI17)),SUM($G17:BI17)/$E31,0),)","v":0},{"$f":"IF(BK$6>0,IF((SUM($F31:BJ31)+0.1<SUM($G17:BJ17)),SUM($G17:BJ17)/$E31,0),)","v":0},{"$f":"IF(BL$6>0,IF((SUM($F31:BK31)+0.1<SUM($G17:BK17)),SUM($G17:BK17)/$E31,0),)","v":0},{"$f":"IF(BM$6>0,IF((SUM($F31:BL31)+0.1<SUM($G17:BL17)),SUM($G17:BL17)/$E31,0),)","v":0},{"$f":"IF(BN$6>0,IF((SUM($F31:BM31)+0.1<SUM($G17:BM17)),SUM($G17:BM17)/$E31,0),)","v":0},{"$f":"IF(BO$6>0,IF((SUM($F31:BN31)+0.1<SUM($G17:BN17)),SUM($G17:BN17)/$E31,0),)","v":0},{"$f":"IF(BP$6>0,IF((SUM($F31:BO31)+0.1<SUM($G17:BO17)),SUM($G17:BO17)/$E31,0),)","v":0},{"$f":"IF(BQ$6>0,IF((SUM($F31:BP31)+0.1<SUM($G17:BP17)),SUM($G17:BP17)/$E31,0),)","v":0},{"$f":"IF(BR$6>0,IF((SUM($F31:BQ31)+0.1<SUM($G17:BQ17)),SUM($G17:BQ17)/$E31,0),)","v":0},{"$f":"IF(BS$6>0,IF((SUM($F31:BR31)+0.1<SUM($G17:BR17)),SUM($G17:BR17)/$E31,0),)","v":0},{"$f":"IF(BT$6>0,IF((SUM($F31:BS31)+0.1<SUM($G17:BS17)),SUM($G17:BS17)/$E31,0),)","v":0},{"$f":"IF(BU$6>0,IF((SUM($F31:BT31)+0.1<SUM($G17:BT17)),SUM($G17:BT17)/$E31,0),)","v":0},{"$f":"IF(BV$6>0,IF((SUM($F31:BU31)+0.1<SUM($G17:BU17)),SUM($G17:BU17)/$E31,0),)","v":0},{"$f":"IF(BW$6>0,IF((SUM($F31:BV31)+0.1<SUM($G17:BV17)),SUM($G17:BV17)/$E31,0),)","v":0},{"$f":"IF(BX$6>0,IF((SUM($F31:BW31)+0.1<SUM($G17:BW17)),SUM($G17:BW17)/$E31,0),)","v":0},{"$f":"IF(BY$6>0,IF((SUM($F31:BX31)+0.1<SUM($G17:BX17)),SUM($G17:BX17)/$E31,0),)","v":0},{"$f":"IF(BZ$6>0,IF((SUM($F31:BY31)+0.1<SUM($G17:BY17)),SUM($G17:BY17)/$E31,0),)","v":0},{"$f":"IF(CA$6>0,IF((SUM($F31:BZ31)+0.1<SUM($G17:BZ17)),SUM($G17:BZ17)/$E31,0),)","v":0},{"$f":"IF(CB$6>0,IF((SUM($F31:CA31)+0.1<SUM($G17:CA17)),SUM($G17:CA17)/$E31,0),)","v":0},{"$f":"IF(CC$6>0,IF((SUM($F31:CB31)+0.1<SUM($G17:CB17)),SUM($G17:CB17)/$E31,0),)","v":0},{"$f":"IF(CD$6>0,IF((SUM($F31:CC31)+0.1<SUM($G17:CC17)),SUM($G17:CC17)/$E31,0),)","v":0},{"$f":"IF(CE$6>0,IF((SUM($F31:CD31)+0.1<SUM($G17:CD17)),SUM($G17:CD17)/$E31,0),)","v":0},{"$f":"IF(CF$6>0,IF((SUM($F31:CE31)+0.1<SUM($G17:CE17)),SUM($G17:CE17)/$E31,0),)","v":0},{"$f":"IF(CG$6>0,IF((SUM($F31:CF31)+0.1<SUM($G17:CF17)),SUM($G17:CF17)/$E31,0),)","v":0},{"$f":"IF(CH$6>0,IF((SUM($F31:CG31)+0.1<SUM($G17:CG17)),SUM($G17:CG17)/$E31,0),)","v":0},{"$f":"IF(CI$6>0,IF((SUM($F31:CH31)+0.1<SUM($G17:CH17)),SUM($G17:CH17)/$E31,0),)","v":0},{"$f":"IF(CJ$6>0,IF((SUM($F31:CI31)+0.1<SUM($G17:CI17)),SUM($G17:CI17)/$E31,0),)","v":0},{"$f":"IF(CK$6>0,IF((SUM($F31:CJ31)+0.1<SUM($G17:CJ17)),SUM($G17:CJ17)/$E31,0),)","v":0},{"$f":"IF(CL$6>0,IF((SUM($F31:CK31)+0.1<SUM($G17:CK17)),SUM($G17:CK17)/$E31,0),)","v":0},{"$f":"IF(CM$6>0,IF((SUM($F31:CL31)+0.1<SUM($G17:CL17)),SUM($G17:CL17)/$E31,0),)","v":0},{"$f":"IF(CN$6>0,IF((SUM($F31:CM31)+0.1<SUM($G17:CM17)),SUM($G17:CM17)/$E31,0),)","v":0},{"$f":"IF(CO$6>0,IF((SUM($F31:CN31)+0.1<SUM($G17:CN17)),SUM($G17:CN17)/$E31,0),)","v":0},{"$f":"IF(CP$6>0,IF((SUM($F31:CO31)+0.1<SUM($G17:CO17)),SUM($G17:CO17)/$E31,0),)","v":0},{"$f":"IF(CQ$6>0,IF((SUM($F31:CP31)+0.1<SUM($G17:CP17)),SUM($G17:CP17)/$E31,0),)","v":0},{"$f":"IF(CR$6>0,IF((SUM($F31:CQ31)+0.1<SUM($G17:CQ17)),SUM($G17:CQ17)/$E31,0),)","v":0},{"$f":"IF(CS$6>0,IF((SUM($F31:CR31)+0.1<SUM($G17:CR17)),SUM($G17:CR17)/$E31,0),)","v":0},{"$f":"IF(CT$6>0,IF((SUM($F31:CS31)+0.1<SUM($G17:CS17)),SUM($G17:CS17)/$E31,0),)","v":0},{"$f":"IF(CU$6>0,IF((SUM($F31:CT31)+0.1<SUM($G17:CT17)),SUM($G17:CT17)/$E31,0),)","v":0},{"$f":"IF(CV$6>0,IF((SUM($F31:CU31)+0.1<SUM($G17:CU17)),SUM($G17:CU17)/$E31,0),)","v":0},{"$f":"IF(CW$6>0,IF((SUM($F31:CV31)+0.1<SUM($G17:CV17)),SUM($G17:CV17)/$E31,0),)","v":0},{"$f":"IF(CX$6>0,IF((SUM($F31:CW31)+0.1<SUM($G17:CW17)),SUM($G17:CW17)/$E31,0),)","v":0},{"$f":"IF(CY$6>0,IF((SUM($F31:CX31)+0.1<SUM($G17:CX17)),SUM($G17:CX17)/$E31,0),)","v":0},{"$f":"IF(CZ$6>0,IF((SUM($F31:CY31)+0.1<SUM($G17:CY17)),SUM($G17:CY17)/$E31,0),)","v":0},{"$f":"IF(DA$6>0,IF((SUM($F31:CZ31)+0.1<SUM($G17:CZ17)),SUM($G17:CZ17)/$E31,0),)","v":0},{"$f":"IF(DB$6>0,IF((SUM($F31:DA31)+0.1<SUM($G17:DA17)),SUM($G17:DA17)/$E31,0),)","v":0},{"$f":"IF(DC$6>0,IF((SUM($F31:DB31)+0.1<SUM($G17:DB17)),SUM($G17:DB17)/$E31,0),)","v":0},{"$f":"IF(DD$6>0,IF((SUM($F31:DC31)+0.1<SUM($G17:DC17)),SUM($G17:DC17)/$E31,0),)","v":0},{"$f":"IF(DE$6>0,IF((SUM($F31:DD31)+0.1<SUM($G17:DD17)),SUM($G17:DD17)/$E31,0),)","v":0},{"$f":"IF(DF$6>0,IF((SUM($F31:DE31)+0.1<SUM($G17:DE17)),SUM($G17:DE17)/$E31,0),)","v":0},{"$f":"IF(DG$6>0,IF((SUM($F31:DF31)+0.1<SUM($G17:DF17)),SUM($G17:DF17)/$E31,0),)","v":0},{"$f":"IF(DH$6>0,IF((SUM($F31:DG31)+0.1<SUM($G17:DG17)),SUM($G17:DG17)/$E31,0),)","v":0},{"$f":"IF(DI$6>0,IF((SUM($F31:DH31)+0.1<SUM($G17:DH17)),SUM($G17:DH17)/$E31,0),)","v":0},{"$f":"IF(DJ$6>0,IF((SUM($F31:DI31)+0.1<SUM($G17:DI17)),SUM($G17:DI17)/$E31,0),)","v":0},{"$f":"IF(DK$6>0,IF((SUM($F31:DJ31)+0.1<SUM($G17:DJ17)),SUM($G17:DJ17)/$E31,0),)","v":0},{"$f":"IF(DL$6>0,IF((SUM($F31:DK31)+0.1<SUM($G17:DK17)),SUM($G17:DK17)/$E31,0),)","v":0},{"$f":"IF(DM$6>0,IF((SUM($F31:DL31)+0.1<SUM($G17:DL17)),SUM($G17:DL17)/$E31,0),)","v":0},{"$f":"IF(DN$6>0,IF((SUM($F31:DM31)+0.1<SUM($G17:DM17)),SUM($G17:DM17)/$E31,0),)","v":0},{"$f":"IF(DO$6>0,IF((SUM($F31:DN31)+0.1<SUM($G17:DN17)),SUM($G17:DN17)/$E31,0),)","v":0},{"$f":"IF(DP$6>0,IF((SUM($F31:DO31)+0.1<SUM($G17:DO17)),SUM($G17:DO17)/$E31,0),)","v":0},{"$f":"IF(DQ$6>0,IF((SUM($F31:DP31)+0.1<SUM($G17:DP17)),SUM($G17:DP17)/$E31,0),)","v":0},{"$f":"IF(DR$6>0,IF((SUM($F31:DQ31)+0.1<SUM($G17:DQ17)),SUM($G17:DQ17)/$E31,0),)","v":0},{"$f":"IF(DS$6>0,IF((SUM($F31:DR31)+0.1<SUM($G17:DR17)),SUM($G17:DR17)/$E31,0),)","v":0},{"$f":"IF(DT$6>0,IF((SUM($F31:DS31)+0.1<SUM($G17:DS17)),SUM($G17:DS17)/$E31,0),)","v":0},{"$f":"IF(DU$6>0,IF((SUM($F31:DT31)+0.1<SUM($G17:DT17)),SUM($G17:DT17)/$E31,0),)","v":0},{"$f":"IF(DV$6>0,IF((SUM($F31:DU31)+0.1<SUM($G17:DU17)),SUM($G17:DU17)/$E31,0),)","v":0},{"$f":"IF(DW$6>0,IF((SUM($F31:DV31)+0.1<SUM($G17:DV17)),SUM($G17:DV17)/$E31,0),)","v":0},{"$f":"IF(DX$6>0,IF((SUM($F31:DW31)+0.1<SUM($G17:DW17)),SUM($G17:DW17)/$E31,0),)","v":0},{"$f":"IF(DY$6>0,IF((SUM($F31:DX31)+0.1<SUM($G17:DX17)),SUM($G17:DX17)/$E31,0),)","v":0},{"$f":"IF(DZ$6>0,IF((SUM($F31:DY31)+0.1<SUM($G17:DY17)),SUM($G17:DY17)/$E31,0),)","v":0},{"$f":"IF(EA$6>0,IF((SUM($F31:DZ31)+0.1<SUM($G17:DZ17)),SUM($G17:DZ17)/$E31,0),)","v":0},{"$f":"IF(EB$6>0,IF((SUM($F31:EA31)+0.1<SUM($G17:EA17)),SUM($G17:EA17)/$E31,0),)","v":0},{"$f":"IF(EC$6>0,IF((SUM($F31:EB31)+0.1<SUM($G17:EB17)),SUM($G17:EB17)/$E31,0),)","v":0},{"$f":"IF(ED$6>0,IF((SUM($F31:EC31)+0.1<SUM($G17:EC17)),SUM($G17:EC17)/$E31,0),)","v":0},{"$f":"IF(EE$6>0,IF((SUM($F31:ED31)+0.1<SUM($G17:ED17)),SUM($G17:ED17)/$E31,0),)","v":0},{"$f":"IF(EF$6>0,IF((SUM($F31:EE31)+0.1<SUM($G17:EE17)),SUM($G17:EE17)/$E31,0),)","v":0},{"$f":"IF(EG$6>0,IF((SUM($F31:EF31)+0.1<SUM($G17:EF17)),SUM($G17:EF17)/$E31,0),)","v":0},{"$f":"IF(EH$6>0,IF((SUM($F31:EG31)+0.1<SUM($G17:EG17)),SUM($G17:EG17)/$E31,0),)","v":0},{"$f":"IF(EI$6>0,IF((SUM($F31:EH31)+0.1<SUM($G17:EH17)),SUM($G17:EH17)/$E31,0),)","v":0},{"$f":"IF(EJ$6>0,IF((SUM($F31:EI31)+0.1<SUM($G17:EI17)),SUM($G17:EI17)/$E31,0),)","v":0},{"$f":"IF(EK$6>0,IF((SUM($F31:EJ31)+0.1<SUM($G17:EJ17)),SUM($G17:EJ17)/$E31,0),)","v":0},{"$f":"IF(EL$6>0,IF((SUM($F31:EK31)+0.1<SUM($G17:EK17)),SUM($G17:EK17)/$E31,0),)","v":0},{"$f":"IF(EM$6>0,IF((SUM($F31:EL31)+0.1<SUM($G17:EL17)),SUM($G17:EL17)/$E31,0),)","v":0},{"$f":"IF(EN$6>0,IF((SUM($F31:EM31)+0.1<SUM($G17:EM17)),SUM($G17:EM17)/$E31,0),)","v":0},{"$f":"IF(EO$6>0,IF((SUM($F31:EN31)+0.1<SUM($G17:EN17)),SUM($G17:EN17)/$E31,0),)","v":0},{"$f":"IF(EP$6>0,IF((SUM($F31:EO31)+0.1<SUM($G17:EO17)),SUM($G17:EO17)/$E31,0),)","v":0},{"$f":"IF(EQ$6>0,IF((SUM($F31:EP31)+0.1<SUM($G17:EP17)),SUM($G17:EP17)/$E31,0),)","v":0},{"$f":"IF(ER$6>0,IF((SUM($F31:EQ31)+0.1<SUM($G17:EQ17)),SUM($G17:EQ17)/$E31,0),)","v":0},{"$f":"IF(ES$6>0,IF((SUM($F31:ER31)+0.1<SUM($G17:ER17)),SUM($G17:ER17)/$E31,0),)","v":0},{"$f":"IF(ET$6>0,IF((SUM($F31:ES31)+0.1<SUM($G17:ES17)),SUM($G17:ES17)/$E31,0),)","v":0},{"$f":"IF(EU$6>0,IF((SUM($F31:ET31)+0.1<SUM($G17:ET17)),SUM($G17:ET17)/$E31,0),)","v":0},{"$f":"IF(EV$6>0,IF((SUM($F31:EU31)+0.1<SUM($G17:EU17)),SUM($G17:EU17)/$E31,0),)","v":0},{"$f":"IF(EW$6>0,IF((SUM($F31:EV31)+0.1<SUM($G17:EV17)),SUM($G17:EV17)/$E31,0),)","v":0},{"$f":"IF(EX$6>0,IF((SUM($F31:EW31)+0.1<SUM($G17:EW17)),SUM($G17:EW17)/$E31,0),)","v":0},{"$f":"IF(EY$6>0,IF((SUM($F31:EX31)+0.1<SUM($G17:EX17)),SUM($G17:EX17)/$E31,0),)","v":0},{"$f":"IF(EZ$6>0,IF((SUM($F31:EY31)+0.1<SUM($G17:EY17)),SUM($G17:EY17)/$E31,0),)","v":0},{"$f":"IF(FA$6>0,IF((SUM($F31:EZ31)+0.1<SUM($G17:EZ17)),SUM($G17:EZ17)/$E31,0),)","v":0},{"$f":"IF(FB$6>0,IF((SUM($F31:FA31)+0.1<SUM($G17:FA17)),SUM($G17:FA17)/$E31,0),)","v":0},{"$f":"IF(FC$6>0,IF((SUM($F31:FB31)+0.1<SUM($G17:FB17)),SUM($G17:FB17)/$E31,0),)","v":0},{"$f":"IF(FD$6>0,IF((SUM($F31:FC31)+0.1<SUM($G17:FC17)),SUM($G17:FC17)/$E31,0),)","v":0},{"$f":"IF(FE$6>0,IF((SUM($F31:FD31)+0.1<SUM($G17:FD17)),SUM($G17:FD17)/$E31,0),)","v":0},{"$f":"IF(FF$6>0,IF((SUM($F31:FE31)+0.1<SUM($G17:FE17)),SUM($G17:FE17)/$E31,0),)","v":0},{"$f":"IF(FG$6>0,IF((SUM($F31:FF31)+0.1<SUM($G17:FF17)),SUM($G17:FF17)/$E31,0),)","v":0},{"$f":"IF(FH$6>0,IF((SUM($F31:FG31)+0.1<SUM($G17:FG17)),SUM($G17:FG17)/$E31,0),)","v":0},{"$f":"IF(FI$6>0,IF((SUM($F31:FH31)+0.1<SUM($G17:FH17)),SUM($G17:FH17)/$E31,0),)","v":0},{"$f":"IF(FJ$6>0,IF((SUM($F31:FI31)+0.1<SUM($G17:FI17)),SUM($G17:FI17)/$E31,0),)","v":0},{"$f":"IF(FK$6>0,IF((SUM($F31:FJ31)+0.1<SUM($G17:FJ17)),SUM($G17:FJ17)/$E31,0),)","v":0},{"$f":"IF(FL$6>0,IF((SUM($F31:FK31)+0.1<SUM($G17:FK17)),SUM($G17:FK17)/$E31,0),)","v":0},{"$f":"IF(FM$6>0,IF((SUM($F31:FL31)+0.1<SUM($G17:FL17)),SUM($G17:FL17)/$E31,0),)","v":0},{"$f":"IF(FN$6>0,IF((SUM($F31:FM31)+0.1<SUM($G17:FM17)),SUM($G17:FM17)/$E31,0),)","v":0},{"$f":"IF(FO$6>0,IF((SUM($F31:FN31)+0.1<SUM($G17:FN17)),SUM($G17:FN17)/$E31,0),)","v":0},{"$f":"IF(FP$6>0,IF((SUM($F31:FO31)+0.1<SUM($G17:FO17)),SUM($G17:FO17)/$E31,0),)","v":0},{"$f":"IF(FQ$6>0,IF((SUM($F31:FP31)+0.1<SUM($G17:FP17)),SUM($G17:FP17)/$E31,0),)","v":0},{"$f":"IF(FR$6>0,IF((SUM($F31:FQ31)+0.1<SUM($G17:FQ17)),SUM($G17:FQ17)/$E31,0),)","v":0},{"$f":"IF(FS$6>0,IF((SUM($F31:FR31)+0.1<SUM($G17:FR17)),SUM($G17:FR17)/$E31,0),)","v":0},{"$f":"IF(FT$6>0,IF((SUM($F31:FS31)+0.1<SUM($G17:FS17)),SUM($G17:FS17)/$E31,0),)","v":0},{"$f":"IF(FU$6>0,IF((SUM($F31:FT31)+0.1<SUM($G17:FT17)),SUM($G17:FT17)/$E31,0),)","v":0},{"$f":"IF(FV$6>0,IF((SUM($F31:FU31)+0.1<SUM($G17:FU17)),SUM($G17:FU17)/$E31,0),)","v":0},{"$f":"IF(FW$6>0,IF((SUM($F31:FV31)+0.1<SUM($G17:FV17)),SUM($G17:FV17)/$E31,0),)","v":0},{"$f":"IF(FX$6>0,IF((SUM($F31:FW31)+0.1<SUM($G17:FW17)),SUM($G17:FW17)/$E31,0),)","v":0},{"$f":"IF(FY$6>0,IF((SUM($F31:FX31)+0.1<SUM($G17:FX17)),SUM($G17:FX17)/$E31,0),)","v":0},{"$f":"IF(FZ$6>0,IF((SUM($F31:FY31)+0.1<SUM($G17:FY17)),SUM($G17:FY17)/$E31,0),)","v":0},{"$f":"IF(GA$6>0,IF((SUM($F31:FZ31)+0.1<SUM($G17:FZ17)),SUM($G17:FZ17)/$E31,0),)","v":0},{"$f":"IF(GB$6>0,IF((SUM($F31:GA31)+0.1<SUM($G17:GA17)),SUM($G17:GA17)/$E31,0),)","v":0},{"$f":"IF(GC$6>0,IF((SUM($F31:GB31)+0.1<SUM($G17:GB17)),SUM($G17:GB17)/$E31,0),)","v":0},{"$f":"IF(GD$6>0,IF((SUM($F31:GC31)+0.1<SUM($G17:GC17)),SUM($G17:GC17)/$E31,0),)","v":0},{"$f":"IF(GE$6>0,IF((SUM($F31:GD31)+0.1<SUM($G17:GD17)),SUM($G17:GD17)/$E31,0),)","v":0},{"$f":"IF(GF$6>0,IF((SUM($F31:GE31)+0.1<SUM($G17:GE17)),SUM($G17:GE17)/$E31,0),)","v":0},{"$f":"IF(GG$6>0,IF((SUM($F31:GF31)+0.1<SUM($G17:GF17)),SUM($G17:GF17)/$E31,0),)","v":0},{"$f":"IF(GH$6>0,IF((SUM($F31:GG31)+0.1<SUM($G17:GG17)),SUM($G17:GG17)/$E31,0),)","v":0},{"$f":"IF(GI$6>0,IF((SUM($F31:GH31)+0.1<SUM($G17:GH17)),SUM($G17:GH17)/$E31,0),)","v":0},{"$f":"IF(GJ$6>0,IF((SUM($F31:GI31)+0.1<SUM($G17:GI17)),SUM($G17:GI17)/$E31,0),)","v":0},{"$f":"IF(GK$6>0,IF((SUM($F31:GJ31)+0.1<SUM($G17:GJ17)),SUM($G17:GJ17)/$E31,0),)","v":0},{"$f":"IF(GL$6>0,IF((SUM($F31:GK31)+0.1<SUM($G17:GK17)),SUM($G17:GK17)/$E31,0),)","v":0},{"$f":"IF(GM$6>0,IF((SUM($F31:GL31)+0.1<SUM($G17:GL17)),SUM($G17:GL17)/$E31,0),)","v":0},{"$f":"IF(GN$6>0,IF((SUM($F31:GM31)+0.1<SUM($G17:GM17)),SUM($G17:GM17)/$E31,0),)","v":0},{"$f":"IF(GO$6>0,IF((SUM($F31:GN31)+0.1<SUM($G17:GN17)),SUM($G17:GN17)/$E31,0),)","v":0},{"$f":"IF(GP$6>0,IF((SUM($F31:GO31)+0.1<SUM($G17:GO17)),SUM($G17:GO17)/$E31,0),)","v":0},{"$f":"IF(GQ$6>0,IF((SUM($F31:GP31)+0.1<SUM($G17:GP17)),SUM($G17:GP17)/$E31,0),)","v":0},{"$f":"IF(GR$6>0,IF((SUM($F31:GQ31)+0.1<SUM($G17:GQ17)),SUM($G17:GQ17)/$E31,0),)","v":0},{"$f":"IF(GS$6>0,IF((SUM($F31:GR31)+0.1<SUM($G17:GR17)),SUM($G17:GR17)/$E31,0),)","v":0},{"$f":"IF(GT$6>0,IF((SUM($F31:GS31)+0.1<SUM($G17:GS17)),SUM($G17:GS17)/$E31,0),)","v":0},{"$f":"IF(GU$6>0,IF((SUM($F31:GT31)+0.1<SUM($G17:GT17)),SUM($G17:GT17)/$E31,0),)","v":0},{"$f":"IF(GV$6>0,IF((SUM($F31:GU31)+0.1<SUM($G17:GU17)),SUM($G17:GU17)/$E31,0),)","v":0},{"$f":"IF(GW$6>0,IF((SUM($F31:GV31)+0.1<SUM($G17:GV17)),SUM($G17:GV17)/$E31,0),)","v":0},{"$f":"IF(GX$6>0,IF((SUM($F31:GW31)+0.1<SUM($G17:GW17)),SUM($G17:GW17)/$E31,0),)","v":0},{"$f":"IF(GY$6>0,IF((SUM($F31:GX31)+0.1<SUM($G17:GX17)),SUM($G17:GX17)/$E31,0),)","v":0},{"$f":"IF(GZ$6>0,IF((SUM($F31:GY31)+0.1<SUM($G17:GY17)),SUM($G17:GY17)/$E31,0),)","v":0},{"$f":"IF(HA$6>0,IF((SUM($F31:GZ31)+0.1<SUM($G17:GZ17)),SUM($G17:GZ17)/$E31,0),)","v":0},{"$f":"IF(HB$6>0,IF((SUM($F31:HA31)+0.1<SUM($G17:HA17)),SUM($G17:HA17)/$E31,0),)","v":0},{"$f":"IF(HC$6>0,IF((SUM($F31:HB31)+0.1<SUM($G17:HB17)),SUM($G17:HB17)/$E31,0),)","v":0},{"$f":"IF(HD$6>0,IF((SUM($F31:HC31)+0.1<SUM($G17:HC17)),SUM($G17:HC17)/$E31,0),)","v":0},{"$f":"IF(HE$6>0,IF((SUM($F31:HD31)+0.1<SUM($G17:HD17)),SUM($G17:HD17)/$E31,0),)","v":0},{"$f":"IF(HF$6>0,IF((SUM($F31:HE31)+0.1<SUM($G17:HE17)),SUM($G17:HE17)/$E31,0),)","v":0},{"$f":"IF(HG$6>0,IF((SUM($F31:HF31)+0.1<SUM($G17:HF17)),SUM($G17:HF17)/$E31,0),)","v":0},{"$f":"IF(HH$6>0,IF((SUM($F31:HG31)+0.1<SUM($G17:HG17)),SUM($G17:HG17)/$E31,0),)","v":0},{"$f":"IF(HI$6>0,IF((SUM($F31:HH31)+0.1<SUM($G17:HH17)),SUM($G17:HH17)/$E31,0),)","v":0},{"$f":"IF(HJ$6>0,IF((SUM($F31:HI31)+0.1<SUM($G17:HI17)),SUM($G17:HI17)/$E31,0),)","v":0},{"$f":"IF(HK$6>0,IF((SUM($F31:HJ31)+0.1<SUM($G17:HJ17)),SUM($G17:HJ17)/$E31,0),)","v":0},{"$f":"IF(HL$6>0,IF((SUM($F31:HK31)+0.1<SUM($G17:HK17)),SUM($G17:HK17)/$E31,0),)","v":0},{"$f":"IF(HM$6>0,IF((SUM($F31:HL31)+0.1<SUM($G17:HL17)),SUM($G17:HL17)/$E31,0),)","v":0},{"$f":"IF(HN$6>0,IF((SUM($F31:HM31)+0.1<SUM($G17:HM17)),SUM($G17:HM17)/$E31,0),)","v":0},{"$f":"IF(HO$6>0,IF((SUM($F31:HN31)+0.1<SUM($G17:HN17)),SUM($G17:HN17)/$E31,0),)","v":0},{"$f":"IF(HP$6>0,IF((SUM($F31:HO31)+0.1<SUM($G17:HO17)),SUM($G17:HO17)/$E31,0),)","v":0},{"$f":"IF(HQ$6>0,IF((SUM($F31:HP31)+0.1<SUM($G17:HP17)),SUM($G17:HP17)/$E31,0),)","v":0},{"$f":"IF(HR$6>0,IF((SUM($F31:HQ31)+0.1<SUM($G17:HQ17)),SUM($G17:HQ17)/$E31,0),)","v":0},{"$f":"IF(HS$6>0,IF((SUM($F31:HR31)+0.1<SUM($G17:HR17)),SUM($G17:HR17)/$E31,0),)","v":0},{"$f":"IF(HT$6>0,IF((SUM($F31:HS31)+0.1<SUM($G17:HS17)),SUM($G17:HS17)/$E31,0),)","v":0},{"$f":"IF(HU$6>0,IF((SUM($F31:HT31)+0.1<SUM($G17:HT17)),SUM($G17:HT17)/$E31,0),)","v":0},{"$f":"IF(HV$6>0,IF((SUM($F31:HU31)+0.1<SUM($G17:HU17)),SUM($G17:HU17)/$E31,0),)","v":0},{"$f":"IF(HW$6>0,IF((SUM($F31:HV31)+0.1<SUM($G17:HV17)),SUM($G17:HV17)/$E31,0),)","v":0},{"$f":"IF(HX$6>0,IF((SUM($F31:HW31)+0.1<SUM($G17:HW17)),SUM($G17:HW17)/$E31,0),)","v":0},{"$f":"IF(HY$6>0,IF((SUM($F31:HX31)+0.1<SUM($G17:HX17)),SUM($G17:HX17)/$E31,0),)","v":0},{"$f":"IF(HZ$6>0,IF((SUM($F31:HY31)+0.1<SUM($G17:HY17)),SUM($G17:HY17)/$E31,0),)","v":0},{"$f":"IF(IA$6>0,IF((SUM($F31:HZ31)+0.1<SUM($G17:HZ17)),SUM($G17:HZ17)/$E31,0),)","v":0},{"$f":"IF(IB$6>0,IF((SUM($F31:IA31)+0.1<SUM($G17:IA17)),SUM($G17:IA17)/$E31,0),)","v":0},{"$f":"IF(IC$6>0,IF((SUM($F31:IB31)+0.1<SUM($G17:IB17)),SUM($G17:IB17)/$E31,0),)","v":0},{"$f":"IF(ID$6>0,IF((SUM($F31:IC31)+0.1<SUM($G17:IC17)),SUM($G17:IC17)/$E31,0),)","v":0},{"$f":"IF(IE$6>0,IF((SUM($F31:ID31)+0.1<SUM($G17:ID17)),SUM($G17:ID17)/$E31,0),)","v":0},{"$f":"IF(IF$6>0,IF((SUM($F31:IE31)+0.1<SUM($G17:IE17)),SUM($G17:IE17)/$E31,0),)","v":0},{"$f":"IF(IG$6>0,IF((SUM($F31:IF31)+0.1<SUM($G17:IF17)),SUM($G17:IF17)/$E31,0),)","v":0},{"$f":"IF(IH$6>0,IF((SUM($F31:IG31)+0.1<SUM($G17:IG17)),SUM($G17:IG17)/$E31,0),)","v":0},{"$f":"IF(II$6>0,IF((SUM($F31:IH31)+0.1<SUM($G17:IH17)),SUM($G17:IH17)/$E31,0),)","v":0},{"$f":"IF(IJ$6>0,IF((SUM($F31:II31)+0.1<SUM($G17:II17)),SUM($G17:II17)/$E31,0),)","v":0},{"$f":"IF(IK$6>0,IF((SUM($F31:IJ31)+0.1<SUM($G17:IJ17)),SUM($G17:IJ17)/$E31,0),)","v":0},{"$f":"IF(IL$6>0,IF((SUM($F31:IK31)+0.1<SUM($G17:IK17)),SUM($G17:IK17)/$E31,0),)","v":0},{"$f":"IF(IM$6>0,IF((SUM($F31:IL31)+0.1<SUM($G17:IL17)),SUM($G17:IL17)/$E31,0),)","v":0},{"$f":"IF(IN$6>0,IF((SUM($F31:IM31)+0.1<SUM($G17:IM17)),SUM($G17:IM17)/$E31,0),)","v":0},{"$f":"IF(IO$6>0,IF((SUM($F31:IN31)+0.1<SUM($G17:IN17)),SUM($G17:IN17)/$E31,0),)","v":0},{"$f":"IF(IP$6>0,IF((SUM($F31:IO31)+0.1<SUM($G17:IO17)),SUM($G17:IO17)/$E31,0),)","v":0},{"$f":"IF(IQ$6>0,IF((SUM($F31:IP31)+0.1<SUM($G17:IP17)),SUM($G17:IP17)/$E31,0),)","v":0},{"$f":"IF(IR$6>0,IF((SUM($F31:IQ31)+0.1<SUM($G17:IQ17)),SUM($G17:IQ17)/$E31,0),)","v":0},{"$f":"IF(IS$6>0,IF((SUM($F31:IR31)+0.1<SUM($G17:IR17)),SUM($G17:IR17)/$E31,0),)","v":0},{"$f":"IF(IT$6>0,IF((SUM($F31:IS31)+0.1<SUM($G17:IS17)),SUM($G17:IS17)/$E31,0),)","v":0},{"$f":"IF(IU$6>0,IF((SUM($F31:IT31)+0.1<SUM($G17:IT17)),SUM($G17:IT17)/$E31,0),)","v":0},{"$f":"IF(IV$6>0,IF((SUM($F31:IU31)+0.1<SUM($G17:IU17)),SUM($G17:IU17)/$E31,0),)","v":0},{"$f":"IF(IW$6>0,IF((SUM($F31:IV31)+0.1<SUM($G17:IV17)),SUM($G17:IV17)/$E31,0),)","v":0},{"$f":"IF(IX$6>0,IF((SUM($F31:IW31)+0.1<SUM($G17:IW17)),SUM($G17:IW17)/$E31,0),)","v":0},{"$f":"IF(IY$6>0,IF((SUM($F31:IX31)+0.1<SUM($G17:IX17)),SUM($G17:IX17)/$E31,0),)","v":0},{"$f":"IF(IZ$6>0,IF((SUM($F31:IY31)+0.1<SUM($G17:IY17)),SUM($G17:IY17)/$E31,0),)","v":0},{"$f":"IF(JA$6>0,IF((SUM($F31:IZ31)+0.1<SUM($G17:IZ17)),SUM($G17:IZ17)/$E31,0),)","v":0},{"$f":"IF(JB$6>0,IF((SUM($F31:JA31)+0.1<SUM($G17:JA17)),SUM($G17:JA17)/$E31,0),)","v":0},{"$f":"IF(JC$6>0,IF((SUM($F31:JB31)+0.1<SUM($G17:JB17)),SUM($G17:JB17)/$E31,0),)","v":0},{"$f":"IF(JD$6>0,IF((SUM($F31:JC31)+0.1<SUM($G17:JC17)),SUM($G17:JC17)/$E31,0),)","v":0},{"$f":"IF(JE$6>0,IF((SUM($F31:JD31)+0.1<SUM($G17:JD17)),SUM($G17:JD17)/$E31,0),)","v":0},{"$f":"IF(JF$6>0,IF((SUM($F31:JE31)+0.1<SUM($G17:JE17)),SUM($G17:JE17)/$E31,0),)","v":0},{"$f":"IF(JG$6>0,IF((SUM($F31:JF31)+0.1<SUM($G17:JF17)),SUM($G17:JF17)/$E31,0),)","v":0},{"$f":"IF(JH$6>0,IF((SUM($F31:JG31)+0.1<SUM($G17:JG17)),SUM($G17:JG17)/$E31,0),)","v":0},{"$f":"IF(JI$6>0,IF((SUM($F31:JH31)+0.1<SUM($G17:JH17)),SUM($G17:JH17)/$E31,0),)","v":0},{"$f":"IF(JJ$6>0,IF((SUM($F31:JI31)+0.1<SUM($G17:JI17)),SUM($G17:JI17)/$E31,0),)","v":0},{"$f":"IF(JK$6>0,IF((SUM($F31:JJ31)+0.1<SUM($G17:JJ17)),SUM($G17:JJ17)/$E31,0),)","v":0},{"$f":"IF(JL$6>0,IF((SUM($F31:JK31)+0.1<SUM($G17:JK17)),SUM($G17:JK17)/$E31,0),)","v":0},{"$f":"IF(JM$6>0,IF((SUM($F31:JL31)+0.1<SUM($G17:JL17)),SUM($G17:JL17)/$E31,0),)","v":0},{"$f":"IF(JN$6>0,IF((SUM($F31:JM31)+0.1<SUM($G17:JM17)),SUM($G17:JM17)/$E31,0),)","v":0},{"$f":"IF(JO$6>0,IF((SUM($F31:JN31)+0.1<SUM($G17:JN17)),SUM($G17:JN17)/$E31,0),)","v":0},{"$f":"IF(JP$6>0,IF((SUM($F31:JO31)+0.1<SUM($G17:JO17)),SUM($G17:JO17)/$E31,0),)","v":0},{"$f":"IF(JQ$6>0,IF((SUM($F31:JP31)+0.1<SUM($G17:JP17)),SUM($G17:JP17)/$E31,0),)","v":0},{"$f":"IF(JR$6>0,IF((SUM($F31:JQ31)+0.1<SUM($G17:JQ17)),SUM($G17:JQ17)/$E31,0),)","v":0},{"$f":"IF(JS$6>0,IF((SUM($F31:JR31)+0.1<SUM($G17:JR17)),SUM($G17:JR17)/$E31,0),)","v":0},{"$f":"IF(JT$6>0,IF((SUM($F31:JS31)+0.1<SUM($G17:JS17)),SUM($G17:JS17)/$E31,0),)","v":0},{"$f":"IF(JU$6>0,IF((SUM($F31:JT31)+0.1<SUM($G17:JT17)),SUM($G17:JT17)/$E31,0),)","v":0},{"$f":"IF(JV$6>0,IF((SUM($F31:JU31)+0.1<SUM($G17:JU17)),SUM($G17:JU17)/$E31,0),)","v":0},{"$f":"IF(JW$6>0,IF((SUM($F31:JV31)+0.1<SUM($G17:JV17)),SUM($G17:JV17)/$E31,0),)","v":0},{"$f":"IF(JX$6>0,IF((SUM($F31:JW31)+0.1<SUM($G17:JW17)),SUM($G17:JW17)/$E31,0),)","v":0},{"$f":"IF(JY$6>0,IF((SUM($F31:JX31)+0.1<SUM($G17:JX17)),SUM($G17:JX17)/$E31,0),)","v":0},{"$f":"IF(JZ$6>0,IF((SUM($F31:JY31)+0.1<SUM($G17:JY17)),SUM($G17:JY17)/$E31,0),)","v":0},{"$f":"IF(KA$6>0,IF((SUM($F31:JZ31)+0.1<SUM($G17:JZ17)),SUM($G17:JZ17)/$E31,0),)","v":0},{"$f":"IF(KB$6>0,IF((SUM($F31:KA31)+0.1<SUM($G17:KA17)),SUM($G17:KA17)/$E31,0),)","v":0},{"$f":"IF(KC$6>0,IF((SUM($F31:KB31)+0.1<SUM($G17:KB17)),SUM($G17:KB17)/$E31,0),)","v":0},{"$f":"IF(KD$6>0,IF((SUM($F31:KC31)+0.1<SUM($G17:KC17)),SUM($G17:KC17)/$E31,0),)","v":0},{"$f":"IF(KE$6>0,IF((SUM($F31:KD31)+0.1<SUM($G17:KD17)),SUM($G17:KD17)/$E31,0),)","v":0},{"$f":"IF(KF$6>0,IF((SUM($F31:KE31)+0.1<SUM($G17:KE17)),SUM($G17:KE17)/$E31,0),)","v":0},{"$f":"IF(KG$6>0,IF((SUM($F31:KF31)+0.1<SUM($G17:KF17)),SUM($G17:KF17)/$E31,0),)","v":0},{"$f":"IF(KH$6>0,IF((SUM($F31:KG31)+0.1<SUM($G17:KG17)),SUM($G17:KG17)/$E31,0),)","v":0},{"$f":"IF(KI$6>0,IF((SUM($F31:KH31)+0.1<SUM($G17:KH17)),SUM($G17:KH17)/$E31,0),)","v":0},{"$f":"IF(KJ$6>0,IF((SUM($F31:KI31)+0.1<SUM($G17:KI17)),SUM($G17:KI17)/$E31,0),)","v":0},{"$f":"IF(KK$6>0,IF((SUM($F31:KJ31)+0.1<SUM($G17:KJ17)),SUM($G17:KJ17)/$E31,0),)","v":0},{"$f":"IF(KL$6>0,IF((SUM($F31:KK31)+0.1<SUM($G17:KK17)),SUM($G17:KK17)/$E31,0),)","v":0},{"$f":"IF(KM$6>0,IF((SUM($F31:KL31)+0.1<SUM($G17:KL17)),SUM($G17:KL17)/$E31,0),)","v":0},{"$f":"IF(KN$6>0,IF((SUM($F31:KM31)+0.1<SUM($G17:KM17)),SUM($G17:KM17)/$E31,0),)","v":0},{"$f":"IF(KO$6>0,IF((SUM($F31:KN31)+0.1<SUM($G17:KN17)),SUM($G17:KN17)/$E31,0),)","v":0},{"$f":"IF(KP$6>0,IF((SUM($F31:KO31)+0.1<SUM($G17:KO17)),SUM($G17:KO17)/$E31,0),)","v":0},{"$f":"IF(KQ$6>0,IF((SUM($F31:KP31)+0.1<SUM($G17:KP17)),SUM($G17:KP17)/$E31,0),)","v":0},{"$f":"IF(KR$6>0,IF((SUM($F31:KQ31)+0.1<SUM($G17:KQ17)),SUM($G17:KQ17)/$E31,0),)","v":0},{"$f":"IF(KS$6>0,IF((SUM($F31:KR31)+0.1<SUM($G17:KR17)),SUM($G17:KR17)/$E31,0),)","v":0},{"$f":"IF(KT$6>0,IF((SUM($F31:KS31)+0.1<SUM($G17:KS17)),SUM($G17:KS17)/$E31,0),)","v":0},{"$f":"IF(KU$6>0,IF((SUM($F31:KT31)+0.1<SUM($G17:KT17)),SUM($G17:KT17)/$E31,0),)","v":0},{"$f":"IF(KV$6>0,IF((SUM($F31:KU31)+0.1<SUM($G17:KU17)),SUM($G17:KU17)/$E31,0),)","v":0},{"$f":"IF(KW$6>0,IF((SUM($F31:KV31)+0.1<SUM($G17:KV17)),SUM($G17:KV17)/$E31,0),)","v":0},{"$f":"IF(KX$6>0,IF((SUM($F31:KW31)+0.1<SUM($G17:KW17)),SUM($G17:KW17)/$E31,0),)","v":0},{"$f":"IF(KY$6>0,IF((SUM($F31:KX31)+0.1<SUM($G17:KX17)),SUM($G17:KX17)/$E31,0),)","v":0},{"$f":"IF(KZ$6>0,IF((SUM($F31:KY31)+0.1<SUM($G17:KY17)),SUM($G17:KY17)/$E31,0),)","v":0},{"$f":"IF(LA$6>0,IF((SUM($F31:KZ31)+0.1<SUM($G17:KZ17)),SUM($G17:KZ17)/$E31,0),)","v":0},{"$f":"IF(LB$6>0,IF((SUM($F31:LA31)+0.1<SUM($G17:LA17)),SUM($G17:LA17)/$E31,0),)","v":0},{"$f":"IF(LC$6>0,IF((SUM($F31:LB31)+0.1<SUM($G17:LB17)),SUM($G17:LB17)/$E31,0),)","v":0},{"$f":"IF(LD$6>0,IF((SUM($F31:LC31)+0.1<SUM($G17:LC17)),SUM($G17:LC17)/$E31,0),)","v":0},{"$f":"IF(LE$6>0,IF((SUM($F31:LD31)+0.1<SUM($G17:LD17)),SUM($G17:LD17)/$E31,0),)","v":0},{"$f":"IF(LF$6>0,IF((SUM($F31:LE31)+0.1<SUM($G17:LE17)),SUM($G17:LE17)/$E31,0),)","v":0},{"$f":"IF(LG$6>0,IF((SUM($F31:LF31)+0.1<SUM($G17:LF17)),SUM($G17:LF17)/$E31,0),)","v":0},{"$f":"IF(LH$6>0,IF((SUM($F31:LG31)+0.1<SUM($G17:LG17)),SUM($G17:LG17)/$E31,0),)","v":0},{"$f":"IF(LI$6>0,IF((SUM($F31:LH31)+0.1<SUM($G17:LH17)),SUM($G17:LH17)/$E31,0),)","v":0},{"$f":"IF(LJ$6>0,IF((SUM($F31:LI31)+0.1<SUM($G17:LI17)),SUM($G17:LI17)/$E31,0),)","v":0},{"$f":"IF(LK$6>0,IF((SUM($F31:LJ31)+0.1<SUM($G17:LJ17)),SUM($G17:LJ17)/$E31,0),)","v":0},{"$f":"IF(LL$6>0,IF((SUM($F31:LK31)+0.1<SUM($G17:LK17)),SUM($G17:LK17)/$E31,0),)","v":0},{"$f":"IF(LM$6>0,IF((SUM($F31:LL31)+0.1<SUM($G17:LL17)),SUM($G17:LL17)/$E31,0),)","v":0},{"$f":"IF(LN$6>0,IF((SUM($F31:LM31)+0.1<SUM($G17:LM17)),SUM($G17:LM17)/$E31,0),)","v":0},{"$f":"IF(LO$6>0,IF((SUM($F31:LN31)+0.1<SUM($G17:LN17)),SUM($G17:LN17)/$E31,0),)","v":0},{"$f":"IF(LP$6>0,IF((SUM($F31:LO31)+0.1<SUM($G17:LO17)),SUM($G17:LO17)/$E31,0),)","v":0},{"$f":"IF(LQ$6>0,IF((SUM($F31:LP31)+0.1<SUM($G17:LP17)),SUM($G17:LP17)/$E31,0),)","v":0},{"$f":"IF(LR$6>0,IF((SUM($F31:LQ31)+0.1<SUM($G17:LQ17)),SUM($G17:LQ17)/$E31,0),)","v":0},{"$f":"IF(LS$6>0,IF((SUM($F31:LR31)+0.1<SUM($G17:LR17)),SUM($G17:LR17)/$E31,0),)","v":0},{"$f":"IF(LT$6>0,IF((SUM($F31:LS31)+0.1<SUM($G17:LS17)),SUM($G17:LS17)/$E31,0),)","v":0},{"$f":"IF(LU$6>0,IF((SUM($F31:LT31)+0.1<SUM($G17:LT17)),SUM($G17:LT17)/$E31,0),)","v":0},{"$f":"IF(LV$6>0,IF((SUM($F31:LU31)+0.1<SUM($G17:LU17)),SUM($G17:LU17)/$E31,0),)","v":0},{"$f":"IF(LW$6>0,IF((SUM($F31:LV31)+0.1<SUM($G17:LV17)),SUM($G17:LV17)/$E31,0),)","v":0},{"$f":"IF(LX$6>0,IF((SUM($F31:LW31)+0.1<SUM($G17:LW17)),SUM($G17:LW17)/$E31,0),)","v":0},{"$f":"IF(LY$6>0,IF((SUM($F31:LX31)+0.1<SUM($G17:LX17)),SUM($G17:LX17)/$E31,0),)","v":0},{"$f":"IF(LZ$6>0,IF((SUM($F31:LY31)+0.1<SUM($G17:LY17)),SUM($G17:LY17)/$E31,0),)","v":0},{"$f":"IF(MA$6>0,IF((SUM($F31:LZ31)+0.1<SUM($G17:LZ17)),SUM($G17:LZ17)/$E31,0),)","v":0},{"$f":"IF(MB$6>0,IF((SUM($F31:MA31)+0.1<SUM($G17:MA17)),SUM($G17:MA17)/$E31,0),)","v":0},{"$f":"IF(MC$6>0,IF((SUM($F31:MB31)+0.1<SUM($G17:MB17)),SUM($G17:MB17)/$E31,0),)","v":0},{"$f":"IF(MD$6>0,IF((SUM($F31:MC31)+0.1<SUM($G17:MC17)),SUM($G17:MC17)/$E31,0),)","v":0},{"$f":"IF(ME$6>0,IF((SUM($F31:MD31)+0.1<SUM($G17:MD17)),SUM($G17:MD17)/$E31,0),)","v":0},{"$f":"IF(MF$6>0,IF((SUM($F31:ME31)+0.1<SUM($G17:ME17)),SUM($G17:ME17)/$E31,0),)","v":0},{"$f":"IF(MG$6>0,IF((SUM($F31:MF31)+0.1<SUM($G17:MF17)),SUM($G17:MF17)/$E31,0),)","v":0},{"$f":"IF(MH$6>0,IF((SUM($F31:MG31)+0.1<SUM($G17:MG17)),SUM($G17:MG17)/$E31,0),)","v":0},{"$f":"IF(MI$6>0,IF((SUM($F31:MH31)+0.1<SUM($G17:MH17)),SUM($G17:MH17)/$E31,0),)","v":0},{"$f":"IF(MJ$6>0,IF((SUM($F31:MI31)+0.1<SUM($G17:MI17)),SUM($G17:MI17)/$E31,0),)","v":0},{"$f":"IF(MK$6>0,IF((SUM($F31:MJ31)+0.1<SUM($G17:MJ17)),SUM($G17:MJ17)/$E31,0),)","v":0},{"$f":"IF(ML$6>0,IF((SUM($F31:MK31)+0.1<SUM($G17:MK17)),SUM($G17:MK17)/$E31,0),)","v":0},{"$f":"IF(MM$6>0,IF((SUM($F31:ML31)+0.1<SUM($G17:ML17)),SUM($G17:ML17)/$E31,0),)","v":0},{"$f":"IF(MN$6>0,IF((SUM($F31:MM31)+0.1<SUM($G17:MM17)),SUM($G17:MM17)/$E31,0),)","v":0},{"$f":"IF(MO$6>0,IF((SUM($F31:MN31)+0.1<SUM($G17:MN17)),SUM($G17:MN17)/$E31,0),)","v":0},{"$f":"IF(MP$6>0,IF((SUM($F31:MO31)+0.1<SUM($G17:MO17)),SUM($G17:MO17)/$E31,0),)","v":0},{"$f":"IF(MQ$6>0,IF((SUM($F31:MP31)+0.1<SUM($G17:MP17)),SUM($G17:MP17)/$E31,0),)","v":0},{"$f":"IF(MR$6>0,IF((SUM($F31:MQ31)+0.1<SUM($G17:MQ17)),SUM($G17:MQ17)/$E31,0),)","v":0},{"$f":"IF(MS$6>0,IF((SUM($F31:MR31)+0.1<SUM($G17:MR17)),SUM($G17:MR17)/$E31,0),)","v":0},{"$f":"IF(MT$6>0,IF((SUM($F31:MS31)+0.1<SUM($G17:MS17)),SUM($G17:MS17)/$E31,0),)","v":0},{"$f":"IF(MU$6>0,IF((SUM($F31:MT31)+0.1<SUM($G17:MT17)),SUM($G17:MT17)/$E31,0),)","v":0},{"$f":"IF(MV$6>0,IF((SUM($F31:MU31)+0.1<SUM($G17:MU17)),SUM($G17:MU17)/$E31,0),)","v":0},{"$f":"IF(MW$6>0,IF((SUM($F31:MV31)+0.1<SUM($G17:MV17)),SUM($G17:MV17)/$E31,0),)","v":0},{"$f":"IF(MX$6>0,IF((SUM($F31:MW31)+0.1<SUM($G17:MW17)),SUM($G17:MW17)/$E31,0),)","v":0},{"$f":"IF(MY$6>0,IF((SUM($F31:MX31)+0.1<SUM($G17:MX17)),SUM($G17:MX17)/$E31,0),)","v":0},{"$f":"IF(MZ$6>0,IF((SUM($F31:MY31)+0.1<SUM($G17:MY17)),SUM($G17:MY17)/$E31,0),)","v":0},{"$f":"IF(NA$6>0,IF((SUM($F31:MZ31)+0.1<SUM($G17:MZ17)),SUM($G17:MZ17)/$E31,0),)","v":0},{"$f":"IF(NB$6>0,IF((SUM($F31:NA31)+0.1<SUM($G17:NA17)),SUM($G17:NA17)/$E31,0),)","v":0},{"$f":"IF(NC$6>0,IF((SUM($F31:NB31)+0.1<SUM($G17:NB17)),SUM($G17:NB17)/$E31,0),)","v":0},{"$f":"IF(ND$6>0,IF((SUM($F31:NC31)+0.1<SUM($G17:NC17)),SUM($G17:NC17)/$E31,0),)","v":0},{"$f":"IF(NE$6>0,IF((SUM($F31:ND31)+0.1<SUM($G17:ND17)),SUM($G17:ND17)/$E31,0),)","v":0},{"$f":"IF(NF$6>0,IF((SUM($F31:NE31)+0.1<SUM($G17:NE17)),SUM($G17:NE17)/$E31,0),)","v":0},{"$f":"IF(NG$6>0,IF((SUM($F31:NF31)+0.1<SUM($G17:NF17)),SUM($G17:NF17)/$E31,0),)","v":0},{"$f":"IF(NH$6>0,IF((SUM($F31:NG31)+0.1<SUM($G17:NG17)),SUM($G17:NG17)/$E31,0),)","v":0},{"$f":"IF(NI$6>0,IF((SUM($F31:NH31)+0.1<SUM($G17:NH17)),SUM($G17:NH17)/$E31,0),)","v":0},{"$f":"IF(NJ$6>0,IF((SUM($F31:NI31)+0.1<SUM($G17:NI17)),SUM($G17:NI17)/$E31,0),)","v":0},{"$f":"IF(NK$6>0,IF((SUM($F31:NJ31)+0.1<SUM($G17:NJ17)),SUM($G17:NJ17)/$E31,0),)","v":0},{"$f":"IF(NL$6>0,IF((SUM($F31:NK31)+0.1<SUM($G17:NK17)),SUM($G17:NK17)/$E31,0),)","v":0},{"$f":"IF(NM$6>0,IF((SUM($F31:NL31)+0.1<SUM($G17:NL17)),SUM($G17:NL17)/$E31,0),)","v":0},{"$f":"IF(NN$6>0,IF((SUM($F31:NM31)+0.1<SUM($G17:NM17)),SUM($G17:NM17)/$E31,0),)","v":0},{"$f":"IF(NO$6>0,IF((SUM($F31:NN31)+0.1<SUM($G17:NN17)),SUM($G17:NN17)/$E31,0),)","v":0},{"$f":"IF(NP$6>0,IF((SUM($F31:NO31)+0.1<SUM($G17:NO17)),SUM($G17:NO17)/$E31,0),)","v":0},{"$f":"IF(NQ$6>0,IF((SUM($F31:NP31)+0.1<SUM($G17:NP17)),SUM($G17:NP17)/$E31,0),)","v":0},{"$f":"IF(NR$6>0,IF((SUM($F31:NQ31)+0.1<SUM($G17:NQ17)),SUM($G17:NQ17)/$E31,0),)","v":0},{"$f":"IF(NS$6>0,IF((SUM($F31:NR31)+0.1<SUM($G17:NR17)),SUM($G17:NR17)/$E31,0),)","v":0},{"$f":"IF(NT$6>0,IF((SUM($F31:NS31)+0.1<SUM($G17:NS17)),SUM($G17:NS17)/$E31,0),)","v":0},{"$f":"IF(NU$6>0,IF((SUM($F31:NT31)+0.1<SUM($G17:NT17)),SUM($G17:NT17)/$E31,0),)","v":0},{"$f":"IF(NV$6>0,IF((SUM($F31:NU31)+0.1<SUM($G17:NU17)),SUM($G17:NU17)/$E31,0),)","v":0},{"$f":"IF(NW$6>0,IF((SUM($F31:NV31)+0.1<SUM($G17:NV17)),SUM($G17:NV17)/$E31,0),)","v":0},{"$f":"IF(NX$6>0,IF((SUM($F31:NW31)+0.1<SUM($G17:NW17)),SUM($G17:NW17)/$E31,0),)","v":0},{"$f":"IF(NY$6>0,IF((SUM($F31:NX31)+0.1<SUM($G17:NX17)),SUM($G17:NX17)/$E31,0),)","v":0},{"$f":"IF(NZ$6>0,IF((SUM($F31:NY31)+0.1<SUM($G17:NY17)),SUM($G17:NY17)/$E31,0),)","v":0},{"$f":"IF(OA$6>0,IF((SUM($F31:NZ31)+0.1<SUM($G17:NZ17)),SUM($G17:NZ17)/$E31,0),)","v":0},{"$f":"IF(OB$6>0,IF((SUM($F31:OA31)+0.1<SUM($G17:OA17)),SUM($G17:OA17)/$E31,0),)","v":0},{"$f":"IF(OC$6>0,IF((SUM($F31:OB31)+0.1<SUM($G17:OB17)),SUM($G17:OB17)/$E31,0),)","v":0},{"$f":"IF(OD$6>0,IF((SUM($F31:OC31)+0.1<SUM($G17:OC17)),SUM($G17:OC17)/$E31,0),)","v":0},{"$f":"IF(OE$6>0,IF((SUM($F31:OD31)+0.1<SUM($G17:OD17)),SUM($G17:OD17)/$E31,0),)","v":0},{"$f":"IF(OF$6>0,IF((SUM($F31:OE31)+0.1<SUM($G17:OE17)),SUM($G17:OE17)/$E31,0),)","v":0},{"$f":"IF(OG$6>0,IF((SUM($F31:OF31)+0.1<SUM($G17:OF17)),SUM($G17:OF17)/$E31,0),)","v":0},{"$f":"IF(OH$6>0,IF((SUM($F31:OG31)+0.1<SUM($G17:OG17)),SUM($G17:OG17)/$E31,0),)","v":0},{"$f":"IF(OI$6>0,IF((SUM($F31:OH31)+0.1<SUM($G17:OH17)),SUM($G17:OH17)/$E31,0),)","v":0},{"$f":"IF(OJ$6>0,IF((SUM($F31:OI31)+0.1<SUM($G17:OI17)),SUM($G17:OI17)/$E31,0),)","v":0},{"$f":"IF(OK$6>0,IF((SUM($F31:OJ31)+0.1<SUM($G17:OJ17)),SUM($G17:OJ17)/$E31,0),)","v":0},{"$f":"IF(OL$6>0,IF((SUM($F31:OK31)+0.1<SUM($G17:OK17)),SUM($G17:OK17)/$E31,0),)","v":0},{"$f":"IF(OM$6>0,IF((SUM($F31:OL31)+0.1<SUM($G17:OL17)),SUM($G17:OL17)/$E31,0),)","v":0},{"$f":"IF(ON$6>0,IF((SUM($F31:OM31)+0.1<SUM($G17:OM17)),SUM($G17:OM17)/$E31,0),)","v":0},{"$f":"IF(OO$6>0,IF((SUM($F31:ON31)+0.1<SUM($G17:ON17)),SUM($G17:ON17)/$E31,0),)","v":0},{"$f":"IF(OP$6>0,IF((SUM($F31:OO31)+0.1<SUM($G17:OO17)),SUM($G17:OO17)/$E31,0),)","v":0},{"$f":"IF(OQ$6>0,IF((SUM($F31:OP31)+0.1<SUM($G17:OP17)),SUM($G17:OP17)/$E31,0),)","v":0},{"$f":"IF(OR$6>0,IF((SUM($F31:OQ31)+0.1<SUM($G17:OQ17)),SUM($G17:OQ17)/$E31,0),)","v":0},{"$f":"IF(OS$6>0,IF((SUM($F31:OR31)+0.1<SUM($G17:OR17)),SUM($G17:OR17)/$E31,0),)","v":0},{"$f":"IF(OT$6>0,IF((SUM($F31:OS31)+0.1<SUM($G17:OS17)),SUM($G17:OS17)/$E31,0),)","v":0},{"$f":"IF(OU$6>0,IF((SUM($F31:OT31)+0.1<SUM($G17:OT17)),SUM($G17:OT17)/$E31,0),)","v":0},{"$f":"IF(OV$6>0,IF((SUM($F31:OU31)+0.1<SUM($G17:OU17)),SUM($G17:OU17)/$E31,0),)","v":0},{"$f":"IF(OW$6>0,IF((SUM($F31:OV31)+0.1<SUM($G17:OV17)),SUM($G17:OV17)/$E31,0),)","v":0},{"$f":"IF(OX$6>0,IF((SUM($F31:OW31)+0.1<SUM($G17:OW17)),SUM($G17:OW17)/$E31,0),)","v":0},{"$f":"IF(OY$6>0,IF((SUM($F31:OX31)+0.1<SUM($G17:OX17)),SUM($G17:OX17)/$E31,0),)","v":0},{"$f":"IF(OZ$6>0,IF((SUM($F31:OY31)+0.1<SUM($G17:OY17)),SUM($G17:OY17)/$E31,0),)","v":0},{"$f":"IF(PA$6>0,IF((SUM($F31:OZ31)+0.1<SUM($G17:OZ17)),SUM($G17:OZ17)/$E31,0),)","v":0},{"$f":"IF(PB$6>0,IF((SUM($F31:PA31)+0.1<SUM($G17:PA17)),SUM($G17:PA17)/$E31,0),)","v":0},{"$f":"IF(PC$6>0,IF((SUM($F31:PB31)+0.1<SUM($G17:PB17)),SUM($G17:PB17)/$E31,0),)","v":0},{"$f":"IF(PD$6>0,IF((SUM($F31:PC31)+0.1<SUM($G17:PC17)),SUM($G17:PC17)/$E31,0),)","v":0},{"$f":"IF(PE$6>0,IF((SUM($F31:PD31)+0.1<SUM($G17:PD17)),SUM($G17:PD17)/$E31,0),)","v":0},{"$f":"IF(PF$6>0,IF((SUM($F31:PE31)+0.1<SUM($G17:PE17)),SUM($G17:PE17)/$E31,0),)","v":0},{"$f":"IF(PG$6>0,IF((SUM($F31:PF31)+0.1<SUM($G17:PF17)),SUM($G17:PF17)/$E31,0),)","v":0},{"$f":"IF(PH$6>0,IF((SUM($F31:PG31)+0.1<SUM($G17:PG17)),SUM($G17:PG17)/$E31,0),)","v":0},{"$f":"IF(PI$6>0,IF((SUM($F31:PH31)+0.1<SUM($G17:PH17)),SUM($G17:PH17)/$E31,0),)","v":0},{"$f":"IF(PJ$6>0,IF((SUM($F31:PI31)+0.1<SUM($G17:PI17)),SUM($G17:PI17)/$E31,0),)","v":0},{"$f":"IF(PK$6>0,IF((SUM($F31:PJ31)+0.1<SUM($G17:PJ17)),SUM($G17:PJ17)/$E31,0),)","v":0},{"$f":"IF(PL$6>0,IF((SUM($F31:PK31)+0.1<SUM($G17:PK17)),SUM($G17:PK17)/$E31,0),)","v":0},{"$f":"IF(PM$6>0,IF((SUM($F31:PL31)+0.1<SUM($G17:PL17)),SUM($G17:PL17)/$E31,0),)","v":0},{"$f":"IF(PN$6>0,IF((SUM($F31:PM31)+0.1<SUM($G17:PM17)),SUM($G17:PM17)/$E31,0),)","v":0},{"$f":"IF(PO$6>0,IF((SUM($F31:PN31)+0.1<SUM($G17:PN17)),SUM($G17:PN17)/$E31,0),)","v":0},{"$f":"IF(PP$6>0,IF((SUM($F31:PO31)+0.1<SUM($G17:PO17)),SUM($G17:PO17)/$E31,0),)","v":0},{"$f":"IF(PQ$6>0,IF((SUM($F31:PP31)+0.1<SUM($G17:PP17)),SUM($G17:PP17)/$E31,0),)","v":0},{"$f":"IF(PR$6>0,IF((SUM($F31:PQ31)+0.1<SUM($G17:PQ17)),SUM($G17:PQ17)/$E31,0),)","v":0},{"$f":"IF(PS$6>0,IF((SUM($F31:PR31)+0.1<SUM($G17:PR17)),SUM($G17:PR17)/$E31,0),)","v":0},{"$f":"IF(PT$6>0,IF((SUM($F31:PS31)+0.1<SUM($G17:PS17)),SUM($G17:PS17)/$E31,0),)","v":0},{"$f":"IF(PU$6>0,IF((SUM($F31:PT31)+0.1<SUM($G17:PT17)),SUM($G17:PT17)/$E31,0),)","v":0},{"$f":"IF(PV$6>0,IF((SUM($F31:PU31)+0.1<SUM($G17:PU17)),SUM($G17:PU17)/$E31,0),)","v":0},{"$f":"IF(PW$6>0,IF((SUM($F31:PV31)+0.1<SUM($G17:PV17)),SUM($G17:PV17)/$E31,0),)","v":0},{"$f":"IF(PX$6>0,IF((SUM($F31:PW31)+0.1<SUM($G17:PW17)),SUM($G17:PW17)/$E31,0),)","v":0},{"$f":"IF(PY$6>0,IF((SUM($F31:PX31)+0.1<SUM($G17:PX17)),SUM($G17:PX17)/$E31,0),)","v":0},{"$f":"IF(PZ$6>0,IF((SUM($F31:PY31)+0.1<SUM($G17:PY17)),SUM($G17:PY17)/$E31,0),)","v":0},{"$f":"IF(QA$6>0,IF((SUM($F31:PZ31)+0.1<SUM($G17:PZ17)),SUM($G17:PZ17)/$E31,0),)","v":0},{"$f":"IF(QB$6>0,IF((SUM($F31:QA31)+0.1<SUM($G17:QA17)),SUM($G17:QA17)/$E31,0),)","v":0},{"$f":"IF(QC$6>0,IF((SUM($F31:QB31)+0.1<SUM($G17:QB17)),SUM($G17:QB17)/$E31,0),)","v":0},{"$f":"IF(QD$6>0,IF((SUM($F31:QC31)+0.1<SUM($G17:QC17)),SUM($G17:QC17)/$E31,0),)","v":0},{"$f":"IF(QE$6>0,IF((SUM($F31:QD31)+0.1<SUM($G17:QD17)),SUM($G17:QD17)/$E31,0),)","v":0},{"$f":"IF(QF$6>0,IF((SUM($F31:QE31)+0.1<SUM($G17:QE17)),SUM($G17:QE17)/$E31,0),)","v":0},{"$f":"IF(QG$6>0,IF((SUM($F31:QF31)+0.1<SUM($G17:QF17)),SUM($G17:QF17)/$E31,0),)","v":0},{"$f":"IF(QH$6>0,IF((SUM($F31:QG31)+0.1<SUM($G17:QG17)),SUM($G17:QG17)/$E31,0),)","v":0},{"$f":"IF(QI$6>0,IF((SUM($F31:QH31)+0.1<SUM($G17:QH17)),SUM($G17:QH17)/$E31,0),)","v":0},{"$f":"IF(QJ$6>0,IF((SUM($F31:QI31)+0.1<SUM($G17:QI17)),SUM($G17:QI17)/$E31,0),)","v":0},{"$f":"IF(QK$6>0,IF((SUM($F31:QJ31)+0.1<SUM($G17:QJ17)),SUM($G17:QJ17)/$E31,0),)","v":0},{"$f":"IF(QL$6>0,IF((SUM($F31:QK31)+0.1<SUM($G17:QK17)),SUM($G17:QK17)/$E31,0),)","v":0},{"$f":"IF(QM$6>0,IF((SUM($F31:QL31)+0.1<SUM($G17:QL17)),SUM($G17:QL17)/$E31,0),)","v":0},{"$f":"IF(QN$6>0,IF((SUM($F31:QM31)+0.1<SUM($G17:QM17)),SUM($G17:QM17)/$E31,0),)","v":0},{"$f":"IF(QO$6>0,IF((SUM($F31:QN31)+0.1<SUM($G17:QN17)),SUM($G17:QN17)/$E31,0),)","v":0},{"$f":"IF(QP$6>0,IF((SUM($F31:QO31)+0.1<SUM($G17:QO17)),SUM($G17:QO17)/$E31,0),)","v":0},{"$f":"IF(QQ$6>0,IF((SUM($F31:QP31)+0.1<SUM($G17:QP17)),SUM($G17:QP17)/$E31,0),)","v":0},{"$f":"IF(QR$6>0,IF((SUM($F31:QQ31)+0.1<SUM($G17:QQ17)),SUM($G17:QQ17)/$E31,0),)","v":0},{"$f":"IF(QS$6>0,IF((SUM($F31:QR31)+0.1<SUM($G17:QR17)),SUM($G17:QR17)/$E31,0),)","v":0},{"$f":"IF(QT$6>0,IF((SUM($F31:QS31)+0.1<SUM($G17:QS17)),SUM($G17:QS17)/$E31,0),)","v":0},{"$f":"IF(QU$6>0,IF((SUM($F31:QT31)+0.1<SUM($G17:QT17)),SUM($G17:QT17)/$E31,0),)","v":0},{"$f":"IF(QV$6>0,IF((SUM($F31:QU31)+0.1<SUM($G17:QU17)),SUM($G17:QU17)/$E31,0),)","v":0},{"$f":"IF(QW$6>0,IF((SUM($F31:QV31)+0.1<SUM($G17:QV17)),SUM($G17:QV17)/$E31,0),)","v":0},{"$f":"IF(QX$6>0,IF((SUM($F31:QW31)+0.1<SUM($G17:QW17)),SUM($G17:QW17)/$E31,0),)","v":0},{"$f":"IF(QY$6>0,IF((SUM($F31:QX31)+0.1<SUM($G17:QX17)),SUM($G17:QX17)/$E31,0),)","v":0},{"$f":"IF(QZ$6>0,IF((SUM($F31:QY31)+0.1<SUM($G17:QY17)),SUM($G17:QY17)/$E31,0),)","v":0},{"$f":"IF(RA$6>0,IF((SUM($F31:QZ31)+0.1<SUM($G17:QZ17)),SUM($G17:QZ17)/$E31,0),)","v":0},{"$f":"IF(RB$6>0,IF((SUM($F31:RA31)+0.1<SUM($G17:RA17)),SUM($G17:RA17)/$E31,0),)","v":0},{"$f":"IF(RC$6>0,IF((SUM($F31:RB31)+0.1<SUM($G17:RB17)),SUM($G17:RB17)/$E31,0),)","v":0},{"$f":"IF(RD$6>0,IF((SUM($F31:RC31)+0.1<SUM($G17:RC17)),SUM($G17:RC17)/$E31,0),)","v":0},{"$f":"IF(RE$6>0,IF((SUM($F31:RD31)+0.1<SUM($G17:RD17)),SUM($G17:RD17)/$E31,0),)","v":0},{"$f":"IF(RF$6>0,IF((SUM($F31:RE31)+0.1<SUM($G17:RE17)),SUM($G17:RE17)/$E31,0),)","v":0}]
[null,0,0,0,0,null,{"$f":"IF(G$6>0,IF((SUM($F32:F32)+0.1<$C32),$C32/$E32,0),)","v":0},{"$f":"IF(H$6>0,IF((SUM($F32:G32)+0.1<SUM($G18:G18)),SUM($G18:G18)/$E32,0),)","v":0},{"$f":"IF(I$6>0,IF((SUM($F32:H32)+0.1<SUM($G18:H18)),SUM($G18:H18)/$E32,0),)","v":0},{"$f":"IF(J$6>0,IF((SUM($F32:I32)+0.1<SUM($G18:I18)),SUM($G18:I18)/$E32,0),)","v":0},{"$f":"IF(K$6>0,IF((SUM($F32:J32)+0.1<SUM($G18:J18)),SUM($G18:J18)/$E32,0),)","v":0},{"$f":"IF(L$6>0,IF((SUM($F32:K32)+0.1<SUM($G18:K18)),SUM($G18:K18)/$E32,0),)","v":0},{"$f":"IF(M$6>0,IF((SUM($F32:L32)+0.1<SUM($G18:L18)),SUM($G18:L18)/$E32,0),)","v":0},{"$f":"IF(N$6>0,IF((SUM($F32:M32)+0.1<SUM($G18:M18)),SUM($G18:M18)/$E32,0),)","v":0},{"$f":"IF(O$6>0,IF((SUM($F32:N32)+0.1<SUM($G18:N18)),SUM($G18:N18)/$E32,0),)","v":0},{"$f":"IF(P$6>0,IF((SUM($F32:O32)+0.1<SUM($G18:O18)),SUM($G18:O18)/$E32,0),)","v":0},{"$f":"IF(Q$6>0,IF((SUM($F32:P32)+0.1<SUM($G18:P18)),SUM($G18:P18)/$E32,0),)","v":0},{"$f":"IF(R$6>0,IF((SUM($F32:Q32)+0.1<SUM($G18:Q18)),SUM($G18:Q18)/$E32,0),)","v":0},{"$f":"IF(S$6>0,IF((SUM($F32:R32)+0.1<SUM($G18:R18)),SUM($G18:R18)/$E32,0),)","v":0},{"$f":"IF(T$6>0,IF((SUM($F32:S32)+0.1<SUM($G18:S18)),SUM($G18:S18)/$E32,0),)","v":0},{"$f":"IF(U$6>0,IF((SUM($F32:T32)+0.1<SUM($G18:T18)),SUM($G18:T18)/$E32,0),)","v":0},{"$f":"IF(V$6>0,IF((SUM($F32:U32)+0.1<SUM($G18:U18)),SUM($G18:U18)/$E32,0),)","v":0},{"$f":"IF(W$6>0,IF((SUM($F32:V32)+0.1<SUM($G18:V18)),SUM($G18:V18)/$E32,0),)","v":0},{"$f":"IF(X$6>0,IF((SUM($F32:W32)+0.1<SUM($G18:W18)),SUM($G18:W18)/$E32,0),)","v":0},{"$f":"IF(Y$6>0,IF((SUM($F32:X32)+0.1<SUM($G18:X18)),SUM($G18:X18)/$E32,0),)","v":0},{"$f":"IF(Z$6>0,IF((SUM($F32:Y32)+0.1<SUM($G18:Y18)),SUM($G18:Y18)/$E32,0),)","v":0},{"$f":"IF(AA$6>0,IF((SUM($F32:Z32)+0.1<SUM($G18:Z18)),SUM($G18:Z18)/$E32,0),)","v":0},{"$f":"IF(AB$6>0,IF((SUM($F32:AA32)+0.1<SUM($G18:AA18)),SUM($G18:AA18)/$E32,0),)","v":0},{"$f":"IF(AC$6>0,IF((SUM($F32:AB32)+0.1<SUM($G18:AB18)),SUM($G18:AB18)/$E32,0),)","v":0},{"$f":"IF(AD$6>0,IF((SUM($F32:AC32)+0.1<SUM($G18:AC18)),SUM($G18:AC18)/$E32,0),)","v":0},{"$f":"IF(AE$6>0,IF((SUM($F32:AD32)+0.1<SUM($G18:AD18)),SUM($G18:AD18)/$E32,0),)","v":0},{"$f":"IF(AF$6>0,IF((SUM($F32:AE32)+0.1<SUM($G18:AE18)),SUM($G18:AE18)/$E32,0),)","v":0},{"$f":"IF(AG$6>0,IF((SUM($F32:AF32)+0.1<SUM($G18:AF18)),SUM($G18:AF18)/$E32,0),)","v":0},{"$f":"IF(AH$6>0,IF((SUM($F32:AG32)+0.1<SUM($G18:AG18)),SUM($G18:AG18)/$E32,0),)","v":0},{"$f":"IF(AI$6>0,IF((SUM($F32:AH32)+0.1<SUM($G18:AH18)),SUM($G18:AH18)/$E32,0),)","v":0},{"$f":"IF(AJ$6>0,IF((SUM($F32:AI32)+0.1<SUM($G18:AI18)),SUM($G18:AI18)/$E32,0),)","v":0},{"$f":"IF(AK$6>0,IF((SUM($F32:AJ32)+0.1<SUM($G18:AJ18)),SUM($G18:AJ18)/$E32,0),)","v":0},{"$f":"IF(AL$6>0,IF((SUM($F32:AK32)+0.1<SUM($G18:AK18)),SUM($G18:AK18)/$E32,0),)","v":0},{"$f":"IF(AM$6>0,IF((SUM($F32:AL32)+0.1<SUM($G18:AL18)),SUM($G18:AL18)/$E32,0),)","v":0},{"$f":"IF(AN$6>0,IF((SUM($F32:AM32)+0.1<SUM($G18:AM18)),SUM($G18:AM18)/$E32,0),)","v":0},{"$f":"IF(AO$6>0,IF((SUM($F32:AN32)+0.1<SUM($G18:AN18)),SUM($G18:AN18)/$E32,0),)","v":0},{"$f":"IF(AP$6>0,IF((SUM($F32:AO32)+0.1<SUM($G18:AO18)),SUM($G18:AO18)/$E32,0),)","v":0},{"$f":"IF(AQ$6>0,IF((SUM($F32:AP32)+0.1<SUM($G18:AP18)),SUM($G18:AP18)/$E32,0),)","v":0},{"$f":"IF(AR$6>0,IF((SUM($F32:AQ32)+0.1<SUM($G18:AQ18)),SUM($G18:AQ18)/$E32,0),)","v":0},{"$f":"IF(AS$6>0,IF((SUM($F32:AR32)+0.1<SUM($G18:AR18)),SUM($G18:AR18)/$E32,0),)","v":0},{"$f":"IF(AT$6>0,IF((SUM($F32:AS32)+0.1<SUM($G18:AS18)),SUM($G18:AS18)/$E32,0),)","v":0},{"$f":"IF(AU$6>0,IF((SUM($F32:AT32)+0.1<SUM($G18:AT18)),SUM($G18:AT18)/$E32,0),)","v":0},{"$f":"IF(AV$6>0,IF((SUM($F32:AU32)+0.1<SUM($G18:AU18)),SUM($G18:AU18)/$E32,0),)","v":0},{"$f":"IF(AW$6>0,IF((SUM($F32:AV32)+0.1<SUM($G18:AV18)),SUM($G18:AV18)/$E32,0),)","v":0},{"$f":"IF(AX$6>0,IF((SUM($F32:AW32)+0.1<SUM($G18:AW18)),SUM($G18:AW18)/$E32,0),)","v":0},{"$f":"IF(AY$6>0,IF((SUM($F32:AX32)+0.1<SUM($G18:AX18)),SUM($G18:AX18)/$E32,0),)","v":0},{"$f":"IF(AZ$6>0,IF((SUM($F32:AY32)+0.1<SUM($G18:AY18)),SUM($G18:AY18)/$E32,0),)","v":0},{"$f":"IF(BA$6>0,IF((SUM($F32:AZ32)+0.1<SUM($G18:AZ18)),SUM($G18:AZ18)/$E32,0),)","v":0},{"$f":"IF(BB$6>0,IF((SUM($F32:BA32)+0.1<SUM($G18:BA18)),SUM($G18:BA18)/$E32,0),)","v":0},{"$f":"IF(BC$6>0,IF((SUM($F32:BB32)+0.1<SUM($G18:BB18)),SUM($G18:BB18)/$E32,0),)","v":0},{"$f":"IF(BD$6>0,IF((SUM($F32:BC32)+0.1<SUM($G18:BC18)),SUM($G18:BC18)/$E32,0),)","v":0},{"$f":"IF(BE$6>0,IF((SUM($F32:BD32)+0.1<SUM($G18:BD18)),SUM($G18:BD18)/$E32,0),)","v":0},{"$f":"IF(BF$6>0,IF((SUM($F32:BE32)+0.1<SUM($G18:BE18)),SUM($G18:BE18)/$E32,0),)","v":0},{"$f":"IF(BG$6>0,IF((SUM($F32:BF32)+0.1<SUM($G18:BF18)),SUM($G18:BF18)/$E32,0),)","v":0},{"$f":"IF(BH$6>0,IF((SUM($F32:BG32)+0.1<SUM($G18:BG18)),SUM($G18:BG18)/$E32,0),)","v":0},{"$f":"IF(BI$6>0,IF((SUM($F32:BH32)+0.1<SUM($G18:BH18)),SUM($G18:BH18)/$E32,0),)","v":0},{"$f":"IF(BJ$6>0,IF((SUM($F32:BI32)+0.1<SUM($G18:BI18)),SUM($G18:BI18)/$E32,0),)","v":0},{"$f":"IF(BK$6>0,IF((SUM($F32:BJ32)+0.1<SUM($G18:BJ18)),SUM($G18:BJ18)/$E32,0),)","v":0},{"$f":"IF(BL$6>0,IF((SUM($F32:BK32)+0.1<SUM($G18:BK18)),SUM($G18:BK18)/$E32,0),)","v":0},{"$f":"IF(BM$6>0,IF((SUM($F32:BL32)+0.1<SUM($G18:BL18)),SUM($G18:BL18)/$E32,0),)","v":0},{"$f":"IF(BN$6>0,IF((SUM($F32:BM32)+0.1<SUM($G18:BM18)),SUM($G18:BM18)/$E32,0),)","v":0},{"$f":"IF(BO$6>0,IF((SUM($F32:BN32)+0.1<SUM($G18:BN18)),SUM($G18:BN18)/$E32,0),)","v":0},{"$f":"IF(BP$6>0,IF((SUM($F32:BO32)+0.1<SUM($G18:BO18)),SUM($G18:BO18)/$E32,0),)","v":0},{"$f":"IF(BQ$6>0,IF((SUM($F32:BP32)+0.1<SUM($G18:BP18)),SUM($G18:BP18)/$E32,0),)","v":0},{"$f":"IF(BR$6>0,IF((SUM($F32:BQ32)+0.1<SUM($G18:BQ18)),SUM($G18:BQ18)/$E32,0),)","v":0},{"$f":"IF(BS$6>0,IF((SUM($F32:BR32)+0.1<SUM($G18:BR18)),SUM($G18:BR18)/$E32,0),)","v":0},{"$f":"IF(BT$6>0,IF((SUM($F32:BS32)+0.1<SUM($G18:BS18)),SUM($G18:BS18)/$E32,0),)","v":0},{"$f":"IF(BU$6>0,IF((SUM($F32:BT32)+0.1<SUM($G18:BT18)),SUM($G18:BT18)/$E32,0),)","v":0},{"$f":"IF(BV$6>0,IF((SUM($F32:BU32)+0.1<SUM($G18:BU18)),SUM($G18:BU18)/$E32,0),)","v":0},{"$f":"IF(BW$6>0,IF((SUM($F32:BV32)+0.1<SUM($G18:BV18)),SUM($G18:BV18)/$E32,0),)","v":0},{"$f":"IF(BX$6>0,IF((SUM($F32:BW32)+0.1<SUM($G18:BW18)),SUM($G18:BW18)/$E32,0),)","v":0},{"$f":"IF(BY$6>0,IF((SUM($F32:BX32)+0.1<SUM($G18:BX18)),SUM($G18:BX18)/$E32,0),)","v":0},{"$f":"IF(BZ$6>0,IF((SUM($F32:BY32)+0.1<SUM($G18:BY18)),SUM($G18:BY18)/$E32,0),)","v":0},{"$f":"IF(CA$6>0,IF((SUM($F32:BZ32)+0.1<SUM($G18:BZ18)),SUM($G18:BZ18)/$E32,0),)","v":0},{"$f":"IF(CB$6>0,IF((SUM($F32:CA32)+0.1<SUM($G18:CA18)),SUM($G18:CA18)/$E32,0),)","v":0},{"$f":"IF(CC$6>0,IF((SUM($F32:CB32)+0.1<SUM($G18:CB18)),SUM($G18:CB18)/$E32,0),)","v":0},{"$f":"IF(CD$6>0,IF((SUM($F32:CC32)+0.1<SUM($G18:CC18)),SUM($G18:CC18)/$E32,0),)","v":0},{"$f":"IF(CE$6>0,IF((SUM($F32:CD32)+0.1<SUM($G18:CD18)),SUM($G18:CD18)/$E32,0),)","v":0},{"$f":"IF(CF$6>0,IF((SUM($F32:CE32)+0.1<SUM($G18:CE18)),SUM($G18:CE18)/$E32,0),)","v":0},{"$f":"IF(CG$6>0,IF((SUM($F32:CF32)+0.1<SUM($G18:CF18)),SUM($G18:CF18)/$E32,0),)","v":0},{"$f":"IF(CH$6>0,IF((SUM($F32:CG32)+0.1<SUM($G18:CG18)),SUM($G18:CG18)/$E32,0),)","v":0},{"$f":"IF(CI$6>0,IF((SUM($F32:CH32)+0.1<SUM($G18:CH18)),SUM($G18:CH18)/$E32,0),)","v":0},{"$f":"IF(CJ$6>0,IF((SUM($F32:CI32)+0.1<SUM($G18:CI18)),SUM($G18:CI18)/$E32,0),)","v":0},{"$f":"IF(CK$6>0,IF((SUM($F32:CJ32)+0.1<SUM($G18:CJ18)),SUM($G18:CJ18)/$E32,0),)","v":0},{"$f":"IF(CL$6>0,IF((SUM($F32:CK32)+0.1<SUM($G18:CK18)),SUM($G18:CK18)/$E32,0),)","v":0},{"$f":"IF(CM$6>0,IF((SUM($F32:CL32)+0.1<SUM($G18:CL18)),SUM($G18:CL18)/$E32,0),)","v":0},{"$f":"IF(CN$6>0,IF((SUM($F32:CM32)+0.1<SUM($G18:CM18)),SUM($G18:CM18)/$E32,0),)","v":0},{"$f":"IF(CO$6>0,IF((SUM($F32:CN32)+0.1<SUM($G18:CN18)),SUM($G18:CN18)/$E32,0),)","v":0},{"$f":"IF(CP$6>0,IF((SUM($F32:CO32)+0.1<SUM($G18:CO18)),SUM($G18:CO18)/$E32,0),)","v":0},{"$f":"IF(CQ$6>0,IF((SUM($F32:CP32)+0.1<SUM($G18:CP18)),SUM($G18:CP18)/$E32,0),)","v":0},{"$f":"IF(CR$6>0,IF((SUM($F32:CQ32)+0.1<SUM($G18:CQ18)),SUM($G18:CQ18)/$E32,0),)","v":0},{"$f":"IF(CS$6>0,IF((SUM($F32:CR32)+0.1<SUM($G18:CR18)),SUM($G18:CR18)/$E32,0),)","v":0},{"$f":"IF(CT$6>0,IF((SUM($F32:CS32)+0.1<SUM($G18:CS18)),SUM($G18:CS18)/$E32,0),)","v":0},{"$f":"IF(CU$6>0,IF((SUM($F32:CT32)+0.1<SUM($G18:CT18)),SUM($G18:CT18)/$E32,0),)","v":0},{"$f":"IF(CV$6>0,IF((SUM($F32:CU32)+0.1<SUM($G18:CU18)),SUM($G18:CU18)/$E32,0),)","v":0},{"$f":"IF(CW$6>0,IF((SUM($F32:CV32)+0.1<SUM($G18:CV18)),SUM($G18:CV18)/$E32,0),)","v":0},{"$f":"IF(CX$6>0,IF((SUM($F32:CW32)+0.1<SUM($G18:CW18)),SUM($G18:CW18)/$E32,0),)","v":0},{"$f":"IF(CY$6>0,IF((SUM($F32:CX32)+0.1<SUM($G18:CX18)),SUM($G18:CX18)/$E32,0),)","v":0},{"$f":"IF(CZ$6>0,IF((SUM($F32:CY32)+0.1<SUM($G18:CY18)),SUM($G18:CY18)/$E32,0),)","v":0},{"$f":"IF(DA$6>0,IF((SUM($F32:CZ32)+0.1<SUM($G18:CZ18)),SUM($G18:CZ18)/$E32,0),)","v":0},{"$f":"IF(DB$6>0,IF((SUM($F32:DA32)+0.1<SUM($G18:DA18)),SUM($G18:DA18)/$E32,0),)","v":0},{"$f":"IF(DC$6>0,IF((SUM($F32:DB32)+0.1<SUM($G18:DB18)),SUM($G18:DB18)/$E32,0),)","v":0},{"$f":"IF(DD$6>0,IF((SUM($F32:DC32)+0.1<SUM($G18:DC18)),SUM($G18:DC18)/$E32,0),)","v":0},{"$f":"IF(DE$6>0,IF((SUM($F32:DD32)+0.1<SUM($G18:DD18)),SUM($G18:DD18)/$E32,0),)","v":0},{"$f":"IF(DF$6>0,IF((SUM($F32:DE32)+0.1<SUM($G18:DE18)),SUM($G18:DE18)/$E32,0),)","v":0},{"$f":"IF(DG$6>0,IF((SUM($F32:DF32)+0.1<SUM($G18:DF18)),SUM($G18:DF18)/$E32,0),)","v":0},{"$f":"IF(DH$6>0,IF((SUM($F32:DG32)+0.1<SUM($G18:DG18)),SUM($G18:DG18)/$E32,0),)","v":0},{"$f":"IF(DI$6>0,IF((SUM($F32:DH32)+0.1<SUM($G18:DH18)),SUM($G18:DH18)/$E32,0),)","v":0},{"$f":"IF(DJ$6>0,IF((SUM($F32:DI32)+0.1<SUM($G18:DI18)),SUM($G18:DI18)/$E32,0),)","v":0},{"$f":"IF(DK$6>0,IF((SUM($F32:DJ32)+0.1<SUM($G18:DJ18)),SUM($G18:DJ18)/$E32,0),)","v":0},{"$f":"IF(DL$6>0,IF((SUM($F32:DK32)+0.1<SUM($G18:DK18)),SUM($G18:DK18)/$E32,0),)","v":0},{"$f":"IF(DM$6>0,IF((SUM($F32:DL32)+0.1<SUM($G18:DL18)),SUM($G18:DL18)/$E32,0),)","v":0},{"$f":"IF(DN$6>0,IF((SUM($F32:DM32)+0.1<SUM($G18:DM18)),SUM($G18:DM18)/$E32,0),)","v":0},{"$f":"IF(DO$6>0,IF((SUM($F32:DN32)+0.1<SUM($G18:DN18)),SUM($G18:DN18)/$E32,0),)","v":0},{"$f":"IF(DP$6>0,IF((SUM($F32:DO32)+0.1<SUM($G18:DO18)),SUM($G18:DO18)/$E32,0),)","v":0},{"$f":"IF(DQ$6>0,IF((SUM($F32:DP32)+0.1<SUM($G18:DP18)),SUM($G18:DP18)/$E32,0),)","v":0},{"$f":"IF(DR$6>0,IF((SUM($F32:DQ32)+0.1<SUM($G18:DQ18)),SUM($G18:DQ18)/$E32,0),)","v":0},{"$f":"IF(DS$6>0,IF((SUM($F32:DR32)+0.1<SUM($G18:DR18)),SUM($G18:DR18)/$E32,0),)","v":0},{"$f":"IF(DT$6>0,IF((SUM($F32:DS32)+0.1<SUM($G18:DS18)),SUM($G18:DS18)/$E32,0),)","v":0},{"$f":"IF(DU$6>0,IF((SUM($F32:DT32)+0.1<SUM($G18:DT18)),SUM($G18:DT18)/$E32,0),)","v":0},{"$f":"IF(DV$6>0,IF((SUM($F32:DU32)+0.1<SUM($G18:DU18)),SUM($G18:DU18)/$E32,0),)","v":0},{"$f":"IF(DW$6>0,IF((SUM($F32:DV32)+0.1<SUM($G18:DV18)),SUM($G18:DV18)/$E32,0),)","v":0},{"$f":"IF(DX$6>0,IF((SUM($F32:DW32)+0.1<SUM($G18:DW18)),SUM($G18:DW18)/$E32,0),)","v":0},{"$f":"IF(DY$6>0,IF((SUM($F32:DX32)+0.1<SUM($G18:DX18)),SUM($G18:DX18)/$E32,0),)","v":0},{"$f":"IF(DZ$6>0,IF((SUM($F32:DY32)+0.1<SUM($G18:DY18)),SUM($G18:DY18)/$E32,0),)","v":0},{"$f":"IF(EA$6>0,IF((SUM($F32:DZ32)+0.1<SUM($G18:DZ18)),SUM($G18:DZ18)/$E32,0),)","v":0},{"$f":"IF(EB$6>0,IF((SUM($F32:EA32)+0.1<SUM($G18:EA18)),SUM($G18:EA18)/$E32,0),)","v":0},{"$f":"IF(EC$6>0,IF((SUM($F32:EB32)+0.1<SUM($G18:EB18)),SUM($G18:EB18)/$E32,0),)","v":0},{"$f":"IF(ED$6>0,IF((SUM($F32:EC32)+0.1<SUM($G18:EC18)),SUM($G18:EC18)/$E32,0),)","v":0},{"$f":"IF(EE$6>0,IF((SUM($F32:ED32)+0.1<SUM($G18:ED18)),SUM($G18:ED18)/$E32,0),)","v":0},{"$f":"IF(EF$6>0,IF((SUM($F32:EE32)+0.1<SUM($G18:EE18)),SUM($G18:EE18)/$E32,0),)","v":0},{"$f":"IF(EG$6>0,IF((SUM($F32:EF32)+0.1<SUM($G18:EF18)),SUM($G18:EF18)/$E32,0),)","v":0},{"$f":"IF(EH$6>0,IF((SUM($F32:EG32)+0.1<SUM($G18:EG18)),SUM($G18:EG18)/$E32,0),)","v":0},{"$f":"IF(EI$6>0,IF((SUM($F32:EH32)+0.1<SUM($G18:EH18)),SUM($G18:EH18)/$E32,0),)","v":0},{"$f":"IF(EJ$6>0,IF((SUM($F32:EI32)+0.1<SUM($G18:EI18)),SUM($G18:EI18)/$E32,0),)","v":0},{"$f":"IF(EK$6>0,IF((SUM($F32:EJ32)+0.1<SUM($G18:EJ18)),SUM($G18:EJ18)/$E32,0),)","v":0},{"$f":"IF(EL$6>0,IF((SUM($F32:EK32)+0.1<SUM($G18:EK18)),SUM($G18:EK18)/$E32,0),)","v":0},{"$f":"IF(EM$6>0,IF((SUM($F32:EL32)+0.1<SUM($G18:EL18)),SUM($G18:EL18)/$E32,0),)","v":0},{"$f":"IF(EN$6>0,IF((SUM($F32:EM32)+0.1<SUM($G18:EM18)),SUM($G18:EM18)/$E32,0),)","v":0},{"$f":"IF(EO$6>0,IF((SUM($F32:EN32)+0.1<SUM($G18:EN18)),SUM($G18:EN18)/$E32,0),)","v":0},{"$f":"IF(EP$6>0,IF((SUM($F32:EO32)+0.1<SUM($G18:EO18)),SUM($G18:EO18)/$E32,0),)","v":0},{"$f":"IF(EQ$6>0,IF((SUM($F32:EP32)+0.1<SUM($G18:EP18)),SUM($G18:EP18)/$E32,0),)","v":0},{"$f":"IF(ER$6>0,IF((SUM($F32:EQ32)+0.1<SUM($G18:EQ18)),SUM($G18:EQ18)/$E32,0),)","v":0},{"$f":"IF(ES$6>0,IF((SUM($F32:ER32)+0.1<SUM($G18:ER18)),SUM($G18:ER18)/$E32,0),)","v":0},{"$f":"IF(ET$6>0,IF((SUM($F32:ES32)+0.1<SUM($G18:ES18)),SUM($G18:ES18)/$E32,0),)","v":0},{"$f":"IF(EU$6>0,IF((SUM($F32:ET32)+0.1<SUM($G18:ET18)),SUM($G18:ET18)/$E32,0),)","v":0},{"$f":"IF(EV$6>0,IF((SUM($F32:EU32)+0.1<SUM($G18:EU18)),SUM($G18:EU18)/$E32,0),)","v":0},{"$f":"IF(EW$6>0,IF((SUM($F32:EV32)+0.1<SUM($G18:EV18)),SUM($G18:EV18)/$E32,0),)","v":0},{"$f":"IF(EX$6>0,IF((SUM($F32:EW32)+0.1<SUM($G18:EW18)),SUM($G18:EW18)/$E32,0),)","v":0},{"$f":"IF(EY$6>0,IF((SUM($F32:EX32)+0.1<SUM($G18:EX18)),SUM($G18:EX18)/$E32,0),)","v":0},{"$f":"IF(EZ$6>0,IF((SUM($F32:EY32)+0.1<SUM($G18:EY18)),SUM($G18:EY18)/$E32,0),)","v":0},{"$f":"IF(FA$6>0,IF((SUM($F32:EZ32)+0.1<SUM($G18:EZ18)),SUM($G18:EZ18)/$E32,0),)","v":0},{"$f":"IF(FB$6>0,IF((SUM($F32:FA32)+0.1<SUM($G18:FA18)),SUM($G18:FA18)/$E32,0),)","v":0},{"$f":"IF(FC$6>0,IF((SUM($F32:FB32)+0.1<SUM($G18:FB18)),SUM($G18:FB18)/$E32,0),)","v":0},{"$f":"IF(FD$6>0,IF((SUM($F32:FC32)+0.1<SUM($G18:FC18)),SUM($G18:FC18)/$E32,0),)","v":0},{"$f":"IF(FE$6>0,IF((SUM($F32:FD32)+0.1<SUM($G18:FD18)),SUM($G18:FD18)/$E32,0),)","v":0},{"$f":"IF(FF$6>0,IF((SUM($F32:FE32)+0.1<SUM($G18:FE18)),SUM($G18:FE18)/$E32,0),)","v":0},{"$f":"IF(FG$6>0,IF((SUM($F32:FF32)+0.1<SUM($G18:FF18)),SUM($G18:FF18)/$E32,0),)","v":0},{"$f":"IF(FH$6>0,IF((SUM($F32:FG32)+0.1<SUM($G18:FG18)),SUM($G18:FG18)/$E32,0),)","v":0},{"$f":"IF(FI$6>0,IF((SUM($F32:FH32)+0.1<SUM($G18:FH18)),SUM($G18:FH18)/$E32,0),)","v":0},{"$f":"IF(FJ$6>0,IF((SUM($F32:FI32)+0.1<SUM($G18:FI18)),SUM($G18:FI18)/$E32,0),)","v":0},{"$f":"IF(FK$6>0,IF((SUM($F32:FJ32)+0.1<SUM($G18:FJ18)),SUM($G18:FJ18)/$E32,0),)","v":0},{"$f":"IF(FL$6>0,IF((SUM($F32:FK32)+0.1<SUM($G18:FK18)),SUM($G18:FK18)/$E32,0),)","v":0},{"$f":"IF(FM$6>0,IF((SUM($F32:FL32)+0.1<SUM($G18:FL18)),SUM($G18:FL18)/$E32,0),)","v":0},{"$f":"IF(FN$6>0,IF((SUM($F32:FM32)+0.1<SUM($G18:FM18)),SUM($G18:FM18)/$E32,0),)","v":0},{"$f":"IF(FO$6>0,IF((SUM($F32:FN32)+0.1<SUM($G18:FN18)),SUM($G18:FN18)/$E32,0),)","v":0},{"$f":"IF(FP$6>0,IF((SUM($F32:FO32)+0.1<SUM($G18:FO18)),SUM($G18:FO18)/$E32,0),)","v":0},{"$f":"IF(FQ$6>0,IF((SUM($F32:FP32)+0.1<SUM($G18:FP18)),SUM($G18:FP18)/$E32,0),)","v":0},{"$f":"IF(FR$6>0,IF((SUM($F32:FQ32)+0.1<SUM($G18:FQ18)),SUM($G18:FQ18)/$E32,0),)","v":0},{"$f":"IF(FS$6>0,IF((SUM($F32:FR32)+0.1<SUM($G18:FR18)),SUM($G18:FR18)/$E32,0),)","v":0},{"$f":"IF(FT$6>0,IF((SUM($F32:FS32)+0.1<SUM($G18:FS18)),SUM($G18:FS18)/$E32,0),)","v":0},{"$f":"IF(FU$6>0,IF((SUM($F32:FT32)+0.1<SUM($G18:FT18)),SUM($G18:FT18)/$E32,0),)","v":0},{"$f":"IF(FV$6>0,IF((SUM($F32:FU32)+0.1<SUM($G18:FU18)),SUM($G18:FU18)/$E32,0),)","v":0},{"$f":"IF(FW$6>0,IF((SUM($F32:FV32)+0.1<SUM($G18:FV18)),SUM($G18:FV18)/$E32,0),)","v":0},{"$f":"IF(FX$6>0,IF((SUM($F32:FW32)+0.1<SUM($G18:FW18)),SUM($G18:FW18)/$E32,0),)","v":0},{"$f":"IF(FY$6>0,IF((SUM($F32:FX32)+0.1<SUM($G18:FX18)),SUM($G18:FX18)/$E32,0),)","v":0},{"$f":"IF(FZ$6>0,IF((SUM($F32:FY32)+0.1<SUM($G18:FY18)),SUM($G18:FY18)/$E32,0),)","v":0},{"$f":"IF(GA$6>0,IF((SUM($F32:FZ32)+0.1<SUM($G18:FZ18)),SUM($G18:FZ18)/$E32,0),)","v":0},{"$f":"IF(GB$6>0,IF((SUM($F32:GA32)+0.1<SUM($G18:GA18)),SUM($G18:GA18)/$E32,0),)","v":0},{"$f":"IF(GC$6>0,IF((SUM($F32:GB32)+0.1<SUM($G18:GB18)),SUM($G18:GB18)/$E32,0),)","v":0},{"$f":"IF(GD$6>0,IF((SUM($F32:GC32)+0.1<SUM($G18:GC18)),SUM($G18:GC18)/$E32,0),)","v":0},{"$f":"IF(GE$6>0,IF((SUM($F32:GD32)+0.1<SUM($G18:GD18)),SUM($G18:GD18)/$E32,0),)","v":0},{"$f":"IF(GF$6>0,IF((SUM($F32:GE32)+0.1<SUM($G18:GE18)),SUM($G18:GE18)/$E32,0),)","v":0},{"$f":"IF(GG$6>0,IF((SUM($F32:GF32)+0.1<SUM($G18:GF18)),SUM($G18:GF18)/$E32,0),)","v":0},{"$f":"IF(GH$6>0,IF((SUM($F32:GG32)+0.1<SUM($G18:GG18)),SUM($G18:GG18)/$E32,0),)","v":0},{"$f":"IF(GI$6>0,IF((SUM($F32:GH32)+0.1<SUM($G18:GH18)),SUM($G18:GH18)/$E32,0),)","v":0},{"$f":"IF(GJ$6>0,IF((SUM($F32:GI32)+0.1<SUM($G18:GI18)),SUM($G18:GI18)/$E32,0),)","v":0},{"$f":"IF(GK$6>0,IF((SUM($F32:GJ32)+0.1<SUM($G18:GJ18)),SUM($G18:GJ18)/$E32,0),)","v":0},{"$f":"IF(GL$6>0,IF((SUM($F32:GK32)+0.1<SUM($G18:GK18)),SUM($G18:GK18)/$E32,0),)","v":0},{"$f":"IF(GM$6>0,IF((SUM($F32:GL32)+0.1<SUM($G18:GL18)),SUM($G18:GL18)/$E32,0),)","v":0},{"$f":"IF(GN$6>0,IF((SUM($F32:GM32)+0.1<SUM($G18:GM18)),SUM($G18:GM18)/$E32,0),)","v":0},{"$f":"IF(GO$6>0,IF((SUM($F32:GN32)+0.1<SUM($G18:GN18)),SUM($G18:GN18)/$E32,0),)","v":0},{"$f":"IF(GP$6>0,IF((SUM($F32:GO32)+0.1<SUM($G18:GO18)),SUM($G18:GO18)/$E32,0),)","v":0},{"$f":"IF(GQ$6>0,IF((SUM($F32:GP32)+0.1<SUM($G18:GP18)),SUM($G18:GP18)/$E32,0),)","v":0},{"$f":"IF(GR$6>0,IF((SUM($F32:GQ32)+0.1<SUM($G18:GQ18)),SUM($G18:GQ18)/$E32,0),)","v":0},{"$f":"IF(GS$6>0,IF((SUM($F32:GR32)+0.1<SUM($G18:GR18)),SUM($G18:GR18)/$E32,0),)","v":0},{"$f":"IF(GT$6>0,IF((SUM($F32:GS32)+0.1<SUM($G18:GS18)),SUM($G18:GS18)/$E32,0),)","v":0},{"$f":"IF(GU$6>0,IF((SUM($F32:GT32)+0.1<SUM($G18:GT18)),SUM($G18:GT18)/$E32,0),)","v":0},{"$f":"IF(GV$6>0,IF((SUM($F32:GU32)+0.1<SUM($G18:GU18)),SUM($G18:GU18)/$E32,0),)","v":0},{"$f":"IF(GW$6>0,IF((SUM($F32:GV32)+0.1<SUM($G18:GV18)),SUM($G18:GV18)/$E32,0),)","v":0},{"$f":"IF(GX$6>0,IF((SUM($F32:GW32)+0.1<SUM($G18:GW18)),SUM($G18:GW18)/$E32,0),)","v":0},{"$f":"IF(GY$6>0,IF((SUM($F32:GX32)+0.1<SUM($G18:GX18)),SUM($G18:GX18)/$E32,0),)","v":0},{"$f":"IF(GZ$6>0,IF((SUM($F32:GY32)+0.1<SUM($G18:GY18)),SUM($G18:GY18)/$E32,0),)","v":0},{"$f":"IF(HA$6>0,IF((SUM($F32:GZ32)+0.1<SUM($G18:GZ18)),SUM($G18:GZ18)/$E32,0),)","v":0},{"$f":"IF(HB$6>0,IF((SUM($F32:HA32)+0.1<SUM($G18:HA18)),SUM($G18:HA18)/$E32,0),)","v":0},{"$f":"IF(HC$6>0,IF((SUM($F32:HB32)+0.1<SUM($G18:HB18)),SUM($G18:HB18)/$E32,0),)","v":0},{"$f":"IF(HD$6>0,IF((SUM($F32:HC32)+0.1<SUM($G18:HC18)),SUM($G18:HC18)/$E32,0),)","v":0},{"$f":"IF(HE$6>0,IF((SUM($F32:HD32)+0.1<SUM($G18:HD18)),SUM($G18:HD18)/$E32,0),)","v":0},{"$f":"IF(HF$6>0,IF((SUM($F32:HE32)+0.1<SUM($G18:HE18)),SUM($G18:HE18)/$E32,0),)","v":0},{"$f":"IF(HG$6>0,IF((SUM($F32:HF32)+0.1<SUM($G18:HF18)),SUM($G18:HF18)/$E32,0),)","v":0},{"$f":"IF(HH$6>0,IF((SUM($F32:HG32)+0.1<SUM($G18:HG18)),SUM($G18:HG18)/$E32,0),)","v":0},{"$f":"IF(HI$6>0,IF((SUM($F32:HH32)+0.1<SUM($G18:HH18)),SUM($G18:HH18)/$E32,0),)","v":0},{"$f":"IF(HJ$6>0,IF((SUM($F32:HI32)+0.1<SUM($G18:HI18)),SUM($G18:HI18)/$E32,0),)","v":0},{"$f":"IF(HK$6>0,IF((SUM($F32:HJ32)+0.1<SUM($G18:HJ18)),SUM($G18:HJ18)/$E32,0),)","v":0},{"$f":"IF(HL$6>0,IF((SUM($F32:HK32)+0.1<SUM($G18:HK18)),SUM($G18:HK18)/$E32,0),)","v":0},{"$f":"IF(HM$6>0,IF((SUM($F32:HL32)+0.1<SUM($G18:HL18)),SUM($G18:HL18)/$E32,0),)","v":0},{"$f":"IF(HN$6>0,IF((SUM($F32:HM32)+0.1<SUM($G18:HM18)),SUM($G18:HM18)/$E32,0),)","v":0},{"$f":"IF(HO$6>0,IF((SUM($F32:HN32)+0.1<SUM($G18:HN18)),SUM($G18:HN18)/$E32,0),)","v":0},{"$f":"IF(HP$6>0,IF((SUM($F32:HO32)+0.1<SUM($G18:HO18)),SUM($G18:HO18)/$E32,0),)","v":0},{"$f":"IF(HQ$6>0,IF((SUM($F32:HP32)+0.1<SUM($G18:HP18)),SUM($G18:HP18)/$E32,0),)","v":0},{"$f":"IF(HR$6>0,IF((SUM($F32:HQ32)+0.1<SUM($G18:HQ18)),SUM($G18:HQ18)/$E32,0),)","v":0},{"$f":"IF(HS$6>0,IF((SUM($F32:HR32)+0.1<SUM($G18:HR18)),SUM($G18:HR18)/$E32,0),)","v":0},{"$f":"IF(HT$6>0,IF((SUM($F32:HS32)+0.1<SUM($G18:HS18)),SUM($G18:HS18)/$E32,0),)","v":0},{"$f":"IF(HU$6>0,IF((SUM($F32:HT32)+0.1<SUM($G18:HT18)),SUM($G18:HT18)/$E32,0),)","v":0},{"$f":"IF(HV$6>0,IF((SUM($F32:HU32)+0.1<SUM($G18:HU18)),SUM($G18:HU18)/$E32,0),)","v":0},{"$f":"IF(HW$6>0,IF((SUM($F32:HV32)+0.1<SUM($G18:HV18)),SUM($G18:HV18)/$E32,0),)","v":0},{"$f":"IF(HX$6>0,IF((SUM($F32:HW32)+0.1<SUM($G18:HW18)),SUM($G18:HW18)/$E32,0),)","v":0},{"$f":"IF(HY$6>0,IF((SUM($F32:HX32)+0.1<SUM($G18:HX18)),SUM($G18:HX18)/$E32,0),)","v":0},{"$f":"IF(HZ$6>0,IF((SUM($F32:HY32)+0.1<SUM($G18:HY18)),SUM($G18:HY18)/$E32,0),)","v":0},{"$f":"IF(IA$6>0,IF((SUM($F32:HZ32)+0.1<SUM($G18:HZ18)),SUM($G18:HZ18)/$E32,0),)","v":0},{"$f":"IF(IB$6>0,IF((SUM($F32:IA32)+0.1<SUM($G18:IA18)),SUM($G18:IA18)/$E32,0),)","v":0},{"$f":"IF(IC$6>0,IF((SUM($F32:IB32)+0.1<SUM($G18:IB18)),SUM($G18:IB18)/$E32,0),)","v":0},{"$f":"IF(ID$6>0,IF((SUM($F32:IC32)+0.1<SUM($G18:IC18)),SUM($G18:IC18)/$E32,0),)","v":0},{"$f":"IF(IE$6>0,IF((SUM($F32:ID32)+0.1<SUM($G18:ID18)),SUM($G18:ID18)/$E32,0),)","v":0},{"$f":"IF(IF$6>0,IF((SUM($F32:IE32)+0.1<SUM($G18:IE18)),SUM($G18:IE18)/$E32,0),)","v":0},{"$f":"IF(IG$6>0,IF((SUM($F32:IF32)+0.1<SUM($G18:IF18)),SUM($G18:IF18)/$E32,0),)","v":0},{"$f":"IF(IH$6>0,IF((SUM($F32:IG32)+0.1<SUM($G18:IG18)),SUM($G18:IG18)/$E32,0),)","v":0},{"$f":"IF(II$6>0,IF((SUM($F32:IH32)+0.1<SUM($G18:IH18)),SUM($G18:IH18)/$E32,0),)","v":0},{"$f":"IF(IJ$6>0,IF((SUM($F32:II32)+0.1<SUM($G18:II18)),SUM($G18:II18)/$E32,0),)","v":0},{"$f":"IF(IK$6>0,IF((SUM($F32:IJ32)+0.1<SUM($G18:IJ18)),SUM($G18:IJ18)/$E32,0),)","v":0},{"$f":"IF(IL$6>0,IF((SUM($F32:IK32)+0.1<SUM($G18:IK18)),SUM($G18:IK18)/$E32,0),)","v":0},{"$f":"IF(IM$6>0,IF((SUM($F32:IL32)+0.1<SUM($G18:IL18)),SUM($G18:IL18)/$E32,0),)","v":0},{"$f":"IF(IN$6>0,IF((SUM($F32:IM32)+0.1<SUM($G18:IM18)),SUM($G18:IM18)/$E32,0),)","v":0},{"$f":"IF(IO$6>0,IF((SUM($F32:IN32)+0.1<SUM($G18:IN18)),SUM($G18:IN18)/$E32,0),)","v":0},{"$f":"IF(IP$6>0,IF((SUM($F32:IO32)+0.1<SUM($G18:IO18)),SUM($G18:IO18)/$E32,0),)","v":0},{"$f":"IF(IQ$6>0,IF((SUM($F32:IP32)+0.1<SUM($G18:IP18)),SUM($G18:IP18)/$E32,0),)","v":0},{"$f":"IF(IR$6>0,IF((SUM($F32:IQ32)+0.1<SUM($G18:IQ18)),SUM($G18:IQ18)/$E32,0),)","v":0},{"$f":"IF(IS$6>0,IF((SUM($F32:IR32)+0.1<SUM($G18:IR18)),SUM($G18:IR18)/$E32,0),)","v":0},{"$f":"IF(IT$6>0,IF((SUM($F32:IS32)+0.1<SUM($G18:IS18)),SUM($G18:IS18)/$E32,0),)","v":0},{"$f":"IF(IU$6>0,IF((SUM($F32:IT32)+0.1<SUM($G18:IT18)),SUM($G18:IT18)/$E32,0),)","v":0},{"$f":"IF(IV$6>0,IF((SUM($F32:IU32)+0.1<SUM($G18:IU18)),SUM($G18:IU18)/$E32,0),)","v":0},{"$f":"IF(IW$6>0,IF((SUM($F32:IV32)+0.1<SUM($G18:IV18)),SUM($G18:IV18)/$E32,0),)","v":0},{"$f":"IF(IX$6>0,IF((SUM($F32:IW32)+0.1<SUM($G18:IW18)),SUM($G18:IW18)/$E32,0),)","v":0},{"$f":"IF(IY$6>0,IF((SUM($F32:IX32)+0.1<SUM($G18:IX18)),SUM($G18:IX18)/$E32,0),)","v":0},{"$f":"IF(IZ$6>0,IF((SUM($F32:IY32)+0.1<SUM($G18:IY18)),SUM($G18:IY18)/$E32,0),)","v":0},{"$f":"IF(JA$6>0,IF((SUM($F32:IZ32)+0.1<SUM($G18:IZ18)),SUM($G18:IZ18)/$E32,0),)","v":0},{"$f":"IF(JB$6>0,IF((SUM($F32:JA32)+0.1<SUM($G18:JA18)),SUM($G18:JA18)/$E32,0),)","v":0},{"$f":"IF(JC$6>0,IF((SUM($F32:JB32)+0.1<SUM($G18:JB18)),SUM($G18:JB18)/$E32,0),)","v":0},{"$f":"IF(JD$6>0,IF((SUM($F32:JC32)+0.1<SUM($G18:JC18)),SUM($G18:JC18)/$E32,0),)","v":0},{"$f":"IF(JE$6>0,IF((SUM($F32:JD32)+0.1<SUM($G18:JD18)),SUM($G18:JD18)/$E32,0),)","v":0},{"$f":"IF(JF$6>0,IF((SUM($F32:JE32)+0.1<SUM($G18:JE18)),SUM($G18:JE18)/$E32,0),)","v":0},{"$f":"IF(JG$6>0,IF((SUM($F32:JF32)+0.1<SUM($G18:JF18)),SUM($G18:JF18)/$E32,0),)","v":0},{"$f":"IF(JH$6>0,IF((SUM($F32:JG32)+0.1<SUM($G18:JG18)),SUM($G18:JG18)/$E32,0),)","v":0},{"$f":"IF(JI$6>0,IF((SUM($F32:JH32)+0.1<SUM($G18:JH18)),SUM($G18:JH18)/$E32,0),)","v":0},{"$f":"IF(JJ$6>0,IF((SUM($F32:JI32)+0.1<SUM($G18:JI18)),SUM($G18:JI18)/$E32,0),)","v":0},{"$f":"IF(JK$6>0,IF((SUM($F32:JJ32)+0.1<SUM($G18:JJ18)),SUM($G18:JJ18)/$E32,0),)","v":0},{"$f":"IF(JL$6>0,IF((SUM($F32:JK32)+0.1<SUM($G18:JK18)),SUM($G18:JK18)/$E32,0),)","v":0},{"$f":"IF(JM$6>0,IF((SUM($F32:JL32)+0.1<SUM($G18:JL18)),SUM($G18:JL18)/$E32,0),)","v":0},{"$f":"IF(JN$6>0,IF((SUM($F32:JM32)+0.1<SUM($G18:JM18)),SUM($G18:JM18)/$E32,0),)","v":0},{"$f":"IF(JO$6>0,IF((SUM($F32:JN32)+0.1<SUM($G18:JN18)),SUM($G18:JN18)/$E32,0),)","v":0},{"$f":"IF(JP$6>0,IF((SUM($F32:JO32)+0.1<SUM($G18:JO18)),SUM($G18:JO18)/$E32,0),)","v":0},{"$f":"IF(JQ$6>0,IF((SUM($F32:JP32)+0.1<SUM($G18:JP18)),SUM($G18:JP18)/$E32,0),)","v":0},{"$f":"IF(JR$6>0,IF((SUM($F32:JQ32)+0.1<SUM($G18:JQ18)),SUM($G18:JQ18)/$E32,0),)","v":0},{"$f":"IF(JS$6>0,IF((SUM($F32:JR32)+0.1<SUM($G18:JR18)),SUM($G18:JR18)/$E32,0),)","v":0},{"$f":"IF(JT$6>0,IF((SUM($F32:JS32)+0.1<SUM($G18:JS18)),SUM($G18:JS18)/$E32,0),)","v":0},{"$f":"IF(JU$6>0,IF((SUM($F32:JT32)+0.1<SUM($G18:JT18)),SUM($G18:JT18)/$E32,0),)","v":0},{"$f":"IF(JV$6>0,IF((SUM($F32:JU32)+0.1<SUM($G18:JU18)),SUM($G18:JU18)/$E32,0),)","v":0},{"$f":"IF(JW$6>0,IF((SUM($F32:JV32)+0.1<SUM($G18:JV18)),SUM($G18:JV18)/$E32,0),)","v":0},{"$f":"IF(JX$6>0,IF((SUM($F32:JW32)+0.1<SUM($G18:JW18)),SUM($G18:JW18)/$E32,0),)","v":0},{"$f":"IF(JY$6>0,IF((SUM($F32:JX32)+0.1<SUM($G18:JX18)),SUM($G18:JX18)/$E32,0),)","v":0},{"$f":"IF(JZ$6>0,IF((SUM($F32:JY32)+0.1<SUM($G18:JY18)),SUM($G18:JY18)/$E32,0),)","v":0},{"$f":"IF(KA$6>0,IF((SUM($F32:JZ32)+0.1<SUM($G18:JZ18)),SUM($G18:JZ18)/$E32,0),)","v":0},{"$f":"IF(KB$6>0,IF((SUM($F32:KA32)+0.1<SUM($G18:KA18)),SUM($G18:KA18)/$E32,0),)","v":0},{"$f":"IF(KC$6>0,IF((SUM($F32:KB32)+0.1<SUM($G18:KB18)),SUM($G18:KB18)/$E32,0),)","v":0},{"$f":"IF(KD$6>0,IF((SUM($F32:KC32)+0.1<SUM($G18:KC18)),SUM($G18:KC18)/$E32,0),)","v":0},{"$f":"IF(KE$6>0,IF((SUM($F32:KD32)+0.1<SUM($G18:KD18)),SUM($G18:KD18)/$E32,0),)","v":0},{"$f":"IF(KF$6>0,IF((SUM($F32:KE32)+0.1<SUM($G18:KE18)),SUM($G18:KE18)/$E32,0),)","v":0},{"$f":"IF(KG$6>0,IF((SUM($F32:KF32)+0.1<SUM($G18:KF18)),SUM($G18:KF18)/$E32,0),)","v":0},{"$f":"IF(KH$6>0,IF((SUM($F32:KG32)+0.1<SUM($G18:KG18)),SUM($G18:KG18)/$E32,0),)","v":0},{"$f":"IF(KI$6>0,IF((SUM($F32:KH32)+0.1<SUM($G18:KH18)),SUM($G18:KH18)/$E32,0),)","v":0},{"$f":"IF(KJ$6>0,IF((SUM($F32:KI32)+0.1<SUM($G18:KI18)),SUM($G18:KI18)/$E32,0),)","v":0},{"$f":"IF(KK$6>0,IF((SUM($F32:KJ32)+0.1<SUM($G18:KJ18)),SUM($G18:KJ18)/$E32,0),)","v":0},{"$f":"IF(KL$6>0,IF((SUM($F32:KK32)+0.1<SUM($G18:KK18)),SUM($G18:KK18)/$E32,0),)","v":0},{"$f":"IF(KM$6>0,IF((SUM($F32:KL32)+0.1<SUM($G18:KL18)),SUM($G18:KL18)/$E32,0),)","v":0},{"$f":"IF(KN$6>0,IF((SUM($F32:KM32)+0.1<SUM($G18:KM18)),SUM($G18:KM18)/$E32,0),)","v":0},{"$f":"IF(KO$6>0,IF((SUM($F32:KN32)+0.1<SUM($G18:KN18)),SUM($G18:KN18)/$E32,0),)","v":0},{"$f":"IF(KP$6>0,IF((SUM($F32:KO32)+0.1<SUM($G18:KO18)),SUM($G18:KO18)/$E32,0),)","v":0},{"$f":"IF(KQ$6>0,IF((SUM($F32:KP32)+0.1<SUM($G18:KP18)),SUM($G18:KP18)/$E32,0),)","v":0},{"$f":"IF(KR$6>0,IF((SUM($F32:KQ32)+0.1<SUM($G18:KQ18)),SUM($G18:KQ18)/$E32,0),)","v":0},{"$f":"IF(KS$6>0,IF((SUM($F32:KR32)+0.1<SUM($G18:KR18)),SUM($G18:KR18)/$E32,0),)","v":0},{"$f":"IF(KT$6>0,IF((SUM($F32:KS32)+0.1<SUM($G18:KS18)),SUM($G18:KS18)/$E32,0),)","v":0},{"$f":"IF(KU$6>0,IF((SUM($F32:KT32)+0.1<SUM($G18:KT18)),SUM($G18:KT18)/$E32,0),)","v":0},{"$f":"IF(KV$6>0,IF((SUM($F32:KU32)+0.1<SUM($G18:KU18)),SUM($G18:KU18)/$E32,0),)","v":0},{"$f":"IF(KW$6>0,IF((SUM($F32:KV32)+0.1<SUM($G18:KV18)),SUM($G18:KV18)/$E32,0),)","v":0},{"$f":"IF(KX$6>0,IF((SUM($F32:KW32)+0.1<SUM($G18:KW18)),SUM($G18:KW18)/$E32,0),)","v":0},{"$f":"IF(KY$6>0,IF((SUM($F32:KX32)+0.1<SUM($G18:KX18)),SUM($G18:KX18)/$E32,0),)","v":0},{"$f":"IF(KZ$6>0,IF((SUM($F32:KY32)+0.1<SUM($G18:KY18)),SUM($G18:KY18)/$E32,0),)","v":0},{"$f":"IF(LA$6>0,IF((SUM($F32:KZ32)+0.1<SUM($G18:KZ18)),SUM($G18:KZ18)/$E32,0),)","v":0},{"$f":"IF(LB$6>0,IF((SUM($F32:LA32)+0.1<SUM($G18:LA18)),SUM($G18:LA18)/$E32,0),)","v":0},{"$f":"IF(LC$6>0,IF((SUM($F32:LB32)+0.1<SUM($G18:LB18)),SUM($G18:LB18)/$E32,0),)","v":0},{"$f":"IF(LD$6>0,IF((SUM($F32:LC32)+0.1<SUM($G18:LC18)),SUM($G18:LC18)/$E32,0),)","v":0},{"$f":"IF(LE$6>0,IF((SUM($F32:LD32)+0.1<SUM($G18:LD18)),SUM($G18:LD18)/$E32,0),)","v":0},{"$f":"IF(LF$6>0,IF((SUM($F32:LE32)+0.1<SUM($G18:LE18)),SUM($G18:LE18)/$E32,0),)","v":0},{"$f":"IF(LG$6>0,IF((SUM($F32:LF32)+0.1<SUM($G18:LF18)),SUM($G18:LF18)/$E32,0),)","v":0},{"$f":"IF(LH$6>0,IF((SUM($F32:LG32)+0.1<SUM($G18:LG18)),SUM($G18:LG18)/$E32,0),)","v":0},{"$f":"IF(LI$6>0,IF((SUM($F32:LH32)+0.1<SUM($G18:LH18)),SUM($G18:LH18)/$E32,0),)","v":0},{"$f":"IF(LJ$6>0,IF((SUM($F32:LI32)+0.1<SUM($G18:LI18)),SUM($G18:LI18)/$E32,0),)","v":0},{"$f":"IF(LK$6>0,IF((SUM($F32:LJ32)+0.1<SUM($G18:LJ18)),SUM($G18:LJ18)/$E32,0),)","v":0},{"$f":"IF(LL$6>0,IF((SUM($F32:LK32)+0.1<SUM($G18:LK18)),SUM($G18:LK18)/$E32,0),)","v":0},{"$f":"IF(LM$6>0,IF((SUM($F32:LL32)+0.1<SUM($G18:LL18)),SUM($G18:LL18)/$E32,0),)","v":0},{"$f":"IF(LN$6>0,IF((SUM($F32:LM32)+0.1<SUM($G18:LM18)),SUM($G18:LM18)/$E32,0),)","v":0},{"$f":"IF(LO$6>0,IF((SUM($F32:LN32)+0.1<SUM($G18:LN18)),SUM($G18:LN18)/$E32,0),)","v":0},{"$f":"IF(LP$6>0,IF((SUM($F32:LO32)+0.1<SUM($G18:LO18)),SUM($G18:LO18)/$E32,0),)","v":0},{"$f":"IF(LQ$6>0,IF((SUM($F32:LP32)+0.1<SUM($G18:LP18)),SUM($G18:LP18)/$E32,0),)","v":0},{"$f":"IF(LR$6>0,IF((SUM($F32:LQ32)+0.1<SUM($G18:LQ18)),SUM($G18:LQ18)/$E32,0),)","v":0},{"$f":"IF(LS$6>0,IF((SUM($F32:LR32)+0.1<SUM($G18:LR18)),SUM($G18:LR18)/$E32,0),)","v":0},{"$f":"IF(LT$6>0,IF((SUM($F32:LS32)+0.1<SUM($G18:LS18)),SUM($G18:LS18)/$E32,0),)","v":0},{"$f":"IF(LU$6>0,IF((SUM($F32:LT32)+0.1<SUM($G18:LT18)),SUM($G18:LT18)/$E32,0),)","v":0},{"$f":"IF(LV$6>0,IF((SUM($F32:LU32)+0.1<SUM($G18:LU18)),SUM($G18:LU18)/$E32,0),)","v":0},{"$f":"IF(LW$6>0,IF((SUM($F32:LV32)+0.1<SUM($G18:LV18)),SUM($G18:LV18)/$E32,0),)","v":0},{"$f":"IF(LX$6>0,IF((SUM($F32:LW32)+0.1<SUM($G18:LW18)),SUM($G18:LW18)/$E32,0),)","v":0},{"$f":"IF(LY$6>0,IF((SUM($F32:LX32)+0.1<SUM($G18:LX18)),SUM($G18:LX18)/$E32,0),)","v":0},{"$f":"IF(LZ$6>0,IF((SUM($F32:LY32)+0.1<SUM($G18:LY18)),SUM($G18:LY18)/$E32,0),)","v":0},{"$f":"IF(MA$6>0,IF((SUM($F32:LZ32)+0.1<SUM($G18:LZ18)),SUM($G18:LZ18)/$E32,0),)","v":0},{"$f":"IF(MB$6>0,IF((SUM($F32:MA32)+0.1<SUM($G18:MA18)),SUM($G18:MA18)/$E32,0),)","v":0},{"$f":"IF(MC$6>0,IF((SUM($F32:MB32)+0.1<SUM($G18:MB18)),SUM($G18:MB18)/$E32,0),)","v":0},{"$f":"IF(MD$6>0,IF((SUM($F32:MC32)+0.1<SUM($G18:MC18)),SUM($G18:MC18)/$E32,0),)","v":0},{"$f":"IF(ME$6>0,IF((SUM($F32:MD32)+0.1<SUM($G18:MD18)),SUM($G18:MD18)/$E32,0),)","v":0},{"$f":"IF(MF$6>0,IF((SUM($F32:ME32)+0.1<SUM($G18:ME18)),SUM($G18:ME18)/$E32,0),)","v":0},{"$f":"IF(MG$6>0,IF((SUM($F32:MF32)+0.1<SUM($G18:MF18)),SUM($G18:MF18)/$E32,0),)","v":0},{"$f":"IF(MH$6>0,IF((SUM($F32:MG32)+0.1<SUM($G18:MG18)),SUM($G18:MG18)/$E32,0),)","v":0},{"$f":"IF(MI$6>0,IF((SUM($F32:MH32)+0.1<SUM($G18:MH18)),SUM($G18:MH18)/$E32,0),)","v":0},{"$f":"IF(MJ$6>0,IF((SUM($F32:MI32)+0.1<SUM($G18:MI18)),SUM($G18:MI18)/$E32,0),)","v":0},{"$f":"IF(MK$6>0,IF((SUM($F32:MJ32)+0.1<SUM($G18:MJ18)),SUM($G18:MJ18)/$E32,0),)","v":0},{"$f":"IF(ML$6>0,IF((SUM($F32:MK32)+0.1<SUM($G18:MK18)),SUM($G18:MK18)/$E32,0),)","v":0},{"$f":"IF(MM$6>0,IF((SUM($F32:ML32)+0.1<SUM($G18:ML18)),SUM($G18:ML18)/$E32,0),)","v":0},{"$f":"IF(MN$6>0,IF((SUM($F32:MM32)+0.1<SUM($G18:MM18)),SUM($G18:MM18)/$E32,0),)","v":0},{"$f":"IF(MO$6>0,IF((SUM($F32:MN32)+0.1<SUM($G18:MN18)),SUM($G18:MN18)/$E32,0),)","v":0},{"$f":"IF(MP$6>0,IF((SUM($F32:MO32)+0.1<SUM($G18:MO18)),SUM($G18:MO18)/$E32,0),)","v":0},{"$f":"IF(MQ$6>0,IF((SUM($F32:MP32)+0.1<SUM($G18:MP18)),SUM($G18:MP18)/$E32,0),)","v":0},{"$f":"IF(MR$6>0,IF((SUM($F32:MQ32)+0.1<SUM($G18:MQ18)),SUM($G18:MQ18)/$E32,0),)","v":0},{"$f":"IF(MS$6>0,IF((SUM($F32:MR32)+0.1<SUM($G18:MR18)),SUM($G18:MR18)/$E32,0),)","v":0},{"$f":"IF(MT$6>0,IF((SUM($F32:MS32)+0.1<SUM($G18:MS18)),SUM($G18:MS18)/$E32,0),)","v":0},{"$f":"IF(MU$6>0,IF((SUM($F32:MT32)+0.1<SUM($G18:MT18)),SUM($G18:MT18)/$E32,0),)","v":0},{"$f":"IF(MV$6>0,IF((SUM($F32:MU32)+0.1<SUM($G18:MU18)),SUM($G18:MU18)/$E32,0),)","v":0},{"$f":"IF(MW$6>0,IF((SUM($F32:MV32)+0.1<SUM($G18:MV18)),SUM($G18:MV18)/$E32,0),)","v":0},{"$f":"IF(MX$6>0,IF((SUM($F32:MW32)+0.1<SUM($G18:MW18)),SUM($G18:MW18)/$E32,0),)","v":0},{"$f":"IF(MY$6>0,IF((SUM($F32:MX32)+0.1<SUM($G18:MX18)),SUM($G18:MX18)/$E32,0),)","v":0},{"$f":"IF(MZ$6>0,IF((SUM($F32:MY32)+0.1<SUM($G18:MY18)),SUM($G18:MY18)/$E32,0),)","v":0},{"$f":"IF(NA$6>0,IF((SUM($F32:MZ32)+0.1<SUM($G18:MZ18)),SUM($G18:MZ18)/$E32,0),)","v":0},{"$f":"IF(NB$6>0,IF((SUM($F32:NA32)+0.1<SUM($G18:NA18)),SUM($G18:NA18)/$E32,0),)","v":0},{"$f":"IF(NC$6>0,IF((SUM($F32:NB32)+0.1<SUM($G18:NB18)),SUM($G18:NB18)/$E32,0),)","v":0},{"$f":"IF(ND$6>0,IF((SUM($F32:NC32)+0.1<SUM($G18:NC18)),SUM($G18:NC18)/$E32,0),)","v":0},{"$f":"IF(NE$6>0,IF((SUM($F32:ND32)+0.1<SUM($G18:ND18)),SUM($G18:ND18)/$E32,0),)","v":0},{"$f":"IF(NF$6>0,IF((SUM($F32:NE32)+0.1<SUM($G18:NE18)),SUM($G18:NE18)/$E32,0),)","v":0},{"$f":"IF(NG$6>0,IF((SUM($F32:NF32)+0.1<SUM($G18:NF18)),SUM($G18:NF18)/$E32,0),)","v":0},{"$f":"IF(NH$6>0,IF((SUM($F32:NG32)+0.1<SUM($G18:NG18)),SUM($G18:NG18)/$E32,0),)","v":0},{"$f":"IF(NI$6>0,IF((SUM($F32:NH32)+0.1<SUM($G18:NH18)),SUM($G18:NH18)/$E32,0),)","v":0},{"$f":"IF(NJ$6>0,IF((SUM($F32:NI32)+0.1<SUM($G18:NI18)),SUM($G18:NI18)/$E32,0),)","v":0},{"$f":"IF(NK$6>0,IF((SUM($F32:NJ32)+0.1<SUM($G18:NJ18)),SUM($G18:NJ18)/$E32,0),)","v":0},{"$f":"IF(NL$6>0,IF((SUM($F32:NK32)+0.1<SUM($G18:NK18)),SUM($G18:NK18)/$E32,0),)","v":0},{"$f":"IF(NM$6>0,IF((SUM($F32:NL32)+0.1<SUM($G18:NL18)),SUM($G18:NL18)/$E32,0),)","v":0},{"$f":"IF(NN$6>0,IF((SUM($F32:NM32)+0.1<SUM($G18:NM18)),SUM($G18:NM18)/$E32,0),)","v":0},{"$f":"IF(NO$6>0,IF((SUM($F32:NN32)+0.1<SUM($G18:NN18)),SUM($G18:NN18)/$E32,0),)","v":0},{"$f":"IF(NP$6>0,IF((SUM($F32:NO32)+0.1<SUM($G18:NO18)),SUM($G18:NO18)/$E32,0),)","v":0},{"$f":"IF(NQ$6>0,IF((SUM($F32:NP32)+0.1<SUM($G18:NP18)),SUM($G18:NP18)/$E32,0),)","v":0},{"$f":"IF(NR$6>0,IF((SUM($F32:NQ32)+0.1<SUM($G18:NQ18)),SUM($G18:NQ18)/$E32,0),)","v":0},{"$f":"IF(NS$6>0,IF((SUM($F32:NR32)+0.1<SUM($G18:NR18)),SUM($G18:NR18)/$E32,0),)","v":0},{"$f":"IF(NT$6>0,IF((SUM($F32:NS32)+0.1<SUM($G18:NS18)),SUM($G18:NS18)/$E32,0),)","v":0},{"$f":"IF(NU$6>0,IF((SUM($F32:NT32)+0.1<SUM($G18:NT18)),SUM($G18:NT18)/$E32,0),)","v":0},{"$f":"IF(NV$6>0,IF((SUM($F32:NU32)+0.1<SUM($G18:NU18)),SUM($G18:NU18)/$E32,0),)","v":0},{"$f":"IF(NW$6>0,IF((SUM($F32:NV32)+0.1<SUM($G18:NV18)),SUM($G18:NV18)/$E32,0),)","v":0},{"$f":"IF(NX$6>0,IF((SUM($F32:NW32)+0.1<SUM($G18:NW18)),SUM($G18:NW18)/$E32,0),)","v":0},{"$f":"IF(NY$6>0,IF((SUM($F32:NX32)+0.1<SUM($G18:NX18)),SUM($G18:NX18)/$E32,0),)","v":0},{"$f":"IF(NZ$6>0,IF((SUM($F32:NY32)+0.1<SUM($G18:NY18)),SUM($G18:NY18)/$E32,0),)","v":0},{"$f":"IF(OA$6>0,IF((SUM($F32:NZ32)+0.1<SUM($G18:NZ18)),SUM($G18:NZ18)/$E32,0),)","v":0},{"$f":"IF(OB$6>0,IF((SUM($F32:OA32)+0.1<SUM($G18:OA18)),SUM($G18:OA18)/$E32,0),)","v":0},{"$f":"IF(OC$6>0,IF((SUM($F32:OB32)+0.1<SUM($G18:OB18)),SUM($G18:OB18)/$E32,0),)","v":0},{"$f":"IF(OD$6>0,IF((SUM($F32:OC32)+0.1<SUM($G18:OC18)),SUM($G18:OC18)/$E32,0),)","v":0},{"$f":"IF(OE$6>0,IF((SUM($F32:OD32)+0.1<SUM($G18:OD18)),SUM($G18:OD18)/$E32,0),)","v":0},{"$f":"IF(OF$6>0,IF((SUM($F32:OE32)+0.1<SUM($G18:OE18)),SUM($G18:OE18)/$E32,0),)","v":0},{"$f":"IF(OG$6>0,IF((SUM($F32:OF32)+0.1<SUM($G18:OF18)),SUM($G18:OF18)/$E32,0),)","v":0},{"$f":"IF(OH$6>0,IF((SUM($F32:OG32)+0.1<SUM($G18:OG18)),SUM($G18:OG18)/$E32,0),)","v":0},{"$f":"IF(OI$6>0,IF((SUM($F32:OH32)+0.1<SUM($G18:OH18)),SUM($G18:OH18)/$E32,0),)","v":0},{"$f":"IF(OJ$6>0,IF((SUM($F32:OI32)+0.1<SUM($G18:OI18)),SUM($G18:OI18)/$E32,0),)","v":0},{"$f":"IF(OK$6>0,IF((SUM($F32:OJ32)+0.1<SUM($G18:OJ18)),SUM($G18:OJ18)/$E32,0),)","v":0},{"$f":"IF(OL$6>0,IF((SUM($F32:OK32)+0.1<SUM($G18:OK18)),SUM($G18:OK18)/$E32,0),)","v":0},{"$f":"IF(OM$6>0,IF((SUM($F32:OL32)+0.1<SUM($G18:OL18)),SUM($G18:OL18)/$E32,0),)","v":0},{"$f":"IF(ON$6>0,IF((SUM($F32:OM32)+0.1<SUM($G18:OM18)),SUM($G18:OM18)/$E32,0),)","v":0},{"$f":"IF(OO$6>0,IF((SUM($F32:ON32)+0.1<SUM($G18:ON18)),SUM($G18:ON18)/$E32,0),)","v":0},{"$f":"IF(OP$6>0,IF((SUM($F32:OO32)+0.1<SUM($G18:OO18)),SUM($G18:OO18)/$E32,0),)","v":0},{"$f":"IF(OQ$6>0,IF((SUM($F32:OP32)+0.1<SUM($G18:OP18)),SUM($G18:OP18)/$E32,0),)","v":0},{"$f":"IF(OR$6>0,IF((SUM($F32:OQ32)+0.1<SUM($G18:OQ18)),SUM($G18:OQ18)/$E32,0),)","v":0},{"$f":"IF(OS$6>0,IF((SUM($F32:OR32)+0.1<SUM($G18:OR18)),SUM($G18:OR18)/$E32,0),)","v":0},{"$f":"IF(OT$6>0,IF((SUM($F32:OS32)+0.1<SUM($G18:OS18)),SUM($G18:OS18)/$E32,0),)","v":0},{"$f":"IF(OU$6>0,IF((SUM($F32:OT32)+0.1<SUM($G18:OT18)),SUM($G18:OT18)/$E32,0),)","v":0},{"$f":"IF(OV$6>0,IF((SUM($F32:OU32)+0.1<SUM($G18:OU18)),SUM($G18:OU18)/$E32,0),)","v":0},{"$f":"IF(OW$6>0,IF((SUM($F32:OV32)+0.1<SUM($G18:OV18)),SUM($G18:OV18)/$E32,0),)","v":0},{"$f":"IF(OX$6>0,IF((SUM($F32:OW32)+0.1<SUM($G18:OW18)),SUM($G18:OW18)/$E32,0),)","v":0},{"$f":"IF(OY$6>0,IF((SUM($F32:OX32)+0.1<SUM($G18:OX18)),SUM($G18:OX18)/$E32,0),)","v":0},{"$f":"IF(OZ$6>0,IF((SUM($F32:OY32)+0.1<SUM($G18:OY18)),SUM($G18:OY18)/$E32,0),)","v":0},{"$f":"IF(PA$6>0,IF((SUM($F32:OZ32)+0.1<SUM($G18:OZ18)),SUM($G18:OZ18)/$E32,0),)","v":0},{"$f":"IF(PB$6>0,IF((SUM($F32:PA32)+0.1<SUM($G18:PA18)),SUM($G18:PA18)/$E32,0),)","v":0},{"$f":"IF(PC$6>0,IF((SUM($F32:PB32)+0.1<SUM($G18:PB18)),SUM($G18:PB18)/$E32,0),)","v":0},{"$f":"IF(PD$6>0,IF((SUM($F32:PC32)+0.1<SUM($G18:PC18)),SUM($G18:PC18)/$E32,0),)","v":0},{"$f":"IF(PE$6>0,IF((SUM($F32:PD32)+0.1<SUM($G18:PD18)),SUM($G18:PD18)/$E32,0),)","v":0},{"$f":"IF(PF$6>0,IF((SUM($F32:PE32)+0.1<SUM($G18:PE18)),SUM($G18:PE18)/$E32,0),)","v":0},{"$f":"IF(PG$6>0,IF((SUM($F32:PF32)+0.1<SUM($G18:PF18)),SUM($G18:PF18)/$E32,0),)","v":0},{"$f":"IF(PH$6>0,IF((SUM($F32:PG32)+0.1<SUM($G18:PG18)),SUM($G18:PG18)/$E32,0),)","v":0},{"$f":"IF(PI$6>0,IF((SUM($F32:PH32)+0.1<SUM($G18:PH18)),SUM($G18:PH18)/$E32,0),)","v":0},{"$f":"IF(PJ$6>0,IF((SUM($F32:PI32)+0.1<SUM($G18:PI18)),SUM($G18:PI18)/$E32,0),)","v":0},{"$f":"IF(PK$6>0,IF((SUM($F32:PJ32)+0.1<SUM($G18:PJ18)),SUM($G18:PJ18)/$E32,0),)","v":0},{"$f":"IF(PL$6>0,IF((SUM($F32:PK32)+0.1<SUM($G18:PK18)),SUM($G18:PK18)/$E32,0),)","v":0},{"$f":"IF(PM$6>0,IF((SUM($F32:PL32)+0.1<SUM($G18:PL18)),SUM($G18:PL18)/$E32,0),)","v":0},{"$f":"IF(PN$6>0,IF((SUM($F32:PM32)+0.1<SUM($G18:PM18)),SUM($G18:PM18)/$E32,0),)","v":0},{"$f":"IF(PO$6>0,IF((SUM($F32:PN32)+0.1<SUM($G18:PN18)),SUM($G18:PN18)/$E32,0),)","v":0},{"$f":"IF(PP$6>0,IF((SUM($F32:PO32)+0.1<SUM($G18:PO18)),SUM($G18:PO18)/$E32,0),)","v":0},{"$f":"IF(PQ$6>0,IF((SUM($F32:PP32)+0.1<SUM($G18:PP18)),SUM($G18:PP18)/$E32,0),)","v":0},{"$f":"IF(PR$6>0,IF((SUM($F32:PQ32)+0.1<SUM($G18:PQ18)),SUM($G18:PQ18)/$E32,0),)","v":0},{"$f":"IF(PS$6>0,IF((SUM($F32:PR32)+0.1<SUM($G18:PR18)),SUM($G18:PR18)/$E32,0),)","v":0},{"$f":"IF(PT$6>0,IF((SUM($F32:PS32)+0.1<SUM($G18:PS18)),SUM($G18:PS18)/$E32,0),)","v":0},{"$f":"IF(PU$6>0,IF((SUM($F32:PT32)+0.1<SUM($G18:PT18)),SUM($G18:PT18)/$E32,0),)","v":0},{"$f":"IF(PV$6>0,IF((SUM($F32:PU32)+0.1<SUM($G18:PU18)),SUM($G18:PU18)/$E32,0),)","v":0},{"$f":"IF(PW$6>0,IF((SUM($F32:PV32)+0.1<SUM($G18:PV18)),SUM($G18:PV18)/$E32,0),)","v":0},{"$f":"IF(PX$6>0,IF((SUM($F32:PW32)+0.1<SUM($G18:PW18)),SUM($G18:PW18)/$E32,0),)","v":0},{"$f":"IF(PY$6>0,IF((SUM($F32:PX32)+0.1<SUM($G18:PX18)),SUM($G18:PX18)/$E32,0),)","v":0},{"$f":"IF(PZ$6>0,IF((SUM($F32:PY32)+0.1<SUM($G18:PY18)),SUM($G18:PY18)/$E32,0),)","v":0},{"$f":"IF(QA$6>0,IF((SUM($F32:PZ32)+0.1<SUM($G18:PZ18)),SUM($G18:PZ18)/$E32,0),)","v":0},{"$f":"IF(QB$6>0,IF((SUM($F32:QA32)+0.1<SUM($G18:QA18)),SUM($G18:QA18)/$E32,0),)","v":0},{"$f":"IF(QC$6>0,IF((SUM($F32:QB32)+0.1<SUM($G18:QB18)),SUM($G18:QB18)/$E32,0),)","v":0},{"$f":"IF(QD$6>0,IF((SUM($F32:QC32)+0.1<SUM($G18:QC18)),SUM($G18:QC18)/$E32,0),)","v":0},{"$f":"IF(QE$6>0,IF((SUM($F32:QD32)+0.1<SUM($G18:QD18)),SUM($G18:QD18)/$E32,0),)","v":0},{"$f":"IF(QF$6>0,IF((SUM($F32:QE32)+0.1<SUM($G18:QE18)),SUM($G18:QE18)/$E32,0),)","v":0},{"$f":"IF(QG$6>0,IF((SUM($F32:QF32)+0.1<SUM($G18:QF18)),SUM($G18:QF18)/$E32,0),)","v":0},{"$f":"IF(QH$6>0,IF((SUM($F32:QG32)+0.1<SUM($G18:QG18)),SUM($G18:QG18)/$E32,0),)","v":0},{"$f":"IF(QI$6>0,IF((SUM($F32:QH32)+0.1<SUM($G18:QH18)),SUM($G18:QH18)/$E32,0),)","v":0},{"$f":"IF(QJ$6>0,IF((SUM($F32:QI32)+0.1<SUM($G18:QI18)),SUM($G18:QI18)/$E32,0),)","v":0},{"$f":"IF(QK$6>0,IF((SUM($F32:QJ32)+0.1<SUM($G18:QJ18)),SUM($G18:QJ18)/$E32,0),)","v":0},{"$f":"IF(QL$6>0,IF((SUM($F32:QK32)+0.1<SUM($G18:QK18)),SUM($G18:QK18)/$E32,0),)","v":0},{"$f":"IF(QM$6>0,IF((SUM($F32:QL32)+0.1<SUM($G18:QL18)),SUM($G18:QL18)/$E32,0),)","v":0},{"$f":"IF(QN$6>0,IF((SUM($F32:QM32)+0.1<SUM($G18:QM18)),SUM($G18:QM18)/$E32,0),)","v":0},{"$f":"IF(QO$6>0,IF((SUM($F32:QN32)+0.1<SUM($G18:QN18)),SUM($G18:QN18)/$E32,0),)","v":0},{"$f":"IF(QP$6>0,IF((SUM($F32:QO32)+0.1<SUM($G18:QO18)),SUM($G18:QO18)/$E32,0),)","v":0},{"$f":"IF(QQ$6>0,IF((SUM($F32:QP32)+0.1<SUM($G18:QP18)),SUM($G18:QP18)/$E32,0),)","v":0},{"$f":"IF(QR$6>0,IF((SUM($F32:QQ32)+0.1<SUM($G18:QQ18)),SUM($G18:QQ18)/$E32,0),)","v":0},{"$f":"IF(QS$6>0,IF((SUM($F32:QR32)+0.1<SUM($G18:QR18)),SUM($G18:QR18)/$E32,0),)","v":0},{"$f":"IF(QT$6>0,IF((SUM($F32:QS32)+0.1<SUM($G18:QS18)),SUM($G18:QS18)/$E32,0),)","v":0},{"$f":"IF(QU$6>0,IF((SUM($F32:QT32)+0.1<SUM($G18:QT18)),SUM($G18:QT18)/$E32,0),)","v":0},{"$f":"IF(QV$6>0,IF((SUM($F32:QU32)+0.1<SUM($G18:QU18)),SUM($G18:QU18)/$E32,0),)","v":0},{"$f":"IF(QW$6>0,IF((SUM($F32:QV32)+0.1<SUM($G18:QV18)),SUM($G18:QV18)/$E32,0),)","v":0},{"$f":"IF(QX$6>0,IF((SUM($F32:QW32)+0.1<SUM($G18:QW18)),SUM($G18:QW18)/$E32,0),)","v":0},{"$f":"IF(QY$6>0,IF((SUM($F32:QX32)+0.1<SUM($G18:QX18)),SUM($G18:QX18)/$E32,0),)","v":0},{"$f":"IF(QZ$6>0,IF((SUM($F32:QY32)+0.1<SUM($G18:QY18)),SUM($G18:QY18)/$E32,0),)","v":0},{"$f":"IF(RA$6>0,IF((SUM($F32:QZ32)+0.1<SUM($G18:QZ18)),SUM($G18:QZ18)/$E32,0),)","v":0},{"$f":"IF(RB$6>0,IF((SUM($F32:RA32)+0.1<SUM($G18:RA18)),SUM($G18:RA18)/$E32,0),)","v":0},{"$f":"IF(RC$6>0,IF((SUM($F32:RB32)+0.1<SUM($G18:RB18)),SUM($G18:RB18)/$E32,0),)","v":0},{"$f":"IF(RD$6>0,IF((SUM($F32:RC32)+0.1<SUM($G18:RC18)),SUM($G18:RC18)/$E32,0),)","v":0},{"$f":"IF(RE$6>0,IF((SUM($F32:RD32)+0.1<SUM($G18:RD18)),SUM($G18:RD18)/$E32,0),)","v":0},{"$f":"IF(RF$6>0,IF((SUM($F32:RE32)+0.1<SUM($G18:RE18)),SUM($G18:RE18)/$E32,0),)","v":0}]
[null,0,0,0,0,null,{"$f":"IF(G$6>0,IF((SUM($F33:F33)+0.1<$C33),$C33/$E33,0),)","v":0},{"$f":"IF(H$6>0,IF((SUM($F33:G33)+0.1<SUM($G19:G19)),SUM($G19:G19)/$E33,0),)","v":0},{"$f":"IF(I$6>0,IF((SUM($F33:H33)+0.1<SUM($G19:H19)),SUM($G19:H19)/$E33,0),)","v":0},{"$f":"IF(J$6>0,IF((SUM($F33:I33)+0.1<SUM($G19:I19)),SUM($G19:I19)/$E33,0),)","v":0},{"$f":"IF(K$6>0,IF((SUM($F33:J33)+0.1<SUM($G19:J19)),SUM($G19:J19)/$E33,0),)","v":0},{"$f":"IF(L$6>0,IF((SUM($F33:K33)+0.1<SUM($G19:K19)),SUM($G19:K19)/$E33,0),)","v":0},{"$f":"IF(M$6>0,IF((SUM($F33:L33)+0.1<SUM($G19:L19)),SUM($G19:L19)/$E33,0),)","v":0},{"$f":"IF(N$6>0,IF((SUM($F33:M33)+0.1<SUM($G19:M19)),SUM($G19:M19)/$E33,0),)","v":0},{"$f":"IF(O$6>0,IF((SUM($F33:N33)+0.1<SUM($G19:N19)),SUM($G19:N19)/$E33,0),)","v":0},{"$f":"IF(P$6>0,IF((SUM($F33:O33)+0.1<SUM($G19:O19)),SUM($G19:O19)/$E33,0),)","v":0},{"$f":"IF(Q$6>0,IF((SUM($F33:P33)+0.1<SUM($G19:P19)),SUM($G19:P19)/$E33,0),)","v":0},{"$f":"IF(R$6>0,IF((SUM($F33:Q33)+0.1<SUM($G19:Q19)),SUM($G19:Q19)/$E33,0),)","v":0},{"$f":"IF(S$6>0,IF((SUM($F33:R33)+0.1<SUM($G19:R19)),SUM($G19:R19)/$E33,0),)","v":0},{"$f":"IF(T$6>0,IF((SUM($F33:S33)+0.1<SUM($G19:S19)),SUM($G19:S19)/$E33,0),)","v":0},{"$f":"IF(U$6>0,IF((SUM($F33:T33)+0.1<SUM($G19:T19)),SUM($G19:T19)/$E33,0),)","v":0},{"$f":"IF(V$6>0,IF((SUM($F33:U33)+0.1<SUM($G19:U19)),SUM($G19:U19)/$E33,0),)","v":0},{"$f":"IF(W$6>0,IF((SUM($F33:V33)+0.1<SUM($G19:V19)),SUM($G19:V19)/$E33,0),)","v":0},{"$f":"IF(X$6>0,IF((SUM($F33:W33)+0.1<SUM($G19:W19)),SUM($G19:W19)/$E33,0),)","v":0},{"$f":"IF(Y$6>0,IF((SUM($F33:X33)+0.1<SUM($G19:X19)),SUM($G19:X19)/$E33,0),)","v":0},{"$f":"IF(Z$6>0,IF((SUM($F33:Y33)+0.1<SUM($G19:Y19)),SUM($G19:Y19)/$E33,0),)","v":0},{"$f":"IF(AA$6>0,IF((SUM($F33:Z33)+0.1<SUM($G19:Z19)),SUM($G19:Z19)/$E33,0),)","v":0},{"$f":"IF(AB$6>0,IF((SUM($F33:AA33)+0.1<SUM($G19:AA19)),SUM($G19:AA19)/$E33,0),)","v":0},{"$f":"IF(AC$6>0,IF((SUM($F33:AB33)+0.1<SUM($G19:AB19)),SUM($G19:AB19)/$E33,0),)","v":0},{"$f":"IF(AD$6>0,IF((SUM($F33:AC33)+0.1<SUM($G19:AC19)),SUM($G19:AC19)/$E33,0),)","v":0},{"$f":"IF(AE$6>0,IF((SUM($F33:AD33)+0.1<SUM($G19:AD19)),SUM($G19:AD19)/$E33,0),)","v":0},{"$f":"IF(AF$6>0,IF((SUM($F33:AE33)+0.1<SUM($G19:AE19)),SUM($G19:AE19)/$E33,0),)","v":0},{"$f":"IF(AG$6>0,IF((SUM($F33:AF33)+0.1<SUM($G19:AF19)),SUM($G19:AF19)/$E33,0),)","v":0},{"$f":"IF(AH$6>0,IF((SUM($F33:AG33)+0.1<SUM($G19:AG19)),SUM($G19:AG19)/$E33,0),)","v":0},{"$f":"IF(AI$6>0,IF((SUM($F33:AH33)+0.1<SUM($G19:AH19)),SUM($G19:AH19)/$E33,0),)","v":0},{"$f":"IF(AJ$6>0,IF((SUM($F33:AI33)+0.1<SUM($G19:AI19)),SUM($G19:AI19)/$E33,0),)","v":0},{"$f":"IF(AK$6>0,IF((SUM($F33:AJ33)+0.1<SUM($G19:AJ19)),SUM($G19:AJ19)/$E33,0),)","v":0},{"$f":"IF(AL$6>0,IF((SUM($F33:AK33)+0.1<SUM($G19:AK19)),SUM($G19:AK19)/$E33,0),)","v":0},{"$f":"IF(AM$6>0,IF((SUM($F33:AL33)+0.1<SUM($G19:AL19)),SUM($G19:AL19)/$E33,0),)","v":0},{"$f":"IF(AN$6>0,IF((SUM($F33:AM33)+0.1<SUM($G19:AM19)),SUM($G19:AM19)/$E33,0),)","v":0},{"$f":"IF(AO$6>0,IF((SUM($F33:AN33)+0.1<SUM($G19:AN19)),SUM($G19:AN19)/$E33,0),)","v":0},{"$f":"IF(AP$6>0,IF((SUM($F33:AO33)+0.1<SUM($G19:AO19)),SUM($G19:AO19)/$E33,0),)","v":0},{"$f":"IF(AQ$6>0,IF((SUM($F33:AP33)+0.1<SUM($G19:AP19)),SUM($G19:AP19)/$E33,0),)","v":0},{"$f":"IF(AR$6>0,IF((SUM($F33:AQ33)+0.1<SUM($G19:AQ19)),SUM($G19:AQ19)/$E33,0),)","v":0},{"$f":"IF(AS$6>0,IF((SUM($F33:AR33)+0.1<SUM($G19:AR19)),SUM($G19:AR19)/$E33,0),)","v":0},{"$f":"IF(AT$6>0,IF((SUM($F33:AS33)+0.1<SUM($G19:AS19)),SUM($G19:AS19)/$E33,0),)","v":0},{"$f":"IF(AU$6>0,IF((SUM($F33:AT33)+0.1<SUM($G19:AT19)),SUM($G19:AT19)/$E33,0),)","v":0},{"$f":"IF(AV$6>0,IF((SUM($F33:AU33)+0.1<SUM($G19:AU19)),SUM($G19:AU19)/$E33,0),)","v":0},{"$f":"IF(AW$6>0,IF((SUM($F33:AV33)+0.1<SUM($G19:AV19)),SUM($G19:AV19)/$E33,0),)","v":0},{"$f":"IF(AX$6>0,IF((SUM($F33:AW33)+0.1<SUM($G19:AW19)),SUM($G19:AW19)/$E33,0),)","v":0},{"$f":"IF(AY$6>0,IF((SUM($F33:AX33)+0.1<SUM($G19:AX19)),SUM($G19:AX19)/$E33,0),)","v":0},{"$f":"IF(AZ$6>0,IF((SUM($F33:AY33)+0.1<SUM($G19:AY19)),SUM($G19:AY19)/$E33,0),)","v":0},{"$f":"IF(BA$6>0,IF((SUM($F33:AZ33)+0.1<SUM($G19:AZ19)),SUM($G19:AZ19)/$E33,0),)","v":0},{"$f":"IF(BB$6>0,IF((SUM($F33:BA33)+0.1<SUM($G19:BA19)),SUM($G19:BA19)/$E33,0),)","v":0},{"$f":"IF(BC$6>0,IF((SUM($F33:BB33)+0.1<SUM($G19:BB19)),SUM($G19:BB19)/$E33,0),)","v":0},{"$f":"IF(BD$6>0,IF((SUM($F33:BC33)+0.1<SUM($G19:BC19)),SUM($G19:BC19)/$E33,0),)","v":0},{"$f":"IF(BE$6>0,IF((SUM($F33:BD33)+0.1<SUM($G19:BD19)),SUM($G19:BD19)/$E33,0),)","v":0},{"$f":"IF(BF$6>0,IF((SUM($F33:BE33)+0.1<SUM($G19:BE19)),SUM($G19:BE19)/$E33,0),)","v":0},{"$f":"IF(BG$6>0,IF((SUM($F33:BF33)+0.1<SUM($G19:BF19)),SUM($G19:BF19)/$E33,0),)","v":0},{"$f":"IF(BH$6>0,IF((SUM($F33:BG33)+0.1<SUM($G19:BG19)),SUM($G19:BG19)/$E33,0),)","v":0},{"$f":"IF(BI$6>0,IF((SUM($F33:BH33)+0.1<SUM($G19:BH19)),SUM($G19:BH19)/$E33,0),)","v":0},{"$f":"IF(BJ$6>0,IF((SUM($F33:BI33)+0.1<SUM($G19:BI19)),SUM($G19:BI19)/$E33,0),)","v":0},{"$f":"IF(BK$6>0,IF((SUM($F33:BJ33)+0.1<SUM($G19:BJ19)),SUM($G19:BJ19)/$E33,0),)","v":0},{"$f":"IF(BL$6>0,IF((SUM($F33:BK33)+0.1<SUM($G19:BK19)),SUM($G19:BK19)/$E33,0),)","v":0},{"$f":"IF(BM$6>0,IF((SUM($F33:BL33)+0.1<SUM($G19:BL19)),SUM($G19:BL19)/$E33,0),)","v":0},{"$f":"IF(BN$6>0,IF((SUM($F33:BM33)+0.1<SUM($G19:BM19)),SUM($G19:BM19)/$E33,0),)","v":0},{"$f":"IF(BO$6>0,IF((SUM($F33:BN33)+0.1<SUM($G19:BN19)),SUM($G19:BN19)/$E33,0),)","v":0},{"$f":"IF(BP$6>0,IF((SUM($F33:BO33)+0.1<SUM($G19:BO19)),SUM($G19:BO19)/$E33,0),)","v":0},{"$f":"IF(BQ$6>0,IF((SUM($F33:BP33)+0.1<SUM($G19:BP19)),SUM($G19:BP19)/$E33,0),)","v":0},{"$f":"IF(BR$6>0,IF((SUM($F33:BQ33)+0.1<SUM($G19:BQ19)),SUM($G19:BQ19)/$E33,0),)","v":0},{"$f":"IF(BS$6>0,IF((SUM($F33:BR33)+0.1<SUM($G19:BR19)),SUM($G19:BR19)/$E33,0),)","v":0},{"$f":"IF(BT$6>0,IF((SUM($F33:BS33)+0.1<SUM($G19:BS19)),SUM($G19:BS19)/$E33,0),)","v":0},{"$f":"IF(BU$6>0,IF((SUM($F33:BT33)+0.1<SUM($G19:BT19)),SUM($G19:BT19)/$E33,0),)","v":0},{"$f":"IF(BV$6>0,IF((SUM($F33:BU33)+0.1<SUM($G19:BU19)),SUM($G19:BU19)/$E33,0),)","v":0},{"$f":"IF(BW$6>0,IF((SUM($F33:BV33)+0.1<SUM($G19:BV19)),SUM($G19:BV19)/$E33,0),)","v":0},{"$f":"IF(BX$6>0,IF((SUM($F33:BW33)+0.1<SUM($G19:BW19)),SUM($G19:BW19)/$E33,0),)","v":0},{"$f":"IF(BY$6>0,IF((SUM($F33:BX33)+0.1<SUM($G19:BX19)),SUM($G19:BX19)/$E33,0),)","v":0},{"$f":"IF(BZ$6>0,IF((SUM($F33:BY33)+0.1<SUM($G19:BY19)),SUM($G19:BY19)/$E33,0),)","v":0},{"$f":"IF(CA$6>0,IF((SUM($F33:BZ33)+0.1<SUM($G19:BZ19)),SUM($G19:BZ19)/$E33,0),)","v":0},{"$f":"IF(CB$6>0,IF((SUM($F33:CA33)+0.1<SUM($G19:CA19)),SUM($G19:CA19)/$E33,0),)","v":0},{"$f":"IF(CC$6>0,IF((SUM($F33:CB33)+0.1<SUM($G19:CB19)),SUM($G19:CB19)/$E33,0),)","v":0},{"$f":"IF(CD$6>0,IF((SUM($F33:CC33)+0.1<SUM($G19:CC19)),SUM($G19:CC19)/$E33,0),)","v":0},{"$f":"IF(CE$6>0,IF((SUM($F33:CD33)+0.1<SUM($G19:CD19)),SUM($G19:CD19)/$E33,0),)","v":0},{"$f":"IF(CF$6>0,IF((SUM($F33:CE33)+0.1<SUM($G19:CE19)),SUM($G19:CE19)/$E33,0),)","v":0},{"$f":"IF(CG$6>0,IF((SUM($F33:CF33)+0.1<SUM($G19:CF19)),SUM($G19:CF19)/$E33,0),)","v":0},{"$f":"IF(CH$6>0,IF((SUM($F33:CG33)+0.1<SUM($G19:CG19)),SUM($G19:CG19)/$E33,0),)","v":0},{"$f":"IF(CI$6>0,IF((SUM($F33:CH33)+0.1<SUM($G19:CH19)),SUM($G19:CH19)/$E33,0),)","v":0},{"$f":"IF(CJ$6>0,IF((SUM($F33:CI33)+0.1<SUM($G19:CI19)),SUM($G19:CI19)/$E33,0),)","v":0},{"$f":"IF(CK$6>0,IF((SUM($F33:CJ33)+0.1<SUM($G19:CJ19)),SUM($G19:CJ19)/$E33,0),)","v":0},{"$f":"IF(CL$6>0,IF((SUM($F33:CK33)+0.1<SUM($G19:CK19)),SUM($G19:CK19)/$E33,0),)","v":0},{"$f":"IF(CM$6>0,IF((SUM($F33:CL33)+0.1<SUM($G19:CL19)),SUM($G19:CL19)/$E33,0),)","v":0},{"$f":"IF(CN$6>0,IF((SUM($F33:CM33)+0.1<SUM($G19:CM19)),SUM($G19:CM19)/$E33,0),)","v":0},{"$f":"IF(CO$6>0,IF((SUM($F33:CN33)+0.1<SUM($G19:CN19)),SUM($G19:CN19)/$E33,0),)","v":0},{"$f":"IF(CP$6>0,IF((SUM($F33:CO33)+0.1<SUM($G19:CO19)),SUM($G19:CO19)/$E33,0),)","v":0},{"$f":"IF(CQ$6>0,IF((SUM($F33:CP33)+0.1<SUM($G19:CP19)),SUM($G19:CP19)/$E33,0),)","v":0},{"$f":"IF(CR$6>0,IF((SUM($F33:CQ33)+0.1<SUM($G19:CQ19)),SUM($G19:CQ19)/$E33,0),)","v":0},{"$f":"IF(CS$6>0,IF((SUM($F33:CR33)+0.1<SUM($G19:CR19)),SUM($G19:CR19)/$E33,0),)","v":0},{"$f":"IF(CT$6>0,IF((SUM($F33:CS33)+0.1<SUM($G19:CS19)),SUM($G19:CS19)/$E33,0),)","v":0},{"$f":"IF(CU$6>0,IF((SUM($F33:CT33)+0.1<SUM($G19:CT19)),SUM($G19:CT19)/$E33,0),)","v":0},{"$f":"IF(CV$6>0,IF((SUM($F33:CU33)+0.1<SUM($G19:CU19)),SUM($G19:CU19)/$E33,0),)","v":0},{"$f":"IF(CW$6>0,IF((SUM($F33:CV33)+0.1<SUM($G19:CV19)),SUM($G19:CV19)/$E33,0),)","v":0},{"$f":"IF(CX$6>0,IF((SUM($F33:CW33)+0.1<SUM($G19:CW19)),SUM($G19:CW19)/$E33,0),)","v":0},{"$f":"IF(CY$6>0,IF((SUM($F33:CX33)+0.1<SUM($G19:CX19)),SUM($G19:CX19)/$E33,0),)","v":0},{"$f":"IF(CZ$6>0,IF((SUM($F33:CY33)+0.1<SUM($G19:CY19)),SUM($G19:CY19)/$E33,0),)","v":0},{"$f":"IF(DA$6>0,IF((SUM($F33:CZ33)+0.1<SUM($G19:CZ19)),SUM($G19:CZ19)/$E33,0),)","v":0},{"$f":"IF(DB$6>0,IF((SUM($F33:DA33)+0.1<SUM($G19:DA19)),SUM($G19:DA19)/$E33,0),)","v":0},{"$f":"IF(DC$6>0,IF((SUM($F33:DB33)+0.1<SUM($G19:DB19)),SUM($G19:DB19)/$E33,0),)","v":0},{"$f":"IF(DD$6>0,IF((SUM($F33:DC33)+0.1<SUM($G19:DC19)),SUM($G19:DC19)/$E33,0),)","v":0},{"$f":"IF(DE$6>0,IF((SUM($F33:DD33)+0.1<SUM($G19:DD19)),SUM($G19:DD19)/$E33,0),)","v":0},{"$f":"IF(DF$6>0,IF((SUM($F33:DE33)+0.1<SUM($G19:DE19)),SUM($G19:DE19)/$E33,0),)","v":0},{"$f":"IF(DG$6>0,IF((SUM($F33:DF33)+0.1<SUM($G19:DF19)),SUM($G19:DF19)/$E33,0),)","v":0},{"$f":"IF(DH$6>0,IF((SUM($F33:DG33)+0.1<SUM($G19:DG19)),SUM($G19:DG19)/$E33,0),)","v":0},{"$f":"IF(DI$6>0,IF((SUM($F33:DH33)+0.1<SUM($G19:DH19)),SUM($G19:DH19)/$E33,0),)","v":0},{"$f":"IF(DJ$6>0,IF((SUM($F33:DI33)+0.1<SUM($G19:DI19)),SUM($G19:DI19)/$E33,0),)","v":0},{"$f":"IF(DK$6>0,IF((SUM($F33:DJ33)+0.1<SUM($G19:DJ19)),SUM($G19:DJ19)/$E33,0),)","v":0},{"$f":"IF(DL$6>0,IF((SUM($F33:DK33)+0.1<SUM($G19:DK19)),SUM($G19:DK19)/$E33,0),)","v":0},{"$f":"IF(DM$6>0,IF((SUM($F33:DL33)+0.1<SUM($G19:DL19)),SUM($G19:DL19)/$E33,0),)","v":0},{"$f":"IF(DN$6>0,IF((SUM($F33:DM33)+0.1<SUM($G19:DM19)),SUM($G19:DM19)/$E33,0),)","v":0},{"$f":"IF(DO$6>0,IF((SUM($F33:DN33)+0.1<SUM($G19:DN19)),SUM($G19:DN19)/$E33,0),)","v":0},{"$f":"IF(DP$6>0,IF((SUM($F33:DO33)+0.1<SUM($G19:DO19)),SUM($G19:DO19)/$E33,0),)","v":0},{"$f":"IF(DQ$6>0,IF((SUM($F33:DP33)+0.1<SUM($G19:DP19)),SUM($G19:DP19)/$E33,0),)","v":0},{"$f":"IF(DR$6>0,IF((SUM($F33:DQ33)+0.1<SUM($G19:DQ19)),SUM($G19:DQ19)/$E33,0),)","v":0},{"$f":"IF(DS$6>0,IF((SUM($F33:DR33)+0.1<SUM($G19:DR19)),SUM($G19:DR19)/$E33,0),)","v":0},{"$f":"IF(DT$6>0,IF((SUM($F33:DS33)+0.1<SUM($G19:DS19)),SUM($G19:DS19)/$E33,0),)","v":0},{"$f":"IF(DU$6>0,IF((SUM($F33:DT33)+0.1<SUM($G19:DT19)),SUM($G19:DT19)/$E33,0),)","v":0},{"$f":"IF(DV$6>0,IF((SUM($F33:DU33)+0.1<SUM($G19:DU19)),SUM($G19:DU19)/$E33,0),)","v":0},{"$f":"IF(DW$6>0,IF((SUM($F33:DV33)+0.1<SUM($G19:DV19)),SUM($G19:DV19)/$E33,0),)","v":0},{"$f":"IF(DX$6>0,IF((SUM($F33:DW33)+0.1<SUM($G19:DW19)),SUM($G19:DW19)/$E33,0),)","v":0},{"$f":"IF(DY$6>0,IF((SUM($F33:DX33)+0.1<SUM($G19:DX19)),SUM($G19:DX19)/$E33,0),)","v":0},{"$f":"IF(DZ$6>0,IF((SUM($F33:DY33)+0.1<SUM($G19:DY19)),SUM($G19:DY19)/$E33,0),)","v":0},{"$f":"IF(EA$6>0,IF((SUM($F33:DZ33)+0.1<SUM($G19:DZ19)),SUM($G19:DZ19)/$E33,0),)","v":0},{"$f":"IF(EB$6>0,IF((SUM($F33:EA33)+0.1<SUM($G19:EA19)),SUM($G19:EA19)/$E33,0),)","v":0},{"$f":"IF(EC$6>0,IF((SUM($F33:EB33)+0.1<SUM($G19:EB19)),SUM($G19:EB19)/$E33,0),)","v":0},{"$f":"IF(ED$6>0,IF((SUM($F33:EC33)+0.1<SUM($G19:EC19)),SUM($G19:EC19)/$E33,0),)","v":0},{"$f":"IF(EE$6>0,IF((SUM($F33:ED33)+0.1<SUM($G19:ED19)),SUM($G19:ED19)/$E33,0),)","v":0},{"$f":"IF(EF$6>0,IF((SUM($F33:EE33)+0.1<SUM($G19:EE19)),SUM($G19:EE19)/$E33,0),)","v":0},{"$f":"IF(EG$6>0,IF((SUM($F33:EF33)+0.1<SUM($G19:EF19)),SUM($G19:EF19)/$E33,0),)","v":0},{"$f":"IF(EH$6>0,IF((SUM($F33:EG33)+0.1<SUM($G19:EG19)),SUM($G19:EG19)/$E33,0),)","v":0},{"$f":"IF(EI$6>0,IF((SUM($F33:EH33)+0.1<SUM($G19:EH19)),SUM($G19:EH19)/$E33,0),)","v":0},{"$f":"IF(EJ$6>0,IF((SUM($F33:EI33)+0.1<SUM($G19:EI19)),SUM($G19:EI19)/$E33,0),)","v":0},{"$f":"IF(EK$6>0,IF((SUM($F33:EJ33)+0.1<SUM($G19:EJ19)),SUM($G19:EJ19)/$E33,0),)","v":0},{"$f":"IF(EL$6>0,IF((SUM($F33:EK33)+0.1<SUM($G19:EK19)),SUM($G19:EK19)/$E33,0),)","v":0},{"$f":"IF(EM$6>0,IF((SUM($F33:EL33)+0.1<SUM($G19:EL19)),SUM($G19:EL19)/$E33,0),)","v":0},{"$f":"IF(EN$6>0,IF((SUM($F33:EM33)+0.1<SUM($G19:EM19)),SUM($G19:EM19)/$E33,0),)","v":0},{"$f":"IF(EO$6>0,IF((SUM($F33:EN33)+0.1<SUM($G19:EN19)),SUM($G19:EN19)/$E33,0),)","v":0},{"$f":"IF(EP$6>0,IF((SUM($F33:EO33)+0.1<SUM($G19:EO19)),SUM($G19:EO19)/$E33,0),)","v":0},{"$f":"IF(EQ$6>0,IF((SUM($F33:EP33)+0.1<SUM($G19:EP19)),SUM($G19:EP19)/$E33,0),)","v":0},{"$f":"IF(ER$6>0,IF((SUM($F33:EQ33)+0.1<SUM($G19:EQ19)),SUM($G19:EQ19)/$E33,0),)","v":0},{"$f":"IF(ES$6>0,IF((SUM($F33:ER33)+0.1<SUM($G19:ER19)),SUM($G19:ER19)/$E33,0),)","v":0},{"$f":"IF(ET$6>0,IF((SUM($F33:ES33)+0.1<SUM($G19:ES19)),SUM($G19:ES19)/$E33,0),)","v":0},{"$f":"IF(EU$6>0,IF((SUM($F33:ET33)+0.1<SUM($G19:ET19)),SUM($G19:ET19)/$E33,0),)","v":0},{"$f":"IF(EV$6>0,IF((SUM($F33:EU33)+0.1<SUM($G19:EU19)),SUM($G19:EU19)/$E33,0),)","v":0},{"$f":"IF(EW$6>0,IF((SUM($F33:EV33)+0.1<SUM($G19:EV19)),SUM($G19:EV19)/$E33,0),)","v":0},{"$f":"IF(EX$6>0,IF((SUM($F33:EW33)+0.1<SUM($G19:EW19)),SUM($G19:EW19)/$E33,0),)","v":0},{"$f":"IF(EY$6>0,IF((SUM($F33:EX33)+0.1<SUM($G19:EX19)),SUM($G19:EX19)/$E33,0),)","v":0},{"$f":"IF(EZ$6>0,IF((SUM($F33:EY33)+0.1<SUM($G19:EY19)),SUM($G19:EY19)/$E33,0),)","v":0},{"$f":"IF(FA$6>0,IF((SUM($F33:EZ33)+0.1<SUM($G19:EZ19)),SUM($G19:EZ19)/$E33,0),)","v":0},{"$f":"IF(FB$6>0,IF((SUM($F33:FA33)+0.1<SUM($G19:FA19)),SUM($G19:FA19)/$E33,0),)","v":0},{"$f":"IF(FC$6>0,IF((SUM($F33:FB33)+0.1<SUM($G19:FB19)),SUM($G19:FB19)/$E33,0),)","v":0},{"$f":"IF(FD$6>0,IF((SUM($F33:FC33)+0.1<SUM($G19:FC19)),SUM($G19:FC19)/$E33,0),)","v":0},{"$f":"IF(FE$6>0,IF((SUM($F33:FD33)+0.1<SUM($G19:FD19)),SUM($G19:FD19)/$E33,0),)","v":0},{"$f":"IF(FF$6>0,IF((SUM($F33:FE33)+0.1<SUM($G19:FE19)),SUM($G19:FE19)/$E33,0),)","v":0},{"$f":"IF(FG$6>0,IF((SUM($F33:FF33)+0.1<SUM($G19:FF19)),SUM($G19:FF19)/$E33,0),)","v":0},{"$f":"IF(FH$6>0,IF((SUM($F33:FG33)+0.1<SUM($G19:FG19)),SUM($G19:FG19)/$E33,0),)","v":0},{"$f":"IF(FI$6>0,IF((SUM($F33:FH33)+0.1<SUM($G19:FH19)),SUM($G19:FH19)/$E33,0),)","v":0},{"$f":"IF(FJ$6>0,IF((SUM($F33:FI33)+0.1<SUM($G19:FI19)),SUM($G19:FI19)/$E33,0),)","v":0},{"$f":"IF(FK$6>0,IF((SUM($F33:FJ33)+0.1<SUM($G19:FJ19)),SUM($G19:FJ19)/$E33,0),)","v":0},{"$f":"IF(FL$6>0,IF((SUM($F33:FK33)+0.1<SUM($G19:FK19)),SUM($G19:FK19)/$E33,0),)","v":0},{"$f":"IF(FM$6>0,IF((SUM($F33:FL33)+0.1<SUM($G19:FL19)),SUM($G19:FL19)/$E33,0),)","v":0},{"$f":"IF(FN$6>0,IF((SUM($F33:FM33)+0.1<SUM($G19:FM19)),SUM($G19:FM19)/$E33,0),)","v":0},{"$f":"IF(FO$6>0,IF((SUM($F33:FN33)+0.1<SUM($G19:FN19)),SUM($G19:FN19)/$E33,0),)","v":0},{"$f":"IF(FP$6>0,IF((SUM($F33:FO33)+0.1<SUM($G19:FO19)),SUM($G19:FO19)/$E33,0),)","v":0},{"$f":"IF(FQ$6>0,IF((SUM($F33:FP33)+0.1<SUM($G19:FP19)),SUM($G19:FP19)/$E33,0),)","v":0},{"$f":"IF(FR$6>0,IF((SUM($F33:FQ33)+0.1<SUM($G19:FQ19)),SUM($G19:FQ19)/$E33,0),)","v":0},{"$f":"IF(FS$6>0,IF((SUM($F33:FR33)+0.1<SUM($G19:FR19)),SUM($G19:FR19)/$E33,0),)","v":0},{"$f":"IF(FT$6>0,IF((SUM($F33:FS33)+0.1<SUM($G19:FS19)),SUM($G19:FS19)/$E33,0),)","v":0},{"$f":"IF(FU$6>0,IF((SUM($F33:FT33)+0.1<SUM($G19:FT19)),SUM($G19:FT19)/$E33,0),)","v":0},{"$f":"IF(FV$6>0,IF((SUM($F33:FU33)+0.1<SUM($G19:FU19)),SUM($G19:FU19)/$E33,0),)","v":0},{"$f":"IF(FW$6>0,IF((SUM($F33:FV33)+0.1<SUM($G19:FV19)),SUM($G19:FV19)/$E33,0),)","v":0},{"$f":"IF(FX$6>0,IF((SUM($F33:FW33)+0.1<SUM($G19:FW19)),SUM($G19:FW19)/$E33,0),)","v":0},{"$f":"IF(FY$6>0,IF((SUM($F33:FX33)+0.1<SUM($G19:FX19)),SUM($G19:FX19)/$E33,0),)","v":0},{"$f":"IF(FZ$6>0,IF((SUM($F33:FY33)+0.1<SUM($G19:FY19)),SUM($G19:FY19)/$E33,0),)","v":0},{"$f":"IF(GA$6>0,IF((SUM($F33:FZ33)+0.1<SUM($G19:FZ19)),SUM($G19:FZ19)/$E33,0),)","v":0},{"$f":"IF(GB$6>0,IF((SUM($F33:GA33)+0.1<SUM($G19:GA19)),SUM($G19:GA19)/$E33,0),)","v":0},{"$f":"IF(GC$6>0,IF((SUM($F33:GB33)+0.1<SUM($G19:GB19)),SUM($G19:GB19)/$E33,0),)","v":0},{"$f":"IF(GD$6>0,IF((SUM($F33:GC33)+0.1<SUM($G19:GC19)),SUM($G19:GC19)/$E33,0),)","v":0},{"$f":"IF(GE$6>0,IF((SUM($F33:GD33)+0.1<SUM($G19:GD19)),SUM($G19:GD19)/$E33,0),)","v":0},{"$f":"IF(GF$6>0,IF((SUM($F33:GE33)+0.1<SUM($G19:GE19)),SUM($G19:GE19)/$E33,0),)","v":0},{"$f":"IF(GG$6>0,IF((SUM($F33:GF33)+0.1<SUM($G19:GF19)),SUM($G19:GF19)/$E33,0),)","v":0},{"$f":"IF(GH$6>0,IF((SUM($F33:GG33)+0.1<SUM($G19:GG19)),SUM($G19:GG19)/$E33,0),)","v":0},{"$f":"IF(GI$6>0,IF((SUM($F33:GH33)+0.1<SUM($G19:GH19)),SUM($G19:GH19)/$E33,0),)","v":0},{"$f":"IF(GJ$6>0,IF((SUM($F33:GI33)+0.1<SUM($G19:GI19)),SUM($G19:GI19)/$E33,0),)","v":0},{"$f":"IF(GK$6>0,IF((SUM($F33:GJ33)+0.1<SUM($G19:GJ19)),SUM($G19:GJ19)/$E33,0),)","v":0},{"$f":"IF(GL$6>0,IF((SUM($F33:GK33)+0.1<SUM($G19:GK19)),SUM($G19:GK19)/$E33,0),)","v":0},{"$f":"IF(GM$6>0,IF((SUM($F33:GL33)+0.1<SUM($G19:GL19)),SUM($G19:GL19)/$E33,0),)","v":0},{"$f":"IF(GN$6>0,IF((SUM($F33:GM33)+0.1<SUM($G19:GM19)),SUM($G19:GM19)/$E33,0),)","v":0},{"$f":"IF(GO$6>0,IF((SUM($F33:GN33)+0.1<SUM($G19:GN19)),SUM($G19:GN19)/$E33,0),)","v":0},{"$f":"IF(GP$6>0,IF((SUM($F33:GO33)+0.1<SUM($G19:GO19)),SUM($G19:GO19)/$E33,0),)","v":0},{"$f":"IF(GQ$6>0,IF((SUM($F33:GP33)+0.1<SUM($G19:GP19)),SUM($G19:GP19)/$E33,0),)","v":0},{"$f":"IF(GR$6>0,IF((SUM($F33:GQ33)+0.1<SUM($G19:GQ19)),SUM($G19:GQ19)/$E33,0),)","v":0},{"$f":"IF(GS$6>0,IF((SUM($F33:GR33)+0.1<SUM($G19:GR19)),SUM($G19:GR19)/$E33,0),)","v":0},{"$f":"IF(GT$6>0,IF((SUM($F33:GS33)+0.1<SUM($G19:GS19)),SUM($G19:GS19)/$E33,0),)","v":0},{"$f":"IF(GU$6>0,IF((SUM($F33:GT33)+0.1<SUM($G19:GT19)),SUM($G19:GT19)/$E33,0),)","v":0},{"$f":"IF(GV$6>0,IF((SUM($F33:GU33)+0.1<SUM($G19:GU19)),SUM($G19:GU19)/$E33,0),)","v":0},{"$f":"IF(GW$6>0,IF((SUM($F33:GV33)+0.1<SUM($G19:GV19)),SUM($G19:GV19)/$E33,0),)","v":0},{"$f":"IF(GX$6>0,IF((SUM($F33:GW33)+0.1<SUM($G19:GW19)),SUM($G19:GW19)/$E33,0),)","v":0},{"$f":"IF(GY$6>0,IF((SUM($F33:GX33)+0.1<SUM($G19:GX19)),SUM($G19:GX19)/$E33,0),)","v":0},{"$f":"IF(GZ$6>0,IF((SUM($F33:GY33)+0.1<SUM($G19:GY19)),SUM($G19:GY19)/$E33,0),)","v":0},{"$f":"IF(HA$6>0,IF((SUM($F33:GZ33)+0.1<SUM($G19:GZ19)),SUM($G19:GZ19)/$E33,0),)","v":0},{"$f":"IF(HB$6>0,IF((SUM($F33:HA33)+0.1<SUM($G19:HA19)),SUM($G19:HA19)/$E33,0),)","v":0},{"$f":"IF(HC$6>0,IF((SUM($F33:HB33)+0.1<SUM($G19:HB19)),SUM($G19:HB19)/$E33,0),)","v":0},{"$f":"IF(HD$6>0,IF((SUM($F33:HC33)+0.1<SUM($G19:HC19)),SUM($G19:HC19)/$E33,0),)","v":0},{"$f":"IF(HE$6>0,IF((SUM($F33:HD33)+0.1<SUM($G19:HD19)),SUM($G19:HD19)/$E33,0),)","v":0},{"$f":"IF(HF$6>0,IF((SUM($F33:HE33)+0.1<SUM($G19:HE19)),SUM($G19:HE19)/$E33,0),)","v":0},{"$f":"IF(HG$6>0,IF((SUM($F33:HF33)+0.1<SUM($G19:HF19)),SUM($G19:HF19)/$E33,0),)","v":0},{"$f":"IF(HH$6>0,IF((SUM($F33:HG33)+0.1<SUM($G19:HG19)),SUM($G19:HG19)/$E33,0),)","v":0},{"$f":"IF(HI$6>0,IF((SUM($F33:HH33)+0.1<SUM($G19:HH19)),SUM($G19:HH19)/$E33,0),)","v":0},{"$f":"IF(HJ$6>0,IF((SUM($F33:HI33)+0.1<SUM($G19:HI19)),SUM($G19:HI19)/$E33,0),)","v":0},{"$f":"IF(HK$6>0,IF((SUM($F33:HJ33)+0.1<SUM($G19:HJ19)),SUM($G19:HJ19)/$E33,0),)","v":0},{"$f":"IF(HL$6>0,IF((SUM($F33:HK33)+0.1<SUM($G19:HK19)),SUM($G19:HK19)/$E33,0),)","v":0},{"$f":"IF(HM$6>0,IF((SUM($F33:HL33)+0.1<SUM($G19:HL19)),SUM($G19:HL19)/$E33,0),)","v":0},{"$f":"IF(HN$6>0,IF((SUM($F33:HM33)+0.1<SUM($G19:HM19)),SUM($G19:HM19)/$E33,0),)","v":0},{"$f":"IF(HO$6>0,IF((SUM($F33:HN33)+0.1<SUM($G19:HN19)),SUM($G19:HN19)/$E33,0),)","v":0},{"$f":"IF(HP$6>0,IF((SUM($F33:HO33)+0.1<SUM($G19:HO19)),SUM($G19:HO19)/$E33,0),)","v":0},{"$f":"IF(HQ$6>0,IF((SUM($F33:HP33)+0.1<SUM($G19:HP19)),SUM($G19:HP19)/$E33,0),)","v":0},{"$f":"IF(HR$6>0,IF((SUM($F33:HQ33)+0.1<SUM($G19:HQ19)),SUM($G19:HQ19)/$E33,0),)","v":0},{"$f":"IF(HS$6>0,IF((SUM($F33:HR33)+0.1<SUM($G19:HR19)),SUM($G19:HR19)/$E33,0),)","v":0},{"$f":"IF(HT$6>0,IF((SUM($F33:HS33)+0.1<SUM($G19:HS19)),SUM($G19:HS19)/$E33,0),)","v":0},{"$f":"IF(HU$6>0,IF((SUM($F33:HT33)+0.1<SUM($G19:HT19)),SUM($G19:HT19)/$E33,0),)","v":0},{"$f":"IF(HV$6>0,IF((SUM($F33:HU33)+0.1<SUM($G19:HU19)),SUM($G19:HU19)/$E33,0),)","v":0},{"$f":"IF(HW$6>0,IF((SUM($F33:HV33)+0.1<SUM($G19:HV19)),SUM($G19:HV19)/$E33,0),)","v":0},{"$f":"IF(HX$6>0,IF((SUM($F33:HW33)+0.1<SUM($G19:HW19)),SUM($G19:HW19)/$E33,0),)","v":0},{"$f":"IF(HY$6>0,IF((SUM($F33:HX33)+0.1<SUM($G19:HX19)),SUM($G19:HX19)/$E33,0),)","v":0},{"$f":"IF(HZ$6>0,IF((SUM($F33:HY33)+0.1<SUM($G19:HY19)),SUM($G19:HY19)/$E33,0),)","v":0},{"$f":"IF(IA$6>0,IF((SUM($F33:HZ33)+0.1<SUM($G19:HZ19)),SUM($G19:HZ19)/$E33,0),)","v":0},{"$f":"IF(IB$6>0,IF((SUM($F33:IA33)+0.1<SUM($G19:IA19)),SUM($G19:IA19)/$E33,0),)","v":0},{"$f":"IF(IC$6>0,IF((SUM($F33:IB33)+0.1<SUM($G19:IB19)),SUM($G19:IB19)/$E33,0),)","v":0},{"$f":"IF(ID$6>0,IF((SUM($F33:IC33)+0.1<SUM($G19:IC19)),SUM($G19:IC19)/$E33,0),)","v":0},{"$f":"IF(IE$6>0,IF((SUM($F33:ID33)+0.1<SUM($G19:ID19)),SUM($G19:ID19)/$E33,0),)","v":0},{"$f":"IF(IF$6>0,IF((SUM($F33:IE33)+0.1<SUM($G19:IE19)),SUM($G19:IE19)/$E33,0),)","v":0},{"$f":"IF(IG$6>0,IF((SUM($F33:IF33)+0.1<SUM($G19:IF19)),SUM($G19:IF19)/$E33,0),)","v":0},{"$f":"IF(IH$6>0,IF((SUM($F33:IG33)+0.1<SUM($G19:IG19)),SUM($G19:IG19)/$E33,0),)","v":0},{"$f":"IF(II$6>0,IF((SUM($F33:IH33)+0.1<SUM($G19:IH19)),SUM($G19:IH19)/$E33,0),)","v":0},{"$f":"IF(IJ$6>0,IF((SUM($F33:II33)+0.1<SUM($G19:II19)),SUM($G19:II19)/$E33,0),)","v":0},{"$f":"IF(IK$6>0,IF((SUM($F33:IJ33)+0.1<SUM($G19:IJ19)),SUM($G19:IJ19)/$E33,0),)","v":0},{"$f":"IF(IL$6>0,IF((SUM($F33:IK33)+0.1<SUM($G19:IK19)),SUM($G19:IK19)/$E33,0),)","v":0},{"$f":"IF(IM$6>0,IF((SUM($F33:IL33)+0.1<SUM($G19:IL19)),SUM($G19:IL19)/$E33,0),)","v":0},{"$f":"IF(IN$6>0,IF((SUM($F33:IM33)+0.1<SUM($G19:IM19)),SUM($G19:IM19)/$E33,0),)","v":0},{"$f":"IF(IO$6>0,IF((SUM($F33:IN33)+0.1<SUM($G19:IN19)),SUM($G19:IN19)/$E33,0),)","v":0},{"$f":"IF(IP$6>0,IF((SUM($F33:IO33)+0.1<SUM($G19:IO19)),SUM($G19:IO19)/$E33,0),)","v":0},{"$f":"IF(IQ$6>0,IF((SUM($F33:IP33)+0.1<SUM($G19:IP19)),SUM($G19:IP19)/$E33,0),)","v":0},{"$f":"IF(IR$6>0,IF((SUM($F33:IQ33)+0.1<SUM($G19:IQ19)),SUM($G19:IQ19)/$E33,0),)","v":0},{"$f":"IF(IS$6>0,IF((SUM($F33:IR33)+0.1<SUM($G19:IR19)),SUM($G19:IR19)/$E33,0),)","v":0},{"$f":"IF(IT$6>0,IF((SUM($F33:IS33)+0.1<SUM($G19:IS19)),SUM($G19:IS19)/$E33,0),)","v":0},{"$f":"IF(IU$6>0,IF((SUM($F33:IT33)+0.1<SUM($G19:IT19)),SUM($G19:IT19)/$E33,0),)","v":0},{"$f":"IF(IV$6>0,IF((SUM($F33:IU33)+0.1<SUM($G19:IU19)),SUM($G19:IU19)/$E33,0),)","v":0},{"$f":"IF(IW$6>0,IF((SUM($F33:IV33)+0.1<SUM($G19:IV19)),SUM($G19:IV19)/$E33,0),)","v":0},{"$f":"IF(IX$6>0,IF((SUM($F33:IW33)+0.1<SUM($G19:IW19)),SUM($G19:IW19)/$E33,0),)","v":0},{"$f":"IF(IY$6>0,IF((SUM($F33:IX33)+0.1<SUM($G19:IX19)),SUM($G19:IX19)/$E33,0),)","v":0},{"$f":"IF(IZ$6>0,IF((SUM($F33:IY33)+0.1<SUM($G19:IY19)),SUM($G19:IY19)/$E33,0),)","v":0},{"$f":"IF(JA$6>0,IF((SUM($F33:IZ33)+0.1<SUM($G19:IZ19)),SUM($G19:IZ19)/$E33,0),)","v":0},{"$f":"IF(JB$6>0,IF((SUM($F33:JA33)+0.1<SUM($G19:JA19)),SUM($G19:JA19)/$E33,0),)","v":0},{"$f":"IF(JC$6>0,IF((SUM($F33:JB33)+0.1<SUM($G19:JB19)),SUM($G19:JB19)/$E33,0),)","v":0},{"$f":"IF(JD$6>0,IF((SUM($F33:JC33)+0.1<SUM($G19:JC19)),SUM($G19:JC19)/$E33,0),)","v":0},{"$f":"IF(JE$6>0,IF((SUM($F33:JD33)+0.1<SUM($G19:JD19)),SUM($G19:JD19)/$E33,0),)","v":0},{"$f":"IF(JF$6>0,IF((SUM($F33:JE33)+0.1<SUM($G19:JE19)),SUM($G19:JE19)/$E33,0),)","v":0},{"$f":"IF(JG$6>0,IF((SUM($F33:JF33)+0.1<SUM($G19:JF19)),SUM($G19:JF19)/$E33,0),)","v":0},{"$f":"IF(JH$6>0,IF((SUM($F33:JG33)+0.1<SUM($G19:JG19)),SUM($G19:JG19)/$E33,0),)","v":0},{"$f":"IF(JI$6>0,IF((SUM($F33:JH33)+0.1<SUM($G19:JH19)),SUM($G19:JH19)/$E33,0),)","v":0},{"$f":"IF(JJ$6>0,IF((SUM($F33:JI33)+0.1<SUM($G19:JI19)),SUM($G19:JI19)/$E33,0),)","v":0},{"$f":"IF(JK$6>0,IF((SUM($F33:JJ33)+0.1<SUM($G19:JJ19)),SUM($G19:JJ19)/$E33,0),)","v":0},{"$f":"IF(JL$6>0,IF((SUM($F33:JK33)+0.1<SUM($G19:JK19)),SUM($G19:JK19)/$E33,0),)","v":0},{"$f":"IF(JM$6>0,IF((SUM($F33:JL33)+0.1<SUM($G19:JL19)),SUM($G19:JL19)/$E33,0),)","v":0},{"$f":"IF(JN$6>0,IF((SUM($F33:JM33)+0.1<SUM($G19:JM19)),SUM($G19:JM19)/$E33,0),)","v":0},{"$f":"IF(JO$6>0,IF((SUM($F33:JN33)+0.1<SUM($G19:JN19)),SUM($G19:JN19)/$E33,0),)","v":0},{"$f":"IF(JP$6>0,IF((SUM($F33:JO33)+0.1<SUM($G19:JO19)),SUM($G19:JO19)/$E33,0),)","v":0},{"$f":"IF(JQ$6>0,IF((SUM($F33:JP33)+0.1<SUM($G19:JP19)),SUM($G19:JP19)/$E33,0),)","v":0},{"$f":"IF(JR$6>0,IF((SUM($F33:JQ33)+0.1<SUM($G19:JQ19)),SUM($G19:JQ19)/$E33,0),)","v":0},{"$f":"IF(JS$6>0,IF((SUM($F33:JR33)+0.1<SUM($G19:JR19)),SUM($G19:JR19)/$E33,0),)","v":0},{"$f":"IF(JT$6>0,IF((SUM($F33:JS33)+0.1<SUM($G19:JS19)),SUM($G19:JS19)/$E33,0),)","v":0},{"$f":"IF(JU$6>0,IF((SUM($F33:JT33)+0.1<SUM($G19:JT19)),SUM($G19:JT19)/$E33,0),)","v":0},{"$f":"IF(JV$6>0,IF((SUM($F33:JU33)+0.1<SUM($G19:JU19)),SUM($G19:JU19)/$E33,0),)","v":0},{"$f":"IF(JW$6>0,IF((SUM($F33:JV33)+0.1<SUM($G19:JV19)),SUM($G19:JV19)/$E33,0),)","v":0},{"$f":"IF(JX$6>0,IF((SUM($F33:JW33)+0.1<SUM($G19:JW19)),SUM($G19:JW19)/$E33,0),)","v":0},{"$f":"IF(JY$6>0,IF((SUM($F33:JX33)+0.1<SUM($G19:JX19)),SUM($G19:JX19)/$E33,0),)","v":0},{"$f":"IF(JZ$6>0,IF((SUM($F33:JY33)+0.1<SUM($G19:JY19)),SUM($G19:JY19)/$E33,0),)","v":0},{"$f":"IF(KA$6>0,IF((SUM($F33:JZ33)+0.1<SUM($G19:JZ19)),SUM($G19:JZ19)/$E33,0),)","v":0},{"$f":"IF(KB$6>0,IF((SUM($F33:KA33)+0.1<SUM($G19:KA19)),SUM($G19:KA19)/$E33,0),)","v":0},{"$f":"IF(KC$6>0,IF((SUM($F33:KB33)+0.1<SUM($G19:KB19)),SUM($G19:KB19)/$E33,0),)","v":0},{"$f":"IF(KD$6>0,IF((SUM($F33:KC33)+0.1<SUM($G19:KC19)),SUM($G19:KC19)/$E33,0),)","v":0},{"$f":"IF(KE$6>0,IF((SUM($F33:KD33)+0.1<SUM($G19:KD19)),SUM($G19:KD19)/$E33,0),)","v":0},{"$f":"IF(KF$6>0,IF((SUM($F33:KE33)+0.1<SUM($G19:KE19)),SUM($G19:KE19)/$E33,0),)","v":0},{"$f":"IF(KG$6>0,IF((SUM($F33:KF33)+0.1<SUM($G19:KF19)),SUM($G19:KF19)/$E33,0),)","v":0},{"$f":"IF(KH$6>0,IF((SUM($F33:KG33)+0.1<SUM($G19:KG19)),SUM($G19:KG19)/$E33,0),)","v":0},{"$f":"IF(KI$6>0,IF((SUM($F33:KH33)+0.1<SUM($G19:KH19)),SUM($G19:KH19)/$E33,0),)","v":0},{"$f":"IF(KJ$6>0,IF((SUM($F33:KI33)+0.1<SUM($G19:KI19)),SUM($G19:KI19)/$E33,0),)","v":0},{"$f":"IF(KK$6>0,IF((SUM($F33:KJ33)+0.1<SUM($G19:KJ19)),SUM($G19:KJ19)/$E33,0),)","v":0},{"$f":"IF(KL$6>0,IF((SUM($F33:KK33)+0.1<SUM($G19:KK19)),SUM($G19:KK19)/$E33,0),)","v":0},{"$f":"IF(KM$6>0,IF((SUM($F33:KL33)+0.1<SUM($G19:KL19)),SUM($G19:KL19)/$E33,0),)","v":0},{"$f":"IF(KN$6>0,IF((SUM($F33:KM33)+0.1<SUM($G19:KM19)),SUM($G19:KM19)/$E33,0),)","v":0},{"$f":"IF(KO$6>0,IF((SUM($F33:KN33)+0.1<SUM($G19:KN19)),SUM($G19:KN19)/$E33,0),)","v":0},{"$f":"IF(KP$6>0,IF((SUM($F33:KO33)+0.1<SUM($G19:KO19)),SUM($G19:KO19)/$E33,0),)","v":0},{"$f":"IF(KQ$6>0,IF((SUM($F33:KP33)+0.1<SUM($G19:KP19)),SUM($G19:KP19)/$E33,0),)","v":0},{"$f":"IF(KR$6>0,IF((SUM($F33:KQ33)+0.1<SUM($G19:KQ19)),SUM($G19:KQ19)/$E33,0),)","v":0},{"$f":"IF(KS$6>0,IF((SUM($F33:KR33)+0.1<SUM($G19:KR19)),SUM($G19:KR19)/$E33,0),)","v":0},{"$f":"IF(KT$6>0,IF((SUM($F33:KS33)+0.1<SUM($G19:KS19)),SUM($G19:KS19)/$E33,0),)","v":0},{"$f":"IF(KU$6>0,IF((SUM($F33:KT33)+0.1<SUM($G19:KT19)),SUM($G19:KT19)/$E33,0),)","v":0},{"$f":"IF(KV$6>0,IF((SUM($F33:KU33)+0.1<SUM($G19:KU19)),SUM($G19:KU19)/$E33,0),)","v":0},{"$f":"IF(KW$6>0,IF((SUM($F33:KV33)+0.1<SUM($G19:KV19)),SUM($G19:KV19)/$E33,0),)","v":0},{"$f":"IF(KX$6>0,IF((SUM($F33:KW33)+0.1<SUM($G19:KW19)),SUM($G19:KW19)/$E33,0),)","v":0},{"$f":"IF(KY$6>0,IF((SUM($F33:KX33)+0.1<SUM($G19:KX19)),SUM($G19:KX19)/$E33,0),)","v":0},{"$f":"IF(KZ$6>0,IF((SUM($F33:KY33)+0.1<SUM($G19:KY19)),SUM($G19:KY19)/$E33,0),)","v":0},{"$f":"IF(LA$6>0,IF((SUM($F33:KZ33)+0.1<SUM($G19:KZ19)),SUM($G19:KZ19)/$E33,0),)","v":0},{"$f":"IF(LB$6>0,IF((SUM($F33:LA33)+0.1<SUM($G19:LA19)),SUM($G19:LA19)/$E33,0),)","v":0},{"$f":"IF(LC$6>0,IF((SUM($F33:LB33)+0.1<SUM($G19:LB19)),SUM($G19:LB19)/$E33,0),)","v":0},{"$f":"IF(LD$6>0,IF((SUM($F33:LC33)+0.1<SUM($G19:LC19)),SUM($G19:LC19)/$E33,0),)","v":0},{"$f":"IF(LE$6>0,IF((SUM($F33:LD33)+0.1<SUM($G19:LD19)),SUM($G19:LD19)/$E33,0),)","v":0},{"$f":"IF(LF$6>0,IF((SUM($F33:LE33)+0.1<SUM($G19:LE19)),SUM($G19:LE19)/$E33,0),)","v":0},{"$f":"IF(LG$6>0,IF((SUM($F33:LF33)+0.1<SUM($G19:LF19)),SUM($G19:LF19)/$E33,0),)","v":0},{"$f":"IF(LH$6>0,IF((SUM($F33:LG33)+0.1<SUM($G19:LG19)),SUM($G19:LG19)/$E33,0),)","v":0},{"$f":"IF(LI$6>0,IF((SUM($F33:LH33)+0.1<SUM($G19:LH19)),SUM($G19:LH19)/$E33,0),)","v":0},{"$f":"IF(LJ$6>0,IF((SUM($F33:LI33)+0.1<SUM($G19:LI19)),SUM($G19:LI19)/$E33,0),)","v":0},{"$f":"IF(LK$6>0,IF((SUM($F33:LJ33)+0.1<SUM($G19:LJ19)),SUM($G19:LJ19)/$E33,0),)","v":0},{"$f":"IF(LL$6>0,IF((SUM($F33:LK33)+0.1<SUM($G19:LK19)),SUM($G19:LK19)/$E33,0),)","v":0},{"$f":"IF(LM$6>0,IF((SUM($F33:LL33)+0.1<SUM($G19:LL19)),SUM($G19:LL19)/$E33,0),)","v":0},{"$f":"IF(LN$6>0,IF((SUM($F33:LM33)+0.1<SUM($G19:LM19)),SUM($G19:LM19)/$E33,0),)","v":0},{"$f":"IF(LO$6>0,IF((SUM($F33:LN33)+0.1<SUM($G19:LN19)),SUM($G19:LN19)/$E33,0),)","v":0},{"$f":"IF(LP$6>0,IF((SUM($F33:LO33)+0.1<SUM($G19:LO19)),SUM($G19:LO19)/$E33,0),)","v":0},{"$f":"IF(LQ$6>0,IF((SUM($F33:LP33)+0.1<SUM($G19:LP19)),SUM($G19:LP19)/$E33,0),)","v":0},{"$f":"IF(LR$6>0,IF((SUM($F33:LQ33)+0.1<SUM($G19:LQ19)),SUM($G19:LQ19)/$E33,0),)","v":0},{"$f":"IF(LS$6>0,IF((SUM($F33:LR33)+0.1<SUM($G19:LR19)),SUM($G19:LR19)/$E33,0),)","v":0},{"$f":"IF(LT$6>0,IF((SUM($F33:LS33)+0.1<SUM($G19:LS19)),SUM($G19:LS19)/$E33,0),)","v":0},{"$f":"IF(LU$6>0,IF((SUM($F33:LT33)+0.1<SUM($G19:LT19)),SUM($G19:LT19)/$E33,0),)","v":0},{"$f":"IF(LV$6>0,IF((SUM($F33:LU33)+0.1<SUM($G19:LU19)),SUM($G19:LU19)/$E33,0),)","v":0},{"$f":"IF(LW$6>0,IF((SUM($F33:LV33)+0.1<SUM($G19:LV19)),SUM($G19:LV19)/$E33,0),)","v":0},{"$f":"IF(LX$6>0,IF((SUM($F33:LW33)+0.1<SUM($G19:LW19)),SUM($G19:LW19)/$E33,0),)","v":0},{"$f":"IF(LY$6>0,IF((SUM($F33:LX33)+0.1<SUM($G19:LX19)),SUM($G19:LX19)/$E33,0),)","v":0},{"$f":"IF(LZ$6>0,IF((SUM($F33:LY33)+0.1<SUM($G19:LY19)),SUM($G19:LY19)/$E33,0),)","v":0},{"$f":"IF(MA$6>0,IF((SUM($F33:LZ33)+0.1<SUM($G19:LZ19)),SUM($G19:LZ19)/$E33,0),)","v":0},{"$f":"IF(MB$6>0,IF((SUM($F33:MA33)+0.1<SUM($G19:MA19)),SUM($G19:MA19)/$E33,0),)","v":0},{"$f":"IF(MC$6>0,IF((SUM($F33:MB33)+0.1<SUM($G19:MB19)),SUM($G19:MB19)/$E33,0),)","v":0},{"$f":"IF(MD$6>0,IF((SUM($F33:MC33)+0.1<SUM($G19:MC19)),SUM($G19:MC19)/$E33,0),)","v":0},{"$f":"IF(ME$6>0,IF((SUM($F33:MD33)+0.1<SUM($G19:MD19)),SUM($G19:MD19)/$E33,0),)","v":0},{"$f":"IF(MF$6>0,IF((SUM($F33:ME33)+0.1<SUM($G19:ME19)),SUM($G19:ME19)/$E33,0),)","v":0},{"$f":"IF(MG$6>0,IF((SUM($F33:MF33)+0.1<SUM($G19:MF19)),SUM($G19:MF19)/$E33,0),)","v":0},{"$f":"IF(MH$6>0,IF((SUM($F33:MG33)+0.1<SUM($G19:MG19)),SUM($G19:MG19)/$E33,0),)","v":0},{"$f":"IF(MI$6>0,IF((SUM($F33:MH33)+0.1<SUM($G19:MH19)),SUM($G19:MH19)/$E33,0),)","v":0},{"$f":"IF(MJ$6>0,IF((SUM($F33:MI33)+0.1<SUM($G19:MI19)),SUM($G19:MI19)/$E33,0),)","v":0},{"$f":"IF(MK$6>0,IF((SUM($F33:MJ33)+0.1<SUM($G19:MJ19)),SUM($G19:MJ19)/$E33,0),)","v":0},{"$f":"IF(ML$6>0,IF((SUM($F33:MK33)+0.1<SUM($G19:MK19)),SUM($G19:MK19)/$E33,0),)","v":0},{"$f":"IF(MM$6>0,IF((SUM($F33:ML33)+0.1<SUM($G19:ML19)),SUM($G19:ML19)/$E33,0),)","v":0},{"$f":"IF(MN$6>0,IF((SUM($F33:MM33)+0.1<SUM($G19:MM19)),SUM($G19:MM19)/$E33,0),)","v":0},{"$f":"IF(MO$6>0,IF((SUM($F33:MN33)+0.1<SUM($G19:MN19)),SUM($G19:MN19)/$E33,0),)","v":0},{"$f":"IF(MP$6>0,IF((SUM($F33:MO33)+0.1<SUM($G19:MO19)),SUM($G19:MO19)/$E33,0),)","v":0},{"$f":"IF(MQ$6>0,IF((SUM($F33:MP33)+0.1<SUM($G19:MP19)),SUM($G19:MP19)/$E33,0),)","v":0},{"$f":"IF(MR$6>0,IF((SUM($F33:MQ33)+0.1<SUM($G19:MQ19)),SUM($G19:MQ19)/$E33,0),)","v":0},{"$f":"IF(MS$6>0,IF((SUM($F33:MR33)+0.1<SUM($G19:MR19)),SUM($G19:MR19)/$E33,0),)","v":0},{"$f":"IF(MT$6>0,IF((SUM($F33:MS33)+0.1<SUM($G19:MS19)),SUM($G19:MS19)/$E33,0),)","v":0},{"$f":"IF(MU$6>0,IF((SUM($F33:MT33)+0.1<SUM($G19:MT19)),SUM($G19:MT19)/$E33,0),)","v":0},{"$f":"IF(MV$6>0,IF((SUM($F33:MU33)+0.1<SUM($G19:MU19)),SUM($G19:MU19)/$E33,0),)","v":0},{"$f":"IF(MW$6>0,IF((SUM($F33:MV33)+0.1<SUM($G19:MV19)),SUM($G19:MV19)/$E33,0),)","v":0},{"$f":"IF(MX$6>0,IF((SUM($F33:MW33)+0.1<SUM($G19:MW19)),SUM($G19:MW19)/$E33,0),)","v":0},{"$f":"IF(MY$6>0,IF((SUM($F33:MX33)+0.1<SUM($G19:MX19)),SUM($G19:MX19)/$E33,0),)","v":0},{"$f":"IF(MZ$6>0,IF((SUM($F33:MY33)+0.1<SUM($G19:MY19)),SUM($G19:MY19)/$E33,0),)","v":0},{"$f":"IF(NA$6>0,IF((SUM($F33:MZ33)+0.1<SUM($G19:MZ19)),SUM($G19:MZ19)/$E33,0),)","v":0},{"$f":"IF(NB$6>0,IF((SUM($F33:NA33)+0.1<SUM($G19:NA19)),SUM($G19:NA19)/$E33,0),)","v":0},{"$f":"IF(NC$6>0,IF((SUM($F33:NB33)+0.1<SUM($G19:NB19)),SUM($G19:NB19)/$E33,0),)","v":0},{"$f":"IF(ND$6>0,IF((SUM($F33:NC33)+0.1<SUM($G19:NC19)),SUM($G19:NC19)/$E33,0),)","v":0},{"$f":"IF(NE$6>0,IF((SUM($F33:ND33)+0.1<SUM($G19:ND19)),SUM($G19:ND19)/$E33,0),)","v":0},{"$f":"IF(NF$6>0,IF((SUM($F33:NE33)+0.1<SUM($G19:NE19)),SUM($G19:NE19)/$E33,0),)","v":0},{"$f":"IF(NG$6>0,IF((SUM($F33:NF33)+0.1<SUM($G19:NF19)),SUM($G19:NF19)/$E33,0),)","v":0},{"$f":"IF(NH$6>0,IF((SUM($F33:NG33)+0.1<SUM($G19:NG19)),SUM($G19:NG19)/$E33,0),)","v":0},{"$f":"IF(NI$6>0,IF((SUM($F33:NH33)+0.1<SUM($G19:NH19)),SUM($G19:NH19)/$E33,0),)","v":0},{"$f":"IF(NJ$6>0,IF((SUM($F33:NI33)+0.1<SUM($G19:NI19)),SUM($G19:NI19)/$E33,0),)","v":0},{"$f":"IF(NK$6>0,IF((SUM($F33:NJ33)+0.1<SUM($G19:NJ19)),SUM($G19:NJ19)/$E33,0),)","v":0},{"$f":"IF(NL$6>0,IF((SUM($F33:NK33)+0.1<SUM($G19:NK19)),SUM($G19:NK19)/$E33,0),)","v":0},{"$f":"IF(NM$6>0,IF((SUM($F33:NL33)+0.1<SUM($G19:NL19)),SUM($G19:NL19)/$E33,0),)","v":0},{"$f":"IF(NN$6>0,IF((SUM($F33:NM33)+0.1<SUM($G19:NM19)),SUM($G19:NM19)/$E33,0),)","v":0},{"$f":"IF(NO$6>0,IF((SUM($F33:NN33)+0.1<SUM($G19:NN19)),SUM($G19:NN19)/$E33,0),)","v":0},{"$f":"IF(NP$6>0,IF((SUM($F33:NO33)+0.1<SUM($G19:NO19)),SUM($G19:NO19)/$E33,0),)","v":0},{"$f":"IF(NQ$6>0,IF((SUM($F33:NP33)+0.1<SUM($G19:NP19)),SUM($G19:NP19)/$E33,0),)","v":0},{"$f":"IF(NR$6>0,IF((SUM($F33:NQ33)+0.1<SUM($G19:NQ19)),SUM($G19:NQ19)/$E33,0),)","v":0},{"$f":"IF(NS$6>0,IF((SUM($F33:NR33)+0.1<SUM($G19:NR19)),SUM($G19:NR19)/$E33,0),)","v":0},{"$f":"IF(NT$6>0,IF((SUM($F33:NS33)+0.1<SUM($G19:NS19)),SUM($G19:NS19)/$E33,0),)","v":0},{"$f":"IF(NU$6>0,IF((SUM($F33:NT33)+0.1<SUM($G19:NT19)),SUM($G19:NT19)/$E33,0),)","v":0},{"$f":"IF(NV$6>0,IF((SUM($F33:NU33)+0.1<SUM($G19:NU19)),SUM($G19:NU19)/$E33,0),)","v":0},{"$f":"IF(NW$6>0,IF((SUM($F33:NV33)+0.1<SUM($G19:NV19)),SUM($G19:NV19)/$E33,0),)","v":0},{"$f":"IF(NX$6>0,IF((SUM($F33:NW33)+0.1<SUM($G19:NW19)),SUM($G19:NW19)/$E33,0),)","v":0},{"$f":"IF(NY$6>0,IF((SUM($F33:NX33)+0.1<SUM($G19:NX19)),SUM($G19:NX19)/$E33,0),)","v":0},{"$f":"IF(NZ$6>0,IF((SUM($F33:NY33)+0.1<SUM($G19:NY19)),SUM($G19:NY19)/$E33,0),)","v":0},{"$f":"IF(OA$6>0,IF((SUM($F33:NZ33)+0.1<SUM($G19:NZ19)),SUM($G19:NZ19)/$E33,0),)","v":0},{"$f":"IF(OB$6>0,IF((SUM($F33:OA33)+0.1<SUM($G19:OA19)),SUM($G19:OA19)/$E33,0),)","v":0},{"$f":"IF(OC$6>0,IF((SUM($F33:OB33)+0.1<SUM($G19:OB19)),SUM($G19:OB19)/$E33,0),)","v":0},{"$f":"IF(OD$6>0,IF((SUM($F33:OC33)+0.1<SUM($G19:OC19)),SUM($G19:OC19)/$E33,0),)","v":0},{"$f":"IF(OE$6>0,IF((SUM($F33:OD33)+0.1<SUM($G19:OD19)),SUM($G19:OD19)/$E33,0),)","v":0},{"$f":"IF(OF$6>0,IF((SUM($F33:OE33)+0.1<SUM($G19:OE19)),SUM($G19:OE19)/$E33,0),)","v":0},{"$f":"IF(OG$6>0,IF((SUM($F33:OF33)+0.1<SUM($G19:OF19)),SUM($G19:OF19)/$E33,0),)","v":0},{"$f":"IF(OH$6>0,IF((SUM($F33:OG33)+0.1<SUM($G19:OG19)),SUM($G19:OG19)/$E33,0),)","v":0},{"$f":"IF(OI$6>0,IF((SUM($F33:OH33)+0.1<SUM($G19:OH19)),SUM($G19:OH19)/$E33,0),)","v":0},{"$f":"IF(OJ$6>0,IF((SUM($F33:OI33)+0.1<SUM($G19:OI19)),SUM($G19:OI19)/$E33,0),)","v":0},{"$f":"IF(OK$6>0,IF((SUM($F33:OJ33)+0.1<SUM($G19:OJ19)),SUM($G19:OJ19)/$E33,0),)","v":0},{"$f":"IF(OL$6>0,IF((SUM($F33:OK33)+0.1<SUM($G19:OK19)),SUM($G19:OK19)/$E33,0),)","v":0},{"$f":"IF(OM$6>0,IF((SUM($F33:OL33)+0.1<SUM($G19:OL19)),SUM($G19:OL19)/$E33,0),)","v":0},{"$f":"IF(ON$6>0,IF((SUM($F33:OM33)+0.1<SUM($G19:OM19)),SUM($G19:OM19)/$E33,0),)","v":0},{"$f":"IF(OO$6>0,IF((SUM($F33:ON33)+0.1<SUM($G19:ON19)),SUM($G19:ON19)/$E33,0),)","v":0},{"$f":"IF(OP$6>0,IF((SUM($F33:OO33)+0.1<SUM($G19:OO19)),SUM($G19:OO19)/$E33,0),)","v":0},{"$f":"IF(OQ$6>0,IF((SUM($F33:OP33)+0.1<SUM($G19:OP19)),SUM($G19:OP19)/$E33,0),)","v":0},{"$f":"IF(OR$6>0,IF((SUM($F33:OQ33)+0.1<SUM($G19:OQ19)),SUM($G19:OQ19)/$E33,0),)","v":0},{"$f":"IF(OS$6>0,IF((SUM($F33:OR33)+0.1<SUM($G19:OR19)),SUM($G19:OR19)/$E33,0),)","v":0},{"$f":"IF(OT$6>0,IF((SUM($F33:OS33)+0.1<SUM($G19:OS19)),SUM($G19:OS19)/$E33,0),)","v":0},{"$f":"IF(OU$6>0,IF((SUM($F33:OT33)+0.1<SUM($G19:OT19)),SUM($G19:OT19)/$E33,0),)","v":0},{"$f":"IF(OV$6>0,IF((SUM($F33:OU33)+0.1<SUM($G19:OU19)),SUM($G19:OU19)/$E33,0),)","v":0},{"$f":"IF(OW$6>0,IF((SUM($F33:OV33)+0.1<SUM($G19:OV19)),SUM($G19:OV19)/$E33,0),)","v":0},{"$f":"IF(OX$6>0,IF((SUM($F33:OW33)+0.1<SUM($G19:OW19)),SUM($G19:OW19)/$E33,0),)","v":0},{"$f":"IF(OY$6>0,IF((SUM($F33:OX33)+0.1<SUM($G19:OX19)),SUM($G19:OX19)/$E33,0),)","v":0},{"$f":"IF(OZ$6>0,IF((SUM($F33:OY33)+0.1<SUM($G19:OY19)),SUM($G19:OY19)/$E33,0),)","v":0},{"$f":"IF(PA$6>0,IF((SUM($F33:OZ33)+0.1<SUM($G19:OZ19)),SUM($G19:OZ19)/$E33,0),)","v":0},{"$f":"IF(PB$6>0,IF((SUM($F33:PA33)+0.1<SUM($G19:PA19)),SUM($G19:PA19)/$E33,0),)","v":0},{"$f":"IF(PC$6>0,IF((SUM($F33:PB33)+0.1<SUM($G19:PB19)),SUM($G19:PB19)/$E33,0),)","v":0},{"$f":"IF(PD$6>0,IF((SUM($F33:PC33)+0.1<SUM($G19:PC19)),SUM($G19:PC19)/$E33,0),)","v":0},{"$f":"IF(PE$6>0,IF((SUM($F33:PD33)+0.1<SUM($G19:PD19)),SUM($G19:PD19)/$E33,0),)","v":0},{"$f":"IF(PF$6>0,IF((SUM($F33:PE33)+0.1<SUM($G19:PE19)),SUM($G19:PE19)/$E33,0),)","v":0},{"$f":"IF(PG$6>0,IF((SUM($F33:PF33)+0.1<SUM($G19:PF19)),SUM($G19:PF19)/$E33,0),)","v":0},{"$f":"IF(PH$6>0,IF((SUM($F33:PG33)+0.1<SUM($G19:PG19)),SUM($G19:PG19)/$E33,0),)","v":0},{"$f":"IF(PI$6>0,IF((SUM($F33:PH33)+0.1<SUM($G19:PH19)),SUM($G19:PH19)/$E33,0),)","v":0},{"$f":"IF(PJ$6>0,IF((SUM($F33:PI33)+0.1<SUM($G19:PI19)),SUM($G19:PI19)/$E33,0),)","v":0},{"$f":"IF(PK$6>0,IF((SUM($F33:PJ33)+0.1<SUM($G19:PJ19)),SUM($G19:PJ19)/$E33,0),)","v":0},{"$f":"IF(PL$6>0,IF((SUM($F33:PK33)+0.1<SUM($G19:PK19)),SUM($G19:PK19)/$E33,0),)","v":0},{"$f":"IF(PM$6>0,IF((SUM($F33:PL33)+0.1<SUM($G19:PL19)),SUM($G19:PL19)/$E33,0),)","v":0},{"$f":"IF(PN$6>0,IF((SUM($F33:PM33)+0.1<SUM($G19:PM19)),SUM($G19:PM19)/$E33,0),)","v":0},{"$f":"IF(PO$6>0,IF((SUM($F33:PN33)+0.1<SUM($G19:PN19)),SUM($G19:PN19)/$E33,0),)","v":0},{"$f":"IF(PP$6>0,IF((SUM($F33:PO33)+0.1<SUM($G19:PO19)),SUM($G19:PO19)/$E33,0),)","v":0},{"$f":"IF(PQ$6>0,IF((SUM($F33:PP33)+0.1<SUM($G19:PP19)),SUM($G19:PP19)/$E33,0),)","v":0},{"$f":"IF(PR$6>0,IF((SUM($F33:PQ33)+0.1<SUM($G19:PQ19)),SUM($G19:PQ19)/$E33,0),)","v":0},{"$f":"IF(PS$6>0,IF((SUM($F33:PR33)+0.1<SUM($G19:PR19)),SUM($G19:PR19)/$E33,0),)","v":0},{"$f":"IF(PT$6>0,IF((SUM($F33:PS33)+0.1<SUM($G19:PS19)),SUM($G19:PS19)/$E33,0),)","v":0},{"$f":"IF(PU$6>0,IF((SUM($F33:PT33)+0.1<SUM($G19:PT19)),SUM($G19:PT19)/$E33,0),)","v":0},{"$f":"IF(PV$6>0,IF((SUM($F33:PU33)+0.1<SUM($G19:PU19)),SUM($G19:PU19)/$E33,0),)","v":0},{"$f":"IF(PW$6>0,IF((SUM($F33:PV33)+0.1<SUM($G19:PV19)),SUM($G19:PV19)/$E33,0),)","v":0},{"$f":"IF(PX$6>0,IF((SUM($F33:PW33)+0.1<SUM($G19:PW19)),SUM($G19:PW19)/$E33,0),)","v":0},{"$f":"IF(PY$6>0,IF((SUM($F33:PX33)+0.1<SUM($G19:PX19)),SUM($G19:PX19)/$E33,0),)","v":0},{"$f":"IF(PZ$6>0,IF((SUM($F33:PY33)+0.1<SUM($G19:PY19)),SUM($G19:PY19)/$E33,0),)","v":0},{"$f":"IF(QA$6>0,IF((SUM($F33:PZ33)+0.1<SUM($G19:PZ19)),SUM($G19:PZ19)/$E33,0),)","v":0},{"$f":"IF(QB$6>0,IF((SUM($F33:QA33)+0.1<SUM($G19:QA19)),SUM($G19:QA19)/$E33,0),)","v":0},{"$f":"IF(QC$6>0,IF((SUM($F33:QB33)+0.1<SUM($G19:QB19)),SUM($G19:QB19)/$E33,0),)","v":0},{"$f":"IF(QD$6>0,IF((SUM($F33:QC33)+0.1<SUM($G19:QC19)),SUM($G19:QC19)/$E33,0),)","v":0},{"$f":"IF(QE$6>0,IF((SUM($F33:QD33)+0.1<SUM($G19:QD19)),SUM($G19:QD19)/$E33,0),)","v":0},{"$f":"IF(QF$6>0,IF((SUM($F33:QE33)+0.1<SUM($G19:QE19)),SUM($G19:QE19)/$E33,0),)","v":0},{"$f":"IF(QG$6>0,IF((SUM($F33:QF33)+0.1<SUM($G19:QF19)),SUM($G19:QF19)/$E33,0),)","v":0},{"$f":"IF(QH$6>0,IF((SUM($F33:QG33)+0.1<SUM($G19:QG19)),SUM($G19:QG19)/$E33,0),)","v":0},{"$f":"IF(QI$6>0,IF((SUM($F33:QH33)+0.1<SUM($G19:QH19)),SUM($G19:QH19)/$E33,0),)","v":0},{"$f":"IF(QJ$6>0,IF((SUM($F33:QI33)+0.1<SUM($G19:QI19)),SUM($G19:QI19)/$E33,0),)","v":0},{"$f":"IF(QK$6>0,IF((SUM($F33:QJ33)+0.1<SUM($G19:QJ19)),SUM($G19:QJ19)/$E33,0),)","v":0},{"$f":"IF(QL$6>0,IF((SUM($F33:QK33)+0.1<SUM($G19:QK19)),SUM($G19:QK19)/$E33,0),)","v":0},{"$f":"IF(QM$6>0,IF((SUM($F33:QL33)+0.1<SUM($G19:QL19)),SUM($G19:QL19)/$E33,0),)","v":0},{"$f":"IF(QN$6>0,IF((SUM($F33:QM33)+0.1<SUM($G19:QM19)),SUM($G19:QM19)/$E33,0),)","v":0},{"$f":"IF(QO$6>0,IF((SUM($F33:QN33)+0.1<SUM($G19:QN19)),SUM($G19:QN19)/$E33,0),)","v":0},{"$f":"IF(QP$6>0,IF((SUM($F33:QO33)+0.1<SUM($G19:QO19)),SUM($G19:QO19)/$E33,0),)","v":0},{"$f":"IF(QQ$6>0,IF((SUM($F33:QP33)+0.1<SUM($G19:QP19)),SUM($G19:QP19)/$E33,0),)","v":0},{"$f":"IF(QR$6>0,IF((SUM($F33:QQ33)+0.1<SUM($G19:QQ19)),SUM($G19:QQ19)/$E33,0),)","v":0},{"$f":"IF(QS$6>0,IF((SUM($F33:QR33)+0.1<SUM($G19:QR19)),SUM($G19:QR19)/$E33,0),)","v":0},{"$f":"IF(QT$6>0,IF((SUM($F33:QS33)+0.1<SUM($G19:QS19)),SUM($G19:QS19)/$E33,0),)","v":0},{"$f":"IF(QU$6>0,IF((SUM($F33:QT33)+0.1<SUM($G19:QT19)),SUM($G19:QT19)/$E33,0),)","v":0},{"$f":"IF(QV$6>0,IF((SUM($F33:QU33)+0.1<SUM($G19:QU19)),SUM($G19:QU19)/$E33,0),)","v":0},{"$f":"IF(QW$6>0,IF((SUM($F33:QV33)+0.1<SUM($G19:QV19)),SUM($G19:QV19)/$E33,0),)","v":0},{"$f":"IF(QX$6>0,IF((SUM($F33:QW33)+0.1<SUM($G19:QW19)),SUM($G19:QW19)/$E33,0),)","v":0},{"$f":"IF(QY$6>0,IF((SUM($F33:QX33)+0.1<SUM($G19:QX19)),SUM($G19:QX19)/$E33,0),)","v":0},{"$f":"IF(QZ$6>0,IF((SUM($F33:QY33)+0.1<SUM($G19:QY19)),SUM($G19:QY19)/$E33,0),)","v":0},{"$f":"IF(RA$6>0,IF((SUM($F33:QZ33)+0.1<SUM($G19:QZ19)),SUM($G19:QZ19)/$E33,0),)","v":0},{"$f":"IF(RB$6>0,IF((SUM($F33:RA33)+0.1<SUM($G19:RA19)),SUM($G19:RA19)/$E33,0),)","v":0},{"$f":"IF(RC$6>0,IF((SUM($F33:RB33)+0.1<SUM($G19:RB19)),SUM($G19:RB19)/$E33,0),)","v":0},{"$f":"IF(RD$6>0,IF((SUM($F33:RC33)+0.1<SUM($G19:RC19)),SUM($G19:RC19)/$E33,0),)","v":0},{"$f":"IF(RE$6>0,IF((SUM($F33:RD33)+0.1<SUM($G19:RD19)),SUM($G19:RD19)/$E33,0),)","v":0},{"$f":"IF(RF$6>0,IF((SUM($F33:RE33)+0.1<SUM($G19:RE19)),SUM($G19:RE19)/$E33,0),)","v":0}]
[null,0,0,0,0,null,{"$f":"IF(G$6>0,IF((SUM($F34:F34)+0.1<$C34),$C34/$E34,0),)","v":0},{"$f":"IF(H$6>0,IF((SUM($F34:G34)+0.1<SUM($G20:G20)),SUM($G20:G20)/$E34,0),)","v":0},{"$f":"IF(I$6>0,IF((SUM($F34:H34)+0.1<SUM($G20:H20)),SUM($G20:H20)/$E34,0),)","v":0},{"$f":"IF(J$6>0,IF((SUM($F34:I34)+0.1<SUM($G20:I20)),SUM($G20:I20)/$E34,0),)","v":0},{"$f":"IF(K$6>0,IF((SUM($F34:J34)+0.1<SUM($G20:J20)),SUM($G20:J20)/$E34,0),)","v":0},{"$f":"IF(L$6>0,IF((SUM($F34:K34)+0.1<SUM($G20:K20)),SUM($G20:K20)/$E34,0),)","v":0},{"$f":"IF(M$6>0,IF((SUM($F34:L34)+0.1<SUM($G20:L20)),SUM($G20:L20)/$E34,0),)","v":0},{"$f":"IF(N$6>0,IF((SUM($F34:M34)+0.1<SUM($G20:M20)),SUM($G20:M20)/$E34,0),)","v":0},{"$f":"IF(O$6>0,IF((SUM($F34:N34)+0.1<SUM($G20:N20)),SUM($G20:N20)/$E34,0),)","v":0},{"$f":"IF(P$6>0,IF((SUM($F34:O34)+0.1<SUM($G20:O20)),SUM($G20:O20)/$E34,0),)","v":0},{"$f":"IF(Q$6>0,IF((SUM($F34:P34)+0.1<SUM($G20:P20)),SUM($G20:P20)/$E34,0),)","v":0},{"$f":"IF(R$6>0,IF((SUM($F34:Q34)+0.1<SUM($G20:Q20)),SUM($G20:Q20)/$E34,0),)","v":0},{"$f":"IF(S$6>0,IF((SUM($F34:R34)+0.1<SUM($G20:R20)),SUM($G20:R20)/$E34,0),)","v":0},{"$f":"IF(T$6>0,IF((SUM($F34:S34)+0.1<SUM($G20:S20)),SUM($G20:S20)/$E34,0),)","v":0},{"$f":"IF(U$6>0,IF((SUM($F34:T34)+0.1<SUM($G20:T20)),SUM($G20:T20)/$E34,0),)","v":0},{"$f":"IF(V$6>0,IF((SUM($F34:U34)+0.1<SUM($G20:U20)),SUM($G20:U20)/$E34,0),)","v":0},{"$f":"IF(W$6>0,IF((SUM($F34:V34)+0.1<SUM($G20:V20)),SUM($G20:V20)/$E34,0),)","v":0},{"$f":"IF(X$6>0,IF((SUM($F34:W34)+0.1<SUM($G20:W20)),SUM($G20:W20)/$E34,0),)","v":0},{"$f":"IF(Y$6>0,IF((SUM($F34:X34)+0.1<SUM($G20:X20)),SUM($G20:X20)/$E34,0),)","v":0},{"$f":"IF(Z$6>0,IF((SUM($F34:Y34)+0.1<SUM($G20:Y20)),SUM($G20:Y20)/$E34,0),)","v":0},{"$f":"IF(AA$6>0,IF((SUM($F34:Z34)+0.1<SUM($G20:Z20)),SUM($G20:Z20)/$E34,0),)","v":0},{"$f":"IF(AB$6>0,IF((SUM($F34:AA34)+0.1<SUM($G20:AA20)),SUM($G20:AA20)/$E34,0),)","v":0},{"$f":"IF(AC$6>0,IF((SUM($F34:AB34)+0.1<SUM($G20:AB20)),SUM($G20:AB20)/$E34,0),)","v":0},{"$f":"IF(AD$6>0,IF((SUM($F34:AC34)+0.1<SUM($G20:AC20)),SUM($G20:AC20)/$E34,0),)","v":0},{"$f":"IF(AE$6>0,IF((SUM($F34:AD34)+0.1<SUM($G20:AD20)),SUM($G20:AD20)/$E34,0),)","v":0},{"$f":"IF(AF$6>0,IF((SUM($F34:AE34)+0.1<SUM($G20:AE20)),SUM($G20:AE20)/$E34,0),)","v":0},{"$f":"IF(AG$6>0,IF((SUM($F34:AF34)+0.1<SUM($G20:AF20)),SUM($G20:AF20)/$E34,0),)","v":0},{"$f":"IF(AH$6>0,IF((SUM($F34:AG34)+0.1<SUM($G20:AG20)),SUM($G20:AG20)/$E34,0),)","v":0},{"$f":"IF(AI$6>0,IF((SUM($F34:AH34)+0.1<SUM($G20:AH20)),SUM($G20:AH20)/$E34,0),)","v":0},{"$f":"IF(AJ$6>0,IF((SUM($F34:AI34)+0.1<SUM($G20:AI20)),SUM($G20:AI20)/$E34,0),)","v":0},{"$f":"IF(AK$6>0,IF((SUM($F34:AJ34)+0.1<SUM($G20:AJ20)),SUM($G20:AJ20)/$E34,0),)","v":0},{"$f":"IF(AL$6>0,IF((SUM($F34:AK34)+0.1<SUM($G20:AK20)),SUM($G20:AK20)/$E34,0),)","v":0},{"$f":"IF(AM$6>0,IF((SUM($F34:AL34)+0.1<SUM($G20:AL20)),SUM($G20:AL20)/$E34,0),)","v":0},{"$f":"IF(AN$6>0,IF((SUM($F34:AM34)+0.1<SUM($G20:AM20)),SUM($G20:AM20)/$E34,0),)","v":0},{"$f":"IF(AO$6>0,IF((SUM($F34:AN34)+0.1<SUM($G20:AN20)),SUM($G20:AN20)/$E34,0),)","v":0},{"$f":"IF(AP$6>0,IF((SUM($F34:AO34)+0.1<SUM($G20:AO20)),SUM($G20:AO20)/$E34,0),)","v":0},{"$f":"IF(AQ$6>0,IF((SUM($F34:AP34)+0.1<SUM($G20:AP20)),SUM($G20:AP20)/$E34,0),)","v":0},{"$f":"IF(AR$6>0,IF((SUM($F34:AQ34)+0.1<SUM($G20:AQ20)),SUM($G20:AQ20)/$E34,0),)","v":0},{"$f":"IF(AS$6>0,IF((SUM($F34:AR34)+0.1<SUM($G20:AR20)),SUM($G20:AR20)/$E34,0),)","v":0},{"$f":"IF(AT$6>0,IF((SUM($F34:AS34)+0.1<SUM($G20:AS20)),SUM($G20:AS20)/$E34,0),)","v":0},{"$f":"IF(AU$6>0,IF((SUM($F34:AT34)+0.1<SUM($G20:AT20)),SUM($G20:AT20)/$E34,0),)","v":0},{"$f":"IF(AV$6>0,IF((SUM($F34:AU34)+0.1<SUM($G20:AU20)),SUM($G20:AU20)/$E34,0),)","v":0},{"$f":"IF(AW$6>0,IF((SUM($F34:AV34)+0.1<SUM($G20:AV20)),SUM($G20:AV20)/$E34,0),)","v":0},{"$f":"IF(AX$6>0,IF((SUM($F34:AW34)+0.1<SUM($G20:AW20)),SUM($G20:AW20)/$E34,0),)","v":0},{"$f":"IF(AY$6>0,IF((SUM($F34:AX34)+0.1<SUM($G20:AX20)),SUM($G20:AX20)/$E34,0),)","v":0},{"$f":"IF(AZ$6>0,IF((SUM($F34:AY34)+0.1<SUM($G20:AY20)),SUM($G20:AY20)/$E34,0),)","v":0},{"$f":"IF(BA$6>0,IF((SUM($F34:AZ34)+0.1<SUM($G20:AZ20)),SUM($G20:AZ20)/$E34,0),)","v":0},{"$f":"IF(BB$6>0,IF((SUM($F34:BA34)+0.1<SUM($G20:BA20)),SUM($G20:BA20)/$E34,0),)","v":0},{"$f":"IF(BC$6>0,IF((SUM($F34:BB34)+0.1<SUM($G20:BB20)),SUM($G20:BB20)/$E34,0),)","v":0},{"$f":"IF(BD$6>0,IF((SUM($F34:BC34)+0.1<SUM($G20:BC20)),SUM($G20:BC20)/$E34,0),)","v":0},{"$f":"IF(BE$6>0,IF((SUM($F34:BD34)+0.1<SUM($G20:BD20)),SUM($G20:BD20)/$E34,0),)","v":0},{"$f":"IF(BF$6>0,IF((SUM($F34:BE34)+0.1<SUM($G20:BE20)),SUM($G20:BE20)/$E34,0),)","v":0},{"$f":"IF(BG$6>0,IF((SUM($F34:BF34)+0.1<SUM($G20:BF20)),SUM($G20:BF20)/$E34,0),)","v":0},{"$f":"IF(BH$6>0,IF((SUM($F34:BG34)+0.1<SUM($G20:BG20)),SUM($G20:BG20)/$E34,0),)","v":0},{"$f":"IF(BI$6>0,IF((SUM($F34:BH34)+0.1<SUM($G20:BH20)),SUM($G20:BH20)/$E34,0),)","v":0},{"$f":"IF(BJ$6>0,IF((SUM($F34:BI34)+0.1<SUM($G20:BI20)),SUM($G20:BI20)/$E34,0),)","v":0},{"$f":"IF(BK$6>0,IF((SUM($F34:BJ34)+0.1<SUM($G20:BJ20)),SUM($G20:BJ20)/$E34,0),)","v":0},{"$f":"IF(BL$6>0,IF((SUM($F34:BK34)+0.1<SUM($G20:BK20)),SUM($G20:BK20)/$E34,0),)","v":0},{"$f":"IF(BM$6>0,IF((SUM($F34:BL34)+0.1<SUM($G20:BL20)),SUM($G20:BL20)/$E34,0),)","v":0},{"$f":"IF(BN$6>0,IF((SUM($F34:BM34)+0.1<SUM($G20:BM20)),SUM($G20:BM20)/$E34,0),)","v":0},{"$f":"IF(BO$6>0,IF((SUM($F34:BN34)+0.1<SUM($G20:BN20)),SUM($G20:BN20)/$E34,0),)","v":0},{"$f":"IF(BP$6>0,IF((SUM($F34:BO34)+0.1<SUM($G20:BO20)),SUM($G20:BO20)/$E34,0),)","v":0},{"$f":"IF(BQ$6>0,IF((SUM($F34:BP34)+0.1<SUM($G20:BP20)),SUM($G20:BP20)/$E34,0),)","v":0},{"$f":"IF(BR$6>0,IF((SUM($F34:BQ34)+0.1<SUM($G20:BQ20)),SUM($G20:BQ20)/$E34,0),)","v":0},{"$f":"IF(BS$6>0,IF((SUM($F34:BR34)+0.1<SUM($G20:BR20)),SUM($G20:BR20)/$E34,0),)","v":0},{"$f":"IF(BT$6>0,IF((SUM($F34:BS34)+0.1<SUM($G20:BS20)),SUM($G20:BS20)/$E34,0),)","v":0},{"$f":"IF(BU$6>0,IF((SUM($F34:BT34)+0.1<SUM($G20:BT20)),SUM($G20:BT20)/$E34,0),)","v":0},{"$f":"IF(BV$6>0,IF((SUM($F34:BU34)+0.1<SUM($G20:BU20)),SUM($G20:BU20)/$E34,0),)","v":0},{"$f":"IF(BW$6>0,IF((SUM($F34:BV34)+0.1<SUM($G20:BV20)),SUM($G20:BV20)/$E34,0),)","v":0},{"$f":"IF(BX$6>0,IF((SUM($F34:BW34)+0.1<SUM($G20:BW20)),SUM($G20:BW20)/$E34,0),)","v":0},{"$f":"IF(BY$6>0,IF((SUM($F34:BX34)+0.1<SUM($G20:BX20)),SUM($G20:BX20)/$E34,0),)","v":0},{"$f":"IF(BZ$6>0,IF((SUM($F34:BY34)+0.1<SUM($G20:BY20)),SUM($G20:BY20)/$E34,0),)","v":0},{"$f":"IF(CA$6>0,IF((SUM($F34:BZ34)+0.1<SUM($G20:BZ20)),SUM($G20:BZ20)/$E34,0),)","v":0},{"$f":"IF(CB$6>0,IF((SUM($F34:CA34)+0.1<SUM($G20:CA20)),SUM($G20:CA20)/$E34,0),)","v":0},{"$f":"IF(CC$6>0,IF((SUM($F34:CB34)+0.1<SUM($G20:CB20)),SUM($G20:CB20)/$E34,0),)","v":0},{"$f":"IF(CD$6>0,IF((SUM($F34:CC34)+0.1<SUM($G20:CC20)),SUM($G20:CC20)/$E34,0),)","v":0},{"$f":"IF(CE$6>0,IF((SUM($F34:CD34)+0.1<SUM($G20:CD20)),SUM($G20:CD20)/$E34,0),)","v":0},{"$f":"IF(CF$6>0,IF((SUM($F34:CE34)+0.1<SUM($G20:CE20)),SUM($G20:CE20)/$E34,0),)","v":0},{"$f":"IF(CG$6>0,IF((SUM($F34:CF34)+0.1<SUM($G20:CF20)),SUM($G20:CF20)/$E34,0),)","v":0},{"$f":"IF(CH$6>0,IF((SUM($F34:CG34)+0.1<SUM($G20:CG20)),SUM($G20:CG20)/$E34,0),)","v":0},{"$f":"IF(CI$6>0,IF((SUM($F34:CH34)+0.1<SUM($G20:CH20)),SUM($G20:CH20)/$E34,0),)","v":0},{"$f":"IF(CJ$6>0,IF((SUM($F34:CI34)+0.1<SUM($G20:CI20)),SUM($G20:CI20)/$E34,0),)","v":0},{"$f":"IF(CK$6>0,IF((SUM($F34:CJ34)+0.1<SUM($G20:CJ20)),SUM($G20:CJ20)/$E34,0),)","v":0},{"$f":"IF(CL$6>0,IF((SUM($F34:CK34)+0.1<SUM($G20:CK20)),SUM($G20:CK20)/$E34,0),)","v":0},{"$f":"IF(CM$6>0,IF((SUM($F34:CL34)+0.1<SUM($G20:CL20)),SUM($G20:CL20)/$E34,0),)","v":0},{"$f":"IF(CN$6>0,IF((SUM($F34:CM34)+0.1<SUM($G20:CM20)),SUM($G20:CM20)/$E34,0),)","v":0},{"$f":"IF(CO$6>0,IF((SUM($F34:CN34)+0.1<SUM($G20:CN20)),SUM($G20:CN20)/$E34,0),)","v":0},{"$f":"IF(CP$6>0,IF((SUM($F34:CO34)+0.1<SUM($G20:CO20)),SUM($G20:CO20)/$E34,0),)","v":0},{"$f":"IF(CQ$6>0,IF((SUM($F34:CP34)+0.1<SUM($G20:CP20)),SUM($G20:CP20)/$E34,0),)","v":0},{"$f":"IF(CR$6>0,IF((SUM($F34:CQ34)+0.1<SUM($G20:CQ20)),SUM($G20:CQ20)/$E34,0),)","v":0},{"$f":"IF(CS$6>0,IF((SUM($F34:CR34)+0.1<SUM($G20:CR20)),SUM($G20:CR20)/$E34,0),)","v":0},{"$f":"IF(CT$6>0,IF((SUM($F34:CS34)+0.1<SUM($G20:CS20)),SUM($G20:CS20)/$E34,0),)","v":0},{"$f":"IF(CU$6>0,IF((SUM($F34:CT34)+0.1<SUM($G20:CT20)),SUM($G20:CT20)/$E34,0),)","v":0},{"$f":"IF(CV$6>0,IF((SUM($F34:CU34)+0.1<SUM($G20:CU20)),SUM($G20:CU20)/$E34,0),)","v":0},{"$f":"IF(CW$6>0,IF((SUM($F34:CV34)+0.1<SUM($G20:CV20)),SUM($G20:CV20)/$E34,0),)","v":0},{"$f":"IF(CX$6>0,IF((SUM($F34:CW34)+0.1<SUM($G20:CW20)),SUM($G20:CW20)/$E34,0),)","v":0},{"$f":"IF(CY$6>0,IF((SUM($F34:CX34)+0.1<SUM($G20:CX20)),SUM($G20:CX20)/$E34,0),)","v":0},{"$f":"IF(CZ$6>0,IF((SUM($F34:CY34)+0.1<SUM($G20:CY20)),SUM($G20:CY20)/$E34,0),)","v":0},{"$f":"IF(DA$6>0,IF((SUM($F34:CZ34)+0.1<SUM($G20:CZ20)),SUM($G20:CZ20)/$E34,0),)","v":0},{"$f":"IF(DB$6>0,IF((SUM($F34:DA34)+0.1<SUM($G20:DA20)),SUM($G20:DA20)/$E34,0),)","v":0},{"$f":"IF(DC$6>0,IF((SUM($F34:DB34)+0.1<SUM($G20:DB20)),SUM($G20:DB20)/$E34,0),)","v":0},{"$f":"IF(DD$6>0,IF((SUM($F34:DC34)+0.1<SUM($G20:DC20)),SUM($G20:DC20)/$E34,0),)","v":0},{"$f":"IF(DE$6>0,IF((SUM($F34:DD34)+0.1<SUM($G20:DD20)),SUM($G20:DD20)/$E34,0),)","v":0},{"$f":"IF(DF$6>0,IF((SUM($F34:DE34)+0.1<SUM($G20:DE20)),SUM($G20:DE20)/$E34,0),)","v":0},{"$f":"IF(DG$6>0,IF((SUM($F34:DF34)+0.1<SUM($G20:DF20)),SUM($G20:DF20)/$E34,0),)","v":0},{"$f":"IF(DH$6>0,IF((SUM($F34:DG34)+0.1<SUM($G20:DG20)),SUM($G20:DG20)/$E34,0),)","v":0},{"$f":"IF(DI$6>0,IF((SUM($F34:DH34)+0.1<SUM($G20:DH20)),SUM($G20:DH20)/$E34,0),)","v":0},{"$f":"IF(DJ$6>0,IF((SUM($F34:DI34)+0.1<SUM($G20:DI20)),SUM($G20:DI20)/$E34,0),)","v":0},{"$f":"IF(DK$6>0,IF((SUM($F34:DJ34)+0.1<SUM($G20:DJ20)),SUM($G20:DJ20)/$E34,0),)","v":0},{"$f":"IF(DL$6>0,IF((SUM($F34:DK34)+0.1<SUM($G20:DK20)),SUM($G20:DK20)/$E34,0),)","v":0},{"$f":"IF(DM$6>0,IF((SUM($F34:DL34)+0.1<SUM($G20:DL20)),SUM($G20:DL20)/$E34,0),)","v":0},{"$f":"IF(DN$6>0,IF((SUM($F34:DM34)+0.1<SUM($G20:DM20)),SUM($G20:DM20)/$E34,0),)","v":0},{"$f":"IF(DO$6>0,IF((SUM($F34:DN34)+0.1<SUM($G20:DN20)),SUM($G20:DN20)/$E34,0),)","v":0},{"$f":"IF(DP$6>0,IF((SUM($F34:DO34)+0.1<SUM($G20:DO20)),SUM($G20:DO20)/$E34,0),)","v":0},{"$f":"IF(DQ$6>0,IF((SUM($F34:DP34)+0.1<SUM($G20:DP20)),SUM($G20:DP20)/$E34,0),)","v":0},{"$f":"IF(DR$6>0,IF((SUM($F34:DQ34)+0.1<SUM($G20:DQ20)),SUM($G20:DQ20)/$E34,0),)","v":0},{"$f":"IF(DS$6>0,IF((SUM($F34:DR34)+0.1<SUM($G20:DR20)),SUM($G20:DR20)/$E34,0),)","v":0},{"$f":"IF(DT$6>0,IF((SUM($F34:DS34)+0.1<SUM($G20:DS20)),SUM($G20:DS20)/$E34,0),)","v":0},{"$f":"IF(DU$6>0,IF((SUM($F34:DT34)+0.1<SUM($G20:DT20)),SUM($G20:DT20)/$E34,0),)","v":0},{"$f":"IF(DV$6>0,IF((SUM($F34:DU34)+0.1<SUM($G20:DU20)),SUM($G20:DU20)/$E34,0),)","v":0},{"$f":"IF(DW$6>0,IF((SUM($F34:DV34)+0.1<SUM($G20:DV20)),SUM($G20:DV20)/$E34,0),)","v":0},{"$f":"IF(DX$6>0,IF((SUM($F34:DW34)+0.1<SUM($G20:DW20)),SUM($G20:DW20)/$E34,0),)","v":0},{"$f":"IF(DY$6>0,IF((SUM($F34:DX34)+0.1<SUM($G20:DX20)),SUM($G20:DX20)/$E34,0),)","v":0},{"$f":"IF(DZ$6>0,IF((SUM($F34:DY34)+0.1<SUM($G20:DY20)),SUM($G20:DY20)/$E34,0),)","v":0},{"$f":"IF(EA$6>0,IF((SUM($F34:DZ34)+0.1<SUM($G20:DZ20)),SUM($G20:DZ20)/$E34,0),)","v":0},{"$f":"IF(EB$6>0,IF((SUM($F34:EA34)+0.1<SUM($G20:EA20)),SUM($G20:EA20)/$E34,0),)","v":0},{"$f":"IF(EC$6>0,IF((SUM($F34:EB34)+0.1<SUM($G20:EB20)),SUM($G20:EB20)/$E34,0),)","v":0},{"$f":"IF(ED$6>0,IF((SUM($F34:EC34)+0.1<SUM($G20:EC20)),SUM($G20:EC20)/$E34,0),)","v":0},{"$f":"IF(EE$6>0,IF((SUM($F34:ED34)+0.1<SUM($G20:ED20)),SUM($G20:ED20)/$E34,0),)","v":0},{"$f":"IF(EF$6>0,IF((SUM($F34:EE34)+0.1<SUM($G20:EE20)),SUM($G20:EE20)/$E34,0),)","v":0},{"$f":"IF(EG$6>0,IF((SUM($F34:EF34)+0.1<SUM($G20:EF20)),SUM($G20:EF20)/$E34,0),)","v":0},{"$f":"IF(EH$6>0,IF((SUM($F34:EG34)+0.1<SUM($G20:EG20)),SUM($G20:EG20)/$E34,0),)","v":0},{"$f":"IF(EI$6>0,IF((SUM($F34:EH34)+0.1<SUM($G20:EH20)),SUM($G20:EH20)/$E34,0),)","v":0},{"$f":"IF(EJ$6>0,IF((SUM($F34:EI34)+0.1<SUM($G20:EI20)),SUM($G20:EI20)/$E34,0),)","v":0},{"$f":"IF(EK$6>0,IF((SUM($F34:EJ34)+0.1<SUM($G20:EJ20)),SUM($G20:EJ20)/$E34,0),)","v":0},{"$f":"IF(EL$6>0,IF((SUM($F34:EK34)+0.1<SUM($G20:EK20)),SUM($G20:EK20)/$E34,0),)","v":0},{"$f":"IF(EM$6>0,IF((SUM($F34:EL34)+0.1<SUM($G20:EL20)),SUM($G20:EL20)/$E34,0),)","v":0},{"$f":"IF(EN$6>0,IF((SUM($F34:EM34)+0.1<SUM($G20:EM20)),SUM($G20:EM20)/$E34,0),)","v":0},{"$f":"IF(EO$6>0,IF((SUM($F34:EN34)+0.1<SUM($G20:EN20)),SUM($G20:EN20)/$E34,0),)","v":0},{"$f":"IF(EP$6>0,IF((SUM($F34:EO34)+0.1<SUM($G20:EO20)),SUM($G20:EO20)/$E34,0),)","v":0},{"$f":"IF(EQ$6>0,IF((SUM($F34:EP34)+0.1<SUM($G20:EP20)),SUM($G20:EP20)/$E34,0),)","v":0},{"$f":"IF(ER$6>0,IF((SUM($F34:EQ34)+0.1<SUM($G20:EQ20)),SUM($G20:EQ20)/$E34,0),)","v":0},{"$f":"IF(ES$6>0,IF((SUM($F34:ER34)+0.1<SUM($G20:ER20)),SUM($G20:ER20)/$E34,0),)","v":0},{"$f":"IF(ET$6>0,IF((SUM($F34:ES34)+0.1<SUM($G20:ES20)),SUM($G20:ES20)/$E34,0),)","v":0},{"$f":"IF(EU$6>0,IF((SUM($F34:ET34)+0.1<SUM($G20:ET20)),SUM($G20:ET20)/$E34,0),)","v":0},{"$f":"IF(EV$6>0,IF((SUM($F34:EU34)+0.1<SUM($G20:EU20)),SUM($G20:EU20)/$E34,0),)","v":0},{"$f":"IF(EW$6>0,IF((SUM($F34:EV34)+0.1<SUM($G20:EV20)),SUM($G20:EV20)/$E34,0),)","v":0},{"$f":"IF(EX$6>0,IF((SUM($F34:EW34)+0.1<SUM($G20:EW20)),SUM($G20:EW20)/$E34,0),)","v":0},{"$f":"IF(EY$6>0,IF((SUM($F34:EX34)+0.1<SUM($G20:EX20)),SUM($G20:EX20)/$E34,0),)","v":0},{"$f":"IF(EZ$6>0,IF((SUM($F34:EY34)+0.1<SUM($G20:EY20)),SUM($G20:EY20)/$E34,0),)","v":0},{"$f":"IF(FA$6>0,IF((SUM($F34:EZ34)+0.1<SUM($G20:EZ20)),SUM($G20:EZ20)/$E34,0),)","v":0},{"$f":"IF(FB$6>0,IF((SUM($F34:FA34)+0.1<SUM($G20:FA20)),SUM($G20:FA20)/$E34,0),)","v":0},{"$f":"IF(FC$6>0,IF((SUM($F34:FB34)+0.1<SUM($G20:FB20)),SUM($G20:FB20)/$E34,0),)","v":0},{"$f":"IF(FD$6>0,IF((SUM($F34:FC34)+0.1<SUM($G20:FC20)),SUM($G20:FC20)/$E34,0),)","v":0},{"$f":"IF(FE$6>0,IF((SUM($F34:FD34)+0.1<SUM($G20:FD20)),SUM($G20:FD20)/$E34,0),)","v":0},{"$f":"IF(FF$6>0,IF((SUM($F34:FE34)+0.1<SUM($G20:FE20)),SUM($G20:FE20)/$E34,0),)","v":0},{"$f":"IF(FG$6>0,IF((SUM($F34:FF34)+0.1<SUM($G20:FF20)),SUM($G20:FF20)/$E34,0),)","v":0},{"$f":"IF(FH$6>0,IF((SUM($F34:FG34)+0.1<SUM($G20:FG20)),SUM($G20:FG20)/$E34,0),)","v":0},{"$f":"IF(FI$6>0,IF((SUM($F34:FH34)+0.1<SUM($G20:FH20)),SUM($G20:FH20)/$E34,0),)","v":0},{"$f":"IF(FJ$6>0,IF((SUM($F34:FI34)+0.1<SUM($G20:FI20)),SUM($G20:FI20)/$E34,0),)","v":0},{"$f":"IF(FK$6>0,IF((SUM($F34:FJ34)+0.1<SUM($G20:FJ20)),SUM($G20:FJ20)/$E34,0),)","v":0},{"$f":"IF(FL$6>0,IF((SUM($F34:FK34)+0.1<SUM($G20:FK20)),SUM($G20:FK20)/$E34,0),)","v":0},{"$f":"IF(FM$6>0,IF((SUM($F34:FL34)+0.1<SUM($G20:FL20)),SUM($G20:FL20)/$E34,0),)","v":0},{"$f":"IF(FN$6>0,IF((SUM($F34:FM34)+0.1<SUM($G20:FM20)),SUM($G20:FM20)/$E34,0),)","v":0},{"$f":"IF(FO$6>0,IF((SUM($F34:FN34)+0.1<SUM($G20:FN20)),SUM($G20:FN20)/$E34,0),)","v":0},{"$f":"IF(FP$6>0,IF((SUM($F34:FO34)+0.1<SUM($G20:FO20)),SUM($G20:FO20)/$E34,0),)","v":0},{"$f":"IF(FQ$6>0,IF((SUM($F34:FP34)+0.1<SUM($G20:FP20)),SUM($G20:FP20)/$E34,0),)","v":0},{"$f":"IF(FR$6>0,IF((SUM($F34:FQ34)+0.1<SUM($G20:FQ20)),SUM($G20:FQ20)/$E34,0),)","v":0},{"$f":"IF(FS$6>0,IF((SUM($F34:FR34)+0.1<SUM($G20:FR20)),SUM($G20:FR20)/$E34,0),)","v":0},{"$f":"IF(FT$6>0,IF((SUM($F34:FS34)+0.1<SUM($G20:FS20)),SUM($G20:FS20)/$E34,0),)","v":0},{"$f":"IF(FU$6>0,IF((SUM($F34:FT34)+0.1<SUM($G20:FT20)),SUM($G20:FT20)/$E34,0),)","v":0},{"$f":"IF(FV$6>0,IF((SUM($F34:FU34)+0.1<SUM($G20:FU20)),SUM($G20:FU20)/$E34,0),)","v":0},{"$f":"IF(FW$6>0,IF((SUM($F34:FV34)+0.1<SUM($G20:FV20)),SUM($G20:FV20)/$E34,0),)","v":0},{"$f":"IF(FX$6>0,IF((SUM($F34:FW34)+0.1<SUM($G20:FW20)),SUM($G20:FW20)/$E34,0),)","v":0},{"$f":"IF(FY$6>0,IF((SUM($F34:FX34)+0.1<SUM($G20:FX20)),SUM($G20:FX20)/$E34,0),)","v":0},{"$f":"IF(FZ$6>0,IF((SUM($F34:FY34)+0.1<SUM($G20:FY20)),SUM($G20:FY20)/$E34,0),)","v":0},{"$f":"IF(GA$6>0,IF((SUM($F34:FZ34)+0.1<SUM($G20:FZ20)),SUM($G20:FZ20)/$E34,0),)","v":0},{"$f":"IF(GB$6>0,IF((SUM($F34:GA34)+0.1<SUM($G20:GA20)),SUM($G20:GA20)/$E34,0),)","v":0},{"$f":"IF(GC$6>0,IF((SUM($F34:GB34)+0.1<SUM($G20:GB20)),SUM($G20:GB20)/$E34,0),)","v":0},{"$f":"IF(GD$6>0,IF((SUM($F34:GC34)+0.1<SUM($G20:GC20)),SUM($G20:GC20)/$E34,0),)","v":0},{"$f":"IF(GE$6>0,IF((SUM($F34:GD34)+0.1<SUM($G20:GD20)),SUM($G20:GD20)/$E34,0),)","v":0},{"$f":"IF(GF$6>0,IF((SUM($F34:GE34)+0.1<SUM($G20:GE20)),SUM($G20:GE20)/$E34,0),)","v":0},{"$f":"IF(GG$6>0,IF((SUM($F34:GF34)+0.1<SUM($G20:GF20)),SUM($G20:GF20)/$E34,0),)","v":0},{"$f":"IF(GH$6>0,IF((SUM($F34:GG34)+0.1<SUM($G20:GG20)),SUM($G20:GG20)/$E34,0),)","v":0},{"$f":"IF(GI$6>0,IF((SUM($F34:GH34)+0.1<SUM($G20:GH20)),SUM($G20:GH20)/$E34,0),)","v":0},{"$f":"IF(GJ$6>0,IF((SUM($F34:GI34)+0.1<SUM($G20:GI20)),SUM($G20:GI20)/$E34,0),)","v":0},{"$f":"IF(GK$6>0,IF((SUM($F34:GJ34)+0.1<SUM($G20:GJ20)),SUM($G20:GJ20)/$E34,0),)","v":0},{"$f":"IF(GL$6>0,IF((SUM($F34:GK34)+0.1<SUM($G20:GK20)),SUM($G20:GK20)/$E34,0),)","v":0},{"$f":"IF(GM$6>0,IF((SUM($F34:GL34)+0.1<SUM($G20:GL20)),SUM($G20:GL20)/$E34,0),)","v":0},{"$f":"IF(GN$6>0,IF((SUM($F34:GM34)+0.1<SUM($G20:GM20)),SUM($G20:GM20)/$E34,0),)","v":0},{"$f":"IF(GO$6>0,IF((SUM($F34:GN34)+0.1<SUM($G20:GN20)),SUM($G20:GN20)/$E34,0),)","v":0},{"$f":"IF(GP$6>0,IF((SUM($F34:GO34)+0.1<SUM($G20:GO20)),SUM($G20:GO20)/$E34,0),)","v":0},{"$f":"IF(GQ$6>0,IF((SUM($F34:GP34)+0.1<SUM($G20:GP20)),SUM($G20:GP20)/$E34,0),)","v":0},{"$f":"IF(GR$6>0,IF((SUM($F34:GQ34)+0.1<SUM($G20:GQ20)),SUM($G20:GQ20)/$E34,0),)","v":0},{"$f":"IF(GS$6>0,IF((SUM($F34:GR34)+0.1<SUM($G20:GR20)),SUM($G20:GR20)/$E34,0),)","v":0},{"$f":"IF(GT$6>0,IF((SUM($F34:GS34)+0.1<SUM($G20:GS20)),SUM($G20:GS20)/$E34,0),)","v":0},{"$f":"IF(GU$6>0,IF((SUM($F34:GT34)+0.1<SUM($G20:GT20)),SUM($G20:GT20)/$E34,0),)","v":0},{"$f":"IF(GV$6>0,IF((SUM($F34:GU34)+0.1<SUM($G20:GU20)),SUM($G20:GU20)/$E34,0),)","v":0},{"$f":"IF(GW$6>0,IF((SUM($F34:GV34)+0.1<SUM($G20:GV20)),SUM($G20:GV20)/$E34,0),)","v":0},{"$f":"IF(GX$6>0,IF((SUM($F34:GW34)+0.1<SUM($G20:GW20)),SUM($G20:GW20)/$E34,0),)","v":0},{"$f":"IF(GY$6>0,IF((SUM($F34:GX34)+0.1<SUM($G20:GX20)),SUM($G20:GX20)/$E34,0),)","v":0},{"$f":"IF(GZ$6>0,IF((SUM($F34:GY34)+0.1<SUM($G20:GY20)),SUM($G20:GY20)/$E34,0),)","v":0},{"$f":"IF(HA$6>0,IF((SUM($F34:GZ34)+0.1<SUM($G20:GZ20)),SUM($G20:GZ20)/$E34,0),)","v":0},{"$f":"IF(HB$6>0,IF((SUM($F34:HA34)+0.1<SUM($G20:HA20)),SUM($G20:HA20)/$E34,0),)","v":0},{"$f":"IF(HC$6>0,IF((SUM($F34:HB34)+0.1<SUM($G20:HB20)),SUM($G20:HB20)/$E34,0),)","v":0},{"$f":"IF(HD$6>0,IF((SUM($F34:HC34)+0.1<SUM($G20:HC20)),SUM($G20:HC20)/$E34,0),)","v":0},{"$f":"IF(HE$6>0,IF((SUM($F34:HD34)+0.1<SUM($G20:HD20)),SUM($G20:HD20)/$E34,0),)","v":0},{"$f":"IF(HF$6>0,IF((SUM($F34:HE34)+0.1<SUM($G20:HE20)),SUM($G20:HE20)/$E34,0),)","v":0},{"$f":"IF(HG$6>0,IF((SUM($F34:HF34)+0.1<SUM($G20:HF20)),SUM($G20:HF20)/$E34,0),)","v":0},{"$f":"IF(HH$6>0,IF((SUM($F34:HG34)+0.1<SUM($G20:HG20)),SUM($G20:HG20)/$E34,0),)","v":0},{"$f":"IF(HI$6>0,IF((SUM($F34:HH34)+0.1<SUM($G20:HH20)),SUM($G20:HH20)/$E34,0),)","v":0},{"$f":"IF(HJ$6>0,IF((SUM($F34:HI34)+0.1<SUM($G20:HI20)),SUM($G20:HI20)/$E34,0),)","v":0},{"$f":"IF(HK$6>0,IF((SUM($F34:HJ34)+0.1<SUM($G20:HJ20)),SUM($G20:HJ20)/$E34,0),)","v":0},{"$f":"IF(HL$6>0,IF((SUM($F34:HK34)+0.1<SUM($G20:HK20)),SUM($G20:HK20)/$E34,0),)","v":0},{"$f":"IF(HM$6>0,IF((SUM($F34:HL34)+0.1<SUM($G20:HL20)),SUM($G20:HL20)/$E34,0),)","v":0},{"$f":"IF(HN$6>0,IF((SUM($F34:HM34)+0.1<SUM($G20:HM20)),SUM($G20:HM20)/$E34,0),)","v":0},{"$f":"IF(HO$6>0,IF((SUM($F34:HN34)+0.1<SUM($G20:HN20)),SUM($G20:HN20)/$E34,0),)","v":0},{"$f":"IF(HP$6>0,IF((SUM($F34:HO34)+0.1<SUM($G20:HO20)),SUM($G20:HO20)/$E34,0),)","v":0},{"$f":"IF(HQ$6>0,IF((SUM($F34:HP34)+0.1<SUM($G20:HP20)),SUM($G20:HP20)/$E34,0),)","v":0},{"$f":"IF(HR$6>0,IF((SUM($F34:HQ34)+0.1<SUM($G20:HQ20)),SUM($G20:HQ20)/$E34,0),)","v":0},{"$f":"IF(HS$6>0,IF((SUM($F34:HR34)+0.1<SUM($G20:HR20)),SUM($G20:HR20)/$E34,0),)","v":0},{"$f":"IF(HT$6>0,IF((SUM($F34:HS34)+0.1<SUM($G20:HS20)),SUM($G20:HS20)/$E34,0),)","v":0},{"$f":"IF(HU$6>0,IF((SUM($F34:HT34)+0.1<SUM($G20:HT20)),SUM($G20:HT20)/$E34,0),)","v":0},{"$f":"IF(HV$6>0,IF((SUM($F34:HU34)+0.1<SUM($G20:HU20)),SUM($G20:HU20)/$E34,0),)","v":0},{"$f":"IF(HW$6>0,IF((SUM($F34:HV34)+0.1<SUM($G20:HV20)),SUM($G20:HV20)/$E34,0),)","v":0},{"$f":"IF(HX$6>0,IF((SUM($F34:HW34)+0.1<SUM($G20:HW20)),SUM($G20:HW20)/$E34,0),)","v":0},{"$f":"IF(HY$6>0,IF((SUM($F34:HX34)+0.1<SUM($G20:HX20)),SUM($G20:HX20)/$E34,0),)","v":0},{"$f":"IF(HZ$6>0,IF((SUM($F34:HY34)+0.1<SUM($G20:HY20)),SUM($G20:HY20)/$E34,0),)","v":0},{"$f":"IF(IA$6>0,IF((SUM($F34:HZ34)+0.1<SUM($G20:HZ20)),SUM($G20:HZ20)/$E34,0),)","v":0},{"$f":"IF(IB$6>0,IF((SUM($F34:IA34)+0.1<SUM($G20:IA20)),SUM($G20:IA20)/$E34,0),)","v":0},{"$f":"IF(IC$6>0,IF((SUM($F34:IB34)+0.1<SUM($G20:IB20)),SUM($G20:IB20)/$E34,0),)","v":0},{"$f":"IF(ID$6>0,IF((SUM($F34:IC34)+0.1<SUM($G20:IC20)),SUM($G20:IC20)/$E34,0),)","v":0},{"$f":"IF(IE$6>0,IF((SUM($F34:ID34)+0.1<SUM($G20:ID20)),SUM($G20:ID20)/$E34,0),)","v":0},{"$f":"IF(IF$6>0,IF((SUM($F34:IE34)+0.1<SUM($G20:IE20)),SUM($G20:IE20)/$E34,0),)","v":0},{"$f":"IF(IG$6>0,IF((SUM($F34:IF34)+0.1<SUM($G20:IF20)),SUM($G20:IF20)/$E34,0),)","v":0},{"$f":"IF(IH$6>0,IF((SUM($F34:IG34)+0.1<SUM($G20:IG20)),SUM($G20:IG20)/$E34,0),)","v":0},{"$f":"IF(II$6>0,IF((SUM($F34:IH34)+0.1<SUM($G20:IH20)),SUM($G20:IH20)/$E34,0),)","v":0},{"$f":"IF(IJ$6>0,IF((SUM($F34:II34)+0.1<SUM($G20:II20)),SUM($G20:II20)/$E34,0),)","v":0},{"$f":"IF(IK$6>0,IF((SUM($F34:IJ34)+0.1<SUM($G20:IJ20)),SUM($G20:IJ20)/$E34,0),)","v":0},{"$f":"IF(IL$6>0,IF((SUM($F34:IK34)+0.1<SUM($G20:IK20)),SUM($G20:IK20)/$E34,0),)","v":0},{"$f":"IF(IM$6>0,IF((SUM($F34:IL34)+0.1<SUM($G20:IL20)),SUM($G20:IL20)/$E34,0),)","v":0},{"$f":"IF(IN$6>0,IF((SUM($F34:IM34)+0.1<SUM($G20:IM20)),SUM($G20:IM20)/$E34,0),)","v":0},{"$f":"IF(IO$6>0,IF((SUM($F34:IN34)+0.1<SUM($G20:IN20)),SUM($G20:IN20)/$E34,0),)","v":0},{"$f":"IF(IP$6>0,IF((SUM($F34:IO34)+0.1<SUM($G20:IO20)),SUM($G20:IO20)/$E34,0),)","v":0},{"$f":"IF(IQ$6>0,IF((SUM($F34:IP34)+0.1<SUM($G20:IP20)),SUM($G20:IP20)/$E34,0),)","v":0},{"$f":"IF(IR$6>0,IF((SUM($F34:IQ34)+0.1<SUM($G20:IQ20)),SUM($G20:IQ20)/$E34,0),)","v":0},{"$f":"IF(IS$6>0,IF((SUM($F34:IR34)+0.1<SUM($G20:IR20)),SUM($G20:IR20)/$E34,0),)","v":0},{"$f":"IF(IT$6>0,IF((SUM($F34:IS34)+0.1<SUM($G20:IS20)),SUM($G20:IS20)/$E34,0),)","v":0},{"$f":"IF(IU$6>0,IF((SUM($F34:IT34)+0.1<SUM($G20:IT20)),SUM($G20:IT20)/$E34,0),)","v":0},{"$f":"IF(IV$6>0,IF((SUM($F34:IU34)+0.1<SUM($G20:IU20)),SUM($G20:IU20)/$E34,0),)","v":0},{"$f":"IF(IW$6>0,IF((SUM($F34:IV34)+0.1<SUM($G20:IV20)),SUM($G20:IV20)/$E34,0),)","v":0},{"$f":"IF(IX$6>0,IF((SUM($F34:IW34)+0.1<SUM($G20:IW20)),SUM($G20:IW20)/$E34,0),)","v":0},{"$f":"IF(IY$6>0,IF((SUM($F34:IX34)+0.1<SUM($G20:IX20)),SUM($G20:IX20)/$E34,0),)","v":0},{"$f":"IF(IZ$6>0,IF((SUM($F34:IY34)+0.1<SUM($G20:IY20)),SUM($G20:IY20)/$E34,0),)","v":0},{"$f":"IF(JA$6>0,IF((SUM($F34:IZ34)+0.1<SUM($G20:IZ20)),SUM($G20:IZ20)/$E34,0),)","v":0},{"$f":"IF(JB$6>0,IF((SUM($F34:JA34)+0.1<SUM($G20:JA20)),SUM($G20:JA20)/$E34,0),)","v":0},{"$f":"IF(JC$6>0,IF((SUM($F34:JB34)+0.1<SUM($G20:JB20)),SUM($G20:JB20)/$E34,0),)","v":0},{"$f":"IF(JD$6>0,IF((SUM($F34:JC34)+0.1<SUM($G20:JC20)),SUM($G20:JC20)/$E34,0),)","v":0},{"$f":"IF(JE$6>0,IF((SUM($F34:JD34)+0.1<SUM($G20:JD20)),SUM($G20:JD20)/$E34,0),)","v":0},{"$f":"IF(JF$6>0,IF((SUM($F34:JE34)+0.1<SUM($G20:JE20)),SUM($G20:JE20)/$E34,0),)","v":0},{"$f":"IF(JG$6>0,IF((SUM($F34:JF34)+0.1<SUM($G20:JF20)),SUM($G20:JF20)/$E34,0),)","v":0},{"$f":"IF(JH$6>0,IF((SUM($F34:JG34)+0.1<SUM($G20:JG20)),SUM($G20:JG20)/$E34,0),)","v":0},{"$f":"IF(JI$6>0,IF((SUM($F34:JH34)+0.1<SUM($G20:JH20)),SUM($G20:JH20)/$E34,0),)","v":0},{"$f":"IF(JJ$6>0,IF((SUM($F34:JI34)+0.1<SUM($G20:JI20)),SUM($G20:JI20)/$E34,0),)","v":0},{"$f":"IF(JK$6>0,IF((SUM($F34:JJ34)+0.1<SUM($G20:JJ20)),SUM($G20:JJ20)/$E34,0),)","v":0},{"$f":"IF(JL$6>0,IF((SUM($F34:JK34)+0.1<SUM($G20:JK20)),SUM($G20:JK20)/$E34,0),)","v":0},{"$f":"IF(JM$6>0,IF((SUM($F34:JL34)+0.1<SUM($G20:JL20)),SUM($G20:JL20)/$E34,0),)","v":0},{"$f":"IF(JN$6>0,IF((SUM($F34:JM34)+0.1<SUM($G20:JM20)),SUM($G20:JM20)/$E34,0),)","v":0},{"$f":"IF(JO$6>0,IF((SUM($F34:JN34)+0.1<SUM($G20:JN20)),SUM($G20:JN20)/$E34,0),)","v":0},{"$f":"IF(JP$6>0,IF((SUM($F34:JO34)+0.1<SUM($G20:JO20)),SUM($G20:JO20)/$E34,0),)","v":0},{"$f":"IF(JQ$6>0,IF((SUM($F34:JP34)+0.1<SUM($G20:JP20)),SUM($G20:JP20)/$E34,0),)","v":0},{"$f":"IF(JR$6>0,IF((SUM($F34:JQ34)+0.1<SUM($G20:JQ20)),SUM($G20:JQ20)/$E34,0),)","v":0},{"$f":"IF(JS$6>0,IF((SUM($F34:JR34)+0.1<SUM($G20:JR20)),SUM($G20:JR20)/$E34,0),)","v":0},{"$f":"IF(JT$6>0,IF((SUM($F34:JS34)+0.1<SUM($G20:JS20)),SUM($G20:JS20)/$E34,0),)","v":0},{"$f":"IF(JU$6>0,IF((SUM($F34:JT34)+0.1<SUM($G20:JT20)),SUM($G20:JT20)/$E34,0),)","v":0},{"$f":"IF(JV$6>0,IF((SUM($F34:JU34)+0.1<SUM($G20:JU20)),SUM($G20:JU20)/$E34,0),)","v":0},{"$f":"IF(JW$6>0,IF((SUM($F34:JV34)+0.1<SUM($G20:JV20)),SUM($G20:JV20)/$E34,0),)","v":0},{"$f":"IF(JX$6>0,IF((SUM($F34:JW34)+0.1<SUM($G20:JW20)),SUM($G20:JW20)/$E34,0),)","v":0},{"$f":"IF(JY$6>0,IF((SUM($F34:JX34)+0.1<SUM($G20:JX20)),SUM($G20:JX20)/$E34,0),)","v":0},{"$f":"IF(JZ$6>0,IF((SUM($F34:JY34)+0.1<SUM($G20:JY20)),SUM($G20:JY20)/$E34,0),)","v":0},{"$f":"IF(KA$6>0,IF((SUM($F34:JZ34)+0.1<SUM($G20:JZ20)),SUM($G20:JZ20)/$E34,0),)","v":0},{"$f":"IF(KB$6>0,IF((SUM($F34:KA34)+0.1<SUM($G20:KA20)),SUM($G20:KA20)/$E34,0),)","v":0},{"$f":"IF(KC$6>0,IF((SUM($F34:KB34)+0.1<SUM($G20:KB20)),SUM($G20:KB20)/$E34,0),)","v":0},{"$f":"IF(KD$6>0,IF((SUM($F34:KC34)+0.1<SUM($G20:KC20)),SUM($G20:KC20)/$E34,0),)","v":0},{"$f":"IF(KE$6>0,IF((SUM($F34:KD34)+0.1<SUM($G20:KD20)),SUM($G20:KD20)/$E34,0),)","v":0},{"$f":"IF(KF$6>0,IF((SUM($F34:KE34)+0.1<SUM($G20:KE20)),SUM($G20:KE20)/$E34,0),)","v":0},{"$f":"IF(KG$6>0,IF((SUM($F34:KF34)+0.1<SUM($G20:KF20)),SUM($G20:KF20)/$E34,0),)","v":0},{"$f":"IF(KH$6>0,IF((SUM($F34:KG34)+0.1<SUM($G20:KG20)),SUM($G20:KG20)/$E34,0),)","v":0},{"$f":"IF(KI$6>0,IF((SUM($F34:KH34)+0.1<SUM($G20:KH20)),SUM($G20:KH20)/$E34,0),)","v":0},{"$f":"IF(KJ$6>0,IF((SUM($F34:KI34)+0.1<SUM($G20:KI20)),SUM($G20:KI20)/$E34,0),)","v":0},{"$f":"IF(KK$6>0,IF((SUM($F34:KJ34)+0.1<SUM($G20:KJ20)),SUM($G20:KJ20)/$E34,0),)","v":0},{"$f":"IF(KL$6>0,IF((SUM($F34:KK34)+0.1<SUM($G20:KK20)),SUM($G20:KK20)/$E34,0),)","v":0},{"$f":"IF(KM$6>0,IF((SUM($F34:KL34)+0.1<SUM($G20:KL20)),SUM($G20:KL20)/$E34,0),)","v":0},{"$f":"IF(KN$6>0,IF((SUM($F34:KM34)+0.1<SUM($G20:KM20)),SUM($G20:KM20)/$E34,0),)","v":0},{"$f":"IF(KO$6>0,IF((SUM($F34:KN34)+0.1<SUM($G20:KN20)),SUM($G20:KN20)/$E34,0),)","v":0},{"$f":"IF(KP$6>0,IF((SUM($F34:KO34)+0.1<SUM($G20:KO20)),SUM($G20:KO20)/$E34,0),)","v":0},{"$f":"IF(KQ$6>0,IF((SUM($F34:KP34)+0.1<SUM($G20:KP20)),SUM($G20:KP20)/$E34,0),)","v":0},{"$f":"IF(KR$6>0,IF((SUM($F34:KQ34)+0.1<SUM($G20:KQ20)),SUM($G20:KQ20)/$E34,0),)","v":0},{"$f":"IF(KS$6>0,IF((SUM($F34:KR34)+0.1<SUM($G20:KR20)),SUM($G20:KR20)/$E34,0),)","v":0},{"$f":"IF(KT$6>0,IF((SUM($F34:KS34)+0.1<SUM($G20:KS20)),SUM($G20:KS20)/$E34,0),)","v":0},{"$f":"IF(KU$6>0,IF((SUM($F34:KT34)+0.1<SUM($G20:KT20)),SUM($G20:KT20)/$E34,0),)","v":0},{"$f":"IF(KV$6>0,IF((SUM($F34:KU34)+0.1<SUM($G20:KU20)),SUM($G20:KU20)/$E34,0),)","v":0},{"$f":"IF(KW$6>0,IF((SUM($F34:KV34)+0.1<SUM($G20:KV20)),SUM($G20:KV20)/$E34,0),)","v":0},{"$f":"IF(KX$6>0,IF((SUM($F34:KW34)+0.1<SUM($G20:KW20)),SUM($G20:KW20)/$E34,0),)","v":0},{"$f":"IF(KY$6>0,IF((SUM($F34:KX34)+0.1<SUM($G20:KX20)),SUM($G20:KX20)/$E34,0),)","v":0},{"$f":"IF(KZ$6>0,IF((SUM($F34:KY34)+0.1<SUM($G20:KY20)),SUM($G20:KY20)/$E34,0),)","v":0},{"$f":"IF(LA$6>0,IF((SUM($F34:KZ34)+0.1<SUM($G20:KZ20)),SUM($G20:KZ20)/$E34,0),)","v":0},{"$f":"IF(LB$6>0,IF((SUM($F34:LA34)+0.1<SUM($G20:LA20)),SUM($G20:LA20)/$E34,0),)","v":0},{"$f":"IF(LC$6>0,IF((SUM($F34:LB34)+0.1<SUM($G20:LB20)),SUM($G20:LB20)/$E34,0),)","v":0},{"$f":"IF(LD$6>0,IF((SUM($F34:LC34)+0.1<SUM($G20:LC20)),SUM($G20:LC20)/$E34,0),)","v":0},{"$f":"IF(LE$6>0,IF((SUM($F34:LD34)+0.1<SUM($G20:LD20)),SUM($G20:LD20)/$E34,0),)","v":0},{"$f":"IF(LF$6>0,IF((SUM($F34:LE34)+0.1<SUM($G20:LE20)),SUM($G20:LE20)/$E34,0),)","v":0},{"$f":"IF(LG$6>0,IF((SUM($F34:LF34)+0.1<SUM($G20:LF20)),SUM($G20:LF20)/$E34,0),)","v":0},{"$f":"IF(LH$6>0,IF((SUM($F34:LG34)+0.1<SUM($G20:LG20)),SUM($G20:LG20)/$E34,0),)","v":0},{"$f":"IF(LI$6>0,IF((SUM($F34:LH34)+0.1<SUM($G20:LH20)),SUM($G20:LH20)/$E34,0),)","v":0},{"$f":"IF(LJ$6>0,IF((SUM($F34:LI34)+0.1<SUM($G20:LI20)),SUM($G20:LI20)/$E34,0),)","v":0},{"$f":"IF(LK$6>0,IF((SUM($F34:LJ34)+0.1<SUM($G20:LJ20)),SUM($G20:LJ20)/$E34,0),)","v":0},{"$f":"IF(LL$6>0,IF((SUM($F34:LK34)+0.1<SUM($G20:LK20)),SUM($G20:LK20)/$E34,0),)","v":0},{"$f":"IF(LM$6>0,IF((SUM($F34:LL34)+0.1<SUM($G20:LL20)),SUM($G20:LL20)/$E34,0),)","v":0},{"$f":"IF(LN$6>0,IF((SUM($F34:LM34)+0.1<SUM($G20:LM20)),SUM($G20:LM20)/$E34,0),)","v":0},{"$f":"IF(LO$6>0,IF((SUM($F34:LN34)+0.1<SUM($G20:LN20)),SUM($G20:LN20)/$E34,0),)","v":0},{"$f":"IF(LP$6>0,IF((SUM($F34:LO34)+0.1<SUM($G20:LO20)),SUM($G20:LO20)/$E34,0),)","v":0},{"$f":"IF(LQ$6>0,IF((SUM($F34:LP34)+0.1<SUM($G20:LP20)),SUM($G20:LP20)/$E34,0),)","v":0},{"$f":"IF(LR$6>0,IF((SUM($F34:LQ34)+0.1<SUM($G20:LQ20)),SUM($G20:LQ20)/$E34,0),)","v":0},{"$f":"IF(LS$6>0,IF((SUM($F34:LR34)+0.1<SUM($G20:LR20)),SUM($G20:LR20)/$E34,0),)","v":0},{"$f":"IF(LT$6>0,IF((SUM($F34:LS34)+0.1<SUM($G20:LS20)),SUM($G20:LS20)/$E34,0),)","v":0},{"$f":"IF(LU$6>0,IF((SUM($F34:LT34)+0.1<SUM($G20:LT20)),SUM($G20:LT20)/$E34,0),)","v":0},{"$f":"IF(LV$6>0,IF((SUM($F34:LU34)+0.1<SUM($G20:LU20)),SUM($G20:LU20)/$E34,0),)","v":0},{"$f":"IF(LW$6>0,IF((SUM($F34:LV34)+0.1<SUM($G20:LV20)),SUM($G20:LV20)/$E34,0),)","v":0},{"$f":"IF(LX$6>0,IF((SUM($F34:LW34)+0.1<SUM($G20:LW20)),SUM($G20:LW20)/$E34,0),)","v":0},{"$f":"IF(LY$6>0,IF((SUM($F34:LX34)+0.1<SUM($G20:LX20)),SUM($G20:LX20)/$E34,0),)","v":0},{"$f":"IF(LZ$6>0,IF((SUM($F34:LY34)+0.1<SUM($G20:LY20)),SUM($G20:LY20)/$E34,0),)","v":0},{"$f":"IF(MA$6>0,IF((SUM($F34:LZ34)+0.1<SUM($G20:LZ20)),SUM($G20:LZ20)/$E34,0),)","v":0},{"$f":"IF(MB$6>0,IF((SUM($F34:MA34)+0.1<SUM($G20:MA20)),SUM($G20:MA20)/$E34,0),)","v":0},{"$f":"IF(MC$6>0,IF((SUM($F34:MB34)+0.1<SUM($G20:MB20)),SUM($G20:MB20)/$E34,0),)","v":0},{"$f":"IF(MD$6>0,IF((SUM($F34:MC34)+0.1<SUM($G20:MC20)),SUM($G20:MC20)/$E34,0),)","v":0},{"$f":"IF(ME$6>0,IF((SUM($F34:MD34)+0.1<SUM($G20:MD20)),SUM($G20:MD20)/$E34,0),)","v":0},{"$f":"IF(MF$6>0,IF((SUM($F34:ME34)+0.1<SUM($G20:ME20)),SUM($G20:ME20)/$E34,0),)","v":0},{"$f":"IF(MG$6>0,IF((SUM($F34:MF34)+0.1<SUM($G20:MF20)),SUM($G20:MF20)/$E34,0),)","v":0},{"$f":"IF(MH$6>0,IF((SUM($F34:MG34)+0.1<SUM($G20:MG20)),SUM($G20:MG20)/$E34,0),)","v":0},{"$f":"IF(MI$6>0,IF((SUM($F34:MH34)+0.1<SUM($G20:MH20)),SUM($G20:MH20)/$E34,0),)","v":0},{"$f":"IF(MJ$6>0,IF((SUM($F34:MI34)+0.1<SUM($G20:MI20)),SUM($G20:MI20)/$E34,0),)","v":0},{"$f":"IF(MK$6>0,IF((SUM($F34:MJ34)+0.1<SUM($G20:MJ20)),SUM($G20:MJ20)/$E34,0),)","v":0},{"$f":"IF(ML$6>0,IF((SUM($F34:MK34)+0.1<SUM($G20:MK20)),SUM($G20:MK20)/$E34,0),)","v":0},{"$f":"IF(MM$6>0,IF((SUM($F34:ML34)+0.1<SUM($G20:ML20)),SUM($G20:ML20)/$E34,0),)","v":0},{"$f":"IF(MN$6>0,IF((SUM($F34:MM34)+0.1<SUM($G20:MM20)),SUM($G20:MM20)/$E34,0),)","v":0},{"$f":"IF(MO$6>0,IF((SUM($F34:MN34)+0.1<SUM($G20:MN20)),SUM($G20:MN20)/$E34,0),)","v":0},{"$f":"IF(MP$6>0,IF((SUM($F34:MO34)+0.1<SUM($G20:MO20)),SUM($G20:MO20)/$E34,0),)","v":0},{"$f":"IF(MQ$6>0,IF((SUM($F34:MP34)+0.1<SUM($G20:MP20)),SUM($G20:MP20)/$E34,0),)","v":0},{"$f":"IF(MR$6>0,IF((SUM($F34:MQ34)+0.1<SUM($G20:MQ20)),SUM($G20:MQ20)/$E34,0),)","v":0},{"$f":"IF(MS$6>0,IF((SUM($F34:MR34)+0.1<SUM($G20:MR20)),SUM($G20:MR20)/$E34,0),)","v":0},{"$f":"IF(MT$6>0,IF((SUM($F34:MS34)+0.1<SUM($G20:MS20)),SUM($G20:MS20)/$E34,0),)","v":0},{"$f":"IF(MU$6>0,IF((SUM($F34:MT34)+0.1<SUM($G20:MT20)),SUM($G20:MT20)/$E34,0),)","v":0},{"$f":"IF(MV$6>0,IF((SUM($F34:MU34)+0.1<SUM($G20:MU20)),SUM($G20:MU20)/$E34,0),)","v":0},{"$f":"IF(MW$6>0,IF((SUM($F34:MV34)+0.1<SUM($G20:MV20)),SUM($G20:MV20)/$E34,0),)","v":0},{"$f":"IF(MX$6>0,IF((SUM($F34:MW34)+0.1<SUM($G20:MW20)),SUM($G20:MW20)/$E34,0),)","v":0},{"$f":"IF(MY$6>0,IF((SUM($F34:MX34)+0.1<SUM($G20:MX20)),SUM($G20:MX20)/$E34,0),)","v":0},{"$f":"IF(MZ$6>0,IF((SUM($F34:MY34)+0.1<SUM($G20:MY20)),SUM($G20:MY20)/$E34,0),)","v":0},{"$f":"IF(NA$6>0,IF((SUM($F34:MZ34)+0.1<SUM($G20:MZ20)),SUM($G20:MZ20)/$E34,0),)","v":0},{"$f":"IF(NB$6>0,IF((SUM($F34:NA34)+0.1<SUM($G20:NA20)),SUM($G20:NA20)/$E34,0),)","v":0},{"$f":"IF(NC$6>0,IF((SUM($F34:NB34)+0.1<SUM($G20:NB20)),SUM($G20:NB20)/$E34,0),)","v":0},{"$f":"IF(ND$6>0,IF((SUM($F34:NC34)+0.1<SUM($G20:NC20)),SUM($G20:NC20)/$E34,0),)","v":0},{"$f":"IF(NE$6>0,IF((SUM($F34:ND34)+0.1<SUM($G20:ND20)),SUM($G20:ND20)/$E34,0),)","v":0},{"$f":"IF(NF$6>0,IF((SUM($F34:NE34)+0.1<SUM($G20:NE20)),SUM($G20:NE20)/$E34,0),)","v":0},{"$f":"IF(NG$6>0,IF((SUM($F34:NF34)+0.1<SUM($G20:NF20)),SUM($G20:NF20)/$E34,0),)","v":0},{"$f":"IF(NH$6>0,IF((SUM($F34:NG34)+0.1<SUM($G20:NG20)),SUM($G20:NG20)/$E34,0),)","v":0},{"$f":"IF(NI$6>0,IF((SUM($F34:NH34)+0.1<SUM($G20:NH20)),SUM($G20:NH20)/$E34,0),)","v":0},{"$f":"IF(NJ$6>0,IF((SUM($F34:NI34)+0.1<SUM($G20:NI20)),SUM($G20:NI20)/$E34,0),)","v":0},{"$f":"IF(NK$6>0,IF((SUM($F34:NJ34)+0.1<SUM($G20:NJ20)),SUM($G20:NJ20)/$E34,0),)","v":0},{"$f":"IF(NL$6>0,IF((SUM($F34:NK34)+0.1<SUM($G20:NK20)),SUM($G20:NK20)/$E34,0),)","v":0},{"$f":"IF(NM$6>0,IF((SUM($F34:NL34)+0.1<SUM($G20:NL20)),SUM($G20:NL20)/$E34,0),)","v":0},{"$f":"IF(NN$6>0,IF((SUM($F34:NM34)+0.1<SUM($G20:NM20)),SUM($G20:NM20)/$E34,0),)","v":0},{"$f":"IF(NO$6>0,IF((SUM($F34:NN34)+0.1<SUM($G20:NN20)),SUM($G20:NN20)/$E34,0),)","v":0},{"$f":"IF(NP$6>0,IF((SUM($F34:NO34)+0.1<SUM($G20:NO20)),SUM($G20:NO20)/$E34,0),)","v":0},{"$f":"IF(NQ$6>0,IF((SUM($F34:NP34)+0.1<SUM($G20:NP20)),SUM($G20:NP20)/$E34,0),)","v":0},{"$f":"IF(NR$6>0,IF((SUM($F34:NQ34)+0.1<SUM($G20:NQ20)),SUM($G20:NQ20)/$E34,0),)","v":0},{"$f":"IF(NS$6>0,IF((SUM($F34:NR34)+0.1<SUM($G20:NR20)),SUM($G20:NR20)/$E34,0),)","v":0},{"$f":"IF(NT$6>0,IF((SUM($F34:NS34)+0.1<SUM($G20:NS20)),SUM($G20:NS20)/$E34,0),)","v":0},{"$f":"IF(NU$6>0,IF((SUM($F34:NT34)+0.1<SUM($G20:NT20)),SUM($G20:NT20)/$E34,0),)","v":0},{"$f":"IF(NV$6>0,IF((SUM($F34:NU34)+0.1<SUM($G20:NU20)),SUM($G20:NU20)/$E34,0),)","v":0},{"$f":"IF(NW$6>0,IF((SUM($F34:NV34)+0.1<SUM($G20:NV20)),SUM($G20:NV20)/$E34,0),)","v":0},{"$f":"IF(NX$6>0,IF((SUM($F34:NW34)+0.1<SUM($G20:NW20)),SUM($G20:NW20)/$E34,0),)","v":0},{"$f":"IF(NY$6>0,IF((SUM($F34:NX34)+0.1<SUM($G20:NX20)),SUM($G20:NX20)/$E34,0),)","v":0},{"$f":"IF(NZ$6>0,IF((SUM($F34:NY34)+0.1<SUM($G20:NY20)),SUM($G20:NY20)/$E34,0),)","v":0},{"$f":"IF(OA$6>0,IF((SUM($F34:NZ34)+0.1<SUM($G20:NZ20)),SUM($G20:NZ20)/$E34,0),)","v":0},{"$f":"IF(OB$6>0,IF((SUM($F34:OA34)+0.1<SUM($G20:OA20)),SUM($G20:OA20)/$E34,0),)","v":0},{"$f":"IF(OC$6>0,IF((SUM($F34:OB34)+0.1<SUM($G20:OB20)),SUM($G20:OB20)/$E34,0),)","v":0},{"$f":"IF(OD$6>0,IF((SUM($F34:OC34)+0.1<SUM($G20:OC20)),SUM($G20:OC20)/$E34,0),)","v":0},{"$f":"IF(OE$6>0,IF((SUM($F34:OD34)+0.1<SUM($G20:OD20)),SUM($G20:OD20)/$E34,0),)","v":0},{"$f":"IF(OF$6>0,IF((SUM($F34:OE34)+0.1<SUM($G20:OE20)),SUM($G20:OE20)/$E34,0),)","v":0},{"$f":"IF(OG$6>0,IF((SUM($F34:OF34)+0.1<SUM($G20:OF20)),SUM($G20:OF20)/$E34,0),)","v":0},{"$f":"IF(OH$6>0,IF((SUM($F34:OG34)+0.1<SUM($G20:OG20)),SUM($G20:OG20)/$E34,0),)","v":0},{"$f":"IF(OI$6>0,IF((SUM($F34:OH34)+0.1<SUM($G20:OH20)),SUM($G20:OH20)/$E34,0),)","v":0},{"$f":"IF(OJ$6>0,IF((SUM($F34:OI34)+0.1<SUM($G20:OI20)),SUM($G20:OI20)/$E34,0),)","v":0},{"$f":"IF(OK$6>0,IF((SUM($F34:OJ34)+0.1<SUM($G20:OJ20)),SUM($G20:OJ20)/$E34,0),)","v":0},{"$f":"IF(OL$6>0,IF((SUM($F34:OK34)+0.1<SUM($G20:OK20)),SUM($G20:OK20)/$E34,0),)","v":0},{"$f":"IF(OM$6>0,IF((SUM($F34:OL34)+0.1<SUM($G20:OL20)),SUM($G20:OL20)/$E34,0),)","v":0},{"$f":"IF(ON$6>0,IF((SUM($F34:OM34)+0.1<SUM($G20:OM20)),SUM($G20:OM20)/$E34,0),)","v":0},{"$f":"IF(OO$6>0,IF((SUM($F34:ON34)+0.1<SUM($G20:ON20)),SUM($G20:ON20)/$E34,0),)","v":0},{"$f":"IF(OP$6>0,IF((SUM($F34:OO34)+0.1<SUM($G20:OO20)),SUM($G20:OO20)/$E34,0),)","v":0},{"$f":"IF(OQ$6>0,IF((SUM($F34:OP34)+0.1<SUM($G20:OP20)),SUM($G20:OP20)/$E34,0),)","v":0},{"$f":"IF(OR$6>0,IF((SUM($F34:OQ34)+0.1<SUM($G20:OQ20)),SUM($G20:OQ20)/$E34,0),)","v":0},{"$f":"IF(OS$6>0,IF((SUM($F34:OR34)+0.1<SUM($G20:OR20)),SUM($G20:OR20)/$E34,0),)","v":0},{"$f":"IF(OT$6>0,IF((SUM($F34:OS34)+0.1<SUM($G20:OS20)),SUM($G20:OS20)/$E34,0),)","v":0},{"$f":"IF(OU$6>0,IF((SUM($F34:OT34)+0.1<SUM($G20:OT20)),SUM($G20:OT20)/$E34,0),)","v":0},{"$f":"IF(OV$6>0,IF((SUM($F34:OU34)+0.1<SUM($G20:OU20)),SUM($G20:OU20)/$E34,0),)","v":0},{"$f":"IF(OW$6>0,IF((SUM($F34:OV34)+0.1<SUM($G20:OV20)),SUM($G20:OV20)/$E34,0),)","v":0},{"$f":"IF(OX$6>0,IF((SUM($F34:OW34)+0.1<SUM($G20:OW20)),SUM($G20:OW20)/$E34,0),)","v":0},{"$f":"IF(OY$6>0,IF((SUM($F34:OX34)+0.1<SUM($G20:OX20)),SUM($G20:OX20)/$E34,0),)","v":0},{"$f":"IF(OZ$6>0,IF((SUM($F34:OY34)+0.1<SUM($G20:OY20)),SUM($G20:OY20)/$E34,0),)","v":0},{"$f":"IF(PA$6>0,IF((SUM($F34:OZ34)+0.1<SUM($G20:OZ20)),SUM($G20:OZ20)/$E34,0),)","v":0},{"$f":"IF(PB$6>0,IF((SUM($F34:PA34)+0.1<SUM($G20:PA20)),SUM($G20:PA20)/$E34,0),)","v":0},{"$f":"IF(PC$6>0,IF((SUM($F34:PB34)+0.1<SUM($G20:PB20)),SUM($G20:PB20)/$E34,0),)","v":0},{"$f":"IF(PD$6>0,IF((SUM($F34:PC34)+0.1<SUM($G20:PC20)),SUM($G20:PC20)/$E34,0),)","v":0},{"$f":"IF(PE$6>0,IF((SUM($F34:PD34)+0.1<SUM($G20:PD20)),SUM($G20:PD20)/$E34,0),)","v":0},{"$f":"IF(PF$6>0,IF((SUM($F34:PE34)+0.1<SUM($G20:PE20)),SUM($G20:PE20)/$E34,0),)","v":0},{"$f":"IF(PG$6>0,IF((SUM($F34:PF34)+0.1<SUM($G20:PF20)),SUM($G20:PF20)/$E34,0),)","v":0},{"$f":"IF(PH$6>0,IF((SUM($F34:PG34)+0.1<SUM($G20:PG20)),SUM($G20:PG20)/$E34,0),)","v":0},{"$f":"IF(PI$6>0,IF((SUM($F34:PH34)+0.1<SUM($G20:PH20)),SUM($G20:PH20)/$E34,0),)","v":0},{"$f":"IF(PJ$6>0,IF((SUM($F34:PI34)+0.1<SUM($G20:PI20)),SUM($G20:PI20)/$E34,0),)","v":0},{"$f":"IF(PK$6>0,IF((SUM($F34:PJ34)+0.1<SUM($G20:PJ20)),SUM($G20:PJ20)/$E34,0),)","v":0},{"$f":"IF(PL$6>0,IF((SUM($F34:PK34)+0.1<SUM($G20:PK20)),SUM($G20:PK20)/$E34,0),)","v":0},{"$f":"IF(PM$6>0,IF((SUM($F34:PL34)+0.1<SUM($G20:PL20)),SUM($G20:PL20)/$E34,0),)","v":0},{"$f":"IF(PN$6>0,IF((SUM($F34:PM34)+0.1<SUM($G20:PM20)),SUM($G20:PM20)/$E34,0),)","v":0},{"$f":"IF(PO$6>0,IF((SUM($F34:PN34)+0.1<SUM($G20:PN20)),SUM($G20:PN20)/$E34,0),)","v":0},{"$f":"IF(PP$6>0,IF((SUM($F34:PO34)+0.1<SUM($G20:PO20)),SUM($G20:PO20)/$E34,0),)","v":0},{"$f":"IF(PQ$6>0,IF((SUM($F34:PP34)+0.1<SUM($G20:PP20)),SUM($G20:PP20)/$E34,0),)","v":0},{"$f":"IF(PR$6>0,IF((SUM($F34:PQ34)+0.1<SUM($G20:PQ20)),SUM($G20:PQ20)/$E34,0),)","v":0},{"$f":"IF(PS$6>0,IF((SUM($F34:PR34)+0.1<SUM($G20:PR20)),SUM($G20:PR20)/$E34,0),)","v":0},{"$f":"IF(PT$6>0,IF((SUM($F34:PS34)+0.1<SUM($G20:PS20)),SUM($G20:PS20)/$E34,0),)","v":0},{"$f":"IF(PU$6>0,IF((SUM($F34:PT34)+0.1<SUM($G20:PT20)),SUM($G20:PT20)/$E34,0),)","v":0},{"$f":"IF(PV$6>0,IF((SUM($F34:PU34)+0.1<SUM($G20:PU20)),SUM($G20:PU20)/$E34,0),)","v":0},{"$f":"IF(PW$6>0,IF((SUM($F34:PV34)+0.1<SUM($G20:PV20)),SUM($G20:PV20)/$E34,0),)","v":0},{"$f":"IF(PX$6>0,IF((SUM($F34:PW34)+0.1<SUM($G20:PW20)),SUM($G20:PW20)/$E34,0),)","v":0},{"$f":"IF(PY$6>0,IF((SUM($F34:PX34)+0.1<SUM($G20:PX20)),SUM($G20:PX20)/$E34,0),)","v":0},{"$f":"IF(PZ$6>0,IF((SUM($F34:PY34)+0.1<SUM($G20:PY20)),SUM($G20:PY20)/$E34,0),)","v":0},{"$f":"IF(QA$6>0,IF((SUM($F34:PZ34)+0.1<SUM($G20:PZ20)),SUM($G20:PZ20)/$E34,0),)","v":0},{"$f":"IF(QB$6>0,IF((SUM($F34:QA34)+0.1<SUM($G20:QA20)),SUM($G20:QA20)/$E34,0),)","v":0},{"$f":"IF(QC$6>0,IF((SUM($F34:QB34)+0.1<SUM($G20:QB20)),SUM($G20:QB20)/$E34,0),)","v":0},{"$f":"IF(QD$6>0,IF((SUM($F34:QC34)+0.1<SUM($G20:QC20)),SUM($G20:QC20)/$E34,0),)","v":0},{"$f":"IF(QE$6>0,IF((SUM($F34:QD34)+0.1<SUM($G20:QD20)),SUM($G20:QD20)/$E34,0),)","v":0},{"$f":"IF(QF$6>0,IF((SUM($F34:QE34)+0.1<SUM($G20:QE20)),SUM($G20:QE20)/$E34,0),)","v":0},{"$f":"IF(QG$6>0,IF((SUM($F34:QF34)+0.1<SUM($G20:QF20)),SUM($G20:QF20)/$E34,0),)","v":0},{"$f":"IF(QH$6>0,IF((SUM($F34:QG34)+0.1<SUM($G20:QG20)),SUM($G20:QG20)/$E34,0),)","v":0},{"$f":"IF(QI$6>0,IF((SUM($F34:QH34)+0.1<SUM($G20:QH20)),SUM($G20:QH20)/$E34,0),)","v":0},{"$f":"IF(QJ$6>0,IF((SUM($F34:QI34)+0.1<SUM($G20:QI20)),SUM($G20:QI20)/$E34,0),)","v":0},{"$f":"IF(QK$6>0,IF((SUM($F34:QJ34)+0.1<SUM($G20:QJ20)),SUM($G20:QJ20)/$E34,0),)","v":0},{"$f":"IF(QL$6>0,IF((SUM($F34:QK34)+0.1<SUM($G20:QK20)),SUM($G20:QK20)/$E34,0),)","v":0},{"$f":"IF(QM$6>0,IF((SUM($F34:QL34)+0.1<SUM($G20:QL20)),SUM($G20:QL20)/$E34,0),)","v":0},{"$f":"IF(QN$6>0,IF((SUM($F34:QM34)+0.1<SUM($G20:QM20)),SUM($G20:QM20)/$E34,0),)","v":0},{"$f":"IF(QO$6>0,IF((SUM($F34:QN34)+0.1<SUM($G20:QN20)),SUM($G20:QN20)/$E34,0),)","v":0},{"$f":"IF(QP$6>0,IF((SUM($F34:QO34)+0.1<SUM($G20:QO20)),SUM($G20:QO20)/$E34,0),)","v":0},{"$f":"IF(QQ$6>0,IF((SUM($F34:QP34)+0.1<SUM($G20:QP20)),SUM($G20:QP20)/$E34,0),)","v":0},{"$f":"IF(QR$6>0,IF((SUM($F34:QQ34)+0.1<SUM($G20:QQ20)),SUM($G20:QQ20)/$E34,0),)","v":0},{"$f":"IF(QS$6>0,IF((SUM($F34:QR34)+0.1<SUM($G20:QR20)),SUM($G20:QR20)/$E34,0),)","v":0},{"$f":"IF(QT$6>0,IF((SUM($F34:QS34)+0.1<SUM($G20:QS20)),SUM($G20:QS20)/$E34,0),)","v":0},{"$f":"IF(QU$6>0,IF((SUM($F34:QT34)+0.1<SUM($G20:QT20)),SUM($G20:QT20)/$E34,0),)","v":0},{"$f":"IF(QV$6>0,IF((SUM($F34:QU34)+0.1<SUM($G20:QU20)),SUM($G20:QU20)/$E34,0),)","v":0},{"$f":"IF(QW$6>0,IF((SUM($F34:QV34)+0.1<SUM($G20:QV20)),SUM($G20:QV20)/$E34,0),)","v":0},{"$f":"IF(QX$6>0,IF((SUM($F34:QW34)+0.1<SUM($G20:QW20)),SUM($G20:QW20)/$E34,0),)","v":0},{"$f":"IF(QY$6>0,IF((SUM($F34:QX34)+0.1<SUM($G20:QX20)),SUM($G20:QX20)/$E34,0),)","v":0},{"$f":"IF(QZ$6>0,IF((SUM($F34:QY34)+0.1<SUM($G20:QY20)),SUM($G20:QY20)/$E34,0),)","v":0},{"$f":"IF(RA$6>0,IF((SUM($F34:QZ34)+0.1<SUM($G20:QZ20)),SUM($G20:QZ20)/$E34,0),)","v":0},{"$f":"IF(RB$6>0,IF((SUM($F34:RA34)+0.1<SUM($G20:RA20)),SUM($G20:RA20)/$E34,0),)","v":0},{"$f":"IF(RC$6>0,IF((SUM($F34:RB34)+0.1<SUM($G20:RB20)),SUM($G20:RB20)/$E34,0),)","v":0},{"$f":"IF(RD$6>0,IF((SUM($F34:RC34)+0.1<SUM($G20:RC20)),SUM($G20:RC20)/$E34,0),)","v":0},{"$f":"IF(RE$6>0,IF((SUM($F34:RD34)+0.1<SUM($G20:RD20)),SUM($G20:RD20)/$E34,0),)","v":0},{"$f":"IF(RF$6>0,IF((SUM($F34:RE34)+0.1<SUM($G20:RE20)),SUM($G20:RE20)/$E34,0),)","v":0}]
[]
[{"$nulls":6},{"$f":"+G3","v":"2022-01-31"},"2022-02-28","2022-03-31","2022-04-30","2022-05-31","2022-06-30","2022-07-31","2022-08-31","2022-09-30","2022-10-31","2022-11-30","2022-12-31","2023-01-31","2023-02-28","2023-03-31","2023-04-30","2023-05-31","2023-06-30","2023-07-31","2023-08-31","2023-09-30","2023-10-31","2023-11-30","2023-12-31","2024-01-31","2024-02-29","2024-03-31","2024-04-30","2024-05-31","2024-06-30","2024-07-31","2024-08-31","2024-09-30","2024-10-31","2024-11-30","2024-12-31","2025-01-31","2025-02-28","2025-03-31","2025-04-30","2025-05-31","2025-06-30","2025-07-31","2025-08-31","2025-09-30","2025-10-31","2025-11-30","2025-12-31","2026-01-31","2026-02-28","2026-03-31","2026-04-30","2026-05-31","2026-06-30","2026-07-31","2026-08-31","2026-09-30","2026-10-31","2026-11-30","2026-12-31","2027-01-31","2027-02-28","2027-03-31","2027-04-30",{"$f":"+BS3","v":"2027-05-31"},"2027-06-30","2027-07-31","2027-08-31","2027-09-30","2027-10-31","2027-11-30","2027-12-31","2028-01-31","2028-02-29","2028-03-31","2028-04-30","2028-05-31","2028-06-30","2028-07-31","2028-08-31","2028-09-30","2028-10-31","2028-11-30","2028-12-31","2029-01-31","2029-02-28","2029-03-31","2029-04-30","2029-05-31","2029-06-30","2029-07-31","2029-08-31","2029-09-30","2029-10-31","2029-11-30","2029-12-31","2030-01-31","2030-02-28","2030-03-31","2030-04-30","2030-05-31","2030-06-30","2030-07-31","2030-08-31","2030-09-30","2030-10-31","2030-11-30","2030-12-31","2031-01-31","2031-02-28","2031-03-31","2031-04-30","2031-05-31","2031-06-30","2031-07-31","2031-08-31","2031-09-30","2031-10-31","2031-11-30","2031-12-31","2032-01-31","2032-02-29","2032-03-31","2032-04-30","2032-05-31","2032-06-30","2032-07-31","2032-08-31",{"$f":"+EE3","v":"2032-09-30"},"2032-10-31","2032-11-30","2032-12-31","2033-01-31","2033-02-28","2033-03-31","2033-04-30","2033-05-31","2033-06-30","2033-07-31","2033-08-31","2033-09-30","2033-10-31","2033-11-30","2033-12-31","2034-01-31","2034-02-28","2034-03-31","2034-04-30","2034-05-31","2034-06-30","2034-07-31","2034-08-31","2034-09-30","2034-10-31","2034-11-30","2034-12-31","2035-01-31","2035-02-28","2035-03-31","2035-04-30","2035-05-31","2035-06-30","2035-07-31","2035-08-31","2035-09-30","2035-10-31","2035-11-30","2035-12-31","2036-01-31","2036-02-29","2036-03-31","2036-04-30","2036-05-31","2036-06-30","2036-07-31","2036-08-31","2036-09-30","2036-10-31","2036-11-30","2036-12-31","2037-01-31","2037-02-28","2037-03-31","2037-04-30","2037-05-31","2037-06-30","2037-07-31","2037-08-31","2037-09-30","2037-10-31","2037-11-30","2037-12-31",{"$f":"+GQ3","v":"2038-01-31"},"2038-02-28","2038-03-31","2038-04-30","2038-05-31","2038-06-30","2038-07-31","2038-08-31","2038-09-30","2038-10-31","2038-11-30","2038-12-31","2039-01-31","2039-02-28","2039-03-31","2039-04-30","2039-05-31","2039-06-30","2039-07-31","2039-08-31","2039-09-30","2039-10-31","2039-11-30","2039-12-31","2040-01-31","2040-02-29","2040-03-31","2040-04-30","2040-05-31","2040-06-30","2040-07-31","2040-08-31","2040-09-30","2040-10-31","2040-11-30","2040-12-31","2041-01-31","2041-02-28","2041-03-31","2041-04-30","2041-05-31","2041-06-30","2041-07-31","2041-08-31","2041-09-30","2041-10-31","2041-11-30","2041-12-31","2042-01-31","2042-02-28","2042-03-31","2042-04-30","2042-05-31","2042-06-30","2042-07-31","2042-08-31","2042-09-30","2042-10-31","2042-11-30","2042-12-31","2043-01-31","2043-02-28","2043-03-31","2043-04-30",{"$f":"+JC3","v":"2043-05-31"},"2043-06-30","2043-07-31","2043-08-31","2043-09-30","2043-10-31","2043-11-30","2043-12-31","2044-01-31","2044-02-29","2044-03-31","2044-04-30","2044-05-31","2044-06-30","2044-07-31","2044-08-31","2044-09-30","2044-10-31","2044-11-30","2044-12-31","2045-01-31","2045-02-28","2045-03-31","2045-04-30","2045-05-31","2045-06-30","2045-07-31","2045-08-31","2045-09-30","2045-10-31","2045-11-30","2045-12-31","2046-01-31","2046-02-28","2046-03-31","2046-04-30","2046-05-31","2046-06-30","2046-07-31","2046-08-31","2046-09-30","2046-10-31","2046-11-30","2046-12-31","2047-01-31","2047-02-28","2047-03-31","2047-04-30","2047-05-31","2047-06-30","2047-07-31","2047-08-31","2047-09-30","2047-10-31","2047-11-30","2047-12-31","2048-01-31","2048-02-29","2048-03-31","2048-04-30","2048-05-31","2048-06-30","2048-07-31","2048-08-31",{"$f":"+LO3","v":"2048-09-30"},"2048-10-31","2048-11-30","2048-12-31","2049-01-31","2049-02-28","2049-03-31","2049-04-30","2049-05-31","2049-06-30","2049-07-31","2049-08-31","2049-09-30","2049-10-31","2049-11-30","2049-12-31","2050-01-31","2050-02-28","2050-03-31","2050-04-30","2050-05-31","2050-06-30","2050-07-31","2050-08-31","2050-09-30","2050-10-31","2050-11-30","2050-12-31",{"$f":"+MQ3","v":"2051-01-31"},"2051-02-28","2051-03-31","2051-04-30","2051-05-31","2051-06-30","2051-07-31","2051-08-31","2051-09-30","2051-10-31","2051-11-30","2051-12-31","2052-01-31","2052-02-29","2052-03-31","2052-04-30","2052-05-31","2052-06-30","2052-07-31","2052-08-31","2052-09-30","2052-10-31","2052-11-30","2052-12-31","2053-01-31","2053-02-28","2053-03-31","2053-04-30","2053-05-31","2053-06-30","2053-07-31","2053-08-31","2053-09-30","2053-10-31","2053-11-30","2053-12-31","2054-01-31","2054-02-28","2054-03-31","2054-04-30","2054-05-31","2054-06-30","2054-07-31","2054-08-31","2054-09-30","2054-10-31","2054-11-30","2054-12-31","2055-01-31","2055-02-28","2055-03-31","2055-04-30","2055-05-31","2055-06-30","2055-07-31","2055-08-31","2055-09-30","2055-10-31","2055-11-30","2055-12-31","2056-01-31","2056-02-29","2056-03-31","2056-04-30",{"$f":"+PC3","v":"2056-05-31"},"2056-06-30","2056-07-31","2056-08-31","2056-09-30","2056-10-31","2056-11-30","2056-12-31","2057-01-31","2057-02-28","2057-03-31","2057-04-30","2057-05-31","2057-06-30","2057-07-31","2057-08-31","2057-09-30","2057-10-31","2057-11-30","2057-12-31","2058-01-31","2058-02-28","2058-03-31","2058-04-30","2058-05-31","2058-06-30","2058-07-31","2058-08-31","2058-09-30","2058-10-31","2058-11-30","2058-12-31","2059-01-31","2059-02-28","2059-03-31","2059-04-30","2059-05-31","2059-06-30","2059-07-31","2059-08-31","2059-09-30","2059-10-31","2059-11-30","2059-12-31","2060-01-31","2060-02-29","2060-03-31","2060-04-30","2060-05-31","2060-06-30","2060-07-31","2060-08-31","2060-09-30","2060-10-31","2060-11-30","2060-12-31"]
["xxxxxx","Depreciação"]
[null,"Ativo","Valor","Ciclo de Vida (Anos)","Ciclo de Vida (Meses)",null,{"$f":"SUM(G39:G48)","v":0},{"$f":"SUM(H39:H48)","v":0},{"$f":"SUM(I39:I48)","v":0},0,0,0,0,0,0,0,0,0,0,0,0,0,0,0,0,0,0,0,0,0,0,0,0,0,0,0,0,0,0,0,0,0,0,0,0,0,0,0,0,0,0,0,0,0,0,0,0,0,0,0,0,0,0,0,0,0,0,0,0,0,0,0,{"$f":"SUM(BU39:BU48)","v":0},0,0,0,0,0,0,0,0,0,0,0,0,0,0,0,0,0,0,0,0,0,0,0,0,0,0,0,0,0,0,0,0,0,0,0,0,0,0,0,0,0,0,0,0,0,0,0,0,0,0,0,0,0,0,0,0,0,0,0,0,0,0,0,{"$f":"SUM(EG39:EG48)","v":0},0,0,0,0,0,0,0,0,0,0,0,0,0,0,0,0,0,0,0,0,0,0,0,0,0,0,0,0,0,0,0,0,0,0,0,0,0,0,0,0,0,0,0,0,0,0,0,0,0,0,0,0,0,0,0,0,0,0,0,0,0,0,0,{"$f":"SUM(GS39:GS48)","v":0},0,0,0,0,0,0,0,0,0,0,0,0,0,0,0,0,0,0,0,0,0,0,0,0,0,0,0,0,0,0,0,0,0,0,0,0,0,0,0,0,0,0,0,0,0,0,0,0,0,0,0,0,0,0,0,0,0,0,0,0,0,0,0,{"$f":"SUM(JE39:JE48)","v":0},0,0,0,0,0,0,0,0,0,0,0,0,0,0,0,0,0,0,0,0,0,0,0,0,0,0,0,0,0,0,0,0,0,0,0,0,0,0,0,0,0,0,0,0,0,0,0,0,0,0,0,0,0,0,0,0,0,0,0,0,0,0,0,{"$f":"SUM(LQ39:LQ48)","v":0},0,0,0,0,0,0,0,0,0,0,0,0,0,0,0,0,0,0,0,0,0,0,0,0,0,{"$f":"SUM(MQ39:MQ48)","v":0},0,0,0,0,0,0,0,0,0,0,0,0,0,0,0,0,0,0,0,0,0,0,0,0,0,0,0,0,0,0,0,0,0,0,0,0,0,0,0,0,0,0,0,0,0,0,0,0,0,0,0,0,0,0,0,0,0,0,0,0,0,0,0,{"$f":"SUM(PC39:PC48)","v":0},0,0,0,0,0,0,0,0,0,0,0,0,0,0,0,0,0,0,0,0,0,0,0,0,0,0,0,0,0,0,0,0,0,0,0,0,0,0,0,0,0,0,0,0,0,0,0,0,0,0,0,0,0,0,0]
[null,{"$f":"+B25","v":"GASIG"},{"v":167982495.80918133,"d":"167,982,496"},15,180]
[null,0,0,0,0]
[null,0,0,0,0]
[null,0,0,0,0]
[null,0,0,0,0]
[null,0,0,0,0]
[null,0,0,0,0]
[null,0,0,0,0]
[null,0,0,0,0]
[null,0,0,0,0]
[]
[{"$nulls":6},{"$f":"+G3","v":"2022-01-31"},"2022-02-28","2022-03-31","2022-04-30","2022-05-31","2022-06-30","2022-07-31","2022-08-31","2022-09-30","2022-10-31","2022-11-30","2022-12-31","2023-01-31","2023-02-28","2023-03-31","2023-04-30","2023-05-31","2023-06-30","2023-07-31","2023-08-31","2023-09-30","2023-10-31","2023-11-30","2023-12-31","2024-01-31","2024-02-29","2024-03-31","2024-04-30","2024-05-31","2024-06-30","2024-07-31","2024-08-31","2024-09-30","2024-10-31","2024-11-30","2024-12-31","2025-01-31","2025-02-28","2025-03-31","2025-04-30","2025-05-31","2025-06-30","2025-07-31","2025-08-31","2025-09-30","2025-10-31","2025-11-30","2025-12-31","2026-01-31","2026-02-28","2026-03-31","2026-04-30","2026-05-31","2026-06-30","2026-07-31","2026-08-31","2026-09-30","2026-10-31","2026-11-30","2026-12-31","2027-01-31","2027-02-28","2027-03-31","2027-04-30",{"$f":"+BS3","v":"2027-05-31"},"2027-06-30","2027-07-31","2027-08-31","2027-09-30","2027-10-31","2027-11-30","2027-12-31","2028-01-31","2028-02-29","2028-03-31","2028-04-30","2028-05-31","2028-06-30","2028-07-31","2028-08-31","2028-09-30","2028-10-31","2028-11-30","2028-12-31","2029-01-31","2029-02-28","2029-03-31","2029-04-30","2029-05-31","2029-06-30","2029-07-31","2029-08-31","2029-09-30","2029-10-31","2029-11-30","2029-12-31","2030-01-31","2030-02-28","2030-03-31","2030-04-30","2030-05-31","2030-06-30","2030-07-31","2030-08-31","2030-09-30","2030-10-31","2030-11-30","2030-12-31","2031-01-31","2031-02-28","2031-03-31","2031-04-30","2031-05-31","2031-06-30","2031-07-31","2031-08-31","2031-09-30","2031-10-31","2031-11-30","2031-12-31","2032-01-31","2032-02-29","2032-03-31","2032-04-30","2032-05-31","2032-06-30","2032-07-31","2032-08-31",{"$f":"+EE3","v":"2032-09-30"},"2032-10-31","2032-11-30","2032-12-31","2033-01-31","2033-02-28","2033-03-31","2033-04-30","2033-05-31","2033-06-30","2033-07-31","2033-08-31","2033-09-30","2033-10-31","2033-11-30","2033-12-31","2034-01-31","2034-02-28","2034-03-31","2034-04-30","2034-05-31","2034-06-30","2034-07-31","2034-08-31","2034-09-30","2034-10-31","2034-11-30","2034-12-31","2035-01-31","2035-02-28","2035-03-31","2035-04-30","2035-05-31","2035-06-30","2035-07-31","2035-08-31","2035-09-30","2035-10-31","2035-11-30","2035-12-31","2036-01-31","2036-02-29","2036-03-31","2036-04-30","2036-05-31","2036-06-30","2036-07-31","2036-08-31","2036-09-30","2036-10-31","2036-11-30","2036-12-31","2037-01-31","2037-02-28","2037-03-31","2037-04-30","2037-05-31","2037-06-30","2037-07-31","2037-08-31","2037-09-30","2037-10-31","2037-11-30","2037-12-31",{"$f":"+GQ3","v":"2038-01-31"},"2038-02-28","2038-03-31","2038-04-30","2038-05-31","2038-06-30","2038-07-31","2038-08-31","2038-09-30","2038-10-31","2038-11-30","2038-12-31","2039-01-31","2039-02-28","2039-03-31","2039-04-30","2039-05-31","2039-06-30","2039-07-31","2039-08-31","2039-09-30","2039-10-31","2039-11-30","2039-12-31","2040-01-31","2040-02-29","2040-03-31","2040-04-30","2040-05-31","2040-06-30","2040-07-31","2040-08-31","2040-09-30","2040-10-31","2040-11-30","2040-12-31","2041-01-31","2041-02-28","2041-03-31","2041-04-30","2041-05-31","2041-06-30","2041-07-31","2041-08-31","2041-09-30","2041-10-31","2041-11-30","2041-12-31","2042-01-31","2042-02-28","2042-03-31","2042-04-30","2042-05-31","2042-06-30","2042-07-31","2042-08-31","2042-09-30","2042-10-31","2042-11-30","2042-12-31","2043-01-31","2043-02-28","2043-03-31","2043-04-30",{"$f":"+JC3","v":"2043-05-31"},"2043-06-30","2043-07-31","2043-08-31","2043-09-30","2043-10-31","2043-11-30","2043-12-31","2044-01-31","2044-02-29","2044-03-31","2044-04-30","2044-05-31","2044-06-30","2044-07-31","2044-08-31","2044-09-30","2044-10-31","2044-11-30","2044-12-31","2045-01-31","2045-02-28","2045-03-31","2045-04-30","2045-05-31","2045-06-30","2045-07-31","2045-08-31","2045-09-30","2045-10-31","2045-11-30","2045-12-31","2046-01-31","2046-02-28","2046-03-31","2046-04-30","2046-05-31","2046-06-30","2046-07-31","2046-08-31","2046-09-30","2046-10-31","2046-11-30","2046-12-31","2047-01-31","2047-02-28","2047-03-31","2047-04-30","2047-05-31","2047-06-30","2047-07-31","2047-08-31","2047-09-30","2047-10-31","2047-11-30","2047-12-31","2048-01-31","2048-02-29","2048-03-31","2048-04-30","2048-05-31","2048-06-30","2048-07-31","2048-08-31",{"$f":"+LO3","v":"2048-09-30"},"2048-10-31","2048-11-30","2048-12-31","2049-01-31","2049-02-28","2049-03-31","2049-04-30","2049-05-31","2049-06-30","2049-07-31","2049-08-31","2049-09-30","2049-10-31","2049-11-30","2049-12-31","2050-01-31","2050-02-28","2050-03-31","2050-04-30","2050-05-31","2050-06-30","2050-07-31","2050-08-31","2050-09-30","2050-10-31","2050-11-30","2050-12-31",{"$f":"+MQ3","v":"2051-01-31"},"2051-02-28","2051-03-31","2051-04-30","2051-05-31","2051-06-30","2051-07-31","2051-08-31","2051-09-30","2051-10-31","2051-11-30","2051-12-31","2052-01-31","2052-02-29","2052-03-31","2052-04-30","2052-05-31","2052-06-30","2052-07-31","2052-08-31","2052-09-30","2052-10-31","2052-11-30","2052-12-31","2053-01-31","2053-02-28","2053-03-31","2053-04-30","2053-05-31","2053-06-30","2053-07-31","2053-08-31","2053-09-30","2053-10-31","2053-11-30","2053-12-31","2054-01-31","2054-02-28","2054-03-31","2054-04-30","2054-05-31","2054-06-30","2054-07-31","2054-08-31","2054-09-30","2054-10-31","2054-11-30","2054-12-31","2055-01-31","2055-02-28","2055-03-31","2055-04-30","2055-05-31","2055-06-30","2055-07-31","2055-08-31","2055-09-30","2055-10-31","2055-11-30","2055-12-31","2056-01-31","2056-02-29","2056-03-31","2056-04-30",{"$f":"+PC3","v":"2056-05-31"},"2056-06-30","2056-07-31","2056-08-31","2056-09-30","2056-10-31","2056-11-30","2056-12-31","2057-01-31","2057-02-28","2057-03-31","2057-04-30","2057-05-31","2057-06-30","2057-07-31","2057-08-31","2057-09-30","2057-10-31","2057-11-30","2057-12-31","2058-01-31","2058-02-28","2058-03-31","2058-04-30","2058-05-31","2058-06-30","2058-07-31","2058-08-31","2058-09-30","2058-10-31","2058-11-30","2058-12-31","2059-01-31","2059-02-28","2059-03-31","2059-04-30","2059-05-31","2059-06-30","2059-07-31","2059-08-31","2059-09-30","2059-10-31","2059-11-30","2059-12-31","2060-01-31","2060-02-29","2060-03-31","2060-04-30","2060-05-31","2060-06-30","2060-07-31","2060-08-31","2060-09-30","2060-10-31","2060-11-30","2060-12-31"]
["xxxxxx","Valor Residual (Fim do Periodo)"]
[null,"Ativo","Valor","Ciclo de Vida (Anos)","Ciclo de Vida (Meses)",null,{"$f":"+G53","v":0},{"$f":"+H53","v":0},{"v":132200004.41859424,"d":"132,200,004"},{"v":132200004.41859424,"d":"132,200,004"},{"v":132200004.41859424,"d":"132,200,004"},{"v":132200004.41859424,"d":"132,200,004"},{"v":132200004.41859424,"d":"132,200,004"},{"v":132200004.41859424,"d":"132,200,004"},{"v":132200004.41859424,"d":"132,200,004"},{"v":132200004.41859424,"d":"132,200,004"},{"v":132200004.41859424,"d":"132,200,004"},{"v":132200004.41859424,"d":"132,200,004"},{"v":132200004.41859424,"d":"132,200,004"},{"v":132200004.41859424,"d":"132,200,004"},{"v":165983204.0252322,"d":"165,983,204"},{"v":165983204.0252322,"d":"165,983,204"},{"v":165983204.0252322,"d":"165,983,204"},{"v":165983204.0252322,"d":"165,983,204"},{"v":165983204.0252322,"d":"165,983,204"},{"v":165983204.0252322,"d":"165,983,204"},{"v":165983204.0252322,"d":"165,983,204"},{"v":165983204.0252322,"d":"165,983,204"},{"v":165983204.0252322,"d":"165,983,204"},{"v":165983204.0252322,"d":"165,983,204"},{"v":165983204.0252322,"d":"165,983,204"},{"v":165983204.0252322,"d":"165,983,204"},{"v":167982495.8091813,"d":"167,982,496"},{"v":167982495.8091813,"d":"167,982,496"},{"v":167982495.8091813,"d":"167,982,496"},{"v":167049259.72135252,"d":"167,049,260"},{"v":166116023.63352373,"d":"166,116,024"},{"v":165182787.54569495,"d":"165,182,788"},{"v":164249551.45786616,"d":"164,249,551"},{"v":163316315.37003738,"d":"163,316,315"},{"v":162383079.2822086,"d":"162,383,079"},{"v":161449843.1943798,"d":"161,449,843"},{"v":160516607.10655102,"d":"160,516,607"},{"v":159583371.01872224,"d":"159,583,371"},{"v":158650134.93089345,"d":"158,650,135"},{"v":157716898.84306467,"d":"157,716,899"},{"v":156783662.75523588,"d":"156,783,663"},{"v":155850426.6674071,"d":"155,850,427"},{"v":154917190.5795783,"d":"154,917,191"},{"v":153983954.49174953,"d":"153,983,954"},{"v":153050718.40392074,"d":"153,050,718"},{"v":152117482.31609195,"d":"152,117,482"},{"v":151184246.22826317,"d":"151,184,246"},{"v":150251010.14043438,"d":"150,251,010"},{"v":149317774.0526056,"d":"149,317,774"},{"v":148384537.9647768,"d":"148,384,538"},{"v":147451301.87694803,"d":"147,451,302"},{"v":146518065.78911924,"d":"146,518,066"},{"v":145584829.70129046,"d":"145,584,830"},{"v":144651593.61346167,"d":"144,651,594"},{"v":143718357.5256329,"d":"143,718,358"},{"v":142785121.4378041,"d":"142,785,121"},{"v":141851885.34997532,"d":"141,851,885"},{"v":140918649.26214653,"d":"140,918,649"},{"v":139985413.17431775,"d":"139,985,413"},{"v":139052177.08648896,"d":"139,052,177"},{"v":138118940.99866018,"d":"138,118,941"},{"v":137185704.9108314,"d":"137,185,705"},{"v":136252468.8230026,"d":"136,252,469"},{"v":135319232.73517382,"d":"135,319,233"},{"v":134385996.64734504,"d":"134,385,997"},{"$f":"+BT53","v":{"v":133452760.55951625,"d":"133,452,761"}},{"v":132519524.47168747,"d":"132,519,524"},{"v":131586288.38385868,"d":"131,586,288"},{"v":130653052.2960299,"d":"130,653,052"},{"v":129719816.20820111,"d":"129,719,816"},{"v":128786580.12037233,"d":"128,786,580"},{"v":127853344.03254354,"d":"127,853,344"},{"v":126920107.94471475,"d":"126,920,108"},{"v":125986871.85688597,"d":"125,986,872"},{"v":125053635.76905718,"d":"125,053,636"},{"v":124120399.6812284,"d":"124,120,400"},{"v":123187163.59339961,"d":"123,187,164"},{"v":122253927.50557083,"d":"122,253,928"},{"v":121320691.41774204,"d":"121,320,691"},{"v":120387455.32991326,"d":"120,387,455"},{"v":119454219.24208447,"d":"119,454,219"},{"v":118520983.15425569,"d":"118,520,983"},{"v":117587747.0664269,"d":"117,587,747"},{"v":116654510.97859812,"d":"116,654,511"},{"v":115721274.89076933,"d":"115,721,275"},{"v":114788038.80294055,"d":"114,788,039"},{"v":113854802.71511176,"d":"113,854,803"},{"v":112921566.62728298,"d":"112,921,567"},{"v":111988330.53945419,"d":"111,988,331"},{"v":111055094.4516254,"d":"111,055,094"},{"v":110121858.36379662,"d":"110,121,858"},{"v":109188622.27596784,"d":"109,188,622"},{"v":108255386.18813905,"d":"108,255,386"},{"v":107322150.10031027,"d":"107,322,150"},{"v":106388914.01248148,"d":"106,388,914"},{"v":105455677.9246527,"d":"105,455,678"},{"v":104522441.83682391,"d":"104,522,442"},{"v":103589205.74899513,"d":"103,589,206"},{"v":102655969.66116634,"d":"102,655,970"},{"v":101722733.57333755,"d":"101,722,734"},{"v":100789497.48550878,"d":"100,789,497"},{"v":99856261.39768,"d":"99,856,261"},{"v":98923025.30985121,"d":"98,923,025"},{"v":97989789.22202243,"d":"97,989,789"},{"v":97056553.13419364,"d":"97,056,553"},{"v":96123317.04636486,"d":"96,123,317"},{"v":95190080.95853607,"d":"95,190,081"},{"v":94256844.87070729,"d":"94,256,845"},{"v":93323608.7828785,"d":"93,323,609"},{"v":92390372.69504972,"d":"92,390,373"},{"v":91457136.60722093,"d":"91,457,137"},{"v":90523900.51939215,"d":"90,523,901"},{"v":89590664.43156336,"d":"89,590,664"},{"v":88657428.34373458,"d":"88,657,428"},{"v":87724192.25590579,"d":"87,724,192"},{"v":86790956.168077,"d":"86,790,956"},{"v":85857720.08024822,"d":"85,857,720"},{"v":84924483.99241944,"d":"84,924,484"},{"v":83991247.90459065,"d":"83,991,248"},{"v":83058011.81676187,"d":"83,058,012"},{"v":82124775.72893308,"d":"82,124,776"},{"v":81191539.6411043,"d":"81,191,540"},{"v":80258303.55327551,"d":"80,258,304"},{"v":79325067.46544673,"d":"79,325,067"},{"v":78391831.37761794,"d":"78,391,831"},{"v":77458595.28978916,"d":"77,458,595"},{"v":76525359.20196037,"d":"76,525,359"},{"v":75592123.11413158,"d":"75,592,123"},{"v":74658887.0263028,"d":"74,658,887"},{"$f":"+EF53","v":{"v":73725650.93847401,"d":"73,725,651"}},{"v":72792414.85064523,"d":"72,792,415"},{"v":71859178.76281644,"d":"71,859,179"},{"v":70925942.67498766,"d":"70,925,943"},{"v":69992706.58715887,"d":"69,992,707"},{"v":69059470.49933009,"d":"69,059,470"},{"v":68126234.4115013,"d":"68,126,234"},{"v":67192998.32367252,"d":"67,192,998"},{"v":66259762.23584373,"d":"66,259,762"},{"v":65326526.14801495,"d":"65,326,526"},{"v":64393290.06018616,"d":"64,393,290"},{"v":63460053.97235738,"d":"63,460,054"},{"v":62526817.88452859,"d":"62,526,818"},{"v":61593581.79669981,"d":"61,593,582"},{"v":60660345.70887102,"d":"60,660,346"},{"v":59727109.62104224,"d":"59,727,110"},{"v":58793873.53321345,"d":"58,793,874"},{"v":57860637.44538467,"d":"57,860,637"},{"v":56927401.35755588,"d":"56,927,401"},{"v":55994165.269727096,"d":"55,994,165"},{"v":55060929.18189831,"d":"55,060,929"},{"v":54127693.094069526,"d":"54,127,693"},{"v":53194457.00624074,"d":"53,194,457"},{"v":52261220.918411955,"d":"52,261,221"},{"v":51327984.83058317,"d":"51,327,985"},{"v":50394748.742754385,"d":"50,394,749"},{"v":49461512.6549256,"d":"49,461,513"},{"v":48528276.567096815,"d":"48,528,277"},{"v":47595040.47926803,"d":"47,595,040"},{"v":46661804.391439244,"d":"46,661,804"},{"v":45728568.30361046,"d":"45,728,568"},{"v":44795332.215781674,"d":"44,795,332"},{"v":43862096.12795289,"d":"43,862,096"},{"v":42928860.0401241,"d":"42,928,860"},{"v":41995623.95229532,"d":"41,995,624"},{"v":41062387.86446653,"d":"41,062,388"},{"v":40129151.77663775,"d":"40,129,152"},{"v":39195915.68880896,"d":"39,195,916"},{"v":38262679.60098018,"d":"38,262,680"},{"v":37329443.51315139,"d":"37,329,444"},{"v":36396207.42532261,"d":"36,396,207"},{"v":35462971.33749382,"d":"35,462,971"},{"v":34529735.24966504,"d":"34,529,735"},{"v":33596499.16183627,"d":"33,596,499"},{"v":32663263.07400748,"d":"32,663,263"},{"v":31730026.986178696,"d":"31,730,027"},{"v":30796790.89834991,"d":"30,796,791"},{"v":29863554.810521126,"d":"29,863,555"},{"v":28930318.72269234,"d":"28,930,319"},{"v":27997082.634863555,"d":"27,997,083"},{"v":27063846.54703477,"d":"27,063,847"},{"v":26130610.459205985,"d":"26,130,610"},{"v":25197374.3713772,"d":"25,197,374"},{"v":24264138.283548415,"d":"24,264,138"},{"v":23330902.19571963,"d":"23,330,902"},{"v":22397666.107890844,"d":"22,397,666"},{"v":21464430.02006206,"d":"21,464,430"},{"v":20531193.932233274,"d":"20,531,194"},{"v":19597957.84440449,"d":"19,597,958"},{"v":18664721.756575704,"d":"18,664,722"},{"v":17731485.66874692,"d":"17,731,486"},{"v":16798249.580918133,"d":"16,798,250"},{"v":15865013.493089348,"d":"15,865,013"},{"v":14931777.405260563,"d":"14,931,777"},{"$f":"+GR53","v":{"v":13998541.317431778,"d":"13,998,541"}},{"v":13065305.229602993,"d":"13,065,305"},{"v":12132069.141774207,"d":"12,132,069"},{"v":11198833.053945422,"d":"11,198,833"},{"v":10265596.966116637,"d":"10,265,597"},{"v":9332360.878287852,"d":"9,332,361"},{"v":8399124.790459067,"d":"8,399,125"},{"v":7465888.702630281,"d":"7,465,889"},{"v":6532652.614801496,"d":"6,532,653"},{"v":5599416.526972711,"d":"5,599,417"},{"v":4666180.439143926,"d":"4,666,180"},{"v":3732944.3513151407,"d":"3,732,944"},{"v":2799708.2634863555,"d":"2,799,708"},{"v":1866472.1756575704,"d":"1,866,472"},{"v":933236.0878287852,"d":"933,236"},0,0,0,0,0,0,0,0,0,0,0,0,0,0,0,0,0,0,0,0,0,0,0,0,0,0,0,0,0,0,0,0,0,0,0,0,0,0,0,0,0,0,0,0,0,0,0,0,0,{"$f":"+JD53","v":0},0,0,0,0,0,0,0,0,0,0,0,0,0,0,0,0,0,0,0,0,0,0,0,0,0,0,0,0,0,0,0,0,0,0,0,0,0,0,0,0,0,0,0,0,0,0,0,0,0,0,0,0,0,0,0,0,0,0,0,0,0,0,0,{"$f":"+LP53","v":0},0,0,0,0,0,0,0,0,0,0,0,0,0,0,0,0,0,0,0,0,0,0,0,0,0,0,0,0,0,0,0,0,0,0,0,0,0,0,0,0,0,0,0,0,0,0,0,0,0,0,0,0,0,0,0,0,0,0,0,0,0,0,0,{"$f":"+OB53","v":0},0,0,0,0,0,0,0,0,0,0,0,0,0,0,0,0,0,0,0,0,0,0,0,0,0,0,0,0,0,0,0,0,0,0,0,0,0,0,0,0,0,0,0,0,0,0,0,0,0,0,0,0,0,0,0,0,0,0,0,0,0,0,0,{"$f":"+QN53","v":0},0,0,0,0,0,0,0,0,0,0,0,0,0,0,0,0,0,0]
[null,{"$f":"+B25","v":"GASIG"},{"v":167982495.80918133,"d":"167,982,496"},15,180,null,{"$f":"SUM($G11:G11)-SUM($F25:G25)","v":0},{"$f":"SUM($G11:H11)-SUM($F25:H25)","v":0},{"$f":"SUM($G11:I11)-SUM($F25:I25)","v":{"v":132200004.41859424,"d":"132,200,004"}},{"$f":"SUM($G11:J11)-SUM($F25:J25)","v":{"v":132200004.41859424,"d":"132,200,004"}},{"$f":"SUM($G11:K11)-SUM($F25:K25)","v":{"v":132200004.41859424,"d":"132,200,004"}},{"$f":"SUM($G11:L11)-SUM($F25:L25)","v":{"v":132200004.41859424,"d":"132,200,004"}},{"$f":"SUM($G11:M11)-SUM($F25:M25)","v":{"v":132200004.41859424,"d":"132,200,004"}},{"$f":"SUM($G11:N11)-SUM($F25:N25)","v":{"v":132200004.41859424,"d":"132,200,004"}},{"$f":"SUM($G11:O11)-SUM($F25:O25)","v":{"v":132200004.41859424,"d":"132,200,004"}},{"$f":"SUM($G11:P11)-SUM($F25:P25)","v":{"v":132200004.41859424,"d":"132,200,004"}},{"$f":"SUM($G11:Q11)-SUM($F25:Q25)","v":{"v":132200004.41859424,"d":"132,200,004"}},{"$f":"SUM($G11:R11)-SUM($F25:R25)","v":{"v":132200004.41859424,"d":"132,200,004"}},{"$f":"SUM($G11:S11)-SUM($F25:S25)","v":{"v":132200004.41859424,"d":"132,200,004"}},{"$f":"SUM($G11:T11)-SUM($F25:T25)","v":{"v":132200004.41859424,"d":"132,200,004"}},{"$f":"SUM($G11:U11)-SUM($F25:U25)","v":{"v":165983204.0252322,"d":"165,983,204"}},{"$f":"SUM($G11:V11)-SUM($F25:V25)","v":{"v":165983204.0252322,"d":"165,983,204"}},{"$f":"SUM($G11:W11)-SUM($F25:W25)","v":{"v":165983204.0252322,"d":"165,983,204"}},{"$f":"SUM($G11:X11)-SUM($F25:X25)","v":{"v":165983204.0252322,"d":"165,983,204"}},{"$f":"SUM($G11:Y11)-SUM($F25:Y25)","v":{"v":165983204.0252322,"d":"165,983,204"}},{"$f":"SUM($G11:Z11)-SUM($F25:Z25)","v":{"v":165983204.0252322,"d":"165,983,204"}},{"$f":"SUM($G11:AA11)-SUM($F25:AA25)","v":{"v":165983204.0252322,"d":"165,983,204"}},{"$f":"SUM($G11:AB11)-SUM($F25:AB25)","v":{"v":165983204.0252322,"d":"165,983,204"}},{"$f":"SUM($G11:AC11)-SUM($F25:AC25)","v":{"v":165983204.0252322,"d":"165,983,204"}},{"$f":"SUM($G11:AD11)-SUM($F25:AD25)","v":{"v":165983204.0252322,"d":"165,983,204"}},{"$f":"SUM($G11:AE11)-SUM($F25:AE25)","v":{"v":165983204.0252322,"d":"165,983,204"}},{"$f":"SUM($G11:AF11)-SUM($F25:AF25)","v":{"v":165983204.0252322,"d":"165,983,204"}},{"$f":"SUM($G11:AG11)-SUM($F25:AG25)","v":{"v":167982495.8091813,"d":"167,982,496"}},{"$f":"SUM($G11:AH11)-SUM($F25:AH25)","v":{"v":167982495.8091813,"d":"167,982,496"}},{"$f":"SUM($G11:AI11)-SUM($F25:AI25)","v":{"v":167982495.8091813,"d":"167,982,496"}},{"$f":"SUM($G11:AJ11)-SUM($F25:AJ25)","v":{"v":167049259.72135252,"d":"167,049,260"}},{"$f":"SUM($G11:AK11)-SUM($F25:AK25)","v":{"v":166116023.63352373,"d":"166,116,024"}},{"$f":"SUM($G11:AL11)-SUM($F25:AL25)","v":{"v":165182787.54569495,"d":"165,182,788"}},{"$f":"SUM($G11:AM11)-SUM($F25:AM25)","v":{"v":164249551.45786616,"d":"164,249,551"}},{"$f":"SUM($G11:AN11)-SUM($F25:AN25)","v":{"v":163316315.37003738,"d":"163,316,315"}},{"$f":"SUM($G11:AO11)-SUM($F25:AO25)","v":{"v":162383079.2822086,"d":"162,383,079"}},{"$f":"SUM($G11:AP11)-SUM($F25:AP25)","v":{"v":161449843.1943798,"d":"161,449,843"}},{"$f":"SUM($G11:AQ11)-SUM($F25:AQ25)","v":{"v":160516607.10655102,"d":"160,516,607"}},{"$f":"SUM($G11:AR11)-SUM($F25:AR25)","v":{"v":159583371.01872224,"d":"159,583,371"}},{"$f":"SUM($G11:AS11)-SUM($F25:AS25)","v":{"v":158650134.93089345,"d":"158,650,135"}},{"$f":"SUM($G11:AT11)-SUM($F25:AT25)","v":{"v":157716898.84306467,"d":"157,716,899"}},{"$f":"SUM($G11:AU11)-SUM($F25:AU25)","v":{"v":156783662.75523588,"d":"156,783,663"}},{"$f":"SUM($G11:AV11)-SUM($F25:AV25)","v":{"v":155850426.6674071,"d":"155,850,427"}},{"$f":"SUM($G11:AW11)-SUM($F25:AW25)","v":{"v":154917190.5795783,"d":"154,917,191"}},{"$f":"SUM($G11:AX11)-SUM($F25:AX25)","v":{"v":153983954.49174953,"d":"153,983,954"}},{"$f":"SUM($G11:AY11)-SUM($F25:AY25)","v":{"v":153050718.40392074,"d":"153,050,718"}},{"$f":"SUM($G11:AZ11)-SUM($F25:AZ25)","v":{"v":152117482.31609195,"d":"152,117,482"}},{"$f":"SUM($G11:BA11)-SUM($F25:BA25)","v":{"v":151184246.22826317,"d":"151,184,246"}},{"$f":"SUM($G11:BB11)-SUM($F25:BB25)","v":{"v":150251010.14043438,"d":"150,251,010"}},{"$f":"SUM($G11:BC11)-SUM($F25:BC25)","v":{"v":149317774.0526056,"d":"149,317,774"}},{"$f":"SUM($G11:BD11)-SUM($F25:BD25)","v":{"v":148384537.9647768,"d":"148,384,538"}},{"$f":"SUM($G11:BE11)-SUM($F25:BE25)","v":{"v":147451301.87694803,"d":"147,451,302"}},{"$f":"SUM($G11:BF11)-SUM($F25:BF25)","v":{"v":146518065.78911924,"d":"146,518,066"}},{"$f":"SUM($G11:BG11)-SUM($F25:BG25)","v":{"v":145584829.70129046,"d":"145,584,830"}},{"$f":"SUM($G11:BH11)-SUM($F25:BH25)","v":{"v":144651593.61346167,"d":"144,651,594"}},{"$f":"SUM($G11:BI11)-SUM($F25:BI25)","v":{"v":143718357.5256329,"d":"143,718,358"}},{"$f":"SUM($G11:BJ11)-SUM($F25:BJ25)","v":{"v":142785121.4378041,"d":"142,785,121"}},{"$f":"SUM($G11:BK11)-SUM($F25:BK25)","v":{"v":141851885.34997532,"d":"141,851,885"}},{"$f":"SUM($G11:BL11)-SUM($F25:BL25)","v":{"v":140918649.26214653,"d":"140,918,649"}},{"$f":"SUM($G11:BM11)-SUM($F25:BM25)","v":{"v":139985413.17431775,"d":"139,985,413"}},{"$f":"SUM($G11:BN11)-SUM($F25:BN25)","v":{"v":139052177.08648896,"d":"139,052,177"}},{"$f":"SUM($G11:BO11)-SUM($F25:BO25)","v":{"v":138118940.99866018,"d":"138,118,941"}},{"$f":"SUM($G11:BP11)-SUM($F25:BP25)","v":{"v":137185704.9108314,"d":"137,185,705"}},{"$f":"SUM($G11:BQ11)-SUM($F25:BQ25)","v":{"v":136252468.8230026,"d":"136,252,469"}},{"$f":"SUM($G11:BR11)-SUM($F25:BR25)","v":{"v":135319232.73517382,"d":"135,319,233"}},{"$f":"SUM($G11:BS11)-SUM($F25:BS25)","v":{"v":134385996.64734504,"d":"134,385,997"}},{"$f":"SUM($G11:BT11)-SUM($F25:BT25)","v":{"v":133452760.55951625,"d":"133,452,761"}},{"$f":"SUM($G11:BU11)-SUM($F25:BU25)","v":{"v":132519524.47168747,"d":"132,519,524"}},{"$f":"SUM($G11:BV11)-SUM($F25:BV25)","v":{"v":131586288.38385868,"d":"131,586,288"}},{"$f":"SUM($G11:BW11)-SUM($F25:BW25)","v":{"v":130653052.2960299,"d":"130,653,052"}},{"$f":"SUM($G11:BX11)-SUM($F25:BX25)","v":{"v":129719816.20820111,"d":"129,719,816"}},{"$f":"SUM($G11:BY11)-SUM($F25:BY25)","v":{"v":128786580.12037233,"d":"128,786,580"}},{"$f":"SUM($G11:BZ11)-SUM($F25:BZ25)","v":{"v":127853344.03254354,"d":"127,853,344"}},{"$f":"SUM($G11:CA11)-SUM($F25:CA25)","v":{"v":126920107.94471475,"d":"126,920,108"}},{"$f":"SUM($G11:CB11)-SUM($F25:CB25)","v":{"v":125986871.85688597,"d":"125,986,872"}},{"$f":"SUM($G11:CC11)-SUM($F25:CC25)","v":{"v":125053635.76905718,"d":"125,053,636"}},{"$f":"SUM($G11:CD11)-SUM($F25:CD25)","v":{"v":124120399.6812284,"d":"124,120,400"}},{"$f":"SUM($G11:CE11)-SUM($F25:CE25)","v":{"v":123187163.59339961,"d":"123,187,164"}},{"$f":"SUM($G11:CF11)-SUM($F25:CF25)","v":{"v":122253927.50557083,"d":"122,253,928"}},{"$f":"SUM($G11:CG11)-SUM($F25:CG25)","v":{"v":121320691.41774204,"d":"121,320,691"}},{"$f":"SUM($G11:CH11)-SUM($F25:CH25)","v":{"v":120387455.32991326,"d":"120,387,455"}},{"$f":"SUM($G11:CI11)-SUM($F25:CI25)","v":{"v":119454219.24208447,"d":"119,454,219"}},{"$f":"SUM($G11:CJ11)-SUM($F25:CJ25)","v":{"v":118520983.15425569,"d":"118,520,983"}},{"$f":"SUM($G11:CK11)-SUM($F25:CK25)","v":{"v":117587747.0664269,"d":"117,587,747"}},{"$f":"SUM($G11:CL11)-SUM($F25:CL25)","v":{"v":116654510.97859812,"d":"116,654,511"}},{"$f":"SUM($G11:CM11)-SUM($F25:CM25)","v":{"v":115721274.89076933,"d":"115,721,275"}},{"$f":"SUM($G11:CN11)-SUM($F25:CN25)","v":{"v":114788038.80294055,"d":"114,788,039"}},{"$f":"SUM($G11:CO11)-SUM($F25:CO25)","v":{"v":113854802.71511176,"d":"113,854,803"}},{"$f":"SUM($G11:CP11)-SUM($F25:CP25)","v":{"v":112921566.62728298,"d":"112,921,567"}},{"$f":"SUM($G11:CQ11)-SUM($F25:CQ25)","v":{"v":111988330.53945419,"d":"111,988,331"}},{"$f":"SUM($G11:CR11)-SUM($F25:CR25)","v":{"v":111055094.4516254,"d":"111,055,094"}},{"$f":"SUM($G11:CS11)-SUM($F25:CS25)","v":{"v":110121858.36379662,"d":"110,121,858"}},{"$f":"SUM($G11:CT11)-SUM($F25:CT25)","v":{"v":109188622.27596784,"d":"109,188,622"}},{"$f":"SUM($G11:CU11)-SUM($F25:CU25)","v":{"v":108255386.18813905,"d":"108,255,386"}},{"$f":"SUM($G11:CV11)-SUM($F25:CV25)","v":{"v":107322150.10031027,"d":"107,322,150"}},{"$f":"SUM($G11:CW11)-SUM($F25:CW25)","v":{"v":106388914.01248148,"d":"106,388,914"}},{"$f":"SUM($G11:CX11)-SUM($F25:CX25)","v":{"v":105455677.9246527,"d":"105,455,678"}},{"$f":"SUM($G11:CY11)-SUM($F25:CY25)","v":{"v":104522441.83682391,"d":"104,522,442"}},{"$f":"SUM($G11:CZ11)-SUM($F25:CZ25)","v":{"v":103589205.74899513,"d":"103,589,206"}},{"$f":"SUM($G11:DA11)-SUM($F25:DA25)","v":{"v":102655969.66116634,"d":"102,655,970"}},{"$f":"SUM($G11:DB11)-SUM($F25:DB25)","v":{"v":101722733.57333755,"d":"101,722,734"}},{"$f":"SUM($G11:DC11)-SUM($F25:DC25)","v":{"v":100789497.48550878,"d":"100,789,497"}},{"$f":"SUM($G11:DD11)-SUM($F25:DD25)","v":{"v":99856261.39768,"d":"99,856,261"}},{"$f":"SUM($G11:DE11)-SUM($F25:DE25)","v":{"v":98923025.30985121,"d":"98,923,025"}},{"$f":"SUM($G11:DF11)-SUM($F25:DF25)","v":{"v":97989789.22202243,"d":"97,989,789"}},{"$f":"SUM($G11:DG11)-SUM($F25:DG25)","v":{"v":97056553.13419364,"d":"97,056,553"}},{"$f":"SUM($G11:DH11)-SUM($F25:DH25)","v":{"v":96123317.04636486,"d":"96,123,317"}},{"$f":"SUM($G11:DI11)-SUM($F25:DI25)","v":{"v":95190080.95853607,"d":"95,190,081"}},{"$f":"SUM($G11:DJ11)-SUM($F25:DJ25)","v":{"v":94256844.87070729,"d":"94,256,845"}},{"$f":"SUM($G11:DK11)-SUM($F25:DK25)","v":{"v":93323608.7828785,"d":"93,323,609"}},{"$f":"SUM($G11:DL11)-SUM($F25:DL25)","v":{"v":92390372.69504972,"d":"92,390,373"}},{"$f":"SUM($G11:DM11)-SUM($F25:DM25)","v":{"v":91457136.60722093,"d":"91,457,137"}},{"$f":"SUM($G11:DN11)-SUM($F25:DN25)","v":{"v":90523900.51939215,"d":"90,523,901"}},{"$f":"SUM($G11:DO11)-SUM($F25:DO25)","v":{"v":89590664.43156336,"d":"89,590,664"}},{"$f":"SUM($G11:DP11)-SUM($F25:DP25)","v":{"v":88657428.34373458,"d":"88,657,428"}},{"$f":"SUM($G11:DQ11)-SUM($F25:DQ25)","v":{"v":87724192.25590579,"d":"87,724,192"}},{"$f":"SUM($G11:DR11)-SUM($F25:DR25)","v":{"v":86790956.168077,"d":"86,790,956"}},{"$f":"SUM($G11:DS11)-SUM($F25:DS25)","v":{"v":85857720.08024822,"d":"85,857,720"}},{"$f":"SUM($G11:DT11)-SUM($F25:DT25)","v":{"v":84924483.99241944,"d":"84,924,484"}},{"$f":"SUM($G11:DU11)-SUM($F25:DU25)","v":{"v":83991247.90459065,"d":"83,991,248"}},{"$f":"SUM($G11:DV11)-SUM($F25:DV25)","v":{"v":83058011.81676187,"d":"83,058,012"}},{"$f":"SUM($G11:DW11)-SUM($F25:DW25)","v":{"v":82124775.72893308,"d":"82,124,776"}},{"$f":"SUM($G11:DX11)-SUM($F25:DX25)","v":{"v":81191539.6411043,"d":"81,191,540"}},{"$f":"SUM($G11:DY11)-SUM($F25:DY25)","v":{"v":80258303.55327551,"d":"80,258,304"}},{"$f":"SUM($G11:DZ11)-SUM($F25:DZ25)","v":{"v":79325067.46544673,"d":"79,325,067"}},{"$f":"SUM($G11:EA11)-SUM($F25:EA25)","v":{"v":78391831.37761794,"d":"78,391,831"}},{"$f":"SUM($G11:EB11)-SUM($F25:EB25)","v":{"v":77458595.28978916,"d":"77,458,595"}},{"$f":"SUM($G11:EC11)-SUM($F25:EC25)","v":{"v":76525359.20196037,"d":"76,525,359"}},{"$f":"SUM($G11:ED11)-SUM($F25:ED25)","v":{"v":75592123.11413158,"d":"75,592,123"}},{"$f":"SUM($G11:EE11)-SUM($F25:EE25)","v":{"v":74658887.0263028,"d":"74,658,887"}},{"$f":"SUM($G11:EF11)-SUM($F25:EF25)","v":{"v":73725650.93847401,"d":"73,725,651"}},{"$f":"SUM($G11:EG11)-SUM($F25:EG25)","v":{"v":72792414.85064523,"d":"72,792,415"}},{"$f":"SUM($G11:EH11)-SUM($F25:EH25)","v":{"v":71859178.76281644,"d":"71,859,179"}},{"$f":"SUM($G11:EI11)-SUM($F25:EI25)","v":{"v":70925942.67498766,"d":"70,925,943"}},{"$f":"SUM($G11:EJ11)-SUM($F25:EJ25)","v":{"v":69992706.58715887,"d":"69,992,707"}},{"$f":"SUM($G11:EK11)-SUM($F25:EK25)","v":{"v":69059470.49933009,"d":"69,059,470"}},{"$f":"SUM($G11:EL11)-SUM($F25:EL25)","v":{"v":68126234.4115013,"d":"68,126,234"}},{"$f":"SUM($G11:EM11)-SUM($F25:EM25)","v":{"v":67192998.32367252,"d":"67,192,998"}},{"$f":"SUM($G11:EN11)-SUM($F25:EN25)","v":{"v":66259762.23584373,"d":"66,259,762"}},{"$f":"SUM($G11:EO11)-SUM($F25:EO25)","v":{"v":65326526.14801495,"d":"65,326,526"}},{"$f":"SUM($G11:EP11)-SUM($F25:EP25)","v":{"v":64393290.06018616,"d":"64,393,290"}},{"$f":"SUM($G11:EQ11)-SUM($F25:EQ25)","v":{"v":63460053.97235738,"d":"63,460,054"}},{"$f":"SUM($G11:ER11)-SUM($F25:ER25)","v":{"v":62526817.88452859,"d":"62,526,818"}},{"$f":"SUM($G11:ES11)-SUM($F25:ES25)","v":{"v":61593581.79669981,"d":"61,593,582"}},{"$f":"SUM($G11:ET11)-SUM($F25:ET25)","v":{"v":60660345.70887102,"d":"60,660,346"}},{"$f":"SUM($G11:EU11)-SUM($F25:EU25)","v":{"v":59727109.62104224,"d":"59,727,110"}},{"$f":"SUM($G11:EV11)-SUM($F25:EV25)","v":{"v":58793873.53321345,"d":"58,793,874"}},{"$f":"SUM($G11:EW11)-SUM($F25:EW25)","v":{"v":57860637.44538467,"d":"57,860,637"}},{"$f":"SUM($G11:EX11)-SUM($F25:EX25)","v":{"v":56927401.35755588,"d":"56,927,401"}},{"$f":"SUM($G11:EY11)-SUM($F25:EY25)","v":{"v":55994165.269727096,"d":"55,994,165"}},{"$f":"SUM($G11:EZ11)-SUM($F25:EZ25)","v":{"v":55060929.18189831,"d":"55,060,929"}},{"$f":"SUM($G11:FA11)-SUM($F25:FA25)","v":{"v":54127693.094069526,"d":"54,127,693"}},{"$f":"SUM($G11:FB11)-SUM($F25:FB25)","v":{"v":53194457.00624074,"d":"53,194,457"}},{"$f":"SUM($G11:FC11)-SUM($F25:FC25)","v":{"v":52261220.918411955,"d":"52,261,221"}},{"$f":"SUM($G11:FD11)-SUM($F25:FD25)","v":{"v":51327984.83058317,"d":"51,327,985"}},{"$f":"SUM($G11:FE11)-SUM($F25:FE25)","v":{"v":50394748.742754385,"d":"50,394,749"}},{"$f":"SUM($G11:FF11)-SUM($F25:FF25)","v":{"v":49461512.6549256,"d":"49,461,513"}},{"$f":"SUM($G11:FG11)-SUM($F25:FG25)","v":{"v":48528276.567096815,"d":"48,528,277"}},{"$f":"SUM($G11:FH11)-SUM($F25:FH25)","v":{"v":47595040.47926803,"d":"47,595,040"}},{"$f":"SUM($G11:FI11)-SUM($F25:FI25)","v":{"v":46661804.391439244,"d":"46,661,804"}},{"$f":"SUM($G11:FJ11)-SUM($F25:FJ25)","v":{"v":45728568.30361046,"d":"45,728,568"}},{"$f":"SUM($G11:FK11)-SUM($F25:FK25)","v":{"v":44795332.215781674,"d":"44,795,332"}},{"$f":"SUM($G11:FL11)-SUM($F25:FL25)","v":{"v":43862096.12795289,"d":"43,862,096"}},{"$f":"SUM($G11:FM11)-SUM($F25:FM25)","v":{"v":42928860.0401241,"d":"42,928,860"}},{"$f":"SUM($G11:FN11)-SUM($F25:FN25)","v":{"v":41995623.95229532,"d":"41,995,624"}},{"$f":"SUM($G11:FO11)-SUM($F25:FO25)","v":{"v":41062387.86446653,"d":"41,062,388"}},{"$f":"SUM($G11:FP11)-SUM($F25:FP25)","v":{"v":40129151.77663775,"d":"40,129,152"}},{"$f":"SUM($G11:FQ11)-SUM($F25:FQ25)","v":{"v":39195915.68880896,"d":"39,195,916"}},{"$f":"SUM($G11:FR11)-SUM($F25:FR25)","v":{"v":38262679.60098018,"d":"38,262,680"}},{"$f":"SUM($G11:FS11)-SUM($F25:FS25)","v":{"v":37329443.51315139,"d":"37,329,444"}},{"$f":"SUM($G11:FT11)-SUM($F25:FT25)","v":{"v":36396207.42532261,"d":"36,396,207"}},{"$f":"SUM($G11:FU11)-SUM($F25:FU25)","v":{"v":35462971.33749382,"d":"35,462,971"}},{"$f":"SUM($G11:FV11)-SUM($F25:FV25)","v":{"v":34529735.24966504,"d":"34,529,735"}},{"$f":"SUM($G11:FW11)-SUM($F25:FW25)","v":{"v":33596499.16183627,"d":"33,596,499"}},{"$f":"SUM($G11:FX11)-SUM($F25:FX25)","v":{"v":32663263.07400748,"d":"32,663,263"}},{"$f":"SUM($G11:FY11)-SUM($F25:FY25)","v":{"v":31730026.986178696,"d":"31,730,027"}},{"$f":"SUM($G11:FZ11)-SUM($F25:FZ25)","v":{"v":30796790.89834991,"d":"30,796,791"}},{"$f":"SUM($G11:GA11)-SUM($F25:GA25)","v":{"v":29863554.810521126,"d":"29,863,555"}},{"$f":"SUM($G11:GB11)-SUM($F25:GB25)","v":{"v":28930318.72269234,"d":"28,930,319"}},{"$f":"SUM($G11:GC11)-SUM($F25:GC25)","v":{"v":27997082.634863555,"d":"27,997,083"}},{"$f":"SUM($G11:GD11)-SUM($F25:GD25)","v":{"v":27063846.54703477,"d":"27,063,847"}},{"$f":"SUM($G11:GE11)-SUM($F25:GE25)","v":{"v":26130610.459205985,"d":"26,130,610"}},{"$f":"SUM($G11:GF11)-SUM($F25:GF25)","v":{"v":25197374.3713772,"d":"25,197,374"}},{"$f":"SUM($G11:GG11)-SUM($F25:GG25)","v":{"v":24264138.283548415,"d":"24,264,138"}},{"$f":"SUM($G11:GH11)-SUM($F25:GH25)","v":{"v":23330902.19571963,"d":"23,330,902"}},{"$f":"SUM($G11:GI11)-SUM($F25:GI25)","v":{"v":22397666.107890844,"d":"22,397,666"}},{"$f":"SUM($G11:GJ11)-SUM($F25:GJ25)","v":{"v":21464430.02006206,"d":"21,464,430"}},{"$f":"SUM($G11:GK11)-SUM($F25:GK25)","v":{"v":20531193.932233274,"d":"20,531,194"}},{"$f":"SUM($G11:GL11)-SUM($F25:GL25)","v":{"v":19597957.84440449,"d":"19,597,958"}},{"$f":"SUM($G11:GM11)-SUM($F25:GM25)","v":{"v":18664721.756575704,"d":"18,664,722"}},{"$f":"SUM($G11:GN11)-SUM($F25:GN25)","v":{"v":17731485.66874692,"d":"17,731,486"}},{"$f":"SUM($G11:GO11)-SUM($F25:GO25)","v":{"v":16798249.580918133,"d":"16,798,250"}},{"$f":"SUM($G11:GP11)-SUM($F25:GP25)","v":{"v":15865013.493089348,"d":"15,865,013"}},{"$f":"SUM($G11:GQ11)-SUM($F25:GQ25)","v":{"v":14931777.405260563,"d":"14,931,777"}},{"$f":"SUM($G11:GR11)-SUM($F25:GR25)","v":{"v":13998541.317431778,"d":"13,998,541"}},{"$f":"SUM($G11:GS11)-SUM($F25:GS25)","v":{"v":13065305.229602993,"d":"13,065,305"}},{"$f":"SUM($G11:GT11)-SUM($F25:GT25)","v":{"v":12132069.141774207,"d":"12,132,069"}},{"$f":"SUM($G11:GU11)-SUM($F25:GU25)","v":{"v":11198833.053945422,"d":"11,198,833"}},{"$f":"SUM($G11:GV11)-SUM($F25:GV25)","v":{"v":10265596.966116637,"d":"10,265,597"}},{"$f":"SUM($G11:GW11)-SUM($F25:GW25)","v":{"v":9332360.878287852,"d":"9,332,361"}},{"$f":"SUM($G11:GX11)-SUM($F25:GX25)","v":{"v":8399124.790459067,"d":"8,399,125"}},{"$f":"SUM($G11:GY11)-SUM($F25:GY25)","v":{"v":7465888.702630281,"d":"7,465,889"}},{"$f":"SUM($G11:GZ11)-SUM($F25:GZ25)","v":{"v":6532652.614801496,"d":"6,532,653"}},{"$f":"SUM($G11:HA11)-SUM($F25:HA25)","v":{"v":5599416.526972711,"d":"5,599,417"}},{"$f":"SUM($G11:HB11)-SUM($F25:HB25)","v":{"v":4666180.439143926,"d":"4,666,180"}},{"$f":"SUM($G11:HC11)-SUM($F25:HC25)","v":{"v":3732944.3513151407,"d":"3,732,944"}},{"$f":"SUM($G11:HD11)-SUM($F25:HD25)","v":{"v":2799708.2634863555,"d":"2,799,708"}},{"$f":"SUM($G11:HE11)-SUM($F25:HE25)","v":{"v":1866472.1756575704,"d":"1,866,472"}},{"$f":"SUM($G11:HF11)-SUM($F25:HF25)","v":{"v":933236.0878287852,"d":"933,236"}},{"$f":"SUM($G11:HG11)-SUM($F25:HG25)","v":0},{"$f":"SUM($G11:HH11)-SUM($F25:HH25)","v":0},{"$f":"SUM($G11:HI11)-SUM($F25:HI25)","v":0},{"$f":"SUM($G11:HJ11)-SUM($F25:HJ25)","v":0},{"$f":"SUM($G11:HK11)-SUM($F25:HK25)","v":0},{"$f":"SUM($G11:HL11)-SUM($F25:HL25)","v":0},{"$f":"SUM($G11:HM11)-SUM($F25:HM25)","v":0},{"$f":"SUM($G11:HN11)-SUM($F25:HN25)","v":0},{"$f":"SUM($G11:HO11)-SUM($F25:HO25)","v":0},{"$f":"SUM($G11:HP11)-SUM($F25:HP25)","v":0},{"$f":"SUM($G11:HQ11)-SUM($F25:HQ25)","v":0},{"$f":"SUM($G11:HR11)-SUM($F25:HR25)","v":0},{"$f":"SUM($G11:HS11)-SUM($F25:HS25)","v":0},{"$f":"SUM($G11:HT11)-SUM($F25:HT25)","v":0},{"$f":"SUM($G11:HU11)-SUM($F25:HU25)","v":0},{"$f":"SUM($G11:HV11)-SUM($F25:HV25)","v":0},{"$f":"SUM($G11:HW11)-SUM($F25:HW25)","v":0},{"$f":"SUM($G11:HX11)-SUM($F25:HX25)","v":0},{"$f":"SUM($G11:HY11)-SUM($F25:HY25)","v":0},{"$f":"SUM($G11:HZ11)-SUM($F25:HZ25)","v":0},{"$f":"SUM($G11:IA11)-SUM($F25:IA25)","v":0},{"$f":"SUM($G11:IB11)-SUM($F25:IB25)","v":0},{"$f":"SUM($G11:IC11)-SUM($F25:IC25)","v":0},{"$f":"SUM($G11:ID11)-SUM($F25:ID25)","v":0},{"$f":"SUM($G11:IE11)-SUM($F25:IE25)","v":0},{"$f":"SUM($G11:IF11)-SUM($F25:IF25)","v":0},{"$f":"SUM($G11:IG11)-SUM($F25:IG25)","v":0},{"$f":"SUM($G11:IH11)-SUM($F25:IH25)","v":0},{"$f":"SUM($G11:II11)-SUM($F25:II25)","v":0},{"$f":"SUM($G11:IJ11)-SUM($F25:IJ25)","v":0},{"$f":"SUM($G11:IK11)-SUM($F25:IK25)","v":0},{"$f":"SUM($G11:IL11)-SUM($F25:IL25)","v":0},{"$f":"SUM($G11:IM11)-SUM($F25:IM25)","v":0},{"$f":"SUM($G11:IN11)-SUM($F25:IN25)","v":0},{"$f":"SUM($G11:IO11)-SUM($F25:IO25)","v":0},{"$f":"SUM($G11:IP11)-SUM($F25:IP25)","v":0},{"$f":"SUM($G11:IQ11)-SUM($F25:IQ25)","v":0},{"$f":"SUM($G11:IR11)-SUM($F25:IR25)","v":0},{"$f":"SUM($G11:IS11)-SUM($F25:IS25)","v":0},{"$f":"SUM($G11:IT11)-SUM($F25:IT25)","v":0},{"$f":"SUM($G11:IU11)-SUM($F25:IU25)","v":0},{"$f":"SUM($G11:IV11)-SUM($F25:IV25)","v":0},{"$f":"SUM($G11:IW11)-SUM($F25:IW25)","v":0},{"$f":"SUM($G11:IX11)-SUM($F25:IX25)","v":0},{"$f":"SUM($G11:IY11)-SUM($F25:IY25)","v":0},{"$f":"SUM($G11:IZ11)-SUM($F25:IZ25)","v":0},{"$f":"SUM($G11:JA11)-SUM($F25:JA25)","v":0},{"$f":"SUM($G11:JB11)-SUM($F25:JB25)","v":0},{"$f":"SUM($G11:JC11)-SUM($F25:JC25)","v":0},{"$f":"SUM($G11:JD11)-SUM($F25:JD25)","v":0},{"$f":"SUM($G11:JE11)-SUM($F25:JE25)","v":0},{"$f":"SUM($G11:JF11)-SUM($F25:JF25)","v":0},{"$f":"SUM($G11:JG11)-SUM($F25:JG25)","v":0},{"$f":"SUM($G11:JH11)-SUM($F25:JH25)","v":0},{"$f":"SUM($G11:JI11)-SUM($F25:JI25)","v":0},{"$f":"SUM($G11:JJ11)-SUM($F25:JJ25)","v":0},{"$f":"SUM($G11:JK11)-SUM($F25:JK25)","v":0},{"$f":"SUM($G11:JL11)-SUM($F25:JL25)","v":0},{"$f":"SUM($G11:JM11)-SUM($F25:JM25)","v":0},{"$f":"SUM($G11:JN11)-SUM($F25:JN25)","v":0},{"$f":"SUM($G11:JO11)-SUM($F25:JO25)","v":0},{"$f":"SUM($G11:JP11)-SUM($F25:JP25)","v":0},{"$f":"SUM($G11:JQ11)-SUM($F25:JQ25)","v":0},{"$f":"SUM($G11:JR11)-SUM($F25:JR25)","v":0},{"$f":"SUM($G11:JS11)-SUM($F25:JS25)","v":0},{"$f":"SUM($G11:JT11)-SUM($F25:JT25)","v":0},{"$f":"SUM($G11:JU11)-SUM($F25:JU25)","v":0},{"$f":"SUM($G11:JV11)-SUM($F25:JV25)","v":0},{"$f":"SUM($G11:JW11)-SUM($F25:JW25)","v":0},{"$f":"SUM($G11:JX11)-SUM($F25:JX25)","v":0},{"$f":"SUM($G11:JY11)-SUM($F25:JY25)","v":0},{"$f":"SUM($G11:JZ11)-SUM($F25:JZ25)","v":0},{"$f":"SUM($G11:KA11)-SUM($F25:KA25)","v":0},{"$f":"SUM($G11:KB11)-SUM($F25:KB25)","v":0},{"$f":"SUM($G11:KC11)-SUM($F25:KC25)","v":0},{"$f":"SUM($G11:KD11)-SUM($F25:KD25)","v":0},{"$f":"SUM($G11:KE11)-SUM($F25:KE25)","v":0},{"$f":"SUM($G11:KF11)-SUM($F25:KF25)","v":0},{"$f":"SUM($G11:KG11)-SUM($F25:KG25)","v":0},{"$f":"SUM($G11:KH11)-SUM($F25:KH25)","v":0},{"$f":"SUM($G11:KI11)-SUM($F25:KI25)","v":0},{"$f":"SUM($G11:KJ11)-SUM($F25:KJ25)","v":0},{"$f":"SUM($G11:KK11)-SUM($F25:KK25)","v":0},{"$f":"SUM($G11:KL11)-SUM($F25:KL25)","v":0},{"$f":"SUM($G11:KM11)-SUM($F25:KM25)","v":0},{"$f":"SUM($G11:KN11)-SUM($F25:KN25)","v":0},{"$f":"SUM($G11:KO11)-SUM($F25:KO25)","v":0},{"$f":"SUM($G11:KP11)-SUM($F25:KP25)","v":0},{"$f":"SUM($G11:KQ11)-SUM($F25:KQ25)","v":0},{"$f":"SUM($G11:KR11)-SUM($F25:KR25)","v":0},{"$f":"SUM($G11:KS11)-SUM($F25:KS25)","v":0},{"$f":"SUM($G11:KT11)-SUM($F25:KT25)","v":0},{"$f":"SUM($G11:KU11)-SUM($F25:KU25)","v":0},{"$f":"SUM($G11:KV11)-SUM($F25:KV25)","v":0},{"$f":"SUM($G11:KW11)-SUM($F25:KW25)","v":0},{"$f":"SUM($G11:KX11)-SUM($F25:KX25)","v":0},{"$f":"SUM($G11:KY11)-SUM($F25:KY25)","v":0},{"$f":"SUM($G11:KZ11)-SUM($F25:KZ25)","v":0},{"$f":"SUM($G11:LA11)-SUM($F25:LA25)","v":0},{"$f":"SUM($G11:LB11)-SUM($F25:LB25)","v":0},{"$f":"SUM($G11:LC11)-SUM($F25:LC25)","v":0},{"$f":"SUM($G11:LD11)-SUM($F25:LD25)","v":0},{"$f":"SUM($G11:LE11)-SUM($F25:LE25)","v":0},{"$f":"SUM($G11:LF11)-SUM($F25:LF25)","v":0},{"$f":"SUM($G11:LG11)-SUM($F25:LG25)","v":0},{"$f":"SUM($G11:LH11)-SUM($F25:LH25)","v":0},{"$f":"SUM($G11:LI11)-SUM($F25:LI25)","v":0},{"$f":"SUM($G11:LJ11)-SUM($F25:LJ25)","v":0},{"$f":"SUM($G11:LK11)-SUM($F25:LK25)","v":0},{"$f":"SUM($G11:LL11)-SUM($F25:LL25)","v":0},{"$f":"SUM($G11:LM11)-SUM($F25:LM25)","v":0},{"$f":"SUM($G11:LN11)-SUM($F25:LN25)","v":0},{"$f":"SUM($G11:LO11)-SUM($F25:LO25)","v":0},{"$f":"SUM($G11:LP11)-SUM($F25:LP25)","v":0},{"$f":"SUM($G11:LQ11)-SUM($F25:LQ25)","v":0},{"$f":"SUM($G11:LR11)-SUM($F25:LR25)","v":0},{"$f":"SUM($G11:LS11)-SUM($F25:LS25)","v":0},{"$f":"SUM($G11:LT11)-SUM($F25:LT25)","v":0},{"$f":"SUM($G11:LU11)-SUM($F25:LU25)","v":0},{"$f":"SUM($G11:LV11)-SUM($F25:LV25)","v":0},{"$f":"SUM($G11:LW11)-SUM($F25:LW25)","v":0},{"$f":"SUM($G11:LX11)-SUM($F25:LX25)","v":0},{"$f":"SUM($G11:LY11)-SUM($F25:LY25)","v":0},{"$f":"SUM($G11:LZ11)-SUM($F25:LZ25)","v":0},{"$f":"SUM($G11:MA11)-SUM($F25:MA25)","v":0},{"$f":"SUM($G11:MB11)-SUM($F25:MB25)","v":0},{"$f":"SUM($G11:MC11)-SUM($F25:MC25)","v":0},{"$f":"SUM($G11:MD11)-SUM($F25:MD25)","v":0},{"$f":"SUM($G11:ME11)-SUM($F25:ME25)","v":0},{"$f":"SUM($G11:MF11)-SUM($F25:MF25)","v":0},{"$f":"SUM($G11:MG11)-SUM($F25:MG25)","v":0},{"$f":"SUM($G11:MH11)-SUM($F25:MH25)","v":0},{"$f":"SUM($G11:MI11)-SUM($F25:MI25)","v":0},{"$f":"SUM($G11:MJ11)-SUM($F25:MJ25)","v":0},{"$f":"SUM($G11:MK11)-SUM($F25:MK25)","v":0},{"$f":"SUM($G11:ML11)-SUM($F25:ML25)","v":0},{"$f":"SUM($G11:MM11)-SUM($F25:MM25)","v":0},{"$f":"SUM($G11:MN11)-SUM($F25:MN25)","v":0},{"$f":"SUM($G11:MO11)-SUM($F25:MO25)","v":0},{"$f":"SUM($G11:MP11)-SUM($F25:MP25)","v":0},{"$f":"SUM($G11:MQ11)-SUM($F25:MQ25)","v":0},{"$f":"SUM($G11:MR11)-SUM($F25:MR25)","v":0},{"$f":"SUM($G11:MS11)-SUM($F25:MS25)","v":0},{"$f":"SUM($G11:MT11)-SUM($F25:MT25)","v":0},{"$f":"SUM($G11:MU11)-SUM($F25:MU25)","v":0},{"$f":"SUM($G11:MV11)-SUM($F25:MV25)","v":0},{"$f":"SUM($G11:MW11)-SUM($F25:MW25)","v":0},{"$f":"SUM($G11:MX11)-SUM($F25:MX25)","v":0},{"$f":"SUM($G11:MY11)-SUM($F25:MY25)","v":0},{"$f":"SUM($G11:MZ11)-SUM($F25:MZ25)","v":0},{"$f":"SUM($G11:NA11)-SUM($F25:NA25)","v":0},{"$f":"SUM($G11:NB11)-SUM($F25:NB25)","v":0},{"$f":"SUM($G11:NC11)-SUM($F25:NC25)","v":0},{"$f":"SUM($G11:ND11)-SUM($F25:ND25)","v":0},{"$f":"SUM($G11:NE11)-SUM($F25:NE25)","v":0},{"$f":"SUM($G11:NF11)-SUM($F25:NF25)","v":0},{"$f":"SUM($G11:NG11)-SUM($F25:NG25)","v":0},{"$f":"SUM($G11:NH11)-SUM($F25:NH25)","v":0},{"$f":"SUM($G11:NI11)-SUM($F25:NI25)","v":0},{"$f":"SUM($G11:NJ11)-SUM($F25:NJ25)","v":0},{"$f":"SUM($G11:NK11)-SUM($F25:NK25)","v":0},{"$f":"SUM($G11:NL11)-SUM($F25:NL25)","v":0},{"$f":"SUM($G11:NM11)-SUM($F25:NM25)","v":0},{"$f":"SUM($G11:NN11)-SUM($F25:NN25)","v":0},{"$f":"SUM($G11:NO11)-SUM($F25:NO25)","v":0},{"$f":"SUM($G11:NP11)-SUM($F25:NP25)","v":0},{"$f":"SUM($G11:NQ11)-SUM($F25:NQ25)","v":0},{"$f":"SUM($G11:NR11)-SUM($F25:NR25)","v":0},{"$f":"SUM($G11:NS11)-SUM($F25:NS25)","v":0},{"$f":"SUM($G11:NT11)-SUM($F25:NT25)","v":0},{"$f":"SUM($G11:NU11)-SUM($F25:NU25)","v":0},{"$f":"SUM($G11:NV11)-SUM($F25:NV25)","v":0},{"$f":"SUM($G11:NW11)-SUM($F25:NW25)","v":0},{"$f":"SUM($G11:NX11)-SUM($F25:NX25)","v":0},{"$f":"SUM($G11:NY11)-SUM($F25:NY25)","v":0},{"$f":"SUM($G11:NZ11)-SUM($F25:NZ25)","v":0},{"$f":"SUM($G11:OA11)-SUM($F25:OA25)","v":0},{"$f":"SUM($G11:OB11)-SUM($F25:OB25)","v":0},{"$f":"SUM($G11:OC11)-SUM($F25:OC25)","v":0},{"$f":"SUM($G11:OD11)-SUM($F25:OD25)","v":0},{"$f":"SUM($G11:OE11)-SUM($F25:OE25)","v":0},{"$f":"SUM($G11:OF11)-SUM($F25:OF25)","v":0},{"$f":"SUM($G11:OG11)-SUM($F25:OG25)","v":0},{"$f":"SUM($G11:OH11)-SUM($F25:OH25)","v":0},{"$f":"SUM($G11:OI11)-SUM($F25:OI25)","v":0},{"$f":"SUM($G11:OJ11)-SUM($F25:OJ25)","v":0},{"$f":"SUM($G11:OK11)-SUM($F25:OK25)","v":0},{"$f":"SUM($G11:OL11)-SUM($F25:OL25)","v":0},{"$f":"SUM($G11:OM11)-SUM($F25:OM25)","v":0},{"$f":"SUM($G11:ON11)-SUM($F25:ON25)","v":0},{"$f":"SUM($G11:OO11)-SUM($F25:OO25)","v":0},{"$f":"SUM($G11:OP11)-SUM($F25:OP25)","v":0},{"$f":"SUM($G11:OQ11)-SUM($F25:OQ25)","v":0},{"$f":"SUM($G11:OR11)-SUM($F25:OR25)","v":0},{"$f":"SUM($G11:OS11)-SUM($F25:OS25)","v":0},{"$f":"SUM($G11:OT11)-SUM($F25:OT25)","v":0},{"$f":"SUM($G11:OU11)-SUM($F25:OU25)","v":0},{"$f":"SUM($G11:OV11)-SUM($F25:OV25)","v":0},{"$f":"SUM($G11:OW11)-SUM($F25:OW25)","v":0},{"$f":"SUM($G11:OX11)-SUM($F25:OX25)","v":0},{"$f":"SUM($G11:OY11)-SUM($F25:OY25)","v":0},{"$f":"SUM($G11:OZ11)-SUM($F25:OZ25)","v":0},{"$f":"SUM($G11:PA11)-SUM($F25:PA25)","v":0},{"$f":"SUM($G11:PB11)-SUM($F25:PB25)","v":0},{"$f":"SUM($G11:PC11)-SUM($F25:PC25)","v":0},{"$f":"SUM($G11:PD11)-SUM($F25:PD25)","v":0},{"$f":"SUM($G11:PE11)-SUM($F25:PE25)","v":0},{"$f":"SUM($G11:PF11)-SUM($F25:PF25)","v":0},{"$f":"SUM($G11:PG11)-SUM($F25:PG25)","v":0},{"$f":"SUM($G11:PH11)-SUM($F25:PH25)","v":0},{"$f":"SUM($G11:PI11)-SUM($F25:PI25)","v":0},{"$f":"SUM($G11:PJ11)-SUM($F25:PJ25)","v":0},{"$f":"SUM($G11:PK11)-SUM($F25:PK25)","v":0},{"$f":"SUM($G11:PL11)-SUM($F25:PL25)","v":0},{"$f":"SUM($G11:PM11)-SUM($F25:PM25)","v":0},{"$f":"SUM($G11:PN11)-SUM($F25:PN25)","v":0},{"$f":"SUM($G11:PO11)-SUM($F25:PO25)","v":0},{"$f":"SUM($G11:PP11)-SUM($F25:PP25)","v":0},{"$f":"SUM($G11:PQ11)-SUM($F25:PQ25)","v":0},{"$f":"SUM($G11:PR11)-SUM($F25:PR25)","v":0},{"$f":"SUM($G11:PS11)-SUM($F25:PS25)","v":0},{"$f":"SUM($G11:PT11)-SUM($F25:PT25)","v":0},{"$f":"SUM($G11:PU11)-SUM($F25:PU25)","v":0},{"$f":"SUM($G11:PV11)-SUM($F25:PV25)","v":0},{"$f":"SUM($G11:PW11)-SUM($F25:PW25)","v":0},{"$f":"SUM($G11:PX11)-SUM($F25:PX25)","v":0},{"$f":"SUM($G11:PY11)-SUM($F25:PY25)","v":0},{"$f":"SUM($G11:PZ11)-SUM($F25:PZ25)","v":0},{"$f":"SUM($G11:QA11)-SUM($F25:QA25)","v":0},{"$f":"SUM($G11:QB11)-SUM($F25:QB25)","v":0},{"$f":"SUM($G11:QC11)-SUM($F25:QC25)","v":0},{"$f":"SUM($G11:QD11)-SUM($F25:QD25)","v":0},{"$f":"SUM($G11:QE11)-SUM($F25:QE25)","v":0},{"$f":"SUM($G11:QF11)-SUM($F25:QF25)","v":0},{"$f":"SUM($G11:QG11)-SUM($F25:QG25)","v":0},{"$f":"SUM($G11:QH11)-SUM($F25:QH25)","v":0},{"$f":"SUM($G11:QI11)-SUM($F25:QI25)","v":0},{"$f":"SUM($G11:QJ11)-SUM($F25:QJ25)","v":0},{"$f":"SUM($G11:QK11)-SUM($F25:QK25)","v":0},{"$f":"SUM($G11:QL11)-SUM($F25:QL25)","v":0},{"$f":"SUM($G11:QM11)-SUM($F25:QM25)","v":0},{"$f":"SUM($G11:QN11)-SUM($F25:QN25)","v":0},{"$f":"SUM($G11:QO11)-SUM($F25:QO25)","v":0},{"$f":"SUM($G11:QP11)-SUM($F25:QP25)","v":0},{"$f":"SUM($G11:QQ11)-SUM($F25:QQ25)","v":0},{"$f":"SUM($G11:QR11)-SUM($F25:QR25)","v":0},{"$f":"SUM($G11:QS11)-SUM($F25:QS25)","v":0},{"$f":"SUM($G11:QT11)-SUM($F25:QT25)","v":0},{"$f":"SUM($G11:QU11)-SUM($F25:QU25)","v":0},{"$f":"SUM($G11:QV11)-SUM($F25:QV25)","v":0},{"$f":"SUM($G11:QW11)-SUM($F25:QW25)","v":0},{"$f":"SUM($G11:QX11)-SUM($F25:QX25)","v":0},{"$f":"SUM($G11:QY11)-SUM($F25:QY25)","v":0},{"$f":"SUM($G11:QZ11)-SUM($F25:QZ25)","v":0},{"$f":"SUM($G11:RA11)-SUM($F25:RA25)","v":0},{"$f":"SUM($G11:RB11)-SUM($F25:RB25)","v":0},{"$f":"SUM($G11:RC11)-SUM($F25:RC25)","v":0},{"$f":"SUM($G11:RD11)-SUM($F25:RD25)","v":0},{"$f":"SUM($G11:RE11)-SUM($F25:RE25)","v":0},{"$f":"SUM($G11:RF11)-SUM($F25:RF25)","v":0}]
[null,0,0,0,0,null,{"$f":"SUM($G12:G12)-SUM($F26:G26)","v":0},{"$f":"SUM($G12:H12)-SUM($F26:H26)","v":0},{"$f":"SUM($G12:I12)-SUM($F26:I26)","v":0},{"$f":"SUM($G12:J12)-SUM($F26:J26)","v":0},{"$f":"SUM($G12:K12)-SUM($F26:K26)","v":0},{"$f":"SUM($G12:L12)-SUM($F26:L26)","v":0},{"$f":"SUM($G12:M12)-SUM($F26:M26)","v":0},{"$f":"SUM($G12:N12)-SUM($F26:N26)","v":0},{"$f":"SUM($G12:O12)-SUM($F26:O26)","v":0},{"$f":"SUM($G12:P12)-SUM($F26:P26)","v":0},{"$f":"SUM($G12:Q12)-SUM($F26:Q26)","v":0},{"$f":"SUM($G12:R12)-SUM($F26:R26)","v":0},{"$f":"SUM($G12:S12)-SUM($F26:S26)","v":0},{"$f":"SUM($G12:T12)-SUM($F26:T26)","v":0},{"$f":"SUM($G12:U12)-SUM($F26:U26)","v":0},{"$f":"SUM($G12:V12)-SUM($F26:V26)","v":0},{"$f":"SUM($G12:W12)-SUM($F26:W26)","v":0},{"$f":"SUM($G12:X12)-SUM($F26:X26)","v":0},{"$f":"SUM($G12:Y12)-SUM($F26:Y26)","v":0},{"$f":"SUM($G12:Z12)-SUM($F26:Z26)","v":0},{"$f":"SUM($G12:AA12)-SUM($F26:AA26)","v":0},{"$f":"SUM($G12:AB12)-SUM($F26:AB26)","v":0},{"$f":"SUM($G12:AC12)-SUM($F26:AC26)","v":0},{"$f":"SUM($G12:AD12)-SUM($F26:AD26)","v":0},{"$f":"SUM($G12:AE12)-SUM($F26:AE26)","v":0},{"$f":"SUM($G12:AF12)-SUM($F26:AF26)","v":0},{"$f":"SUM($G12:AG12)-SUM($F26:AG26)","v":0},{"$f":"SUM($G12:AH12)-SUM($F26:AH26)","v":0},{"$f":"SUM($G12:AI12)-SUM($F26:AI26)","v":0},{"$f":"SUM($G12:AJ12)-SUM($F26:AJ26)","v":0},{"$f":"SUM($G12:AK12)-SUM($F26:AK26)","v":0},{"$f":"SUM($G12:AL12)-SUM($F26:AL26)","v":0},{"$f":"SUM($G12:AM12)-SUM($F26:AM26)","v":0},{"$f":"SUM($G12:AN12)-SUM($F26:AN26)","v":0},{"$f":"SUM($G12:AO12)-SUM($F26:AO26)","v":0},{"$f":"SUM($G12:AP12)-SUM($F26:AP26)","v":0},{"$f":"SUM($G12:AQ12)-SUM($F26:AQ26)","v":0},{"$f":"SUM($G12:AR12)-SUM($F26:AR26)","v":0},{"$f":"SUM($G12:AS12)-SUM($F26:AS26)","v":0},{"$f":"SUM($G12:AT12)-SUM($F26:AT26)","v":0},{"$f":"SUM($G12:AU12)-SUM($F26:AU26)","v":0},{"$f":"SUM($G12:AV12)-SUM($F26:AV26)","v":0},{"$f":"SUM($G12:AW12)-SUM($F26:AW26)","v":0},{"$f":"SUM($G12:AX12)-SUM($F26:AX26)","v":0},{"$f":"SUM($G12:AY12)-SUM($F26:AY26)","v":0},{"$f":"SUM($G12:AZ12)-SUM($F26:AZ26)","v":0},{"$f":"SUM($G12:BA12)-SUM($F26:BA26)","v":0},{"$f":"SUM($G12:BB12)-SUM($F26:BB26)","v":0},{"$f":"SUM($G12:BC12)-SUM($F26:BC26)","v":0},{"$f":"SUM($G12:BD12)-SUM($F26:BD26)","v":0},{"$f":"SUM($G12:BE12)-SUM($F26:BE26)","v":0},{"$f":"SUM($G12:BF12)-SUM($F26:BF26)","v":0},{"$f":"SUM($G12:BG12)-SUM($F26:BG26)","v":0},{"$f":"SUM($G12:BH12)-SUM($F26:BH26)","v":0},{"$f":"SUM($G12:BI12)-SUM($F26:BI26)","v":0},{"$f":"SUM($G12:BJ12)-SUM($F26:BJ26)","v":0},{"$f":"SUM($G12:BK12)-SUM($F26:BK26)","v":0},{"$f":"SUM($G12:BL12)-SUM($F26:BL26)","v":0},{"$f":"SUM($G12:BM12)-SUM($F26:BM26)","v":0},{"$f":"SUM($G12:BN12)-SUM($F26:BN26)","v":0},{"$f":"SUM($G12:BO12)-SUM($F26:BO26)","v":0},{"$f":"SUM($G12:BP12)-SUM($F26:BP26)","v":0},{"$f":"SUM($G12:BQ12)-SUM($F26:BQ26)","v":0},{"$f":"SUM($G12:BR12)-SUM($F26:BR26)","v":0},{"$f":"SUM($G12:BS12)-SUM($F26:BS26)","v":0},{"$f":"SUM($G12:BT12)-SUM($F26:BT26)","v":0},{"$f":"SUM($G12:BU12)-SUM($F26:BU26)","v":0},{"$f":"SUM($G12:BV12)-SUM($F26:BV26)","v":0},{"$f":"SUM($G12:BW12)-SUM($F26:BW26)","v":0},{"$f":"SUM($G12:BX12)-SUM($F26:BX26)","v":0},{"$f":"SUM($G12:BY12)-SUM($F26:BY26)","v":0},{"$f":"SUM($G12:BZ12)-SUM($F26:BZ26)","v":0},{"$f":"SUM($G12:CA12)-SUM($F26:CA26)","v":0},{"$f":"SUM($G12:CB12)-SUM($F26:CB26)","v":0},{"$f":"SUM($G12:CC12)-SUM($F26:CC26)","v":0},{"$f":"SUM($G12:CD12)-SUM($F26:CD26)","v":0},{"$f":"SUM($G12:CE12)-SUM($F26:CE26)","v":0},{"$f":"SUM($G12:CF12)-SUM($F26:CF26)","v":0},{"$f":"SUM($G12:CG12)-SUM($F26:CG26)","v":0},{"$f":"SUM($G12:CH12)-SUM($F26:CH26)","v":0},{"$f":"SUM($G12:CI12)-SUM($F26:CI26)","v":0},{"$f":"SUM($G12:CJ12)-SUM($F26:CJ26)","v":0},{"$f":"SUM($G12:CK12)-SUM($F26:CK26)","v":0},{"$f":"SUM($G12:CL12)-SUM($F26:CL26)","v":0},{"$f":"SUM($G12:CM12)-SUM($F26:CM26)","v":0},{"$f":"SUM($G12:CN12)-SUM($F26:CN26)","v":0},{"$f":"SUM($G12:CO12)-SUM($F26:CO26)","v":0},{"$f":"SUM($G12:CP12)-SUM($F26:CP26)","v":0},{"$f":"SUM($G12:CQ12)-SUM($F26:CQ26)","v":0},{"$f":"SUM($G12:CR12)-SUM($F26:CR26)","v":0},{"$f":"SUM($G12:CS12)-SUM($F26:CS26)","v":0},{"$f":"SUM($G12:CT12)-SUM($F26:CT26)","v":0},{"$f":"SUM($G12:CU12)-SUM($F26:CU26)","v":0},{"$f":"SUM($G12:CV12)-SUM($F26:CV26)","v":0},{"$f":"SUM($G12:CW12)-SUM($F26:CW26)","v":0},{"$f":"SUM($G12:CX12)-SUM($F26:CX26)","v":0},{"$f":"SUM($G12:CY12)-SUM($F26:CY26)","v":0},{"$f":"SUM($G12:CZ12)-SUM($F26:CZ26)","v":0},{"$f":"SUM($G12:DA12)-SUM($F26:DA26)","v":0},{"$f":"SUM($G12:DB12)-SUM($F26:DB26)","v":0},{"$f":"SUM($G12:DC12)-SUM($F26:DC26)","v":0},{"$f":"SUM($G12:DD12)-SUM($F26:DD26)","v":0},{"$f":"SUM($G12:DE12)-SUM($F26:DE26)","v":0},{"$f":"SUM($G12:DF12)-SUM($F26:DF26)","v":0},{"$f":"SUM($G12:DG12)-SUM($F26:DG26)","v":0},{"$f":"SUM($G12:DH12)-SUM($F26:DH26)","v":0},{"$f":"SUM($G12:DI12)-SUM($F26:DI26)","v":0},{"$f":"SUM($G12:DJ12)-SUM($F26:DJ26)","v":0},{"$f":"SUM($G12:DK12)-SUM($F26:DK26)","v":0},{"$f":"SUM($G12:DL12)-SUM($F26:DL26)","v":0},{"$f":"SUM($G12:DM12)-SUM($F26:DM26)","v":0},{"$f":"SUM($G12:DN12)-SUM($F26:DN26)","v":0},{"$f":"SUM($G12:DO12)-SUM($F26:DO26)","v":0},{"$f":"SUM($G12:DP12)-SUM($F26:DP26)","v":0},{"$f":"SUM($G12:DQ12)-SUM($F26:DQ26)","v":0},{"$f":"SUM($G12:DR12)-SUM($F26:DR26)","v":0},{"$f":"SUM($G12:DS12)-SUM($F26:DS26)","v":0},{"$f":"SUM($G12:DT12)-SUM($F26:DT26)","v":0},{"$f":"SUM($G12:DU12)-SUM($F26:DU26)","v":0},{"$f":"SUM($G12:DV12)-SUM($F26:DV26)","v":0},{"$f":"SUM($G12:DW12)-SUM($F26:DW26)","v":0},{"$f":"SUM($G12:DX12)-SUM($F26:DX26)","v":0},{"$f":"SUM($G12:DY12)-SUM($F26:DY26)","v":0},{"$f":"SUM($G12:DZ12)-SUM($F26:DZ26)","v":0},{"$f":"SUM($G12:EA12)-SUM($F26:EA26)","v":0},{"$f":"SUM($G12:EB12)-SUM($F26:EB26)","v":0},{"$f":"SUM($G12:EC12)-SUM($F26:EC26)","v":0},{"$f":"SUM($G12:ED12)-SUM($F26:ED26)","v":0},{"$f":"SUM($G12:EE12)-SUM($F26:EE26)","v":0},{"$f":"SUM($G12:EF12)-SUM($F26:EF26)","v":0},{"$f":"SUM($G12:EG12)-SUM($F26:EG26)","v":0},{"$f":"SUM($G12:EH12)-SUM($F26:EH26)","v":0},{"$f":"SUM($G12:EI12)-SUM($F26:EI26)","v":0},{"$f":"SUM($G12:EJ12)-SUM($F26:EJ26)","v":0},{"$f":"SUM($G12:EK12)-SUM($F26:EK26)","v":0},{"$f":"SUM($G12:EL12)-SUM($F26:EL26)","v":0},{"$f":"SUM($G12:EM12)-SUM($F26:EM26)","v":0},{"$f":"SUM($G12:EN12)-SUM($F26:EN26)","v":0},{"$f":"SUM($G12:EO12)-SUM($F26:EO26)","v":0},{"$f":"SUM($G12:EP12)-SUM($F26:EP26)","v":0},{"$f":"SUM($G12:EQ12)-SUM($F26:EQ26)","v":0},{"$f":"SUM($G12:ER12)-SUM($F26:ER26)","v":0},{"$f":"SUM($G12:ES12)-SUM($F26:ES26)","v":0},{"$f":"SUM($G12:ET12)-SUM($F26:ET26)","v":0},{"$f":"SUM($G12:EU12)-SUM($F26:EU26)","v":0},{"$f":"SUM($G12:EV12)-SUM($F26:EV26)","v":0},{"$f":"SUM($G12:EW12)-SUM($F26:EW26)","v":0},{"$f":"SUM($G12:EX12)-SUM($F26:EX26)","v":0},{"$f":"SUM($G12:EY12)-SUM($F26:EY26)","v":0},{"$f":"SUM($G12:EZ12)-SUM($F26:EZ26)","v":0},{"$f":"SUM($G12:FA12)-SUM($F26:FA26)","v":0},{"$f":"SUM($G12:FB12)-SUM($F26:FB26)","v":0},{"$f":"SUM($G12:FC12)-SUM($F26:FC26)","v":0},{"$f":"SUM($G12:FD12)-SUM($F26:FD26)","v":0},{"$f":"SUM($G12:FE12)-SUM($F26:FE26)","v":0},{"$f":"SUM($G12:FF12)-SUM($F26:FF26)","v":0},{"$f":"SUM($G12:FG12)-SUM($F26:FG26)","v":0},{"$f":"SUM($G12:FH12)-SUM($F26:FH26)","v":0},{"$f":"SUM($G12:FI12)-SUM($F26:FI26)","v":0},{"$f":"SUM($G12:FJ12)-SUM($F26:FJ26)","v":0},{"$f":"SUM($G12:FK12)-SUM($F26:FK26)","v":0},{"$f":"SUM($G12:FL12)-SUM($F26:FL26)","v":0},{"$f":"SUM($G12:FM12)-SUM($F26:FM26)","v":0},{"$f":"SUM($G12:FN12)-SUM($F26:FN26)","v":0},{"$f":"SUM($G12:FO12)-SUM($F26:FO26)","v":0},{"$f":"SUM($G12:FP12)-SUM($F26:FP26)","v":0},{"$f":"SUM($G12:FQ12)-SUM($F26:FQ26)","v":0},{"$f":"SUM($G12:FR12)-SUM($F26:FR26)","v":0},{"$f":"SUM($G12:FS12)-SUM($F26:FS26)","v":0},{"$f":"SUM($G12:FT12)-SUM($F26:FT26)","v":0},{"$f":"SUM($G12:FU12)-SUM($F26:FU26)","v":0},{"$f":"SUM($G12:FV12)-SUM($F26:FV26)","v":0},{"$f":"SUM($G12:FW12)-SUM($F26:FW26)","v":0},{"$f":"SUM($G12:FX12)-SUM($F26:FX26)","v":0},{"$f":"SUM($G12:FY12)-SUM($F26:FY26)","v":0},{"$f":"SUM($G12:FZ12)-SUM($F26:FZ26)","v":0},{"$f":"SUM($G12:GA12)-SUM($F26:GA26)","v":0},{"$f":"SUM($G12:GB12)-SUM($F26:GB26)","v":0},{"$f":"SUM($G12:GC12)-SUM($F26:GC26)","v":0},{"$f":"SUM($G12:GD12)-SUM($F26:GD26)","v":0},{"$f":"SUM($G12:GE12)-SUM($F26:GE26)","v":0},{"$f":"SUM($G12:GF12)-SUM($F26:GF26)","v":0},{"$f":"SUM($G12:GG12)-SUM($F26:GG26)","v":0},{"$f":"SUM($G12:GH12)-SUM($F26:GH26)","v":0},{"$f":"SUM($G12:GI12)-SUM($F26:GI26)","v":0},{"$f":"SUM($G12:GJ12)-SUM($F26:GJ26)","v":0},{"$f":"SUM($G12:GK12)-SUM($F26:GK26)","v":0},{"$f":"SUM($G12:GL12)-SUM($F26:GL26)","v":0},{"$f":"SUM($G12:GM12)-SUM($F26:GM26)","v":0},{"$f":"SUM($G12:GN12)-SUM($F26:GN26)","v":0},{"$f":"SUM($G12:GO12)-SUM($F26:GO26)","v":0},{"$f":"SUM($G12:GP12)-SUM($F26:GP26)","v":0},{"$f":"SUM($G12:GQ12)-SUM($F26:GQ26)","v":0},{"$f":"SUM($G12:GR12)-SUM($F26:GR26)","v":0},{"$f":"SUM($G12:GS12)-SUM($F26:GS26)","v":0},{"$f":"SUM($G12:GT12)-SUM($F26:GT26)","v":0},{"$f":"SUM($G12:GU12)-SUM($F26:GU26)","v":0},{"$f":"SUM($G12:GV12)-SUM($F26:GV26)","v":0},{"$f":"SUM($G12:GW12)-SUM($F26:GW26)","v":0},{"$f":"SUM($G12:GX12)-SUM($F26:GX26)","v":0},{"$f":"SUM($G12:GY12)-SUM($F26:GY26)","v":0},{"$f":"SUM($G12:GZ12)-SUM($F26:GZ26)","v":0},{"$f":"SUM($G12:HA12)-SUM($F26:HA26)","v":0},{"$f":"SUM($G12:HB12)-SUM($F26:HB26)","v":0},{"$f":"SUM($G12:HC12)-SUM($F26:HC26)","v":0},{"$f":"SUM($G12:HD12)-SUM($F26:HD26)","v":0},{"$f":"SUM($G12:HE12)-SUM($F26:HE26)","v":0},{"$f":"SUM($G12:HF12)-SUM($F26:HF26)","v":0},{"$f":"SUM($G12:HG12)-SUM($F26:HG26)","v":0},{"$f":"SUM($G12:HH12)-SUM($F26:HH26)","v":0},{"$f":"SUM($G12:HI12)-SUM($F26:HI26)","v":0},{"$f":"SUM($G12:HJ12)-SUM($F26:HJ26)","v":0},{"$f":"SUM($G12:HK12)-SUM($F26:HK26)","v":0},{"$f":"SUM($G12:HL12)-SUM($F26:HL26)","v":0},{"$f":"SUM($G12:HM12)-SUM($F26:HM26)","v":0},{"$f":"SUM($G12:HN12)-SUM($F26:HN26)","v":0},{"$f":"SUM($G12:HO12)-SUM($F26:HO26)","v":0},{"$f":"SUM($G12:HP12)-SUM($F26:HP26)","v":0},{"$f":"SUM($G12:HQ12)-SUM($F26:HQ26)","v":0},{"$f":"SUM($G12:HR12)-SUM($F26:HR26)","v":0},{"$f":"SUM($G12:HS12)-SUM($F26:HS26)","v":0},{"$f":"SUM($G12:HT12)-SUM($F26:HT26)","v":0},{"$f":"SUM($G12:HU12)-SUM($F26:HU26)","v":0},{"$f":"SUM($G12:HV12)-SUM($F26:HV26)","v":0},{"$f":"SUM($G12:HW12)-SUM($F26:HW26)","v":0},{"$f":"SUM($G12:HX12)-SUM($F26:HX26)","v":0},{"$f":"SUM($G12:HY12)-SUM($F26:HY26)","v":0},{"$f":"SUM($G12:HZ12)-SUM($F26:HZ26)","v":0},{"$f":"SUM($G12:IA12)-SUM($F26:IA26)","v":0},{"$f":"SUM($G12:IB12)-SUM($F26:IB26)","v":0},{"$f":"SUM($G12:IC12)-SUM($F26:IC26)","v":0},{"$f":"SUM($G12:ID12)-SUM($F26:ID26)","v":0},{"$f":"SUM($G12:IE12)-SUM($F26:IE26)","v":0},{"$f":"SUM($G12:IF12)-SUM($F26:IF26)","v":0},{"$f":"SUM($G12:IG12)-SUM($F26:IG26)","v":0},{"$f":"SUM($G12:IH12)-SUM($F26:IH26)","v":0},{"$f":"SUM($G12:II12)-SUM($F26:II26)","v":0},{"$f":"SUM($G12:IJ12)-SUM($F26:IJ26)","v":0},{"$f":"SUM($G12:IK12)-SUM($F26:IK26)","v":0},{"$f":"SUM($G12:IL12)-SUM($F26:IL26)","v":0},{"$f":"SUM($G12:IM12)-SUM($F26:IM26)","v":0},{"$f":"SUM($G12:IN12)-SUM($F26:IN26)","v":0},{"$f":"SUM($G12:IO12)-SUM($F26:IO26)","v":0},{"$f":"SUM($G12:IP12)-SUM($F26:IP26)","v":0},{"$f":"SUM($G12:IQ12)-SUM($F26:IQ26)","v":0},{"$f":"SUM($G12:IR12)-SUM($F26:IR26)","v":0},{"$f":"SUM($G12:IS12)-SUM($F26:IS26)","v":0},{"$f":"SUM($G12:IT12)-SUM($F26:IT26)","v":0},{"$f":"SUM($G12:IU12)-SUM($F26:IU26)","v":0},{"$f":"SUM($G12:IV12)-SUM($F26:IV26)","v":0},{"$f":"SUM($G12:IW12)-SUM($F26:IW26)","v":0},{"$f":"SUM($G12:IX12)-SUM($F26:IX26)","v":0},{"$f":"SUM($G12:IY12)-SUM($F26:IY26)","v":0},{"$f":"SUM($G12:IZ12)-SUM($F26:IZ26)","v":0},{"$f":"SUM($G12:JA12)-SUM($F26:JA26)","v":0},{"$f":"SUM($G12:JB12)-SUM($F26:JB26)","v":0},{"$f":"SUM($G12:JC12)-SUM($F26:JC26)","v":0},{"$f":"SUM($G12:JD12)-SUM($F26:JD26)","v":0},{"$f":"SUM($G12:JE12)-SUM($F26:JE26)","v":0},{"$f":"SUM($G12:JF12)-SUM($F26:JF26)","v":0},{"$f":"SUM($G12:JG12)-SUM($F26:JG26)","v":0},{"$f":"SUM($G12:JH12)-SUM($F26:JH26)","v":0},{"$f":"SUM($G12:JI12)-SUM($F26:JI26)","v":0},{"$f":"SUM($G12:JJ12)-SUM($F26:JJ26)","v":0},{"$f":"SUM($G12:JK12)-SUM($F26:JK26)","v":0},{"$f":"SUM($G12:JL12)-SUM($F26:JL26)","v":0},{"$f":"SUM($G12:JM12)-SUM($F26:JM26)","v":0},{"$f":"SUM($G12:JN12)-SUM($F26:JN26)","v":0},{"$f":"SUM($G12:JO12)-SUM($F26:JO26)","v":0},{"$f":"SUM($G12:JP12)-SUM($F26:JP26)","v":0},{"$f":"SUM($G12:JQ12)-SUM($F26:JQ26)","v":0},{"$f":"SUM($G12:JR12)-SUM($F26:JR26)","v":0},{"$f":"SUM($G12:JS12)-SUM($F26:JS26)","v":0},{"$f":"SUM($G12:JT12)-SUM($F26:JT26)","v":0},{"$f":"SUM($G12:JU12)-SUM($F26:JU26)","v":0},{"$f":"SUM($G12:JV12)-SUM($F26:JV26)","v":0},{"$f":"SUM($G12:JW12)-SUM($F26:JW26)","v":0},{"$f":"SUM($G12:JX12)-SUM($F26:JX26)","v":0},{"$f":"SUM($G12:JY12)-SUM($F26:JY26)","v":0},{"$f":"SUM($G12:JZ12)-SUM($F26:JZ26)","v":0},{"$f":"SUM($G12:KA12)-SUM($F26:KA26)","v":0},{"$f":"SUM($G12:KB12)-SUM($F26:KB26)","v":0},{"$f":"SUM($G12:KC12)-SUM($F26:KC26)","v":0},{"$f":"SUM($G12:KD12)-SUM($F26:KD26)","v":0},{"$f":"SUM($G12:KE12)-SUM($F26:KE26)","v":0},{"$f":"SUM($G12:KF12)-SUM($F26:KF26)","v":0},{"$f":"SUM($G12:KG12)-SUM($F26:KG26)","v":0},{"$f":"SUM($G12:KH12)-SUM($F26:KH26)","v":0},{"$f":"SUM($G12:KI12)-SUM($F26:KI26)","v":0},{"$f":"SUM($G12:KJ12)-SUM($F26:KJ26)","v":0},{"$f":"SUM($G12:KK12)-SUM($F26:KK26)","v":0},{"$f":"SUM($G12:KL12)-SUM($F26:KL26)","v":0},{"$f":"SUM($G12:KM12)-SUM($F26:KM26)","v":0},{"$f":"SUM($G12:KN12)-SUM($F26:KN26)","v":0},{"$f":"SUM($G12:KO12)-SUM($F26:KO26)","v":0},{"$f":"SUM($G12:KP12)-SUM($F26:KP26)","v":0},{"$f":"SUM($G12:KQ12)-SUM($F26:KQ26)","v":0},{"$f":"SUM($G12:KR12)-SUM($F26:KR26)","v":0},{"$f":"SUM($G12:KS12)-SUM($F26:KS26)","v":0},{"$f":"SUM($G12:KT12)-SUM($F26:KT26)","v":0},{"$f":"SUM($G12:KU12)-SUM($F26:KU26)","v":0},{"$f":"SUM($G12:KV12)-SUM($F26:KV26)","v":0},{"$f":"SUM($G12:KW12)-SUM($F26:KW26)","v":0},{"$f":"SUM($G12:KX12)-SUM($F26:KX26)","v":0},{"$f":"SUM($G12:KY12)-SUM($F26:KY26)","v":0},{"$f":"SUM($G12:KZ12)-SUM($F26:KZ26)","v":0},{"$f":"SUM($G12:LA12)-SUM($F26:LA26)","v":0},{"$f":"SUM($G12:LB12)-SUM($F26:LB26)","v":0},{"$f":"SUM($G12:LC12)-SUM($F26:LC26)","v":0},{"$f":"SUM($G12:LD12)-SUM($F26:LD26)","v":0},{"$f":"SUM($G12:LE12)-SUM($F26:LE26)","v":0},{"$f":"SUM($G12:LF12)-SUM($F26:LF26)","v":0},{"$f":"SUM($G12:LG12)-SUM($F26:LG26)","v":0},{"$f":"SUM($G12:LH12)-SUM($F26:LH26)","v":0},{"$f":"SUM($G12:LI12)-SUM($F26:LI26)","v":0},{"$f":"SUM($G12:LJ12)-SUM($F26:LJ26)","v":0},{"$f":"SUM($G12:LK12)-SUM($F26:LK26)","v":0},{"$f":"SUM($G12:LL12)-SUM($F26:LL26)","v":0},{"$f":"SUM($G12:LM12)-SUM($F26:LM26)","v":0},{"$f":"SUM($G12:LN12)-SUM($F26:LN26)","v":0},{"$f":"SUM($G12:LO12)-SUM($F26:LO26)","v":0},{"$f":"SUM($G12:LP12)-SUM($F26:LP26)","v":0},{"$f":"SUM($G12:LQ12)-SUM($F26:LQ26)","v":0},{"$f":"SUM($G12:LR12)-SUM($F26:LR26)","v":0},{"$f":"SUM($G12:LS12)-SUM($F26:LS26)","v":0},{"$f":"SUM($G12:LT12)-SUM($F26:LT26)","v":0},{"$f":"SUM($G12:LU12)-SUM($F26:LU26)","v":0},{"$f":"SUM($G12:LV12)-SUM($F26:LV26)","v":0},{"$f":"SUM($G12:LW12)-SUM($F26:LW26)","v":0},{"$f":"SUM($G12:LX12)-SUM($F26:LX26)","v":0},{"$f":"SUM($G12:LY12)-SUM($F26:LY26)","v":0},{"$f":"SUM($G12:LZ12)-SUM($F26:LZ26)","v":0},{"$f":"SUM($G12:MA12)-SUM($F26:MA26)","v":0},{"$f":"SUM($G12:MB12)-SUM($F26:MB26)","v":0},{"$f":"SUM($G12:MC12)-SUM($F26:MC26)","v":0},{"$f":"SUM($G12:MD12)-SUM($F26:MD26)","v":0},{"$f":"SUM($G12:ME12)-SUM($F26:ME26)","v":0},{"$f":"SUM($G12:MF12)-SUM($F26:MF26)","v":0},{"$f":"SUM($G12:MG12)-SUM($F26:MG26)","v":0},{"$f":"SUM($G12:MH12)-SUM($F26:MH26)","v":0},{"$f":"SUM($G12:MI12)-SUM($F26:MI26)","v":0},{"$f":"SUM($G12:MJ12)-SUM($F26:MJ26)","v":0},{"$f":"SUM($G12:MK12)-SUM($F26:MK26)","v":0},{"$f":"SUM($G12:ML12)-SUM($F26:ML26)","v":0},{"$f":"SUM($G12:MM12)-SUM($F26:MM26)","v":0},{"$f":"SUM($G12:MN12)-SUM($F26:MN26)","v":0},{"$f":"SUM($G12:MO12)-SUM($F26:MO26)","v":0},{"$f":"SUM($G12:MP12)-SUM($F26:MP26)","v":0},{"$f":"SUM($G12:MQ12)-SUM($F26:MQ26)","v":0},{"$f":"SUM($G12:MR12)-SUM($F26:MR26)","v":0},{"$f":"SUM($G12:MS12)-SUM($F26:MS26)","v":0},{"$f":"SUM($G12:MT12)-SUM($F26:MT26)","v":0},{"$f":"SUM($G12:MU12)-SUM($F26:MU26)","v":0},{"$f":"SUM($G12:MV12)-SUM($F26:MV26)","v":0},{"$f":"SUM($G12:MW12)-SUM($F26:MW26)","v":0},{"$f":"SUM($G12:MX12)-SUM($F26:MX26)","v":0},{"$f":"SUM($G12:MY12)-SUM($F26:MY26)","v":0},{"$f":"SUM($G12:MZ12)-SUM($F26:MZ26)","v":0},{"$f":"SUM($G12:NA12)-SUM($F26:NA26)","v":0},{"$f":"SUM($G12:NB12)-SUM($F26:NB26)","v":0},{"$f":"SUM($G12:NC12)-SUM($F26:NC26)","v":0},{"$f":"SUM($G12:ND12)-SUM($F26:ND26)","v":0},{"$f":"SUM($G12:NE12)-SUM($F26:NE26)","v":0},{"$f":"SUM($G12:NF12)-SUM($F26:NF26)","v":0},{"$f":"SUM($G12:NG12)-SUM($F26:NG26)","v":0},{"$f":"SUM($G12:NH12)-SUM($F26:NH26)","v":0},{"$f":"SUM($G12:NI12)-SUM($F26:NI26)","v":0},{"$f":"SUM($G12:NJ12)-SUM($F26:NJ26)","v":0},{"$f":"SUM($G12:NK12)-SUM($F26:NK26)","v":0},{"$f":"SUM($G12:NL12)-SUM($F26:NL26)","v":0},{"$f":"SUM($G12:NM12)-SUM($F26:NM26)","v":0},{"$f":"SUM($G12:NN12)-SUM($F26:NN26)","v":0},{"$f":"SUM($G12:NO12)-SUM($F26:NO26)","v":0},{"$f":"SUM($G12:NP12)-SUM($F26:NP26)","v":0},{"$f":"SUM($G12:NQ12)-SUM($F26:NQ26)","v":0},{"$f":"SUM($G12:NR12)-SUM($F26:NR26)","v":0},{"$f":"SUM($G12:NS12)-SUM($F26:NS26)","v":0},{"$f":"SUM($G12:NT12)-SUM($F26:NT26)","v":0},{"$f":"SUM($G12:NU12)-SUM($F26:NU26)","v":0},{"$f":"SUM($G12:NV12)-SUM($F26:NV26)","v":0},{"$f":"SUM($G12:NW12)-SUM($F26:NW26)","v":0},{"$f":"SUM($G12:NX12)-SUM($F26:NX26)","v":0},{"$f":"SUM($G12:NY12)-SUM($F26:NY26)","v":0},{"$f":"SUM($G12:NZ12)-SUM($F26:NZ26)","v":0},{"$f":"SUM($G12:OA12)-SUM($F26:OA26)","v":0},{"$f":"SUM($G12:OB12)-SUM($F26:OB26)","v":0},{"$f":"SUM($G12:OC12)-SUM($F26:OC26)","v":0},{"$f":"SUM($G12:OD12)-SUM($F26:OD26)","v":0},{"$f":"SUM($G12:OE12)-SUM($F26:OE26)","v":0},{"$f":"SUM($G12:OF12)-SUM($F26:OF26)","v":0},{"$f":"SUM($G12:OG12)-SUM($F26:OG26)","v":0},{"$f":"SUM($G12:OH12)-SUM($F26:OH26)","v":0},{"$f":"SUM($G12:OI12)-SUM($F26:OI26)","v":0},{"$f":"SUM($G12:OJ12)-SUM($F26:OJ26)","v":0},{"$f":"SUM($G12:OK12)-SUM($F26:OK26)","v":0},{"$f":"SUM($G12:OL12)-SUM($F26:OL26)","v":0},{"$f":"SUM($G12:OM12)-SUM($F26:OM26)","v":0},{"$f":"SUM($G12:ON12)-SUM($F26:ON26)","v":0},{"$f":"SUM($G12:OO12)-SUM($F26:OO26)","v":0},{"$f":"SUM($G12:OP12)-SUM($F26:OP26)","v":0},{"$f":"SUM($G12:OQ12)-SUM($F26:OQ26)","v":0},{"$f":"SUM($G12:OR12)-SUM($F26:OR26)","v":0},{"$f":"SUM($G12:OS12)-SUM($F26:OS26)","v":0},{"$f":"SUM($G12:OT12)-SUM($F26:OT26)","v":0},{"$f":"SUM($G12:OU12)-SUM($F26:OU26)","v":0},{"$f":"SUM($G12:OV12)-SUM($F26:OV26)","v":0},{"$f":"SUM($G12:OW12)-SUM($F26:OW26)","v":0},{"$f":"SUM($G12:OX12)-SUM($F26:OX26)","v":0},{"$f":"SUM($G12:OY12)-SUM($F26:OY26)","v":0},{"$f":"SUM($G12:OZ12)-SUM($F26:OZ26)","v":0},{"$f":"SUM($G12:PA12)-SUM($F26:PA26)","v":0},{"$f":"SUM($G12:PB12)-SUM($F26:PB26)","v":0},{"$f":"SUM($G12:PC12)-SUM($F26:PC26)","v":0},{"$f":"SUM($G12:PD12)-SUM($F26:PD26)","v":0},{"$f":"SUM($G12:PE12)-SUM($F26:PE26)","v":0},{"$f":"SUM($G12:PF12)-SUM($F26:PF26)","v":0},{"$f":"SUM($G12:PG12)-SUM($F26:PG26)","v":0},{"$f":"SUM($G12:PH12)-SUM($F26:PH26)","v":0},{"$f":"SUM($G12:PI12)-SUM($F26:PI26)","v":0},{"$f":"SUM($G12:PJ12)-SUM($F26:PJ26)","v":0},{"$f":"SUM($G12:PK12)-SUM($F26:PK26)","v":0},{"$f":"SUM($G12:PL12)-SUM($F26:PL26)","v":0},{"$f":"SUM($G12:PM12)-SUM($F26:PM26)","v":0},{"$f":"SUM($G12:PN12)-SUM($F26:PN26)","v":0},{"$f":"SUM($G12:PO12)-SUM($F26:PO26)","v":0},{"$f":"SUM($G12:PP12)-SUM($F26:PP26)","v":0},{"$f":"SUM($G12:PQ12)-SUM($F26:PQ26)","v":0},{"$f":"SUM($G12:PR12)-SUM($F26:PR26)","v":0},{"$f":"SUM($G12:PS12)-SUM($F26:PS26)","v":0},{"$f":"SUM($G12:PT12)-SUM($F26:PT26)","v":0},{"$f":"SUM($G12:PU12)-SUM($F26:PU26)","v":0},{"$f":"SUM($G12:PV12)-SUM($F26:PV26)","v":0},{"$f":"SUM($G12:PW12)-SUM($F26:PW26)","v":0},{"$f":"SUM($G12:PX12)-SUM($F26:PX26)","v":0},{"$f":"SUM($G12:PY12)-SUM($F26:PY26)","v":0},{"$f":"SUM($G12:PZ12)-SUM($F26:PZ26)","v":0},{"$f":"SUM($G12:QA12)-SUM($F26:QA26)","v":0},{"$f":"SUM($G12:QB12)-SUM($F26:QB26)","v":0},{"$f":"SUM($G12:QC12)-SUM($F26:QC26)","v":0},{"$f":"SUM($G12:QD12)-SUM($F26:QD26)","v":0},{"$f":"SUM($G12:QE12)-SUM($F26:QE26)","v":0},{"$f":"SUM($G12:QF12)-SUM($F26:QF26)","v":0},{"$f":"SUM($G12:QG12)-SUM($F26:QG26)","v":0},{"$f":"SUM($G12:QH12)-SUM($F26:QH26)","v":0},{"$f":"SUM($G12:QI12)-SUM($F26:QI26)","v":0},{"$f":"SUM($G12:QJ12)-SUM($F26:QJ26)","v":0},{"$f":"SUM($G12:QK12)-SUM($F26:QK26)","v":0},{"$f":"SUM($G12:QL12)-SUM($F26:QL26)","v":0},{"$f":"SUM($G12:QM12)-SUM($F26:QM26)","v":0},{"$f":"SUM($G12:QN12)-SUM($F26:QN26)","v":0},{"$f":"SUM($G12:QO12)-SUM($F26:QO26)","v":0},{"$f":"SUM($G12:QP12)-SUM($F26:QP26)","v":0},{"$f":"SUM($G12:QQ12)-SUM($F26:QQ26)","v":0},{"$f":"SUM($G12:QR12)-SUM($F26:QR26)","v":0},{"$f":"SUM($G12:QS12)-SUM($F26:QS26)","v":0},{"$f":"SUM($G12:QT12)-SUM($F26:QT26)","v":0},{"$f":"SUM($G12:QU12)-SUM($F26:QU26)","v":0},{"$f":"SUM($G12:QV12)-SUM($F26:QV26)","v":0},{"$f":"SUM($G12:QW12)-SUM($F26:QW26)","v":0},{"$f":"SUM($G12:QX12)-SUM($F26:QX26)","v":0},{"$f":"SUM($G12:QY12)-SUM($F26:QY26)","v":0},{"$f":"SUM($G12:QZ12)-SUM($F26:QZ26)","v":0},{"$f":"SUM($G12:RA12)-SUM($F26:RA26)","v":0},{"$f":"SUM($G12:RB12)-SUM($F26:RB26)","v":0},{"$f":"SUM($G12:RC12)-SUM($F26:RC26)","v":0},{"$f":"SUM($G12:RD12)-SUM($F26:RD26)","v":0},{"$f":"SUM($G12:RE12)-SUM($F26:RE26)","v":0},{"$f":"SUM($G12:RF12)-SUM($F26:RF26)","v":0}]
[null,0,0,0,0,null,{"$f":"SUM($G13:G13)-SUM($F27:G27)","v":0},{"$f":"SUM($G13:H13)-SUM($F27:H27)","v":0},{"$f":"SUM($G13:I13)-SUM($F27:I27)","v":0},{"$f":"SUM($G13:J13)-SUM($F27:J27)","v":0},{"$f":"SUM($G13:K13)-SUM($F27:K27)","v":0},{"$f":"SUM($G13:L13)-SUM($F27:L27)","v":0},{"$f":"SUM($G13:M13)-SUM($F27:M27)","v":0},{"$f":"SUM($G13:N13)-SUM($F27:N27)","v":0},{"$f":"SUM($G13:O13)-SUM($F27:O27)","v":0},{"$f":"SUM($G13:P13)-SUM($F27:P27)","v":0},{"$f":"SUM($G13:Q13)-SUM($F27:Q27)","v":0},{"$f":"SUM($G13:R13)-SUM($F27:R27)","v":0},{"$f":"SUM($G13:S13)-SUM($F27:S27)","v":0},{"$f":"SUM($G13:T13)-SUM($F27:T27)","v":0},{"$f":"SUM($G13:U13)-SUM($F27:U27)","v":0},{"$f":"SUM($G13:V13)-SUM($F27:V27)","v":0},{"$f":"SUM($G13:W13)-SUM($F27:W27)","v":0},{"$f":"SUM($G13:X13)-SUM($F27:X27)","v":0},{"$f":"SUM($G13:Y13)-SUM($F27:Y27)","v":0},{"$f":"SUM($G13:Z13)-SUM($F27:Z27)","v":0},{"$f":"SUM($G13:AA13)-SUM($F27:AA27)","v":0},{"$f":"SUM($G13:AB13)-SUM($F27:AB27)","v":0},{"$f":"SUM($G13:AC13)-SUM($F27:AC27)","v":0},{"$f":"SUM($G13:AD13)-SUM($F27:AD27)","v":0},{"$f":"SUM($G13:AE13)-SUM($F27:AE27)","v":0},{"$f":"SUM($G13:AF13)-SUM($F27:AF27)","v":0},{"$f":"SUM($G13:AG13)-SUM($F27:AG27)","v":0},{"$f":"SUM($G13:AH13)-SUM($F27:AH27)","v":0},{"$f":"SUM($G13:AI13)-SUM($F27:AI27)","v":0},{"$f":"SUM($G13:AJ13)-SUM($F27:AJ27)","v":0},{"$f":"SUM($G13:AK13)-SUM($F27:AK27)","v":0},{"$f":"SUM($G13:AL13)-SUM($F27:AL27)","v":0},{"$f":"SUM($G13:AM13)-SUM($F27:AM27)","v":0},{"$f":"SUM($G13:AN13)-SUM($F27:AN27)","v":0},{"$f":"SUM($G13:AO13)-SUM($F27:AO27)","v":0},{"$f":"SUM($G13:AP13)-SUM($F27:AP27)","v":0},{"$f":"SUM($G13:AQ13)-SUM($F27:AQ27)","v":0},{"$f":"SUM($G13:AR13)-SUM($F27:AR27)","v":0},{"$f":"SUM($G13:AS13)-SUM($F27:AS27)","v":0},{"$f":"SUM($G13:AT13)-SUM($F27:AT27)","v":0},{"$f":"SUM($G13:AU13)-SUM($F27:AU27)","v":0},{"$f":"SUM($G13:AV13)-SUM($F27:AV27)","v":0},{"$f":"SUM($G13:AW13)-SUM($F27:AW27)","v":0},{"$f":"SUM($G13:AX13)-SUM($F27:AX27)","v":0},{"$f":"SUM($G13:AY13)-SUM($F27:AY27)","v":0},{"$f":"SUM($G13:AZ13)-SUM($F27:AZ27)","v":0},{"$f":"SUM($G13:BA13)-SUM($F27:BA27)","v":0},{"$f":"SUM($G13:BB13)-SUM($F27:BB27)","v":0},{"$f":"SUM($G13:BC13)-SUM($F27:BC27)","v":0},{"$f":"SUM($G13:BD13)-SUM($F27:BD27)","v":0},{"$f":"SUM($G13:BE13)-SUM($F27:BE27)","v":0},{"$f":"SUM($G13:BF13)-SUM($F27:BF27)","v":0},{"$f":"SUM($G13:BG13)-SUM($F27:BG27)","v":0},{"$f":"SUM($G13:BH13)-SUM($F27:BH27)","v":0},{"$f":"SUM($G13:BI13)-SUM($F27:BI27)","v":0},{"$f":"SUM($G13:BJ13)-SUM($F27:BJ27)","v":0},{"$f":"SUM($G13:BK13)-SUM($F27:BK27)","v":0},{"$f":"SUM($G13:BL13)-SUM($F27:BL27)","v":0},{"$f":"SUM($G13:BM13)-SUM($F27:BM27)","v":0},{"$f":"SUM($G13:BN13)-SUM($F27:BN27)","v":0},{"$f":"SUM($G13:BO13)-SUM($F27:BO27)","v":0},{"$f":"SUM($G13:BP13)-SUM($F27:BP27)","v":0},{"$f":"SUM($G13:BQ13)-SUM($F27:BQ27)","v":0},{"$f":"SUM($G13:BR13)-SUM($F27:BR27)","v":0},{"$f":"SUM($G13:BS13)-SUM($F27:BS27)","v":0},{"$f":"SUM($G13:BT13)-SUM($F27:BT27)","v":0},{"$f":"SUM($G13:BU13)-SUM($F27:BU27)","v":0},{"$f":"SUM($G13:BV13)-SUM($F27:BV27)","v":0},{"$f":"SUM($G13:BW13)-SUM($F27:BW27)","v":0},{"$f":"SUM($G13:BX13)-SUM($F27:BX27)","v":0},{"$f":"SUM($G13:BY13)-SUM($F27:BY27)","v":0},{"$f":"SUM($G13:BZ13)-SUM($F27:BZ27)","v":0},{"$f":"SUM($G13:CA13)-SUM($F27:CA27)","v":0},{"$f":"SUM($G13:CB13)-SUM($F27:CB27)","v":0},{"$f":"SUM($G13:CC13)-SUM($F27:CC27)","v":0},{"$f":"SUM($G13:CD13)-SUM($F27:CD27)","v":0},{"$f":"SUM($G13:CE13)-SUM($F27:CE27)","v":0},{"$f":"SUM($G13:CF13)-SUM($F27:CF27)","v":0},{"$f":"SUM($G13:CG13)-SUM($F27:CG27)","v":0},{"$f":"SUM($G13:CH13)-SUM($F27:CH27)","v":0},{"$f":"SUM($G13:CI13)-SUM($F27:CI27)","v":0},{"$f":"SUM($G13:CJ13)-SUM($F27:CJ27)","v":0},{"$f":"SUM($G13:CK13)-SUM($F27:CK27)","v":0},{"$f":"SUM($G13:CL13)-SUM($F27:CL27)","v":0},{"$f":"SUM($G13:CM13)-SUM($F27:CM27)","v":0},{"$f":"SUM($G13:CN13)-SUM($F27:CN27)","v":0},{"$f":"SUM($G13:CO13)-SUM($F27:CO27)","v":0},{"$f":"SUM($G13:CP13)-SUM($F27:CP27)","v":0},{"$f":"SUM($G13:CQ13)-SUM($F27:CQ27)","v":0},{"$f":"SUM($G13:CR13)-SUM($F27:CR27)","v":0},{"$f":"SUM($G13:CS13)-SUM($F27:CS27)","v":0},{"$f":"SUM($G13:CT13)-SUM($F27:CT27)","v":0},{"$f":"SUM($G13:CU13)-SUM($F27:CU27)","v":0},{"$f":"SUM($G13:CV13)-SUM($F27:CV27)","v":0},{"$f":"SUM($G13:CW13)-SUM($F27:CW27)","v":0},{"$f":"SUM($G13:CX13)-SUM($F27:CX27)","v":0},{"$f":"SUM($G13:CY13)-SUM($F27:CY27)","v":0},{"$f":"SUM($G13:CZ13)-SUM($F27:CZ27)","v":0},{"$f":"SUM($G13:DA13)-SUM($F27:DA27)","v":0},{"$f":"SUM($G13:DB13)-SUM($F27:DB27)","v":0},{"$f":"SUM($G13:DC13)-SUM($F27:DC27)","v":0},{"$f":"SUM($G13:DD13)-SUM($F27:DD27)","v":0},{"$f":"SUM($G13:DE13)-SUM($F27:DE27)","v":0},{"$f":"SUM($G13:DF13)-SUM($F27:DF27)","v":0},{"$f":"SUM($G13:DG13)-SUM($F27:DG27)","v":0},{"$f":"SUM($G13:DH13)-SUM($F27:DH27)","v":0},{"$f":"SUM($G13:DI13)-SUM($F27:DI27)","v":0},{"$f":"SUM($G13:DJ13)-SUM($F27:DJ27)","v":0},{"$f":"SUM($G13:DK13)-SUM($F27:DK27)","v":0},{"$f":"SUM($G13:DL13)-SUM($F27:DL27)","v":0},{"$f":"SUM($G13:DM13)-SUM($F27:DM27)","v":0},{"$f":"SUM($G13:DN13)-SUM($F27:DN27)","v":0},{"$f":"SUM($G13:DO13)-SUM($F27:DO27)","v":0},{"$f":"SUM($G13:DP13)-SUM($F27:DP27)","v":0},{"$f":"SUM($G13:DQ13)-SUM($F27:DQ27)","v":0},{"$f":"SUM($G13:DR13)-SUM($F27:DR27)","v":0},{"$f":"SUM($G13:DS13)-SUM($F27:DS27)","v":0},{"$f":"SUM($G13:DT13)-SUM($F27:DT27)","v":0},{"$f":"SUM($G13:DU13)-SUM($F27:DU27)","v":0},{"$f":"SUM($G13:DV13)-SUM($F27:DV27)","v":0},{"$f":"SUM($G13:DW13)-SUM($F27:DW27)","v":0},{"$f":"SUM($G13:DX13)-SUM($F27:DX27)","v":0},{"$f":"SUM($G13:DY13)-SUM($F27:DY27)","v":0},{"$f":"SUM($G13:DZ13)-SUM($F27:DZ27)","v":0},{"$f":"SUM($G13:EA13)-SUM($F27:EA27)","v":0},{"$f":"SUM($G13:EB13)-SUM($F27:EB27)","v":0},{"$f":"SUM($G13:EC13)-SUM($F27:EC27)","v":0},{"$f":"SUM($G13:ED13)-SUM($F27:ED27)","v":0},{"$f":"SUM($G13:EE13)-SUM($F27:EE27)","v":0},{"$f":"SUM($G13:EF13)-SUM($F27:EF27)","v":0},{"$f":"SUM($G13:EG13)-SUM($F27:EG27)","v":0},{"$f":"SUM($G13:EH13)-SUM($F27:EH27)","v":0},{"$f":"SUM($G13:EI13)-SUM($F27:EI27)","v":0},{"$f":"SUM($G13:EJ13)-SUM($F27:EJ27)","v":0},{"$f":"SUM($G13:EK13)-SUM($F27:EK27)","v":0},{"$f":"SUM($G13:EL13)-SUM($F27:EL27)","v":0},{"$f":"SUM($G13:EM13)-SUM($F27:EM27)","v":0},{"$f":"SUM($G13:EN13)-SUM($F27:EN27)","v":0},{"$f":"SUM($G13:EO13)-SUM($F27:EO27)","v":0},{"$f":"SUM($G13:EP13)-SUM($F27:EP27)","v":0},{"$f":"SUM($G13:EQ13)-SUM($F27:EQ27)","v":0},{"$f":"SUM($G13:ER13)-SUM($F27:ER27)","v":0},{"$f":"SUM($G13:ES13)-SUM($F27:ES27)","v":0},{"$f":"SUM($G13:ET13)-SUM($F27:ET27)","v":0},{"$f":"SUM($G13:EU13)-SUM($F27:EU27)","v":0},{"$f":"SUM($G13:EV13)-SUM($F27:EV27)","v":0},{"$f":"SUM($G13:EW13)-SUM($F27:EW27)","v":0},{"$f":"SUM($G13:EX13)-SUM($F27:EX27)","v":0},{"$f":"SUM($G13:EY13)-SUM($F27:EY27)","v":0},{"$f":"SUM($G13:EZ13)-SUM($F27:EZ27)","v":0},{"$f":"SUM($G13:FA13)-SUM($F27:FA27)","v":0},{"$f":"SUM($G13:FB13)-SUM($F27:FB27)","v":0},{"$f":"SUM($G13:FC13)-SUM($F27:FC27)","v":0},{"$f":"SUM($G13:FD13)-SUM($F27:FD27)","v":0},{"$f":"SUM($G13:FE13)-SUM($F27:FE27)","v":0},{"$f":"SUM($G13:FF13)-SUM($F27:FF27)","v":0},{"$f":"SUM($G13:FG13)-SUM($F27:FG27)","v":0},{"$f":"SUM($G13:FH13)-SUM($F27:FH27)","v":0},{"$f":"SUM($G13:FI13)-SUM($F27:FI27)","v":0},{"$f":"SUM($G13:FJ13)-SUM($F27:FJ27)","v":0},{"$f":"SUM($G13:FK13)-SUM($F27:FK27)","v":0},{"$f":"SUM($G13:FL13)-SUM($F27:FL27)","v":0},{"$f":"SUM($G13:FM13)-SUM($F27:FM27)","v":0},{"$f":"SUM($G13:FN13)-SUM($F27:FN27)","v":0},{"$f":"SUM($G13:FO13)-SUM($F27:FO27)","v":0},{"$f":"SUM($G13:FP13)-SUM($F27:FP27)","v":0},{"$f":"SUM($G13:FQ13)-SUM($F27:FQ27)","v":0},{"$f":"SUM($G13:FR13)-SUM($F27:FR27)","v":0},{"$f":"SUM($G13:FS13)-SUM($F27:FS27)","v":0},{"$f":"SUM($G13:FT13)-SUM($F27:FT27)","v":0},{"$f":"SUM($G13:FU13)-SUM($F27:FU27)","v":0},{"$f":"SUM($G13:FV13)-SUM($F27:FV27)","v":0},{"$f":"SUM($G13:FW13)-SUM($F27:FW27)","v":0},{"$f":"SUM($G13:FX13)-SUM($F27:FX27)","v":0},{"$f":"SUM($G13:FY13)-SUM($F27:FY27)","v":0},{"$f":"SUM($G13:FZ13)-SUM($F27:FZ27)","v":0},{"$f":"SUM($G13:GA13)-SUM($F27:GA27)","v":0},{"$f":"SUM($G13:GB13)-SUM($F27:GB27)","v":0},{"$f":"SUM($G13:GC13)-SUM($F27:GC27)","v":0},{"$f":"SUM($G13:GD13)-SUM($F27:GD27)","v":0},{"$f":"SUM($G13:GE13)-SUM($F27:GE27)","v":0},{"$f":"SUM($G13:GF13)-SUM($F27:GF27)","v":0},{"$f":"SUM($G13:GG13)-SUM($F27:GG27)","v":0},{"$f":"SUM($G13:GH13)-SUM($F27:GH27)","v":0},{"$f":"SUM($G13:GI13)-SUM($F27:GI27)","v":0},{"$f":"SUM($G13:GJ13)-SUM($F27:GJ27)","v":0},{"$f":"SUM($G13:GK13)-SUM($F27:GK27)","v":0},{"$f":"SUM($G13:GL13)-SUM($F27:GL27)","v":0},{"$f":"SUM($G13:GM13)-SUM($F27:GM27)","v":0},{"$f":"SUM($G13:GN13)-SUM($F27:GN27)","v":0},{"$f":"SUM($G13:GO13)-SUM($F27:GO27)","v":0},{"$f":"SUM($G13:GP13)-SUM($F27:GP27)","v":0},{"$f":"SUM($G13:GQ13)-SUM($F27:GQ27)","v":0},{"$f":"SUM($G13:GR13)-SUM($F27:GR27)","v":0},{"$f":"SUM($G13:GS13)-SUM($F27:GS27)","v":0},{"$f":"SUM($G13:GT13)-SUM($F27:GT27)","v":0},{"$f":"SUM($G13:GU13)-SUM($F27:GU27)","v":0},{"$f":"SUM($G13:GV13)-SUM($F27:GV27)","v":0},{"$f":"SUM($G13:GW13)-SUM($F27:GW27)","v":0},{"$f":"SUM($G13:GX13)-SUM($F27:GX27)","v":0},{"$f":"SUM($G13:GY13)-SUM($F27:GY27)","v":0},{"$f":"SUM($G13:GZ13)-SUM($F27:GZ27)","v":0},{"$f":"SUM($G13:HA13)-SUM($F27:HA27)","v":0},{"$f":"SUM($G13:HB13)-SUM($F27:HB27)","v":0},{"$f":"SUM($G13:HC13)-SUM($F27:HC27)","v":0},{"$f":"SUM($G13:HD13)-SUM($F27:HD27)","v":0},{"$f":"SUM($G13:HE13)-SUM($F27:HE27)","v":0},{"$f":"SUM($G13:HF13)-SUM($F27:HF27)","v":0},{"$f":"SUM($G13:HG13)-SUM($F27:HG27)","v":0},{"$f":"SUM($G13:HH13)-SUM($F27:HH27)","v":0},{"$f":"SUM($G13:HI13)-SUM($F27:HI27)","v":0},{"$f":"SUM($G13:HJ13)-SUM($F27:HJ27)","v":0},{"$f":"SUM($G13:HK13)-SUM($F27:HK27)","v":0},{"$f":"SUM($G13:HL13)-SUM($F27:HL27)","v":0},{"$f":"SUM($G13:HM13)-SUM($F27:HM27)","v":0},{"$f":"SUM($G13:HN13)-SUM($F27:HN27)","v":0},{"$f":"SUM($G13:HO13)-SUM($F27:HO27)","v":0},{"$f":"SUM($G13:HP13)-SUM($F27:HP27)","v":0},{"$f":"SUM($G13:HQ13)-SUM($F27:HQ27)","v":0},{"$f":"SUM($G13:HR13)-SUM($F27:HR27)","v":0},{"$f":"SUM($G13:HS13)-SUM($F27:HS27)","v":0},{"$f":"SUM($G13:HT13)-SUM($F27:HT27)","v":0},{"$f":"SUM($G13:HU13)-SUM($F27:HU27)","v":0},{"$f":"SUM($G13:HV13)-SUM($F27:HV27)","v":0},{"$f":"SUM($G13:HW13)-SUM($F27:HW27)","v":0},{"$f":"SUM($G13:HX13)-SUM($F27:HX27)","v":0},{"$f":"SUM($G13:HY13)-SUM($F27:HY27)","v":0},{"$f":"SUM($G13:HZ13)-SUM($F27:HZ27)","v":0},{"$f":"SUM($G13:IA13)-SUM($F27:IA27)","v":0},{"$f":"SUM($G13:IB13)-SUM($F27:IB27)","v":0},{"$f":"SUM($G13:IC13)-SUM($F27:IC27)","v":0},{"$f":"SUM($G13:ID13)-SUM($F27:ID27)","v":0},{"$f":"SUM($G13:IE13)-SUM($F27:IE27)","v":0},{"$f":"SUM($G13:IF13)-SUM($F27:IF27)","v":0},{"$f":"SUM($G13:IG13)-SUM($F27:IG27)","v":0},{"$f":"SUM($G13:IH13)-SUM($F27:IH27)","v":0},{"$f":"SUM($G13:II13)-SUM($F27:II27)","v":0},{"$f":"SUM($G13:IJ13)-SUM($F27:IJ27)","v":0},{"$f":"SUM($G13:IK13)-SUM($F27:IK27)","v":0},{"$f":"SUM($G13:IL13)-SUM($F27:IL27)","v":0},{"$f":"SUM($G13:IM13)-SUM($F27:IM27)","v":0},{"$f":"SUM($G13:IN13)-SUM($F27:IN27)","v":0},{"$f":"SUM($G13:IO13)-SUM($F27:IO27)","v":0},{"$f":"SUM($G13:IP13)-SUM($F27:IP27)","v":0},{"$f":"SUM($G13:IQ13)-SUM($F27:IQ27)","v":0},{"$f":"SUM($G13:IR13)-SUM($F27:IR27)","v":0},{"$f":"SUM($G13:IS13)-SUM($F27:IS27)","v":0},{"$f":"SUM($G13:IT13)-SUM($F27:IT27)","v":0},{"$f":"SUM($G13:IU13)-SUM($F27:IU27)","v":0},{"$f":"SUM($G13:IV13)-SUM($F27:IV27)","v":0},{"$f":"SUM($G13:IW13)-SUM($F27:IW27)","v":0},{"$f":"SUM($G13:IX13)-SUM($F27:IX27)","v":0},{"$f":"SUM($G13:IY13)-SUM($F27:IY27)","v":0},{"$f":"SUM($G13:IZ13)-SUM($F27:IZ27)","v":0},{"$f":"SUM($G13:JA13)-SUM($F27:JA27)","v":0},{"$f":"SUM($G13:JB13)-SUM($F27:JB27)","v":0},{"$f":"SUM($G13:JC13)-SUM($F27:JC27)","v":0},{"$f":"SUM($G13:JD13)-SUM($F27:JD27)","v":0},{"$f":"SUM($G13:JE13)-SUM($F27:JE27)","v":0},{"$f":"SUM($G13:JF13)-SUM($F27:JF27)","v":0},{"$f":"SUM($G13:JG13)-SUM($F27:JG27)","v":0},{"$f":"SUM($G13:JH13)-SUM($F27:JH27)","v":0},{"$f":"SUM($G13:JI13)-SUM($F27:JI27)","v":0},{"$f":"SUM($G13:JJ13)-SUM($F27:JJ27)","v":0},{"$f":"SUM($G13:JK13)-SUM($F27:JK27)","v":0},{"$f":"SUM($G13:JL13)-SUM($F27:JL27)","v":0},{"$f":"SUM($G13:JM13)-SUM($F27:JM27)","v":0},{"$f":"SUM($G13:JN13)-SUM($F27:JN27)","v":0},{"$f":"SUM($G13:JO13)-SUM($F27:JO27)","v":0},{"$f":"SUM($G13:JP13)-SUM($F27:JP27)","v":0},{"$f":"SUM($G13:JQ13)-SUM($F27:JQ27)","v":0},{"$f":"SUM($G13:JR13)-SUM($F27:JR27)","v":0},{"$f":"SUM($G13:JS13)-SUM($F27:JS27)","v":0},{"$f":"SUM($G13:JT13)-SUM($F27:JT27)","v":0},{"$f":"SUM($G13:JU13)-SUM($F27:JU27)","v":0},{"$f":"SUM($G13:JV13)-SUM($F27:JV27)","v":0},{"$f":"SUM($G13:JW13)-SUM($F27:JW27)","v":0},{"$f":"SUM($G13:JX13)-SUM($F27:JX27)","v":0},{"$f":"SUM($G13:JY13)-SUM($F27:JY27)","v":0},{"$f":"SUM($G13:JZ13)-SUM($F27:JZ27)","v":0},{"$f":"SUM($G13:KA13)-SUM($F27:KA27)","v":0},{"$f":"SUM($G13:KB13)-SUM($F27:KB27)","v":0},{"$f":"SUM($G13:KC13)-SUM($F27:KC27)","v":0},{"$f":"SUM($G13:KD13)-SUM($F27:KD27)","v":0},{"$f":"SUM($G13:KE13)-SUM($F27:KE27)","v":0},{"$f":"SUM($G13:KF13)-SUM($F27:KF27)","v":0},{"$f":"SUM($G13:KG13)-SUM($F27:KG27)","v":0},{"$f":"SUM($G13:KH13)-SUM($F27:KH27)","v":0},{"$f":"SUM($G13:KI13)-SUM($F27:KI27)","v":0},{"$f":"SUM($G13:KJ13)-SUM($F27:KJ27)","v":0},{"$f":"SUM($G13:KK13)-SUM($F27:KK27)","v":0},{"$f":"SUM($G13:KL13)-SUM($F27:KL27)","v":0},{"$f":"SUM($G13:KM13)-SUM($F27:KM27)","v":0},{"$f":"SUM($G13:KN13)-SUM($F27:KN27)","v":0},{"$f":"SUM($G13:KO13)-SUM($F27:KO27)","v":0},{"$f":"SUM($G13:KP13)-SUM($F27:KP27)","v":0},{"$f":"SUM($G13:KQ13)-SUM($F27:KQ27)","v":0},{"$f":"SUM($G13:KR13)-SUM($F27:KR27)","v":0},{"$f":"SUM($G13:KS13)-SUM($F27:KS27)","v":0},{"$f":"SUM($G13:KT13)-SUM($F27:KT27)","v":0},{"$f":"SUM($G13:KU13)-SUM($F27:KU27)","v":0},{"$f":"SUM($G13:KV13)-SUM($F27:KV27)","v":0},{"$f":"SUM($G13:KW13)-SUM($F27:KW27)","v":0},{"$f":"SUM($G13:KX13)-SUM($F27:KX27)","v":0},{"$f":"SUM($G13:KY13)-SUM($F27:KY27)","v":0},{"$f":"SUM($G13:KZ13)-SUM($F27:KZ27)","v":0},{"$f":"SUM($G13:LA13)-SUM($F27:LA27)","v":0},{"$f":"SUM($G13:LB13)-SUM($F27:LB27)","v":0},{"$f":"SUM($G13:LC13)-SUM($F27:LC27)","v":0},{"$f":"SUM($G13:LD13)-SUM($F27:LD27)","v":0},{"$f":"SUM($G13:LE13)-SUM($F27:LE27)","v":0},{"$f":"SUM($G13:LF13)-SUM($F27:LF27)","v":0},{"$f":"SUM($G13:LG13)-SUM($F27:LG27)","v":0},{"$f":"SUM($G13:LH13)-SUM($F27:LH27)","v":0},{"$f":"SUM($G13:LI13)-SUM($F27:LI27)","v":0},{"$f":"SUM($G13:LJ13)-SUM($F27:LJ27)","v":0},{"$f":"SUM($G13:LK13)-SUM($F27:LK27)","v":0},{"$f":"SUM($G13:LL13)-SUM($F27:LL27)","v":0},{"$f":"SUM($G13:LM13)-SUM($F27:LM27)","v":0},{"$f":"SUM($G13:LN13)-SUM($F27:LN27)","v":0},{"$f":"SUM($G13:LO13)-SUM($F27:LO27)","v":0},{"$f":"SUM($G13:LP13)-SUM($F27:LP27)","v":0},{"$f":"SUM($G13:LQ13)-SUM($F27:LQ27)","v":0},{"$f":"SUM($G13:LR13)-SUM($F27:LR27)","v":0},{"$f":"SUM($G13:LS13)-SUM($F27:LS27)","v":0},{"$f":"SUM($G13:LT13)-SUM($F27:LT27)","v":0},{"$f":"SUM($G13:LU13)-SUM($F27:LU27)","v":0},{"$f":"SUM($G13:LV13)-SUM($F27:LV27)","v":0},{"$f":"SUM($G13:LW13)-SUM($F27:LW27)","v":0},{"$f":"SUM($G13:LX13)-SUM($F27:LX27)","v":0},{"$f":"SUM($G13:LY13)-SUM($F27:LY27)","v":0},{"$f":"SUM($G13:LZ13)-SUM($F27:LZ27)","v":0},{"$f":"SUM($G13:MA13)-SUM($F27:MA27)","v":0},{"$f":"SUM($G13:MB13)-SUM($F27:MB27)","v":0},{"$f":"SUM($G13:MC13)-SUM($F27:MC27)","v":0},{"$f":"SUM($G13:MD13)-SUM($F27:MD27)","v":0},{"$f":"SUM($G13:ME13)-SUM($F27:ME27)","v":0},{"$f":"SUM($G13:MF13)-SUM($F27:MF27)","v":0},{"$f":"SUM($G13:MG13)-SUM($F27:MG27)","v":0},{"$f":"SUM($G13:MH13)-SUM($F27:MH27)","v":0},{"$f":"SUM($G13:MI13)-SUM($F27:MI27)","v":0},{"$f":"SUM($G13:MJ13)-SUM($F27:MJ27)","v":0},{"$f":"SUM($G13:MK13)-SUM($F27:MK27)","v":0},{"$f":"SUM($G13:ML13)-SUM($F27:ML27)","v":0},{"$f":"SUM($G13:MM13)-SUM($F27:MM27)","v":0},{"$f":"SUM($G13:MN13)-SUM($F27:MN27)","v":0},{"$f":"SUM($G13:MO13)-SUM($F27:MO27)","v":0},{"$f":"SUM($G13:MP13)-SUM($F27:MP27)","v":0},{"$f":"SUM($G13:MQ13)-SUM($F27:MQ27)","v":0},{"$f":"SUM($G13:MR13)-SUM($F27:MR27)","v":0},{"$f":"SUM($G13:MS13)-SUM($F27:MS27)","v":0},{"$f":"SUM($G13:MT13)-SUM($F27:MT27)","v":0},{"$f":"SUM($G13:MU13)-SUM($F27:MU27)","v":0},{"$f":"SUM($G13:MV13)-SUM($F27:MV27)","v":0},{"$f":"SUM($G13:MW13)-SUM($F27:MW27)","v":0},{"$f":"SUM($G13:MX13)-SUM($F27:MX27)","v":0},{"$f":"SUM($G13:MY13)-SUM($F27:MY27)","v":0},{"$f":"SUM($G13:MZ13)-SUM($F27:MZ27)","v":0},{"$f":"SUM($G13:NA13)-SUM($F27:NA27)","v":0},{"$f":"SUM($G13:NB13)-SUM($F27:NB27)","v":0},{"$f":"SUM($G13:NC13)-SUM($F27:NC27)","v":0},{"$f":"SUM($G13:ND13)-SUM($F27:ND27)","v":0},{"$f":"SUM($G13:NE13)-SUM($F27:NE27)","v":0},{"$f":"SUM($G13:NF13)-SUM($F27:NF27)","v":0},{"$f":"SUM($G13:NG13)-SUM($F27:NG27)","v":0},{"$f":"SUM($G13:NH13)-SUM($F27:NH27)","v":0},{"$f":"SUM($G13:NI13)-SUM($F27:NI27)","v":0},{"$f":"SUM($G13:NJ13)-SUM($F27:NJ27)","v":0},{"$f":"SUM($G13:NK13)-SUM($F27:NK27)","v":0},{"$f":"SUM($G13:NL13)-SUM($F27:NL27)","v":0},{"$f":"SUM($G13:NM13)-SUM($F27:NM27)","v":0},{"$f":"SUM($G13:NN13)-SUM($F27:NN27)","v":0},{"$f":"SUM($G13:NO13)-SUM($F27:NO27)","v":0},{"$f":"SUM($G13:NP13)-SUM($F27:NP27)","v":0},{"$f":"SUM($G13:NQ13)-SUM($F27:NQ27)","v":0},{"$f":"SUM($G13:NR13)-SUM($F27:NR27)","v":0},{"$f":"SUM($G13:NS13)-SUM($F27:NS27)","v":0},{"$f":"SUM($G13:NT13)-SUM($F27:NT27)","v":0},{"$f":"SUM($G13:NU13)-SUM($F27:NU27)","v":0},{"$f":"SUM($G13:NV13)-SUM($F27:NV27)","v":0},{"$f":"SUM($G13:NW13)-SUM($F27:NW27)","v":0},{"$f":"SUM($G13:NX13)-SUM($F27:NX27)","v":0},{"$f":"SUM($G13:NY13)-SUM($F27:NY27)","v":0},{"$f":"SUM($G13:NZ13)-SUM($F27:NZ27)","v":0},{"$f":"SUM($G13:OA13)-SUM($F27:OA27)","v":0},{"$f":"SUM($G13:OB13)-SUM($F27:OB27)","v":0},{"$f":"SUM($G13:OC13)-SUM($F27:OC27)","v":0},{"$f":"SUM($G13:OD13)-SUM($F27:OD27)","v":0},{"$f":"SUM($G13:OE13)-SUM($F27:OE27)","v":0},{"$f":"SUM($G13:OF13)-SUM($F27:OF27)","v":0},{"$f":"SUM($G13:OG13)-SUM($F27:OG27)","v":0},{"$f":"SUM($G13:OH13)-SUM($F27:OH27)","v":0},{"$f":"SUM($G13:OI13)-SUM($F27:OI27)","v":0},{"$f":"SUM($G13:OJ13)-SUM($F27:OJ27)","v":0},{"$f":"SUM($G13:OK13)-SUM($F27:OK27)","v":0},{"$f":"SUM($G13:OL13)-SUM($F27:OL27)","v":0},{"$f":"SUM($G13:OM13)-SUM($F27:OM27)","v":0},{"$f":"SUM($G13:ON13)-SUM($F27:ON27)","v":0},{"$f":"SUM($G13:OO13)-SUM($F27:OO27)","v":0},{"$f":"SUM($G13:OP13)-SUM($F27:OP27)","v":0},{"$f":"SUM($G13:OQ13)-SUM($F27:OQ27)","v":0},{"$f":"SUM($G13:OR13)-SUM($F27:OR27)","v":0},{"$f":"SUM($G13:OS13)-SUM($F27:OS27)","v":0},{"$f":"SUM($G13:OT13)-SUM($F27:OT27)","v":0},{"$f":"SUM($G13:OU13)-SUM($F27:OU27)","v":0},{"$f":"SUM($G13:OV13)-SUM($F27:OV27)","v":0},{"$f":"SUM($G13:OW13)-SUM($F27:OW27)","v":0},{"$f":"SUM($G13:OX13)-SUM($F27:OX27)","v":0},{"$f":"SUM($G13:OY13)-SUM($F27:OY27)","v":0},{"$f":"SUM($G13:OZ13)-SUM($F27:OZ27)","v":0},{"$f":"SUM($G13:PA13)-SUM($F27:PA27)","v":0},{"$f":"SUM($G13:PB13)-SUM($F27:PB27)","v":0},{"$f":"SUM($G13:PC13)-SUM($F27:PC27)","v":0},{"$f":"SUM($G13:PD13)-SUM($F27:PD27)","v":0},{"$f":"SUM($G13:PE13)-SUM($F27:PE27)","v":0},{"$f":"SUM($G13:PF13)-SUM($F27:PF27)","v":0},{"$f":"SUM($G13:PG13)-SUM($F27:PG27)","v":0},{"$f":"SUM($G13:PH13)-SUM($F27:PH27)","v":0},{"$f":"SUM($G13:PI13)-SUM($F27:PI27)","v":0},{"$f":"SUM($G13:PJ13)-SUM($F27:PJ27)","v":0},{"$f":"SUM($G13:PK13)-SUM($F27:PK27)","v":0},{"$f":"SUM($G13:PL13)-SUM($F27:PL27)","v":0},{"$f":"SUM($G13:PM13)-SUM($F27:PM27)","v":0},{"$f":"SUM($G13:PN13)-SUM($F27:PN27)","v":0},{"$f":"SUM($G13:PO13)-SUM($F27:PO27)","v":0},{"$f":"SUM($G13:PP13)-SUM($F27:PP27)","v":0},{"$f":"SUM($G13:PQ13)-SUM($F27:PQ27)","v":0},{"$f":"SUM($G13:PR13)-SUM($F27:PR27)","v":0},{"$f":"SUM($G13:PS13)-SUM($F27:PS27)","v":0},{"$f":"SUM($G13:PT13)-SUM($F27:PT27)","v":0},{"$f":"SUM($G13:PU13)-SUM($F27:PU27)","v":0},{"$f":"SUM($G13:PV13)-SUM($F27:PV27)","v":0},{"$f":"SUM($G13:PW13)-SUM($F27:PW27)","v":0},{"$f":"SUM($G13:PX13)-SUM($F27:PX27)","v":0},{"$f":"SUM($G13:PY13)-SUM($F27:PY27)","v":0},{"$f":"SUM($G13:PZ13)-SUM($F27:PZ27)","v":0},{"$f":"SUM($G13:QA13)-SUM($F27:QA27)","v":0},{"$f":"SUM($G13:QB13)-SUM($F27:QB27)","v":0},{"$f":"SUM($G13:QC13)-SUM($F27:QC27)","v":0},{"$f":"SUM($G13:QD13)-SUM($F27:QD27)","v":0},{"$f":"SUM($G13:QE13)-SUM($F27:QE27)","v":0},{"$f":"SUM($G13:QF13)-SUM($F27:QF27)","v":0},{"$f":"SUM($G13:QG13)-SUM($F27:QG27)","v":0},{"$f":"SUM($G13:QH13)-SUM($F27:QH27)","v":0},{"$f":"SUM($G13:QI13)-SUM($F27:QI27)","v":0},{"$f":"SUM($G13:QJ13)-SUM($F27:QJ27)","v":0},{"$f":"SUM($G13:QK13)-SUM($F27:QK27)","v":0},{"$f":"SUM($G13:QL13)-SUM($F27:QL27)","v":0},{"$f":"SUM($G13:QM13)-SUM($F27:QM27)","v":0},{"$f":"SUM($G13:QN13)-SUM($F27:QN27)","v":0},{"$f":"SUM($G13:QO13)-SUM($F27:QO27)","v":0},{"$f":"SUM($G13:QP13)-SUM($F27:QP27)","v":0},{"$f":"SUM($G13:QQ13)-SUM($F27:QQ27)","v":0},{"$f":"SUM($G13:QR13)-SUM($F27:QR27)","v":0},{"$f":"SUM($G13:QS13)-SUM($F27:QS27)","v":0},{"$f":"SUM($G13:QT13)-SUM($F27:QT27)","v":0},{"$f":"SUM($G13:QU13)-SUM($F27:QU27)","v":0},{"$f":"SUM($G13:QV13)-SUM($F27:QV27)","v":0},{"$f":"SUM($G13:QW13)-SUM($F27:QW27)","v":0},{"$f":"SUM($G13:QX13)-SUM($F27:QX27)","v":0},{"$f":"SUM($G13:QY13)-SUM($F27:QY27)","v":0},{"$f":"SUM($G13:QZ13)-SUM($F27:QZ27)","v":0},{"$f":"SUM($G13:RA13)-SUM($F27:RA27)","v":0},{"$f":"SUM($G13:RB13)-SUM($F27:RB27)","v":0},{"$f":"SUM($G13:RC13)-SUM($F27:RC27)","v":0},{"$f":"SUM($G13:RD13)-SUM($F27:RD27)","v":0},{"$f":"SUM($G13:RE13)-SUM($F27:RE27)","v":0},{"$f":"SUM($G13:RF13)-SUM($F27:RF27)","v":0}]
[null,0,0,0,0,null,{"$f":"SUM($G14:G14)-SUM($F28:G28)","v":0},{"$f":"SUM($G14:H14)-SUM($F28:H28)","v":0},{"$f":"SUM($G14:I14)-SUM($F28:I28)","v":0},{"$f":"SUM($G14:J14)-SUM($F28:J28)","v":0},{"$f":"SUM($G14:K14)-SUM($F28:K28)","v":0},{"$f":"SUM($G14:L14)-SUM($F28:L28)","v":0},{"$f":"SUM($G14:M14)-SUM($F28:M28)","v":0},{"$f":"SUM($G14:N14)-SUM($F28:N28)","v":0},{"$f":"SUM($G14:O14)-SUM($F28:O28)","v":0},{"$f":"SUM($G14:P14)-SUM($F28:P28)","v":0},{"$f":"SUM($G14:Q14)-SUM($F28:Q28)","v":0},{"$f":"SUM($G14:R14)-SUM($F28:R28)","v":0},{"$f":"SUM($G14:S14)-SUM($F28:S28)","v":0},{"$f":"SUM($G14:T14)-SUM($F28:T28)","v":0},{"$f":"SUM($G14:U14)-SUM($F28:U28)","v":0},{"$f":"SUM($G14:V14)-SUM($F28:V28)","v":0},{"$f":"SUM($G14:W14)-SUM($F28:W28)","v":0},{"$f":"SUM($G14:X14)-SUM($F28:X28)","v":0},{"$f":"SUM($G14:Y14)-SUM($F28:Y28)","v":0},{"$f":"SUM($G14:Z14)-SUM($F28:Z28)","v":0},{"$f":"SUM($G14:AA14)-SUM($F28:AA28)","v":0},{"$f":"SUM($G14:AB14)-SUM($F28:AB28)","v":0},{"$f":"SUM($G14:AC14)-SUM($F28:AC28)","v":0},{"$f":"SUM($G14:AD14)-SUM($F28:AD28)","v":0},{"$f":"SUM($G14:AE14)-SUM($F28:AE28)","v":0},{"$f":"SUM($G14:AF14)-SUM($F28:AF28)","v":0},{"$f":"SUM($G14:AG14)-SUM($F28:AG28)","v":0},{"$f":"SUM($G14:AH14)-SUM($F28:AH28)","v":0},{"$f":"SUM($G14:AI14)-SUM($F28:AI28)","v":0},{"$f":"SUM($G14:AJ14)-SUM($F28:AJ28)","v":0},{"$f":"SUM($G14:AK14)-SUM($F28:AK28)","v":0},{"$f":"SUM($G14:AL14)-SUM($F28:AL28)","v":0},{"$f":"SUM($G14:AM14)-SUM($F28:AM28)","v":0},{"$f":"SUM($G14:AN14)-SUM($F28:AN28)","v":0},{"$f":"SUM($G14:AO14)-SUM($F28:AO28)","v":0},{"$f":"SUM($G14:AP14)-SUM($F28:AP28)","v":0},{"$f":"SUM($G14:AQ14)-SUM($F28:AQ28)","v":0},{"$f":"SUM($G14:AR14)-SUM($F28:AR28)","v":0},{"$f":"SUM($G14:AS14)-SUM($F28:AS28)","v":0},{"$f":"SUM($G14:AT14)-SUM($F28:AT28)","v":0},{"$f":"SUM($G14:AU14)-SUM($F28:AU28)","v":0},{"$f":"SUM($G14:AV14)-SUM($F28:AV28)","v":0},{"$f":"SUM($G14:AW14)-SUM($F28:AW28)","v":0},{"$f":"SUM($G14:AX14)-SUM($F28:AX28)","v":0},{"$f":"SUM($G14:AY14)-SUM($F28:AY28)","v":0},{"$f":"SUM($G14:AZ14)-SUM($F28:AZ28)","v":0},{"$f":"SUM($G14:BA14)-SUM($F28:BA28)","v":0},{"$f":"SUM($G14:BB14)-SUM($F28:BB28)","v":0},{"$f":"SUM($G14:BC14)-SUM($F28:BC28)","v":0},{"$f":"SUM($G14:BD14)-SUM($F28:BD28)","v":0},{"$f":"SUM($G14:BE14)-SUM($F28:BE28)","v":0},{"$f":"SUM($G14:BF14)-SUM($F28:BF28)","v":0},{"$f":"SUM($G14:BG14)-SUM($F28:BG28)","v":0},{"$f":"SUM($G14:BH14)-SUM($F28:BH28)","v":0},{"$f":"SUM($G14:BI14)-SUM($F28:BI28)","v":0},{"$f":"SUM($G14:BJ14)-SUM($F28:BJ28)","v":0},{"$f":"SUM($G14:BK14)-SUM($F28:BK28)","v":0},{"$f":"SUM($G14:BL14)-SUM($F28:BL28)","v":0},{"$f":"SUM($G14:BM14)-SUM($F28:BM28)","v":0},{"$f":"SUM($G14:BN14)-SUM($F28:BN28)","v":0},{"$f":"SUM($G14:BO14)-SUM($F28:BO28)","v":0},{"$f":"SUM($G14:BP14)-SUM($F28:BP28)","v":0},{"$f":"SUM($G14:BQ14)-SUM($F28:BQ28)","v":0},{"$f":"SUM($G14:BR14)-SUM($F28:BR28)","v":0},{"$f":"SUM($G14:BS14)-SUM($F28:BS28)","v":0},{"$f":"SUM($G14:BT14)-SUM($F28:BT28)","v":0},{"$f":"SUM($G14:BU14)-SUM($F28:BU28)","v":0},{"$f":"SUM($G14:BV14)-SUM($F28:BV28)","v":0},{"$f":"SUM($G14:BW14)-SUM($F28:BW28)","v":0},{"$f":"SUM($G14:BX14)-SUM($F28:BX28)","v":0},{"$f":"SUM($G14:BY14)-SUM($F28:BY28)","v":0},{"$f":"SUM($G14:BZ14)-SUM($F28:BZ28)","v":0},{"$f":"SUM($G14:CA14)-SUM($F28:CA28)","v":0},{"$f":"SUM($G14:CB14)-SUM($F28:CB28)","v":0},{"$f":"SUM($G14:CC14)-SUM($F28:CC28)","v":0},{"$f":"SUM($G14:CD14)-SUM($F28:CD28)","v":0},{"$f":"SUM($G14:CE14)-SUM($F28:CE28)","v":0},{"$f":"SUM($G14:CF14)-SUM($F28:CF28)","v":0},{"$f":"SUM($G14:CG14)-SUM($F28:CG28)","v":0},{"$f":"SUM($G14:CH14)-SUM($F28:CH28)","v":0},{"$f":"SUM($G14:CI14)-SUM($F28:CI28)","v":0},{"$f":"SUM($G14:CJ14)-SUM($F28:CJ28)","v":0},{"$f":"SUM($G14:CK14)-SUM($F28:CK28)","v":0},{"$f":"SUM($G14:CL14)-SUM($F28:CL28)","v":0},{"$f":"SUM($G14:CM14)-SUM($F28:CM28)","v":0},{"$f":"SUM($G14:CN14)-SUM($F28:CN28)","v":0},{"$f":"SUM($G14:CO14)-SUM($F28:CO28)","v":0},{"$f":"SUM($G14:CP14)-SUM($F28:CP28)","v":0},{"$f":"SUM($G14:CQ14)-SUM($F28:CQ28)","v":0},{"$f":"SUM($G14:CR14)-SUM($F28:CR28)","v":0},{"$f":"SUM($G14:CS14)-SUM($F28:CS28)","v":0},{"$f":"SUM($G14:CT14)-SUM($F28:CT28)","v":0},{"$f":"SUM($G14:CU14)-SUM($F28:CU28)","v":0},{"$f":"SUM($G14:CV14)-SUM($F28:CV28)","v":0},{"$f":"SUM($G14:CW14)-SUM($F28:CW28)","v":0},{"$f":"SUM($G14:CX14)-SUM($F28:CX28)","v":0},{"$f":"SUM($G14:CY14)-SUM($F28:CY28)","v":0},{"$f":"SUM($G14:CZ14)-SUM($F28:CZ28)","v":0},{"$f":"SUM($G14:DA14)-SUM($F28:DA28)","v":0},{"$f":"SUM($G14:DB14)-SUM($F28:DB28)","v":0},{"$f":"SUM($G14:DC14)-SUM($F28:DC28)","v":0},{"$f":"SUM($G14:DD14)-SUM($F28:DD28)","v":0},{"$f":"SUM($G14:DE14)-SUM($F28:DE28)","v":0},{"$f":"SUM($G14:DF14)-SUM($F28:DF28)","v":0},{"$f":"SUM($G14:DG14)-SUM($F28:DG28)","v":0},{"$f":"SUM($G14:DH14)-SUM($F28:DH28)","v":0},{"$f":"SUM($G14:DI14)-SUM($F28:DI28)","v":0},{"$f":"SUM($G14:DJ14)-SUM($F28:DJ28)","v":0},{"$f":"SUM($G14:DK14)-SUM($F28:DK28)","v":0},{"$f":"SUM($G14:DL14)-SUM($F28:DL28)","v":0},{"$f":"SUM($G14:DM14)-SUM($F28:DM28)","v":0},{"$f":"SUM($G14:DN14)-SUM($F28:DN28)","v":0},{"$f":"SUM($G14:DO14)-SUM($F28:DO28)","v":0},{"$f":"SUM($G14:DP14)-SUM($F28:DP28)","v":0},{"$f":"SUM($G14:DQ14)-SUM($F28:DQ28)","v":0},{"$f":"SUM($G14:DR14)-SUM($F28:DR28)","v":0},{"$f":"SUM($G14:DS14)-SUM($F28:DS28)","v":0},{"$f":"SUM($G14:DT14)-SUM($F28:DT28)","v":0},{"$f":"SUM($G14:DU14)-SUM($F28:DU28)","v":0},{"$f":"SUM($G14:DV14)-SUM($F28:DV28)","v":0},{"$f":"SUM($G14:DW14)-SUM($F28:DW28)","v":0},{"$f":"SUM($G14:DX14)-SUM($F28:DX28)","v":0},{"$f":"SUM($G14:DY14)-SUM($F28:DY28)","v":0},{"$f":"SUM($G14:DZ14)-SUM($F28:DZ28)","v":0},{"$f":"SUM($G14:EA14)-SUM($F28:EA28)","v":0},{"$f":"SUM($G14:EB14)-SUM($F28:EB28)","v":0},{"$f":"SUM($G14:EC14)-SUM($F28:EC28)","v":0},{"$f":"SUM($G14:ED14)-SUM($F28:ED28)","v":0},{"$f":"SUM($G14:EE14)-SUM($F28:EE28)","v":0},{"$f":"SUM($G14:EF14)-SUM($F28:EF28)","v":0},{"$f":"SUM($G14:EG14)-SUM($F28:EG28)","v":0},{"$f":"SUM($G14:EH14)-SUM($F28:EH28)","v":0},{"$f":"SUM($G14:EI14)-SUM($F28:EI28)","v":0},{"$f":"SUM($G14:EJ14)-SUM($F28:EJ28)","v":0},{"$f":"SUM($G14:EK14)-SUM($F28:EK28)","v":0},{"$f":"SUM($G14:EL14)-SUM($F28:EL28)","v":0},{"$f":"SUM($G14:EM14)-SUM($F28:EM28)","v":0},{"$f":"SUM($G14:EN14)-SUM($F28:EN28)","v":0},{"$f":"SUM($G14:EO14)-SUM($F28:EO28)","v":0},{"$f":"SUM($G14:EP14)-SUM($F28:EP28)","v":0},{"$f":"SUM($G14:EQ14)-SUM($F28:EQ28)","v":0},{"$f":"SUM($G14:ER14)-SUM($F28:ER28)","v":0},{"$f":"SUM($G14:ES14)-SUM($F28:ES28)","v":0},{"$f":"SUM($G14:ET14)-SUM($F28:ET28)","v":0},{"$f":"SUM($G14:EU14)-SUM($F28:EU28)","v":0},{"$f":"SUM($G14:EV14)-SUM($F28:EV28)","v":0},{"$f":"SUM($G14:EW14)-SUM($F28:EW28)","v":0},{"$f":"SUM($G14:EX14)-SUM($F28:EX28)","v":0},{"$f":"SUM($G14:EY14)-SUM($F28:EY28)","v":0},{"$f":"SUM($G14:EZ14)-SUM($F28:EZ28)","v":0},{"$f":"SUM($G14:FA14)-SUM($F28:FA28)","v":0},{"$f":"SUM($G14:FB14)-SUM($F28:FB28)","v":0},{"$f":"SUM($G14:FC14)-SUM($F28:FC28)","v":0},{"$f":"SUM($G14:FD14)-SUM($F28:FD28)","v":0},{"$f":"SUM($G14:FE14)-SUM($F28:FE28)","v":0},{"$f":"SUM($G14:FF14)-SUM($F28:FF28)","v":0},{"$f":"SUM($G14:FG14)-SUM($F28:FG28)","v":0},{"$f":"SUM($G14:FH14)-SUM($F28:FH28)","v":0},{"$f":"SUM($G14:FI14)-SUM($F28:FI28)","v":0},{"$f":"SUM($G14:FJ14)-SUM($F28:FJ28)","v":0},{"$f":"SUM($G14:FK14)-SUM($F28:FK28)","v":0},{"$f":"SUM($G14:FL14)-SUM($F28:FL28)","v":0},{"$f":"SUM($G14:FM14)-SUM($F28:FM28)","v":0},{"$f":"SUM($G14:FN14)-SUM($F28:FN28)","v":0},{"$f":"SUM($G14:FO14)-SUM($F28:FO28)","v":0},{"$f":"SUM($G14:FP14)-SUM($F28:FP28)","v":0},{"$f":"SUM($G14:FQ14)-SUM($F28:FQ28)","v":0},{"$f":"SUM($G14:FR14)-SUM($F28:FR28)","v":0},{"$f":"SUM($G14:FS14)-SUM($F28:FS28)","v":0},{"$f":"SUM($G14:FT14)-SUM($F28:FT28)","v":0},{"$f":"SUM($G14:FU14)-SUM($F28:FU28)","v":0},{"$f":"SUM($G14:FV14)-SUM($F28:FV28)","v":0},{"$f":"SUM($G14:FW14)-SUM($F28:FW28)","v":0},{"$f":"SUM($G14:FX14)-SUM($F28:FX28)","v":0},{"$f":"SUM($G14:FY14)-SUM($F28:FY28)","v":0},{"$f":"SUM($G14:FZ14)-SUM($F28:FZ28)","v":0},{"$f":"SUM($G14:GA14)-SUM($F28:GA28)","v":0},{"$f":"SUM($G14:GB14)-SUM($F28:GB28)","v":0},{"$f":"SUM($G14:GC14)-SUM($F28:GC28)","v":0},{"$f":"SUM($G14:GD14)-SUM($F28:GD28)","v":0},{"$f":"SUM($G14:GE14)-SUM($F28:GE28)","v":0},{"$f":"SUM($G14:GF14)-SUM($F28:GF28)","v":0},{"$f":"SUM($G14:GG14)-SUM($F28:GG28)","v":0},{"$f":"SUM($G14:GH14)-SUM($F28:GH28)","v":0},{"$f":"SUM($G14:GI14)-SUM($F28:GI28)","v":0},{"$f":"SUM($G14:GJ14)-SUM($F28:GJ28)","v":0},{"$f":"SUM($G14:GK14)-SUM($F28:GK28)","v":0},{"$f":"SUM($G14:GL14)-SUM($F28:GL28)","v":0},{"$f":"SUM($G14:GM14)-SUM($F28:GM28)","v":0},{"$f":"SUM($G14:GN14)-SUM($F28:GN28)","v":0},{"$f":"SUM($G14:GO14)-SUM($F28:GO28)","v":0},{"$f":"SUM($G14:GP14)-SUM($F28:GP28)","v":0},{"$f":"SUM($G14:GQ14)-SUM($F28:GQ28)","v":0},{"$f":"SUM($G14:GR14)-SUM($F28:GR28)","v":0},{"$f":"SUM($G14:GS14)-SUM($F28:GS28)","v":0},{"$f":"SUM($G14:GT14)-SUM($F28:GT28)","v":0},{"$f":"SUM($G14:GU14)-SUM($F28:GU28)","v":0},{"$f":"SUM($G14:GV14)-SUM($F28:GV28)","v":0},{"$f":"SUM($G14:GW14)-SUM($F28:GW28)","v":0},{"$f":"SUM($G14:GX14)-SUM($F28:GX28)","v":0},{"$f":"SUM($G14:GY14)-SUM($F28:GY28)","v":0},{"$f":"SUM($G14:GZ14)-SUM($F28:GZ28)","v":0},{"$f":"SUM($G14:HA14)-SUM($F28:HA28)","v":0},{"$f":"SUM($G14:HB14)-SUM($F28:HB28)","v":0},{"$f":"SUM($G14:HC14)-SUM($F28:HC28)","v":0},{"$f":"SUM($G14:HD14)-SUM($F28:HD28)","v":0},{"$f":"SUM($G14:HE14)-SUM($F28:HE28)","v":0},{"$f":"SUM($G14:HF14)-SUM($F28:HF28)","v":0},{"$f":"SUM($G14:HG14)-SUM($F28:HG28)","v":0},{"$f":"SUM($G14:HH14)-SUM($F28:HH28)","v":0},{"$f":"SUM($G14:HI14)-SUM($F28:HI28)","v":0},{"$f":"SUM($G14:HJ14)-SUM($F28:HJ28)","v":0},{"$f":"SUM($G14:HK14)-SUM($F28:HK28)","v":0},{"$f":"SUM($G14:HL14)-SUM($F28:HL28)","v":0},{"$f":"SUM($G14:HM14)-SUM($F28:HM28)","v":0},{"$f":"SUM($G14:HN14)-SUM($F28:HN28)","v":0},{"$f":"SUM($G14:HO14)-SUM($F28:HO28)","v":0},{"$f":"SUM($G14:HP14)-SUM($F28:HP28)","v":0},{"$f":"SUM($G14:HQ14)-SUM($F28:HQ28)","v":0},{"$f":"SUM($G14:HR14)-SUM($F28:HR28)","v":0},{"$f":"SUM($G14:HS14)-SUM($F28:HS28)","v":0},{"$f":"SUM($G14:HT14)-SUM($F28:HT28)","v":0},{"$f":"SUM($G14:HU14)-SUM($F28:HU28)","v":0},{"$f":"SUM($G14:HV14)-SUM($F28:HV28)","v":0},{"$f":"SUM($G14:HW14)-SUM($F28:HW28)","v":0},{"$f":"SUM($G14:HX14)-SUM($F28:HX28)","v":0},{"$f":"SUM($G14:HY14)-SUM($F28:HY28)","v":0},{"$f":"SUM($G14:HZ14)-SUM($F28:HZ28)","v":0},{"$f":"SUM($G14:IA14)-SUM($F28:IA28)","v":0},{"$f":"SUM($G14:IB14)-SUM($F28:IB28)","v":0},{"$f":"SUM($G14:IC14)-SUM($F28:IC28)","v":0},{"$f":"SUM($G14:ID14)-SUM($F28:ID28)","v":0},{"$f":"SUM($G14:IE14)-SUM($F28:IE28)","v":0},{"$f":"SUM($G14:IF14)-SUM($F28:IF28)","v":0},{"$f":"SUM($G14:IG14)-SUM($F28:IG28)","v":0},{"$f":"SUM($G14:IH14)-SUM($F28:IH28)","v":0},{"$f":"SUM($G14:II14)-SUM($F28:II28)","v":0},{"$f":"SUM($G14:IJ14)-SUM($F28:IJ28)","v":0},{"$f":"SUM($G14:IK14)-SUM($F28:IK28)","v":0},{"$f":"SUM($G14:IL14)-SUM($F28:IL28)","v":0},{"$f":"SUM($G14:IM14)-SUM($F28:IM28)","v":0},{"$f":"SUM($G14:IN14)-SUM($F28:IN28)","v":0},{"$f":"SUM($G14:IO14)-SUM($F28:IO28)","v":0},{"$f":"SUM($G14:IP14)-SUM($F28:IP28)","v":0},{"$f":"SUM($G14:IQ14)-SUM($F28:IQ28)","v":0},{"$f":"SUM($G14:IR14)-SUM($F28:IR28)","v":0},{"$f":"SUM($G14:IS14)-SUM($F28:IS28)","v":0},{"$f":"SUM($G14:IT14)-SUM($F28:IT28)","v":0},{"$f":"SUM($G14:IU14)-SUM($F28:IU28)","v":0},{"$f":"SUM($G14:IV14)-SUM($F28:IV28)","v":0},{"$f":"SUM($G14:IW14)-SUM($F28:IW28)","v":0},{"$f":"SUM($G14:IX14)-SUM($F28:IX28)","v":0},{"$f":"SUM($G14:IY14)-SUM($F28:IY28)","v":0},{"$f":"SUM($G14:IZ14)-SUM($F28:IZ28)","v":0},{"$f":"SUM($G14:JA14)-SUM($F28:JA28)","v":0},{"$f":"SUM($G14:JB14)-SUM($F28:JB28)","v":0},{"$f":"SUM($G14:JC14)-SUM($F28:JC28)","v":0},{"$f":"SUM($G14:JD14)-SUM($F28:JD28)","v":0},{"$f":"SUM($G14:JE14)-SUM($F28:JE28)","v":0},{"$f":"SUM($G14:JF14)-SUM($F28:JF28)","v":0},{"$f":"SUM($G14:JG14)-SUM($F28:JG28)","v":0},{"$f":"SUM($G14:JH14)-SUM($F28:JH28)","v":0},{"$f":"SUM($G14:JI14)-SUM($F28:JI28)","v":0},{"$f":"SUM($G14:JJ14)-SUM($F28:JJ28)","v":0},{"$f":"SUM($G14:JK14)-SUM($F28:JK28)","v":0},{"$f":"SUM($G14:JL14)-SUM($F28:JL28)","v":0},{"$f":"SUM($G14:JM14)-SUM($F28:JM28)","v":0},{"$f":"SUM($G14:JN14)-SUM($F28:JN28)","v":0},{"$f":"SUM($G14:JO14)-SUM($F28:JO28)","v":0},{"$f":"SUM($G14:JP14)-SUM($F28:JP28)","v":0},{"$f":"SUM($G14:JQ14)-SUM($F28:JQ28)","v":0},{"$f":"SUM($G14:JR14)-SUM($F28:JR28)","v":0},{"$f":"SUM($G14:JS14)-SUM($F28:JS28)","v":0},{"$f":"SUM($G14:JT14)-SUM($F28:JT28)","v":0},{"$f":"SUM($G14:JU14)-SUM($F28:JU28)","v":0},{"$f":"SUM($G14:JV14)-SUM($F28:JV28)","v":0},{"$f":"SUM($G14:JW14)-SUM($F28:JW28)","v":0},{"$f":"SUM($G14:JX14)-SUM($F28:JX28)","v":0},{"$f":"SUM($G14:JY14)-SUM($F28:JY28)","v":0},{"$f":"SUM($G14:JZ14)-SUM($F28:JZ28)","v":0},{"$f":"SUM($G14:KA14)-SUM($F28:KA28)","v":0},{"$f":"SUM($G14:KB14)-SUM($F28:KB28)","v":0},{"$f":"SUM($G14:KC14)-SUM($F28:KC28)","v":0},{"$f":"SUM($G14:KD14)-SUM($F28:KD28)","v":0},{"$f":"SUM($G14:KE14)-SUM($F28:KE28)","v":0},{"$f":"SUM($G14:KF14)-SUM($F28:KF28)","v":0},{"$f":"SUM($G14:KG14)-SUM($F28:KG28)","v":0},{"$f":"SUM($G14:KH14)-SUM($F28:KH28)","v":0},{"$f":"SUM($G14:KI14)-SUM($F28:KI28)","v":0},{"$f":"SUM($G14:KJ14)-SUM($F28:KJ28)","v":0},{"$f":"SUM($G14:KK14)-SUM($F28:KK28)","v":0},{"$f":"SUM($G14:KL14)-SUM($F28:KL28)","v":0},{"$f":"SUM($G14:KM14)-SUM($F28:KM28)","v":0},{"$f":"SUM($G14:KN14)-SUM($F28:KN28)","v":0},{"$f":"SUM($G14:KO14)-SUM($F28:KO28)","v":0},{"$f":"SUM($G14:KP14)-SUM($F28:KP28)","v":0},{"$f":"SUM($G14:KQ14)-SUM($F28:KQ28)","v":0},{"$f":"SUM($G14:KR14)-SUM($F28:KR28)","v":0},{"$f":"SUM($G14:KS14)-SUM($F28:KS28)","v":0},{"$f":"SUM($G14:KT14)-SUM($F28:KT28)","v":0},{"$f":"SUM($G14:KU14)-SUM($F28:KU28)","v":0},{"$f":"SUM($G14:KV14)-SUM($F28:KV28)","v":0},{"$f":"SUM($G14:KW14)-SUM($F28:KW28)","v":0},{"$f":"SUM($G14:KX14)-SUM($F28:KX28)","v":0},{"$f":"SUM($G14:KY14)-SUM($F28:KY28)","v":0},{"$f":"SUM($G14:KZ14)-SUM($F28:KZ28)","v":0},{"$f":"SUM($G14:LA14)-SUM($F28:LA28)","v":0},{"$f":"SUM($G14:LB14)-SUM($F28:LB28)","v":0},{"$f":"SUM($G14:LC14)-SUM($F28:LC28)","v":0},{"$f":"SUM($G14:LD14)-SUM($F28:LD28)","v":0},{"$f":"SUM($G14:LE14)-SUM($F28:LE28)","v":0},{"$f":"SUM($G14:LF14)-SUM($F28:LF28)","v":0},{"$f":"SUM($G14:LG14)-SUM($F28:LG28)","v":0},{"$f":"SUM($G14:LH14)-SUM($F28:LH28)","v":0},{"$f":"SUM($G14:LI14)-SUM($F28:LI28)","v":0},{"$f":"SUM($G14:LJ14)-SUM($F28:LJ28)","v":0},{"$f":"SUM($G14:LK14)-SUM($F28:LK28)","v":0},{"$f":"SUM($G14:LL14)-SUM($F28:LL28)","v":0},{"$f":"SUM($G14:LM14)-SUM($F28:LM28)","v":0},{"$f":"SUM($G14:LN14)-SUM($F28:LN28)","v":0},{"$f":"SUM($G14:LO14)-SUM($F28:LO28)","v":0},{"$f":"SUM($G14:LP14)-SUM($F28:LP28)","v":0},{"$f":"SUM($G14:LQ14)-SUM($F28:LQ28)","v":0},{"$f":"SUM($G14:LR14)-SUM($F28:LR28)","v":0},{"$f":"SUM($G14:LS14)-SUM($F28:LS28)","v":0},{"$f":"SUM($G14:LT14)-SUM($F28:LT28)","v":0},{"$f":"SUM($G14:LU14)-SUM($F28:LU28)","v":0},{"$f":"SUM($G14:LV14)-SUM($F28:LV28)","v":0},{"$f":"SUM($G14:LW14)-SUM($F28:LW28)","v":0},{"$f":"SUM($G14:LX14)-SUM($F28:LX28)","v":0},{"$f":"SUM($G14:LY14)-SUM($F28:LY28)","v":0},{"$f":"SUM($G14:LZ14)-SUM($F28:LZ28)","v":0},{"$f":"SUM($G14:MA14)-SUM($F28:MA28)","v":0},{"$f":"SUM($G14:MB14)-SUM($F28:MB28)","v":0},{"$f":"SUM($G14:MC14)-SUM($F28:MC28)","v":0},{"$f":"SUM($G14:MD14)-SUM($F28:MD28)","v":0},{"$f":"SUM($G14:ME14)-SUM($F28:ME28)","v":0},{"$f":"SUM($G14:MF14)-SUM($F28:MF28)","v":0},{"$f":"SUM($G14:MG14)-SUM($F28:MG28)","v":0},{"$f":"SUM($G14:MH14)-SUM($F28:MH28)","v":0},{"$f":"SUM($G14:MI14)-SUM($F28:MI28)","v":0},{"$f":"SUM($G14:MJ14)-SUM($F28:MJ28)","v":0},{"$f":"SUM($G14:MK14)-SUM($F28:MK28)","v":0},{"$f":"SUM($G14:ML14)-SUM($F28:ML28)","v":0},{"$f":"SUM($G14:MM14)-SUM($F28:MM28)","v":0},{"$f":"SUM($G14:MN14)-SUM($F28:MN28)","v":0},{"$f":"SUM($G14:MO14)-SUM($F28:MO28)","v":0},{"$f":"SUM($G14:MP14)-SUM($F28:MP28)","v":0},{"$f":"SUM($G14:MQ14)-SUM($F28:MQ28)","v":0},{"$f":"SUM($G14:MR14)-SUM($F28:MR28)","v":0},{"$f":"SUM($G14:MS14)-SUM($F28:MS28)","v":0},{"$f":"SUM($G14:MT14)-SUM($F28:MT28)","v":0},{"$f":"SUM($G14:MU14)-SUM($F28:MU28)","v":0},{"$f":"SUM($G14:MV14)-SUM($F28:MV28)","v":0},{"$f":"SUM($G14:MW14)-SUM($F28:MW28)","v":0},{"$f":"SUM($G14:MX14)-SUM($F28:MX28)","v":0},{"$f":"SUM($G14:MY14)-SUM($F28:MY28)","v":0},{"$f":"SUM($G14:MZ14)-SUM($F28:MZ28)","v":0},{"$f":"SUM($G14:NA14)-SUM($F28:NA28)","v":0},{"$f":"SUM($G14:NB14)-SUM($F28:NB28)","v":0},{"$f":"SUM($G14:NC14)-SUM($F28:NC28)","v":0},{"$f":"SUM($G14:ND14)-SUM($F28:ND28)","v":0},{"$f":"SUM($G14:NE14)-SUM($F28:NE28)","v":0},{"$f":"SUM($G14:NF14)-SUM($F28:NF28)","v":0},{"$f":"SUM($G14:NG14)-SUM($F28:NG28)","v":0},{"$f":"SUM($G14:NH14)-SUM($F28:NH28)","v":0},{"$f":"SUM($G14:NI14)-SUM($F28:NI28)","v":0},{"$f":"SUM($G14:NJ14)-SUM($F28:NJ28)","v":0},{"$f":"SUM($G14:NK14)-SUM($F28:NK28)","v":0},{"$f":"SUM($G14:NL14)-SUM($F28:NL28)","v":0},{"$f":"SUM($G14:NM14)-SUM($F28:NM28)","v":0},{"$f":"SUM($G14:NN14)-SUM($F28:NN28)","v":0},{"$f":"SUM($G14:NO14)-SUM($F28:NO28)","v":0},{"$f":"SUM($G14:NP14)-SUM($F28:NP28)","v":0},{"$f":"SUM($G14:NQ14)-SUM($F28:NQ28)","v":0},{"$f":"SUM($G14:NR14)-SUM($F28:NR28)","v":0},{"$f":"SUM($G14:NS14)-SUM($F28:NS28)","v":0},{"$f":"SUM($G14:NT14)-SUM($F28:NT28)","v":0},{"$f":"SUM($G14:NU14)-SUM($F28:NU28)","v":0},{"$f":"SUM($G14:NV14)-SUM($F28:NV28)","v":0},{"$f":"SUM($G14:NW14)-SUM($F28:NW28)","v":0},{"$f":"SUM($G14:NX14)-SUM($F28:NX28)","v":0},{"$f":"SUM($G14:NY14)-SUM($F28:NY28)","v":0},{"$f":"SUM($G14:NZ14)-SUM($F28:NZ28)","v":0},{"$f":"SUM($G14:OA14)-SUM($F28:OA28)","v":0},{"$f":"SUM($G14:OB14)-SUM($F28:OB28)","v":0},{"$f":"SUM($G14:OC14)-SUM($F28:OC28)","v":0},{"$f":"SUM($G14:OD14)-SUM($F28:OD28)","v":0},{"$f":"SUM($G14:OE14)-SUM($F28:OE28)","v":0},{"$f":"SUM($G14:OF14)-SUM($F28:OF28)","v":0},{"$f":"SUM($G14:OG14)-SUM($F28:OG28)","v":0},{"$f":"SUM($G14:OH14)-SUM($F28:OH28)","v":0},{"$f":"SUM($G14:OI14)-SUM($F28:OI28)","v":0},{"$f":"SUM($G14:OJ14)-SUM($F28:OJ28)","v":0},{"$f":"SUM($G14:OK14)-SUM($F28:OK28)","v":0},{"$f":"SUM($G14:OL14)-SUM($F28:OL28)","v":0},{"$f":"SUM($G14:OM14)-SUM($F28:OM28)","v":0},{"$f":"SUM($G14:ON14)-SUM($F28:ON28)","v":0},{"$f":"SUM($G14:OO14)-SUM($F28:OO28)","v":0},{"$f":"SUM($G14:OP14)-SUM($F28:OP28)","v":0},{"$f":"SUM($G14:OQ14)-SUM($F28:OQ28)","v":0},{"$f":"SUM($G14:OR14)-SUM($F28:OR28)","v":0},{"$f":"SUM($G14:OS14)-SUM($F28:OS28)","v":0},{"$f":"SUM($G14:OT14)-SUM($F28:OT28)","v":0},{"$f":"SUM($G14:OU14)-SUM($F28:OU28)","v":0},{"$f":"SUM($G14:OV14)-SUM($F28:OV28)","v":0},{"$f":"SUM($G14:OW14)-SUM($F28:OW28)","v":0},{"$f":"SUM($G14:OX14)-SUM($F28:OX28)","v":0},{"$f":"SUM($G14:OY14)-SUM($F28:OY28)","v":0},{"$f":"SUM($G14:OZ14)-SUM($F28:OZ28)","v":0},{"$f":"SUM($G14:PA14)-SUM($F28:PA28)","v":0},{"$f":"SUM($G14:PB14)-SUM($F28:PB28)","v":0},{"$f":"SUM($G14:PC14)-SUM($F28:PC28)","v":0},{"$f":"SUM($G14:PD14)-SUM($F28:PD28)","v":0},{"$f":"SUM($G14:PE14)-SUM($F28:PE28)","v":0},{"$f":"SUM($G14:PF14)-SUM($F28:PF28)","v":0},{"$f":"SUM($G14:PG14)-SUM($F28:PG28)","v":0},{"$f":"SUM($G14:PH14)-SUM($F28:PH28)","v":0},{"$f":"SUM($G14:PI14)-SUM($F28:PI28)","v":0},{"$f":"SUM($G14:PJ14)-SUM($F28:PJ28)","v":0},{"$f":"SUM($G14:PK14)-SUM($F28:PK28)","v":0},{"$f":"SUM($G14:PL14)-SUM($F28:PL28)","v":0},{"$f":"SUM($G14:PM14)-SUM($F28:PM28)","v":0},{"$f":"SUM($G14:PN14)-SUM($F28:PN28)","v":0},{"$f":"SUM($G14:PO14)-SUM($F28:PO28)","v":0},{"$f":"SUM($G14:PP14)-SUM($F28:PP28)","v":0},{"$f":"SUM($G14:PQ14)-SUM($F28:PQ28)","v":0},{"$f":"SUM($G14:PR14)-SUM($F28:PR28)","v":0},{"$f":"SUM($G14:PS14)-SUM($F28:PS28)","v":0},{"$f":"SUM($G14:PT14)-SUM($F28:PT28)","v":0},{"$f":"SUM($G14:PU14)-SUM($F28:PU28)","v":0},{"$f":"SUM($G14:PV14)-SUM($F28:PV28)","v":0},{"$f":"SUM($G14:PW14)-SUM($F28:PW28)","v":0},{"$f":"SUM($G14:PX14)-SUM($F28:PX28)","v":0},{"$f":"SUM($G14:PY14)-SUM($F28:PY28)","v":0},{"$f":"SUM($G14:PZ14)-SUM($F28:PZ28)","v":0},{"$f":"SUM($G14:QA14)-SUM($F28:QA28)","v":0},{"$f":"SUM($G14:QB14)-SUM($F28:QB28)","v":0},{"$f":"SUM($G14:QC14)-SUM($F28:QC28)","v":0},{"$f":"SUM($G14:QD14)-SUM($F28:QD28)","v":0},{"$f":"SUM($G14:QE14)-SUM($F28:QE28)","v":0},{"$f":"SUM($G14:QF14)-SUM($F28:QF28)","v":0},{"$f":"SUM($G14:QG14)-SUM($F28:QG28)","v":0},{"$f":"SUM($G14:QH14)-SUM($F28:QH28)","v":0},{"$f":"SUM($G14:QI14)-SUM($F28:QI28)","v":0},{"$f":"SUM($G14:QJ14)-SUM($F28:QJ28)","v":0},{"$f":"SUM($G14:QK14)-SUM($F28:QK28)","v":0},{"$f":"SUM($G14:QL14)-SUM($F28:QL28)","v":0},{"$f":"SUM($G14:QM14)-SUM($F28:QM28)","v":0},{"$f":"SUM($G14:QN14)-SUM($F28:QN28)","v":0},{"$f":"SUM($G14:QO14)-SUM($F28:QO28)","v":0},{"$f":"SUM($G14:QP14)-SUM($F28:QP28)","v":0},{"$f":"SUM($G14:QQ14)-SUM($F28:QQ28)","v":0},{"$f":"SUM($G14:QR14)-SUM($F28:QR28)","v":0},{"$f":"SUM($G14:QS14)-SUM($F28:QS28)","v":0},{"$f":"SUM($G14:QT14)-SUM($F28:QT28)","v":0},{"$f":"SUM($G14:QU14)-SUM($F28:QU28)","v":0},{"$f":"SUM($G14:QV14)-SUM($F28:QV28)","v":0},{"$f":"SUM($G14:QW14)-SUM($F28:QW28)","v":0},{"$f":"SUM($G14:QX14)-SUM($F28:QX28)","v":0},{"$f":"SUM($G14:QY14)-SUM($F28:QY28)","v":0},{"$f":"SUM($G14:QZ14)-SUM($F28:QZ28)","v":0},{"$f":"SUM($G14:RA14)-SUM($F28:RA28)","v":0},{"$f":"SUM($G14:RB14)-SUM($F28:RB28)","v":0},{"$f":"SUM($G14:RC14)-SUM($F28:RC28)","v":0},{"$f":"SUM($G14:RD14)-SUM($F28:RD28)","v":0},{"$f":"SUM($G14:RE14)-SUM($F28:RE28)","v":0},{"$f":"SUM($G14:RF14)-SUM($F28:RF28)","v":0}]
[null,0,0,0,0,null,{"$f":"SUM($G15:G15)-SUM($F29:G29)","v":0},{"$f":"SUM($G15:H15)-SUM($F29:H29)","v":0},{"$f":"SUM($G15:I15)-SUM($F29:I29)","v":0},{"$f":"SUM($G15:J15)-SUM($F29:J29)","v":0},{"$f":"SUM($G15:K15)-SUM($F29:K29)","v":0},{"$f":"SUM($G15:L15)-SUM($F29:L29)","v":0},{"$f":"SUM($G15:M15)-SUM($F29:M29)","v":0},{"$f":"SUM($G15:N15)-SUM($F29:N29)","v":0},{"$f":"SUM($G15:O15)-SUM($F29:O29)","v":0},{"$f":"SUM($G15:P15)-SUM($F29:P29)","v":0},{"$f":"SUM($G15:Q15)-SUM($F29:Q29)","v":0},{"$f":"SUM($G15:R15)-SUM($F29:R29)","v":0},{"$f":"SUM($G15:S15)-SUM($F29:S29)","v":0},{"$f":"SUM($G15:T15)-SUM($F29:T29)","v":0},{"$f":"SUM($G15:U15)-SUM($F29:U29)","v":0},{"$f":"SUM($G15:V15)-SUM($F29:V29)","v":0},{"$f":"SUM($G15:W15)-SUM($F29:W29)","v":0},{"$f":"SUM($G15:X15)-SUM($F29:X29)","v":0},{"$f":"SUM($G15:Y15)-SUM($F29:Y29)","v":0},{"$f":"SUM($G15:Z15)-SUM($F29:Z29)","v":0},{"$f":"SUM($G15:AA15)-SUM($F29:AA29)","v":0},{"$f":"SUM($G15:AB15)-SUM($F29:AB29)","v":0},{"$f":"SUM($G15:AC15)-SUM($F29:AC29)","v":0},{"$f":"SUM($G15:AD15)-SUM($F29:AD29)","v":0},{"$f":"SUM($G15:AE15)-SUM($F29:AE29)","v":0},{"$f":"SUM($G15:AF15)-SUM($F29:AF29)","v":0},{"$f":"SUM($G15:AG15)-SUM($F29:AG29)","v":0},{"$f":"SUM($G15:AH15)-SUM($F29:AH29)","v":0},{"$f":"SUM($G15:AI15)-SUM($F29:AI29)","v":0},{"$f":"SUM($G15:AJ15)-SUM($F29:AJ29)","v":0},{"$f":"SUM($G15:AK15)-SUM($F29:AK29)","v":0},{"$f":"SUM($G15:AL15)-SUM($F29:AL29)","v":0},{"$f":"SUM($G15:AM15)-SUM($F29:AM29)","v":0},{"$f":"SUM($G15:AN15)-SUM($F29:AN29)","v":0},{"$f":"SUM($G15:AO15)-SUM($F29:AO29)","v":0},{"$f":"SUM($G15:AP15)-SUM($F29:AP29)","v":0},{"$f":"SUM($G15:AQ15)-SUM($F29:AQ29)","v":0},{"$f":"SUM($G15:AR15)-SUM($F29:AR29)","v":0},{"$f":"SUM($G15:AS15)-SUM($F29:AS29)","v":0},{"$f":"SUM($G15:AT15)-SUM($F29:AT29)","v":0},{"$f":"SUM($G15:AU15)-SUM($F29:AU29)","v":0},{"$f":"SUM($G15:AV15)-SUM($F29:AV29)","v":0},{"$f":"SUM($G15:AW15)-SUM($F29:AW29)","v":0},{"$f":"SUM($G15:AX15)-SUM($F29:AX29)","v":0},{"$f":"SUM($G15:AY15)-SUM($F29:AY29)","v":0},{"$f":"SUM($G15:AZ15)-SUM($F29:AZ29)","v":0},{"$f":"SUM($G15:BA15)-SUM($F29:BA29)","v":0},{"$f":"SUM($G15:BB15)-SUM($F29:BB29)","v":0},{"$f":"SUM($G15:BC15)-SUM($F29:BC29)","v":0},{"$f":"SUM($G15:BD15)-SUM($F29:BD29)","v":0},{"$f":"SUM($G15:BE15)-SUM($F29:BE29)","v":0},{"$f":"SUM($G15:BF15)-SUM($F29:BF29)","v":0},{"$f":"SUM($G15:BG15)-SUM($F29:BG29)","v":0},{"$f":"SUM($G15:BH15)-SUM($F29:BH29)","v":0},{"$f":"SUM($G15:BI15)-SUM($F29:BI29)","v":0},{"$f":"SUM($G15:BJ15)-SUM($F29:BJ29)","v":0},{"$f":"SUM($G15:BK15)-SUM($F29:BK29)","v":0},{"$f":"SUM($G15:BL15)-SUM($F29:BL29)","v":0},{"$f":"SUM($G15:BM15)-SUM($F29:BM29)","v":0},{"$f":"SUM($G15:BN15)-SUM($F29:BN29)","v":0},{"$f":"SUM($G15:BO15)-SUM($F29:BO29)","v":0},{"$f":"SUM($G15:BP15)-SUM($F29:BP29)","v":0},{"$f":"SUM($G15:BQ15)-SUM($F29:BQ29)","v":0},{"$f":"SUM($G15:BR15)-SUM($F29:BR29)","v":0},{"$f":"SUM($G15:BS15)-SUM($F29:BS29)","v":0},{"$f":"SUM($G15:BT15)-SUM($F29:BT29)","v":0},{"$f":"SUM($G15:BU15)-SUM($F29:BU29)","v":0},{"$f":"SUM($G15:BV15)-SUM($F29:BV29)","v":0},{"$f":"SUM($G15:BW15)-SUM($F29:BW29)","v":0},{"$f":"SUM($G15:BX15)-SUM($F29:BX29)","v":0},{"$f":"SUM($G15:BY15)-SUM($F29:BY29)","v":0},{"$f":"SUM($G15:BZ15)-SUM($F29:BZ29)","v":0},{"$f":"SUM($G15:CA15)-SUM($F29:CA29)","v":0},{"$f":"SUM($G15:CB15)-SUM($F29:CB29)","v":0},{"$f":"SUM($G15:CC15)-SUM($F29:CC29)","v":0},{"$f":"SUM($G15:CD15)-SUM($F29:CD29)","v":0},{"$f":"SUM($G15:CE15)-SUM($F29:CE29)","v":0},{"$f":"SUM($G15:CF15)-SUM($F29:CF29)","v":0},{"$f":"SUM($G15:CG15)-SUM($F29:CG29)","v":0},{"$f":"SUM($G15:CH15)-SUM($F29:CH29)","v":0},{"$f":"SUM($G15:CI15)-SUM($F29:CI29)","v":0},{"$f":"SUM($G15:CJ15)-SUM($F29:CJ29)","v":0},{"$f":"SUM($G15:CK15)-SUM($F29:CK29)","v":0},{"$f":"SUM($G15:CL15)-SUM($F29:CL29)","v":0},{"$f":"SUM($G15:CM15)-SUM($F29:CM29)","v":0},{"$f":"SUM($G15:CN15)-SUM($F29:CN29)","v":0},{"$f":"SUM($G15:CO15)-SUM($F29:CO29)","v":0},{"$f":"SUM($G15:CP15)-SUM($F29:CP29)","v":0},{"$f":"SUM($G15:CQ15)-SUM($F29:CQ29)","v":0},{"$f":"SUM($G15:CR15)-SUM($F29:CR29)","v":0},{"$f":"SUM($G15:CS15)-SUM($F29:CS29)","v":0},{"$f":"SUM($G15:CT15)-SUM($F29:CT29)","v":0},{"$f":"SUM($G15:CU15)-SUM($F29:CU29)","v":0},{"$f":"SUM($G15:CV15)-SUM($F29:CV29)","v":0},{"$f":"SUM($G15:CW15)-SUM($F29:CW29)","v":0},{"$f":"SUM($G15:CX15)-SUM($F29:CX29)","v":0},{"$f":"SUM($G15:CY15)-SUM($F29:CY29)","v":0},{"$f":"SUM($G15:CZ15)-SUM($F29:CZ29)","v":0},{"$f":"SUM($G15:DA15)-SUM($F29:DA29)","v":0},{"$f":"SUM($G15:DB15)-SUM($F29:DB29)","v":0},{"$f":"SUM($G15:DC15)-SUM($F29:DC29)","v":0},{"$f":"SUM($G15:DD15)-SUM($F29:DD29)","v":0},{"$f":"SUM($G15:DE15)-SUM($F29:DE29)","v":0},{"$f":"SUM($G15:DF15)-SUM($F29:DF29)","v":0},{"$f":"SUM($G15:DG15)-SUM($F29:DG29)","v":0},{"$f":"SUM($G15:DH15)-SUM($F29:DH29)","v":0},{"$f":"SUM($G15:DI15)-SUM($F29:DI29)","v":0},{"$f":"SUM($G15:DJ15)-SUM($F29:DJ29)","v":0},{"$f":"SUM($G15:DK15)-SUM($F29:DK29)","v":0},{"$f":"SUM($G15:DL15)-SUM($F29:DL29)","v":0},{"$f":"SUM($G15:DM15)-SUM($F29:DM29)","v":0},{"$f":"SUM($G15:DN15)-SUM($F29:DN29)","v":0},{"$f":"SUM($G15:DO15)-SUM($F29:DO29)","v":0},{"$f":"SUM($G15:DP15)-SUM($F29:DP29)","v":0},{"$f":"SUM($G15:DQ15)-SUM($F29:DQ29)","v":0},{"$f":"SUM($G15:DR15)-SUM($F29:DR29)","v":0},{"$f":"SUM($G15:DS15)-SUM($F29:DS29)","v":0},{"$f":"SUM($G15:DT15)-SUM($F29:DT29)","v":0},{"$f":"SUM($G15:DU15)-SUM($F29:DU29)","v":0},{"$f":"SUM($G15:DV15)-SUM($F29:DV29)","v":0},{"$f":"SUM($G15:DW15)-SUM($F29:DW29)","v":0},{"$f":"SUM($G15:DX15)-SUM($F29:DX29)","v":0},{"$f":"SUM($G15:DY15)-SUM($F29:DY29)","v":0},{"$f":"SUM($G15:DZ15)-SUM($F29:DZ29)","v":0},{"$f":"SUM($G15:EA15)-SUM($F29:EA29)","v":0},{"$f":"SUM($G15:EB15)-SUM($F29:EB29)","v":0},{"$f":"SUM($G15:EC15)-SUM($F29:EC29)","v":0},{"$f":"SUM($G15:ED15)-SUM($F29:ED29)","v":0},{"$f":"SUM($G15:EE15)-SUM($F29:EE29)","v":0},{"$f":"SUM($G15:EF15)-SUM($F29:EF29)","v":0},{"$f":"SUM($G15:EG15)-SUM($F29:EG29)","v":0},{"$f":"SUM($G15:EH15)-SUM($F29:EH29)","v":0},{"$f":"SUM($G15:EI15)-SUM($F29:EI29)","v":0},{"$f":"SUM($G15:EJ15)-SUM($F29:EJ29)","v":0},{"$f":"SUM($G15:EK15)-SUM($F29:EK29)","v":0},{"$f":"SUM($G15:EL15)-SUM($F29:EL29)","v":0},{"$f":"SUM($G15:EM15)-SUM($F29:EM29)","v":0},{"$f":"SUM($G15:EN15)-SUM($F29:EN29)","v":0},{"$f":"SUM($G15:EO15)-SUM($F29:EO29)","v":0},{"$f":"SUM($G15:EP15)-SUM($F29:EP29)","v":0},{"$f":"SUM($G15:EQ15)-SUM($F29:EQ29)","v":0},{"$f":"SUM($G15:ER15)-SUM($F29:ER29)","v":0},{"$f":"SUM($G15:ES15)-SUM($F29:ES29)","v":0},{"$f":"SUM($G15:ET15)-SUM($F29:ET29)","v":0},{"$f":"SUM($G15:EU15)-SUM($F29:EU29)","v":0},{"$f":"SUM($G15:EV15)-SUM($F29:EV29)","v":0},{"$f":"SUM($G15:EW15)-SUM($F29:EW29)","v":0},{"$f":"SUM($G15:EX15)-SUM($F29:EX29)","v":0},{"$f":"SUM($G15:EY15)-SUM($F29:EY29)","v":0},{"$f":"SUM($G15:EZ15)-SUM($F29:EZ29)","v":0},{"$f":"SUM($G15:FA15)-SUM($F29:FA29)","v":0},{"$f":"SUM($G15:FB15)-SUM($F29:FB29)","v":0},{"$f":"SUM($G15:FC15)-SUM($F29:FC29)","v":0},{"$f":"SUM($G15:FD15)-SUM($F29:FD29)","v":0},{"$f":"SUM($G15:FE15)-SUM($F29:FE29)","v":0},{"$f":"SUM($G15:FF15)-SUM($F29:FF29)","v":0},{"$f":"SUM($G15:FG15)-SUM($F29:FG29)","v":0},{"$f":"SUM($G15:FH15)-SUM($F29:FH29)","v":0},{"$f":"SUM($G15:FI15)-SUM($F29:FI29)","v":0},{"$f":"SUM($G15:FJ15)-SUM($F29:FJ29)","v":0},{"$f":"SUM($G15:FK15)-SUM($F29:FK29)","v":0},{"$f":"SUM($G15:FL15)-SUM($F29:FL29)","v":0},{"$f":"SUM($G15:FM15)-SUM($F29:FM29)","v":0},{"$f":"SUM($G15:FN15)-SUM($F29:FN29)","v":0},{"$f":"SUM($G15:FO15)-SUM($F29:FO29)","v":0},{"$f":"SUM($G15:FP15)-SUM($F29:FP29)","v":0},{"$f":"SUM($G15:FQ15)-SUM($F29:FQ29)","v":0},{"$f":"SUM($G15:FR15)-SUM($F29:FR29)","v":0},{"$f":"SUM($G15:FS15)-SUM($F29:FS29)","v":0},{"$f":"SUM($G15:FT15)-SUM($F29:FT29)","v":0},{"$f":"SUM($G15:FU15)-SUM($F29:FU29)","v":0},{"$f":"SUM($G15:FV15)-SUM($F29:FV29)","v":0},{"$f":"SUM($G15:FW15)-SUM($F29:FW29)","v":0},{"$f":"SUM($G15:FX15)-SUM($F29:FX29)","v":0},{"$f":"SUM($G15:FY15)-SUM($F29:FY29)","v":0},{"$f":"SUM($G15:FZ15)-SUM($F29:FZ29)","v":0},{"$f":"SUM($G15:GA15)-SUM($F29:GA29)","v":0},{"$f":"SUM($G15:GB15)-SUM($F29:GB29)","v":0},{"$f":"SUM($G15:GC15)-SUM($F29:GC29)","v":0},{"$f":"SUM($G15:GD15)-SUM($F29:GD29)","v":0},{"$f":"SUM($G15:GE15)-SUM($F29:GE29)","v":0},{"$f":"SUM($G15:GF15)-SUM($F29:GF29)","v":0},{"$f":"SUM($G15:GG15)-SUM($F29:GG29)","v":0},{"$f":"SUM($G15:GH15)-SUM($F29:GH29)","v":0},{"$f":"SUM($G15:GI15)-SUM($F29:GI29)","v":0},{"$f":"SUM($G15:GJ15)-SUM($F29:GJ29)","v":0},{"$f":"SUM($G15:GK15)-SUM($F29:GK29)","v":0},{"$f":"SUM($G15:GL15)-SUM($F29:GL29)","v":0},{"$f":"SUM($G15:GM15)-SUM($F29:GM29)","v":0},{"$f":"SUM($G15:GN15)-SUM($F29:GN29)","v":0},{"$f":"SUM($G15:GO15)-SUM($F29:GO29)","v":0},{"$f":"SUM($G15:GP15)-SUM($F29:GP29)","v":0},{"$f":"SUM($G15:GQ15)-SUM($F29:GQ29)","v":0},{"$f":"SUM($G15:GR15)-SUM($F29:GR29)","v":0},{"$f":"SUM($G15:GS15)-SUM($F29:GS29)","v":0},{"$f":"SUM($G15:GT15)-SUM($F29:GT29)","v":0},{"$f":"SUM($G15:GU15)-SUM($F29:GU29)","v":0},{"$f":"SUM($G15:GV15)-SUM($F29:GV29)","v":0},{"$f":"SUM($G15:GW15)-SUM($F29:GW29)","v":0},{"$f":"SUM($G15:GX15)-SUM($F29:GX29)","v":0},{"$f":"SUM($G15:GY15)-SUM($F29:GY29)","v":0},{"$f":"SUM($G15:GZ15)-SUM($F29:GZ29)","v":0},{"$f":"SUM($G15:HA15)-SUM($F29:HA29)","v":0},{"$f":"SUM($G15:HB15)-SUM($F29:HB29)","v":0},{"$f":"SUM($G15:HC15)-SUM($F29:HC29)","v":0},{"$f":"SUM($G15:HD15)-SUM($F29:HD29)","v":0},{"$f":"SUM($G15:HE15)-SUM($F29:HE29)","v":0},{"$f":"SUM($G15:HF15)-SUM($F29:HF29)","v":0},{"$f":"SUM($G15:HG15)-SUM($F29:HG29)","v":0},{"$f":"SUM($G15:HH15)-SUM($F29:HH29)","v":0},{"$f":"SUM($G15:HI15)-SUM($F29:HI29)","v":0},{"$f":"SUM($G15:HJ15)-SUM($F29:HJ29)","v":0},{"$f":"SUM($G15:HK15)-SUM($F29:HK29)","v":0},{"$f":"SUM($G15:HL15)-SUM($F29:HL29)","v":0},{"$f":"SUM($G15:HM15)-SUM($F29:HM29)","v":0},{"$f":"SUM($G15:HN15)-SUM($F29:HN29)","v":0},{"$f":"SUM($G15:HO15)-SUM($F29:HO29)","v":0},{"$f":"SUM($G15:HP15)-SUM($F29:HP29)","v":0},{"$f":"SUM($G15:HQ15)-SUM($F29:HQ29)","v":0},{"$f":"SUM($G15:HR15)-SUM($F29:HR29)","v":0},{"$f":"SUM($G15:HS15)-SUM($F29:HS29)","v":0},{"$f":"SUM($G15:HT15)-SUM($F29:HT29)","v":0},{"$f":"SUM($G15:HU15)-SUM($F29:HU29)","v":0},{"$f":"SUM($G15:HV15)-SUM($F29:HV29)","v":0},{"$f":"SUM($G15:HW15)-SUM($F29:HW29)","v":0},{"$f":"SUM($G15:HX15)-SUM($F29:HX29)","v":0},{"$f":"SUM($G15:HY15)-SUM($F29:HY29)","v":0},{"$f":"SUM($G15:HZ15)-SUM($F29:HZ29)","v":0},{"$f":"SUM($G15:IA15)-SUM($F29:IA29)","v":0},{"$f":"SUM($G15:IB15)-SUM($F29:IB29)","v":0},{"$f":"SUM($G15:IC15)-SUM($F29:IC29)","v":0},{"$f":"SUM($G15:ID15)-SUM($F29:ID29)","v":0},{"$f":"SUM($G15:IE15)-SUM($F29:IE29)","v":0},{"$f":"SUM($G15:IF15)-SUM($F29:IF29)","v":0},{"$f":"SUM($G15:IG15)-SUM($F29:IG29)","v":0},{"$f":"SUM($G15:IH15)-SUM($F29:IH29)","v":0},{"$f":"SUM($G15:II15)-SUM($F29:II29)","v":0},{"$f":"SUM($G15:IJ15)-SUM($F29:IJ29)","v":0},{"$f":"SUM($G15:IK15)-SUM($F29:IK29)","v":0},{"$f":"SUM($G15:IL15)-SUM($F29:IL29)","v":0},{"$f":"SUM($G15:IM15)-SUM($F29:IM29)","v":0},{"$f":"SUM($G15:IN15)-SUM($F29:IN29)","v":0},{"$f":"SUM($G15:IO15)-SUM($F29:IO29)","v":0},{"$f":"SUM($G15:IP15)-SUM($F29:IP29)","v":0},{"$f":"SUM($G15:IQ15)-SUM($F29:IQ29)","v":0},{"$f":"SUM($G15:IR15)-SUM($F29:IR29)","v":0},{"$f":"SUM($G15:IS15)-SUM($F29:IS29)","v":0},{"$f":"SUM($G15:IT15)-SUM($F29:IT29)","v":0},{"$f":"SUM($G15:IU15)-SUM($F29:IU29)","v":0},{"$f":"SUM($G15:IV15)-SUM($F29:IV29)","v":0},{"$f":"SUM($G15:IW15)-SUM($F29:IW29)","v":0},{"$f":"SUM($G15:IX15)-SUM($F29:IX29)","v":0},{"$f":"SUM($G15:IY15)-SUM($F29:IY29)","v":0},{"$f":"SUM($G15:IZ15)-SUM($F29:IZ29)","v":0},{"$f":"SUM($G15:JA15)-SUM($F29:JA29)","v":0},{"$f":"SUM($G15:JB15)-SUM($F29:JB29)","v":0},{"$f":"SUM($G15:JC15)-SUM($F29:JC29)","v":0},{"$f":"SUM($G15:JD15)-SUM($F29:JD29)","v":0},{"$f":"SUM($G15:JE15)-SUM($F29:JE29)","v":0},{"$f":"SUM($G15:JF15)-SUM($F29:JF29)","v":0},{"$f":"SUM($G15:JG15)-SUM($F29:JG29)","v":0},{"$f":"SUM($G15:JH15)-SUM($F29:JH29)","v":0},{"$f":"SUM($G15:JI15)-SUM($F29:JI29)","v":0},{"$f":"SUM($G15:JJ15)-SUM($F29:JJ29)","v":0},{"$f":"SUM($G15:JK15)-SUM($F29:JK29)","v":0},{"$f":"SUM($G15:JL15)-SUM($F29:JL29)","v":0},{"$f":"SUM($G15:JM15)-SUM($F29:JM29)","v":0},{"$f":"SUM($G15:JN15)-SUM($F29:JN29)","v":0},{"$f":"SUM($G15:JO15)-SUM($F29:JO29)","v":0},{"$f":"SUM($G15:JP15)-SUM($F29:JP29)","v":0},{"$f":"SUM($G15:JQ15)-SUM($F29:JQ29)","v":0},{"$f":"SUM($G15:JR15)-SUM($F29:JR29)","v":0},{"$f":"SUM($G15:JS15)-SUM($F29:JS29)","v":0},{"$f":"SUM($G15:JT15)-SUM($F29:JT29)","v":0},{"$f":"SUM($G15:JU15)-SUM($F29:JU29)","v":0},{"$f":"SUM($G15:JV15)-SUM($F29:JV29)","v":0},{"$f":"SUM($G15:JW15)-SUM($F29:JW29)","v":0},{"$f":"SUM($G15:JX15)-SUM($F29:JX29)","v":0},{"$f":"SUM($G15:JY15)-SUM($F29:JY29)","v":0},{"$f":"SUM($G15:JZ15)-SUM($F29:JZ29)","v":0},{"$f":"SUM($G15:KA15)-SUM($F29:KA29)","v":0},{"$f":"SUM($G15:KB15)-SUM($F29:KB29)","v":0},{"$f":"SUM($G15:KC15)-SUM($F29:KC29)","v":0},{"$f":"SUM($G15:KD15)-SUM($F29:KD29)","v":0},{"$f":"SUM($G15:KE15)-SUM($F29:KE29)","v":0},{"$f":"SUM($G15:KF15)-SUM($F29:KF29)","v":0},{"$f":"SUM($G15:KG15)-SUM($F29:KG29)","v":0},{"$f":"SUM($G15:KH15)-SUM($F29:KH29)","v":0},{"$f":"SUM($G15:KI15)-SUM($F29:KI29)","v":0},{"$f":"SUM($G15:KJ15)-SUM($F29:KJ29)","v":0},{"$f":"SUM($G15:KK15)-SUM($F29:KK29)","v":0},{"$f":"SUM($G15:KL15)-SUM($F29:KL29)","v":0},{"$f":"SUM($G15:KM15)-SUM($F29:KM29)","v":0},{"$f":"SUM($G15:KN15)-SUM($F29:KN29)","v":0},{"$f":"SUM($G15:KO15)-SUM($F29:KO29)","v":0},{"$f":"SUM($G15:KP15)-SUM($F29:KP29)","v":0},{"$f":"SUM($G15:KQ15)-SUM($F29:KQ29)","v":0},{"$f":"SUM($G15:KR15)-SUM($F29:KR29)","v":0},{"$f":"SUM($G15:KS15)-SUM($F29:KS29)","v":0},{"$f":"SUM($G15:KT15)-SUM($F29:KT29)","v":0},{"$f":"SUM($G15:KU15)-SUM($F29:KU29)","v":0},{"$f":"SUM($G15:KV15)-SUM($F29:KV29)","v":0},{"$f":"SUM($G15:KW15)-SUM($F29:KW29)","v":0},{"$f":"SUM($G15:KX15)-SUM($F29:KX29)","v":0},{"$f":"SUM($G15:KY15)-SUM($F29:KY29)","v":0},{"$f":"SUM($G15:KZ15)-SUM($F29:KZ29)","v":0},{"$f":"SUM($G15:LA15)-SUM($F29:LA29)","v":0},{"$f":"SUM($G15:LB15)-SUM($F29:LB29)","v":0},{"$f":"SUM($G15:LC15)-SUM($F29:LC29)","v":0},{"$f":"SUM($G15:LD15)-SUM($F29:LD29)","v":0},{"$f":"SUM($G15:LE15)-SUM($F29:LE29)","v":0},{"$f":"SUM($G15:LF15)-SUM($F29:LF29)","v":0},{"$f":"SUM($G15:LG15)-SUM($F29:LG29)","v":0},{"$f":"SUM($G15:LH15)-SUM($F29:LH29)","v":0},{"$f":"SUM($G15:LI15)-SUM($F29:LI29)","v":0},{"$f":"SUM($G15:LJ15)-SUM($F29:LJ29)","v":0},{"$f":"SUM($G15:LK15)-SUM($F29:LK29)","v":0},{"$f":"SUM($G15:LL15)-SUM($F29:LL29)","v":0},{"$f":"SUM($G15:LM15)-SUM($F29:LM29)","v":0},{"$f":"SUM($G15:LN15)-SUM($F29:LN29)","v":0},{"$f":"SUM($G15:LO15)-SUM($F29:LO29)","v":0},{"$f":"SUM($G15:LP15)-SUM($F29:LP29)","v":0},{"$f":"SUM($G15:LQ15)-SUM($F29:LQ29)","v":0},{"$f":"SUM($G15:LR15)-SUM($F29:LR29)","v":0},{"$f":"SUM($G15:LS15)-SUM($F29:LS29)","v":0},{"$f":"SUM($G15:LT15)-SUM($F29:LT29)","v":0},{"$f":"SUM($G15:LU15)-SUM($F29:LU29)","v":0},{"$f":"SUM($G15:LV15)-SUM($F29:LV29)","v":0},{"$f":"SUM($G15:LW15)-SUM($F29:LW29)","v":0},{"$f":"SUM($G15:LX15)-SUM($F29:LX29)","v":0},{"$f":"SUM($G15:LY15)-SUM($F29:LY29)","v":0},{"$f":"SUM($G15:LZ15)-SUM($F29:LZ29)","v":0},{"$f":"SUM($G15:MA15)-SUM($F29:MA29)","v":0},{"$f":"SUM($G15:MB15)-SUM($F29:MB29)","v":0},{"$f":"SUM($G15:MC15)-SUM($F29:MC29)","v":0},{"$f":"SUM($G15:MD15)-SUM($F29:MD29)","v":0},{"$f":"SUM($G15:ME15)-SUM($F29:ME29)","v":0},{"$f":"SUM($G15:MF15)-SUM($F29:MF29)","v":0},{"$f":"SUM($G15:MG15)-SUM($F29:MG29)","v":0},{"$f":"SUM($G15:MH15)-SUM($F29:MH29)","v":0},{"$f":"SUM($G15:MI15)-SUM($F29:MI29)","v":0},{"$f":"SUM($G15:MJ15)-SUM($F29:MJ29)","v":0},{"$f":"SUM($G15:MK15)-SUM($F29:MK29)","v":0},{"$f":"SUM($G15:ML15)-SUM($F29:ML29)","v":0},{"$f":"SUM($G15:MM15)-SUM($F29:MM29)","v":0},{"$f":"SUM($G15:MN15)-SUM($F29:MN29)","v":0},{"$f":"SUM($G15:MO15)-SUM($F29:MO29)","v":0},{"$f":"SUM($G15:MP15)-SUM($F29:MP29)","v":0},{"$f":"SUM($G15:MQ15)-SUM($F29:MQ29)","v":0},{"$f":"SUM($G15:MR15)-SUM($F29:MR29)","v":0},{"$f":"SUM($G15:MS15)-SUM($F29:MS29)","v":0},{"$f":"SUM($G15:MT15)-SUM($F29:MT29)","v":0},{"$f":"SUM($G15:MU15)-SUM($F29:MU29)","v":0},{"$f":"SUM($G15:MV15)-SUM($F29:MV29)","v":0},{"$f":"SUM($G15:MW15)-SUM($F29:MW29)","v":0},{"$f":"SUM($G15:MX15)-SUM($F29:MX29)","v":0},{"$f":"SUM($G15:MY15)-SUM($F29:MY29)","v":0},{"$f":"SUM($G15:MZ15)-SUM($F29:MZ29)","v":0},{"$f":"SUM($G15:NA15)-SUM($F29:NA29)","v":0},{"$f":"SUM($G15:NB15)-SUM($F29:NB29)","v":0},{"$f":"SUM($G15:NC15)-SUM($F29:NC29)","v":0},{"$f":"SUM($G15:ND15)-SUM($F29:ND29)","v":0},{"$f":"SUM($G15:NE15)-SUM($F29:NE29)","v":0},{"$f":"SUM($G15:NF15)-SUM($F29:NF29)","v":0},{"$f":"SUM($G15:NG15)-SUM($F29:NG29)","v":0},{"$f":"SUM($G15:NH15)-SUM($F29:NH29)","v":0},{"$f":"SUM($G15:NI15)-SUM($F29:NI29)","v":0},{"$f":"SUM($G15:NJ15)-SUM($F29:NJ29)","v":0},{"$f":"SUM($G15:NK15)-SUM($F29:NK29)","v":0},{"$f":"SUM($G15:NL15)-SUM($F29:NL29)","v":0},{"$f":"SUM($G15:NM15)-SUM($F29:NM29)","v":0},{"$f":"SUM($G15:NN15)-SUM($F29:NN29)","v":0},{"$f":"SUM($G15:NO15)-SUM($F29:NO29)","v":0},{"$f":"SUM($G15:NP15)-SUM($F29:NP29)","v":0},{"$f":"SUM($G15:NQ15)-SUM($F29:NQ29)","v":0},{"$f":"SUM($G15:NR15)-SUM($F29:NR29)","v":0},{"$f":"SUM($G15:NS15)-SUM($F29:NS29)","v":0},{"$f":"SUM($G15:NT15)-SUM($F29:NT29)","v":0},{"$f":"SUM($G15:NU15)-SUM($F29:NU29)","v":0},{"$f":"SUM($G15:NV15)-SUM($F29:NV29)","v":0},{"$f":"SUM($G15:NW15)-SUM($F29:NW29)","v":0},{"$f":"SUM($G15:NX15)-SUM($F29:NX29)","v":0},{"$f":"SUM($G15:NY15)-SUM($F29:NY29)","v":0},{"$f":"SUM($G15:NZ15)-SUM($F29:NZ29)","v":0},{"$f":"SUM($G15:OA15)-SUM($F29:OA29)","v":0},{"$f":"SUM($G15:OB15)-SUM($F29:OB29)","v":0},{"$f":"SUM($G15:OC15)-SUM($F29:OC29)","v":0},{"$f":"SUM($G15:OD15)-SUM($F29:OD29)","v":0},{"$f":"SUM($G15:OE15)-SUM($F29:OE29)","v":0},{"$f":"SUM($G15:OF15)-SUM($F29:OF29)","v":0},{"$f":"SUM($G15:OG15)-SUM($F29:OG29)","v":0},{"$f":"SUM($G15:OH15)-SUM($F29:OH29)","v":0},{"$f":"SUM($G15:OI15)-SUM($F29:OI29)","v":0},{"$f":"SUM($G15:OJ15)-SUM($F29:OJ29)","v":0},{"$f":"SUM($G15:OK15)-SUM($F29:OK29)","v":0},{"$f":"SUM($G15:OL15)-SUM($F29:OL29)","v":0},{"$f":"SUM($G15:OM15)-SUM($F29:OM29)","v":0},{"$f":"SUM($G15:ON15)-SUM($F29:ON29)","v":0},{"$f":"SUM($G15:OO15)-SUM($F29:OO29)","v":0},{"$f":"SUM($G15:OP15)-SUM($F29:OP29)","v":0},{"$f":"SUM($G15:OQ15)-SUM($F29:OQ29)","v":0},{"$f":"SUM($G15:OR15)-SUM($F29:OR29)","v":0},{"$f":"SUM($G15:OS15)-SUM($F29:OS29)","v":0},{"$f":"SUM($G15:OT15)-SUM($F29:OT29)","v":0},{"$f":"SUM($G15:OU15)-SUM($F29:OU29)","v":0},{"$f":"SUM($G15:OV15)-SUM($F29:OV29)","v":0},{"$f":"SUM($G15:OW15)-SUM($F29:OW29)","v":0},{"$f":"SUM($G15:OX15)-SUM($F29:OX29)","v":0},{"$f":"SUM($G15:OY15)-SUM($F29:OY29)","v":0},{"$f":"SUM($G15:OZ15)-SUM($F29:OZ29)","v":0},{"$f":"SUM($G15:PA15)-SUM($F29:PA29)","v":0},{"$f":"SUM($G15:PB15)-SUM($F29:PB29)","v":0},{"$f":"SUM($G15:PC15)-SUM($F29:PC29)","v":0},{"$f":"SUM($G15:PD15)-SUM($F29:PD29)","v":0},{"$f":"SUM($G15:PE15)-SUM($F29:PE29)","v":0},{"$f":"SUM($G15:PF15)-SUM($F29:PF29)","v":0},{"$f":"SUM($G15:PG15)-SUM($F29:PG29)","v":0},{"$f":"SUM($G15:PH15)-SUM($F29:PH29)","v":0},{"$f":"SUM($G15:PI15)-SUM($F29:PI29)","v":0},{"$f":"SUM($G15:PJ15)-SUM($F29:PJ29)","v":0},{"$f":"SUM($G15:PK15)-SUM($F29:PK29)","v":0},{"$f":"SUM($G15:PL15)-SUM($F29:PL29)","v":0},{"$f":"SUM($G15:PM15)-SUM($F29:PM29)","v":0},{"$f":"SUM($G15:PN15)-SUM($F29:PN29)","v":0},{"$f":"SUM($G15:PO15)-SUM($F29:PO29)","v":0},{"$f":"SUM($G15:PP15)-SUM($F29:PP29)","v":0},{"$f":"SUM($G15:PQ15)-SUM($F29:PQ29)","v":0},{"$f":"SUM($G15:PR15)-SUM($F29:PR29)","v":0},{"$f":"SUM($G15:PS15)-SUM($F29:PS29)","v":0},{"$f":"SUM($G15:PT15)-SUM($F29:PT29)","v":0},{"$f":"SUM($G15:PU15)-SUM($F29:PU29)","v":0},{"$f":"SUM($G15:PV15)-SUM($F29:PV29)","v":0},{"$f":"SUM($G15:PW15)-SUM($F29:PW29)","v":0},{"$f":"SUM($G15:PX15)-SUM($F29:PX29)","v":0},{"$f":"SUM($G15:PY15)-SUM($F29:PY29)","v":0},{"$f":"SUM($G15:PZ15)-SUM($F29:PZ29)","v":0},{"$f":"SUM($G15:QA15)-SUM($F29:QA29)","v":0},{"$f":"SUM($G15:QB15)-SUM($F29:QB29)","v":0},{"$f":"SUM($G15:QC15)-SUM($F29:QC29)","v":0},{"$f":"SUM($G15:QD15)-SUM($F29:QD29)","v":0},{"$f":"SUM($G15:QE15)-SUM($F29:QE29)","v":0},{"$f":"SUM($G15:QF15)-SUM($F29:QF29)","v":0},{"$f":"SUM($G15:QG15)-SUM($F29:QG29)","v":0},{"$f":"SUM($G15:QH15)-SUM($F29:QH29)","v":0},{"$f":"SUM($G15:QI15)-SUM($F29:QI29)","v":0},{"$f":"SUM($G15:QJ15)-SUM($F29:QJ29)","v":0},{"$f":"SUM($G15:QK15)-SUM($F29:QK29)","v":0},{"$f":"SUM($G15:QL15)-SUM($F29:QL29)","v":0},{"$f":"SUM($G15:QM15)-SUM($F29:QM29)","v":0},{"$f":"SUM($G15:QN15)-SUM($F29:QN29)","v":0},{"$f":"SUM($G15:QO15)-SUM($F29:QO29)","v":0},{"$f":"SUM($G15:QP15)-SUM($F29:QP29)","v":0},{"$f":"SUM($G15:QQ15)-SUM($F29:QQ29)","v":0},{"$f":"SUM($G15:QR15)-SUM($F29:QR29)","v":0},{"$f":"SUM($G15:QS15)-SUM($F29:QS29)","v":0},{"$f":"SUM($G15:QT15)-SUM($F29:QT29)","v":0},{"$f":"SUM($G15:QU15)-SUM($F29:QU29)","v":0},{"$f":"SUM($G15:QV15)-SUM($F29:QV29)","v":0},{"$f":"SUM($G15:QW15)-SUM($F29:QW29)","v":0},{"$f":"SUM($G15:QX15)-SUM($F29:QX29)","v":0},{"$f":"SUM($G15:QY15)-SUM($F29:QY29)","v":0},{"$f":"SUM($G15:QZ15)-SUM($F29:QZ29)","v":0},{"$f":"SUM($G15:RA15)-SUM($F29:RA29)","v":0},{"$f":"SUM($G15:RB15)-SUM($F29:RB29)","v":0},{"$f":"SUM($G15:RC15)-SUM($F29:RC29)","v":0},{"$f":"SUM($G15:RD15)-SUM($F29:RD29)","v":0},{"$f":"SUM($G15:RE15)-SUM($F29:RE29)","v":0},{"$f":"SUM($G15:RF15)-SUM($F29:RF29)","v":0}]
[null,0,0,0,0,null,{"$f":"SUM($G16:G16)-SUM($F30:G30)","v":0},{"$f":"SUM($G16:H16)-SUM($F30:H30)","v":0},{"$f":"SUM($G16:I16)-SUM($F30:I30)","v":0},{"$f":"SUM($G16:J16)-SUM($F30:J30)","v":0},{"$f":"SUM($G16:K16)-SUM($F30:K30)","v":0},{"$f":"SUM($G16:L16)-SUM($F30:L30)","v":0},{"$f":"SUM($G16:M16)-SUM($F30:M30)","v":0},{"$f":"SUM($G16:N16)-SUM($F30:N30)","v":0},{"$f":"SUM($G16:O16)-SUM($F30:O30)","v":0},{"$f":"SUM($G16:P16)-SUM($F30:P30)","v":0},{"$f":"SUM($G16:Q16)-SUM($F30:Q30)","v":0},{"$f":"SUM($G16:R16)-SUM($F30:R30)","v":0},{"$f":"SUM($G16:S16)-SUM($F30:S30)","v":0},{"$f":"SUM($G16:T16)-SUM($F30:T30)","v":0},{"$f":"SUM($G16:U16)-SUM($F30:U30)","v":0},{"$f":"SUM($G16:V16)-SUM($F30:V30)","v":0},{"$f":"SUM($G16:W16)-SUM($F30:W30)","v":0},{"$f":"SUM($G16:X16)-SUM($F30:X30)","v":0},{"$f":"SUM($G16:Y16)-SUM($F30:Y30)","v":0},{"$f":"SUM($G16:Z16)-SUM($F30:Z30)","v":0},{"$f":"SUM($G16:AA16)-SUM($F30:AA30)","v":0},{"$f":"SUM($G16:AB16)-SUM($F30:AB30)","v":0},{"$f":"SUM($G16:AC16)-SUM($F30:AC30)","v":0},{"$f":"SUM($G16:AD16)-SUM($F30:AD30)","v":0},{"$f":"SUM($G16:AE16)-SUM($F30:AE30)","v":0},{"$f":"SUM($G16:AF16)-SUM($F30:AF30)","v":0},{"$f":"SUM($G16:AG16)-SUM($F30:AG30)","v":0},{"$f":"SUM($G16:AH16)-SUM($F30:AH30)","v":0},{"$f":"SUM($G16:AI16)-SUM($F30:AI30)","v":0},{"$f":"SUM($G16:AJ16)-SUM($F30:AJ30)","v":0},{"$f":"SUM($G16:AK16)-SUM($F30:AK30)","v":0},{"$f":"SUM($G16:AL16)-SUM($F30:AL30)","v":0},{"$f":"SUM($G16:AM16)-SUM($F30:AM30)","v":0},{"$f":"SUM($G16:AN16)-SUM($F30:AN30)","v":0},{"$f":"SUM($G16:AO16)-SUM($F30:AO30)","v":0},{"$f":"SUM($G16:AP16)-SUM($F30:AP30)","v":0},{"$f":"SUM($G16:AQ16)-SUM($F30:AQ30)","v":0},{"$f":"SUM($G16:AR16)-SUM($F30:AR30)","v":0},{"$f":"SUM($G16:AS16)-SUM($F30:AS30)","v":0},{"$f":"SUM($G16:AT16)-SUM($F30:AT30)","v":0},{"$f":"SUM($G16:AU16)-SUM($F30:AU30)","v":0},{"$f":"SUM($G16:AV16)-SUM($F30:AV30)","v":0},{"$f":"SUM($G16:AW16)-SUM($F30:AW30)","v":0},{"$f":"SUM($G16:AX16)-SUM($F30:AX30)","v":0},{"$f":"SUM($G16:AY16)-SUM($F30:AY30)","v":0},{"$f":"SUM($G16:AZ16)-SUM($F30:AZ30)","v":0},{"$f":"SUM($G16:BA16)-SUM($F30:BA30)","v":0},{"$f":"SUM($G16:BB16)-SUM($F30:BB30)","v":0},{"$f":"SUM($G16:BC16)-SUM($F30:BC30)","v":0},{"$f":"SUM($G16:BD16)-SUM($F30:BD30)","v":0},{"$f":"SUM($G16:BE16)-SUM($F30:BE30)","v":0},{"$f":"SUM($G16:BF16)-SUM($F30:BF30)","v":0},{"$f":"SUM($G16:BG16)-SUM($F30:BG30)","v":0},{"$f":"SUM($G16:BH16)-SUM($F30:BH30)","v":0},{"$f":"SUM($G16:BI16)-SUM($F30:BI30)","v":0},{"$f":"SUM($G16:BJ16)-SUM($F30:BJ30)","v":0},{"$f":"SUM($G16:BK16)-SUM($F30:BK30)","v":0},{"$f":"SUM($G16:BL16)-SUM($F30:BL30)","v":0},{"$f":"SUM($G16:BM16)-SUM($F30:BM30)","v":0},{"$f":"SUM($G16:BN16)-SUM($F30:BN30)","v":0},{"$f":"SUM($G16:BO16)-SUM($F30:BO30)","v":0},{"$f":"SUM($G16:BP16)-SUM($F30:BP30)","v":0},{"$f":"SUM($G16:BQ16)-SUM($F30:BQ30)","v":0},{"$f":"SUM($G16:BR16)-SUM($F30:BR30)","v":0},{"$f":"SUM($G16:BS16)-SUM($F30:BS30)","v":0},{"$f":"SUM($G16:BT16)-SUM($F30:BT30)","v":0},{"$f":"SUM($G16:BU16)-SUM($F30:BU30)","v":0},{"$f":"SUM($G16:BV16)-SUM($F30:BV30)","v":0},{"$f":"SUM($G16:BW16)-SUM($F30:BW30)","v":0},{"$f":"SUM($G16:BX16)-SUM($F30:BX30)","v":0},{"$f":"SUM($G16:BY16)-SUM($F30:BY30)","v":0},{"$f":"SUM($G16:BZ16)-SUM($F30:BZ30)","v":0},{"$f":"SUM($G16:CA16)-SUM($F30:CA30)","v":0},{"$f":"SUM($G16:CB16)-SUM($F30:CB30)","v":0},{"$f":"SUM($G16:CC16)-SUM($F30:CC30)","v":0},{"$f":"SUM($G16:CD16)-SUM($F30:CD30)","v":0},{"$f":"SUM($G16:CE16)-SUM($F30:CE30)","v":0},{"$f":"SUM($G16:CF16)-SUM($F30:CF30)","v":0},{"$f":"SUM($G16:CG16)-SUM($F30:CG30)","v":0},{"$f":"SUM($G16:CH16)-SUM($F30:CH30)","v":0},{"$f":"SUM($G16:CI16)-SUM($F30:CI30)","v":0},{"$f":"SUM($G16:CJ16)-SUM($F30:CJ30)","v":0},{"$f":"SUM($G16:CK16)-SUM($F30:CK30)","v":0},{"$f":"SUM($G16:CL16)-SUM($F30:CL30)","v":0},{"$f":"SUM($G16:CM16)-SUM($F30:CM30)","v":0},{"$f":"SUM($G16:CN16)-SUM($F30:CN30)","v":0},{"$f":"SUM($G16:CO16)-SUM($F30:CO30)","v":0},{"$f":"SUM($G16:CP16)-SUM($F30:CP30)","v":0},{"$f":"SUM($G16:CQ16)-SUM($F30:CQ30)","v":0},{"$f":"SUM($G16:CR16)-SUM($F30:CR30)","v":0},{"$f":"SUM($G16:CS16)-SUM($F30:CS30)","v":0},{"$f":"SUM($G16:CT16)-SUM($F30:CT30)","v":0},{"$f":"SUM($G16:CU16)-SUM($F30:CU30)","v":0},{"$f":"SUM($G16:CV16)-SUM($F30:CV30)","v":0},{"$f":"SUM($G16:CW16)-SUM($F30:CW30)","v":0},{"$f":"SUM($G16:CX16)-SUM($F30:CX30)","v":0},{"$f":"SUM($G16:CY16)-SUM($F30:CY30)","v":0},{"$f":"SUM($G16:CZ16)-SUM($F30:CZ30)","v":0},{"$f":"SUM($G16:DA16)-SUM($F30:DA30)","v":0},{"$f":"SUM($G16:DB16)-SUM($F30:DB30)","v":0},{"$f":"SUM($G16:DC16)-SUM($F30:DC30)","v":0},{"$f":"SUM($G16:DD16)-SUM($F30:DD30)","v":0},{"$f":"SUM($G16:DE16)-SUM($F30:DE30)","v":0},{"$f":"SUM($G16:DF16)-SUM($F30:DF30)","v":0},{"$f":"SUM($G16:DG16)-SUM($F30:DG30)","v":0},{"$f":"SUM($G16:DH16)-SUM($F30:DH30)","v":0},{"$f":"SUM($G16:DI16)-SUM($F30:DI30)","v":0},{"$f":"SUM($G16:DJ16)-SUM($F30:DJ30)","v":0},{"$f":"SUM($G16:DK16)-SUM($F30:DK30)","v":0},{"$f":"SUM($G16:DL16)-SUM($F30:DL30)","v":0},{"$f":"SUM($G16:DM16)-SUM($F30:DM30)","v":0},{"$f":"SUM($G16:DN16)-SUM($F30:DN30)","v":0},{"$f":"SUM($G16:DO16)-SUM($F30:DO30)","v":0},{"$f":"SUM($G16:DP16)-SUM($F30:DP30)","v":0},{"$f":"SUM($G16:DQ16)-SUM($F30:DQ30)","v":0},{"$f":"SUM($G16:DR16)-SUM($F30:DR30)","v":0},{"$f":"SUM($G16:DS16)-SUM($F30:DS30)","v":0},{"$f":"SUM($G16:DT16)-SUM($F30:DT30)","v":0},{"$f":"SUM($G16:DU16)-SUM($F30:DU30)","v":0},{"$f":"SUM($G16:DV16)-SUM($F30:DV30)","v":0},{"$f":"SUM($G16:DW16)-SUM($F30:DW30)","v":0},{"$f":"SUM($G16:DX16)-SUM($F30:DX30)","v":0},{"$f":"SUM($G16:DY16)-SUM($F30:DY30)","v":0},{"$f":"SUM($G16:DZ16)-SUM($F30:DZ30)","v":0},{"$f":"SUM($G16:EA16)-SUM($F30:EA30)","v":0},{"$f":"SUM($G16:EB16)-SUM($F30:EB30)","v":0},{"$f":"SUM($G16:EC16)-SUM($F30:EC30)","v":0},{"$f":"SUM($G16:ED16)-SUM($F30:ED30)","v":0},{"$f":"SUM($G16:EE16)-SUM($F30:EE30)","v":0},{"$f":"SUM($G16:EF16)-SUM($F30:EF30)","v":0},{"$f":"SUM($G16:EG16)-SUM($F30:EG30)","v":0},{"$f":"SUM($G16:EH16)-SUM($F30:EH30)","v":0},{"$f":"SUM($G16:EI16)-SUM($F30:EI30)","v":0},{"$f":"SUM($G16:EJ16)-SUM($F30:EJ30)","v":0},{"$f":"SUM($G16:EK16)-SUM($F30:EK30)","v":0},{"$f":"SUM($G16:EL16)-SUM($F30:EL30)","v":0},{"$f":"SUM($G16:EM16)-SUM($F30:EM30)","v":0},{"$f":"SUM($G16:EN16)-SUM($F30:EN30)","v":0},{"$f":"SUM($G16:EO16)-SUM($F30:EO30)","v":0},{"$f":"SUM($G16:EP16)-SUM($F30:EP30)","v":0},{"$f":"SUM($G16:EQ16)-SUM($F30:EQ30)","v":0},{"$f":"SUM($G16:ER16)-SUM($F30:ER30)","v":0},{"$f":"SUM($G16:ES16)-SUM($F30:ES30)","v":0},{"$f":"SUM($G16:ET16)-SUM($F30:ET30)","v":0},{"$f":"SUM($G16:EU16)-SUM($F30:EU30)","v":0},{"$f":"SUM($G16:EV16)-SUM($F30:EV30)","v":0},{"$f":"SUM($G16:EW16)-SUM($F30:EW30)","v":0},{"$f":"SUM($G16:EX16)-SUM($F30:EX30)","v":0},{"$f":"SUM($G16:EY16)-SUM($F30:EY30)","v":0},{"$f":"SUM($G16:EZ16)-SUM($F30:EZ30)","v":0},{"$f":"SUM($G16:FA16)-SUM($F30:FA30)","v":0},{"$f":"SUM($G16:FB16)-SUM($F30:FB30)","v":0},{"$f":"SUM($G16:FC16)-SUM($F30:FC30)","v":0},{"$f":"SUM($G16:FD16)-SUM($F30:FD30)","v":0},{"$f":"SUM($G16:FE16)-SUM($F30:FE30)","v":0},{"$f":"SUM($G16:FF16)-SUM($F30:FF30)","v":0},{"$f":"SUM($G16:FG16)-SUM($F30:FG30)","v":0},{"$f":"SUM($G16:FH16)-SUM($F30:FH30)","v":0},{"$f":"SUM($G16:FI16)-SUM($F30:FI30)","v":0},{"$f":"SUM($G16:FJ16)-SUM($F30:FJ30)","v":0},{"$f":"SUM($G16:FK16)-SUM($F30:FK30)","v":0},{"$f":"SUM($G16:FL16)-SUM($F30:FL30)","v":0},{"$f":"SUM($G16:FM16)-SUM($F30:FM30)","v":0},{"$f":"SUM($G16:FN16)-SUM($F30:FN30)","v":0},{"$f":"SUM($G16:FO16)-SUM($F30:FO30)","v":0},{"$f":"SUM($G16:FP16)-SUM($F30:FP30)","v":0},{"$f":"SUM($G16:FQ16)-SUM($F30:FQ30)","v":0},{"$f":"SUM($G16:FR16)-SUM($F30:FR30)","v":0},{"$f":"SUM($G16:FS16)-SUM($F30:FS30)","v":0},{"$f":"SUM($G16:FT16)-SUM($F30:FT30)","v":0},{"$f":"SUM($G16:FU16)-SUM($F30:FU30)","v":0},{"$f":"SUM($G16:FV16)-SUM($F30:FV30)","v":0},{"$f":"SUM($G16:FW16)-SUM($F30:FW30)","v":0},{"$f":"SUM($G16:FX16)-SUM($F30:FX30)","v":0},{"$f":"SUM($G16:FY16)-SUM($F30:FY30)","v":0},{"$f":"SUM($G16:FZ16)-SUM($F30:FZ30)","v":0},{"$f":"SUM($G16:GA16)-SUM($F30:GA30)","v":0},{"$f":"SUM($G16:GB16)-SUM($F30:GB30)","v":0},{"$f":"SUM($G16:GC16)-SUM($F30:GC30)","v":0},{"$f":"SUM($G16:GD16)-SUM($F30:GD30)","v":0},{"$f":"SUM($G16:GE16)-SUM($F30:GE30)","v":0},{"$f":"SUM($G16:GF16)-SUM($F30:GF30)","v":0},{"$f":"SUM($G16:GG16)-SUM($F30:GG30)","v":0},{"$f":"SUM($G16:GH16)-SUM($F30:GH30)","v":0},{"$f":"SUM($G16:GI16)-SUM($F30:GI30)","v":0},{"$f":"SUM($G16:GJ16)-SUM($F30:GJ30)","v":0},{"$f":"SUM($G16:GK16)-SUM($F30:GK30)","v":0},{"$f":"SUM($G16:GL16)-SUM($F30:GL30)","v":0},{"$f":"SUM($G16:GM16)-SUM($F30:GM30)","v":0},{"$f":"SUM($G16:GN16)-SUM($F30:GN30)","v":0},{"$f":"SUM($G16:GO16)-SUM($F30:GO30)","v":0},{"$f":"SUM($G16:GP16)-SUM($F30:GP30)","v":0},{"$f":"SUM($G16:GQ16)-SUM($F30:GQ30)","v":0},{"$f":"SUM($G16:GR16)-SUM($F30:GR30)","v":0},{"$f":"SUM($G16:GS16)-SUM($F30:GS30)","v":0},{"$f":"SUM($G16:GT16)-SUM($F30:GT30)","v":0},{"$f":"SUM($G16:GU16)-SUM($F30:GU30)","v":0},{"$f":"SUM($G16:GV16)-SUM($F30:GV30)","v":0},{"$f":"SUM($G16:GW16)-SUM($F30:GW30)","v":0},{"$f":"SUM($G16:GX16)-SUM($F30:GX30)","v":0},{"$f":"SUM($G16:GY16)-SUM($F30:GY30)","v":0},{"$f":"SUM($G16:GZ16)-SUM($F30:GZ30)","v":0},{"$f":"SUM($G16:HA16)-SUM($F30:HA30)","v":0},{"$f":"SUM($G16:HB16)-SUM($F30:HB30)","v":0},{"$f":"SUM($G16:HC16)-SUM($F30:HC30)","v":0},{"$f":"SUM($G16:HD16)-SUM($F30:HD30)","v":0},{"$f":"SUM($G16:HE16)-SUM($F30:HE30)","v":0},{"$f":"SUM($G16:HF16)-SUM($F30:HF30)","v":0},{"$f":"SUM($G16:HG16)-SUM($F30:HG30)","v":0},{"$f":"SUM($G16:HH16)-SUM($F30:HH30)","v":0},{"$f":"SUM($G16:HI16)-SUM($F30:HI30)","v":0},{"$f":"SUM($G16:HJ16)-SUM($F30:HJ30)","v":0},{"$f":"SUM($G16:HK16)-SUM($F30:HK30)","v":0},{"$f":"SUM($G16:HL16)-SUM($F30:HL30)","v":0},{"$f":"SUM($G16:HM16)-SUM($F30:HM30)","v":0},{"$f":"SUM($G16:HN16)-SUM($F30:HN30)","v":0},{"$f":"SUM($G16:HO16)-SUM($F30:HO30)","v":0},{"$f":"SUM($G16:HP16)-SUM($F30:HP30)","v":0},{"$f":"SUM($G16:HQ16)-SUM($F30:HQ30)","v":0},{"$f":"SUM($G16:HR16)-SUM($F30:HR30)","v":0},{"$f":"SUM($G16:HS16)-SUM($F30:HS30)","v":0},{"$f":"SUM($G16:HT16)-SUM($F30:HT30)","v":0},{"$f":"SUM($G16:HU16)-SUM($F30:HU30)","v":0},{"$f":"SUM($G16:HV16)-SUM($F30:HV30)","v":0},{"$f":"SUM($G16:HW16)-SUM($F30:HW30)","v":0},{"$f":"SUM($G16:HX16)-SUM($F30:HX30)","v":0},{"$f":"SUM($G16:HY16)-SUM($F30:HY30)","v":0},{"$f":"SUM($G16:HZ16)-SUM($F30:HZ30)","v":0},{"$f":"SUM($G16:IA16)-SUM($F30:IA30)","v":0},{"$f":"SUM($G16:IB16)-SUM($F30:IB30)","v":0},{"$f":"SUM($G16:IC16)-SUM($F30:IC30)","v":0},{"$f":"SUM($G16:ID16)-SUM($F30:ID30)","v":0},{"$f":"SUM($G16:IE16)-SUM($F30:IE30)","v":0},{"$f":"SUM($G16:IF16)-SUM($F30:IF30)","v":0},{"$f":"SUM($G16:IG16)-SUM($F30:IG30)","v":0},{"$f":"SUM($G16:IH16)-SUM($F30:IH30)","v":0},{"$f":"SUM($G16:II16)-SUM($F30:II30)","v":0},{"$f":"SUM($G16:IJ16)-SUM($F30:IJ30)","v":0},{"$f":"SUM($G16:IK16)-SUM($F30:IK30)","v":0},{"$f":"SUM($G16:IL16)-SUM($F30:IL30)","v":0},{"$f":"SUM($G16:IM16)-SUM($F30:IM30)","v":0},{"$f":"SUM($G16:IN16)-SUM($F30:IN30)","v":0},{"$f":"SUM($G16:IO16)-SUM($F30:IO30)","v":0},{"$f":"SUM($G16:IP16)-SUM($F30:IP30)","v":0},{"$f":"SUM($G16:IQ16)-SUM($F30:IQ30)","v":0},{"$f":"SUM($G16:IR16)-SUM($F30:IR30)","v":0},{"$f":"SUM($G16:IS16)-SUM($F30:IS30)","v":0},{"$f":"SUM($G16:IT16)-SUM($F30:IT30)","v":0},{"$f":"SUM($G16:IU16)-SUM($F30:IU30)","v":0},{"$f":"SUM($G16:IV16)-SUM($F30:IV30)","v":0},{"$f":"SUM($G16:IW16)-SUM($F30:IW30)","v":0},{"$f":"SUM($G16:IX16)-SUM($F30:IX30)","v":0},{"$f":"SUM($G16:IY16)-SUM($F30:IY30)","v":0},{"$f":"SUM($G16:IZ16)-SUM($F30:IZ30)","v":0},{"$f":"SUM($G16:JA16)-SUM($F30:JA30)","v":0},{"$f":"SUM($G16:JB16)-SUM($F30:JB30)","v":0},{"$f":"SUM($G16:JC16)-SUM($F30:JC30)","v":0},{"$f":"SUM($G16:JD16)-SUM($F30:JD30)","v":0},{"$f":"SUM($G16:JE16)-SUM($F30:JE30)","v":0},{"$f":"SUM($G16:JF16)-SUM($F30:JF30)","v":0},{"$f":"SUM($G16:JG16)-SUM($F30:JG30)","v":0},{"$f":"SUM($G16:JH16)-SUM($F30:JH30)","v":0},{"$f":"SUM($G16:JI16)-SUM($F30:JI30)","v":0},{"$f":"SUM($G16:JJ16)-SUM($F30:JJ30)","v":0},{"$f":"SUM($G16:JK16)-SUM($F30:JK30)","v":0},{"$f":"SUM($G16:JL16)-SUM($F30:JL30)","v":0},{"$f":"SUM($G16:JM16)-SUM($F30:JM30)","v":0},{"$f":"SUM($G16:JN16)-SUM($F30:JN30)","v":0},{"$f":"SUM($G16:JO16)-SUM($F30:JO30)","v":0},{"$f":"SUM($G16:JP16)-SUM($F30:JP30)","v":0},{"$f":"SUM($G16:JQ16)-SUM($F30:JQ30)","v":0},{"$f":"SUM($G16:JR16)-SUM($F30:JR30)","v":0},{"$f":"SUM($G16:JS16)-SUM($F30:JS30)","v":0},{"$f":"SUM($G16:JT16)-SUM($F30:JT30)","v":0},{"$f":"SUM($G16:JU16)-SUM($F30:JU30)","v":0},{"$f":"SUM($G16:JV16)-SUM($F30:JV30)","v":0},{"$f":"SUM($G16:JW16)-SUM($F30:JW30)","v":0},{"$f":"SUM($G16:JX16)-SUM($F30:JX30)","v":0},{"$f":"SUM($G16:JY16)-SUM($F30:JY30)","v":0},{"$f":"SUM($G16:JZ16)-SUM($F30:JZ30)","v":0},{"$f":"SUM($G16:KA16)-SUM($F30:KA30)","v":0},{"$f":"SUM($G16:KB16)-SUM($F30:KB30)","v":0},{"$f":"SUM($G16:KC16)-SUM($F30:KC30)","v":0},{"$f":"SUM($G16:KD16)-SUM($F30:KD30)","v":0},{"$f":"SUM($G16:KE16)-SUM($F30:KE30)","v":0},{"$f":"SUM($G16:KF16)-SUM($F30:KF30)","v":0},{"$f":"SUM($G16:KG16)-SUM($F30:KG30)","v":0},{"$f":"SUM($G16:KH16)-SUM($F30:KH30)","v":0},{"$f":"SUM($G16:KI16)-SUM($F30:KI30)","v":0},{"$f":"SUM($G16:KJ16)-SUM($F30:KJ30)","v":0},{"$f":"SUM($G16:KK16)-SUM($F30:KK30)","v":0},{"$f":"SUM($G16:KL16)-SUM($F30:KL30)","v":0},{"$f":"SUM($G16:KM16)-SUM($F30:KM30)","v":0},{"$f":"SUM($G16:KN16)-SUM($F30:KN30)","v":0},{"$f":"SUM($G16:KO16)-SUM($F30:KO30)","v":0},{"$f":"SUM($G16:KP16)-SUM($F30:KP30)","v":0},{"$f":"SUM($G16:KQ16)-SUM($F30:KQ30)","v":0},{"$f":"SUM($G16:KR16)-SUM($F30:KR30)","v":0},{"$f":"SUM($G16:KS16)-SUM($F30:KS30)","v":0},{"$f":"SUM($G16:KT16)-SUM($F30:KT30)","v":0},{"$f":"SUM($G16:KU16)-SUM($F30:KU30)","v":0},{"$f":"SUM($G16:KV16)-SUM($F30:KV30)","v":0},{"$f":"SUM($G16:KW16)-SUM($F30:KW30)","v":0},{"$f":"SUM($G16:KX16)-SUM($F30:KX30)","v":0},{"$f":"SUM($G16:KY16)-SUM($F30:KY30)","v":0},{"$f":"SUM($G16:KZ16)-SUM($F30:KZ30)","v":0},{"$f":"SUM($G16:LA16)-SUM($F30:LA30)","v":0},{"$f":"SUM($G16:LB16)-SUM($F30:LB30)","v":0},{"$f":"SUM($G16:LC16)-SUM($F30:LC30)","v":0},{"$f":"SUM($G16:LD16)-SUM($F30:LD30)","v":0},{"$f":"SUM($G16:LE16)-SUM($F30:LE30)","v":0},{"$f":"SUM($G16:LF16)-SUM($F30:LF30)","v":0},{"$f":"SUM($G16:LG16)-SUM($F30:LG30)","v":0},{"$f":"SUM($G16:LH16)-SUM($F30:LH30)","v":0},{"$f":"SUM($G16:LI16)-SUM($F30:LI30)","v":0},{"$f":"SUM($G16:LJ16)-SUM($F30:LJ30)","v":0},{"$f":"SUM($G16:LK16)-SUM($F30:LK30)","v":0},{"$f":"SUM($G16:LL16)-SUM($F30:LL30)","v":0},{"$f":"SUM($G16:LM16)-SUM($F30:LM30)","v":0},{"$f":"SUM($G16:LN16)-SUM($F30:LN30)","v":0},{"$f":"SUM($G16:LO16)-SUM($F30:LO30)","v":0},{"$f":"SUM($G16:LP16)-SUM($F30:LP30)","v":0},{"$f":"SUM($G16:LQ16)-SUM($F30:LQ30)","v":0},{"$f":"SUM($G16:LR16)-SUM($F30:LR30)","v":0},{"$f":"SUM($G16:LS16)-SUM($F30:LS30)","v":0},{"$f":"SUM($G16:LT16)-SUM($F30:LT30)","v":0},{"$f":"SUM($G16:LU16)-SUM($F30:LU30)","v":0},{"$f":"SUM($G16:LV16)-SUM($F30:LV30)","v":0},{"$f":"SUM($G16:LW16)-SUM($F30:LW30)","v":0},{"$f":"SUM($G16:LX16)-SUM($F30:LX30)","v":0},{"$f":"SUM($G16:LY16)-SUM($F30:LY30)","v":0},{"$f":"SUM($G16:LZ16)-SUM($F30:LZ30)","v":0},{"$f":"SUM($G16:MA16)-SUM($F30:MA30)","v":0},{"$f":"SUM($G16:MB16)-SUM($F30:MB30)","v":0},{"$f":"SUM($G16:MC16)-SUM($F30:MC30)","v":0},{"$f":"SUM($G16:MD16)-SUM($F30:MD30)","v":0},{"$f":"SUM($G16:ME16)-SUM($F30:ME30)","v":0},{"$f":"SUM($G16:MF16)-SUM($F30:MF30)","v":0},{"$f":"SUM($G16:MG16)-SUM($F30:MG30)","v":0},{"$f":"SUM($G16:MH16)-SUM($F30:MH30)","v":0},{"$f":"SUM($G16:MI16)-SUM($F30:MI30)","v":0},{"$f":"SUM($G16:MJ16)-SUM($F30:MJ30)","v":0},{"$f":"SUM($G16:MK16)-SUM($F30:MK30)","v":0},{"$f":"SUM($G16:ML16)-SUM($F30:ML30)","v":0},{"$f":"SUM($G16:MM16)-SUM($F30:MM30)","v":0},{"$f":"SUM($G16:MN16)-SUM($F30:MN30)","v":0},{"$f":"SUM($G16:MO16)-SUM($F30:MO30)","v":0},{"$f":"SUM($G16:MP16)-SUM($F30:MP30)","v":0},{"$f":"SUM($G16:MQ16)-SUM($F30:MQ30)","v":0},{"$f":"SUM($G16:MR16)-SUM($F30:MR30)","v":0},{"$f":"SUM($G16:MS16)-SUM($F30:MS30)","v":0},{"$f":"SUM($G16:MT16)-SUM($F30:MT30)","v":0},{"$f":"SUM($G16:MU16)-SUM($F30:MU30)","v":0},{"$f":"SUM($G16:MV16)-SUM($F30:MV30)","v":0},{"$f":"SUM($G16:MW16)-SUM($F30:MW30)","v":0},{"$f":"SUM($G16:MX16)-SUM($F30:MX30)","v":0},{"$f":"SUM($G16:MY16)-SUM($F30:MY30)","v":0},{"$f":"SUM($G16:MZ16)-SUM($F30:MZ30)","v":0},{"$f":"SUM($G16:NA16)-SUM($F30:NA30)","v":0},{"$f":"SUM($G16:NB16)-SUM($F30:NB30)","v":0},{"$f":"SUM($G16:NC16)-SUM($F30:NC30)","v":0},{"$f":"SUM($G16:ND16)-SUM($F30:ND30)","v":0},{"$f":"SUM($G16:NE16)-SUM($F30:NE30)","v":0},{"$f":"SUM($G16:NF16)-SUM($F30:NF30)","v":0},{"$f":"SUM($G16:NG16)-SUM($F30:NG30)","v":0},{"$f":"SUM($G16:NH16)-SUM($F30:NH30)","v":0},{"$f":"SUM($G16:NI16)-SUM($F30:NI30)","v":0},{"$f":"SUM($G16:NJ16)-SUM($F30:NJ30)","v":0},{"$f":"SUM($G16:NK16)-SUM($F30:NK30)","v":0},{"$f":"SUM($G16:NL16)-SUM($F30:NL30)","v":0},{"$f":"SUM($G16:NM16)-SUM($F30:NM30)","v":0},{"$f":"SUM($G16:NN16)-SUM($F30:NN30)","v":0},{"$f":"SUM($G16:NO16)-SUM($F30:NO30)","v":0},{"$f":"SUM($G16:NP16)-SUM($F30:NP30)","v":0},{"$f":"SUM($G16:NQ16)-SUM($F30:NQ30)","v":0},{"$f":"SUM($G16:NR16)-SUM($F30:NR30)","v":0},{"$f":"SUM($G16:NS16)-SUM($F30:NS30)","v":0},{"$f":"SUM($G16:NT16)-SUM($F30:NT30)","v":0},{"$f":"SUM($G16:NU16)-SUM($F30:NU30)","v":0},{"$f":"SUM($G16:NV16)-SUM($F30:NV30)","v":0},{"$f":"SUM($G16:NW16)-SUM($F30:NW30)","v":0},{"$f":"SUM($G16:NX16)-SUM($F30:NX30)","v":0},{"$f":"SUM($G16:NY16)-SUM($F30:NY30)","v":0},{"$f":"SUM($G16:NZ16)-SUM($F30:NZ30)","v":0},{"$f":"SUM($G16:OA16)-SUM($F30:OA30)","v":0},{"$f":"SUM($G16:OB16)-SUM($F30:OB30)","v":0},{"$f":"SUM($G16:OC16)-SUM($F30:OC30)","v":0},{"$f":"SUM($G16:OD16)-SUM($F30:OD30)","v":0},{"$f":"SUM($G16:OE16)-SUM($F30:OE30)","v":0},{"$f":"SUM($G16:OF16)-SUM($F30:OF30)","v":0},{"$f":"SUM($G16:OG16)-SUM($F30:OG30)","v":0},{"$f":"SUM($G16:OH16)-SUM($F30:OH30)","v":0},{"$f":"SUM($G16:OI16)-SUM($F30:OI30)","v":0},{"$f":"SUM($G16:OJ16)-SUM($F30:OJ30)","v":0},{"$f":"SUM($G16:OK16)-SUM($F30:OK30)","v":0},{"$f":"SUM($G16:OL16)-SUM($F30:OL30)","v":0},{"$f":"SUM($G16:OM16)-SUM($F30:OM30)","v":0},{"$f":"SUM($G16:ON16)-SUM($F30:ON30)","v":0},{"$f":"SUM($G16:OO16)-SUM($F30:OO30)","v":0},{"$f":"SUM($G16:OP16)-SUM($F30:OP30)","v":0},{"$f":"SUM($G16:OQ16)-SUM($F30:OQ30)","v":0},{"$f":"SUM($G16:OR16)-SUM($F30:OR30)","v":0},{"$f":"SUM($G16:OS16)-SUM($F30:OS30)","v":0},{"$f":"SUM($G16:OT16)-SUM($F30:OT30)","v":0},{"$f":"SUM($G16:OU16)-SUM($F30:OU30)","v":0},{"$f":"SUM($G16:OV16)-SUM($F30:OV30)","v":0},{"$f":"SUM($G16:OW16)-SUM($F30:OW30)","v":0},{"$f":"SUM($G16:OX16)-SUM($F30:OX30)","v":0},{"$f":"SUM($G16:OY16)-SUM($F30:OY30)","v":0},{"$f":"SUM($G16:OZ16)-SUM($F30:OZ30)","v":0},{"$f":"SUM($G16:PA16)-SUM($F30:PA30)","v":0},{"$f":"SUM($G16:PB16)-SUM($F30:PB30)","v":0},{"$f":"SUM($G16:PC16)-SUM($F30:PC30)","v":0},{"$f":"SUM($G16:PD16)-SUM($F30:PD30)","v":0},{"$f":"SUM($G16:PE16)-SUM($F30:PE30)","v":0},{"$f":"SUM($G16:PF16)-SUM($F30:PF30)","v":0},{"$f":"SUM($G16:PG16)-SUM($F30:PG30)","v":0},{"$f":"SUM($G16:PH16)-SUM($F30:PH30)","v":0},{"$f":"SUM($G16:PI16)-SUM($F30:PI30)","v":0},{"$f":"SUM($G16:PJ16)-SUM($F30:PJ30)","v":0},{"$f":"SUM($G16:PK16)-SUM($F30:PK30)","v":0},{"$f":"SUM($G16:PL16)-SUM($F30:PL30)","v":0},{"$f":"SUM($G16:PM16)-SUM($F30:PM30)","v":0},{"$f":"SUM($G16:PN16)-SUM($F30:PN30)","v":0},{"$f":"SUM($G16:PO16)-SUM($F30:PO30)","v":0},{"$f":"SUM($G16:PP16)-SUM($F30:PP30)","v":0},{"$f":"SUM($G16:PQ16)-SUM($F30:PQ30)","v":0},{"$f":"SUM($G16:PR16)-SUM($F30:PR30)","v":0},{"$f":"SUM($G16:PS16)-SUM($F30:PS30)","v":0},{"$f":"SUM($G16:PT16)-SUM($F30:PT30)","v":0},{"$f":"SUM($G16:PU16)-SUM($F30:PU30)","v":0},{"$f":"SUM($G16:PV16)-SUM($F30:PV30)","v":0},{"$f":"SUM($G16:PW16)-SUM($F30:PW30)","v":0},{"$f":"SUM($G16:PX16)-SUM($F30:PX30)","v":0},{"$f":"SUM($G16:PY16)-SUM($F30:PY30)","v":0},{"$f":"SUM($G16:PZ16)-SUM($F30:PZ30)","v":0},{"$f":"SUM($G16:QA16)-SUM($F30:QA30)","v":0},{"$f":"SUM($G16:QB16)-SUM($F30:QB30)","v":0},{"$f":"SUM($G16:QC16)-SUM($F30:QC30)","v":0},{"$f":"SUM($G16:QD16)-SUM($F30:QD30)","v":0},{"$f":"SUM($G16:QE16)-SUM($F30:QE30)","v":0},{"$f":"SUM($G16:QF16)-SUM($F30:QF30)","v":0},{"$f":"SUM($G16:QG16)-SUM($F30:QG30)","v":0},{"$f":"SUM($G16:QH16)-SUM($F30:QH30)","v":0},{"$f":"SUM($G16:QI16)-SUM($F30:QI30)","v":0},{"$f":"SUM($G16:QJ16)-SUM($F30:QJ30)","v":0},{"$f":"SUM($G16:QK16)-SUM($F30:QK30)","v":0},{"$f":"SUM($G16:QL16)-SUM($F30:QL30)","v":0},{"$f":"SUM($G16:QM16)-SUM($F30:QM30)","v":0},{"$f":"SUM($G16:QN16)-SUM($F30:QN30)","v":0},{"$f":"SUM($G16:QO16)-SUM($F30:QO30)","v":0},{"$f":"SUM($G16:QP16)-SUM($F30:QP30)","v":0},{"$f":"SUM($G16:QQ16)-SUM($F30:QQ30)","v":0},{"$f":"SUM($G16:QR16)-SUM($F30:QR30)","v":0},{"$f":"SUM($G16:QS16)-SUM($F30:QS30)","v":0},{"$f":"SUM($G16:QT16)-SUM($F30:QT30)","v":0},{"$f":"SUM($G16:QU16)-SUM($F30:QU30)","v":0},{"$f":"SUM($G16:QV16)-SUM($F30:QV30)","v":0},{"$f":"SUM($G16:QW16)-SUM($F30:QW30)","v":0},{"$f":"SUM($G16:QX16)-SUM($F30:QX30)","v":0},{"$f":"SUM($G16:QY16)-SUM($F30:QY30)","v":0},{"$f":"SUM($G16:QZ16)-SUM($F30:QZ30)","v":0},{"$f":"SUM($G16:RA16)-SUM($F30:RA30)","v":0},{"$f":"SUM($G16:RB16)-SUM($F30:RB30)","v":0},{"$f":"SUM($G16:RC16)-SUM($F30:RC30)","v":0},{"$f":"SUM($G16:RD16)-SUM($F30:RD30)","v":0},{"$f":"SUM($G16:RE16)-SUM($F30:RE30)","v":0},{"$f":"SUM($G16:RF16)-SUM($F30:RF30)","v":0}]
[null,0,0,0,0,null,{"$f":"SUM($G17:G17)-SUM($F31:G31)","v":0},{"$f":"SUM($G17:H17)-SUM($F31:H31)","v":0},{"$f":"SUM($G17:I17)-SUM($F31:I31)","v":0},{"$f":"SUM($G17:J17)-SUM($F31:J31)","v":0},{"$f":"SUM($G17:K17)-SUM($F31:K31)","v":0},{"$f":"SUM($G17:L17)-SUM($F31:L31)","v":0},{"$f":"SUM($G17:M17)-SUM($F31:M31)","v":0},{"$f":"SUM($G17:N17)-SUM($F31:N31)","v":0},{"$f":"SUM($G17:O17)-SUM($F31:O31)","v":0},{"$f":"SUM($G17:P17)-SUM($F31:P31)","v":0},{"$f":"SUM($G17:Q17)-SUM($F31:Q31)","v":0},{"$f":"SUM($G17:R17)-SUM($F31:R31)","v":0},{"$f":"SUM($G17:S17)-SUM($F31:S31)","v":0},{"$f":"SUM($G17:T17)-SUM($F31:T31)","v":0},{"$f":"SUM($G17:U17)-SUM($F31:U31)","v":0},{"$f":"SUM($G17:V17)-SUM($F31:V31)","v":0},{"$f":"SUM($G17:W17)-SUM($F31:W31)","v":0},{"$f":"SUM($G17:X17)-SUM($F31:X31)","v":0},{"$f":"SUM($G17:Y17)-SUM($F31:Y31)","v":0},{"$f":"SUM($G17:Z17)-SUM($F31:Z31)","v":0},{"$f":"SUM($G17:AA17)-SUM($F31:AA31)","v":0},{"$f":"SUM($G17:AB17)-SUM($F31:AB31)","v":0},{"$f":"SUM($G17:AC17)-SUM($F31:AC31)","v":0},{"$f":"SUM($G17:AD17)-SUM($F31:AD31)","v":0},{"$f":"SUM($G17:AE17)-SUM($F31:AE31)","v":0},{"$f":"SUM($G17:AF17)-SUM($F31:AF31)","v":0},{"$f":"SUM($G17:AG17)-SUM($F31:AG31)","v":0},{"$f":"SUM($G17:AH17)-SUM($F31:AH31)","v":0},{"$f":"SUM($G17:AI17)-SUM($F31:AI31)","v":0},{"$f":"SUM($G17:AJ17)-SUM($F31:AJ31)","v":0},{"$f":"SUM($G17:AK17)-SUM($F31:AK31)","v":0},{"$f":"SUM($G17:AL17)-SUM($F31:AL31)","v":0},{"$f":"SUM($G17:AM17)-SUM($F31:AM31)","v":0},{"$f":"SUM($G17:AN17)-SUM($F31:AN31)","v":0},{"$f":"SUM($G17:AO17)-SUM($F31:AO31)","v":0},{"$f":"SUM($G17:AP17)-SUM($F31:AP31)","v":0},{"$f":"SUM($G17:AQ17)-SUM($F31:AQ31)","v":0},{"$f":"SUM($G17:AR17)-SUM($F31:AR31)","v":0},{"$f":"SUM($G17:AS17)-SUM($F31:AS31)","v":0},{"$f":"SUM($G17:AT17)-SUM($F31:AT31)","v":0},{"$f":"SUM($G17:AU17)-SUM($F31:AU31)","v":0},{"$f":"SUM($G17:AV17)-SUM($F31:AV31)","v":0},{"$f":"SUM($G17:AW17)-SUM($F31:AW31)","v":0},{"$f":"SUM($G17:AX17)-SUM($F31:AX31)","v":0},{"$f":"SUM($G17:AY17)-SUM($F31:AY31)","v":0},{"$f":"SUM($G17:AZ17)-SUM($F31:AZ31)","v":0},{"$f":"SUM($G17:BA17)-SUM($F31:BA31)","v":0},{"$f":"SUM($G17:BB17)-SUM($F31:BB31)","v":0},{"$f":"SUM($G17:BC17)-SUM($F31:BC31)","v":0},{"$f":"SUM($G17:BD17)-SUM($F31:BD31)","v":0},{"$f":"SUM($G17:BE17)-SUM($F31:BE31)","v":0},{"$f":"SUM($G17:BF17)-SUM($F31:BF31)","v":0},{"$f":"SUM($G17:BG17)-SUM($F31:BG31)","v":0},{"$f":"SUM($G17:BH17)-SUM($F31:BH31)","v":0},{"$f":"SUM($G17:BI17)-SUM($F31:BI31)","v":0},{"$f":"SUM($G17:BJ17)-SUM($F31:BJ31)","v":0},{"$f":"SUM($G17:BK17)-SUM($F31:BK31)","v":0},{"$f":"SUM($G17:BL17)-SUM($F31:BL31)","v":0},{"$f":"SUM($G17:BM17)-SUM($F31:BM31)","v":0},{"$f":"SUM($G17:BN17)-SUM($F31:BN31)","v":0},{"$f":"SUM($G17:BO17)-SUM($F31:BO31)","v":0},{"$f":"SUM($G17:BP17)-SUM($F31:BP31)","v":0},{"$f":"SUM($G17:BQ17)-SUM($F31:BQ31)","v":0},{"$f":"SUM($G17:BR17)-SUM($F31:BR31)","v":0},{"$f":"SUM($G17:BS17)-SUM($F31:BS31)","v":0},{"$f":"SUM($G17:BT17)-SUM($F31:BT31)","v":0},{"$f":"SUM($G17:BU17)-SUM($F31:BU31)","v":0},{"$f":"SUM($G17:BV17)-SUM($F31:BV31)","v":0},{"$f":"SUM($G17:BW17)-SUM($F31:BW31)","v":0},{"$f":"SUM($G17:BX17)-SUM($F31:BX31)","v":0},{"$f":"SUM($G17:BY17)-SUM($F31:BY31)","v":0},{"$f":"SUM($G17:BZ17)-SUM($F31:BZ31)","v":0},{"$f":"SUM($G17:CA17)-SUM($F31:CA31)","v":0},{"$f":"SUM($G17:CB17)-SUM($F31:CB31)","v":0},{"$f":"SUM($G17:CC17)-SUM($F31:CC31)","v":0},{"$f":"SUM($G17:CD17)-SUM($F31:CD31)","v":0},{"$f":"SUM($G17:CE17)-SUM($F31:CE31)","v":0},{"$f":"SUM($G17:CF17)-SUM($F31:CF31)","v":0},{"$f":"SUM($G17:CG17)-SUM($F31:CG31)","v":0},{"$f":"SUM($G17:CH17)-SUM($F31:CH31)","v":0},{"$f":"SUM($G17:CI17)-SUM($F31:CI31)","v":0},{"$f":"SUM($G17:CJ17)-SUM($F31:CJ31)","v":0},{"$f":"SUM($G17:CK17)-SUM($F31:CK31)","v":0},{"$f":"SUM($G17:CL17)-SUM($F31:CL31)","v":0},{"$f":"SUM($G17:CM17)-SUM($F31:CM31)","v":0},{"$f":"SUM($G17:CN17)-SUM($F31:CN31)","v":0},{"$f":"SUM($G17:CO17)-SUM($F31:CO31)","v":0},{"$f":"SUM($G17:CP17)-SUM($F31:CP31)","v":0},{"$f":"SUM($G17:CQ17)-SUM($F31:CQ31)","v":0},{"$f":"SUM($G17:CR17)-SUM($F31:CR31)","v":0},{"$f":"SUM($G17:CS17)-SUM($F31:CS31)","v":0},{"$f":"SUM($G17:CT17)-SUM($F31:CT31)","v":0},{"$f":"SUM($G17:CU17)-SUM($F31:CU31)","v":0},{"$f":"SUM($G17:CV17)-SUM($F31:CV31)","v":0},{"$f":"SUM($G17:CW17)-SUM($F31:CW31)","v":0},{"$f":"SUM($G17:CX17)-SUM($F31:CX31)","v":0},{"$f":"SUM($G17:CY17)-SUM($F31:CY31)","v":0},{"$f":"SUM($G17:CZ17)-SUM($F31:CZ31)","v":0},{"$f":"SUM($G17:DA17)-SUM($F31:DA31)","v":0},{"$f":"SUM($G17:DB17)-SUM($F31:DB31)","v":0},{"$f":"SUM($G17:DC17)-SUM($F31:DC31)","v":0},{"$f":"SUM($G17:DD17)-SUM($F31:DD31)","v":0},{"$f":"SUM($G17:DE17)-SUM($F31:DE31)","v":0},{"$f":"SUM($G17:DF17)-SUM($F31:DF31)","v":0},{"$f":"SUM($G17:DG17)-SUM($F31:DG31)","v":0},{"$f":"SUM($G17:DH17)-SUM($F31:DH31)","v":0},{"$f":"SUM($G17:DI17)-SUM($F31:DI31)","v":0},{"$f":"SUM($G17:DJ17)-SUM($F31:DJ31)","v":0},{"$f":"SUM($G17:DK17)-SUM($F31:DK31)","v":0},{"$f":"SUM($G17:DL17)-SUM($F31:DL31)","v":0},{"$f":"SUM($G17:DM17)-SUM($F31:DM31)","v":0},{"$f":"SUM($G17:DN17)-SUM($F31:DN31)","v":0},{"$f":"SUM($G17:DO17)-SUM($F31:DO31)","v":0},{"$f":"SUM($G17:DP17)-SUM($F31:DP31)","v":0},{"$f":"SUM($G17:DQ17)-SUM($F31:DQ31)","v":0},{"$f":"SUM($G17:DR17)-SUM($F31:DR31)","v":0},{"$f":"SUM($G17:DS17)-SUM($F31:DS31)","v":0},{"$f":"SUM($G17:DT17)-SUM($F31:DT31)","v":0},{"$f":"SUM($G17:DU17)-SUM($F31:DU31)","v":0},{"$f":"SUM($G17:DV17)-SUM($F31:DV31)","v":0},{"$f":"SUM($G17:DW17)-SUM($F31:DW31)","v":0},{"$f":"SUM($G17:DX17)-SUM($F31:DX31)","v":0},{"$f":"SUM($G17:DY17)-SUM($F31:DY31)","v":0},{"$f":"SUM($G17:DZ17)-SUM($F31:DZ31)","v":0},{"$f":"SUM($G17:EA17)-SUM($F31:EA31)","v":0},{"$f":"SUM($G17:EB17)-SUM($F31:EB31)","v":0},{"$f":"SUM($G17:EC17)-SUM($F31:EC31)","v":0},{"$f":"SUM($G17:ED17)-SUM($F31:ED31)","v":0},{"$f":"SUM($G17:EE17)-SUM($F31:EE31)","v":0},{"$f":"SUM($G17:EF17)-SUM($F31:EF31)","v":0},{"$f":"SUM($G17:EG17)-SUM($F31:EG31)","v":0},{"$f":"SUM($G17:EH17)-SUM($F31:EH31)","v":0},{"$f":"SUM($G17:EI17)-SUM($F31:EI31)","v":0},{"$f":"SUM($G17:EJ17)-SUM($F31:EJ31)","v":0},{"$f":"SUM($G17:EK17)-SUM($F31:EK31)","v":0},{"$f":"SUM($G17:EL17)-SUM($F31:EL31)","v":0},{"$f":"SUM($G17:EM17)-SUM($F31:EM31)","v":0},{"$f":"SUM($G17:EN17)-SUM($F31:EN31)","v":0},{"$f":"SUM($G17:EO17)-SUM($F31:EO31)","v":0},{"$f":"SUM($G17:EP17)-SUM($F31:EP31)","v":0},{"$f":"SUM($G17:EQ17)-SUM($F31:EQ31)","v":0},{"$f":"SUM($G17:ER17)-SUM($F31:ER31)","v":0},{"$f":"SUM($G17:ES17)-SUM($F31:ES31)","v":0},{"$f":"SUM($G17:ET17)-SUM($F31:ET31)","v":0},{"$f":"SUM($G17:EU17)-SUM($F31:EU31)","v":0},{"$f":"SUM($G17:EV17)-SUM($F31:EV31)","v":0},{"$f":"SUM($G17:EW17)-SUM($F31:EW31)","v":0},{"$f":"SUM($G17:EX17)-SUM($F31:EX31)","v":0},{"$f":"SUM($G17:EY17)-SUM($F31:EY31)","v":0},{"$f":"SUM($G17:EZ17)-SUM($F31:EZ31)","v":0},{"$f":"SUM($G17:FA17)-SUM($F31:FA31)","v":0},{"$f":"SUM($G17:FB17)-SUM($F31:FB31)","v":0},{"$f":"SUM($G17:FC17)-SUM($F31:FC31)","v":0},{"$f":"SUM($G17:FD17)-SUM($F31:FD31)","v":0},{"$f":"SUM($G17:FE17)-SUM($F31:FE31)","v":0},{"$f":"SUM($G17:FF17)-SUM($F31:FF31)","v":0},{"$f":"SUM($G17:FG17)-SUM($F31:FG31)","v":0},{"$f":"SUM($G17:FH17)-SUM($F31:FH31)","v":0},{"$f":"SUM($G17:FI17)-SUM($F31:FI31)","v":0},{"$f":"SUM($G17:FJ17)-SUM($F31:FJ31)","v":0},{"$f":"SUM($G17:FK17)-SUM($F31:FK31)","v":0},{"$f":"SUM($G17:FL17)-SUM($F31:FL31)","v":0},{"$f":"SUM($G17:FM17)-SUM($F31:FM31)","v":0},{"$f":"SUM($G17:FN17)-SUM($F31:FN31)","v":0},{"$f":"SUM($G17:FO17)-SUM($F31:FO31)","v":0},{"$f":"SUM($G17:FP17)-SUM($F31:FP31)","v":0},{"$f":"SUM($G17:FQ17)-SUM($F31:FQ31)","v":0},{"$f":"SUM($G17:FR17)-SUM($F31:FR31)","v":0},{"$f":"SUM($G17:FS17)-SUM($F31:FS31)","v":0},{"$f":"SUM($G17:FT17)-SUM($F31:FT31)","v":0},{"$f":"SUM($G17:FU17)-SUM($F31:FU31)","v":0},{"$f":"SUM($G17:FV17)-SUM($F31:FV31)","v":0},{"$f":"SUM($G17:FW17)-SUM($F31:FW31)","v":0},{"$f":"SUM($G17:FX17)-SUM($F31:FX31)","v":0},{"$f":"SUM($G17:FY17)-SUM($F31:FY31)","v":0},{"$f":"SUM($G17:FZ17)-SUM($F31:FZ31)","v":0},{"$f":"SUM($G17:GA17)-SUM($F31:GA31)","v":0},{"$f":"SUM($G17:GB17)-SUM($F31:GB31)","v":0},{"$f":"SUM($G17:GC17)-SUM($F31:GC31)","v":0},{"$f":"SUM($G17:GD17)-SUM($F31:GD31)","v":0},{"$f":"SUM($G17:GE17)-SUM($F31:GE31)","v":0},{"$f":"SUM($G17:GF17)-SUM($F31:GF31)","v":0},{"$f":"SUM($G17:GG17)-SUM($F31:GG31)","v":0},{"$f":"SUM($G17:GH17)-SUM($F31:GH31)","v":0},{"$f":"SUM($G17:GI17)-SUM($F31:GI31)","v":0},{"$f":"SUM($G17:GJ17)-SUM($F31:GJ31)","v":0},{"$f":"SUM($G17:GK17)-SUM($F31:GK31)","v":0},{"$f":"SUM($G17:GL17)-SUM($F31:GL31)","v":0},{"$f":"SUM($G17:GM17)-SUM($F31:GM31)","v":0},{"$f":"SUM($G17:GN17)-SUM($F31:GN31)","v":0},{"$f":"SUM($G17:GO17)-SUM($F31:GO31)","v":0},{"$f":"SUM($G17:GP17)-SUM($F31:GP31)","v":0},{"$f":"SUM($G17:GQ17)-SUM($F31:GQ31)","v":0},{"$f":"SUM($G17:GR17)-SUM($F31:GR31)","v":0},{"$f":"SUM($G17:GS17)-SUM($F31:GS31)","v":0},{"$f":"SUM($G17:GT17)-SUM($F31:GT31)","v":0},{"$f":"SUM($G17:GU17)-SUM($F31:GU31)","v":0},{"$f":"SUM($G17:GV17)-SUM($F31:GV31)","v":0},{"$f":"SUM($G17:GW17)-SUM($F31:GW31)","v":0},{"$f":"SUM($G17:GX17)-SUM($F31:GX31)","v":0},{"$f":"SUM($G17:GY17)-SUM($F31:GY31)","v":0},{"$f":"SUM($G17:GZ17)-SUM($F31:GZ31)","v":0},{"$f":"SUM($G17:HA17)-SUM($F31:HA31)","v":0},{"$f":"SUM($G17:HB17)-SUM($F31:HB31)","v":0},{"$f":"SUM($G17:HC17)-SUM($F31:HC31)","v":0},{"$f":"SUM($G17:HD17)-SUM($F31:HD31)","v":0},{"$f":"SUM($G17:HE17)-SUM($F31:HE31)","v":0},{"$f":"SUM($G17:HF17)-SUM($F31:HF31)","v":0},{"$f":"SUM($G17:HG17)-SUM($F31:HG31)","v":0},{"$f":"SUM($G17:HH17)-SUM($F31:HH31)","v":0},{"$f":"SUM($G17:HI17)-SUM($F31:HI31)","v":0},{"$f":"SUM($G17:HJ17)-SUM($F31:HJ31)","v":0},{"$f":"SUM($G17:HK17)-SUM($F31:HK31)","v":0},{"$f":"SUM($G17:HL17)-SUM($F31:HL31)","v":0},{"$f":"SUM($G17:HM17)-SUM($F31:HM31)","v":0},{"$f":"SUM($G17:HN17)-SUM($F31:HN31)","v":0},{"$f":"SUM($G17:HO17)-SUM($F31:HO31)","v":0},{"$f":"SUM($G17:HP17)-SUM($F31:HP31)","v":0},{"$f":"SUM($G17:HQ17)-SUM($F31:HQ31)","v":0},{"$f":"SUM($G17:HR17)-SUM($F31:HR31)","v":0},{"$f":"SUM($G17:HS17)-SUM($F31:HS31)","v":0},{"$f":"SUM($G17:HT17)-SUM($F31:HT31)","v":0},{"$f":"SUM($G17:HU17)-SUM($F31:HU31)","v":0},{"$f":"SUM($G17:HV17)-SUM($F31:HV31)","v":0},{"$f":"SUM($G17:HW17)-SUM($F31:HW31)","v":0},{"$f":"SUM($G17:HX17)-SUM($F31:HX31)","v":0},{"$f":"SUM($G17:HY17)-SUM($F31:HY31)","v":0},{"$f":"SUM($G17:HZ17)-SUM($F31:HZ31)","v":0},{"$f":"SUM($G17:IA17)-SUM($F31:IA31)","v":0},{"$f":"SUM($G17:IB17)-SUM($F31:IB31)","v":0},{"$f":"SUM($G17:IC17)-SUM($F31:IC31)","v":0},{"$f":"SUM($G17:ID17)-SUM($F31:ID31)","v":0},{"$f":"SUM($G17:IE17)-SUM($F31:IE31)","v":0},{"$f":"SUM($G17:IF17)-SUM($F31:IF31)","v":0},{"$f":"SUM($G17:IG17)-SUM($F31:IG31)","v":0},{"$f":"SUM($G17:IH17)-SUM($F31:IH31)","v":0},{"$f":"SUM($G17:II17)-SUM($F31:II31)","v":0},{"$f":"SUM($G17:IJ17)-SUM($F31:IJ31)","v":0},{"$f":"SUM($G17:IK17)-SUM($F31:IK31)","v":0},{"$f":"SUM($G17:IL17)-SUM($F31:IL31)","v":0},{"$f":"SUM($G17:IM17)-SUM($F31:IM31)","v":0},{"$f":"SUM($G17:IN17)-SUM($F31:IN31)","v":0},{"$f":"SUM($G17:IO17)-SUM($F31:IO31)","v":0},{"$f":"SUM($G17:IP17)-SUM($F31:IP31)","v":0},{"$f":"SUM($G17:IQ17)-SUM($F31:IQ31)","v":0},{"$f":"SUM($G17:IR17)-SUM($F31:IR31)","v":0},{"$f":"SUM($G17:IS17)-SUM($F31:IS31)","v":0},{"$f":"SUM($G17:IT17)-SUM($F31:IT31)","v":0},{"$f":"SUM($G17:IU17)-SUM($F31:IU31)","v":0},{"$f":"SUM($G17:IV17)-SUM($F31:IV31)","v":0},{"$f":"SUM($G17:IW17)-SUM($F31:IW31)","v":0},{"$f":"SUM($G17:IX17)-SUM($F31:IX31)","v":0},{"$f":"SUM($G17:IY17)-SUM($F31:IY31)","v":0},{"$f":"SUM($G17:IZ17)-SUM($F31:IZ31)","v":0},{"$f":"SUM($G17:JA17)-SUM($F31:JA31)","v":0},{"$f":"SUM($G17:JB17)-SUM($F31:JB31)","v":0},{"$f":"SUM($G17:JC17)-SUM($F31:JC31)","v":0},{"$f":"SUM($G17:JD17)-SUM($F31:JD31)","v":0},{"$f":"SUM($G17:JE17)-SUM($F31:JE31)","v":0},{"$f":"SUM($G17:JF17)-SUM($F31:JF31)","v":0},{"$f":"SUM($G17:JG17)-SUM($F31:JG31)","v":0},{"$f":"SUM($G17:JH17)-SUM($F31:JH31)","v":0},{"$f":"SUM($G17:JI17)-SUM($F31:JI31)","v":0},{"$f":"SUM($G17:JJ17)-SUM($F31:JJ31)","v":0},{"$f":"SUM($G17:JK17)-SUM($F31:JK31)","v":0},{"$f":"SUM($G17:JL17)-SUM($F31:JL31)","v":0},{"$f":"SUM($G17:JM17)-SUM($F31:JM31)","v":0},{"$f":"SUM($G17:JN17)-SUM($F31:JN31)","v":0},{"$f":"SUM($G17:JO17)-SUM($F31:JO31)","v":0},{"$f":"SUM($G17:JP17)-SUM($F31:JP31)","v":0},{"$f":"SUM($G17:JQ17)-SUM($F31:JQ31)","v":0},{"$f":"SUM($G17:JR17)-SUM($F31:JR31)","v":0},{"$f":"SUM($G17:JS17)-SUM($F31:JS31)","v":0},{"$f":"SUM($G17:JT17)-SUM($F31:JT31)","v":0},{"$f":"SUM($G17:JU17)-SUM($F31:JU31)","v":0},{"$f":"SUM($G17:JV17)-SUM($F31:JV31)","v":0},{"$f":"SUM($G17:JW17)-SUM($F31:JW31)","v":0},{"$f":"SUM($G17:JX17)-SUM($F31:JX31)","v":0},{"$f":"SUM($G17:JY17)-SUM($F31:JY31)","v":0},{"$f":"SUM($G17:JZ17)-SUM($F31:JZ31)","v":0},{"$f":"SUM($G17:KA17)-SUM($F31:KA31)","v":0},{"$f":"SUM($G17:KB17)-SUM($F31:KB31)","v":0},{"$f":"SUM($G17:KC17)-SUM($F31:KC31)","v":0},{"$f":"SUM($G17:KD17)-SUM($F31:KD31)","v":0},{"$f":"SUM($G17:KE17)-SUM($F31:KE31)","v":0},{"$f":"SUM($G17:KF17)-SUM($F31:KF31)","v":0},{"$f":"SUM($G17:KG17)-SUM($F31:KG31)","v":0},{"$f":"SUM($G17:KH17)-SUM($F31:KH31)","v":0},{"$f":"SUM($G17:KI17)-SUM($F31:KI31)","v":0},{"$f":"SUM($G17:KJ17)-SUM($F31:KJ31)","v":0},{"$f":"SUM($G17:KK17)-SUM($F31:KK31)","v":0},{"$f":"SUM($G17:KL17)-SUM($F31:KL31)","v":0},{"$f":"SUM($G17:KM17)-SUM($F31:KM31)","v":0},{"$f":"SUM($G17:KN17)-SUM($F31:KN31)","v":0},{"$f":"SUM($G17:KO17)-SUM($F31:KO31)","v":0},{"$f":"SUM($G17:KP17)-SUM($F31:KP31)","v":0},{"$f":"SUM($G17:KQ17)-SUM($F31:KQ31)","v":0},{"$f":"SUM($G17:KR17)-SUM($F31:KR31)","v":0},{"$f":"SUM($G17:KS17)-SUM($F31:KS31)","v":0},{"$f":"SUM($G17:KT17)-SUM($F31:KT31)","v":0},{"$f":"SUM($G17:KU17)-SUM($F31:KU31)","v":0},{"$f":"SUM($G17:KV17)-SUM($F31:KV31)","v":0},{"$f":"SUM($G17:KW17)-SUM($F31:KW31)","v":0},{"$f":"SUM($G17:KX17)-SUM($F31:KX31)","v":0},{"$f":"SUM($G17:KY17)-SUM($F31:KY31)","v":0},{"$f":"SUM($G17:KZ17)-SUM($F31:KZ31)","v":0},{"$f":"SUM($G17:LA17)-SUM($F31:LA31)","v":0},{"$f":"SUM($G17:LB17)-SUM($F31:LB31)","v":0},{"$f":"SUM($G17:LC17)-SUM($F31:LC31)","v":0},{"$f":"SUM($G17:LD17)-SUM($F31:LD31)","v":0},{"$f":"SUM($G17:LE17)-SUM($F31:LE31)","v":0},{"$f":"SUM($G17:LF17)-SUM($F31:LF31)","v":0},{"$f":"SUM($G17:LG17)-SUM($F31:LG31)","v":0},{"$f":"SUM($G17:LH17)-SUM($F31:LH31)","v":0},{"$f":"SUM($G17:LI17)-SUM($F31:LI31)","v":0},{"$f":"SUM($G17:LJ17)-SUM($F31:LJ31)","v":0},{"$f":"SUM($G17:LK17)-SUM($F31:LK31)","v":0},{"$f":"SUM($G17:LL17)-SUM($F31:LL31)","v":0},{"$f":"SUM($G17:LM17)-SUM($F31:LM31)","v":0},{"$f":"SUM($G17:LN17)-SUM($F31:LN31)","v":0},{"$f":"SUM($G17:LO17)-SUM($F31:LO31)","v":0},{"$f":"SUM($G17:LP17)-SUM($F31:LP31)","v":0},{"$f":"SUM($G17:LQ17)-SUM($F31:LQ31)","v":0},{"$f":"SUM($G17:LR17)-SUM($F31:LR31)","v":0},{"$f":"SUM($G17:LS17)-SUM($F31:LS31)","v":0},{"$f":"SUM($G17:LT17)-SUM($F31:LT31)","v":0},{"$f":"SUM($G17:LU17)-SUM($F31:LU31)","v":0},{"$f":"SUM($G17:LV17)-SUM($F31:LV31)","v":0},{"$f":"SUM($G17:LW17)-SUM($F31:LW31)","v":0},{"$f":"SUM($G17:LX17)-SUM($F31:LX31)","v":0},{"$f":"SUM($G17:LY17)-SUM($F31:LY31)","v":0},{"$f":"SUM($G17:LZ17)-SUM($F31:LZ31)","v":0},{"$f":"SUM($G17:MA17)-SUM($F31:MA31)","v":0},{"$f":"SUM($G17:MB17)-SUM($F31:MB31)","v":0},{"$f":"SUM($G17:MC17)-SUM($F31:MC31)","v":0},{"$f":"SUM($G17:MD17)-SUM($F31:MD31)","v":0},{"$f":"SUM($G17:ME17)-SUM($F31:ME31)","v":0},{"$f":"SUM($G17:MF17)-SUM($F31:MF31)","v":0},{"$f":"SUM($G17:MG17)-SUM($F31:MG31)","v":0},{"$f":"SUM($G17:MH17)-SUM($F31:MH31)","v":0},{"$f":"SUM($G17:MI17)-SUM($F31:MI31)","v":0},{"$f":"SUM($G17:MJ17)-SUM($F31:MJ31)","v":0},{"$f":"SUM($G17:MK17)-SUM($F31:MK31)","v":0},{"$f":"SUM($G17:ML17)-SUM($F31:ML31)","v":0},{"$f":"SUM($G17:MM17)-SUM($F31:MM31)","v":0},{"$f":"SUM($G17:MN17)-SUM($F31:MN31)","v":0},{"$f":"SUM($G17:MO17)-SUM($F31:MO31)","v":0},{"$f":"SUM($G17:MP17)-SUM($F31:MP31)","v":0},{"$f":"SUM($G17:MQ17)-SUM($F31:MQ31)","v":0},{"$f":"SUM($G17:MR17)-SUM($F31:MR31)","v":0},{"$f":"SUM($G17:MS17)-SUM($F31:MS31)","v":0},{"$f":"SUM($G17:MT17)-SUM($F31:MT31)","v":0},{"$f":"SUM($G17:MU17)-SUM($F31:MU31)","v":0},{"$f":"SUM($G17:MV17)-SUM($F31:MV31)","v":0},{"$f":"SUM($G17:MW17)-SUM($F31:MW31)","v":0},{"$f":"SUM($G17:MX17)-SUM($F31:MX31)","v":0},{"$f":"SUM($G17:MY17)-SUM($F31:MY31)","v":0},{"$f":"SUM($G17:MZ17)-SUM($F31:MZ31)","v":0},{"$f":"SUM($G17:NA17)-SUM($F31:NA31)","v":0},{"$f":"SUM($G17:NB17)-SUM($F31:NB31)","v":0},{"$f":"SUM($G17:NC17)-SUM($F31:NC31)","v":0},{"$f":"SUM($G17:ND17)-SUM($F31:ND31)","v":0},{"$f":"SUM($G17:NE17)-SUM($F31:NE31)","v":0},{"$f":"SUM($G17:NF17)-SUM($F31:NF31)","v":0},{"$f":"SUM($G17:NG17)-SUM($F31:NG31)","v":0},{"$f":"SUM($G17:NH17)-SUM($F31:NH31)","v":0},{"$f":"SUM($G17:NI17)-SUM($F31:NI31)","v":0},{"$f":"SUM($G17:NJ17)-SUM($F31:NJ31)","v":0},{"$f":"SUM($G17:NK17)-SUM($F31:NK31)","v":0},{"$f":"SUM($G17:NL17)-SUM($F31:NL31)","v":0},{"$f":"SUM($G17:NM17)-SUM($F31:NM31)","v":0},{"$f":"SUM($G17:NN17)-SUM($F31:NN31)","v":0},{"$f":"SUM($G17:NO17)-SUM($F31:NO31)","v":0},{"$f":"SUM($G17:NP17)-SUM($F31:NP31)","v":0},{"$f":"SUM($G17:NQ17)-SUM($F31:NQ31)","v":0},{"$f":"SUM($G17:NR17)-SUM($F31:NR31)","v":0},{"$f":"SUM($G17:NS17)-SUM($F31:NS31)","v":0},{"$f":"SUM($G17:NT17)-SUM($F31:NT31)","v":0},{"$f":"SUM($G17:NU17)-SUM($F31:NU31)","v":0},{"$f":"SUM($G17:NV17)-SUM($F31:NV31)","v":0},{"$f":"SUM($G17:NW17)-SUM($F31:NW31)","v":0},{"$f":"SUM($G17:NX17)-SUM($F31:NX31)","v":0},{"$f":"SUM($G17:NY17)-SUM($F31:NY31)","v":0},{"$f":"SUM($G17:NZ17)-SUM($F31:NZ31)","v":0},{"$f":"SUM($G17:OA17)-SUM($F31:OA31)","v":0},{"$f":"SUM($G17:OB17)-SUM($F31:OB31)","v":0},{"$f":"SUM($G17:OC17)-SUM($F31:OC31)","v":0},{"$f":"SUM($G17:OD17)-SUM($F31:OD31)","v":0},{"$f":"SUM($G17:OE17)-SUM($F31:OE31)","v":0},{"$f":"SUM($G17:OF17)-SUM($F31:OF31)","v":0},{"$f":"SUM($G17:OG17)-SUM($F31:OG31)","v":0},{"$f":"SUM($G17:OH17)-SUM($F31:OH31)","v":0},{"$f":"SUM($G17:OI17)-SUM($F31:OI31)","v":0},{"$f":"SUM($G17:OJ17)-SUM($F31:OJ31)","v":0},{"$f":"SUM($G17:OK17)-SUM($F31:OK31)","v":0},{"$f":"SUM($G17:OL17)-SUM($F31:OL31)","v":0},{"$f":"SUM($G17:OM17)-SUM($F31:OM31)","v":0},{"$f":"SUM($G17:ON17)-SUM($F31:ON31)","v":0},{"$f":"SUM($G17:OO17)-SUM($F31:OO31)","v":0},{"$f":"SUM($G17:OP17)-SUM($F31:OP31)","v":0},{"$f":"SUM($G17:OQ17)-SUM($F31:OQ31)","v":0},{"$f":"SUM($G17:OR17)-SUM($F31:OR31)","v":0},{"$f":"SUM($G17:OS17)-SUM($F31:OS31)","v":0},{"$f":"SUM($G17:OT17)-SUM($F31:OT31)","v":0},{"$f":"SUM($G17:OU17)-SUM($F31:OU31)","v":0},{"$f":"SUM($G17:OV17)-SUM($F31:OV31)","v":0},{"$f":"SUM($G17:OW17)-SUM($F31:OW31)","v":0},{"$f":"SUM($G17:OX17)-SUM($F31:OX31)","v":0},{"$f":"SUM($G17:OY17)-SUM($F31:OY31)","v":0},{"$f":"SUM($G17:OZ17)-SUM($F31:OZ31)","v":0},{"$f":"SUM($G17:PA17)-SUM($F31:PA31)","v":0},{"$f":"SUM($G17:PB17)-SUM($F31:PB31)","v":0},{"$f":"SUM($G17:PC17)-SUM($F31:PC31)","v":0},{"$f":"SUM($G17:PD17)-SUM($F31:PD31)","v":0},{"$f":"SUM($G17:PE17)-SUM($F31:PE31)","v":0},{"$f":"SUM($G17:PF17)-SUM($F31:PF31)","v":0},{"$f":"SUM($G17:PG17)-SUM($F31:PG31)","v":0},{"$f":"SUM($G17:PH17)-SUM($F31:PH31)","v":0},{"$f":"SUM($G17:PI17)-SUM($F31:PI31)","v":0},{"$f":"SUM($G17:PJ17)-SUM($F31:PJ31)","v":0},{"$f":"SUM($G17:PK17)-SUM($F31:PK31)","v":0},{"$f":"SUM($G17:PL17)-SUM($F31:PL31)","v":0},{"$f":"SUM($G17:PM17)-SUM($F31:PM31)","v":0},{"$f":"SUM($G17:PN17)-SUM($F31:PN31)","v":0},{"$f":"SUM($G17:PO17)-SUM($F31:PO31)","v":0},{"$f":"SUM($G17:PP17)-SUM($F31:PP31)","v":0},{"$f":"SUM($G17:PQ17)-SUM($F31:PQ31)","v":0},{"$f":"SUM($G17:PR17)-SUM($F31:PR31)","v":0},{"$f":"SUM($G17:PS17)-SUM($F31:PS31)","v":0},{"$f":"SUM($G17:PT17)-SUM($F31:PT31)","v":0},{"$f":"SUM($G17:PU17)-SUM($F31:PU31)","v":0},{"$f":"SUM($G17:PV17)-SUM($F31:PV31)","v":0},{"$f":"SUM($G17:PW17)-SUM($F31:PW31)","v":0},{"$f":"SUM($G17:PX17)-SUM($F31:PX31)","v":0},{"$f":"SUM($G17:PY17)-SUM($F31:PY31)","v":0},{"$f":"SUM($G17:PZ17)-SUM($F31:PZ31)","v":0},{"$f":"SUM($G17:QA17)-SUM($F31:QA31)","v":0},{"$f":"SUM($G17:QB17)-SUM($F31:QB31)","v":0},{"$f":"SUM($G17:QC17)-SUM($F31:QC31)","v":0},{"$f":"SUM($G17:QD17)-SUM($F31:QD31)","v":0},{"$f":"SUM($G17:QE17)-SUM($F31:QE31)","v":0},{"$f":"SUM($G17:QF17)-SUM($F31:QF31)","v":0},{"$f":"SUM($G17:QG17)-SUM($F31:QG31)","v":0},{"$f":"SUM($G17:QH17)-SUM($F31:QH31)","v":0},{"$f":"SUM($G17:QI17)-SUM($F31:QI31)","v":0},{"$f":"SUM($G17:QJ17)-SUM($F31:QJ31)","v":0},{"$f":"SUM($G17:QK17)-SUM($F31:QK31)","v":0},{"$f":"SUM($G17:QL17)-SUM($F31:QL31)","v":0},{"$f":"SUM($G17:QM17)-SUM($F31:QM31)","v":0},{"$f":"SUM($G17:QN17)-SUM($F31:QN31)","v":0},{"$f":"SUM($G17:QO17)-SUM($F31:QO31)","v":0},{"$f":"SUM($G17:QP17)-SUM($F31:QP31)","v":0},{"$f":"SUM($G17:QQ17)-SUM($F31:QQ31)","v":0},{"$f":"SUM($G17:QR17)-SUM($F31:QR31)","v":0},{"$f":"SUM($G17:QS17)-SUM($F31:QS31)","v":0},{"$f":"SUM($G17:QT17)-SUM($F31:QT31)","v":0},{"$f":"SUM($G17:QU17)-SUM($F31:QU31)","v":0},{"$f":"SUM($G17:QV17)-SUM($F31:QV31)","v":0},{"$f":"SUM($G17:QW17)-SUM($F31:QW31)","v":0},{"$f":"SUM($G17:QX17)-SUM($F31:QX31)","v":0},{"$f":"SUM($G17:QY17)-SUM($F31:QY31)","v":0},{"$f":"SUM($G17:QZ17)-SUM($F31:QZ31)","v":0},{"$f":"SUM($G17:RA17)-SUM($F31:RA31)","v":0},{"$f":"SUM($G17:RB17)-SUM($F31:RB31)","v":0},{"$f":"SUM($G17:RC17)-SUM($F31:RC31)","v":0},{"$f":"SUM($G17:RD17)-SUM($F31:RD31)","v":0},{"$f":"SUM($G17:RE17)-SUM($F31:RE31)","v":0},{"$f":"SUM($G17:RF17)-SUM($F31:RF31)","v":0}]
[null,0,0,0,0,null,{"$f":"SUM($G18:G18)-SUM($F32:G32)","v":0},{"$f":"SUM($G18:H18)-SUM($F32:H32)","v":0},{"$f":"SUM($G18:I18)-SUM($F32:I32)","v":0},{"$f":"SUM($G18:J18)-SUM($F32:J32)","v":0},{"$f":"SUM($G18:K18)-SUM($F32:K32)","v":0},{"$f":"SUM($G18:L18)-SUM($F32:L32)","v":0},{"$f":"SUM($G18:M18)-SUM($F32:M32)","v":0},{"$f":"SUM($G18:N18)-SUM($F32:N32)","v":0},{"$f":"SUM($G18:O18)-SUM($F32:O32)","v":0},{"$f":"SUM($G18:P18)-SUM($F32:P32)","v":0},{"$f":"SUM($G18:Q18)-SUM($F32:Q32)","v":0},{"$f":"SUM($G18:R18)-SUM($F32:R32)","v":0},{"$f":"SUM($G18:S18)-SUM($F32:S32)","v":0},{"$f":"SUM($G18:T18)-SUM($F32:T32)","v":0},{"$f":"SUM($G18:U18)-SUM($F32:U32)","v":0},{"$f":"SUM($G18:V18)-SUM($F32:V32)","v":0},{"$f":"SUM($G18:W18)-SUM($F32:W32)","v":0},{"$f":"SUM($G18:X18)-SUM($F32:X32)","v":0},{"$f":"SUM($G18:Y18)-SUM($F32:Y32)","v":0},{"$f":"SUM($G18:Z18)-SUM($F32:Z32)","v":0},{"$f":"SUM($G18:AA18)-SUM($F32:AA32)","v":0},{"$f":"SUM($G18:AB18)-SUM($F32:AB32)","v":0},{"$f":"SUM($G18:AC18)-SUM($F32:AC32)","v":0},{"$f":"SUM($G18:AD18)-SUM($F32:AD32)","v":0},{"$f":"SUM($G18:AE18)-SUM($F32:AE32)","v":0},{"$f":"SUM($G18:AF18)-SUM($F32:AF32)","v":0},{"$f":"SUM($G18:AG18)-SUM($F32:AG32)","v":0},{"$f":"SUM($G18:AH18)-SUM($F32:AH32)","v":0},{"$f":"SUM($G18:AI18)-SUM($F32:AI32)","v":0},{"$f":"SUM($G18:AJ18)-SUM($F32:AJ32)","v":0},{"$f":"SUM($G18:AK18)-SUM($F32:AK32)","v":0},{"$f":"SUM($G18:AL18)-SUM($F32:AL32)","v":0},{"$f":"SUM($G18:AM18)-SUM($F32:AM32)","v":0},{"$f":"SUM($G18:AN18)-SUM($F32:AN32)","v":0},{"$f":"SUM($G18:AO18)-SUM($F32:AO32)","v":0},{"$f":"SUM($G18:AP18)-SUM($F32:AP32)","v":0},{"$f":"SUM($G18:AQ18)-SUM($F32:AQ32)","v":0},{"$f":"SUM($G18:AR18)-SUM($F32:AR32)","v":0},{"$f":"SUM($G18:AS18)-SUM($F32:AS32)","v":0},{"$f":"SUM($G18:AT18)-SUM($F32:AT32)","v":0},{"$f":"SUM($G18:AU18)-SUM($F32:AU32)","v":0},{"$f":"SUM($G18:AV18)-SUM($F32:AV32)","v":0},{"$f":"SUM($G18:AW18)-SUM($F32:AW32)","v":0},{"$f":"SUM($G18:AX18)-SUM($F32:AX32)","v":0},{"$f":"SUM($G18:AY18)-SUM($F32:AY32)","v":0},{"$f":"SUM($G18:AZ18)-SUM($F32:AZ32)","v":0},{"$f":"SUM($G18:BA18)-SUM($F32:BA32)","v":0},{"$f":"SUM($G18:BB18)-SUM($F32:BB32)","v":0},{"$f":"SUM($G18:BC18)-SUM($F32:BC32)","v":0},{"$f":"SUM($G18:BD18)-SUM($F32:BD32)","v":0},{"$f":"SUM($G18:BE18)-SUM($F32:BE32)","v":0},{"$f":"SUM($G18:BF18)-SUM($F32:BF32)","v":0},{"$f":"SUM($G18:BG18)-SUM($F32:BG32)","v":0},{"$f":"SUM($G18:BH18)-SUM($F32:BH32)","v":0},{"$f":"SUM($G18:BI18)-SUM($F32:BI32)","v":0},{"$f":"SUM($G18:BJ18)-SUM($F32:BJ32)","v":0},{"$f":"SUM($G18:BK18)-SUM($F32:BK32)","v":0},{"$f":"SUM($G18:BL18)-SUM($F32:BL32)","v":0},{"$f":"SUM($G18:BM18)-SUM($F32:BM32)","v":0},{"$f":"SUM($G18:BN18)-SUM($F32:BN32)","v":0},{"$f":"SUM($G18:BO18)-SUM($F32:BO32)","v":0},{"$f":"SUM($G18:BP18)-SUM($F32:BP32)","v":0},{"$f":"SUM($G18:BQ18)-SUM($F32:BQ32)","v":0},{"$f":"SUM($G18:BR18)-SUM($F32:BR32)","v":0},{"$f":"SUM($G18:BS18)-SUM($F32:BS32)","v":0},{"$f":"SUM($G18:BT18)-SUM($F32:BT32)","v":0},{"$f":"SUM($G18:BU18)-SUM($F32:BU32)","v":0},{"$f":"SUM($G18:BV18)-SUM($F32:BV32)","v":0},{"$f":"SUM($G18:BW18)-SUM($F32:BW32)","v":0},{"$f":"SUM($G18:BX18)-SUM($F32:BX32)","v":0},{"$f":"SUM($G18:BY18)-SUM($F32:BY32)","v":0},{"$f":"SUM($G18:BZ18)-SUM($F32:BZ32)","v":0},{"$f":"SUM($G18:CA18)-SUM($F32:CA32)","v":0},{"$f":"SUM($G18:CB18)-SUM($F32:CB32)","v":0},{"$f":"SUM($G18:CC18)-SUM($F32:CC32)","v":0},{"$f":"SUM($G18:CD18)-SUM($F32:CD32)","v":0},{"$f":"SUM($G18:CE18)-SUM($F32:CE32)","v":0},{"$f":"SUM($G18:CF18)-SUM($F32:CF32)","v":0},{"$f":"SUM($G18:CG18)-SUM($F32:CG32)","v":0},{"$f":"SUM($G18:CH18)-SUM($F32:CH32)","v":0},{"$f":"SUM($G18:CI18)-SUM($F32:CI32)","v":0},{"$f":"SUM($G18:CJ18)-SUM($F32:CJ32)","v":0},{"$f":"SUM($G18:CK18)-SUM($F32:CK32)","v":0},{"$f":"SUM($G18:CL18)-SUM($F32:CL32)","v":0},{"$f":"SUM($G18:CM18)-SUM($F32:CM32)","v":0},{"$f":"SUM($G18:CN18)-SUM($F32:CN32)","v":0},{"$f":"SUM($G18:CO18)-SUM($F32:CO32)","v":0},{"$f":"SUM($G18:CP18)-SUM($F32:CP32)","v":0},{"$f":"SUM($G18:CQ18)-SUM($F32:CQ32)","v":0},{"$f":"SUM($G18:CR18)-SUM($F32:CR32)","v":0},{"$f":"SUM($G18:CS18)-SUM($F32:CS32)","v":0},{"$f":"SUM($G18:CT18)-SUM($F32:CT32)","v":0},{"$f":"SUM($G18:CU18)-SUM($F32:CU32)","v":0},{"$f":"SUM($G18:CV18)-SUM($F32:CV32)","v":0},{"$f":"SUM($G18:CW18)-SUM($F32:CW32)","v":0},{"$f":"SUM($G18:CX18)-SUM($F32:CX32)","v":0},{"$f":"SUM($G18:CY18)-SUM($F32:CY32)","v":0},{"$f":"SUM($G18:CZ18)-SUM($F32:CZ32)","v":0},{"$f":"SUM($G18:DA18)-SUM($F32:DA32)","v":0},{"$f":"SUM($G18:DB18)-SUM($F32:DB32)","v":0},{"$f":"SUM($G18:DC18)-SUM($F32:DC32)","v":0},{"$f":"SUM($G18:DD18)-SUM($F32:DD32)","v":0},{"$f":"SUM($G18:DE18)-SUM($F32:DE32)","v":0},{"$f":"SUM($G18:DF18)-SUM($F32:DF32)","v":0},{"$f":"SUM($G18:DG18)-SUM($F32:DG32)","v":0},{"$f":"SUM($G18:DH18)-SUM($F32:DH32)","v":0},{"$f":"SUM($G18:DI18)-SUM($F32:DI32)","v":0},{"$f":"SUM($G18:DJ18)-SUM($F32:DJ32)","v":0},{"$f":"SUM($G18:DK18)-SUM($F32:DK32)","v":0},{"$f":"SUM($G18:DL18)-SUM($F32:DL32)","v":0},{"$f":"SUM($G18:DM18)-SUM($F32:DM32)","v":0},{"$f":"SUM($G18:DN18)-SUM($F32:DN32)","v":0},{"$f":"SUM($G18:DO18)-SUM($F32:DO32)","v":0},{"$f":"SUM($G18:DP18)-SUM($F32:DP32)","v":0},{"$f":"SUM($G18:DQ18)-SUM($F32:DQ32)","v":0},{"$f":"SUM($G18:DR18)-SUM($F32:DR32)","v":0},{"$f":"SUM($G18:DS18)-SUM($F32:DS32)","v":0},{"$f":"SUM($G18:DT18)-SUM($F32:DT32)","v":0},{"$f":"SUM($G18:DU18)-SUM($F32:DU32)","v":0},{"$f":"SUM($G18:DV18)-SUM($F32:DV32)","v":0},{"$f":"SUM($G18:DW18)-SUM($F32:DW32)","v":0},{"$f":"SUM($G18:DX18)-SUM($F32:DX32)","v":0},{"$f":"SUM($G18:DY18)-SUM($F32:DY32)","v":0},{"$f":"SUM($G18:DZ18)-SUM($F32:DZ32)","v":0},{"$f":"SUM($G18:EA18)-SUM($F32:EA32)","v":0},{"$f":"SUM($G18:EB18)-SUM($F32:EB32)","v":0},{"$f":"SUM($G18:EC18)-SUM($F32:EC32)","v":0},{"$f":"SUM($G18:ED18)-SUM($F32:ED32)","v":0},{"$f":"SUM($G18:EE18)-SUM($F32:EE32)","v":0},{"$f":"SUM($G18:EF18)-SUM($F32:EF32)","v":0},{"$f":"SUM($G18:EG18)-SUM($F32:EG32)","v":0},{"$f":"SUM($G18:EH18)-SUM($F32:EH32)","v":0},{"$f":"SUM($G18:EI18)-SUM($F32:EI32)","v":0},{"$f":"SUM($G18:EJ18)-SUM($F32:EJ32)","v":0},{"$f":"SUM($G18:EK18)-SUM($F32:EK32)","v":0},{"$f":"SUM($G18:EL18)-SUM($F32:EL32)","v":0},{"$f":"SUM($G18:EM18)-SUM($F32:EM32)","v":0},{"$f":"SUM($G18:EN18)-SUM($F32:EN32)","v":0},{"$f":"SUM($G18:EO18)-SUM($F32:EO32)","v":0},{"$f":"SUM($G18:EP18)-SUM($F32:EP32)","v":0},{"$f":"SUM($G18:EQ18)-SUM($F32:EQ32)","v":0},{"$f":"SUM($G18:ER18)-SUM($F32:ER32)","v":0},{"$f":"SUM($G18:ES18)-SUM($F32:ES32)","v":0},{"$f":"SUM($G18:ET18)-SUM($F32:ET32)","v":0},{"$f":"SUM($G18:EU18)-SUM($F32:EU32)","v":0},{"$f":"SUM($G18:EV18)-SUM($F32:EV32)","v":0},{"$f":"SUM($G18:EW18)-SUM($F32:EW32)","v":0},{"$f":"SUM($G18:EX18)-SUM($F32:EX32)","v":0},{"$f":"SUM($G18:EY18)-SUM($F32:EY32)","v":0},{"$f":"SUM($G18:EZ18)-SUM($F32:EZ32)","v":0},{"$f":"SUM($G18:FA18)-SUM($F32:FA32)","v":0},{"$f":"SUM($G18:FB18)-SUM($F32:FB32)","v":0},{"$f":"SUM($G18:FC18)-SUM($F32:FC32)","v":0},{"$f":"SUM($G18:FD18)-SUM($F32:FD32)","v":0},{"$f":"SUM($G18:FE18)-SUM($F32:FE32)","v":0},{"$f":"SUM($G18:FF18)-SUM($F32:FF32)","v":0},{"$f":"SUM($G18:FG18)-SUM($F32:FG32)","v":0},{"$f":"SUM($G18:FH18)-SUM($F32:FH32)","v":0},{"$f":"SUM($G18:FI18)-SUM($F32:FI32)","v":0},{"$f":"SUM($G18:FJ18)-SUM($F32:FJ32)","v":0},{"$f":"SUM($G18:FK18)-SUM($F32:FK32)","v":0},{"$f":"SUM($G18:FL18)-SUM($F32:FL32)","v":0},{"$f":"SUM($G18:FM18)-SUM($F32:FM32)","v":0},{"$f":"SUM($G18:FN18)-SUM($F32:FN32)","v":0},{"$f":"SUM($G18:FO18)-SUM($F32:FO32)","v":0},{"$f":"SUM($G18:FP18)-SUM($F32:FP32)","v":0},{"$f":"SUM($G18:FQ18)-SUM($F32:FQ32)","v":0},{"$f":"SUM($G18:FR18)-SUM($F32:FR32)","v":0},{"$f":"SUM($G18:FS18)-SUM($F32:FS32)","v":0},{"$f":"SUM($G18:FT18)-SUM($F32:FT32)","v":0},{"$f":"SUM($G18:FU18)-SUM($F32:FU32)","v":0},{"$f":"SUM($G18:FV18)-SUM($F32:FV32)","v":0},{"$f":"SUM($G18:FW18)-SUM($F32:FW32)","v":0},{"$f":"SUM($G18:FX18)-SUM($F32:FX32)","v":0},{"$f":"SUM($G18:FY18)-SUM($F32:FY32)","v":0},{"$f":"SUM($G18:FZ18)-SUM($F32:FZ32)","v":0},{"$f":"SUM($G18:GA18)-SUM($F32:GA32)","v":0},{"$f":"SUM($G18:GB18)-SUM($F32:GB32)","v":0},{"$f":"SUM($G18:GC18)-SUM($F32:GC32)","v":0},{"$f":"SUM($G18:GD18)-SUM($F32:GD32)","v":0},{"$f":"SUM($G18:GE18)-SUM($F32:GE32)","v":0},{"$f":"SUM($G18:GF18)-SUM($F32:GF32)","v":0},{"$f":"SUM($G18:GG18)-SUM($F32:GG32)","v":0},{"$f":"SUM($G18:GH18)-SUM($F32:GH32)","v":0},{"$f":"SUM($G18:GI18)-SUM($F32:GI32)","v":0},{"$f":"SUM($G18:GJ18)-SUM($F32:GJ32)","v":0},{"$f":"SUM($G18:GK18)-SUM($F32:GK32)","v":0},{"$f":"SUM($G18:GL18)-SUM($F32:GL32)","v":0},{"$f":"SUM($G18:GM18)-SUM($F32:GM32)","v":0},{"$f":"SUM($G18:GN18)-SUM($F32:GN32)","v":0},{"$f":"SUM($G18:GO18)-SUM($F32:GO32)","v":0},{"$f":"SUM($G18:GP18)-SUM($F32:GP32)","v":0},{"$f":"SUM($G18:GQ18)-SUM($F32:GQ32)","v":0},{"$f":"SUM($G18:GR18)-SUM($F32:GR32)","v":0},{"$f":"SUM($G18:GS18)-SUM($F32:GS32)","v":0},{"$f":"SUM($G18:GT18)-SUM($F32:GT32)","v":0},{"$f":"SUM($G18:GU18)-SUM($F32:GU32)","v":0},{"$f":"SUM($G18:GV18)-SUM($F32:GV32)","v":0},{"$f":"SUM($G18:GW18)-SUM($F32:GW32)","v":0},{"$f":"SUM($G18:GX18)-SUM($F32:GX32)","v":0},{"$f":"SUM($G18:GY18)-SUM($F32:GY32)","v":0},{"$f":"SUM($G18:GZ18)-SUM($F32:GZ32)","v":0},{"$f":"SUM($G18:HA18)-SUM($F32:HA32)","v":0},{"$f":"SUM($G18:HB18)-SUM($F32:HB32)","v":0},{"$f":"SUM($G18:HC18)-SUM($F32:HC32)","v":0},{"$f":"SUM($G18:HD18)-SUM($F32:HD32)","v":0},{"$f":"SUM($G18:HE18)-SUM($F32:HE32)","v":0},{"$f":"SUM($G18:HF18)-SUM($F32:HF32)","v":0},{"$f":"SUM($G18:HG18)-SUM($F32:HG32)","v":0},{"$f":"SUM($G18:HH18)-SUM($F32:HH32)","v":0},{"$f":"SUM($G18:HI18)-SUM($F32:HI32)","v":0},{"$f":"SUM($G18:HJ18)-SUM($F32:HJ32)","v":0},{"$f":"SUM($G18:HK18)-SUM($F32:HK32)","v":0},{"$f":"SUM($G18:HL18)-SUM($F32:HL32)","v":0},{"$f":"SUM($G18:HM18)-SUM($F32:HM32)","v":0},{"$f":"SUM($G18:HN18)-SUM($F32:HN32)","v":0},{"$f":"SUM($G18:HO18)-SUM($F32:HO32)","v":0},{"$f":"SUM($G18:HP18)-SUM($F32:HP32)","v":0},{"$f":"SUM($G18:HQ18)-SUM($F32:HQ32)","v":0},{"$f":"SUM($G18:HR18)-SUM($F32:HR32)","v":0},{"$f":"SUM($G18:HS18)-SUM($F32:HS32)","v":0},{"$f":"SUM($G18:HT18)-SUM($F32:HT32)","v":0},{"$f":"SUM($G18:HU18)-SUM($F32:HU32)","v":0},{"$f":"SUM($G18:HV18)-SUM($F32:HV32)","v":0},{"$f":"SUM($G18:HW18)-SUM($F32:HW32)","v":0},{"$f":"SUM($G18:HX18)-SUM($F32:HX32)","v":0},{"$f":"SUM($G18:HY18)-SUM($F32:HY32)","v":0},{"$f":"SUM($G18:HZ18)-SUM($F32:HZ32)","v":0},{"$f":"SUM($G18:IA18)-SUM($F32:IA32)","v":0},{"$f":"SUM($G18:IB18)-SUM($F32:IB32)","v":0},{"$f":"SUM($G18:IC18)-SUM($F32:IC32)","v":0},{"$f":"SUM($G18:ID18)-SUM($F32:ID32)","v":0},{"$f":"SUM($G18:IE18)-SUM($F32:IE32)","v":0},{"$f":"SUM($G18:IF18)-SUM($F32:IF32)","v":0},{"$f":"SUM($G18:IG18)-SUM($F32:IG32)","v":0},{"$f":"SUM($G18:IH18)-SUM($F32:IH32)","v":0},{"$f":"SUM($G18:II18)-SUM($F32:II32)","v":0},{"$f":"SUM($G18:IJ18)-SUM($F32:IJ32)","v":0},{"$f":"SUM($G18:IK18)-SUM($F32:IK32)","v":0},{"$f":"SUM($G18:IL18)-SUM($F32:IL32)","v":0},{"$f":"SUM($G18:IM18)-SUM($F32:IM32)","v":0},{"$f":"SUM($G18:IN18)-SUM($F32:IN32)","v":0},{"$f":"SUM($G18:IO18)-SUM($F32:IO32)","v":0},{"$f":"SUM($G18:IP18)-SUM($F32:IP32)","v":0},{"$f":"SUM($G18:IQ18)-SUM($F32:IQ32)","v":0},{"$f":"SUM($G18:IR18)-SUM($F32:IR32)","v":0},{"$f":"SUM($G18:IS18)-SUM($F32:IS32)","v":0},{"$f":"SUM($G18:IT18)-SUM($F32:IT32)","v":0},{"$f":"SUM($G18:IU18)-SUM($F32:IU32)","v":0},{"$f":"SUM($G18:IV18)-SUM($F32:IV32)","v":0},{"$f":"SUM($G18:IW18)-SUM($F32:IW32)","v":0},{"$f":"SUM($G18:IX18)-SUM($F32:IX32)","v":0},{"$f":"SUM($G18:IY18)-SUM($F32:IY32)","v":0},{"$f":"SUM($G18:IZ18)-SUM($F32:IZ32)","v":0},{"$f":"SUM($G18:JA18)-SUM($F32:JA32)","v":0},{"$f":"SUM($G18:JB18)-SUM($F32:JB32)","v":0},{"$f":"SUM($G18:JC18)-SUM($F32:JC32)","v":0},{"$f":"SUM($G18:JD18)-SUM($F32:JD32)","v":0},{"$f":"SUM($G18:JE18)-SUM($F32:JE32)","v":0},{"$f":"SUM($G18:JF18)-SUM($F32:JF32)","v":0},{"$f":"SUM($G18:JG18)-SUM($F32:JG32)","v":0},{"$f":"SUM($G18:JH18)-SUM($F32:JH32)","v":0},{"$f":"SUM($G18:JI18)-SUM($F32:JI32)","v":0},{"$f":"SUM($G18:JJ18)-SUM($F32:JJ32)","v":0},{"$f":"SUM($G18:JK18)-SUM($F32:JK32)","v":0},{"$f":"SUM($G18:JL18)-SUM($F32:JL32)","v":0},{"$f":"SUM($G18:JM18)-SUM($F32:JM32)","v":0},{"$f":"SUM($G18:JN18)-SUM($F32:JN32)","v":0},{"$f":"SUM($G18:JO18)-SUM($F32:JO32)","v":0},{"$f":"SUM($G18:JP18)-SUM($F32:JP32)","v":0},{"$f":"SUM($G18:JQ18)-SUM($F32:JQ32)","v":0},{"$f":"SUM($G18:JR18)-SUM($F32:JR32)","v":0},{"$f":"SUM($G18:JS18)-SUM($F32:JS32)","v":0},{"$f":"SUM($G18:JT18)-SUM($F32:JT32)","v":0},{"$f":"SUM($G18:JU18)-SUM($F32:JU32)","v":0},{"$f":"SUM($G18:JV18)-SUM($F32:JV32)","v":0},{"$f":"SUM($G18:JW18)-SUM($F32:JW32)","v":0},{"$f":"SUM($G18:JX18)-SUM($F32:JX32)","v":0},{"$f":"SUM($G18:JY18)-SUM($F32:JY32)","v":0},{"$f":"SUM($G18:JZ18)-SUM($F32:JZ32)","v":0},{"$f":"SUM($G18:KA18)-SUM($F32:KA32)","v":0},{"$f":"SUM($G18:KB18)-SUM($F32:KB32)","v":0},{"$f":"SUM($G18:KC18)-SUM($F32:KC32)","v":0},{"$f":"SUM($G18:KD18)-SUM($F32:KD32)","v":0},{"$f":"SUM($G18:KE18)-SUM($F32:KE32)","v":0},{"$f":"SUM($G18:KF18)-SUM($F32:KF32)","v":0},{"$f":"SUM($G18:KG18)-SUM($F32:KG32)","v":0},{"$f":"SUM($G18:KH18)-SUM($F32:KH32)","v":0},{"$f":"SUM($G18:KI18)-SUM($F32:KI32)","v":0},{"$f":"SUM($G18:KJ18)-SUM($F32:KJ32)","v":0},{"$f":"SUM($G18:KK18)-SUM($F32:KK32)","v":0},{"$f":"SUM($G18:KL18)-SUM($F32:KL32)","v":0},{"$f":"SUM($G18:KM18)-SUM($F32:KM32)","v":0},{"$f":"SUM($G18:KN18)-SUM($F32:KN32)","v":0},{"$f":"SUM($G18:KO18)-SUM($F32:KO32)","v":0},{"$f":"SUM($G18:KP18)-SUM($F32:KP32)","v":0},{"$f":"SUM($G18:KQ18)-SUM($F32:KQ32)","v":0},{"$f":"SUM($G18:KR18)-SUM($F32:KR32)","v":0},{"$f":"SUM($G18:KS18)-SUM($F32:KS32)","v":0},{"$f":"SUM($G18:KT18)-SUM($F32:KT32)","v":0},{"$f":"SUM($G18:KU18)-SUM($F32:KU32)","v":0},{"$f":"SUM($G18:KV18)-SUM($F32:KV32)","v":0},{"$f":"SUM($G18:KW18)-SUM($F32:KW32)","v":0},{"$f":"SUM($G18:KX18)-SUM($F32:KX32)","v":0},{"$f":"SUM($G18:KY18)-SUM($F32:KY32)","v":0},{"$f":"SUM($G18:KZ18)-SUM($F32:KZ32)","v":0},{"$f":"SUM($G18:LA18)-SUM($F32:LA32)","v":0},{"$f":"SUM($G18:LB18)-SUM($F32:LB32)","v":0},{"$f":"SUM($G18:LC18)-SUM($F32:LC32)","v":0},{"$f":"SUM($G18:LD18)-SUM($F32:LD32)","v":0},{"$f":"SUM($G18:LE18)-SUM($F32:LE32)","v":0},{"$f":"SUM($G18:LF18)-SUM($F32:LF32)","v":0},{"$f":"SUM($G18:LG18)-SUM($F32:LG32)","v":0},{"$f":"SUM($G18:LH18)-SUM($F32:LH32)","v":0},{"$f":"SUM($G18:LI18)-SUM($F32:LI32)","v":0},{"$f":"SUM($G18:LJ18)-SUM($F32:LJ32)","v":0},{"$f":"SUM($G18:LK18)-SUM($F32:LK32)","v":0},{"$f":"SUM($G18:LL18)-SUM($F32:LL32)","v":0},{"$f":"SUM($G18:LM18)-SUM($F32:LM32)","v":0},{"$f":"SUM($G18:LN18)-SUM($F32:LN32)","v":0},{"$f":"SUM($G18:LO18)-SUM($F32:LO32)","v":0},{"$f":"SUM($G18:LP18)-SUM($F32:LP32)","v":0},{"$f":"SUM($G18:LQ18)-SUM($F32:LQ32)","v":0},{"$f":"SUM($G18:LR18)-SUM($F32:LR32)","v":0},{"$f":"SUM($G18:LS18)-SUM($F32:LS32)","v":0},{"$f":"SUM($G18:LT18)-SUM($F32:LT32)","v":0},{"$f":"SUM($G18:LU18)-SUM($F32:LU32)","v":0},{"$f":"SUM($G18:LV18)-SUM($F32:LV32)","v":0},{"$f":"SUM($G18:LW18)-SUM($F32:LW32)","v":0},{"$f":"SUM($G18:LX18)-SUM($F32:LX32)","v":0},{"$f":"SUM($G18:LY18)-SUM($F32:LY32)","v":0},{"$f":"SUM($G18:LZ18)-SUM($F32:LZ32)","v":0},{"$f":"SUM($G18:MA18)-SUM($F32:MA32)","v":0},{"$f":"SUM($G18:MB18)-SUM($F32:MB32)","v":0},{"$f":"SUM($G18:MC18)-SUM($F32:MC32)","v":0},{"$f":"SUM($G18:MD18)-SUM($F32:MD32)","v":0},{"$f":"SUM($G18:ME18)-SUM($F32:ME32)","v":0},{"$f":"SUM($G18:MF18)-SUM($F32:MF32)","v":0},{"$f":"SUM($G18:MG18)-SUM($F32:MG32)","v":0},{"$f":"SUM($G18:MH18)-SUM($F32:MH32)","v":0},{"$f":"SUM($G18:MI18)-SUM($F32:MI32)","v":0},{"$f":"SUM($G18:MJ18)-SUM($F32:MJ32)","v":0},{"$f":"SUM($G18:MK18)-SUM($F32:MK32)","v":0},{"$f":"SUM($G18:ML18)-SUM($F32:ML32)","v":0},{"$f":"SUM($G18:MM18)-SUM($F32:MM32)","v":0},{"$f":"SUM($G18:MN18)-SUM($F32:MN32)","v":0},{"$f":"SUM($G18:MO18)-SUM($F32:MO32)","v":0},{"$f":"SUM($G18:MP18)-SUM($F32:MP32)","v":0},{"$f":"SUM($G18:MQ18)-SUM($F32:MQ32)","v":0},{"$f":"SUM($G18:MR18)-SUM($F32:MR32)","v":0},{"$f":"SUM($G18:MS18)-SUM($F32:MS32)","v":0},{"$f":"SUM($G18:MT18)-SUM($F32:MT32)","v":0},{"$f":"SUM($G18:MU18)-SUM($F32:MU32)","v":0},{"$f":"SUM($G18:MV18)-SUM($F32:MV32)","v":0},{"$f":"SUM($G18:MW18)-SUM($F32:MW32)","v":0},{"$f":"SUM($G18:MX18)-SUM($F32:MX32)","v":0},{"$f":"SUM($G18:MY18)-SUM($F32:MY32)","v":0},{"$f":"SUM($G18:MZ18)-SUM($F32:MZ32)","v":0},{"$f":"SUM($G18:NA18)-SUM($F32:NA32)","v":0},{"$f":"SUM($G18:NB18)-SUM($F32:NB32)","v":0},{"$f":"SUM($G18:NC18)-SUM($F32:NC32)","v":0},{"$f":"SUM($G18:ND18)-SUM($F32:ND32)","v":0},{"$f":"SUM($G18:NE18)-SUM($F32:NE32)","v":0},{"$f":"SUM($G18:NF18)-SUM($F32:NF32)","v":0},{"$f":"SUM($G18:NG18)-SUM($F32:NG32)","v":0},{"$f":"SUM($G18:NH18)-SUM($F32:NH32)","v":0},{"$f":"SUM($G18:NI18)-SUM($F32:NI32)","v":0},{"$f":"SUM($G18:NJ18)-SUM($F32:NJ32)","v":0},{"$f":"SUM($G18:NK18)-SUM($F32:NK32)","v":0},{"$f":"SUM($G18:NL18)-SUM($F32:NL32)","v":0},{"$f":"SUM($G18:NM18)-SUM($F32:NM32)","v":0},{"$f":"SUM($G18:NN18)-SUM($F32:NN32)","v":0},{"$f":"SUM($G18:NO18)-SUM($F32:NO32)","v":0},{"$f":"SUM($G18:NP18)-SUM($F32:NP32)","v":0},{"$f":"SUM($G18:NQ18)-SUM($F32:NQ32)","v":0},{"$f":"SUM($G18:NR18)-SUM($F32:NR32)","v":0},{"$f":"SUM($G18:NS18)-SUM($F32:NS32)","v":0},{"$f":"SUM($G18:NT18)-SUM($F32:NT32)","v":0},{"$f":"SUM($G18:NU18)-SUM($F32:NU32)","v":0},{"$f":"SUM($G18:NV18)-SUM($F32:NV32)","v":0},{"$f":"SUM($G18:NW18)-SUM($F32:NW32)","v":0},{"$f":"SUM($G18:NX18)-SUM($F32:NX32)","v":0},{"$f":"SUM($G18:NY18)-SUM($F32:NY32)","v":0},{"$f":"SUM($G18:NZ18)-SUM($F32:NZ32)","v":0},{"$f":"SUM($G18:OA18)-SUM($F32:OA32)","v":0},{"$f":"SUM($G18:OB18)-SUM($F32:OB32)","v":0},{"$f":"SUM($G18:OC18)-SUM($F32:OC32)","v":0},{"$f":"SUM($G18:OD18)-SUM($F32:OD32)","v":0},{"$f":"SUM($G18:OE18)-SUM($F32:OE32)","v":0},{"$f":"SUM($G18:OF18)-SUM($F32:OF32)","v":0},{"$f":"SUM($G18:OG18)-SUM($F32:OG32)","v":0},{"$f":"SUM($G18:OH18)-SUM($F32:OH32)","v":0},{"$f":"SUM($G18:OI18)-SUM($F32:OI32)","v":0},{"$f":"SUM($G18:OJ18)-SUM($F32:OJ32)","v":0},{"$f":"SUM($G18:OK18)-SUM($F32:OK32)","v":0},{"$f":"SUM($G18:OL18)-SUM($F32:OL32)","v":0},{"$f":"SUM($G18:OM18)-SUM($F32:OM32)","v":0},{"$f":"SUM($G18:ON18)-SUM($F32:ON32)","v":0},{"$f":"SUM($G18:OO18)-SUM($F32:OO32)","v":0},{"$f":"SUM($G18:OP18)-SUM($F32:OP32)","v":0},{"$f":"SUM($G18:OQ18)-SUM($F32:OQ32)","v":0},{"$f":"SUM($G18:OR18)-SUM($F32:OR32)","v":0},{"$f":"SUM($G18:OS18)-SUM($F32:OS32)","v":0},{"$f":"SUM($G18:OT18)-SUM($F32:OT32)","v":0},{"$f":"SUM($G18:OU18)-SUM($F32:OU32)","v":0},{"$f":"SUM($G18:OV18)-SUM($F32:OV32)","v":0},{"$f":"SUM($G18:OW18)-SUM($F32:OW32)","v":0},{"$f":"SUM($G18:OX18)-SUM($F32:OX32)","v":0},{"$f":"SUM($G18:OY18)-SUM($F32:OY32)","v":0},{"$f":"SUM($G18:OZ18)-SUM($F32:OZ32)","v":0},{"$f":"SUM($G18:PA18)-SUM($F32:PA32)","v":0},{"$f":"SUM($G18:PB18)-SUM($F32:PB32)","v":0},{"$f":"SUM($G18:PC18)-SUM($F32:PC32)","v":0},{"$f":"SUM($G18:PD18)-SUM($F32:PD32)","v":0},{"$f":"SUM($G18:PE18)-SUM($F32:PE32)","v":0},{"$f":"SUM($G18:PF18)-SUM($F32:PF32)","v":0},{"$f":"SUM($G18:PG18)-SUM($F32:PG32)","v":0},{"$f":"SUM($G18:PH18)-SUM($F32:PH32)","v":0},{"$f":"SUM($G18:PI18)-SUM($F32:PI32)","v":0},{"$f":"SUM($G18:PJ18)-SUM($F32:PJ32)","v":0},{"$f":"SUM($G18:PK18)-SUM($F32:PK32)","v":0},{"$f":"SUM($G18:PL18)-SUM($F32:PL32)","v":0},{"$f":"SUM($G18:PM18)-SUM($F32:PM32)","v":0},{"$f":"SUM($G18:PN18)-SUM($F32:PN32)","v":0},{"$f":"SUM($G18:PO18)-SUM($F32:PO32)","v":0},{"$f":"SUM($G18:PP18)-SUM($F32:PP32)","v":0},{"$f":"SUM($G18:PQ18)-SUM($F32:PQ32)","v":0},{"$f":"SUM($G18:PR18)-SUM($F32:PR32)","v":0},{"$f":"SUM($G18:PS18)-SUM($F32:PS32)","v":0},{"$f":"SUM($G18:PT18)-SUM($F32:PT32)","v":0},{"$f":"SUM($G18:PU18)-SUM($F32:PU32)","v":0},{"$f":"SUM($G18:PV18)-SUM($F32:PV32)","v":0},{"$f":"SUM($G18:PW18)-SUM($F32:PW32)","v":0},{"$f":"SUM($G18:PX18)-SUM($F32:PX32)","v":0},{"$f":"SUM($G18:PY18)-SUM($F32:PY32)","v":0},{"$f":"SUM($G18:PZ18)-SUM($F32:PZ32)","v":0},{"$f":"SUM($G18:QA18)-SUM($F32:QA32)","v":0},{"$f":"SUM($G18:QB18)-SUM($F32:QB32)","v":0},{"$f":"SUM($G18:QC18)-SUM($F32:QC32)","v":0},{"$f":"SUM($G18:QD18)-SUM($F32:QD32)","v":0},{"$f":"SUM($G18:QE18)-SUM($F32:QE32)","v":0},{"$f":"SUM($G18:QF18)-SUM($F32:QF32)","v":0},{"$f":"SUM($G18:QG18)-SUM($F32:QG32)","v":0},{"$f":"SUM($G18:QH18)-SUM($F32:QH32)","v":0},{"$f":"SUM($G18:QI18)-SUM($F32:QI32)","v":0},{"$f":"SUM($G18:QJ18)-SUM($F32:QJ32)","v":0},{"$f":"SUM($G18:QK18)-SUM($F32:QK32)","v":0},{"$f":"SUM($G18:QL18)-SUM($F32:QL32)","v":0},{"$f":"SUM($G18:QM18)-SUM($F32:QM32)","v":0},{"$f":"SUM($G18:QN18)-SUM($F32:QN32)","v":0},{"$f":"SUM($G18:QO18)-SUM($F32:QO32)","v":0},{"$f":"SUM($G18:QP18)-SUM($F32:QP32)","v":0},{"$f":"SUM($G18:QQ18)-SUM($F32:QQ32)","v":0},{"$f":"SUM($G18:QR18)-SUM($F32:QR32)","v":0},{"$f":"SUM($G18:QS18)-SUM($F32:QS32)","v":0},{"$f":"SUM($G18:QT18)-SUM($F32:QT32)","v":0},{"$f":"SUM($G18:QU18)-SUM($F32:QU32)","v":0},{"$f":"SUM($G18:QV18)-SUM($F32:QV32)","v":0},{"$f":"SUM($G18:QW18)-SUM($F32:QW32)","v":0},{"$f":"SUM($G18:QX18)-SUM($F32:QX32)","v":0},{"$f":"SUM($G18:QY18)-SUM($F32:QY32)","v":0},{"$f":"SUM($G18:QZ18)-SUM($F32:QZ32)","v":0},{"$f":"SUM($G18:RA18)-SUM($F32:RA32)","v":0},{"$f":"SUM($G18:RB18)-SUM($F32:RB32)","v":0},{"$f":"SUM($G18:RC18)-SUM($F32:RC32)","v":0},{"$f":"SUM($G18:RD18)-SUM($F32:RD32)","v":0},{"$f":"SUM($G18:RE18)-SUM($F32:RE32)","v":0},{"$f":"SUM($G18:RF18)-SUM($F32:RF32)","v":0}]
[null,0,0,0,0,null,{"$f":"SUM($G19:G19)-SUM($F33:G33)","v":0},{"$f":"SUM($G19:H19)-SUM($F33:H33)","v":0},{"$f":"SUM($G19:I19)-SUM($F33:I33)","v":0},{"$f":"SUM($G19:J19)-SUM($F33:J33)","v":0},{"$f":"SUM($G19:K19)-SUM($F33:K33)","v":0},{"$f":"SUM($G19:L19)-SUM($F33:L33)","v":0},{"$f":"SUM($G19:M19)-SUM($F33:M33)","v":0},{"$f":"SUM($G19:N19)-SUM($F33:N33)","v":0},{"$f":"SUM($G19:O19)-SUM($F33:O33)","v":0},{"$f":"SUM($G19:P19)-SUM($F33:P33)","v":0},{"$f":"SUM($G19:Q19)-SUM($F33:Q33)","v":0},{"$f":"SUM($G19:R19)-SUM($F33:R33)","v":0},{"$f":"SUM($G19:S19)-SUM($F33:S33)","v":0},{"$f":"SUM($G19:T19)-SUM($F33:T33)","v":0},{"$f":"SUM($G19:U19)-SUM($F33:U33)","v":0},{"$f":"SUM($G19:V19)-SUM($F33:V33)","v":0},{"$f":"SUM($G19:W19)-SUM($F33:W33)","v":0},{"$f":"SUM($G19:X19)-SUM($F33:X33)","v":0},{"$f":"SUM($G19:Y19)-SUM($F33:Y33)","v":0},{"$f":"SUM($G19:Z19)-SUM($F33:Z33)","v":0},{"$f":"SUM($G19:AA19)-SUM($F33:AA33)","v":0},{"$f":"SUM($G19:AB19)-SUM($F33:AB33)","v":0},{"$f":"SUM($G19:AC19)-SUM($F33:AC33)","v":0},{"$f":"SUM($G19:AD19)-SUM($F33:AD33)","v":0},{"$f":"SUM($G19:AE19)-SUM($F33:AE33)","v":0},{"$f":"SUM($G19:AF19)-SUM($F33:AF33)","v":0},{"$f":"SUM($G19:AG19)-SUM($F33:AG33)","v":0},{"$f":"SUM($G19:AH19)-SUM($F33:AH33)","v":0},{"$f":"SUM($G19:AI19)-SUM($F33:AI33)","v":0},{"$f":"SUM($G19:AJ19)-SUM($F33:AJ33)","v":0},{"$f":"SUM($G19:AK19)-SUM($F33:AK33)","v":0},{"$f":"SUM($G19:AL19)-SUM($F33:AL33)","v":0},{"$f":"SUM($G19:AM19)-SUM($F33:AM33)","v":0},{"$f":"SUM($G19:AN19)-SUM($F33:AN33)","v":0},{"$f":"SUM($G19:AO19)-SUM($F33:AO33)","v":0},{"$f":"SUM($G19:AP19)-SUM($F33:AP33)","v":0},{"$f":"SUM($G19:AQ19)-SUM($F33:AQ33)","v":0},{"$f":"SUM($G19:AR19)-SUM($F33:AR33)","v":0},{"$f":"SUM($G19:AS19)-SUM($F33:AS33)","v":0},{"$f":"SUM($G19:AT19)-SUM($F33:AT33)","v":0},{"$f":"SUM($G19:AU19)-SUM($F33:AU33)","v":0},{"$f":"SUM($G19:AV19)-SUM($F33:AV33)","v":0},{"$f":"SUM($G19:AW19)-SUM($F33:AW33)","v":0},{"$f":"SUM($G19:AX19)-SUM($F33:AX33)","v":0},{"$f":"SUM($G19:AY19)-SUM($F33:AY33)","v":0},{"$f":"SUM($G19:AZ19)-SUM($F33:AZ33)","v":0},{"$f":"SUM($G19:BA19)-SUM($F33:BA33)","v":0},{"$f":"SUM($G19:BB19)-SUM($F33:BB33)","v":0},{"$f":"SUM($G19:BC19)-SUM($F33:BC33)","v":0},{"$f":"SUM($G19:BD19)-SUM($F33:BD33)","v":0},{"$f":"SUM($G19:BE19)-SUM($F33:BE33)","v":0},{"$f":"SUM($G19:BF19)-SUM($F33:BF33)","v":0},{"$f":"SUM($G19:BG19)-SUM($F33:BG33)","v":0},{"$f":"SUM($G19:BH19)-SUM($F33:BH33)","v":0},{"$f":"SUM($G19:BI19)-SUM($F33:BI33)","v":0},{"$f":"SUM($G19:BJ19)-SUM($F33:BJ33)","v":0},{"$f":"SUM($G19:BK19)-SUM($F33:BK33)","v":0},{"$f":"SUM($G19:BL19)-SUM($F33:BL33)","v":0},{"$f":"SUM($G19:BM19)-SUM($F33:BM33)","v":0},{"$f":"SUM($G19:BN19)-SUM($F33:BN33)","v":0},{"$f":"SUM($G19:BO19)-SUM($F33:BO33)","v":0},{"$f":"SUM($G19:BP19)-SUM($F33:BP33)","v":0},{"$f":"SUM($G19:BQ19)-SUM($F33:BQ33)","v":0},{"$f":"SUM($G19:BR19)-SUM($F33:BR33)","v":0},{"$f":"SUM($G19:BS19)-SUM($F33:BS33)","v":0},{"$f":"SUM($G19:BT19)-SUM($F33:BT33)","v":0},{"$f":"SUM($G19:BU19)-SUM($F33:BU33)","v":0},{"$f":"SUM($G19:BV19)-SUM($F33:BV33)","v":0},{"$f":"SUM($G19:BW19)-SUM($F33:BW33)","v":0},{"$f":"SUM($G19:BX19)-SUM($F33:BX33)","v":0},{"$f":"SUM($G19:BY19)-SUM($F33:BY33)","v":0},{"$f":"SUM($G19:BZ19)-SUM($F33:BZ33)","v":0},{"$f":"SUM($G19:CA19)-SUM($F33:CA33)","v":0},{"$f":"SUM($G19:CB19)-SUM($F33:CB33)","v":0},{"$f":"SUM($G19:CC19)-SUM($F33:CC33)","v":0},{"$f":"SUM($G19:CD19)-SUM($F33:CD33)","v":0},{"$f":"SUM($G19:CE19)-SUM($F33:CE33)","v":0},{"$f":"SUM($G19:CF19)-SUM($F33:CF33)","v":0},{"$f":"SUM($G19:CG19)-SUM($F33:CG33)","v":0},{"$f":"SUM($G19:CH19)-SUM($F33:CH33)","v":0},{"$f":"SUM($G19:CI19)-SUM($F33:CI33)","v":0},{"$f":"SUM($G19:CJ19)-SUM($F33:CJ33)","v":0},{"$f":"SUM($G19:CK19)-SUM($F33:CK33)","v":0},{"$f":"SUM($G19:CL19)-SUM($F33:CL33)","v":0},{"$f":"SUM($G19:CM19)-SUM($F33:CM33)","v":0},{"$f":"SUM($G19:CN19)-SUM($F33:CN33)","v":0},{"$f":"SUM($G19:CO19)-SUM($F33:CO33)","v":0},{"$f":"SUM($G19:CP19)-SUM($F33:CP33)","v":0},{"$f":"SUM($G19:CQ19)-SUM($F33:CQ33)","v":0},{"$f":"SUM($G19:CR19)-SUM($F33:CR33)","v":0},{"$f":"SUM($G19:CS19)-SUM($F33:CS33)","v":0},{"$f":"SUM($G19:CT19)-SUM($F33:CT33)","v":0},{"$f":"SUM($G19:CU19)-SUM($F33:CU33)","v":0},{"$f":"SUM($G19:CV19)-SUM($F33:CV33)","v":0},{"$f":"SUM($G19:CW19)-SUM($F33:CW33)","v":0},{"$f":"SUM($G19:CX19)-SUM($F33:CX33)","v":0},{"$f":"SUM($G19:CY19)-SUM($F33:CY33)","v":0},{"$f":"SUM($G19:CZ19)-SUM($F33:CZ33)","v":0},{"$f":"SUM($G19:DA19)-SUM($F33:DA33)","v":0},{"$f":"SUM($G19:DB19)-SUM($F33:DB33)","v":0},{"$f":"SUM($G19:DC19)-SUM($F33:DC33)","v":0},{"$f":"SUM($G19:DD19)-SUM($F33:DD33)","v":0},{"$f":"SUM($G19:DE19)-SUM($F33:DE33)","v":0},{"$f":"SUM($G19:DF19)-SUM($F33:DF33)","v":0},{"$f":"SUM($G19:DG19)-SUM($F33:DG33)","v":0},{"$f":"SUM($G19:DH19)-SUM($F33:DH33)","v":0},{"$f":"SUM($G19:DI19)-SUM($F33:DI33)","v":0},{"$f":"SUM($G19:DJ19)-SUM($F33:DJ33)","v":0},{"$f":"SUM($G19:DK19)-SUM($F33:DK33)","v":0},{"$f":"SUM($G19:DL19)-SUM($F33:DL33)","v":0},{"$f":"SUM($G19:DM19)-SUM($F33:DM33)","v":0},{"$f":"SUM($G19:DN19)-SUM($F33:DN33)","v":0},{"$f":"SUM($G19:DO19)-SUM($F33:DO33)","v":0},{"$f":"SUM($G19:DP19)-SUM($F33:DP33)","v":0},{"$f":"SUM($G19:DQ19)-SUM($F33:DQ33)","v":0},{"$f":"SUM($G19:DR19)-SUM($F33:DR33)","v":0},{"$f":"SUM($G19:DS19)-SUM($F33:DS33)","v":0},{"$f":"SUM($G19:DT19)-SUM($F33:DT33)","v":0},{"$f":"SUM($G19:DU19)-SUM($F33:DU33)","v":0},{"$f":"SUM($G19:DV19)-SUM($F33:DV33)","v":0},{"$f":"SUM($G19:DW19)-SUM($F33:DW33)","v":0},{"$f":"SUM($G19:DX19)-SUM($F33:DX33)","v":0},{"$f":"SUM($G19:DY19)-SUM($F33:DY33)","v":0},{"$f":"SUM($G19:DZ19)-SUM($F33:DZ33)","v":0},{"$f":"SUM($G19:EA19)-SUM($F33:EA33)","v":0},{"$f":"SUM($G19:EB19)-SUM($F33:EB33)","v":0},{"$f":"SUM($G19:EC19)-SUM($F33:EC33)","v":0},{"$f":"SUM($G19:ED19)-SUM($F33:ED33)","v":0},{"$f":"SUM($G19:EE19)-SUM($F33:EE33)","v":0},{"$f":"SUM($G19:EF19)-SUM($F33:EF33)","v":0},{"$f":"SUM($G19:EG19)-SUM($F33:EG33)","v":0},{"$f":"SUM($G19:EH19)-SUM($F33:EH33)","v":0},{"$f":"SUM($G19:EI19)-SUM($F33:EI33)","v":0},{"$f":"SUM($G19:EJ19)-SUM($F33:EJ33)","v":0},{"$f":"SUM($G19:EK19)-SUM($F33:EK33)","v":0},{"$f":"SUM($G19:EL19)-SUM($F33:EL33)","v":0},{"$f":"SUM($G19:EM19)-SUM($F33:EM33)","v":0},{"$f":"SUM($G19:EN19)-SUM($F33:EN33)","v":0},{"$f":"SUM($G19:EO19)-SUM($F33:EO33)","v":0},{"$f":"SUM($G19:EP19)-SUM($F33:EP33)","v":0},{"$f":"SUM($G19:EQ19)-SUM($F33:EQ33)","v":0},{"$f":"SUM($G19:ER19)-SUM($F33:ER33)","v":0},{"$f":"SUM($G19:ES19)-SUM($F33:ES33)","v":0},{"$f":"SUM($G19:ET19)-SUM($F33:ET33)","v":0},{"$f":"SUM($G19:EU19)-SUM($F33:EU33)","v":0},{"$f":"SUM($G19:EV19)-SUM($F33:EV33)","v":0},{"$f":"SUM($G19:EW19)-SUM($F33:EW33)","v":0},{"$f":"SUM($G19:EX19)-SUM($F33:EX33)","v":0},{"$f":"SUM($G19:EY19)-SUM($F33:EY33)","v":0},{"$f":"SUM($G19:EZ19)-SUM($F33:EZ33)","v":0},{"$f":"SUM($G19:FA19)-SUM($F33:FA33)","v":0},{"$f":"SUM($G19:FB19)-SUM($F33:FB33)","v":0},{"$f":"SUM($G19:FC19)-SUM($F33:FC33)","v":0},{"$f":"SUM($G19:FD19)-SUM($F33:FD33)","v":0},{"$f":"SUM($G19:FE19)-SUM($F33:FE33)","v":0},{"$f":"SUM($G19:FF19)-SUM($F33:FF33)","v":0},{"$f":"SUM($G19:FG19)-SUM($F33:FG33)","v":0},{"$f":"SUM($G19:FH19)-SUM($F33:FH33)","v":0},{"$f":"SUM($G19:FI19)-SUM($F33:FI33)","v":0},{"$f":"SUM($G19:FJ19)-SUM($F33:FJ33)","v":0},{"$f":"SUM($G19:FK19)-SUM($F33:FK33)","v":0},{"$f":"SUM($G19:FL19)-SUM($F33:FL33)","v":0},{"$f":"SUM($G19:FM19)-SUM($F33:FM33)","v":0},{"$f":"SUM($G19:FN19)-SUM($F33:FN33)","v":0},{"$f":"SUM($G19:FO19)-SUM($F33:FO33)","v":0},{"$f":"SUM($G19:FP19)-SUM($F33:FP33)","v":0},{"$f":"SUM($G19:FQ19)-SUM($F33:FQ33)","v":0},{"$f":"SUM($G19:FR19)-SUM($F33:FR33)","v":0},{"$f":"SUM($G19:FS19)-SUM($F33:FS33)","v":0},{"$f":"SUM($G19:FT19)-SUM($F33:FT33)","v":0},{"$f":"SUM($G19:FU19)-SUM($F33:FU33)","v":0},{"$f":"SUM($G19:FV19)-SUM($F33:FV33)","v":0},{"$f":"SUM($G19:FW19)-SUM($F33:FW33)","v":0},{"$f":"SUM($G19:FX19)-SUM($F33:FX33)","v":0},{"$f":"SUM($G19:FY19)-SUM($F33:FY33)","v":0},{"$f":"SUM($G19:FZ19)-SUM($F33:FZ33)","v":0},{"$f":"SUM($G19:GA19)-SUM($F33:GA33)","v":0},{"$f":"SUM($G19:GB19)-SUM($F33:GB33)","v":0},{"$f":"SUM($G19:GC19)-SUM($F33:GC33)","v":0},{"$f":"SUM($G19:GD19)-SUM($F33:GD33)","v":0},{"$f":"SUM($G19:GE19)-SUM($F33:GE33)","v":0},{"$f":"SUM($G19:GF19)-SUM($F33:GF33)","v":0},{"$f":"SUM($G19:GG19)-SUM($F33:GG33)","v":0},{"$f":"SUM($G19:GH19)-SUM($F33:GH33)","v":0},{"$f":"SUM($G19:GI19)-SUM($F33:GI33)","v":0},{"$f":"SUM($G19:GJ19)-SUM($F33:GJ33)","v":0},{"$f":"SUM($G19:GK19)-SUM($F33:GK33)","v":0},{"$f":"SUM($G19:GL19)-SUM($F33:GL33)","v":0},{"$f":"SUM($G19:GM19)-SUM($F33:GM33)","v":0},{"$f":"SUM($G19:GN19)-SUM($F33:GN33)","v":0},{"$f":"SUM($G19:GO19)-SUM($F33:GO33)","v":0},{"$f":"SUM($G19:GP19)-SUM($F33:GP33)","v":0},{"$f":"SUM($G19:GQ19)-SUM($F33:GQ33)","v":0},{"$f":"SUM($G19:GR19)-SUM($F33:GR33)","v":0},{"$f":"SUM($G19:GS19)-SUM($F33:GS33)","v":0},{"$f":"SUM($G19:GT19)-SUM($F33:GT33)","v":0},{"$f":"SUM($G19:GU19)-SUM($F33:GU33)","v":0},{"$f":"SUM($G19:GV19)-SUM($F33:GV33)","v":0},{"$f":"SUM($G19:GW19)-SUM($F33:GW33)","v":0},{"$f":"SUM($G19:GX19)-SUM($F33:GX33)","v":0},{"$f":"SUM($G19:GY19)-SUM($F33:GY33)","v":0},{"$f":"SUM($G19:GZ19)-SUM($F33:GZ33)","v":0},{"$f":"SUM($G19:HA19)-SUM($F33:HA33)","v":0},{"$f":"SUM($G19:HB19)-SUM($F33:HB33)","v":0},{"$f":"SUM($G19:HC19)-SUM($F33:HC33)","v":0},{"$f":"SUM($G19:HD19)-SUM($F33:HD33)","v":0},{"$f":"SUM($G19:HE19)-SUM($F33:HE33)","v":0},{"$f":"SUM($G19:HF19)-SUM($F33:HF33)","v":0},{"$f":"SUM($G19:HG19)-SUM($F33:HG33)","v":0},{"$f":"SUM($G19:HH19)-SUM($F33:HH33)","v":0},{"$f":"SUM($G19:HI19)-SUM($F33:HI33)","v":0},{"$f":"SUM($G19:HJ19)-SUM($F33:HJ33)","v":0},{"$f":"SUM($G19:HK19)-SUM($F33:HK33)","v":0},{"$f":"SUM($G19:HL19)-SUM($F33:HL33)","v":0},{"$f":"SUM($G19:HM19)-SUM($F33:HM33)","v":0},{"$f":"SUM($G19:HN19)-SUM($F33:HN33)","v":0},{"$f":"SUM($G19:HO19)-SUM($F33:HO33)","v":0},{"$f":"SUM($G19:HP19)-SUM($F33:HP33)","v":0},{"$f":"SUM($G19:HQ19)-SUM($F33:HQ33)","v":0},{"$f":"SUM($G19:HR19)-SUM($F33:HR33)","v":0},{"$f":"SUM($G19:HS19)-SUM($F33:HS33)","v":0},{"$f":"SUM($G19:HT19)-SUM($F33:HT33)","v":0},{"$f":"SUM($G19:HU19)-SUM($F33:HU33)","v":0},{"$f":"SUM($G19:HV19)-SUM($F33:HV33)","v":0},{"$f":"SUM($G19:HW19)-SUM($F33:HW33)","v":0},{"$f":"SUM($G19:HX19)-SUM($F33:HX33)","v":0},{"$f":"SUM($G19:HY19)-SUM($F33:HY33)","v":0},{"$f":"SUM($G19:HZ19)-SUM($F33:HZ33)","v":0},{"$f":"SUM($G19:IA19)-SUM($F33:IA33)","v":0},{"$f":"SUM($G19:IB19)-SUM($F33:IB33)","v":0},{"$f":"SUM($G19:IC19)-SUM($F33:IC33)","v":0},{"$f":"SUM($G19:ID19)-SUM($F33:ID33)","v":0},{"$f":"SUM($G19:IE19)-SUM($F33:IE33)","v":0},{"$f":"SUM($G19:IF19)-SUM($F33:IF33)","v":0},{"$f":"SUM($G19:IG19)-SUM($F33:IG33)","v":0},{"$f":"SUM($G19:IH19)-SUM($F33:IH33)","v":0},{"$f":"SUM($G19:II19)-SUM($F33:II33)","v":0},{"$f":"SUM($G19:IJ19)-SUM($F33:IJ33)","v":0},{"$f":"SUM($G19:IK19)-SUM($F33:IK33)","v":0},{"$f":"SUM($G19:IL19)-SUM($F33:IL33)","v":0},{"$f":"SUM($G19:IM19)-SUM($F33:IM33)","v":0},{"$f":"SUM($G19:IN19)-SUM($F33:IN33)","v":0},{"$f":"SUM($G19:IO19)-SUM($F33:IO33)","v":0},{"$f":"SUM($G19:IP19)-SUM($F33:IP33)","v":0},{"$f":"SUM($G19:IQ19)-SUM($F33:IQ33)","v":0},{"$f":"SUM($G19:IR19)-SUM($F33:IR33)","v":0},{"$f":"SUM($G19:IS19)-SUM($F33:IS33)","v":0},{"$f":"SUM($G19:IT19)-SUM($F33:IT33)","v":0},{"$f":"SUM($G19:IU19)-SUM($F33:IU33)","v":0},{"$f":"SUM($G19:IV19)-SUM($F33:IV33)","v":0},{"$f":"SUM($G19:IW19)-SUM($F33:IW33)","v":0},{"$f":"SUM($G19:IX19)-SUM($F33:IX33)","v":0},{"$f":"SUM($G19:IY19)-SUM($F33:IY33)","v":0},{"$f":"SUM($G19:IZ19)-SUM($F33:IZ33)","v":0},{"$f":"SUM($G19:JA19)-SUM($F33:JA33)","v":0},{"$f":"SUM($G19:JB19)-SUM($F33:JB33)","v":0},{"$f":"SUM($G19:JC19)-SUM($F33:JC33)","v":0},{"$f":"SUM($G19:JD19)-SUM($F33:JD33)","v":0},{"$f":"SUM($G19:JE19)-SUM($F33:JE33)","v":0},{"$f":"SUM($G19:JF19)-SUM($F33:JF33)","v":0},{"$f":"SUM($G19:JG19)-SUM($F33:JG33)","v":0},{"$f":"SUM($G19:JH19)-SUM($F33:JH33)","v":0},{"$f":"SUM($G19:JI19)-SUM($F33:JI33)","v":0},{"$f":"SUM($G19:JJ19)-SUM($F33:JJ33)","v":0},{"$f":"SUM($G19:JK19)-SUM($F33:JK33)","v":0},{"$f":"SUM($G19:JL19)-SUM($F33:JL33)","v":0},{"$f":"SUM($G19:JM19)-SUM($F33:JM33)","v":0},{"$f":"SUM($G19:JN19)-SUM($F33:JN33)","v":0},{"$f":"SUM($G19:JO19)-SUM($F33:JO33)","v":0},{"$f":"SUM($G19:JP19)-SUM($F33:JP33)","v":0},{"$f":"SUM($G19:JQ19)-SUM($F33:JQ33)","v":0},{"$f":"SUM($G19:JR19)-SUM($F33:JR33)","v":0},{"$f":"SUM($G19:JS19)-SUM($F33:JS33)","v":0},{"$f":"SUM($G19:JT19)-SUM($F33:JT33)","v":0},{"$f":"SUM($G19:JU19)-SUM($F33:JU33)","v":0},{"$f":"SUM($G19:JV19)-SUM($F33:JV33)","v":0},{"$f":"SUM($G19:JW19)-SUM($F33:JW33)","v":0},{"$f":"SUM($G19:JX19)-SUM($F33:JX33)","v":0},{"$f":"SUM($G19:JY19)-SUM($F33:JY33)","v":0},{"$f":"SUM($G19:JZ19)-SUM($F33:JZ33)","v":0},{"$f":"SUM($G19:KA19)-SUM($F33:KA33)","v":0},{"$f":"SUM($G19:KB19)-SUM($F33:KB33)","v":0},{"$f":"SUM($G19:KC19)-SUM($F33:KC33)","v":0},{"$f":"SUM($G19:KD19)-SUM($F33:KD33)","v":0},{"$f":"SUM($G19:KE19)-SUM($F33:KE33)","v":0},{"$f":"SUM($G19:KF19)-SUM($F33:KF33)","v":0},{"$f":"SUM($G19:KG19)-SUM($F33:KG33)","v":0},{"$f":"SUM($G19:KH19)-SUM($F33:KH33)","v":0},{"$f":"SUM($G19:KI19)-SUM($F33:KI33)","v":0},{"$f":"SUM($G19:KJ19)-SUM($F33:KJ33)","v":0},{"$f":"SUM($G19:KK19)-SUM($F33:KK33)","v":0},{"$f":"SUM($G19:KL19)-SUM($F33:KL33)","v":0},{"$f":"SUM($G19:KM19)-SUM($F33:KM33)","v":0},{"$f":"SUM($G19:KN19)-SUM($F33:KN33)","v":0},{"$f":"SUM($G19:KO19)-SUM($F33:KO33)","v":0},{"$f":"SUM($G19:KP19)-SUM($F33:KP33)","v":0},{"$f":"SUM($G19:KQ19)-SUM($F33:KQ33)","v":0},{"$f":"SUM($G19:KR19)-SUM($F33:KR33)","v":0},{"$f":"SUM($G19:KS19)-SUM($F33:KS33)","v":0},{"$f":"SUM($G19:KT19)-SUM($F33:KT33)","v":0},{"$f":"SUM($G19:KU19)-SUM($F33:KU33)","v":0},{"$f":"SUM($G19:KV19)-SUM($F33:KV33)","v":0},{"$f":"SUM($G19:KW19)-SUM($F33:KW33)","v":0},{"$f":"SUM($G19:KX19)-SUM($F33:KX33)","v":0},{"$f":"SUM($G19:KY19)-SUM($F33:KY33)","v":0},{"$f":"SUM($G19:KZ19)-SUM($F33:KZ33)","v":0},{"$f":"SUM($G19:LA19)-SUM($F33:LA33)","v":0},{"$f":"SUM($G19:LB19)-SUM($F33:LB33)","v":0},{"$f":"SUM($G19:LC19)-SUM($F33:LC33)","v":0},{"$f":"SUM($G19:LD19)-SUM($F33:LD33)","v":0},{"$f":"SUM($G19:LE19)-SUM($F33:LE33)","v":0},{"$f":"SUM($G19:LF19)-SUM($F33:LF33)","v":0},{"$f":"SUM($G19:LG19)-SUM($F33:LG33)","v":0},{"$f":"SUM($G19:LH19)-SUM($F33:LH33)","v":0},{"$f":"SUM($G19:LI19)-SUM($F33:LI33)","v":0},{"$f":"SUM($G19:LJ19)-SUM($F33:LJ33)","v":0},{"$f":"SUM($G19:LK19)-SUM($F33:LK33)","v":0},{"$f":"SUM($G19:LL19)-SUM($F33:LL33)","v":0},{"$f":"SUM($G19:LM19)-SUM($F33:LM33)","v":0},{"$f":"SUM($G19:LN19)-SUM($F33:LN33)","v":0},{"$f":"SUM($G19:LO19)-SUM($F33:LO33)","v":0},{"$f":"SUM($G19:LP19)-SUM($F33:LP33)","v":0},{"$f":"SUM($G19:LQ19)-SUM($F33:LQ33)","v":0},{"$f":"SUM($G19:LR19)-SUM($F33:LR33)","v":0},{"$f":"SUM($G19:LS19)-SUM($F33:LS33)","v":0},{"$f":"SUM($G19:LT19)-SUM($F33:LT33)","v":0},{"$f":"SUM($G19:LU19)-SUM($F33:LU33)","v":0},{"$f":"SUM($G19:LV19)-SUM($F33:LV33)","v":0},{"$f":"SUM($G19:LW19)-SUM($F33:LW33)","v":0},{"$f":"SUM($G19:LX19)-SUM($F33:LX33)","v":0},{"$f":"SUM($G19:LY19)-SUM($F33:LY33)","v":0},{"$f":"SUM($G19:LZ19)-SUM($F33:LZ33)","v":0},{"$f":"SUM($G19:MA19)-SUM($F33:MA33)","v":0},{"$f":"SUM($G19:MB19)-SUM($F33:MB33)","v":0},{"$f":"SUM($G19:MC19)-SUM($F33:MC33)","v":0},{"$f":"SUM($G19:MD19)-SUM($F33:MD33)","v":0},{"$f":"SUM($G19:ME19)-SUM($F33:ME33)","v":0},{"$f":"SUM($G19:MF19)-SUM($F33:MF33)","v":0},{"$f":"SUM($G19:MG19)-SUM($F33:MG33)","v":0},{"$f":"SUM($G19:MH19)-SUM($F33:MH33)","v":0},{"$f":"SUM($G19:MI19)-SUM($F33:MI33)","v":0},{"$f":"SUM($G19:MJ19)-SUM($F33:MJ33)","v":0},{"$f":"SUM($G19:MK19)-SUM($F33:MK33)","v":0},{"$f":"SUM($G19:ML19)-SUM($F33:ML33)","v":0},{"$f":"SUM($G19:MM19)-SUM($F33:MM33)","v":0},{"$f":"SUM($G19:MN19)-SUM($F33:MN33)","v":0},{"$f":"SUM($G19:MO19)-SUM($F33:MO33)","v":0},{"$f":"SUM($G19:MP19)-SUM($F33:MP33)","v":0},{"$f":"SUM($G19:MQ19)-SUM($F33:MQ33)","v":0},{"$f":"SUM($G19:MR19)-SUM($F33:MR33)","v":0},{"$f":"SUM($G19:MS19)-SUM($F33:MS33)","v":0},{"$f":"SUM($G19:MT19)-SUM($F33:MT33)","v":0},{"$f":"SUM($G19:MU19)-SUM($F33:MU33)","v":0},{"$f":"SUM($G19:MV19)-SUM($F33:MV33)","v":0},{"$f":"SUM($G19:MW19)-SUM($F33:MW33)","v":0},{"$f":"SUM($G19:MX19)-SUM($F33:MX33)","v":0},{"$f":"SUM($G19:MY19)-SUM($F33:MY33)","v":0},{"$f":"SUM($G19:MZ19)-SUM($F33:MZ33)","v":0},{"$f":"SUM($G19:NA19)-SUM($F33:NA33)","v":0},{"$f":"SUM($G19:NB19)-SUM($F33:NB33)","v":0},{"$f":"SUM($G19:NC19)-SUM($F33:NC33)","v":0},{"$f":"SUM($G19:ND19)-SUM($F33:ND33)","v":0},{"$f":"SUM($G19:NE19)-SUM($F33:NE33)","v":0},{"$f":"SUM($G19:NF19)-SUM($F33:NF33)","v":0},{"$f":"SUM($G19:NG19)-SUM($F33:NG33)","v":0},{"$f":"SUM($G19:NH19)-SUM($F33:NH33)","v":0},{"$f":"SUM($G19:NI19)-SUM($F33:NI33)","v":0},{"$f":"SUM($G19:NJ19)-SUM($F33:NJ33)","v":0},{"$f":"SUM($G19:NK19)-SUM($F33:NK33)","v":0},{"$f":"SUM($G19:NL19)-SUM($F33:NL33)","v":0},{"$f":"SUM($G19:NM19)-SUM($F33:NM33)","v":0},{"$f":"SUM($G19:NN19)-SUM($F33:NN33)","v":0},{"$f":"SUM($G19:NO19)-SUM($F33:NO33)","v":0},{"$f":"SUM($G19:NP19)-SUM($F33:NP33)","v":0},{"$f":"SUM($G19:NQ19)-SUM($F33:NQ33)","v":0},{"$f":"SUM($G19:NR19)-SUM($F33:NR33)","v":0},{"$f":"SUM($G19:NS19)-SUM($F33:NS33)","v":0},{"$f":"SUM($G19:NT19)-SUM($F33:NT33)","v":0},{"$f":"SUM($G19:NU19)-SUM($F33:NU33)","v":0},{"$f":"SUM($G19:NV19)-SUM($F33:NV33)","v":0},{"$f":"SUM($G19:NW19)-SUM($F33:NW33)","v":0},{"$f":"SUM($G19:NX19)-SUM($F33:NX33)","v":0},{"$f":"SUM($G19:NY19)-SUM($F33:NY33)","v":0},{"$f":"SUM($G19:NZ19)-SUM($F33:NZ33)","v":0},{"$f":"SUM($G19:OA19)-SUM($F33:OA33)","v":0},{"$f":"SUM($G19:OB19)-SUM($F33:OB33)","v":0},{"$f":"SUM($G19:OC19)-SUM($F33:OC33)","v":0},{"$f":"SUM($G19:OD19)-SUM($F33:OD33)","v":0},{"$f":"SUM($G19:OE19)-SUM($F33:OE33)","v":0},{"$f":"SUM($G19:OF19)-SUM($F33:OF33)","v":0},{"$f":"SUM($G19:OG19)-SUM($F33:OG33)","v":0},{"$f":"SUM($G19:OH19)-SUM($F33:OH33)","v":0},{"$f":"SUM($G19:OI19)-SUM($F33:OI33)","v":0},{"$f":"SUM($G19:OJ19)-SUM($F33:OJ33)","v":0},{"$f":"SUM($G19:OK19)-SUM($F33:OK33)","v":0},{"$f":"SUM($G19:OL19)-SUM($F33:OL33)","v":0},{"$f":"SUM($G19:OM19)-SUM($F33:OM33)","v":0},{"$f":"SUM($G19:ON19)-SUM($F33:ON33)","v":0},{"$f":"SUM($G19:OO19)-SUM($F33:OO33)","v":0},{"$f":"SUM($G19:OP19)-SUM($F33:OP33)","v":0},{"$f":"SUM($G19:OQ19)-SUM($F33:OQ33)","v":0},{"$f":"SUM($G19:OR19)-SUM($F33:OR33)","v":0},{"$f":"SUM($G19:OS19)-SUM($F33:OS33)","v":0},{"$f":"SUM($G19:OT19)-SUM($F33:OT33)","v":0},{"$f":"SUM($G19:OU19)-SUM($F33:OU33)","v":0},{"$f":"SUM($G19:OV19)-SUM($F33:OV33)","v":0},{"$f":"SUM($G19:OW19)-SUM($F33:OW33)","v":0},{"$f":"SUM($G19:OX19)-SUM($F33:OX33)","v":0},{"$f":"SUM($G19:OY19)-SUM($F33:OY33)","v":0},{"$f":"SUM($G19:OZ19)-SUM($F33:OZ33)","v":0},{"$f":"SUM($G19:PA19)-SUM($F33:PA33)","v":0},{"$f":"SUM($G19:PB19)-SUM($F33:PB33)","v":0},{"$f":"SUM($G19:PC19)-SUM($F33:PC33)","v":0},{"$f":"SUM($G19:PD19)-SUM($F33:PD33)","v":0},{"$f":"SUM($G19:PE19)-SUM($F33:PE33)","v":0},{"$f":"SUM($G19:PF19)-SUM($F33:PF33)","v":0},{"$f":"SUM($G19:PG19)-SUM($F33:PG33)","v":0},{"$f":"SUM($G19:PH19)-SUM($F33:PH33)","v":0},{"$f":"SUM($G19:PI19)-SUM($F33:PI33)","v":0},{"$f":"SUM($G19:PJ19)-SUM($F33:PJ33)","v":0},{"$f":"SUM($G19:PK19)-SUM($F33:PK33)","v":0},{"$f":"SUM($G19:PL19)-SUM($F33:PL33)","v":0},{"$f":"SUM($G19:PM19)-SUM($F33:PM33)","v":0},{"$f":"SUM($G19:PN19)-SUM($F33:PN33)","v":0},{"$f":"SUM($G19:PO19)-SUM($F33:PO33)","v":0},{"$f":"SUM($G19:PP19)-SUM($F33:PP33)","v":0},{"$f":"SUM($G19:PQ19)-SUM($F33:PQ33)","v":0},{"$f":"SUM($G19:PR19)-SUM($F33:PR33)","v":0},{"$f":"SUM($G19:PS19)-SUM($F33:PS33)","v":0},{"$f":"SUM($G19:PT19)-SUM($F33:PT33)","v":0},{"$f":"SUM($G19:PU19)-SUM($F33:PU33)","v":0},{"$f":"SUM($G19:PV19)-SUM($F33:PV33)","v":0},{"$f":"SUM($G19:PW19)-SUM($F33:PW33)","v":0},{"$f":"SUM($G19:PX19)-SUM($F33:PX33)","v":0},{"$f":"SUM($G19:PY19)-SUM($F33:PY33)","v":0},{"$f":"SUM($G19:PZ19)-SUM($F33:PZ33)","v":0},{"$f":"SUM($G19:QA19)-SUM($F33:QA33)","v":0},{"$f":"SUM($G19:QB19)-SUM($F33:QB33)","v":0},{"$f":"SUM($G19:QC19)-SUM($F33:QC33)","v":0},{"$f":"SUM($G19:QD19)-SUM($F33:QD33)","v":0},{"$f":"SUM($G19:QE19)-SUM($F33:QE33)","v":0},{"$f":"SUM($G19:QF19)-SUM($F33:QF33)","v":0},{"$f":"SUM($G19:QG19)-SUM($F33:QG33)","v":0},{"$f":"SUM($G19:QH19)-SUM($F33:QH33)","v":0},{"$f":"SUM($G19:QI19)-SUM($F33:QI33)","v":0},{"$f":"SUM($G19:QJ19)-SUM($F33:QJ33)","v":0},{"$f":"SUM($G19:QK19)-SUM($F33:QK33)","v":0},{"$f":"SUM($G19:QL19)-SUM($F33:QL33)","v":0},{"$f":"SUM($G19:QM19)-SUM($F33:QM33)","v":0},{"$f":"SUM($G19:QN19)-SUM($F33:QN33)","v":0},{"$f":"SUM($G19:QO19)-SUM($F33:QO33)","v":0},{"$f":"SUM($G19:QP19)-SUM($F33:QP33)","v":0},{"$f":"SUM($G19:QQ19)-SUM($F33:QQ33)","v":0},{"$f":"SUM($G19:QR19)-SUM($F33:QR33)","v":0},{"$f":"SUM($G19:QS19)-SUM($F33:QS33)","v":0},{"$f":"SUM($G19:QT19)-SUM($F33:QT33)","v":0},{"$f":"SUM($G19:QU19)-SUM($F33:QU33)","v":0},{"$f":"SUM($G19:QV19)-SUM($F33:QV33)","v":0},{"$f":"SUM($G19:QW19)-SUM($F33:QW33)","v":0},{"$f":"SUM($G19:QX19)-SUM($F33:QX33)","v":0},{"$f":"SUM($G19:QY19)-SUM($F33:QY33)","v":0},{"$f":"SUM($G19:QZ19)-SUM($F33:QZ33)","v":0},{"$f":"SUM($G19:RA19)-SUM($F33:RA33)","v":0},{"$f":"SUM($G19:RB19)-SUM($F33:RB33)","v":0},{"$f":"SUM($G19:RC19)-SUM($F33:RC33)","v":0},{"$f":"SUM($G19:RD19)-SUM($F33:RD33)","v":0},{"$f":"SUM($G19:RE19)-SUM($F33:RE33)","v":0},{"$f":"SUM($G19:RF19)-SUM($F33:RF33)","v":0}]
[null,0,0,0,0,null,{"$f":"SUM($G20:G20)-SUM($F34:G34)","v":0},{"$f":"SUM($G20:H20)-SUM($F34:H34)","v":0},{"$f":"SUM($G20:I20)-SUM($F34:I34)","v":0},{"$f":"SUM($G20:J20)-SUM($F34:J34)","v":0},{"$f":"SUM($G20:K20)-SUM($F34:K34)","v":0},{"$f":"SUM($G20:L20)-SUM($F34:L34)","v":0},{"$f":"SUM($G20:M20)-SUM($F34:M34)","v":0},{"$f":"SUM($G20:N20)-SUM($F34:N34)","v":0},{"$f":"SUM($G20:O20)-SUM($F34:O34)","v":0},{"$f":"SUM($G20:P20)-SUM($F34:P34)","v":0},{"$f":"SUM($G20:Q20)-SUM($F34:Q34)","v":0},{"$f":"SUM($G20:R20)-SUM($F34:R34)","v":0},{"$f":"SUM($G20:S20)-SUM($F34:S34)","v":0},{"$f":"SUM($G20:T20)-SUM($F34:T34)","v":0},{"$f":"SUM($G20:U20)-SUM($F34:U34)","v":0},{"$f":"SUM($G20:V20)-SUM($F34:V34)","v":0},{"$f":"SUM($G20:W20)-SUM($F34:W34)","v":0},{"$f":"SUM($G20:X20)-SUM($F34:X34)","v":0},{"$f":"SUM($G20:Y20)-SUM($F34:Y34)","v":0},{"$f":"SUM($G20:Z20)-SUM($F34:Z34)","v":0},{"$f":"SUM($G20:AA20)-SUM($F34:AA34)","v":0},{"$f":"SUM($G20:AB20)-SUM($F34:AB34)","v":0},{"$f":"SUM($G20:AC20)-SUM($F34:AC34)","v":0},{"$f":"SUM($G20:AD20)-SUM($F34:AD34)","v":0},{"$f":"SUM($G20:AE20)-SUM($F34:AE34)","v":0},{"$f":"SUM($G20:AF20)-SUM($F34:AF34)","v":0},{"$f":"SUM($G20:AG20)-SUM($F34:AG34)","v":0},{"$f":"SUM($G20:AH20)-SUM($F34:AH34)","v":0},{"$f":"SUM($G20:AI20)-SUM($F34:AI34)","v":0},{"$f":"SUM($G20:AJ20)-SUM($F34:AJ34)","v":0},{"$f":"SUM($G20:AK20)-SUM($F34:AK34)","v":0},{"$f":"SUM($G20:AL20)-SUM($F34:AL34)","v":0},{"$f":"SUM($G20:AM20)-SUM($F34:AM34)","v":0},{"$f":"SUM($G20:AN20)-SUM($F34:AN34)","v":0},{"$f":"SUM($G20:AO20)-SUM($F34:AO34)","v":0},{"$f":"SUM($G20:AP20)-SUM($F34:AP34)","v":0},{"$f":"SUM($G20:AQ20)-SUM($F34:AQ34)","v":0},{"$f":"SUM($G20:AR20)-SUM($F34:AR34)","v":0},{"$f":"SUM($G20:AS20)-SUM($F34:AS34)","v":0},{"$f":"SUM($G20:AT20)-SUM($F34:AT34)","v":0},{"$f":"SUM($G20:AU20)-SUM($F34:AU34)","v":0},{"$f":"SUM($G20:AV20)-SUM($F34:AV34)","v":0},{"$f":"SUM($G20:AW20)-SUM($F34:AW34)","v":0},{"$f":"SUM($G20:AX20)-SUM($F34:AX34)","v":0},{"$f":"SUM($G20:AY20)-SUM($F34:AY34)","v":0},{"$f":"SUM($G20:AZ20)-SUM($F34:AZ34)","v":0},{"$f":"SUM($G20:BA20)-SUM($F34:BA34)","v":0},{"$f":"SUM($G20:BB20)-SUM($F34:BB34)","v":0},{"$f":"SUM($G20:BC20)-SUM($F34:BC34)","v":0},{"$f":"SUM($G20:BD20)-SUM($F34:BD34)","v":0},{"$f":"SUM($G20:BE20)-SUM($F34:BE34)","v":0},{"$f":"SUM($G20:BF20)-SUM($F34:BF34)","v":0},{"$f":"SUM($G20:BG20)-SUM($F34:BG34)","v":0},{"$f":"SUM($G20:BH20)-SUM($F34:BH34)","v":0},{"$f":"SUM($G20:BI20)-SUM($F34:BI34)","v":0},{"$f":"SUM($G20:BJ20)-SUM($F34:BJ34)","v":0},{"$f":"SUM($G20:BK20)-SUM($F34:BK34)","v":0},{"$f":"SUM($G20:BL20)-SUM($F34:BL34)","v":0},{"$f":"SUM($G20:BM20)-SUM($F34:BM34)","v":0},{"$f":"SUM($G20:BN20)-SUM($F34:BN34)","v":0},{"$f":"SUM($G20:BO20)-SUM($F34:BO34)","v":0},{"$f":"SUM($G20:BP20)-SUM($F34:BP34)","v":0},{"$f":"SUM($G20:BQ20)-SUM($F34:BQ34)","v":0},{"$f":"SUM($G20:BR20)-SUM($F34:BR34)","v":0},{"$f":"SUM($G20:BS20)-SUM($F34:BS34)","v":0},{"$f":"SUM($G20:BT20)-SUM($F34:BT34)","v":0},{"$f":"SUM($G20:BU20)-SUM($F34:BU34)","v":0},{"$f":"SUM($G20:BV20)-SUM($F34:BV34)","v":0},{"$f":"SUM($G20:BW20)-SUM($F34:BW34)","v":0},{"$f":"SUM($G20:BX20)-SUM($F34:BX34)","v":0},{"$f":"SUM($G20:BY20)-SUM($F34:BY34)","v":0},{"$f":"SUM($G20:BZ20)-SUM($F34:BZ34)","v":0},{"$f":"SUM($G20:CA20)-SUM($F34:CA34)","v":0},{"$f":"SUM($G20:CB20)-SUM($F34:CB34)","v":0},{"$f":"SUM($G20:CC20)-SUM($F34:CC34)","v":0},{"$f":"SUM($G20:CD20)-SUM($F34:CD34)","v":0},{"$f":"SUM($G20:CE20)-SUM($F34:CE34)","v":0},{"$f":"SUM($G20:CF20)-SUM($F34:CF34)","v":0},{"$f":"SUM($G20:CG20)-SUM($F34:CG34)","v":0},{"$f":"SUM($G20:CH20)-SUM($F34:CH34)","v":0},{"$f":"SUM($G20:CI20)-SUM($F34:CI34)","v":0},{"$f":"SUM($G20:CJ20)-SUM($F34:CJ34)","v":0},{"$f":"SUM($G20:CK20)-SUM($F34:CK34)","v":0},{"$f":"SUM($G20:CL20)-SUM($F34:CL34)","v":0},{"$f":"SUM($G20:CM20)-SUM($F34:CM34)","v":0},{"$f":"SUM($G20:CN20)-SUM($F34:CN34)","v":0},{"$f":"SUM($G20:CO20)-SUM($F34:CO34)","v":0},{"$f":"SUM($G20:CP20)-SUM($F34:CP34)","v":0},{"$f":"SUM($G20:CQ20)-SUM($F34:CQ34)","v":0},{"$f":"SUM($G20:CR20)-SUM($F34:CR34)","v":0},{"$f":"SUM($G20:CS20)-SUM($F34:CS34)","v":0},{"$f":"SUM($G20:CT20)-SUM($F34:CT34)","v":0},{"$f":"SUM($G20:CU20)-SUM($F34:CU34)","v":0},{"$f":"SUM($G20:CV20)-SUM($F34:CV34)","v":0},{"$f":"SUM($G20:CW20)-SUM($F34:CW34)","v":0},{"$f":"SUM($G20:CX20)-SUM($F34:CX34)","v":0},{"$f":"SUM($G20:CY20)-SUM($F34:CY34)","v":0},{"$f":"SUM($G20:CZ20)-SUM($F34:CZ34)","v":0},{"$f":"SUM($G20:DA20)-SUM($F34:DA34)","v":0},{"$f":"SUM($G20:DB20)-SUM($F34:DB34)","v":0},{"$f":"SUM($G20:DC20)-SUM($F34:DC34)","v":0},{"$f":"SUM($G20:DD20)-SUM($F34:DD34)","v":0},{"$f":"SUM($G20:DE20)-SUM($F34:DE34)","v":0},{"$f":"SUM($G20:DF20)-SUM($F34:DF34)","v":0},{"$f":"SUM($G20:DG20)-SUM($F34:DG34)","v":0},{"$f":"SUM($G20:DH20)-SUM($F34:DH34)","v":0},{"$f":"SUM($G20:DI20)-SUM($F34:DI34)","v":0},{"$f":"SUM($G20:DJ20)-SUM($F34:DJ34)","v":0},{"$f":"SUM($G20:DK20)-SUM($F34:DK34)","v":0},{"$f":"SUM($G20:DL20)-SUM($F34:DL34)","v":0},{"$f":"SUM($G20:DM20)-SUM($F34:DM34)","v":0},{"$f":"SUM($G20:DN20)-SUM($F34:DN34)","v":0},{"$f":"SUM($G20:DO20)-SUM($F34:DO34)","v":0},{"$f":"SUM($G20:DP20)-SUM($F34:DP34)","v":0},{"$f":"SUM($G20:DQ20)-SUM($F34:DQ34)","v":0},{"$f":"SUM($G20:DR20)-SUM($F34:DR34)","v":0},{"$f":"SUM($G20:DS20)-SUM($F34:DS34)","v":0},{"$f":"SUM($G20:DT20)-SUM($F34:DT34)","v":0},{"$f":"SUM($G20:DU20)-SUM($F34:DU34)","v":0},{"$f":"SUM($G20:DV20)-SUM($F34:DV34)","v":0},{"$f":"SUM($G20:DW20)-SUM($F34:DW34)","v":0},{"$f":"SUM($G20:DX20)-SUM($F34:DX34)","v":0},{"$f":"SUM($G20:DY20)-SUM($F34:DY34)","v":0},{"$f":"SUM($G20:DZ20)-SUM($F34:DZ34)","v":0},{"$f":"SUM($G20:EA20)-SUM($F34:EA34)","v":0},{"$f":"SUM($G20:EB20)-SUM($F34:EB34)","v":0},{"$f":"SUM($G20:EC20)-SUM($F34:EC34)","v":0},{"$f":"SUM($G20:ED20)-SUM($F34:ED34)","v":0},{"$f":"SUM($G20:EE20)-SUM($F34:EE34)","v":0},{"$f":"SUM($G20:EF20)-SUM($F34:EF34)","v":0},{"$f":"SUM($G20:EG20)-SUM($F34:EG34)","v":0},{"$f":"SUM($G20:EH20)-SUM($F34:EH34)","v":0},{"$f":"SUM($G20:EI20)-SUM($F34:EI34)","v":0},{"$f":"SUM($G20:EJ20)-SUM($F34:EJ34)","v":0},{"$f":"SUM($G20:EK20)-SUM($F34:EK34)","v":0},{"$f":"SUM($G20:EL20)-SUM($F34:EL34)","v":0},{"$f":"SUM($G20:EM20)-SUM($F34:EM34)","v":0},{"$f":"SUM($G20:EN20)-SUM($F34:EN34)","v":0},{"$f":"SUM($G20:EO20)-SUM($F34:EO34)","v":0},{"$f":"SUM($G20:EP20)-SUM($F34:EP34)","v":0},{"$f":"SUM($G20:EQ20)-SUM($F34:EQ34)","v":0},{"$f":"SUM($G20:ER20)-SUM($F34:ER34)","v":0},{"$f":"SUM($G20:ES20)-SUM($F34:ES34)","v":0},{"$f":"SUM($G20:ET20)-SUM($F34:ET34)","v":0},{"$f":"SUM($G20:EU20)-SUM($F34:EU34)","v":0},{"$f":"SUM($G20:EV20)-SUM($F34:EV34)","v":0},{"$f":"SUM($G20:EW20)-SUM($F34:EW34)","v":0},{"$f":"SUM($G20:EX20)-SUM($F34:EX34)","v":0},{"$f":"SUM($G20:EY20)-SUM($F34:EY34)","v":0},{"$f":"SUM($G20:EZ20)-SUM($F34:EZ34)","v":0},{"$f":"SUM($G20:FA20)-SUM($F34:FA34)","v":0},{"$f":"SUM($G20:FB20)-SUM($F34:FB34)","v":0},{"$f":"SUM($G20:FC20)-SUM($F34:FC34)","v":0},{"$f":"SUM($G20:FD20)-SUM($F34:FD34)","v":0},{"$f":"SUM($G20:FE20)-SUM($F34:FE34)","v":0},{"$f":"SUM($G20:FF20)-SUM($F34:FF34)","v":0},{"$f":"SUM($G20:FG20)-SUM($F34:FG34)","v":0},{"$f":"SUM($G20:FH20)-SUM($F34:FH34)","v":0},{"$f":"SUM($G20:FI20)-SUM($F34:FI34)","v":0},{"$f":"SUM($G20:FJ20)-SUM($F34:FJ34)","v":0},{"$f":"SUM($G20:FK20)-SUM($F34:FK34)","v":0},{"$f":"SUM($G20:FL20)-SUM($F34:FL34)","v":0},{"$f":"SUM($G20:FM20)-SUM($F34:FM34)","v":0},{"$f":"SUM($G20:FN20)-SUM($F34:FN34)","v":0},{"$f":"SUM($G20:FO20)-SUM($F34:FO34)","v":0},{"$f":"SUM($G20:FP20)-SUM($F34:FP34)","v":0},{"$f":"SUM($G20:FQ20)-SUM($F34:FQ34)","v":0},{"$f":"SUM($G20:FR20)-SUM($F34:FR34)","v":0},{"$f":"SUM($G20:FS20)-SUM($F34:FS34)","v":0},{"$f":"SUM($G20:FT20)-SUM($F34:FT34)","v":0},{"$f":"SUM($G20:FU20)-SUM($F34:FU34)","v":0},{"$f":"SUM($G20:FV20)-SUM($F34:FV34)","v":0},{"$f":"SUM($G20:FW20)-SUM($F34:FW34)","v":0},{"$f":"SUM($G20:FX20)-SUM($F34:FX34)","v":0},{"$f":"SUM($G20:FY20)-SUM($F34:FY34)","v":0},{"$f":"SUM($G20:FZ20)-SUM($F34:FZ34)","v":0},{"$f":"SUM($G20:GA20)-SUM($F34:GA34)","v":0},{"$f":"SUM($G20:GB20)-SUM($F34:GB34)","v":0},{"$f":"SUM($G20:GC20)-SUM($F34:GC34)","v":0},{"$f":"SUM($G20:GD20)-SUM($F34:GD34)","v":0},{"$f":"SUM($G20:GE20)-SUM($F34:GE34)","v":0},{"$f":"SUM($G20:GF20)-SUM($F34:GF34)","v":0},{"$f":"SUM($G20:GG20)-SUM($F34:GG34)","v":0},{"$f":"SUM($G20:GH20)-SUM($F34:GH34)","v":0},{"$f":"SUM($G20:GI20)-SUM($F34:GI34)","v":0},{"$f":"SUM($G20:GJ20)-SUM($F34:GJ34)","v":0},{"$f":"SUM($G20:GK20)-SUM($F34:GK34)","v":0},{"$f":"SUM($G20:GL20)-SUM($F34:GL34)","v":0},{"$f":"SUM($G20:GM20)-SUM($F34:GM34)","v":0},{"$f":"SUM($G20:GN20)-SUM($F34:GN34)","v":0},{"$f":"SUM($G20:GO20)-SUM($F34:GO34)","v":0},{"$f":"SUM($G20:GP20)-SUM($F34:GP34)","v":0},{"$f":"SUM($G20:GQ20)-SUM($F34:GQ34)","v":0},{"$f":"SUM($G20:GR20)-SUM($F34:GR34)","v":0},{"$f":"SUM($G20:GS20)-SUM($F34:GS34)","v":0},{"$f":"SUM($G20:GT20)-SUM($F34:GT34)","v":0},{"$f":"SUM($G20:GU20)-SUM($F34:GU34)","v":0},{"$f":"SUM($G20:GV20)-SUM($F34:GV34)","v":0},{"$f":"SUM($G20:GW20)-SUM($F34:GW34)","v":0},{"$f":"SUM($G20:GX20)-SUM($F34:GX34)","v":0},{"$f":"SUM($G20:GY20)-SUM($F34:GY34)","v":0},{"$f":"SUM($G20:GZ20)-SUM($F34:GZ34)","v":0},{"$f":"SUM($G20:HA20)-SUM($F34:HA34)","v":0},{"$f":"SUM($G20:HB20)-SUM($F34:HB34)","v":0},{"$f":"SUM($G20:HC20)-SUM($F34:HC34)","v":0},{"$f":"SUM($G20:HD20)-SUM($F34:HD34)","v":0},{"$f":"SUM($G20:HE20)-SUM($F34:HE34)","v":0},{"$f":"SUM($G20:HF20)-SUM($F34:HF34)","v":0},{"$f":"SUM($G20:HG20)-SUM($F34:HG34)","v":0},{"$f":"SUM($G20:HH20)-SUM($F34:HH34)","v":0},{"$f":"SUM($G20:HI20)-SUM($F34:HI34)","v":0},{"$f":"SUM($G20:HJ20)-SUM($F34:HJ34)","v":0},{"$f":"SUM($G20:HK20)-SUM($F34:HK34)","v":0},{"$f":"SUM($G20:HL20)-SUM($F34:HL34)","v":0},{"$f":"SUM($G20:HM20)-SUM($F34:HM34)","v":0},{"$f":"SUM($G20:HN20)-SUM($F34:HN34)","v":0},{"$f":"SUM($G20:HO20)-SUM($F34:HO34)","v":0},{"$f":"SUM($G20:HP20)-SUM($F34:HP34)","v":0},{"$f":"SUM($G20:HQ20)-SUM($F34:HQ34)","v":0},{"$f":"SUM($G20:HR20)-SUM($F34:HR34)","v":0},{"$f":"SUM($G20:HS20)-SUM($F34:HS34)","v":0},{"$f":"SUM($G20:HT20)-SUM($F34:HT34)","v":0},{"$f":"SUM($G20:HU20)-SUM($F34:HU34)","v":0},{"$f":"SUM($G20:HV20)-SUM($F34:HV34)","v":0},{"$f":"SUM($G20:HW20)-SUM($F34:HW34)","v":0},{"$f":"SUM($G20:HX20)-SUM($F34:HX34)","v":0},{"$f":"SUM($G20:HY20)-SUM($F34:HY34)","v":0},{"$f":"SUM($G20:HZ20)-SUM($F34:HZ34)","v":0},{"$f":"SUM($G20:IA20)-SUM($F34:IA34)","v":0},{"$f":"SUM($G20:IB20)-SUM($F34:IB34)","v":0},{"$f":"SUM($G20:IC20)-SUM($F34:IC34)","v":0},{"$f":"SUM($G20:ID20)-SUM($F34:ID34)","v":0},{"$f":"SUM($G20:IE20)-SUM($F34:IE34)","v":0},{"$f":"SUM($G20:IF20)-SUM($F34:IF34)","v":0},{"$f":"SUM($G20:IG20)-SUM($F34:IG34)","v":0},{"$f":"SUM($G20:IH20)-SUM($F34:IH34)","v":0},{"$f":"SUM($G20:II20)-SUM($F34:II34)","v":0},{"$f":"SUM($G20:IJ20)-SUM($F34:IJ34)","v":0},{"$f":"SUM($G20:IK20)-SUM($F34:IK34)","v":0},{"$f":"SUM($G20:IL20)-SUM($F34:IL34)","v":0},{"$f":"SUM($G20:IM20)-SUM($F34:IM34)","v":0},{"$f":"SUM($G20:IN20)-SUM($F34:IN34)","v":0},{"$f":"SUM($G20:IO20)-SUM($F34:IO34)","v":0},{"$f":"SUM($G20:IP20)-SUM($F34:IP34)","v":0},{"$f":"SUM($G20:IQ20)-SUM($F34:IQ34)","v":0},{"$f":"SUM($G20:IR20)-SUM($F34:IR34)","v":0},{"$f":"SUM($G20:IS20)-SUM($F34:IS34)","v":0},{"$f":"SUM($G20:IT20)-SUM($F34:IT34)","v":0},{"$f":"SUM($G20:IU20)-SUM($F34:IU34)","v":0},{"$f":"SUM($G20:IV20)-SUM($F34:IV34)","v":0},{"$f":"SUM($G20:IW20)-SUM($F34:IW34)","v":0},{"$f":"SUM($G20:IX20)-SUM($F34:IX34)","v":0},{"$f":"SUM($G20:IY20)-SUM($F34:IY34)","v":0},{"$f":"SUM($G20:IZ20)-SUM($F34:IZ34)","v":0},{"$f":"SUM($G20:JA20)-SUM($F34:JA34)","v":0},{"$f":"SUM($G20:JB20)-SUM($F34:JB34)","v":0},{"$f":"SUM($G20:JC20)-SUM($F34:JC34)","v":0},{"$f":"SUM($G20:JD20)-SUM($F34:JD34)","v":0},{"$f":"SUM($G20:JE20)-SUM($F34:JE34)","v":0},{"$f":"SUM($G20:JF20)-SUM($F34:JF34)","v":0},{"$f":"SUM($G20:JG20)-SUM($F34:JG34)","v":0},{"$f":"SUM($G20:JH20)-SUM($F34:JH34)","v":0},{"$f":"SUM($G20:JI20)-SUM($F34:JI34)","v":0},{"$f":"SUM($G20:JJ20)-SUM($F34:JJ34)","v":0},{"$f":"SUM($G20:JK20)-SUM($F34:JK34)","v":0},{"$f":"SUM($G20:JL20)-SUM($F34:JL34)","v":0},{"$f":"SUM($G20:JM20)-SUM($F34:JM34)","v":0},{"$f":"SUM($G20:JN20)-SUM($F34:JN34)","v":0},{"$f":"SUM($G20:JO20)-SUM($F34:JO34)","v":0},{"$f":"SUM($G20:JP20)-SUM($F34:JP34)","v":0},{"$f":"SUM($G20:JQ20)-SUM($F34:JQ34)","v":0},{"$f":"SUM($G20:JR20)-SUM($F34:JR34)","v":0},{"$f":"SUM($G20:JS20)-SUM($F34:JS34)","v":0},{"$f":"SUM($G20:JT20)-SUM($F34:JT34)","v":0},{"$f":"SUM($G20:JU20)-SUM($F34:JU34)","v":0},{"$f":"SUM($G20:JV20)-SUM($F34:JV34)","v":0},{"$f":"SUM($G20:JW20)-SUM($F34:JW34)","v":0},{"$f":"SUM($G20:JX20)-SUM($F34:JX34)","v":0},{"$f":"SUM($G20:JY20)-SUM($F34:JY34)","v":0},{"$f":"SUM($G20:JZ20)-SUM($F34:JZ34)","v":0},{"$f":"SUM($G20:KA20)-SUM($F34:KA34)","v":0},{"$f":"SUM($G20:KB20)-SUM($F34:KB34)","v":0},{"$f":"SUM($G20:KC20)-SUM($F34:KC34)","v":0},{"$f":"SUM($G20:KD20)-SUM($F34:KD34)","v":0},{"$f":"SUM($G20:KE20)-SUM($F34:KE34)","v":0},{"$f":"SUM($G20:KF20)-SUM($F34:KF34)","v":0},{"$f":"SUM($G20:KG20)-SUM($F34:KG34)","v":0},{"$f":"SUM($G20:KH20)-SUM($F34:KH34)","v":0},{"$f":"SUM($G20:KI20)-SUM($F34:KI34)","v":0},{"$f":"SUM($G20:KJ20)-SUM($F34:KJ34)","v":0},{"$f":"SUM($G20:KK20)-SUM($F34:KK34)","v":0},{"$f":"SUM($G20:KL20)-SUM($F34:KL34)","v":0},{"$f":"SUM($G20:KM20)-SUM($F34:KM34)","v":0},{"$f":"SUM($G20:KN20)-SUM($F34:KN34)","v":0},{"$f":"SUM($G20:KO20)-SUM($F34:KO34)","v":0},{"$f":"SUM($G20:KP20)-SUM($F34:KP34)","v":0},{"$f":"SUM($G20:KQ20)-SUM($F34:KQ34)","v":0},{"$f":"SUM($G20:KR20)-SUM($F34:KR34)","v":0},{"$f":"SUM($G20:KS20)-SUM($F34:KS34)","v":0},{"$f":"SUM($G20:KT20)-SUM($F34:KT34)","v":0},{"$f":"SUM($G20:KU20)-SUM($F34:KU34)","v":0},{"$f":"SUM($G20:KV20)-SUM($F34:KV34)","v":0},{"$f":"SUM($G20:KW20)-SUM($F34:KW34)","v":0},{"$f":"SUM($G20:KX20)-SUM($F34:KX34)","v":0},{"$f":"SUM($G20:KY20)-SUM($F34:KY34)","v":0},{"$f":"SUM($G20:KZ20)-SUM($F34:KZ34)","v":0},{"$f":"SUM($G20:LA20)-SUM($F34:LA34)","v":0},{"$f":"SUM($G20:LB20)-SUM($F34:LB34)","v":0},{"$f":"SUM($G20:LC20)-SUM($F34:LC34)","v":0},{"$f":"SUM($G20:LD20)-SUM($F34:LD34)","v":0},{"$f":"SUM($G20:LE20)-SUM($F34:LE34)","v":0},{"$f":"SUM($G20:LF20)-SUM($F34:LF34)","v":0},{"$f":"SUM($G20:LG20)-SUM($F34:LG34)","v":0},{"$f":"SUM($G20:LH20)-SUM($F34:LH34)","v":0},{"$f":"SUM($G20:LI20)-SUM($F34:LI34)","v":0},{"$f":"SUM($G20:LJ20)-SUM($F34:LJ34)","v":0},{"$f":"SUM($G20:LK20)-SUM($F34:LK34)","v":0},{"$f":"SUM($G20:LL20)-SUM($F34:LL34)","v":0},{"$f":"SUM($G20:LM20)-SUM($F34:LM34)","v":0},{"$f":"SUM($G20:LN20)-SUM($F34:LN34)","v":0},{"$f":"SUM($G20:LO20)-SUM($F34:LO34)","v":0},{"$f":"SUM($G20:LP20)-SUM($F34:LP34)","v":0},{"$f":"SUM($G20:LQ20)-SUM($F34:LQ34)","v":0},{"$f":"SUM($G20:LR20)-SUM($F34:LR34)","v":0},{"$f":"SUM($G20:LS20)-SUM($F34:LS34)","v":0},{"$f":"SUM($G20:LT20)-SUM($F34:LT34)","v":0},{"$f":"SUM($G20:LU20)-SUM($F34:LU34)","v":0},{"$f":"SUM($G20:LV20)-SUM($F34:LV34)","v":0},{"$f":"SUM($G20:LW20)-SUM($F34:LW34)","v":0},{"$f":"SUM($G20:LX20)-SUM($F34:LX34)","v":0},{"$f":"SUM($G20:LY20)-SUM($F34:LY34)","v":0},{"$f":"SUM($G20:LZ20)-SUM($F34:LZ34)","v":0},{"$f":"SUM($G20:MA20)-SUM($F34:MA34)","v":0},{"$f":"SUM($G20:MB20)-SUM($F34:MB34)","v":0},{"$f":"SUM($G20:MC20)-SUM($F34:MC34)","v":0},{"$f":"SUM($G20:MD20)-SUM($F34:MD34)","v":0},{"$f":"SUM($G20:ME20)-SUM($F34:ME34)","v":0},{"$f":"SUM($G20:MF20)-SUM($F34:MF34)","v":0},{"$f":"SUM($G20:MG20)-SUM($F34:MG34)","v":0},{"$f":"SUM($G20:MH20)-SUM($F34:MH34)","v":0},{"$f":"SUM($G20:MI20)-SUM($F34:MI34)","v":0},{"$f":"SUM($G20:MJ20)-SUM($F34:MJ34)","v":0},{"$f":"SUM($G20:MK20)-SUM($F34:MK34)","v":0},{"$f":"SUM($G20:ML20)-SUM($F34:ML34)","v":0},{"$f":"SUM($G20:MM20)-SUM($F34:MM34)","v":0},{"$f":"SUM($G20:MN20)-SUM($F34:MN34)","v":0},{"$f":"SUM($G20:MO20)-SUM($F34:MO34)","v":0},{"$f":"SUM($G20:MP20)-SUM($F34:MP34)","v":0},{"$f":"SUM($G20:MQ20)-SUM($F34:MQ34)","v":0},{"$f":"SUM($G20:MR20)-SUM($F34:MR34)","v":0},{"$f":"SUM($G20:MS20)-SUM($F34:MS34)","v":0},{"$f":"SUM($G20:MT20)-SUM($F34:MT34)","v":0},{"$f":"SUM($G20:MU20)-SUM($F34:MU34)","v":0},{"$f":"SUM($G20:MV20)-SUM($F34:MV34)","v":0},{"$f":"SUM($G20:MW20)-SUM($F34:MW34)","v":0},{"$f":"SUM($G20:MX20)-SUM($F34:MX34)","v":0},{"$f":"SUM($G20:MY20)-SUM($F34:MY34)","v":0},{"$f":"SUM($G20:MZ20)-SUM($F34:MZ34)","v":0},{"$f":"SUM($G20:NA20)-SUM($F34:NA34)","v":0},{"$f":"SUM($G20:NB20)-SUM($F34:NB34)","v":0},{"$f":"SUM($G20:NC20)-SUM($F34:NC34)","v":0},{"$f":"SUM($G20:ND20)-SUM($F34:ND34)","v":0},{"$f":"SUM($G20:NE20)-SUM($F34:NE34)","v":0},{"$f":"SUM($G20:NF20)-SUM($F34:NF34)","v":0},{"$f":"SUM($G20:NG20)-SUM($F34:NG34)","v":0},{"$f":"SUM($G20:NH20)-SUM($F34:NH34)","v":0},{"$f":"SUM($G20:NI20)-SUM($F34:NI34)","v":0},{"$f":"SUM($G20:NJ20)-SUM($F34:NJ34)","v":0},{"$f":"SUM($G20:NK20)-SUM($F34:NK34)","v":0},{"$f":"SUM($G20:NL20)-SUM($F34:NL34)","v":0},{"$f":"SUM($G20:NM20)-SUM($F34:NM34)","v":0},{"$f":"SUM($G20:NN20)-SUM($F34:NN34)","v":0},{"$f":"SUM($G20:NO20)-SUM($F34:NO34)","v":0},{"$f":"SUM($G20:NP20)-SUM($F34:NP34)","v":0},{"$f":"SUM($G20:NQ20)-SUM($F34:NQ34)","v":0},{"$f":"SUM($G20:NR20)-SUM($F34:NR34)","v":0},{"$f":"SUM($G20:NS20)-SUM($F34:NS34)","v":0},{"$f":"SUM($G20:NT20)-SUM($F34:NT34)","v":0},{"$f":"SUM($G20:NU20)-SUM($F34:NU34)","v":0},{"$f":"SUM($G20:NV20)-SUM($F34:NV34)","v":0},{"$f":"SUM($G20:NW20)-SUM($F34:NW34)","v":0},{"$f":"SUM($G20:NX20)-SUM($F34:NX34)","v":0},{"$f":"SUM($G20:NY20)-SUM($F34:NY34)","v":0},{"$f":"SUM($G20:NZ20)-SUM($F34:NZ34)","v":0},{"$f":"SUM($G20:OA20)-SUM($F34:OA34)","v":0},{"$f":"SUM($G20:OB20)-SUM($F34:OB34)","v":0},{"$f":"SUM($G20:OC20)-SUM($F34:OC34)","v":0},{"$f":"SUM($G20:OD20)-SUM($F34:OD34)","v":0},{"$f":"SUM($G20:OE20)-SUM($F34:OE34)","v":0},{"$f":"SUM($G20:OF20)-SUM($F34:OF34)","v":0},{"$f":"SUM($G20:OG20)-SUM($F34:OG34)","v":0},{"$f":"SUM($G20:OH20)-SUM($F34:OH34)","v":0},{"$f":"SUM($G20:OI20)-SUM($F34:OI34)","v":0},{"$f":"SUM($G20:OJ20)-SUM($F34:OJ34)","v":0},{"$f":"SUM($G20:OK20)-SUM($F34:OK34)","v":0},{"$f":"SUM($G20:OL20)-SUM($F34:OL34)","v":0},{"$f":"SUM($G20:OM20)-SUM($F34:OM34)","v":0},{"$f":"SUM($G20:ON20)-SUM($F34:ON34)","v":0},{"$f":"SUM($G20:OO20)-SUM($F34:OO34)","v":0},{"$f":"SUM($G20:OP20)-SUM($F34:OP34)","v":0},{"$f":"SUM($G20:OQ20)-SUM($F34:OQ34)","v":0},{"$f":"SUM($G20:OR20)-SUM($F34:OR34)","v":0},{"$f":"SUM($G20:OS20)-SUM($F34:OS34)","v":0},{"$f":"SUM($G20:OT20)-SUM($F34:OT34)","v":0},{"$f":"SUM($G20:OU20)-SUM($F34:OU34)","v":0},{"$f":"SUM($G20:OV20)-SUM($F34:OV34)","v":0},{"$f":"SUM($G20:OW20)-SUM($F34:OW34)","v":0},{"$f":"SUM($G20:OX20)-SUM($F34:OX34)","v":0},{"$f":"SUM($G20:OY20)-SUM($F34:OY34)","v":0},{"$f":"SUM($G20:OZ20)-SUM($F34:OZ34)","v":0},{"$f":"SUM($G20:PA20)-SUM($F34:PA34)","v":0},{"$f":"SUM($G20:PB20)-SUM($F34:PB34)","v":0},{"$f":"SUM($G20:PC20)-SUM($F34:PC34)","v":0},{"$f":"SUM($G20:PD20)-SUM($F34:PD34)","v":0},{"$f":"SUM($G20:PE20)-SUM($F34:PE34)","v":0},{"$f":"SUM($G20:PF20)-SUM($F34:PF34)","v":0},{"$f":"SUM($G20:PG20)-SUM($F34:PG34)","v":0},{"$f":"SUM($G20:PH20)-SUM($F34:PH34)","v":0},{"$f":"SUM($G20:PI20)-SUM($F34:PI34)","v":0},{"$f":"SUM($G20:PJ20)-SUM($F34:PJ34)","v":0},{"$f":"SUM($G20:PK20)-SUM($F34:PK34)","v":0},{"$f":"SUM($G20:PL20)-SUM($F34:PL34)","v":0},{"$f":"SUM($G20:PM20)-SUM($F34:PM34)","v":0},{"$f":"SUM($G20:PN20)-SUM($F34:PN34)","v":0},{"$f":"SUM($G20:PO20)-SUM($F34:PO34)","v":0},{"$f":"SUM($G20:PP20)-SUM($F34:PP34)","v":0},{"$f":"SUM($G20:PQ20)-SUM($F34:PQ34)","v":0},{"$f":"SUM($G20:PR20)-SUM($F34:PR34)","v":0},{"$f":"SUM($G20:PS20)-SUM($F34:PS34)","v":0},{"$f":"SUM($G20:PT20)-SUM($F34:PT34)","v":0},{"$f":"SUM($G20:PU20)-SUM($F34:PU34)","v":0},{"$f":"SUM($G20:PV20)-SUM($F34:PV34)","v":0},{"$f":"SUM($G20:PW20)-SUM($F34:PW34)","v":0},{"$f":"SUM($G20:PX20)-SUM($F34:PX34)","v":0},{"$f":"SUM($G20:PY20)-SUM($F34:PY34)","v":0},{"$f":"SUM($G20:PZ20)-SUM($F34:PZ34)","v":0},{"$f":"SUM($G20:QA20)-SUM($F34:QA34)","v":0},{"$f":"SUM($G20:QB20)-SUM($F34:QB34)","v":0},{"$f":"SUM($G20:QC20)-SUM($F34:QC34)","v":0},{"$f":"SUM($G20:QD20)-SUM($F34:QD34)","v":0},{"$f":"SUM($G20:QE20)-SUM($F34:QE34)","v":0},{"$f":"SUM($G20:QF20)-SUM($F34:QF34)","v":0},{"$f":"SUM($G20:QG20)-SUM($F34:QG34)","v":0},{"$f":"SUM($G20:QH20)-SUM($F34:QH34)","v":0},{"$f":"SUM($G20:QI20)-SUM($F34:QI34)","v":0},{"$f":"SUM($G20:QJ20)-SUM($F34:QJ34)","v":0},{"$f":"SUM($G20:QK20)-SUM($F34:QK34)","v":0},{"$f":"SUM($G20:QL20)-SUM($F34:QL34)","v":0},{"$f":"SUM($G20:QM20)-SUM($F34:QM34)","v":0},{"$f":"SUM($G20:QN20)-SUM($F34:QN34)","v":0},{"$f":"SUM($G20:QO20)-SUM($F34:QO34)","v":0},{"$f":"SUM($G20:QP20)-SUM($F34:QP34)","v":0},{"$f":"SUM($G20:QQ20)-SUM($F34:QQ34)","v":0},{"$f":"SUM($G20:QR20)-SUM($F34:QR34)","v":0},{"$f":"SUM($G20:QS20)-SUM($F34:QS34)","v":0},{"$f":"SUM($G20:QT20)-SUM($F34:QT34)","v":0},{"$f":"SUM($G20:QU20)-SUM($F34:QU34)","v":0},{"$f":"SUM($G20:QV20)-SUM($F34:QV34)","v":0},{"$f":"SUM($G20:QW20)-SUM($F34:QW34)","v":0},{"$f":"SUM($G20:QX20)-SUM($F34:QX34)","v":0},{"$f":"SUM($G20:QY20)-SUM($F34:QY34)","v":0},{"$f":"SUM($G20:QZ20)-SUM($F34:QZ34)","v":0},{"$f":"SUM($G20:RA20)-SUM($F34:RA34)","v":0},{"$f":"SUM($G20:RB20)-SUM($F34:RB34)","v":0},{"$f":"SUM($G20:RC20)-SUM($F34:RC34)","v":0},{"$f":"SUM($G20:RD20)-SUM($F34:RD34)","v":0},{"$f":"SUM($G20:RE20)-SUM($F34:RE34)","v":0},{"$f":"SUM($G20:RF20)-SUM($F34:RF34)","v":0}]

{"sheet":"Depreciação_Anual","index":4,"n_rows":86,"n_cols":45,"rows_kept":86}
["Confidencial"]
[]
[]
[{"$nulls":4},"Ano",null,{"$f":"+Depreciação_Mensal!G4","v":2022},{"$f":"+G4+1","v":2023},{"$f":"+H4+1","v":2024},2025,2026,2027,2028,2029,2030,2031,2032,2033,2034,2035,2036,2037,2038,2039,2040,2041,2042,2043,2044,2045,2046,2047,2048,2049,2050,2051,2052,{"$f":"+AK4+1","v":2053},2054,2055,2056,2057,2058,2059,2060]
[{"$nulls":6},{"$f":"SUMIFS(G$26:G$35,$C$26:$C$35,\"In\")","v":0},{"$f":"SUMIFS(H$26:H$35,$C$26:$C$35,\"In\")","v":0},{"$f":"SUMIFS(I$26:I$35,$C$26:$C$35,\"In\")","v":0},0,0,0,0,0,0,0,0,0,0,0,0,0,0,0,0,0,0,0,0,0,0,0,0,0,0,0,0,0,0,0,0,0,0,0,0]
[{"$nulls":6},{"$f":"SUMIFS(G$12:G$21,$C$12:$C$21,\"In\")","v":0},{"$f":"SUMIFS(H$12:H$21,$C$12:$C$21,\"In\")","v":0},{"$f":"SUMIFS(I$12:I$21,$C$12:$C$21,\"In\")","v":0},0,0,0,0,0,0,0,0,0,0,0,0,0,0,0,0,0,0,0,0,0,0,0,0,0,0,0,0,0,0,0,0,0,0,0,0]
[{"$nulls":4},"Operação",null,{"$f":"IFERROR(SUMIFS(Depreciação_Mensal!$G6:$RF6,Depreciação_Mensal!$G$4:$RF$4,Depreciação_Anual!G$4)/COUNTIFS(Depreciação_Mensal!$G$4:$RF$4,Depreciação_Anual!G4),)","v":{"v":0,"d":"0%"}},{"$f":"IFERROR(SUMIFS(Depreciação_Mensal!$G6:$RF6,Depreciação_Mensal!$G$4:$RF$4,Depreciação_Anual!H$4)/COUNTIFS(Depreciação_Mensal!$G$4:$RF$4,Depreciação_Anual!H4),)","v":{"v":0,"d":"0%"}},{"$f":"IFERROR(SUMIFS(Depreciação_Mensal!$G6:$RF6,Depreciação_Mensal!$G$4:$RF$4,Depreciação_Anual!I$4)/COUNTIFS(Depreciação_Mensal!$G$4:$RF$4,Depreciação_Anual!I4),)","v":{"v":0.5833333333333334,"d":"58%"}},{"$f":"IFERROR(SUMIFS(Depreciação_Mensal!$G6:$RF6,Depreciação_Mensal!$G$4:$RF$4,Depreciação_Anual!J$4)/COUNTIFS(Depreciação_Mensal!$G$4:$RF$4,Depreciação_Anual!J4),)","v":{"v":1,"d":"100%"}},{"$f":"IFERROR(SUMIFS(Depreciação_Mensal!$G6:$RF6,Depreciação_Mensal!$G$4:$RF$4,Depreciação_Anual!K$4)/COUNTIFS(Depreciação_Mensal!$G$4:$RF$4,Depreciação_Anual!K4),)","v":{"v":1,"d":"100%"}},{"$f":"IFERROR(SUMIFS(Depreciação_Mensal!$G6:$RF6,Depreciação_Mensal!$G$4:$RF$4,Depreciação_Anual!L$4)/COUNTIFS(Depreciação_Mensal!$G$4:$RF$4,Depreciação_Anual!L4),)","v":{"v":1,"d":"100%"}},{"$f":"IFERROR(SUMIFS(Depreciação_Mensal!$G6:$RF6,Depreciação_Mensal!$G$4:$RF$4,Depreciação_Anual!M$4)/COUNTIFS(Depreciação_Mensal!$G$4:$RF$4,Depreciação_Anual!M4),)","v":{"v":1,"d":"100%"}},{"$f":"IFERROR(SUMIFS(Depreciação_Mensal!$G6:$RF6,Depreciação_Mensal!$G$4:$RF$4,Depreciação_Anual!N$4)/COUNTIFS(Depreciação_Mensal!$G$4:$RF$4,Depreciação_Anual!N4),)","v":{"v":1,"d":"100%"}},{"$f":"IFERROR(SUMIFS(Depreciação_Mensal!$G6:$RF6,Depreciação_Mensal!$G$4:$RF$4,Depreciação_Anual!O$4)/COUNTIFS(Depreciação_Mensal!$G$4:$RF$4,Depreciação_Anual!O4),)","v":{"v":1,"d":"100%"}},{"$f":"IFERROR(SUMIFS(Depreciação_Mensal!$G6:$RF6,Depreciação_Mensal!$G$4:$RF$4,Depreciação_Anual!P$4)/COUNTIFS(Depreciação_Mensal!$G$4:$RF$4,Depreciação_Anual!P4),)","v":{"v":1,"d":"100%"}},{"$f":"IFERROR(SUMIFS(Depreciação_Mensal!$G6:$RF6,Depreciação_Mensal!$G$4:$RF$4,Depreciação_Anual!Q$4)/COUNTIFS(Depreciação_Mensal!$G$4:$RF$4,Depreciação_Anual!Q4),)","v":{"v":1,"d":"100%"}},{"$f":"IFERROR(SUMIFS(Depreciação_Mensal!$G6:$RF6,Depreciação_Mensal!$G$4:$RF$4,Depreciação_Anual!R$4)/COUNTIFS(Depreciação_Mensal!$G$4:$RF$4,Depreciação_Anual!R4),)","v":{"v":1,"d":"100%"}},{"$f":"IFERROR(SUMIFS(Depreciação_Mensal!$G6:$RF6,Depreciação_Mensal!$G$4:$RF$4,Depreciação_Anual!S$4)/COUNTIFS(Depreciação_Mensal!$G$4:$RF$4,Depreciação_Anual!S4),)","v":{"v":1,"d":"100%"}},{"$f":"IFERROR(SUMIFS(Depreciação_Mensal!$G6:$RF6,Depreciação_Mensal!$G$4:$RF$4,Depreciação_Anual!T$4)/COUNTIFS(Depreciação_Mensal!$G$4:$RF$4,Depreciação_Anual!T4),)","v":{"v":1,"d":"100%"}},{"$f":"IFERROR(SUMIFS(Depreciação_Mensal!$G6:$RF6,Depreciação_Mensal!$G$4:$RF$4,Depreciação_Anual!U$4)/COUNTIFS(Depreciação_Mensal!$G$4:$RF$4,Depreciação_Anual!U4),)","v":{"v":1,"d":"100%"}},{"$f":"IFERROR(SUMIFS(Depreciação_Mensal!$G6:$RF6,Depreciação_Mensal!$G$4:$RF$4,Depreciação_Anual!V$4)/COUNTIFS(Depreciação_Mensal!$G$4:$RF$4,Depreciação_Anual!V4),)","v":{"v":1,"d":"100%"}},{"$f":"IFERROR(SUMIFS(Depreciação_Mensal!$G6:$RF6,Depreciação_Mensal!$G$4:$RF$4,Depreciação_Anual!W$4)/COUNTIFS(Depreciação_Mensal!$G$4:$RF$4,Depreciação_Anual!W4),)","v":{"v":1,"d":"100%"}},{"$f":"IFERROR(SUMIFS(Depreciação_Mensal!$G6:$RF6,Depreciação_Mensal!$G$4:$RF$4,Depreciação_Anual!X$4)/COUNTIFS(Depreciação_Mensal!$G$4:$RF$4,Depreciação_Anual!X4),)","v":{"v":1,"d":"100%"}},{"$f":"IFERROR(SUMIFS(Depreciação_Mensal!$G6:$RF6,Depreciação_Mensal!$G$4:$RF$4,Depreciação_Anual!Y$4)/COUNTIFS(Depreciação_Mensal!$G$4:$RF$4,Depreciação_Anual!Y4),)","v":{"v":1,"d":"100%"}},{"$f":"IFERROR(SUMIFS(Depreciação_Mensal!$G6:$RF6,Depreciação_Mensal!$G$4:$RF$4,Depreciação_Anual!Z$4)/COUNTIFS(Depreciação_Mensal!$G$4:$RF$4,Depreciação_Anual!Z4),)","v":{"v":0,"d":"0%"}},{"$f":"IFERROR(SUMIFS(Depreciação_Mensal!$G6:$RF6,Depreciação_Mensal!$G$4:$RF$4,Depreciação_Anual!AA$4)/COUNTIFS(Depreciação_Mensal!$G$4:$RF$4,Depreciação_Anual!AA4),)","v":{"v":0,"d":"0%"}},{"$f":"IFERROR(SUMIFS(Depreciação_Mensal!$G6:$RF6,Depreciação_Mensal!$G$4:$RF$4,Depreciação_Anual!AB$4)/COUNTIFS(Depreciação_Mensal!$G$4:$RF$4,Depreciação_Anual!AB4),)","v":{"v":0,"d":"0%"}},{"$f":"IFERROR(SUMIFS(Depreciação_Mensal!$G6:$RF6,Depreciação_Mensal!$G$4:$RF$4,Depreciação_Anual!AC$4)/COUNTIFS(Depreciação_Mensal!$G$4:$RF$4,Depreciação_Anual!AC4),)","v":{"v":0,"d":"0%"}},{"$f":"IFERROR(SUMIFS(Depreciação_Mensal!$G6:$RF6,Depreciação_Mensal!$G$4:$RF$4,Depreciação_Anual!AD$4)/COUNTIFS(Depreciação_Mensal!$G$4:$RF$4,Depreciação_Anual!AD4),)","v":{"v":0,"d":"0%"}},{"$f":"IFERROR(SUMIFS(Depreciação_Mensal!$G6:$RF6,Depreciação_Mensal!$G$4:$RF$4,Depreciação_Anual!AE$4)/COUNTIFS(Depreciação_Mensal!$G$4:$RF$4,Depreciação_Anual!AE4),)","v":{"v":0,"d":"0%"}},{"$f":"IFERROR(SUMIFS(Depreciação_Mensal!$G6:$RF6,Depreciação_Mensal!$G$4:$RF$4,Depreciação_Anual!AF$4)/COUNTIFS(Depreciação_Mensal!$G$4:$RF$4,Depreciação_Anual!AF4),)","v":{"v":0,"d":"0%"}},{"$f":"IFERROR(SUMIFS(Depreciação_Mensal!$G6:$RF6,Depreciação_Mensal!$G$4:$RF$4,Depreciação_Anual!AG$4)/COUNTIFS(Depreciação_Mensal!$G$4:$RF$4,Depreciação_Anual!AG4),)","v":{"v":0,"d":"0%"}},{"$f":"IFERROR(SUMIFS(Depreciação_Mensal!$G6:$RF6,Depreciação_Mensal!$G$4:$RF$4,Depreciação_Anual!AH$4)/COUNTIFS(Depreciação_Mensal!$G$4:$RF$4,Depreciação_Anual!AH4),)","v":{"v":0,"d":"0%"}},{"$f":"IFERROR(SUMIFS(Depreciação_Mensal!$G6:$RF6,Depreciação_Mensal!$G$4:$RF$4,Depreciação_Anual!AI$4)/COUNTIFS(Depreciação_Mensal!$G$4:$RF$4,Depreciação_Anual!AI4),)","v":{"v":0,"d":"0%"}},{"$f":"IFERROR(SUMIFS(Depreciação_Mensal!$G6:$RF6,Depreciação_Mensal!$G$4:$RF$4,Depreciação_Anual!AJ$4)/COUNTIFS(Depreciação_Mensal!$G$4:$RF$4,Depreciação_Anual!AJ4),)","v":{"v":0,"d":"0%"}},{"$f":"IFERROR(SUMIFS(Depreciação_Mensal!$G6:$RF6,Depreciação_Mensal!$G$4:$RF$4,Depreciação_Anual!AK$4)/COUNTIFS(Depreciação_Mensal!$G$4:$RF$4,Depreciação_Anual!AK4),)","v":{"v":0,"d":"0%"}},{"$f":"IFERROR(SUMIFS(Depreciação_Mensal!$G6:$RF6,Depreciação_Mensal!$G$4:$RF$4,Depreciação_Anual!AL$4)/COUNTIFS(Depreciação_Mensal!$G$4:$RF$4,Depreciação_Anual!AL4),)","v":{"v":0,"d":"0%"}},{"$f":"IFERROR(SUMIFS(Depreciação_Mensal!$G6:$RF6,Depreciação_Mensal!$G$4:$RF$4,Depreciação_Anual!AM$4)/COUNTIFS(Depreciação_Mensal!$G$4:$RF$4,Depreciação_Anual!AM4),)","v":{"v":0,"d":"0%"}},{"$f":"IFERROR(SUMIFS(Depreciação_Mensal!$G6:$RF6,Depreciação_Mensal!$G$4:$RF$4,Depreciação_Anual!AN$4)/COUNTIFS(Depreciação_Mensal!$G$4:$RF$4,Depreciação_Anual!AN4),)","v":{"v":0,"d":"0%"}},{"$f":"IFERROR(SUMIFS(Depreciação_Mensal!$G6:$RF6,Depreciação_Mensal!$G$4:$RF$4,Depreciação_Anual!AO$4)/COUNTIFS(Depreciação_Mensal!$G$4:$RF$4,Depreciação_Anual!AO4),)","v":{"v":0,"d":"0%"}},{"$f":"IFERROR(SUMIFS(Depreciação_Mensal!$G6:$RF6,Depreciação_Mensal!$G$4:$RF$4,Depreciação_Anual!AP$4)/COUNTIFS(Depreciação_Mensal!$G$4:$RF$4,Depreciação_Anual!AP4),)","v":{"v":0,"d":"0%"}},{"$f":"IFERROR(SUMIFS(Depreciação_Mensal!$G6:$RF6,Depreciação_Mensal!$G$4:$RF$4,Depreciação_Anual!AQ$4)/COUNTIFS(Depreciação_Mensal!$G$4:$RF$4,Depreciação_Anual!AQ4),)","v":{"v":0,"d":"0%"}},{"$f":"IFERROR(SUMIFS(Depreciação_Mensal!$G6:$RF6,Depreciação_Mensal!$G$4:$RF$4,Depreciação_Anual!AR$4)/COUNTIFS(Depreciação_Mensal!$G$4:$RF$4,Depreciação_Anual!AR4),)","v":{"v":0,"d":"0%"}},{"$f":"IFERROR(SUMIFS(Depreciação_Mensal!$G6:$RF6,Depreciação_Mensal!$G$4:$RF$4,Depreciação_Anual!AS$4)/COUNTIFS(Depreciação_Mensal!$G$4:$RF$4,Depreciação_Anual!AS4),)","v":{"v":0,"d":"0%"}}]
[{"$nulls":4},"Periodo",null,{"$f":"+Depreciação_Mensal!G7","v":1},{"$f":"+G8+1","v":2},{"$f":"+H8+1","v":3},4,5,6,7,8,9,10,11,12,13,14,15,16,17,18,19,20,21,22,23,24,25,26,27,28,29,30,31,{"$f":"+AK8+1","v":32},33,34,35,36,37,38,39]
[]
["xxxxxx","CAPEX"]
[null,"Ativo",null,"Ciclo de Vida (Anos)","Ciclo de Vida (Meses)",null,{"$f":"+G12","v":{"v":132200004.41859424,"d":"132,200,004"}},{"$f":"+H12","v":{"v":33783199.60663797,"d":"33,783,200"}},{"v":1999291.7839491076,"d":"1,999,292"},0,0,0,0,0,0,0,0,0,0,0,0,0,0,0,0,0,0,0,0,0,0,0,0,0,0,0,0,0,0,0,0,0,0,0,0]
[null,{"$f":"+Depreciação_Mensal!B11","v":"GASIG"},null,{"$f":"+Depreciação_Mensal!D11","v":15},{"$f":"+Depreciação_Mensal!E11","v":180},null,{"$f":"SUMIFS(Depreciação_Mensal!$G11:$RF11,Depreciação_Mensal!$G$4:$RF$4,Depreciação_Anual!G$4)","v":{"v":132200004.41859424,"d":"132,200,004"}},{"$f":"SUMIFS(Depreciação_Mensal!$G11:$RF11,Depreciação_Mensal!$G$4:$RF$4,Depreciação_Anual!H$4)","v":{"v":33783199.60663797,"d":"33,783,200"}},{"$f":"SUMIFS(Depreciação_Mensal!$G11:$RF11,Depreciação_Mensal!$G$4:$RF$4,Depreciação_Anual!I$4)","v":{"v":1999291.7839491076,"d":"1,999,292"}},{"$f":"SUMIFS(Depreciação_Mensal!$G11:$RF11,Depreciação_Mensal!$G$4:$RF$4,Depreciação_Anual!J$4)","v":0},{"$f":"SUMIFS(Depreciação_Mensal!$G11:$RF11,Depreciação_Mensal!$G$4:$RF$4,Depreciação_Anual!K$4)","v":0},{"$f":"SUMIFS(Depreciação_Mensal!$G11:$RF11,Depreciação_Mensal!$G$4:$RF$4,Depreciação_Anual!L$4)","v":0},{"$f":"SUMIFS(Depreciação_Mensal!$G11:$RF11,Depreciação_Mensal!$G$4:$RF$4,Depreciação_Anual!M$4)","v":0},{"$f":"SUMIFS(Depreciação_Mensal!$G11:$RF11,Depreciação_Mensal!$G$4:$RF$4,Depreciação_Anual!N$4)","v":0},{"$f":"SUMIFS(Depreciação_Mensal!$G11:$RF11,Depreciação_Mensal!$G$4:$RF$4,Depreciação_Anual!O$4)","v":0},{"$f":"SUMIFS(Depreciação_Mensal!$G11:$RF11,Depreciação_Mensal!$G$4:$RF$4,Depreciação_Anual!P$4)","v":0},{"$f":"SUMIFS(Depreciação_Mensal!$G11:$RF11,Depreciação_Mensal!$G$4:$RF$4,Depreciação_Anual!Q$4)","v":0},{"$f":"SUMIFS(Depreciação_Mensal!$G11:$RF11,Depreciação_Mensal!$G$4:$RF$4,Depreciação_Anual!R$4)","v":0},{"$f":"SUMIFS(Depreciação_Mensal!$G11:$RF11,Depreciação_Mensal!$G$4:$RF$4,Depreciação_Anual!S$4)","v":0},{"$f":"SUMIFS(Depreciação_Mensal!$G11:$RF11,Depreciação_Mensal!$G$4:$RF$4,Depreciação_Anual!T$4)","v":0},{"$f":"SUMIFS(Depreciação_Mensal!$G11:$RF11,Depreciação_Mensal!$G$4:$RF$4,Depreciação_Anual!U$4)","v":0},{"$f":"SUMIFS(Depreciação_Mensal!$G11:$RF11,Depreciação_Mensal!$G$4:$RF$4,Depreciação_Anual!V$4)","v":0},{"$f":"SUMIFS(Depreciação_Mensal!$G11:$RF11,Depreciação_Mensal!$G$4:$RF$4,Depreciação_Anual!W$4)","v":0},{"$f":"SUMIFS(Depreciação_Mensal!$G11:$RF11,Depreciação_Mensal!$G$4:$RF$4,Depreciação_Anual!X$4)","v":0},{"$f":"SUMIFS(Depreciação_Mensal!$G11:$RF11,Depreciação_Mensal!$G$4:$RF$4,Depreciação_Anual!Y$4)","v":0},{"$f":"SUMIFS(Depreciação_Mensal!$G11:$RF11,Depreciação_Mensal!$G$4:$RF$4,Depreciação_Anual!Z$4)","v":0},{"$f":"SUMIFS(Depreciação_Mensal!$G11:$RF11,Depreciação_Mensal!$G$4:$RF$4,Depreciação_Anual!AA$4)","v":0},{"$f":"SUMIFS(Depreciação_Mensal!$G11:$RF11,Depreciação_Mensal!$G$4:$RF$4,Depreciação_Anual!AB$4)","v":0},{"$f":"SUMIFS(Depreciação_Mensal!$G11:$RF11,Depreciação_Mensal!$G$4:$RF$4,Depreciação_Anual!AC$4)","v":0},{"$f":"SUMIFS(Depreciação_Mensal!$G11:$RF11,Depreciação_Mensal!$G$4:$RF$4,Depreciação_Anual!AD$4)","v":0},{"$f":"SUMIFS(Depreciação_Mensal!$G11:$RF11,Depreciação_Mensal!$G$4:$RF$4,Depreciação_Anual!AE$4)","v":0},{"$f":"SUMIFS(Depreciação_Mensal!$G11:$RF11,Depreciação_Mensal!$G$4:$RF$4,Depreciação_Anual!AF$4)","v":0},{"$f":"SUMIFS(Depreciação_Mensal!$G11:$RF11,Depreciação_Mensal!$G$4:$RF$4,Depreciação_Anual!AG$4)","v":0},{"$f":"SUMIFS(Depreciação_Mensal!$G11:$RF11,Depreciação_Mensal!$G$4:$RF$4,Depreciação_Anual!AH$4)","v":0},{"$f":"SUMIFS(Depreciação_Mensal!$G11:$RF11,Depreciação_Mensal!$G$4:$RF$4,Depreciação_Anual!AI$4)","v":0},{"$f":"SUMIFS(Depreciação_Mensal!$G11:$RF11,Depreciação_Mensal!$G$4:$RF$4,Depreciação_Anual!AJ$4)","v":0},{"$f":"SUMIFS(Depreciação_Mensal!$G11:$RF11,Depreciação_Mensal!$G$4:$RF$4,Depreciação_Anual!AK$4)","v":0},{"$f":"SUMIFS(Depreciação_Mensal!$G11:$RF11,Depreciação_Mensal!$G$4:$RF$4,Depreciação_Anual!AL$4)","v":0},{"$f":"SUMIFS(Depreciação_Mensal!$G11:$RF11,Depreciação_Mensal!$G$4:$RF$4,Depreciação_Anual!AM$4)","v":0},{"$f":"SUMIFS(Depreciação_Mensal!$G11:$RF11,Depreciação_Mensal!$G$4:$RF$4,Depreciação_Anual!AN$4)","v":0},{"$f":"SUMIFS(Depreciação_Mensal!$G11:$RF11,Depreciação_Mensal!$G$4:$RF$4,Depreciação_Anual!AO$4)","v":0},{"$f":"SUMIFS(Depreciação_Mensal!$G11:$RF11,Depreciação_Mensal!$G$4:$RF$4,Depreciação_Anual!AP$4)","v":0},{"$f":"SUMIFS(Depreciação_Mensal!$G11:$RF11,Depreciação_Mensal!$G$4:$RF$4,Depreciação_Anual!AQ$4)","v":0},{"$f":"SUMIFS(Depreciação_Mensal!$G11:$RF11,Depreciação_Mensal!$G$4:$RF$4,Depreciação_Anual!AR$4)","v":0},{"$f":"SUMIFS(Depreciação_Mensal!$G11:$RF11,Depreciação_Mensal!$G$4:$RF$4,Depreciação_Anual!AS$4)","v":0}]
[null,{"$f":"+Depreciação_Mensal!B12","v":0},null,{"$f":"+Depreciação_Mensal!D12","v":0},{"$f":"+Depreciação_Mensal!E12","v":0},null,{"$f":"SUMIFS(Depreciação_Mensal!$G12:$RF12,Depreciação_Mensal!$G$4:$RF$4,Depreciação_Anual!G$4)","v":0},{"$f":"SUMIFS(Depreciação_Mensal!$G12:$RF12,Depreciação_Mensal!$G$4:$RF$4,Depreciação_Anual!H$4)","v":0},{"$f":"SUMIFS(Depreciação_Mensal!$G12:$RF12,Depreciação_Mensal!$G$4:$RF$4,Depreciação_Anual!I$4)","v":0},{"$f":"SUMIFS(Depreciação_Mensal!$G12:$RF12,Depreciação_Mensal!$G$4:$RF$4,Depreciação_Anual!J$4)","v":0},{"$f":"SUMIFS(Depreciação_Mensal!$G12:$RF12,Depreciação_Mensal!$G$4:$RF$4,Depreciação_Anual!K$4)","v":0},{"$f":"SUMIFS(Depreciação_Mensal!$G12:$RF12,Depreciação_Mensal!$G$4:$RF$4,Depreciação_Anual!L$4)","v":0},{"$f":"SUMIFS(Depreciação_Mensal!$G12:$RF12,Depreciação_Mensal!$G$4:$RF$4,Depreciação_Anual!M$4)","v":0},{"$f":"SUMIFS(Depreciação_Mensal!$G12:$RF12,Depreciação_Mensal!$G$4:$RF$4,Depreciação_Anual!N$4)","v":0},{"$f":"SUMIFS(Depreciação_Mensal!$G12:$RF12,Depreciação_Mensal!$G$4:$RF$4,Depreciação_Anual!O$4)","v":0},{"$f":"SUMIFS(Depreciação_Mensal!$G12:$RF12,Depreciação_Mensal!$G$4:$RF$4,Depreciação_Anual!P$4)","v":0},{"$f":"SUMIFS(Depreciação_Mensal!$G12:$RF12,Depreciação_Mensal!$G$4:$RF$4,Depreciação_Anual!Q$4)","v":0},{"$f":"SUMIFS(Depreciação_Mensal!$G12:$RF12,Depreciação_Mensal!$G$4:$RF$4,Depreciação_Anual!R$4)","v":0},{"$f":"SUMIFS(Depreciação_Mensal!$G12:$RF12,Depreciação_Mensal!$G$4:$RF$4,Depreciação_Anual!S$4)","v":0},{"$f":"SUMIFS(Depreciação_Mensal!$G12:$RF12,Depreciação_Mensal!$G$4:$RF$4,Depreciação_Anual!T$4)","v":0},{"$f":"SUMIFS(Depreciação_Mensal!$G12:$RF12,Depreciação_Mensal!$G$4:$RF$4,Depreciação_Anual!U$4)","v":0},{"$f":"SUMIFS(Depreciação_Mensal!$G12:$RF12,Depreciação_Mensal!$G$4:$RF$4,Depreciação_Anual!V$4)","v":0},{"$f":"SUMIFS(Depreciação_Mensal!$G12:$RF12,Depreciação_Mensal!$G$4:$RF$4,Depreciação_Anual!W$4)","v":0},{"$f":"SUMIFS(Depreciação_Mensal!$G12:$RF12,Depreciação_Mensal!$G$4:$RF$4,Depreciação_Anual!X$4)","v":0},{"$f":"SUMIFS(Depreciação_Mensal!$G12:$RF12,Depreciação_Mensal!$G$4:$RF$4,Depreciação_Anual!Y$4)","v":0},{"$f":"SUMIFS(Depreciação_Mensal!$G12:$RF12,Depreciação_Mensal!$G$4:$RF$4,Depreciação_Anual!Z$4)","v":0},{"$f":"SUMIFS(Depreciação_Mensal!$G12:$RF12,Depreciação_Mensal!$G$4:$RF$4,Depreciação_Anual!AA$4)","v":0},{"$f":"SUMIFS(Depreciação_Mensal!$G12:$RF12,Depreciação_Mensal!$G$4:$RF$4,Depreciação_Anual!AB$4)","v":0},{"$f":"SUMIFS(Depreciação_Mensal!$G12:$RF12,Depreciação_Mensal!$G$4:$RF$4,Depreciação_Anual!AC$4)","v":0},{"$f":"SUMIFS(Depreciação_Mensal!$G12:$RF12,Depreciação_Mensal!$G$4:$RF$4,Depreciação_Anual!AD$4)","v":0},{"$f":"SUMIFS(Depreciação_Mensal!$G12:$RF12,Depreciação_Mensal!$G$4:$RF$4,Depreciação_Anual!AE$4)","v":0},{"$f":"SUMIFS(Depreciação_Mensal!$G12:$RF12,Depreciação_Mensal!$G$4:$RF$4,Depreciação_Anual!AF$4)","v":0},{"$f":"SUMIFS(Depreciação_Mensal!$G12:$RF12,Depreciação_Mensal!$G$4:$RF$4,Depreciação_Anual!AG$4)","v":0},{"$f":"SUMIFS(Depreciação_Mensal!$G12:$RF12,Depreciação_Mensal!$G$4:$RF$4,Depreciação_Anual!AH$4)","v":0},{"$f":"SUMIFS(Depreciação_Mensal!$G12:$RF12,Depreciação_Mensal!$G$4:$RF$4,Depreciação_Anual!AI$4)","v":0},{"$f":"SUMIFS(Depreciação_Mensal!$G12:$RF12,Depreciação_Mensal!$G$4:$RF$4,Depreciação_Anual!AJ$4)","v":0},{"$f":"SUMIFS(Depreciação_Mensal!$G12:$RF12,Depreciação_Mensal!$G$4:$RF$4,Depreciação_Anual!AK$4)","v":0},{"$f":"SUMIFS(Depreciação_Mensal!$G12:$RF12,Depreciação_Mensal!$G$4:$RF$4,Depreciação_Anual!AL$4)","v":0},{"$f":"SUMIFS(Depreciação_Mensal!$G12:$RF12,Depreciação_Mensal!$G$4:$RF$4,Depreciação_Anual!AM$4)","v":0},{"$f":"SUMIFS(Depreciação_Mensal!$G12:$RF12,Depreciação_Mensal!$G$4:$RF$4,Depreciação_Anual!AN$4)","v":0},{"$f":"SUMIFS(Depreciação_Mensal!$G12:$RF12,Depreciação_Mensal!$G$4:$RF$4,Depreciação_Anual!AO$4)","v":0},{"$f":"SUMIFS(Depreciação_Mensal!$G12:$RF12,Depreciação_Mensal!$G$4:$RF$4,Depreciação_Anual!AP$4)","v":0},{"$f":"SUMIFS(Depreciação_Mensal!$G12:$RF12,Depreciação_Mensal!$G$4:$RF$4,Depreciação_Anual!AQ$4)","v":0},{"$f":"SUMIFS(Depreciação_Mensal!$G12:$RF12,Depreciação_Mensal!$G$4:$RF$4,Depreciação_Anual!AR$4)","v":0},{"$f":"SUMIFS(Depreciação_Mensal!$G12:$RF12,Depreciação_Mensal!$G$4:$RF$4,Depreciação_Anual!AS$4)","v":0}]
[null,{"$f":"+Depreciação_Mensal!B13","v":0},null,{"$f":"+Depreciação_Mensal!D13","v":0},{"$f":"+Depreciação_Mensal!E13","v":0},null,{"$f":"SUMIFS(Depreciação_Mensal!$G13:$RF13,Depreciação_Mensal!$G$4:$RF$4,Depreciação_Anual!G$4)","v":0},{"$f":"SUMIFS(Depreciação_Mensal!$G13:$RF13,Depreciação_Mensal!$G$4:$RF$4,Depreciação_Anual!H$4)","v":0},{"$f":"SUMIFS(Depreciação_Mensal!$G13:$RF13,Depreciação_Mensal!$G$4:$RF$4,Depreciação_Anual!I$4)","v":0},{"$f":"SUMIFS(Depreciação_Mensal!$G13:$RF13,Depreciação_Mensal!$G$4:$RF$4,Depreciação_Anual!J$4)","v":0},{"$f":"SUMIFS(Depreciação_Mensal!$G13:$RF13,Depreciação_Mensal!$G$4:$RF$4,Depreciação_Anual!K$4)","v":0},{"$f":"SUMIFS(Depreciação_Mensal!$G13:$RF13,Depreciação_Mensal!$G$4:$RF$4,Depreciação_Anual!L$4)","v":0},{"$f":"SUMIFS(Depreciação_Mensal!$G13:$RF13,Depreciação_Mensal!$G$4:$RF$4,Depreciação_Anual!M$4)","v":0},{"$f":"SUMIFS(Depreciação_Mensal!$G13:$RF13,Depreciação_Mensal!$G$4:$RF$4,Depreciação_Anual!N$4)","v":0},{"$f":"SUMIFS(Depreciação_Mensal!$G13:$RF13,Depreciação_Mensal!$G$4:$RF$4,Depreciação_Anual!O$4)","v":0},{"$f":"SUMIFS(Depreciação_Mensal!$G13:$RF13,Depreciação_Mensal!$G$4:$RF$4,Depreciação_Anual!P$4)","v":0},{"$f":"SUMIFS(Depreciação_Mensal!$G13:$RF13,Depreciação_Mensal!$G$4:$RF$4,Depreciação_Anual!Q$4)","v":0},{"$f":"SUMIFS(Depreciação_Mensal!$G13:$RF13,Depreciação_Mensal!$G$4:$RF$4,Depreciação_Anual!R$4)","v":0},{"$f":"SUMIFS(Depreciação_Mensal!$G13:$RF13,Depreciação_Mensal!$G$4:$RF$4,Depreciação_Anual!S$4)","v":0},{"$f":"SUMIFS(Depreciação_Mensal!$G13:$RF13,Depreciação_Mensal!$G$4:$RF$4,Depreciação_Anual!T$4)","v":0},{"$f":"SUMIFS(Depreciação_Mensal!$G13:$RF13,Depreciação_Mensal!$G$4:$RF$4,Depreciação_Anual!U$4)","v":0},{"$f":"SUMIFS(Depreciação_Mensal!$G13:$RF13,Depreciação_Mensal!$G$4:$RF$4,Depreciação_Anual!V$4)","v":0},{"$f":"SUMIFS(Depreciação_Mensal!$G13:$RF13,Depreciação_Mensal!$G$4:$RF$4,Depreciação_Anual!W$4)","v":0},{"$f":"SUMIFS(Depreciação_Mensal!$G13:$RF13,Depreciação_Mensal!$G$4:$RF$4,Depreciação_Anual!X$4)","v":0},{"$f":"SUMIFS(Depreciação_Mensal!$G13:$RF13,Depreciação_Mensal!$G$4:$RF$4,Depreciação_Anual!Y$4)","v":0},{"$f":"SUMIFS(Depreciação_Mensal!$G13:$RF13,Depreciação_Mensal!$G$4:$RF$4,Depreciação_Anual!Z$4)","v":0},{"$f":"SUMIFS(Depreciação_Mensal!$G13:$RF13,Depreciação_Mensal!$G$4:$RF$4,Depreciação_Anual!AA$4)","v":0},{"$f":"SUMIFS(Depreciação_Mensal!$G13:$RF13,Depreciação_Mensal!$G$4:$RF$4,Depreciação_Anual!AB$4)","v":0},{"$f":"SUMIFS(Depreciação_Mensal!$G13:$RF13,Depreciação_Mensal!$G$4:$RF$4,Depreciação_Anual!AC$4)","v":0},{"$f":"SUMIFS(Depreciação_Mensal!$G13:$RF13,Depreciação_Mensal!$G$4:$RF$4,Depreciação_Anual!AD$4)","v":0},{"$f":"SUMIFS(Depreciação_Mensal!$G13:$RF13,Depreciação_Mensal!$G$4:$RF$4,Depreciação_Anual!AE$4)","v":0},{"$f":"SUMIFS(Depreciação_Mensal!$G13:$RF13,Depreciação_Mensal!$G$4:$RF$4,Depreciação_Anual!AF$4)","v":0},{"$f":"SUMIFS(Depreciação_Mensal!$G13:$RF13,Depreciação_Mensal!$G$4:$RF$4,Depreciação_Anual!AG$4)","v":0},{"$f":"SUMIFS(Depreciação_Mensal!$G13:$RF13,Depreciação_Mensal!$G$4:$RF$4,Depreciação_Anual!AH$4)","v":0},{"$f":"SUMIFS(Depreciação_Mensal!$G13:$RF13,Depreciação_Mensal!$G$4:$RF$4,Depreciação_Anual!AI$4)","v":0},{"$f":"SUMIFS(Depreciação_Mensal!$G13:$RF13,Depreciação_Mensal!$G$4:$RF$4,Depreciação_Anual!AJ$4)","v":0},{"$f":"SUMIFS(Depreciação_Mensal!$G13:$RF13,Depreciação_Mensal!$G$4:$RF$4,Depreciação_Anual!AK$4)","v":0},{"$f":"SUMIFS(Depreciação_Mensal!$G13:$RF13,Depreciação_Mensal!$G$4:$RF$4,Depreciação_Anual!AL$4)","v":0},{"$f":"SUMIFS(Depreciação_Mensal!$G13:$RF13,Depreciação_Mensal!$G$4:$RF$4,Depreciação_Anual!AM$4)","v":0},{"$f":"SUMIFS(Depreciação_Mensal!$G13:$RF13,Depreciação_Mensal!$G$4:$RF$4,Depreciação_Anual!AN$4)","v":0},{"$f":"SUMIFS(Depreciação_Mensal!$G13:$RF13,Depreciação_Mensal!$G$4:$RF$4,Depreciação_Anual!AO$4)","v":0},{"$f":"SUMIFS(Depreciação_Mensal!$G13:$RF13,Depreciação_Mensal!$G$4:$RF$4,Depreciação_Anual!AP$4)","v":0},{"$f":"SUMIFS(Depreciação_Mensal!$G13:$RF13,Depreciação_Mensal!$G$4:$RF$4,Depreciação_Anual!AQ$4)","v":0},{"$f":"SUMIFS(Depreciação_Mensal!$G13:$RF13,Depreciação_Mensal!$G$4:$RF$4,Depreciação_Anual!AR$4)","v":0},{"$f":"SUMIFS(Depreciação_Mensal!$G13:$RF13,Depreciação_Mensal!$G$4:$RF$4,Depreciação_Anual!AS$4)","v":0}]
[null,{"$f":"+Depreciação_Mensal!B14","v":0},null,{"$f":"+Depreciação_Mensal!D14","v":0},{"$f":"+Depreciação_Mensal!E14","v":0},null,{"$f":"SUMIFS(Depreciação_Mensal!$G14:$RF14,Depreciação_Mensal!$G$4:$RF$4,Depreciação_Anual!G$4)","v":0},{"$f":"SUMIFS(Depreciação_Mensal!$G14:$RF14,Depreciação_Mensal!$G$4:$RF$4,Depreciação_Anual!H$4)","v":0},{"$f":"SUMIFS(Depreciação_Mensal!$G14:$RF14,Depreciação_Mensal!$G$4:$RF$4,Depreciação_Anual!I$4)","v":0},{"$f":"SUMIFS(Depreciação_Mensal!$G14:$RF14,Depreciação_Mensal!$G$4:$RF$4,Depreciação_Anual!J$4)","v":0},{"$f":"SUMIFS(Depreciação_Mensal!$G14:$RF14,Depreciação_Mensal!$G$4:$RF$4,Depreciação_Anual!K$4)","v":0},{"$f":"SUMIFS(Depreciação_Mensal!$G14:$RF14,Depreciação_Mensal!$G$4:$RF$4,Depreciação_Anual!L$4)","v":0},{"$f":"SUMIFS(Depreciação_Mensal!$G14:$RF14,Depreciação_Mensal!$G$4:$RF$4,Depreciação_Anual!M$4)","v":0},{"$f":"SUMIFS(Depreciação_Mensal!$G14:$RF14,Depreciação_Mensal!$G$4:$RF$4,Depreciação_Anual!N$4)","v":0},{"$f":"SUMIFS(Depreciação_Mensal!$G14:$RF14,Depreciação_Mensal!$G$4:$RF$4,Depreciação_Anual!O$4)","v":0},{"$f":"SUMIFS(Depreciação_Mensal!$G14:$RF14,Depreciação_Mensal!$G$4:$RF$4,Depreciação_Anual!P$4)","v":0},{"$f":"SUMIFS(Depreciação_Mensal!$G14:$RF14,Depreciação_Mensal!$G$4:$RF$4,Depreciação_Anual!Q$4)","v":0},{"$f":"SUMIFS(Depreciação_Mensal!$G14:$RF14,Depreciação_Mensal!$G$4:$RF$4,Depreciação_Anual!R$4)","v":0},{"$f":"SUMIFS(Depreciação_Mensal!$G14:$RF14,Depreciação_Mensal!$G$4:$RF$4,Depreciação_Anual!S$4)","v":0},{"$f":"SUMIFS(Depreciação_Mensal!$G14:$RF14,Depreciação_Mensal!$G$4:$RF$4,Depreciação_Anual!T$4)","v":0},{"$f":"SUMIFS(Depreciação_Mensal!$G14:$RF14,Depreciação_Mensal!$G$4:$RF$4,Depreciação_Anual!U$4)","v":0},{"$f":"SUMIFS(Depreciação_Mensal!$G14:$RF14,Depreciação_Mensal!$G$4:$RF$4,Depreciação_Anual!V$4)","v":0},{"$f":"SUMIFS(Depreciação_Mensal!$G14:$RF14,Depreciação_Mensal!$G$4:$RF$4,Depreciação_Anual!W$4)","v":0},{"$f":"SUMIFS(Depreciação_Mensal!$G14:$RF14,Depreciação_Mensal!$G$4:$RF$4,Depreciação_Anual!X$4)","v":0},{"$f":"SUMIFS(Depreciação_Mensal!$G14:$RF14,Depreciação_Mensal!$G$4:$RF$4,Depreciação_Anual!Y$4)","v":0},{"$f":"SUMIFS(Depreciação_Mensal!$G14:$RF14,Depreciação_Mensal!$G$4:$RF$4,Depreciação_Anual!Z$4)","v":0},{"$f":"SUMIFS(Depreciação_Mensal!$G14:$RF14,Depreciação_Mensal!$G$4:$RF$4,Depreciação_Anual!AA$4)","v":0},{"$f":"SUMIFS(Depreciação_Mensal!$G14:$RF14,Depreciação_Mensal!$G$4:$RF$4,Depreciação_Anual!AB$4)","v":0},{"$f":"SUMIFS(Depreciação_Mensal!$G14:$RF14,Depreciação_Mensal!$G$4:$RF$4,Depreciação_Anual!AC$4)","v":0},{"$f":"SUMIFS(Depreciação_Mensal!$G14:$RF14,Depreciação_Mensal!$G$4:$RF$4,Depreciação_Anual!AD$4)","v":0},{"$f":"SUMIFS(Depreciação_Mensal!$G14:$RF14,Depreciação_Mensal!$G$4:$RF$4,Depreciação_Anual!AE$4)","v":0},{"$f":"SUMIFS(Depreciação_Mensal!$G14:$RF14,Depreciação_Mensal!$G$4:$RF$4,Depreciação_Anual!AF$4)","v":0},{"$f":"SUMIFS(Depreciação_Mensal!$G14:$RF14,Depreciação_Mensal!$G$4:$RF$4,Depreciação_Anual!AG$4)","v":0},{"$f":"SUMIFS(Depreciação_Mensal!$G14:$RF14,Depreciação_Mensal!$G$4:$RF$4,Depreciação_Anual!AH$4)","v":0},{"$f":"SUMIFS(Depreciação_Mensal!$G14:$RF14,Depreciação_Mensal!$G$4:$RF$4,Depreciação_Anual!AI$4)","v":0},{"$f":"SUMIFS(Depreciação_Mensal!$G14:$RF14,Depreciação_Mensal!$G$4:$RF$4,Depreciação_Anual!AJ$4)","v":0},{"$f":"SUMIFS(Depreciação_Mensal!$G14:$RF14,Depreciação_Mensal!$G$4:$RF$4,Depreciação_Anual!AK$4)","v":0},{"$f":"SUMIFS(Depreciação_Mensal!$G14:$RF14,Depreciação_Mensal!$G$4:$RF$4,Depreciação_Anual!AL$4)","v":0},{"$f":"SUMIFS(Depreciação_Mensal!$G14:$RF14,Depreciação_Mensal!$G$4:$RF$4,Depreciação_Anual!AM$4)","v":0},{"$f":"SUMIFS(Depreciação_Mensal!$G14:$RF14,Depreciação_Mensal!$G$4:$RF$4,Depreciação_Anual!AN$4)","v":0},{"$f":"SUMIFS(Depreciação_Mensal!$G14:$RF14,Depreciação_Mensal!$G$4:$RF$4,Depreciação_Anual!AO$4)","v":0},{"$f":"SUMIFS(Depreciação_Mensal!$G14:$RF14,Depreciação_Mensal!$G$4:$RF$4,Depreciação_Anual!AP$4)","v":0},{"$f":"SUMIFS(Depreciação_Mensal!$G14:$RF14,Depreciação_Mensal!$G$4:$RF$4,Depreciação_Anual!AQ$4)","v":0},{"$f":"SUMIFS(Depreciação_Mensal!$G14:$RF14,Depreciação_Mensal!$G$4:$RF$4,Depreciação_Anual!AR$4)","v":0},{"$f":"SUMIFS(Depreciação_Mensal!$G14:$RF14,Depreciação_Mensal!$G$4:$RF$4,Depreciação_Anual!AS$4)","v":0}]
[null,{"$f":"+Depreciação_Mensal!B15","v":0},null,{"$f":"+Depreciação_Mensal!D15","v":0},{"$f":"+Depreciação_Mensal!E15","v":0},null,{"$f":"SUMIFS(Depreciação_Mensal!$G15:$RF15,Depreciação_Mensal!$G$4:$RF$4,Depreciação_Anual!G$4)","v":0},{"$f":"SUMIFS(Depreciação_Mensal!$G15:$RF15,Depreciação_Mensal!$G$4:$RF$4,Depreciação_Anual!H$4)","v":0},{"$f":"SUMIFS(Depreciação_Mensal!$G15:$RF15,Depreciação_Mensal!$G$4:$RF$4,Depreciação_Anual!I$4)","v":0},{"$f":"SUMIFS(Depreciação_Mensal!$G15:$RF15,Depreciação_Mensal!$G$4:$RF$4,Depreciação_Anual!J$4)","v":0},{"$f":"SUMIFS(Depreciação_Mensal!$G15:$RF15,Depreciação_Mensal!$G$4:$RF$4,Depreciação_Anual!K$4)","v":0},{"$f":"SUMIFS(Depreciação_Mensal!$G15:$RF15,Depreciação_Mensal!$G$4:$RF$4,Depreciação_Anual!L$4)","v":0},{"$f":"SUMIFS(Depreciação_Mensal!$G15:$RF15,Depreciação_Mensal!$G$4:$RF$4,Depreciação_Anual!M$4)","v":0},{"$f":"SUMIFS(Depreciação_Mensal!$G15:$RF15,Depreciação_Mensal!$G$4:$RF$4,Depreciação_Anual!N$4)","v":0},{"$f":"SUMIFS(Depreciação_Mensal!$G15:$RF15,Depreciação_Mensal!$G$4:$RF$4,Depreciação_Anual!O$4)","v":0},{"$f":"SUMIFS(Depreciação_Mensal!$G15:$RF15,Depreciação_Mensal!$G$4:$RF$4,Depreciação_Anual!P$4)","v":0},{"$f":"SUMIFS(Depreciação_Mensal!$G15:$RF15,Depreciação_Mensal!$G$4:$RF$4,Depreciação_Anual!Q$4)","v":0},{"$f":"SUMIFS(Depreciação_Mensal!$G15:$RF15,Depreciação_Mensal!$G$4:$RF$4,Depreciação_Anual!R$4)","v":0},{"$f":"SUMIFS(Depreciação_Mensal!$G15:$RF15,Depreciação_Mensal!$G$4:$RF$4,Depreciação_Anual!S$4)","v":0},{"$f":"SUMIFS(Depreciação_Mensal!$G15:$RF15,Depreciação_Mensal!$G$4:$RF$4,Depreciação_Anual!T$4)","v":0},{"$f":"SUMIFS(Depreciação_Mensal!$G15:$RF15,Depreciação_Mensal!$G$4:$RF$4,Depreciação_Anual!U$4)","v":0},{"$f":"SUMIFS(Depreciação_Mensal!$G15:$RF15,Depreciação_Mensal!$G$4:$RF$4,Depreciação_Anual!V$4)","v":0},{"$f":"SUMIFS(Depreciação_Mensal!$G15:$RF15,Depreciação_Mensal!$G$4:$RF$4,Depreciação_Anual!W$4)","v":0},{"$f":"SUMIFS(Depreciação_Mensal!$G15:$RF15,Depreciação_Mensal!$G$4:$RF$4,Depreciação_Anual!X$4)","v":0},{"$f":"SUMIFS(Depreciação_Mensal!$G15:$RF15,Depreciação_Mensal!$G$4:$RF$4,Depreciação_Anual!Y$4)","v":0},{"$f":"SUMIFS(Depreciação_Mensal!$G15:$RF15,Depreciação_Mensal!$G$4:$RF$4,Depreciação_Anual!Z$4)","v":0},{"$f":"SUMIFS(Depreciação_Mensal!$G15:$RF15,Depreciação_Mensal!$G$4:$RF$4,Depreciação_Anual!AA$4)","v":0},{"$f":"SUMIFS(Depreciação_Mensal!$G15:$RF15,Depreciação_Mensal!$G$4:$RF$4,Depreciação_Anual!AB$4)","v":0},{"$f":"SUMIFS(Depreciação_Mensal!$G15:$RF15,Depreciação_Mensal!$G$4:$RF$4,Depreciação_Anual!AC$4)","v":0},{"$f":"SUMIFS(Depreciação_Mensal!$G15:$RF15,Depreciação_Mensal!$G$4:$RF$4,Depreciação_Anual!AD$4)","v":0},{"$f":"SUMIFS(Depreciação_Mensal!$G15:$RF15,Depreciação_Mensal!$G$4:$RF$4,Depreciação_Anual!AE$4)","v":0},{"$f":"SUMIFS(Depreciação_Mensal!$G15:$RF15,Depreciação_Mensal!$G$4:$RF$4,Depreciação_Anual!AF$4)","v":0},{"$f":"SUMIFS(Depreciação_Mensal!$G15:$RF15,Depreciação_Mensal!$G$4:$RF$4,Depreciação_Anual!AG$4)","v":0},{"$f":"SUMIFS(Depreciação_Mensal!$G15:$RF15,Depreciação_Mensal!$G$4:$RF$4,Depreciação_Anual!AH$4)","v":0},{"$f":"SUMIFS(Depreciação_Mensal!$G15:$RF15,Depreciação_Mensal!$G$4:$RF$4,Depreciação_Anual!AI$4)","v":0},{"$f":"SUMIFS(Depreciação_Mensal!$G15:$RF15,Depreciação_Mensal!$G$4:$RF$4,Depreciação_Anual!AJ$4)","v":0},{"$f":"SUMIFS(Depreciação_Mensal!$G15:$RF15,Depreciação_Mensal!$G$4:$RF$4,Depreciação_Anual!AK$4)","v":0},{"$f":"SUMIFS(Depreciação_Mensal!$G15:$RF15,Depreciação_Mensal!$G$4:$RF$4,Depreciação_Anual!AL$4)","v":0},{"$f":"SUMIFS(Depreciação_Mensal!$G15:$RF15,Depreciação_Mensal!$G$4:$RF$4,Depreciação_Anual!AM$4)","v":0},{"$f":"SUMIFS(Depreciação_Mensal!$G15:$RF15,Depreciação_Mensal!$G$4:$RF$4,Depreciação_Anual!AN$4)","v":0},{"$f":"SUMIFS(Depreciação_Mensal!$G15:$RF15,Depreciação_Mensal!$G$4:$RF$4,Depreciação_Anual!AO$4)","v":0},{"$f":"SUMIFS(Depreciação_Mensal!$G15:$RF15,Depreciação_Mensal!$G$4:$RF$4,Depreciação_Anual!AP$4)","v":0},{"$f":"SUMIFS(Depreciação_Mensal!$G15:$RF15,Depreciação_Mensal!$G$4:$RF$4,Depreciação_Anual!AQ$4)","v":0},{"$f":"SUMIFS(Depreciação_Mensal!$G15:$RF15,Depreciação_Mensal!$G$4:$RF$4,Depreciação_Anual!AR$4)","v":0},{"$f":"SUMIFS(Depreciação_Mensal!$G15:$RF15,Depreciação_Mensal!$G$4:$RF$4,Depreciação_Anual!AS$4)","v":0}]
[null,{"$f":"+Depreciação_Mensal!B16","v":0},null,0,{"$f":"+Depreciação_Mensal!E16","v":0},null,{"$f":"SUMIFS(Depreciação_Mensal!$G16:$RF16,Depreciação_Mensal!$G$4:$RF$4,Depreciação_Anual!G$4)","v":0},{"$f":"SUMIFS(Depreciação_Mensal!$G16:$RF16,Depreciação_Mensal!$G$4:$RF$4,Depreciação_Anual!H$4)","v":0},{"$f":"SUMIFS(Depreciação_Mensal!$G16:$RF16,Depreciação_Mensal!$G$4:$RF$4,Depreciação_Anual!I$4)","v":0},{"$f":"SUMIFS(Depreciação_Mensal!$G16:$RF16,Depreciação_Mensal!$G$4:$RF$4,Depreciação_Anual!J$4)","v":0},{"$f":"SUMIFS(Depreciação_Mensal!$G16:$RF16,Depreciação_Mensal!$G$4:$RF$4,Depreciação_Anual!K$4)","v":0},{"$f":"SUMIFS(Depreciação_Mensal!$G16:$RF16,Depreciação_Mensal!$G$4:$RF$4,Depreciação_Anual!L$4)","v":0},{"$f":"SUMIFS(Depreciação_Mensal!$G16:$RF16,Depreciação_Mensal!$G$4:$RF$4,Depreciação_Anual!M$4)","v":0},{"$f":"SUMIFS(Depreciação_Mensal!$G16:$RF16,Depreciação_Mensal!$G$4:$RF$4,Depreciação_Anual!N$4)","v":0},{"$f":"SUMIFS(Depreciação_Mensal!$G16:$RF16,Depreciação_Mensal!$G$4:$RF$4,Depreciação_Anual!O$4)","v":0},{"$f":"SUMIFS(Depreciação_Mensal!$G16:$RF16,Depreciação_Mensal!$G$4:$RF$4,Depreciação_Anual!P$4)","v":0},{"$f":"SUMIFS(Depreciação_Mensal!$G16:$RF16,Depreciação_Mensal!$G$4:$RF$4,Depreciação_Anual!Q$4)","v":0},{"$f":"SUMIFS(Depreciação_Mensal!$G16:$RF16,Depreciação_Mensal!$G$4:$RF$4,Depreciação_Anual!R$4)","v":0},{"$f":"SUMIFS(Depreciação_Mensal!$G16:$RF16,Depreciação_Mensal!$G$4:$RF$4,Depreciação_Anual!S$4)","v":0},{"$f":"SUMIFS(Depreciação_Mensal!$G16:$RF16,Depreciação_Mensal!$G$4:$RF$4,Depreciação_Anual!T$4)","v":0},{"$f":"SUMIFS(Depreciação_Mensal!$G16:$RF16,Depreciação_Mensal!$G$4:$RF$4,Depreciação_Anual!U$4)","v":0},{"$f":"SUMIFS(Depreciação_Mensal!$G16:$RF16,Depreciação_Mensal!$G$4:$RF$4,Depreciação_Anual!V$4)","v":0},{"$f":"SUMIFS(Depreciação_Mensal!$G16:$RF16,Depreciação_Mensal!$G$4:$RF$4,Depreciação_Anual!W$4)","v":0},{"$f":"SUMIFS(Depreciação_Mensal!$G16:$RF16,Depreciação_Mensal!$G$4:$RF$4,Depreciação_Anual!X$4)","v":0},{"$f":"SUMIFS(Depreciação_Mensal!$G16:$RF16,Depreciação_Mensal!$G$4:$RF$4,Depreciação_Anual!Y$4)","v":0},{"$f":"SUMIFS(Depreciação_Mensal!$G16:$RF16,Depreciação_Mensal!$G$4:$RF$4,Depreciação_Anual!Z$4)","v":0},{"$f":"SUMIFS(Depreciação_Mensal!$G16:$RF16,Depreciação_Mensal!$G$4:$RF$4,Depreciação_Anual!AA$4)","v":0},{"$f":"SUMIFS(Depreciação_Mensal!$G16:$RF16,Depreciação_Mensal!$G$4:$RF$4,Depreciação_Anual!AB$4)","v":0},{"$f":"SUMIFS(Depreciação_Mensal!$G16:$RF16,Depreciação_Mensal!$G$4:$RF$4,Depreciação_Anual!AC$4)","v":0},{"$f":"SUMIFS(Depreciação_Mensal!$G16:$RF16,Depreciação_Mensal!$G$4:$RF$4,Depreciação_Anual!AD$4)","v":0},{"$f":"SUMIFS(Depreciação_Mensal!$G16:$RF16,Depreciação_Mensal!$G$4:$RF$4,Depreciação_Anual!AE$4)","v":0},{"$f":"SUMIFS(Depreciação_Mensal!$G16:$RF16,Depreciação_Mensal!$G$4:$RF$4,Depreciação_Anual!AF$4)","v":0},{"$f":"SUMIFS(Depreciação_Mensal!$G16:$RF16,Depreciação_Mensal!$G$4:$RF$4,Depreciação_Anual!AG$4)","v":0},{"$f":"SUMIFS(Depreciação_Mensal!$G16:$RF16,Depreciação_Mensal!$G$4:$RF$4,Depreciação_Anual!AH$4)","v":0},{"$f":"SUMIFS(Depreciação_Mensal!$G16:$RF16,Depreciação_Mensal!$G$4:$RF$4,Depreciação_Anual!AI$4)","v":0},{"$f":"SUMIFS(Depreciação_Mensal!$G16:$RF16,Depreciação_Mensal!$G$4:$RF$4,Depreciação_Anual!AJ$4)","v":0},{"$f":"SUMIFS(Depreciação_Mensal!$G16:$RF16,Depreciação_Mensal!$G$4:$RF$4,Depreciação_Anual!AK$4)","v":0},{"$f":"SUMIFS(Depreciação_Mensal!$G16:$RF16,Depreciação_Mensal!$G$4:$RF$4,Depreciação_Anual!AL$4)","v":0},{"$f":"SUMIFS(Depreciação_Mensal!$G16:$RF16,Depreciação_Mensal!$G$4:$RF$4,Depreciação_Anual!AM$4)","v":0},{"$f":"SUMIFS(Depreciação_Mensal!$G16:$RF16,Depreciação_Mensal!$G$4:$RF$4,Depreciação_Anual!AN$4)","v":0},{"$f":"SUMIFS(Depreciação_Mensal!$G16:$RF16,Depreciação_Mensal!$G$4:$RF$4,Depreciação_Anual!AO$4)","v":0},{"$f":"SUMIFS(Depreciação_Mensal!$G16:$RF16,Depreciação_Mensal!$G$4:$RF$4,Depreciação_Anual!AP$4)","v":0},{"$f":"SUMIFS(Depreciação_Mensal!$G16:$RF16,Depreciação_Mensal!$G$4:$RF$4,Depreciação_Anual!AQ$4)","v":0},{"$f":"SUMIFS(Depreciação_Mensal!$G16:$RF16,Depreciação_Mensal!$G$4:$RF$4,Depreciação_Anual!AR$4)","v":0},{"$f":"SUMIFS(Depreciação_Mensal!$G16:$RF16,Depreciação_Mensal!$G$4:$RF$4,Depreciação_Anual!AS$4)","v":0}]
[null,{"$f":"+Depreciação_Mensal!B17","v":0},null,{"$f":"+Depreciação_Mensal!D17","v":0},{"$f":"+Depreciação_Mensal!E17","v":0},null,{"$f":"SUMIFS(Depreciação_Mensal!$G17:$RF17,Depreciação_Mensal!$G$4:$RF$4,Depreciação_Anual!G$4)","v":0},{"$f":"SUMIFS(Depreciação_Mensal!$G17:$RF17,Depreciação_Mensal!$G$4:$RF$4,Depreciação_Anual!H$4)","v":0},{"$f":"SUMIFS(Depreciação_Mensal!$G17:$RF17,Depreciação_Mensal!$G$4:$RF$4,Depreciação_Anual!I$4)","v":0},{"$f":"SUMIFS(Depreciação_Mensal!$G17:$RF17,Depreciação_Mensal!$G$4:$RF$4,Depreciação_Anual!J$4)","v":0},{"$f":"SUMIFS(Depreciação_Mensal!$G17:$RF17,Depreciação_Mensal!$G$4:$RF$4,Depreciação_Anual!K$4)","v":0},{"$f":"SUMIFS(Depreciação_Mensal!$G17:$RF17,Depreciação_Mensal!$G$4:$RF$4,Depreciação_Anual!L$4)","v":0},{"$f":"SUMIFS(Depreciação_Mensal!$G17:$RF17,Depreciação_Mensal!$G$4:$RF$4,Depreciação_Anual!M$4)","v":0},{"$f":"SUMIFS(Depreciação_Mensal!$G17:$RF17,Depreciação_Mensal!$G$4:$RF$4,Depreciação_Anual!N$4)","v":0},{"$f":"SUMIFS(Depreciação_Mensal!$G17:$RF17,Depreciação_Mensal!$G$4:$RF$4,Depreciação_Anual!O$4)","v":0},{"$f":"SUMIFS(Depreciação_Mensal!$G17:$RF17,Depreciação_Mensal!$G$4:$RF$4,Depreciação_Anual!P$4)","v":0},{"$f":"SUMIFS(Depreciação_Mensal!$G17:$RF17,Depreciação_Mensal!$G$4:$RF$4,Depreciação_Anual!Q$4)","v":0},{"$f":"SUMIFS(Depreciação_Mensal!$G17:$RF17,Depreciação_Mensal!$G$4:$RF$4,Depreciação_Anual!R$4)","v":0},{"$f":"SUMIFS(Depreciação_Mensal!$G17:$RF17,Depreciação_Mensal!$G$4:$RF$4,Depreciação_Anual!S$4)","v":0},{"$f":"SUMIFS(Depreciação_Mensal!$G17:$RF17,Depreciação_Mensal!$G$4:$RF$4,Depreciação_Anual!T$4)","v":0},{"$f":"SUMIFS(Depreciação_Mensal!$G17:$RF17,Depreciação_Mensal!$G$4:$RF$4,Depreciação_Anual!U$4)","v":0},{"$f":"SUMIFS(Depreciação_Mensal!$G17:$RF17,Depreciação_Mensal!$G$4:$RF$4,Depreciação_Anual!V$4)","v":0},{"$f":"SUMIFS(Depreciação_Mensal!$G17:$RF17,Depreciação_Mensal!$G$4:$RF$4,Depreciação_Anual!W$4)","v":0},{"$f":"SUMIFS(Depreciação_Mensal!$G17:$RF17,Depreciação_Mensal!$G$4:$RF$4,Depreciação_Anual!X$4)","v":0},{"$f":"SUMIFS(Depreciação_Mensal!$G17:$RF17,Depreciação_Mensal!$G$4:$RF$4,Depreciação_Anual!Y$4)","v":0},{"$f":"SUMIFS(Depreciação_Mensal!$G17:$RF17,Depreciação_Mensal!$G$4:$RF$4,Depreciação_Anual!Z$4)","v":0},{"$f":"SUMIFS(Depreciação_Mensal!$G17:$RF17,Depreciação_Mensal!$G$4:$RF$4,Depreciação_Anual!AA$4)","v":0},{"$f":"SUMIFS(Depreciação_Mensal!$G17:$RF17,Depreciação_Mensal!$G$4:$RF$4,Depreciação_Anual!AB$4)","v":0},{"$f":"SUMIFS(Depreciação_Mensal!$G17:$RF17,Depreciação_Mensal!$G$4:$RF$4,Depreciação_Anual!AC$4)","v":0},{"$f":"SUMIFS(Depreciação_Mensal!$G17:$RF17,Depreciação_Mensal!$G$4:$RF$4,Depreciação_Anual!AD$4)","v":0},{"$f":"SUMIFS(Depreciação_Mensal!$G17:$RF17,Depreciação_Mensal!$G$4:$RF$4,Depreciação_Anual!AE$4)","v":0},{"$f":"SUMIFS(Depreciação_Mensal!$G17:$RF17,Depreciação_Mensal!$G$4:$RF$4,Depreciação_Anual!AF$4)","v":0},{"$f":"SUMIFS(Depreciação_Mensal!$G17:$RF17,Depreciação_Mensal!$G$4:$RF$4,Depreciação_Anual!AG$4)","v":0},{"$f":"SUMIFS(Depreciação_Mensal!$G17:$RF17,Depreciação_Mensal!$G$4:$RF$4,Depreciação_Anual!AH$4)","v":0},{"$f":"SUMIFS(Depreciação_Mensal!$G17:$RF17,Depreciação_Mensal!$G$4:$RF$4,Depreciação_Anual!AI$4)","v":0},{"$f":"SUMIFS(Depreciação_Mensal!$G17:$RF17,Depreciação_Mensal!$G$4:$RF$4,Depreciação_Anual!AJ$4)","v":0},{"$f":"SUMIFS(Depreciação_Mensal!$G17:$RF17,Depreciação_Mensal!$G$4:$RF$4,Depreciação_Anual!AK$4)","v":0},{"$f":"SUMIFS(Depreciação_Mensal!$G17:$RF17,Depreciação_Mensal!$G$4:$RF$4,Depreciação_Anual!AL$4)","v":0},{"$f":"SUMIFS(Depreciação_Mensal!$G17:$RF17,Depreciação_Mensal!$G$4:$RF$4,Depreciação_Anual!AM$4)","v":0},{"$f":"SUMIFS(Depreciação_Mensal!$G17:$RF17,Depreciação_Mensal!$G$4:$RF$4,Depreciação_Anual!AN$4)","v":0},{"$f":"SUMIFS(Depreciação_Mensal!$G17:$RF17,Depreciação_Mensal!$G$4:$RF$4,Depreciação_Anual!AO$4)","v":0},{"$f":"SUMIFS(Depreciação_Mensal!$G17:$RF17,Depreciação_Mensal!$G$4:$RF$4,Depreciação_Anual!AP$4)","v":0},{"$f":"SUMIFS(Depreciação_Mensal!$G17:$RF17,Depreciação_Mensal!$G$4:$RF$4,Depreciação_Anual!AQ$4)","v":0},{"$f":"SUMIFS(Depreciação_Mensal!$G17:$RF17,Depreciação_Mensal!$G$4:$RF$4,Depreciação_Anual!AR$4)","v":0},{"$f":"SUMIFS(Depreciação_Mensal!$G17:$RF17,Depreciação_Mensal!$G$4:$RF$4,Depreciação_Anual!AS$4)","v":0}]
[null,{"$f":"+Depreciação_Mensal!B18","v":0},null,{"$f":"+Depreciação_Mensal!D18","v":0},{"$f":"+Depreciação_Mensal!E18","v":0},null,{"$f":"SUMIFS(Depreciação_Mensal!$G18:$RF18,Depreciação_Mensal!$G$4:$RF$4,Depreciação_Anual!G$4)","v":0},{"$f":"SUMIFS(Depreciação_Mensal!$G18:$RF18,Depreciação_Mensal!$G$4:$RF$4,Depreciação_Anual!H$4)","v":0},{"$f":"SUMIFS(Depreciação_Mensal!$G18:$RF18,Depreciação_Mensal!$G$4:$RF$4,Depreciação_Anual!I$4)","v":0},{"$f":"SUMIFS(Depreciação_Mensal!$G18:$RF18,Depreciação_Mensal!$G$4:$RF$4,Depreciação_Anual!J$4)","v":0},{"$f":"SUMIFS(Depreciação_Mensal!$G18:$RF18,Depreciação_Mensal!$G$4:$RF$4,Depreciação_Anual!K$4)","v":0},{"$f":"SUMIFS(Depreciação_Mensal!$G18:$RF18,Depreciação_Mensal!$G$4:$RF$4,Depreciação_Anual!L$4)","v":0},{"$f":"SUMIFS(Depreciação_Mensal!$G18:$RF18,Depreciação_Mensal!$G$4:$RF$4,Depreciação_Anual!M$4)","v":0},{"$f":"SUMIFS(Depreciação_Mensal!$G18:$RF18,Depreciação_Mensal!$G$4:$RF$4,Depreciação_Anual!N$4)","v":0},{"$f":"SUMIFS(Depreciação_Mensal!$G18:$RF18,Depreciação_Mensal!$G$4:$RF$4,Depreciação_Anual!O$4)","v":0},{"$f":"SUMIFS(Depreciação_Mensal!$G18:$RF18,Depreciação_Mensal!$G$4:$RF$4,Depreciação_Anual!P$4)","v":0},{"$f":"SUMIFS(Depreciação_Mensal!$G18:$RF18,Depreciação_Mensal!$G$4:$RF$4,Depreciação_Anual!Q$4)","v":0},{"$f":"SUMIFS(Depreciação_Mensal!$G18:$RF18,Depreciação_Mensal!$G$4:$RF$4,Depreciação_Anual!R$4)","v":0},{"$f":"SUMIFS(Depreciação_Mensal!$G18:$RF18,Depreciação_Mensal!$G$4:$RF$4,Depreciação_Anual!S$4)","v":0},{"$f":"SUMIFS(Depreciação_Mensal!$G18:$RF18,Depreciação_Mensal!$G$4:$RF$4,Depreciação_Anual!T$4)","v":0},{"$f":"SUMIFS(Depreciação_Mensal!$G18:$RF18,Depreciação_Mensal!$G$4:$RF$4,Depreciação_Anual!U$4)","v":0},{"$f":"SUMIFS(Depreciação_Mensal!$G18:$RF18,Depreciação_Mensal!$G$4:$RF$4,Depreciação_Anual!V$4)","v":0},{"$f":"SUMIFS(Depreciação_Mensal!$G18:$RF18,Depreciação_Mensal!$G$4:$RF$4,Depreciação_Anual!W$4)","v":0},{"$f":"SUMIFS(Depreciação_Mensal!$G18:$RF18,Depreciação_Mensal!$G$4:$RF$4,Depreciação_Anual!X$4)","v":0},{"$f":"SUMIFS(Depreciação_Mensal!$G18:$RF18,Depreciação_Mensal!$G$4:$RF$4,Depreciação_Anual!Y$4)","v":0},{"$f":"SUMIFS(Depreciação_Mensal!$G18:$RF18,Depreciação_Mensal!$G$4:$RF$4,Depreciação_Anual!Z$4)","v":0},{"$f":"SUMIFS(Depreciação_Mensal!$G18:$RF18,Depreciação_Mensal!$G$4:$RF$4,Depreciação_Anual!AA$4)","v":0},{"$f":"SUMIFS(Depreciação_Mensal!$G18:$RF18,Depreciação_Mensal!$G$4:$RF$4,Depreciação_Anual!AB$4)","v":0},{"$f":"SUMIFS(Depreciação_Mensal!$G18:$RF18,Depreciação_Mensal!$G$4:$RF$4,Depreciação_Anual!AC$4)","v":0},{"$f":"SUMIFS(Depreciação_Mensal!$G18:$RF18,Depreciação_Mensal!$G$4:$RF$4,Depreciação_Anual!AD$4)","v":0},{"$f":"SUMIFS(Depreciação_Mensal!$G18:$RF18,Depreciação_Mensal!$G$4:$RF$4,Depreciação_Anual!AE$4)","v":0},{"$f":"SUMIFS(Depreciação_Mensal!$G18:$RF18,Depreciação_Mensal!$G$4:$RF$4,Depreciação_Anual!AF$4)","v":0},{"$f":"SUMIFS(Depreciação_Mensal!$G18:$RF18,Depreciação_Mensal!$G$4:$RF$4,Depreciação_Anual!AG$4)","v":0},{"$f":"SUMIFS(Depreciação_Mensal!$G18:$RF18,Depreciação_Mensal!$G$4:$RF$4,Depreciação_Anual!AH$4)","v":0},{"$f":"SUMIFS(Depreciação_Mensal!$G18:$RF18,Depreciação_Mensal!$G$4:$RF$4,Depreciação_Anual!AI$4)","v":0},{"$f":"SUMIFS(Depreciação_Mensal!$G18:$RF18,Depreciação_Mensal!$G$4:$RF$4,Depreciação_Anual!AJ$4)","v":0},{"$f":"SUMIFS(Depreciação_Mensal!$G18:$RF18,Depreciação_Mensal!$G$4:$RF$4,Depreciação_Anual!AK$4)","v":0},{"$f":"SUMIFS(Depreciação_Mensal!$G18:$RF18,Depreciação_Mensal!$G$4:$RF$4,Depreciação_Anual!AL$4)","v":0},{"$f":"SUMIFS(Depreciação_Mensal!$G18:$RF18,Depreciação_Mensal!$G$4:$RF$4,Depreciação_Anual!AM$4)","v":0},{"$f":"SUMIFS(Depreciação_Mensal!$G18:$RF18,Depreciação_Mensal!$G$4:$RF$4,Depreciação_Anual!AN$4)","v":0},{"$f":"SUMIFS(Depreciação_Mensal!$G18:$RF18,Depreciação_Mensal!$G$4:$RF$4,Depreciação_Anual!AO$4)","v":0},{"$f":"SUMIFS(Depreciação_Mensal!$G18:$RF18,Depreciação_Mensal!$G$4:$RF$4,Depreciação_Anual!AP$4)","v":0},{"$f":"SUMIFS(Depreciação_Mensal!$G18:$RF18,Depreciação_Mensal!$G$4:$RF$4,Depreciação_Anual!AQ$4)","v":0},{"$f":"SUMIFS(Depreciação_Mensal!$G18:$RF18,Depreciação_Mensal!$G$4:$RF$4,Depreciação_Anual!AR$4)","v":0},{"$f":"SUMIFS(Depreciação_Mensal!$G18:$RF18,Depreciação_Mensal!$G$4:$RF$4,Depreciação_Anual!AS$4)","v":0}]
[null,{"$f":"+Depreciação_Mensal!B19","v":0},null,{"$f":"+Depreciação_Mensal!D19","v":0},{"$f":"+Depreciação_Mensal!E19","v":0},null,{"$f":"SUMIFS(Depreciação_Mensal!$G19:$RF19,Depreciação_Mensal!$G$4:$RF$4,Depreciação_Anual!G$4)","v":0},{"$f":"SUMIFS(Depreciação_Mensal!$G19:$RF19,Depreciação_Mensal!$G$4:$RF$4,Depreciação_Anual!H$4)","v":0},{"$f":"SUMIFS(Depreciação_Mensal!$G19:$RF19,Depreciação_Mensal!$G$4:$RF$4,Depreciação_Anual!I$4)","v":0},{"$f":"SUMIFS(Depreciação_Mensal!$G19:$RF19,Depreciação_Mensal!$G$4:$RF$4,Depreciação_Anual!J$4)","v":0},{"$f":"SUMIFS(Depreciação_Mensal!$G19:$RF19,Depreciação_Mensal!$G$4:$RF$4,Depreciação_Anual!K$4)","v":0},{"$f":"SUMIFS(Depreciação_Mensal!$G19:$RF19,Depreciação_Mensal!$G$4:$RF$4,Depreciação_Anual!L$4)","v":0},{"$f":"SUMIFS(Depreciação_Mensal!$G19:$RF19,Depreciação_Mensal!$G$4:$RF$4,Depreciação_Anual!M$4)","v":0},{"$f":"SUMIFS(Depreciação_Mensal!$G19:$RF19,Depreciação_Mensal!$G$4:$RF$4,Depreciação_Anual!N$4)","v":0},{"$f":"SUMIFS(Depreciação_Mensal!$G19:$RF19,Depreciação_Mensal!$G$4:$RF$4,Depreciação_Anual!O$4)","v":0},{"$f":"SUMIFS(Depreciação_Mensal!$G19:$RF19,Depreciação_Mensal!$G$4:$RF$4,Depreciação_Anual!P$4)","v":0},{"$f":"SUMIFS(Depreciação_Mensal!$G19:$RF19,Depreciação_Mensal!$G$4:$RF$4,Depreciação_Anual!Q$4)","v":0},{"$f":"SUMIFS(Depreciação_Mensal!$G19:$RF19,Depreciação_Mensal!$G$4:$RF$4,Depreciação_Anual!R$4)","v":0},{"$f":"SUMIFS(Depreciação_Mensal!$G19:$RF19,Depreciação_Mensal!$G$4:$RF$4,Depreciação_Anual!S$4)","v":0},{"$f":"SUMIFS(Depreciação_Mensal!$G19:$RF19,Depreciação_Mensal!$G$4:$RF$4,Depreciação_Anual!T$4)","v":0},{"$f":"SUMIFS(Depreciação_Mensal!$G19:$RF19,Depreciação_Mensal!$G$4:$RF$4,Depreciação_Anual!U$4)","v":0},{"$f":"SUMIFS(Depreciação_Mensal!$G19:$RF19,Depreciação_Mensal!$G$4:$RF$4,Depreciação_Anual!V$4)","v":0},{"$f":"SUMIFS(Depreciação_Mensal!$G19:$RF19,Depreciação_Mensal!$G$4:$RF$4,Depreciação_Anual!W$4)","v":0},{"$f":"SUMIFS(Depreciação_Mensal!$G19:$RF19,Depreciação_Mensal!$G$4:$RF$4,Depreciação_Anual!X$4)","v":0},{"$f":"SUMIFS(Depreciação_Mensal!$G19:$RF19,Depreciação_Mensal!$G$4:$RF$4,Depreciação_Anual!Y$4)","v":0},{"$f":"SUMIFS(Depreciação_Mensal!$G19:$RF19,Depreciação_Mensal!$G$4:$RF$4,Depreciação_Anual!Z$4)","v":0},{"$f":"SUMIFS(Depreciação_Mensal!$G19:$RF19,Depreciação_Mensal!$G$4:$RF$4,Depreciação_Anual!AA$4)","v":0},{"$f":"SUMIFS(Depreciação_Mensal!$G19:$RF19,Depreciação_Mensal!$G$4:$RF$4,Depreciação_Anual!AB$4)","v":0},{"$f":"SUMIFS(Depreciação_Mensal!$G19:$RF19,Depreciação_Mensal!$G$4:$RF$4,Depreciação_Anual!AC$4)","v":0},{"$f":"SUMIFS(Depreciação_Mensal!$G19:$RF19,Depreciação_Mensal!$G$4:$RF$4,Depreciação_Anual!AD$4)","v":0},{"$f":"SUMIFS(Depreciação_Mensal!$G19:$RF19,Depreciação_Mensal!$G$4:$RF$4,Depreciação_Anual!AE$4)","v":0},{"$f":"SUMIFS(Depreciação_Mensal!$G19:$RF19,Depreciação_Mensal!$G$4:$RF$4,Depreciação_Anual!AF$4)","v":0},{"$f":"SUMIFS(Depreciação_Mensal!$G19:$RF19,Depreciação_Mensal!$G$4:$RF$4,Depreciação_Anual!AG$4)","v":0},{"$f":"SUMIFS(Depreciação_Mensal!$G19:$RF19,Depreciação_Mensal!$G$4:$RF$4,Depreciação_Anual!AH$4)","v":0},{"$f":"SUMIFS(Depreciação_Mensal!$G19:$RF19,Depreciação_Mensal!$G$4:$RF$4,Depreciação_Anual!AI$4)","v":0},{"$f":"SUMIFS(Depreciação_Mensal!$G19:$RF19,Depreciação_Mensal!$G$4:$RF$4,Depreciação_Anual!AJ$4)","v":0},{"$f":"SUMIFS(Depreciação_Mensal!$G19:$RF19,Depreciação_Mensal!$G$4:$RF$4,Depreciação_Anual!AK$4)","v":0},{"$f":"SUMIFS(Depreciação_Mensal!$G19:$RF19,Depreciação_Mensal!$G$4:$RF$4,Depreciação_Anual!AL$4)","v":0},{"$f":"SUMIFS(Depreciação_Mensal!$G19:$RF19,Depreciação_Mensal!$G$4:$RF$4,Depreciação_Anual!AM$4)","v":0},{"$f":"SUMIFS(Depreciação_Mensal!$G19:$RF19,Depreciação_Mensal!$G$4:$RF$4,Depreciação_Anual!AN$4)","v":0},{"$f":"SUMIFS(Depreciação_Mensal!$G19:$RF19,Depreciação_Mensal!$G$4:$RF$4,Depreciação_Anual!AO$4)","v":0},{"$f":"SUMIFS(Depreciação_Mensal!$G19:$RF19,Depreciação_Mensal!$G$4:$RF$4,Depreciação_Anual!AP$4)","v":0},{"$f":"SUMIFS(Depreciação_Mensal!$G19:$RF19,Depreciação_Mensal!$G$4:$RF$4,Depreciação_Anual!AQ$4)","v":0},{"$f":"SUMIFS(Depreciação_Mensal!$G19:$RF19,Depreciação_Mensal!$G$4:$RF$4,Depreciação_Anual!AR$4)","v":0},{"$f":"SUMIFS(Depreciação_Mensal!$G19:$RF19,Depreciação_Mensal!$G$4:$RF$4,Depreciação_Anual!AS$4)","v":0}]
[null,{"$f":"+Depreciação_Mensal!B20","v":0},null,{"$f":"+Depreciação_Mensal!D20","v":0},{"$f":"+Depreciação_Mensal!E20","v":0},null,{"$f":"SUMIFS(Depreciação_Mensal!$G20:$RF20,Depreciação_Mensal!$G$4:$RF$4,Depreciação_Anual!G$4)","v":0},{"$f":"SUMIFS(Depreciação_Mensal!$G20:$RF20,Depreciação_Mensal!$G$4:$RF$4,Depreciação_Anual!H$4)","v":0},{"$f":"SUMIFS(Depreciação_Mensal!$G20:$RF20,Depreciação_Mensal!$G$4:$RF$4,Depreciação_Anual!I$4)","v":0},{"$f":"SUMIFS(Depreciação_Mensal!$G20:$RF20,Depreciação_Mensal!$G$4:$RF$4,Depreciação_Anual!J$4)","v":0},{"$f":"SUMIFS(Depreciação_Mensal!$G20:$RF20,Depreciação_Mensal!$G$4:$RF$4,Depreciação_Anual!K$4)","v":0},{"$f":"SUMIFS(Depreciação_Mensal!$G20:$RF20,Depreciação_Mensal!$G$4:$RF$4,Depreciação_Anual!L$4)","v":0},{"$f":"SUMIFS(Depreciação_Mensal!$G20:$RF20,Depreciação_Mensal!$G$4:$RF$4,Depreciação_Anual!M$4)","v":0},{"$f":"SUMIFS(Depreciação_Mensal!$G20:$RF20,Depreciação_Mensal!$G$4:$RF$4,Depreciação_Anual!N$4)","v":0},{"$f":"SUMIFS(Depreciação_Mensal!$G20:$RF20,Depreciação_Mensal!$G$4:$RF$4,Depreciação_Anual!O$4)","v":0},{"$f":"SUMIFS(Depreciação_Mensal!$G20:$RF20,Depreciação_Mensal!$G$4:$RF$4,Depreciação_Anual!P$4)","v":0},{"$f":"SUMIFS(Depreciação_Mensal!$G20:$RF20,Depreciação_Mensal!$G$4:$RF$4,Depreciação_Anual!Q$4)","v":0},{"$f":"SUMIFS(Depreciação_Mensal!$G20:$RF20,Depreciação_Mensal!$G$4:$RF$4,Depreciação_Anual!R$4)","v":0},{"$f":"SUMIFS(Depreciação_Mensal!$G20:$RF20,Depreciação_Mensal!$G$4:$RF$4,Depreciação_Anual!S$4)","v":0},{"$f":"SUMIFS(Depreciação_Mensal!$G20:$RF20,Depreciação_Mensal!$G$4:$RF$4,Depreciação_Anual!T$4)","v":0},{"$f":"SUMIFS(Depreciação_Mensal!$G20:$RF20,Depreciação_Mensal!$G$4:$RF$4,Depreciação_Anual!U$4)","v":0},{"$f":"SUMIFS(Depreciação_Mensal!$G20:$RF20,Depreciação_Mensal!$G$4:$RF$4,Depreciação_Anual!V$4)","v":0},{"$f":"SUMIFS(Depreciação_Mensal!$G20:$RF20,Depreciação_Mensal!$G$4:$RF$4,Depreciação_Anual!W$4)","v":0},{"$f":"SUMIFS(Depreciação_Mensal!$G20:$RF20,Depreciação_Mensal!$G$4:$RF$4,Depreciação_Anual!X$4)","v":0},{"$f":"SUMIFS(Depreciação_Mensal!$G20:$RF20,Depreciação_Mensal!$G$4:$RF$4,Depreciação_Anual!Y$4)","v":0},{"$f":"SUMIFS(Depreciação_Mensal!$G20:$RF20,Depreciação_Mensal!$G$4:$RF$4,Depreciação_Anual!Z$4)","v":0},{"$f":"SUMIFS(Depreciação_Mensal!$G20:$RF20,Depreciação_Mensal!$G$4:$RF$4,Depreciação_Anual!AA$4)","v":0},{"$f":"SUMIFS(Depreciação_Mensal!$G20:$RF20,Depreciação_Mensal!$G$4:$RF$4,Depreciação_Anual!AB$4)","v":0},{"$f":"SUMIFS(Depreciação_Mensal!$G20:$RF20,Depreciação_Mensal!$G$4:$RF$4,Depreciação_Anual!AC$4)","v":0},{"$f":"SUMIFS(Depreciação_Mensal!$G20:$RF20,Depreciação_Mensal!$G$4:$RF$4,Depreciação_Anual!AD$4)","v":0},{"$f":"SUMIFS(Depreciação_Mensal!$G20:$RF20,Depreciação_Mensal!$G$4:$RF$4,Depreciação_Anual!AE$4)","v":0},{"$f":"SUMIFS(Depreciação_Mensal!$G20:$RF20,Depreciação_Mensal!$G$4:$RF$4,Depreciação_Anual!AF$4)","v":0},{"$f":"SUMIFS(Depreciação_Mensal!$G20:$RF20,Depreciação_Mensal!$G$4:$RF$4,Depreciação_Anual!AG$4)","v":0},{"$f":"SUMIFS(Depreciação_Mensal!$G20:$RF20,Depreciação_Mensal!$G$4:$RF$4,Depreciação_Anual!AH$4)","v":0},{"$f":"SUMIFS(Depreciação_Mensal!$G20:$RF20,Depreciação_Mensal!$G$4:$RF$4,Depreciação_Anual!AI$4)","v":0},{"$f":"SUMIFS(Depreciação_Mensal!$G20:$RF20,Depreciação_Mensal!$G$4:$RF$4,Depreciação_Anual!AJ$4)","v":0},{"$f":"SUMIFS(Depreciação_Mensal!$G20:$RF20,Depreciação_Mensal!$G$4:$RF$4,Depreciação_Anual!AK$4)","v":0},{"$f":"SUMIFS(Depreciação_Mensal!$G20:$RF20,Depreciação_Mensal!$G$4:$RF$4,Depreciação_Anual!AL$4)","v":0},{"$f":"SUMIFS(Depreciação_Mensal!$G20:$RF20,Depreciação_Mensal!$G$4:$RF$4,Depreciação_Anual!AM$4)","v":0},{"$f":"SUMIFS(Depreciação_Mensal!$G20:$RF20,Depreciação_Mensal!$G$4:$RF$4,Depreciação_Anual!AN$4)","v":0},{"$f":"SUMIFS(Depreciação_Mensal!$G20:$RF20,Depreciação_Mensal!$G$4:$RF$4,Depreciação_Anual!AO$4)","v":0},{"$f":"SUMIFS(Depreciação_Mensal!$G20:$RF20,Depreciação_Mensal!$G$4:$RF$4,Depreciação_Anual!AP$4)","v":0},{"$f":"SUMIFS(Depreciação_Mensal!$G20:$RF20,Depreciação_Mensal!$G$4:$RF$4,Depreciação_Anual!AQ$4)","v":0},{"$f":"SUMIFS(Depreciação_Mensal!$G20:$RF20,Depreciação_Mensal!$G$4:$RF$4,Depreciação_Anual!AR$4)","v":0},{"$f":"SUMIFS(Depreciação_Mensal!$G20:$RF20,Depreciação_Mensal!$G$4:$RF$4,Depreciação_Anual!AS$4)","v":0}]
[]
[]
["xxxxxx","Depreciação Regulatória"]
[null,"Ativo",null,"Ciclo de Vida (Anos)","Ciclo de Vida (Meses)",null,{"$f":"+G26","v":0},{"$f":"+H26","v":0},{"v":6532652.614801495,"d":"6,532,653"},{"v":11198833.05394542,"d":"11,198,833"},{"v":11198833.05394542,"d":"11,198,833"},{"v":11198833.05394542,"d":"11,198,833"},{"v":11198833.05394542,"d":"11,198,833"},{"v":11198833.05394542,"d":"11,198,833"},{"v":11198833.05394542,"d":"11,198,833"},{"v":11198833.05394542,"d":"11,198,833"},{"v":11198833.05394542,"d":"11,198,833"},{"v":11198833.05394542,"d":"11,198,833"},{"v":11198833.05394542,"d":"11,198,833"},{"v":11198833.05394542,"d":"11,198,833"},{"v":11198833.05394542,"d":"11,198,833"},{"v":11198833.05394542,"d":"11,198,833"},{"v":11198833.05394542,"d":"11,198,833"},{"v":4666180.439143925,"d":"4,666,180"},0,0,0,0,0,0,0,0,0,0,0,0,0,0,0,0,0,0,0,0,0]
[null,{"$f":"+B12","v":"GASIG"},null,{"$f":"+D12","v":15},{"$f":"+E12","v":180},null,{"$f":"SUMIFS(Depreciação_Mensal!$G25:$RF25,Depreciação_Mensal!$G$4:$RF$4,Depreciação_Anual!G$4)","v":0},{"$f":"SUMIFS(Depreciação_Mensal!$G25:$RF25,Depreciação_Mensal!$G$4:$RF$4,Depreciação_Anual!H$4)","v":0},{"$f":"SUMIFS(Depreciação_Mensal!$G25:$RF25,Depreciação_Mensal!$G$4:$RF$4,Depreciação_Anual!I$4)","v":{"v":6532652.614801495,"d":"6,532,653"}},{"$f":"SUMIFS(Depreciação_Mensal!$G25:$RF25,Depreciação_Mensal!$G$4:$RF$4,Depreciação_Anual!J$4)","v":{"v":11198833.05394542,"d":"11,198,833"}},{"$f":"SUMIFS(Depreciação_Mensal!$G25:$RF25,Depreciação_Mensal!$G$4:$RF$4,Depreciação_Anual!K$4)","v":{"v":11198833.05394542,"d":"11,198,833"}},{"$f":"SUMIFS(Depreciação_Mensal!$G25:$RF25,Depreciação_Mensal!$G$4:$RF$4,Depreciação_Anual!L$4)","v":{"v":11198833.05394542,"d":"11,198,833"}},{"$f":"SUMIFS(Depreciação_Mensal!$G25:$RF25,Depreciação_Mensal!$G$4:$RF$4,Depreciação_Anual!M$4)","v":{"v":11198833.05394542,"d":"11,198,833"}},{"$f":"SUMIFS(Depreciação_Mensal!$G25:$RF25,Depreciação_Mensal!$G$4:$RF$4,Depreciação_Anual!N$4)","v":{"v":11198833.05394542,"d":"11,198,833"}},{"$f":"SUMIFS(Depreciação_Mensal!$G25:$RF25,Depreciação_Mensal!$G$4:$RF$4,Depreciação_Anual!O$4)","v":{"v":11198833.05394542,"d":"11,198,833"}},{"$f":"SUMIFS(Depreciação_Mensal!$G25:$RF25,Depreciação_Mensal!$G$4:$RF$4,Depreciação_Anual!P$4)","v":{"v":11198833.05394542,"d":"11,198,833"}},{"$f":"SUMIFS(Depreciação_Mensal!$G25:$RF25,Depreciação_Mensal!$G$4:$RF$4,Depreciação_Anual!Q$4)","v":{"v":11198833.05394542,"d":"11,198,833"}},{"$f":"SUMIFS(Depreciação_Mensal!$G25:$RF25,Depreciação_Mensal!$G$4:$RF$4,Depreciação_Anual!R$4)","v":{"v":11198833.05394542,"d":"11,198,833"}},{"$f":"SUMIFS(Depreciação_Mensal!$G25:$RF25,Depreciação_Mensal!$G$4:$RF$4,Depreciação_Anual!S$4)","v":{"v":11198833.05394542,"d":"11,198,833"}},{"$f":"SUMIFS(Depreciação_Mensal!$G25:$RF25,Depreciação_Mensal!$G$4:$RF$4,Depreciação_Anual!T$4)","v":{"v":11198833.05394542,"d":"11,198,833"}},{"$f":"SUMIFS(Depreciação_Mensal!$G25:$RF25,Depreciação_Mensal!$G$4:$RF$4,Depreciação_Anual!U$4)","v":{"v":11198833.05394542,"d":"11,198,833"}},{"$f":"SUMIFS(Depreciação_Mensal!$G25:$RF25,Depreciação_Mensal!$G$4:$RF$4,Depreciação_Anual!V$4)","v":{"v":11198833.05394542,"d":"11,198,833"}},{"$f":"SUMIFS(Depreciação_Mensal!$G25:$RF25,Depreciação_Mensal!$G$4:$RF$4,Depreciação_Anual!W$4)","v":{"v":11198833.05394542,"d":"11,198,833"}},{"$f":"SUMIFS(Depreciação_Mensal!$G25:$RF25,Depreciação_Mensal!$G$4:$RF$4,Depreciação_Anual!X$4)","v":{"v":4666180.439143925,"d":"4,666,180"}},{"$f":"SUMIFS(Depreciação_Mensal!$G25:$RF25,Depreciação_Mensal!$G$4:$RF$4,Depreciação_Anual!Y$4)","v":0},{"$f":"SUMIFS(Depreciação_Mensal!$G25:$RF25,Depreciação_Mensal!$G$4:$RF$4,Depreciação_Anual!Z$4)","v":0},{"$f":"SUMIFS(Depreciação_Mensal!$G25:$RF25,Depreciação_Mensal!$G$4:$RF$4,Depreciação_Anual!AA$4)","v":0},{"$f":"SUMIFS(Depreciação_Mensal!$G25:$RF25,Depreciação_Mensal!$G$4:$RF$4,Depreciação_Anual!AB$4)","v":0},{"$f":"SUMIFS(Depreciação_Mensal!$G25:$RF25,Depreciação_Mensal!$G$4:$RF$4,Depreciação_Anual!AC$4)","v":0},{"$f":"SUMIFS(Depreciação_Mensal!$G25:$RF25,Depreciação_Mensal!$G$4:$RF$4,Depreciação_Anual!AD$4)","v":0},{"$f":"SUMIFS(Depreciação_Mensal!$G25:$RF25,Depreciação_Mensal!$G$4:$RF$4,Depreciação_Anual!AE$4)","v":0},{"$f":"SUMIFS(Depreciação_Mensal!$G25:$RF25,Depreciação_Mensal!$G$4:$RF$4,Depreciação_Anual!AF$4)","v":0},{"$f":"SUMIFS(Depreciação_Mensal!$G25:$RF25,Depreciação_Mensal!$G$4:$RF$4,Depreciação_Anual!AG$4)","v":0},{"$f":"SUMIFS(Depreciação_Mensal!$G25:$RF25,Depreciação_Mensal!$G$4:$RF$4,Depreciação_Anual!AH$4)","v":0},{"$f":"SUMIFS(Depreciação_Mensal!$G25:$RF25,Depreciação_Mensal!$G$4:$RF$4,Depreciação_Anual!AI$4)","v":0},{"$f":"SUMIFS(Depreciação_Mensal!$G25:$RF25,Depreciação_Mensal!$G$4:$RF$4,Depreciação_Anual!AJ$4)","v":0},{"$f":"SUMIFS(Depreciação_Mensal!$G25:$RF25,Depreciação_Mensal!$G$4:$RF$4,Depreciação_Anual!AK$4)","v":0},{"$f":"SUMIFS(Depreciação_Mensal!$G25:$RF25,Depreciação_Mensal!$G$4:$RF$4,Depreciação_Anual!AL$4)","v":0},{"$f":"SUMIFS(Depreciação_Mensal!$G25:$RF25,Depreciação_Mensal!$G$4:$RF$4,Depreciação_Anual!AM$4)","v":0},{"$f":"SUMIFS(Depreciação_Mensal!$G25:$RF25,Depreciação_Mensal!$G$4:$RF$4,Depreciação_Anual!AN$4)","v":0},{"$f":"SUMIFS(Depreciação_Mensal!$G25:$RF25,Depreciação_Mensal!$G$4:$RF$4,Depreciação_Anual!AO$4)","v":0},{"$f":"SUMIFS(Depreciação_Mensal!$G25:$RF25,Depreciação_Mensal!$G$4:$RF$4,Depreciação_Anual!AP$4)","v":0},{"$f":"SUMIFS(Depreciação_Mensal!$G25:$RF25,Depreciação_Mensal!$G$4:$RF$4,Depreciação_Anual!AQ$4)","v":0},{"$f":"SUMIFS(Depreciação_Mensal!$G25:$RF25,Depreciação_Mensal!$G$4:$RF$4,Depreciação_Anual!AR$4)","v":0},{"$f":"SUMIFS(Depreciação_Mensal!$G25:$RF25,Depreciação_Mensal!$G$4:$RF$4,Depreciação_Anual!AS$4)","v":0}]
[null,{"$f":"+B13","v":0},null,0,0,null,{"$f":"SUMIFS(Depreciação_Mensal!$G26:$RF26,Depreciação_Mensal!$G$4:$RF$4,Depreciação_Anual!G$4)","v":0},{"$f":"SUMIFS(Depreciação_Mensal!$G26:$RF26,Depreciação_Mensal!$G$4:$RF$4,Depreciação_Anual!H$4)","v":0},{"$f":"SUMIFS(Depreciação_Mensal!$G26:$RF26,Depreciação_Mensal!$G$4:$RF$4,Depreciação_Anual!I$4)","v":0},{"$f":"SUMIFS(Depreciação_Mensal!$G26:$RF26,Depreciação_Mensal!$G$4:$RF$4,Depreciação_Anual!J$4)","v":0},{"$f":"SUMIFS(Depreciação_Mensal!$G26:$RF26,Depreciação_Mensal!$G$4:$RF$4,Depreciação_Anual!K$4)","v":0},{"$f":"SUMIFS(Depreciação_Mensal!$G26:$RF26,Depreciação_Mensal!$G$4:$RF$4,Depreciação_Anual!L$4)","v":0},{"$f":"SUMIFS(Depreciação_Mensal!$G26:$RF26,Depreciação_Mensal!$G$4:$RF$4,Depreciação_Anual!M$4)","v":0},{"$f":"SUMIFS(Depreciação_Mensal!$G26:$RF26,Depreciação_Mensal!$G$4:$RF$4,Depreciação_Anual!N$4)","v":0},{"$f":"SUMIFS(Depreciação_Mensal!$G26:$RF26,Depreciação_Mensal!$G$4:$RF$4,Depreciação_Anual!O$4)","v":0},{"$f":"SUMIFS(Depreciação_Mensal!$G26:$RF26,Depreciação_Mensal!$G$4:$RF$4,Depreciação_Anual!P$4)","v":0},{"$f":"SUMIFS(Depreciação_Mensal!$G26:$RF26,Depreciação_Mensal!$G$4:$RF$4,Depreciação_Anual!Q$4)","v":0},{"$f":"SUMIFS(Depreciação_Mensal!$G26:$RF26,Depreciação_Mensal!$G$4:$RF$4,Depreciação_Anual!R$4)","v":0},{"$f":"SUMIFS(Depreciação_Mensal!$G26:$RF26,Depreciação_Mensal!$G$4:$RF$4,Depreciação_Anual!S$4)","v":0},{"$f":"SUMIFS(Depreciação_Mensal!$G26:$RF26,Depreciação_Mensal!$G$4:$RF$4,Depreciação_Anual!T$4)","v":0},{"$f":"SUMIFS(Depreciação_Mensal!$G26:$RF26,Depreciação_Mensal!$G$4:$RF$4,Depreciação_Anual!U$4)","v":0},{"$f":"SUMIFS(Depreciação_Mensal!$G26:$RF26,Depreciação_Mensal!$G$4:$RF$4,Depreciação_Anual!V$4)","v":0},{"$f":"SUMIFS(Depreciação_Mensal!$G26:$RF26,Depreciação_Mensal!$G$4:$RF$4,Depreciação_Anual!W$4)","v":0},{"$f":"SUMIFS(Depreciação_Mensal!$G26:$RF26,Depreciação_Mensal!$G$4:$RF$4,Depreciação_Anual!X$4)","v":0},{"$f":"SUMIFS(Depreciação_Mensal!$G26:$RF26,Depreciação_Mensal!$G$4:$RF$4,Depreciação_Anual!Y$4)","v":0},{"$f":"SUMIFS(Depreciação_Mensal!$G26:$RF26,Depreciação_Mensal!$G$4:$RF$4,Depreciação_Anual!Z$4)","v":0},{"$f":"SUMIFS(Depreciação_Mensal!$G26:$RF26,Depreciação_Mensal!$G$4:$RF$4,Depreciação_Anual!AA$4)","v":0},{"$f":"SUMIFS(Depreciação_Mensal!$G26:$RF26,Depreciação_Mensal!$G$4:$RF$4,Depreciação_Anual!AB$4)","v":0},{"$f":"SUMIFS(Depreciação_Mensal!$G26:$RF26,Depreciação_Mensal!$G$4:$RF$4,Depreciação_Anual!AC$4)","v":0},{"$f":"SUMIFS(Depreciação_Mensal!$G26:$RF26,Depreciação_Mensal!$G$4:$RF$4,Depreciação_Anual!AD$4)","v":0},{"$f":"SUMIFS(Depreciação_Mensal!$G26:$RF26,Depreciação_Mensal!$G$4:$RF$4,Depreciação_Anual!AE$4)","v":0},{"$f":"SUMIFS(Depreciação_Mensal!$G26:$RF26,Depreciação_Mensal!$G$4:$RF$4,Depreciação_Anual!AF$4)","v":0},{"$f":"SUMIFS(Depreciação_Mensal!$G26:$RF26,Depreciação_Mensal!$G$4:$RF$4,Depreciação_Anual!AG$4)","v":0},{"$f":"SUMIFS(Depreciação_Mensal!$G26:$RF26,Depreciação_Mensal!$G$4:$RF$4,Depreciação_Anual!AH$4)","v":0},{"$f":"SUMIFS(Depreciação_Mensal!$G26:$RF26,Depreciação_Mensal!$G$4:$RF$4,Depreciação_Anual!AI$4)","v":0},{"$f":"SUMIFS(Depreciação_Mensal!$G26:$RF26,Depreciação_Mensal!$G$4:$RF$4,Depreciação_Anual!AJ$4)","v":0},{"$f":"SUMIFS(Depreciação_Mensal!$G26:$RF26,Depreciação_Mensal!$G$4:$RF$4,Depreciação_Anual!AK$4)","v":0},{"$f":"SUMIFS(Depreciação_Mensal!$G26:$RF26,Depreciação_Mensal!$G$4:$RF$4,Depreciação_Anual!AL$4)","v":0},{"$f":"SUMIFS(Depreciação_Mensal!$G26:$RF26,Depreciação_Mensal!$G$4:$RF$4,Depreciação_Anual!AM$4)","v":0},{"$f":"SUMIFS(Depreciação_Mensal!$G26:$RF26,Depreciação_Mensal!$G$4:$RF$4,Depreciação_Anual!AN$4)","v":0},{"$f":"SUMIFS(Depreciação_Mensal!$G26:$RF26,Depreciação_Mensal!$G$4:$RF$4,Depreciação_Anual!AO$4)","v":0},{"$f":"SUMIFS(Depreciação_Mensal!$G26:$RF26,Depreciação_Mensal!$G$4:$RF$4,Depreciação_Anual!AP$4)","v":0},{"$f":"SUMIFS(Depreciação_Mensal!$G26:$RF26,Depreciação_Mensal!$G$4:$RF$4,Depreciação_Anual!AQ$4)","v":0},{"$f":"SUMIFS(Depreciação_Mensal!$G26:$RF26,Depreciação_Mensal!$G$4:$RF$4,Depreciação_Anual!AR$4)","v":0},{"$f":"SUMIFS(Depreciação_Mensal!$G26:$RF26,Depreciação_Mensal!$G$4:$RF$4,Depreciação_Anual!AS$4)","v":0}]
[null,0,null,0,0,null,{"$f":"SUMIFS(Depreciação_Mensal!$G27:$RF27,Depreciação_Mensal!$G$4:$RF$4,Depreciação_Anual!G$4)","v":0},{"$f":"SUMIFS(Depreciação_Mensal!$G27:$RF27,Depreciação_Mensal!$G$4:$RF$4,Depreciação_Anual!H$4)","v":0},{"$f":"SUMIFS(Depreciação_Mensal!$G27:$RF27,Depreciação_Mensal!$G$4:$RF$4,Depreciação_Anual!I$4)","v":0},{"$f":"SUMIFS(Depreciação_Mensal!$G27:$RF27,Depreciação_Mensal!$G$4:$RF$4,Depreciação_Anual!J$4)","v":0},{"$f":"SUMIFS(Depreciação_Mensal!$G27:$RF27,Depreciação_Mensal!$G$4:$RF$4,Depreciação_Anual!K$4)","v":0},{"$f":"SUMIFS(Depreciação_Mensal!$G27:$RF27,Depreciação_Mensal!$G$4:$RF$4,Depreciação_Anual!L$4)","v":0},{"$f":"SUMIFS(Depreciação_Mensal!$G27:$RF27,Depreciação_Mensal!$G$4:$RF$4,Depreciação_Anual!M$4)","v":0},{"$f":"SUMIFS(Depreciação_Mensal!$G27:$RF27,Depreciação_Mensal!$G$4:$RF$4,Depreciação_Anual!N$4)","v":0},{"$f":"SUMIFS(Depreciação_Mensal!$G27:$RF27,Depreciação_Mensal!$G$4:$RF$4,Depreciação_Anual!O$4)","v":0},{"$f":"SUMIFS(Depreciação_Mensal!$G27:$RF27,Depreciação_Mensal!$G$4:$RF$4,Depreciação_Anual!P$4)","v":0},{"$f":"SUMIFS(Depreciação_Mensal!$G27:$RF27,Depreciação_Mensal!$G$4:$RF$4,Depreciação_Anual!Q$4)","v":0},{"$f":"SUMIFS(Depreciação_Mensal!$G27:$RF27,Depreciação_Mensal!$G$4:$RF$4,Depreciação_Anual!R$4)","v":0},{"$f":"SUMIFS(Depreciação_Mensal!$G27:$RF27,Depreciação_Mensal!$G$4:$RF$4,Depreciação_Anual!S$4)","v":0},{"$f":"SUMIFS(Depreciação_Mensal!$G27:$RF27,Depreciação_Mensal!$G$4:$RF$4,Depreciação_Anual!T$4)","v":0},{"$f":"SUMIFS(Depreciação_Mensal!$G27:$RF27,Depreciação_Mensal!$G$4:$RF$4,Depreciação_Anual!U$4)","v":0},{"$f":"SUMIFS(Depreciação_Mensal!$G27:$RF27,Depreciação_Mensal!$G$4:$RF$4,Depreciação_Anual!V$4)","v":0},{"$f":"SUMIFS(Depreciação_Mensal!$G27:$RF27,Depreciação_Mensal!$G$4:$RF$4,Depreciação_Anual!W$4)","v":0},{"$f":"SUMIFS(Depreciação_Mensal!$G27:$RF27,Depreciação_Mensal!$G$4:$RF$4,Depreciação_Anual!X$4)","v":0},{"$f":"SUMIFS(Depreciação_Mensal!$G27:$RF27,Depreciação_Mensal!$G$4:$RF$4,Depreciação_Anual!Y$4)","v":0},{"$f":"SUMIFS(Depreciação_Mensal!$G27:$RF27,Depreciação_Mensal!$G$4:$RF$4,Depreciação_Anual!Z$4)","v":0},{"$f":"SUMIFS(Depreciação_Mensal!$G27:$RF27,Depreciação_Mensal!$G$4:$RF$4,Depreciação_Anual!AA$4)","v":0},{"$f":"SUMIFS(Depreciação_Mensal!$G27:$RF27,Depreciação_Mensal!$G$4:$RF$4,Depreciação_Anual!AB$4)","v":0},{"$f":"SUMIFS(Depreciação_Mensal!$G27:$RF27,Depreciação_Mensal!$G$4:$RF$4,Depreciação_Anual!AC$4)","v":0},{"$f":"SUMIFS(Depreciação_Mensal!$G27:$RF27,Depreciação_Mensal!$G$4:$RF$4,Depreciação_Anual!AD$4)","v":0},{"$f":"SUMIFS(Depreciação_Mensal!$G27:$RF27,Depreciação_Mensal!$G$4:$RF$4,Depreciação_Anual!AE$4)","v":0},{"$f":"SUMIFS(Depreciação_Mensal!$G27:$RF27,Depreciação_Mensal!$G$4:$RF$4,Depreciação_Anual!AF$4)","v":0},{"$f":"SUMIFS(Depreciação_Mensal!$G27:$RF27,Depreciação_Mensal!$G$4:$RF$4,Depreciação_Anual!AG$4)","v":0},{"$f":"SUMIFS(Depreciação_Mensal!$G27:$RF27,Depreciação_Mensal!$G$4:$RF$4,Depreciação_Anual!AH$4)","v":0},{"$f":"SUMIFS(Depreciação_Mensal!$G27:$RF27,Depreciação_Mensal!$G$4:$RF$4,Depreciação_Anual!AI$4)","v":0},{"$f":"SUMIFS(Depreciação_Mensal!$G27:$RF27,Depreciação_Mensal!$G$4:$RF$4,Depreciação_Anual!AJ$4)","v":0},{"$f":"SUMIFS(Depreciação_Mensal!$G27:$RF27,Depreciação_Mensal!$G$4:$RF$4,Depreciação_Anual!AK$4)","v":0},{"$f":"SUMIFS(Depreciação_Mensal!$G27:$RF27,Depreciação_Mensal!$G$4:$RF$4,Depreciação_Anual!AL$4)","v":0},{"$f":"SUMIFS(Depreciação_Mensal!$G27:$RF27,Depreciação_Mensal!$G$4:$RF$4,Depreciação_Anual!AM$4)","v":0},{"$f":"SUMIFS(Depreciação_Mensal!$G27:$RF27,Depreciação_Mensal!$G$4:$RF$4,Depreciação_Anual!AN$4)","v":0},{"$f":"SUMIFS(Depreciação_Mensal!$G27:$RF27,Depreciação_Mensal!$G$4:$RF$4,Depreciação_Anual!AO$4)","v":0},{"$f":"SUMIFS(Depreciação_Mensal!$G27:$RF27,Depreciação_Mensal!$G$4:$RF$4,Depreciação_Anual!AP$4)","v":0},{"$f":"SUMIFS(Depreciação_Mensal!$G27:$RF27,Depreciação_Mensal!$G$4:$RF$4,Depreciação_Anual!AQ$4)","v":0},{"$f":"SUMIFS(Depreciação_Mensal!$G27:$RF27,Depreciação_Mensal!$G$4:$RF$4,Depreciação_Anual!AR$4)","v":0},{"$f":"SUMIFS(Depreciação_Mensal!$G27:$RF27,Depreciação_Mensal!$G$4:$RF$4,Depreciação_Anual!AS$4)","v":0}]
[null,0,null,0,0,null,{"$f":"SUMIFS(Depreciação_Mensal!$G28:$RF28,Depreciação_Mensal!$G$4:$RF$4,Depreciação_Anual!G$4)","v":0},{"$f":"SUMIFS(Depreciação_Mensal!$G28:$RF28,Depreciação_Mensal!$G$4:$RF$4,Depreciação_Anual!H$4)","v":0},{"$f":"SUMIFS(Depreciação_Mensal!$G28:$RF28,Depreciação_Mensal!$G$4:$RF$4,Depreciação_Anual!I$4)","v":0},{"$f":"SUMIFS(Depreciação_Mensal!$G28:$RF28,Depreciação_Mensal!$G$4:$RF$4,Depreciação_Anual!J$4)","v":0},{"$f":"SUMIFS(Depreciação_Mensal!$G28:$RF28,Depreciação_Mensal!$G$4:$RF$4,Depreciação_Anual!K$4)","v":0},{"$f":"SUMIFS(Depreciação_Mensal!$G28:$RF28,Depreciação_Mensal!$G$4:$RF$4,Depreciação_Anual!L$4)","v":0},{"$f":"SUMIFS(Depreciação_Mensal!$G28:$RF28,Depreciação_Mensal!$G$4:$RF$4,Depreciação_Anual!M$4)","v":0},{"$f":"SUMIFS(Depreciação_Mensal!$G28:$RF28,Depreciação_Mensal!$G$4:$RF$4,Depreciação_Anual!N$4)","v":0},{"$f":"SUMIFS(Depreciação_Mensal!$G28:$RF28,Depreciação_Mensal!$G$4:$RF$4,Depreciação_Anual!O$4)","v":0},{"$f":"SUMIFS(Depreciação_Mensal!$G28:$RF28,Depreciação_Mensal!$G$4:$RF$4,Depreciação_Anual!P$4)","v":0},{"$f":"SUMIFS(Depreciação_Mensal!$G28:$RF28,Depreciação_Mensal!$G$4:$RF$4,Depreciação_Anual!Q$4)","v":0},{"$f":"SUMIFS(Depreciação_Mensal!$G28:$RF28,Depreciação_Mensal!$G$4:$RF$4,Depreciação_Anual!R$4)","v":0},{"$f":"SUMIFS(Depreciação_Mensal!$G28:$RF28,Depreciação_Mensal!$G$4:$RF$4,Depreciação_Anual!S$4)","v":0},{"$f":"SUMIFS(Depreciação_Mensal!$G28:$RF28,Depreciação_Mensal!$G$4:$RF$4,Depreciação_Anual!T$4)","v":0},{"$f":"SUMIFS(Depreciação_Mensal!$G28:$RF28,Depreciação_Mensal!$G$4:$RF$4,Depreciação_Anual!U$4)","v":0},{"$f":"SUMIFS(Depreciação_Mensal!$G28:$RF28,Depreciação_Mensal!$G$4:$RF$4,Depreciação_Anual!V$4)","v":0},{"$f":"SUMIFS(Depreciação_Mensal!$G28:$RF28,Depreciação_Mensal!$G$4:$RF$4,Depreciação_Anual!W$4)","v":0},{"$f":"SUMIFS(Depreciação_Mensal!$G28:$RF28,Depreciação_Mensal!$G$4:$RF$4,Depreciação_Anual!X$4)","v":0},{"$f":"SUMIFS(Depreciação_Mensal!$G28:$RF28,Depreciação_Mensal!$G$4:$RF$4,Depreciação_Anual!Y$4)","v":0},{"$f":"SUMIFS(Depreciação_Mensal!$G28:$RF28,Depreciação_Mensal!$G$4:$RF$4,Depreciação_Anual!Z$4)","v":0},{"$f":"SUMIFS(Depreciação_Mensal!$G28:$RF28,Depreciação_Mensal!$G$4:$RF$4,Depreciação_Anual!AA$4)","v":0},{"$f":"SUMIFS(Depreciação_Mensal!$G28:$RF28,Depreciação_Mensal!$G$4:$RF$4,Depreciação_Anual!AB$4)","v":0},{"$f":"SUMIFS(Depreciação_Mensal!$G28:$RF28,Depreciação_Mensal!$G$4:$RF$4,Depreciação_Anual!AC$4)","v":0},{"$f":"SUMIFS(Depreciação_Mensal!$G28:$RF28,Depreciação_Mensal!$G$4:$RF$4,Depreciação_Anual!AD$4)","v":0},{"$f":"SUMIFS(Depreciação_Mensal!$G28:$RF28,Depreciação_Mensal!$G$4:$RF$4,Depreciação_Anual!AE$4)","v":0},{"$f":"SUMIFS(Depreciação_Mensal!$G28:$RF28,Depreciação_Mensal!$G$4:$RF$4,Depreciação_Anual!AF$4)","v":0},{"$f":"SUMIFS(Depreciação_Mensal!$G28:$RF28,Depreciação_Mensal!$G$4:$RF$4,Depreciação_Anual!AG$4)","v":0},{"$f":"SUMIFS(Depreciação_Mensal!$G28:$RF28,Depreciação_Mensal!$G$4:$RF$4,Depreciação_Anual!AH$4)","v":0},{"$f":"SUMIFS(Depreciação_Mensal!$G28:$RF28,Depreciação_Mensal!$G$4:$RF$4,Depreciação_Anual!AI$4)","v":0},{"$f":"SUMIFS(Depreciação_Mensal!$G28:$RF28,Depreciação_Mensal!$G$4:$RF$4,Depreciação_Anual!AJ$4)","v":0},{"$f":"SUMIFS(Depreciação_Mensal!$G28:$RF28,Depreciação_Mensal!$G$4:$RF$4,Depreciação_Anual!AK$4)","v":0},{"$f":"SUMIFS(Depreciação_Mensal!$G28:$RF28,Depreciação_Mensal!$G$4:$RF$4,Depreciação_Anual!AL$4)","v":0},{"$f":"SUMIFS(Depreciação_Mensal!$G28:$RF28,Depreciação_Mensal!$G$4:$RF$4,Depreciação_Anual!AM$4)","v":0},{"$f":"SUMIFS(Depreciação_Mensal!$G28:$RF28,Depreciação_Mensal!$G$4:$RF$4,Depreciação_Anual!AN$4)","v":0},{"$f":"SUMIFS(Depreciação_Mensal!$G28:$RF28,Depreciação_Mensal!$G$4:$RF$4,Depreciação_Anual!AO$4)","v":0},{"$f":"SUMIFS(Depreciação_Mensal!$G28:$RF28,Depreciação_Mensal!$G$4:$RF$4,Depreciação_Anual!AP$4)","v":0},{"$f":"SUMIFS(Depreciação_Mensal!$G28:$RF28,Depreciação_Mensal!$G$4:$RF$4,Depreciação_Anual!AQ$4)","v":0},{"$f":"SUMIFS(Depreciação_Mensal!$G28:$RF28,Depreciação_Mensal!$G$4:$RF$4,Depreciação_Anual!AR$4)","v":0},{"$f":"SUMIFS(Depreciação_Mensal!$G28:$RF28,Depreciação_Mensal!$G$4:$RF$4,Depreciação_Anual!AS$4)","v":0}]
[null,0,null,0,0,null,{"$f":"SUMIFS(Depreciação_Mensal!$G29:$RF29,Depreciação_Mensal!$G$4:$RF$4,Depreciação_Anual!G$4)","v":0},{"$f":"SUMIFS(Depreciação_Mensal!$G29:$RF29,Depreciação_Mensal!$G$4:$RF$4,Depreciação_Anual!H$4)","v":0},{"$f":"SUMIFS(Depreciação_Mensal!$G29:$RF29,Depreciação_Mensal!$G$4:$RF$4,Depreciação_Anual!I$4)","v":0},{"$f":"SUMIFS(Depreciação_Mensal!$G29:$RF29,Depreciação_Mensal!$G$4:$RF$4,Depreciação_Anual!J$4)","v":0},{"$f":"SUMIFS(Depreciação_Mensal!$G29:$RF29,Depreciação_Mensal!$G$4:$RF$4,Depreciação_Anual!K$4)","v":0},{"$f":"SUMIFS(Depreciação_Mensal!$G29:$RF29,Depreciação_Mensal!$G$4:$RF$4,Depreciação_Anual!L$4)","v":0},{"$f":"SUMIFS(Depreciação_Mensal!$G29:$RF29,Depreciação_Mensal!$G$4:$RF$4,Depreciação_Anual!M$4)","v":0},{"$f":"SUMIFS(Depreciação_Mensal!$G29:$RF29,Depreciação_Mensal!$G$4:$RF$4,Depreciação_Anual!N$4)","v":0},{"$f":"SUMIFS(Depreciação_Mensal!$G29:$RF29,Depreciação_Mensal!$G$4:$RF$4,Depreciação_Anual!O$4)","v":0},{"$f":"SUMIFS(Depreciação_Mensal!$G29:$RF29,Depreciação_Mensal!$G$4:$RF$4,Depreciação_Anual!P$4)","v":0},{"$f":"SUMIFS(Depreciação_Mensal!$G29:$RF29,Depreciação_Mensal!$G$4:$RF$4,Depreciação_Anual!Q$4)","v":0},{"$f":"SUMIFS(Depreciação_Mensal!$G29:$RF29,Depreciação_Mensal!$G$4:$RF$4,Depreciação_Anual!R$4)","v":0},{"$f":"SUMIFS(Depreciação_Mensal!$G29:$RF29,Depreciação_Mensal!$G$4:$RF$4,Depreciação_Anual!S$4)","v":0},{"$f":"SUMIFS(Depreciação_Mensal!$G29:$RF29,Depreciação_Mensal!$G$4:$RF$4,Depreciação_Anual!T$4)","v":0},{"$f":"SUMIFS(Depreciação_Mensal!$G29:$RF29,Depreciação_Mensal!$G$4:$RF$4,Depreciação_Anual!U$4)","v":0},{"$f":"SUMIFS(Depreciação_Mensal!$G29:$RF29,Depreciação_Mensal!$G$4:$RF$4,Depreciação_Anual!V$4)","v":0},{"$f":"SUMIFS(Depreciação_Mensal!$G29:$RF29,Depreciação_Mensal!$G$4:$RF$4,Depreciação_Anual!W$4)","v":0},{"$f":"SUMIFS(Depreciação_Mensal!$G29:$RF29,Depreciação_Mensal!$G$4:$RF$4,Depreciação_Anual!X$4)","v":0},{"$f":"SUMIFS(Depreciação_Mensal!$G29:$RF29,Depreciação_Mensal!$G$4:$RF$4,Depreciação_Anual!Y$4)","v":0},{"$f":"SUMIFS(Depreciação_Mensal!$G29:$RF29,Depreciação_Mensal!$G$4:$RF$4,Depreciação_Anual!Z$4)","v":0},{"$f":"SUMIFS(Depreciação_Mensal!$G29:$RF29,Depreciação_Mensal!$G$4:$RF$4,Depreciação_Anual!AA$4)","v":0},{"$f":"SUMIFS(Depreciação_Mensal!$G29:$RF29,Depreciação_Mensal!$G$4:$RF$4,Depreciação_Anual!AB$4)","v":0},{"$f":"SUMIFS(Depreciação_Mensal!$G29:$RF29,Depreciação_Mensal!$G$4:$RF$4,Depreciação_Anual!AC$4)","v":0},{"$f":"SUMIFS(Depreciação_Mensal!$G29:$RF29,Depreciação_Mensal!$G$4:$RF$4,Depreciação_Anual!AD$4)","v":0},{"$f":"SUMIFS(Depreciação_Mensal!$G29:$RF29,Depreciação_Mensal!$G$4:$RF$4,Depreciação_Anual!AE$4)","v":0},{"$f":"SUMIFS(Depreciação_Mensal!$G29:$RF29,Depreciação_Mensal!$G$4:$RF$4,Depreciação_Anual!AF$4)","v":0},{"$f":"SUMIFS(Depreciação_Mensal!$G29:$RF29,Depreciação_Mensal!$G$4:$RF$4,Depreciação_Anual!AG$4)","v":0},{"$f":"SUMIFS(Depreciação_Mensal!$G29:$RF29,Depreciação_Mensal!$G$4:$RF$4,Depreciação_Anual!AH$4)","v":0},{"$f":"SUMIFS(Depreciação_Mensal!$G29:$RF29,Depreciação_Mensal!$G$4:$RF$4,Depreciação_Anual!AI$4)","v":0},{"$f":"SUMIFS(Depreciação_Mensal!$G29:$RF29,Depreciação_Mensal!$G$4:$RF$4,Depreciação_Anual!AJ$4)","v":0},{"$f":"SUMIFS(Depreciação_Mensal!$G29:$RF29,Depreciação_Mensal!$G$4:$RF$4,Depreciação_Anual!AK$4)","v":0},{"$f":"SUMIFS(Depreciação_Mensal!$G29:$RF29,Depreciação_Mensal!$G$4:$RF$4,Depreciação_Anual!AL$4)","v":0},{"$f":"SUMIFS(Depreciação_Mensal!$G29:$RF29,Depreciação_Mensal!$G$4:$RF$4,Depreciação_Anual!AM$4)","v":0},{"$f":"SUMIFS(Depreciação_Mensal!$G29:$RF29,Depreciação_Mensal!$G$4:$RF$4,Depreciação_Anual!AN$4)","v":0},{"$f":"SUMIFS(Depreciação_Mensal!$G29:$RF29,Depreciação_Mensal!$G$4:$RF$4,Depreciação_Anual!AO$4)","v":0},{"$f":"SUMIFS(Depreciação_Mensal!$G29:$RF29,Depreciação_Mensal!$G$4:$RF$4,Depreciação_Anual!AP$4)","v":0},{"$f":"SUMIFS(Depreciação_Mensal!$G29:$RF29,Depreciação_Mensal!$G$4:$RF$4,Depreciação_Anual!AQ$4)","v":0},{"$f":"SUMIFS(Depreciação_Mensal!$G29:$RF29,Depreciação_Mensal!$G$4:$RF$4,Depreciação_Anual!AR$4)","v":0},{"$f":"SUMIFS(Depreciação_Mensal!$G29:$RF29,Depreciação_Mensal!$G$4:$RF$4,Depreciação_Anual!AS$4)","v":0}]
[null,0,null,0,0,null,{"$f":"SUMIFS(Depreciação_Mensal!$G30:$RF30,Depreciação_Mensal!$G$4:$RF$4,Depreciação_Anual!G$4)","v":0},{"$f":"SUMIFS(Depreciação_Mensal!$G30:$RF30,Depreciação_Mensal!$G$4:$RF$4,Depreciação_Anual!H$4)","v":0},{"$f":"SUMIFS(Depreciação_Mensal!$G30:$RF30,Depreciação_Mensal!$G$4:$RF$4,Depreciação_Anual!I$4)","v":0},{"$f":"SUMIFS(Depreciação_Mensal!$G30:$RF30,Depreciação_Mensal!$G$4:$RF$4,Depreciação_Anual!J$4)","v":0},{"$f":"SUMIFS(Depreciação_Mensal!$G30:$RF30,Depreciação_Mensal!$G$4:$RF$4,Depreciação_Anual!K$4)","v":0},{"$f":"SUMIFS(Depreciação_Mensal!$G30:$RF30,Depreciação_Mensal!$G$4:$RF$4,Depreciação_Anual!L$4)","v":0},{"$f":"SUMIFS(Depreciação_Mensal!$G30:$RF30,Depreciação_Mensal!$G$4:$RF$4,Depreciação_Anual!M$4)","v":0},{"$f":"SUMIFS(Depreciação_Mensal!$G30:$RF30,Depreciação_Mensal!$G$4:$RF$4,Depreciação_Anual!N$4)","v":0},{"$f":"SUMIFS(Depreciação_Mensal!$G30:$RF30,Depreciação_Mensal!$G$4:$RF$4,Depreciação_Anual!O$4)","v":0},{"$f":"SUMIFS(Depreciação_Mensal!$G30:$RF30,Depreciação_Mensal!$G$4:$RF$4,Depreciação_Anual!P$4)","v":0},{"$f":"SUMIFS(Depreciação_Mensal!$G30:$RF30,Depreciação_Mensal!$G$4:$RF$4,Depreciação_Anual!Q$4)","v":0},{"$f":"SUMIFS(Depreciação_Mensal!$G30:$RF30,Depreciação_Mensal!$G$4:$RF$4,Depreciação_Anual!R$4)","v":0},{"$f":"SUMIFS(Depreciação_Mensal!$G30:$RF30,Depreciação_Mensal!$G$4:$RF$4,Depreciação_Anual!S$4)","v":0},{"$f":"SUMIFS(Depreciação_Mensal!$G30:$RF30,Depreciação_Mensal!$G$4:$RF$4,Depreciação_Anual!T$4)","v":0},{"$f":"SUMIFS(Depreciação_Mensal!$G30:$RF30,Depreciação_Mensal!$G$4:$RF$4,Depreciação_Anual!U$4)","v":0},{"$f":"SUMIFS(Depreciação_Mensal!$G30:$RF30,Depreciação_Mensal!$G$4:$RF$4,Depreciação_Anual!V$4)","v":0},{"$f":"SUMIFS(Depreciação_Mensal!$G30:$RF30,Depreciação_Mensal!$G$4:$RF$4,Depreciação_Anual!W$4)","v":0},{"$f":"SUMIFS(Depreciação_Mensal!$G30:$RF30,Depreciação_Mensal!$G$4:$RF$4,Depreciação_Anual!X$4)","v":0},{"$f":"SUMIFS(Depreciação_Mensal!$G30:$RF30,Depreciação_Mensal!$G$4:$RF$4,Depreciação_Anual!Y$4)","v":0},{"$f":"SUMIFS(Depreciação_Mensal!$G30:$RF30,Depreciação_Mensal!$G$4:$RF$4,Depreciação_Anual!Z$4)","v":0},{"$f":"SUMIFS(Depreciação_Mensal!$G30:$RF30,Depreciação_Mensal!$G$4:$RF$4,Depreciação_Anual!AA$4)","v":0},{"$f":"SUMIFS(Depreciação_Mensal!$G30:$RF30,Depreciação_Mensal!$G$4:$RF$4,Depreciação_Anual!AB$4)","v":0},{"$f":"SUMIFS(Depreciação_Mensal!$G30:$RF30,Depreciação_Mensal!$G$4:$RF$4,Depreciação_Anual!AC$4)","v":0},{"$f":"SUMIFS(Depreciação_Mensal!$G30:$RF30,Depreciação_Mensal!$G$4:$RF$4,Depreciação_Anual!AD$4)","v":0},{"$f":"SUMIFS(Depreciação_Mensal!$G30:$RF30,Depreciação_Mensal!$G$4:$RF$4,Depreciação_Anual!AE$4)","v":0},{"$f":"SUMIFS(Depreciação_Mensal!$G30:$RF30,Depreciação_Mensal!$G$4:$RF$4,Depreciação_Anual!AF$4)","v":0},{"$f":"SUMIFS(Depreciação_Mensal!$G30:$RF30,Depreciação_Mensal!$G$4:$RF$4,Depreciação_Anual!AG$4)","v":0},{"$f":"SUMIFS(Depreciação_Mensal!$G30:$RF30,Depreciação_Mensal!$G$4:$RF$4,Depreciação_Anual!AH$4)","v":0},{"$f":"SUMIFS(Depreciação_Mensal!$G30:$RF30,Depreciação_Mensal!$G$4:$RF$4,Depreciação_Anual!AI$4)","v":0},{"$f":"SUMIFS(Depreciação_Mensal!$G30:$RF30,Depreciação_Mensal!$G$4:$RF$4,Depreciação_Anual!AJ$4)","v":0},{"$f":"SUMIFS(Depreciação_Mensal!$G30:$RF30,Depreciação_Mensal!$G$4:$RF$4,Depreciação_Anual!AK$4)","v":0},{"$f":"SUMIFS(Depreciação_Mensal!$G30:$RF30,Depreciação_Mensal!$G$4:$RF$4,Depreciação_Anual!AL$4)","v":0},{"$f":"SUMIFS(Depreciação_Mensal!$G30:$RF30,Depreciação_Mensal!$G$4:$RF$4,Depreciação_Anual!AM$4)","v":0},{"$f":"SUMIFS(Depreciação_Mensal!$G30:$RF30,Depreciação_Mensal!$G$4:$RF$4,Depreciação_Anual!AN$4)","v":0},{"$f":"SUMIFS(Depreciação_Mensal!$G30:$RF30,Depreciação_Mensal!$G$4:$RF$4,Depreciação_Anual!AO$4)","v":0},{"$f":"SUMIFS(Depreciação_Mensal!$G30:$RF30,Depreciação_Mensal!$G$4:$RF$4,Depreciação_Anual!AP$4)","v":0},{"$f":"SUMIFS(Depreciação_Mensal!$G30:$RF30,Depreciação_Mensal!$G$4:$RF$4,Depreciação_Anual!AQ$4)","v":0},{"$f":"SUMIFS(Depreciação_Mensal!$G30:$RF30,Depreciação_Mensal!$G$4:$RF$4,Depreciação_Anual!AR$4)","v":0},{"$f":"SUMIFS(Depreciação_Mensal!$G30:$RF30,Depreciação_Mensal!$G$4:$RF$4,Depreciação_Anual!AS$4)","v":0}]
[null,0,null,0,0,null,{"$f":"SUMIFS(Depreciação_Mensal!$G31:$RF31,Depreciação_Mensal!$G$4:$RF$4,Depreciação_Anual!G$4)","v":0},{"$f":"SUMIFS(Depreciação_Mensal!$G31:$RF31,Depreciação_Mensal!$G$4:$RF$4,Depreciação_Anual!H$4)","v":0},{"$f":"SUMIFS(Depreciação_Mensal!$G31:$RF31,Depreciação_Mensal!$G$4:$RF$4,Depreciação_Anual!I$4)","v":0},{"$f":"SUMIFS(Depreciação_Mensal!$G31:$RF31,Depreciação_Mensal!$G$4:$RF$4,Depreciação_Anual!J$4)","v":0},{"$f":"SUMIFS(Depreciação_Mensal!$G31:$RF31,Depreciação_Mensal!$G$4:$RF$4,Depreciação_Anual!K$4)","v":0},{"$f":"SUMIFS(Depreciação_Mensal!$G31:$RF31,Depreciação_Mensal!$G$4:$RF$4,Depreciação_Anual!L$4)","v":0},{"$f":"SUMIFS(Depreciação_Mensal!$G31:$RF31,Depreciação_Mensal!$G$4:$RF$4,Depreciação_Anual!M$4)","v":0},{"$f":"SUMIFS(Depreciação_Mensal!$G31:$RF31,Depreciação_Mensal!$G$4:$RF$4,Depreciação_Anual!N$4)","v":0},{"$f":"SUMIFS(Depreciação_Mensal!$G31:$RF31,Depreciação_Mensal!$G$4:$RF$4,Depreciação_Anual!O$4)","v":0},{"$f":"SUMIFS(Depreciação_Mensal!$G31:$RF31,Depreciação_Mensal!$G$4:$RF$4,Depreciação_Anual!P$4)","v":0},{"$f":"SUMIFS(Depreciação_Mensal!$G31:$RF31,Depreciação_Mensal!$G$4:$RF$4,Depreciação_Anual!Q$4)","v":0},{"$f":"SUMIFS(Depreciação_Mensal!$G31:$RF31,Depreciação_Mensal!$G$4:$RF$4,Depreciação_Anual!R$4)","v":0},{"$f":"SUMIFS(Depreciação_Mensal!$G31:$RF31,Depreciação_Mensal!$G$4:$RF$4,Depreciação_Anual!S$4)","v":0},{"$f":"SUMIFS(Depreciação_Mensal!$G31:$RF31,Depreciação_Mensal!$G$4:$RF$4,Depreciação_Anual!T$4)","v":0},{"$f":"SUMIFS(Depreciação_Mensal!$G31:$RF31,Depreciação_Mensal!$G$4:$RF$4,Depreciação_Anual!U$4)","v":0},{"$f":"SUMIFS(Depreciação_Mensal!$G31:$RF31,Depreciação_Mensal!$G$4:$RF$4,Depreciação_Anual!V$4)","v":0},{"$f":"SUMIFS(Depreciação_Mensal!$G31:$RF31,Depreciação_Mensal!$G$4:$RF$4,Depreciação_Anual!W$4)","v":0},{"$f":"SUMIFS(Depreciação_Mensal!$G31:$RF31,Depreciação_Mensal!$G$4:$RF$4,Depreciação_Anual!X$4)","v":0},{"$f":"SUMIFS(Depreciação_Mensal!$G31:$RF31,Depreciação_Mensal!$G$4:$RF$4,Depreciação_Anual!Y$4)","v":0},{"$f":"SUMIFS(Depreciação_Mensal!$G31:$RF31,Depreciação_Mensal!$G$4:$RF$4,Depreciação_Anual!Z$4)","v":0},{"$f":"SUMIFS(Depreciação_Mensal!$G31:$RF31,Depreciação_Mensal!$G$4:$RF$4,Depreciação_Anual!AA$4)","v":0},{"$f":"SUMIFS(Depreciação_Mensal!$G31:$RF31,Depreciação_Mensal!$G$4:$RF$4,Depreciação_Anual!AB$4)","v":0},{"$f":"SUMIFS(Depreciação_Mensal!$G31:$RF31,Depreciação_Mensal!$G$4:$RF$4,Depreciação_Anual!AC$4)","v":0},{"$f":"SUMIFS(Depreciação_Mensal!$G31:$RF31,Depreciação_Mensal!$G$4:$RF$4,Depreciação_Anual!AD$4)","v":0},{"$f":"SUMIFS(Depreciação_Mensal!$G31:$RF31,Depreciação_Mensal!$G$4:$RF$4,Depreciação_Anual!AE$4)","v":0},{"$f":"SUMIFS(Depreciação_Mensal!$G31:$RF31,Depreciação_Mensal!$G$4:$RF$4,Depreciação_Anual!AF$4)","v":0},{"$f":"SUMIFS(Depreciação_Mensal!$G31:$RF31,Depreciação_Mensal!$G$4:$RF$4,Depreciação_Anual!AG$4)","v":0},{"$f":"SUMIFS(Depreciação_Mensal!$G31:$RF31,Depreciação_Mensal!$G$4:$RF$4,Depreciação_Anual!AH$4)","v":0},{"$f":"SUMIFS(Depreciação_Mensal!$G31:$RF31,Depreciação_Mensal!$G$4:$RF$4,Depreciação_Anual!AI$4)","v":0},{"$f":"SUMIFS(Depreciação_Mensal!$G31:$RF31,Depreciação_Mensal!$G$4:$RF$4,Depreciação_Anual!AJ$4)","v":0},{"$f":"SUMIFS(Depreciação_Mensal!$G31:$RF31,Depreciação_Mensal!$G$4:$RF$4,Depreciação_Anual!AK$4)","v":0},{"$f":"SUMIFS(Depreciação_Mensal!$G31:$RF31,Depreciação_Mensal!$G$4:$RF$4,Depreciação_Anual!AL$4)","v":0},{"$f":"SUMIFS(Depreciação_Mensal!$G31:$RF31,Depreciação_Mensal!$G$4:$RF$4,Depreciação_Anual!AM$4)","v":0},{"$f":"SUMIFS(Depreciação_Mensal!$G31:$RF31,Depreciação_Mensal!$G$4:$RF$4,Depreciação_Anual!AN$4)","v":0},{"$f":"SUMIFS(Depreciação_Mensal!$G31:$RF31,Depreciação_Mensal!$G$4:$RF$4,Depreciação_Anual!AO$4)","v":0},{"$f":"SUMIFS(Depreciação_Mensal!$G31:$RF31,Depreciação_Mensal!$G$4:$RF$4,Depreciação_Anual!AP$4)","v":0},{"$f":"SUMIFS(Depreciação_Mensal!$G31:$RF31,Depreciação_Mensal!$G$4:$RF$4,Depreciação_Anual!AQ$4)","v":0},{"$f":"SUMIFS(Depreciação_Mensal!$G31:$RF31,Depreciação_Mensal!$G$4:$RF$4,Depreciação_Anual!AR$4)","v":0},{"$f":"SUMIFS(Depreciação_Mensal!$G31:$RF31,Depreciação_Mensal!$G$4:$RF$4,Depreciação_Anual!AS$4)","v":0}]
[null,0,null,0,0,null,{"$f":"SUMIFS(Depreciação_Mensal!$G32:$RF32,Depreciação_Mensal!$G$4:$RF$4,Depreciação_Anual!G$4)","v":0},{"$f":"SUMIFS(Depreciação_Mensal!$G32:$RF32,Depreciação_Mensal!$G$4:$RF$4,Depreciação_Anual!H$4)","v":0},{"$f":"SUMIFS(Depreciação_Mensal!$G32:$RF32,Depreciação_Mensal!$G$4:$RF$4,Depreciação_Anual!I$4)","v":0},{"$f":"SUMIFS(Depreciação_Mensal!$G32:$RF32,Depreciação_Mensal!$G$4:$RF$4,Depreciação_Anual!J$4)","v":0},{"$f":"SUMIFS(Depreciação_Mensal!$G32:$RF32,Depreciação_Mensal!$G$4:$RF$4,Depreciação_Anual!K$4)","v":0},{"$f":"SUMIFS(Depreciação_Mensal!$G32:$RF32,Depreciação_Mensal!$G$4:$RF$4,Depreciação_Anual!L$4)","v":0},{"$f":"SUMIFS(Depreciação_Mensal!$G32:$RF32,Depreciação_Mensal!$G$4:$RF$4,Depreciação_Anual!M$4)","v":0},{"$f":"SUMIFS(Depreciação_Mensal!$G32:$RF32,Depreciação_Mensal!$G$4:$RF$4,Depreciação_Anual!N$4)","v":0},{"$f":"SUMIFS(Depreciação_Mensal!$G32:$RF32,Depreciação_Mensal!$G$4:$RF$4,Depreciação_Anual!O$4)","v":0},{"$f":"SUMIFS(Depreciação_Mensal!$G32:$RF32,Depreciação_Mensal!$G$4:$RF$4,Depreciação_Anual!P$4)","v":0},{"$f":"SUMIFS(Depreciação_Mensal!$G32:$RF32,Depreciação_Mensal!$G$4:$RF$4,Depreciação_Anual!Q$4)","v":0},{"$f":"SUMIFS(Depreciação_Mensal!$G32:$RF32,Depreciação_Mensal!$G$4:$RF$4,Depreciação_Anual!R$4)","v":0},{"$f":"SUMIFS(Depreciação_Mensal!$G32:$RF32,Depreciação_Mensal!$G$4:$RF$4,Depreciação_Anual!S$4)","v":0},{"$f":"SUMIFS(Depreciação_Mensal!$G32:$RF32,Depreciação_Mensal!$G$4:$RF$4,Depreciação_Anual!T$4)","v":0},{"$f":"SUMIFS(Depreciação_Mensal!$G32:$RF32,Depreciação_Mensal!$G$4:$RF$4,Depreciação_Anual!U$4)","v":0},{"$f":"SUMIFS(Depreciação_Mensal!$G32:$RF32,Depreciação_Mensal!$G$4:$RF$4,Depreciação_Anual!V$4)","v":0},{"$f":"SUMIFS(Depreciação_Mensal!$G32:$RF32,Depreciação_Mensal!$G$4:$RF$4,Depreciação_Anual!W$4)","v":0},{"$f":"SUMIFS(Depreciação_Mensal!$G32:$RF32,Depreciação_Mensal!$G$4:$RF$4,Depreciação_Anual!X$4)","v":0},{"$f":"SUMIFS(Depreciação_Mensal!$G32:$RF32,Depreciação_Mensal!$G$4:$RF$4,Depreciação_Anual!Y$4)","v":0},{"$f":"SUMIFS(Depreciação_Mensal!$G32:$RF32,Depreciação_Mensal!$G$4:$RF$4,Depreciação_Anual!Z$4)","v":0},{"$f":"SUMIFS(Depreciação_Mensal!$G32:$RF32,Depreciação_Mensal!$G$4:$RF$4,Depreciação_Anual!AA$4)","v":0},{"$f":"SUMIFS(Depreciação_Mensal!$G32:$RF32,Depreciação_Mensal!$G$4:$RF$4,Depreciação_Anual!AB$4)","v":0},{"$f":"SUMIFS(Depreciação_Mensal!$G32:$RF32,Depreciação_Mensal!$G$4:$RF$4,Depreciação_Anual!AC$4)","v":0},{"$f":"SUMIFS(Depreciação_Mensal!$G32:$RF32,Depreciação_Mensal!$G$4:$RF$4,Depreciação_Anual!AD$4)","v":0},{"$f":"SUMIFS(Depreciação_Mensal!$G32:$RF32,Depreciação_Mensal!$G$4:$RF$4,Depreciação_Anual!AE$4)","v":0},{"$f":"SUMIFS(Depreciação_Mensal!$G32:$RF32,Depreciação_Mensal!$G$4:$RF$4,Depreciação_Anual!AF$4)","v":0},{"$f":"SUMIFS(Depreciação_Mensal!$G32:$RF32,Depreciação_Mensal!$G$4:$RF$4,Depreciação_Anual!AG$4)","v":0},{"$f":"SUMIFS(Depreciação_Mensal!$G32:$RF32,Depreciação_Mensal!$G$4:$RF$4,Depreciação_Anual!AH$4)","v":0},{"$f":"SUMIFS(Depreciação_Mensal!$G32:$RF32,Depreciação_Mensal!$G$4:$RF$4,Depreciação_Anual!AI$4)","v":0},{"$f":"SUMIFS(Depreciação_Mensal!$G32:$RF32,Depreciação_Mensal!$G$4:$RF$4,Depreciação_Anual!AJ$4)","v":0},{"$f":"SUMIFS(Depreciação_Mensal!$G32:$RF32,Depreciação_Mensal!$G$4:$RF$4,Depreciação_Anual!AK$4)","v":0},{"$f":"SUMIFS(Depreciação_Mensal!$G32:$RF32,Depreciação_Mensal!$G$4:$RF$4,Depreciação_Anual!AL$4)","v":0},{"$f":"SUMIFS(Depreciação_Mensal!$G32:$RF32,Depreciação_Mensal!$G$4:$RF$4,Depreciação_Anual!AM$4)","v":0},{"$f":"SUMIFS(Depreciação_Mensal!$G32:$RF32,Depreciação_Mensal!$G$4:$RF$4,Depreciação_Anual!AN$4)","v":0},{"$f":"SUMIFS(Depreciação_Mensal!$G32:$RF32,Depreciação_Mensal!$G$4:$RF$4,Depreciação_Anual!AO$4)","v":0},{"$f":"SUMIFS(Depreciação_Mensal!$G32:$RF32,Depreciação_Mensal!$G$4:$RF$4,Depreciação_Anual!AP$4)","v":0},{"$f":"SUMIFS(Depreciação_Mensal!$G32:$RF32,Depreciação_Mensal!$G$4:$RF$4,Depreciação_Anual!AQ$4)","v":0},{"$f":"SUMIFS(Depreciação_Mensal!$G32:$RF32,Depreciação_Mensal!$G$4:$RF$4,Depreciação_Anual!AR$4)","v":0},{"$f":"SUMIFS(Depreciação_Mensal!$G32:$RF32,Depreciação_Mensal!$G$4:$RF$4,Depreciação_Anual!AS$4)","v":0}]
[null,0,null,0,0,null,{"$f":"SUMIFS(Depreciação_Mensal!$G33:$RF33,Depreciação_Mensal!$G$4:$RF$4,Depreciação_Anual!G$4)","v":0},{"$f":"SUMIFS(Depreciação_Mensal!$G33:$RF33,Depreciação_Mensal!$G$4:$RF$4,Depreciação_Anual!H$4)","v":0},{"$f":"SUMIFS(Depreciação_Mensal!$G33:$RF33,Depreciação_Mensal!$G$4:$RF$4,Depreciação_Anual!I$4)","v":0},{"$f":"SUMIFS(Depreciação_Mensal!$G33:$RF33,Depreciação_Mensal!$G$4:$RF$4,Depreciação_Anual!J$4)","v":0},{"$f":"SUMIFS(Depreciação_Mensal!$G33:$RF33,Depreciação_Mensal!$G$4:$RF$4,Depreciação_Anual!K$4)","v":0},{"$f":"SUMIFS(Depreciação_Mensal!$G33:$RF33,Depreciação_Mensal!$G$4:$RF$4,Depreciação_Anual!L$4)","v":0},{"$f":"SUMIFS(Depreciação_Mensal!$G33:$RF33,Depreciação_Mensal!$G$4:$RF$4,Depreciação_Anual!M$4)","v":0},{"$f":"SUMIFS(Depreciação_Mensal!$G33:$RF33,Depreciação_Mensal!$G$4:$RF$4,Depreciação_Anual!N$4)","v":0},{"$f":"SUMIFS(Depreciação_Mensal!$G33:$RF33,Depreciação_Mensal!$G$4:$RF$4,Depreciação_Anual!O$4)","v":0},{"$f":"SUMIFS(Depreciação_Mensal!$G33:$RF33,Depreciação_Mensal!$G$4:$RF$4,Depreciação_Anual!P$4)","v":0},{"$f":"SUMIFS(Depreciação_Mensal!$G33:$RF33,Depreciação_Mensal!$G$4:$RF$4,Depreciação_Anual!Q$4)","v":0},{"$f":"SUMIFS(Depreciação_Mensal!$G33:$RF33,Depreciação_Mensal!$G$4:$RF$4,Depreciação_Anual!R$4)","v":0},{"$f":"SUMIFS(Depreciação_Mensal!$G33:$RF33,Depreciação_Mensal!$G$4:$RF$4,Depreciação_Anual!S$4)","v":0},{"$f":"SUMIFS(Depreciação_Mensal!$G33:$RF33,Depreciação_Mensal!$G$4:$RF$4,Depreciação_Anual!T$4)","v":0},{"$f":"SUMIFS(Depreciação_Mensal!$G33:$RF33,Depreciação_Mensal!$G$4:$RF$4,Depreciação_Anual!U$4)","v":0},{"$f":"SUMIFS(Depreciação_Mensal!$G33:$RF33,Depreciação_Mensal!$G$4:$RF$4,Depreciação_Anual!V$4)","v":0},{"$f":"SUMIFS(Depreciação_Mensal!$G33:$RF33,Depreciação_Mensal!$G$4:$RF$4,Depreciação_Anual!W$4)","v":0},{"$f":"SUMIFS(Depreciação_Mensal!$G33:$RF33,Depreciação_Mensal!$G$4:$RF$4,Depreciação_Anual!X$4)","v":0},{"$f":"SUMIFS(Depreciação_Mensal!$G33:$RF33,Depreciação_Mensal!$G$4:$RF$4,Depreciação_Anual!Y$4)","v":0},{"$f":"SUMIFS(Depreciação_Mensal!$G33:$RF33,Depreciação_Mensal!$G$4:$RF$4,Depreciação_Anual!Z$4)","v":0},{"$f":"SUMIFS(Depreciação_Mensal!$G33:$RF33,Depreciação_Mensal!$G$4:$RF$4,Depreciação_Anual!AA$4)","v":0},{"$f":"SUMIFS(Depreciação_Mensal!$G33:$RF33,Depreciação_Mensal!$G$4:$RF$4,Depreciação_Anual!AB$4)","v":0},{"$f":"SUMIFS(Depreciação_Mensal!$G33:$RF33,Depreciação_Mensal!$G$4:$RF$4,Depreciação_Anual!AC$4)","v":0},{"$f":"SUMIFS(Depreciação_Mensal!$G33:$RF33,Depreciação_Mensal!$G$4:$RF$4,Depreciação_Anual!AD$4)","v":0},{"$f":"SUMIFS(Depreciação_Mensal!$G33:$RF33,Depreciação_Mensal!$G$4:$RF$4,Depreciação_Anual!AE$4)","v":0},{"$f":"SUMIFS(Depreciação_Mensal!$G33:$RF33,Depreciação_Mensal!$G$4:$RF$4,Depreciação_Anual!AF$4)","v":0},{"$f":"SUMIFS(Depreciação_Mensal!$G33:$RF33,Depreciação_Mensal!$G$4:$RF$4,Depreciação_Anual!AG$4)","v":0},{"$f":"SUMIFS(Depreciação_Mensal!$G33:$RF33,Depreciação_Mensal!$G$4:$RF$4,Depreciação_Anual!AH$4)","v":0},{"$f":"SUMIFS(Depreciação_Mensal!$G33:$RF33,Depreciação_Mensal!$G$4:$RF$4,Depreciação_Anual!AI$4)","v":0},{"$f":"SUMIFS(Depreciação_Mensal!$G33:$RF33,Depreciação_Mensal!$G$4:$RF$4,Depreciação_Anual!AJ$4)","v":0},{"$f":"SUMIFS(Depreciação_Mensal!$G33:$RF33,Depreciação_Mensal!$G$4:$RF$4,Depreciação_Anual!AK$4)","v":0},{"$f":"SUMIFS(Depreciação_Mensal!$G33:$RF33,Depreciação_Mensal!$G$4:$RF$4,Depreciação_Anual!AL$4)","v":0},{"$f":"SUMIFS(Depreciação_Mensal!$G33:$RF33,Depreciação_Mensal!$G$4:$RF$4,Depreciação_Anual!AM$4)","v":0},{"$f":"SUMIFS(Depreciação_Mensal!$G33:$RF33,Depreciação_Mensal!$G$4:$RF$4,Depreciação_Anual!AN$4)","v":0},{"$f":"SUMIFS(Depreciação_Mensal!$G33:$RF33,Depreciação_Mensal!$G$4:$RF$4,Depreciação_Anual!AO$4)","v":0},{"$f":"SUMIFS(Depreciação_Mensal!$G33:$RF33,Depreciação_Mensal!$G$4:$RF$4,Depreciação_Anual!AP$4)","v":0},{"$f":"SUMIFS(Depreciação_Mensal!$G33:$RF33,Depreciação_Mensal!$G$4:$RF$4,Depreciação_Anual!AQ$4)","v":0},{"$f":"SUMIFS(Depreciação_Mensal!$G33:$RF33,Depreciação_Mensal!$G$4:$RF$4,Depreciação_Anual!AR$4)","v":0},{"$f":"SUMIFS(Depreciação_Mensal!$G33:$RF33,Depreciação_Mensal!$G$4:$RF$4,Depreciação_Anual!AS$4)","v":0}]
[null,0,null,0,0,null,{"$f":"SUMIFS(Depreciação_Mensal!$G34:$RF34,Depreciação_Mensal!$G$4:$RF$4,Depreciação_Anual!G$4)","v":0},{"$f":"SUMIFS(Depreciação_Mensal!$G34:$RF34,Depreciação_Mensal!$G$4:$RF$4,Depreciação_Anual!H$4)","v":0},{"$f":"SUMIFS(Depreciação_Mensal!$G34:$RF34,Depreciação_Mensal!$G$4:$RF$4,Depreciação_Anual!I$4)","v":0},{"$f":"SUMIFS(Depreciação_Mensal!$G34:$RF34,Depreciação_Mensal!$G$4:$RF$4,Depreciação_Anual!J$4)","v":0},{"$f":"SUMIFS(Depreciação_Mensal!$G34:$RF34,Depreciação_Mensal!$G$4:$RF$4,Depreciação_Anual!K$4)","v":0},{"$f":"SUMIFS(Depreciação_Mensal!$G34:$RF34,Depreciação_Mensal!$G$4:$RF$4,Depreciação_Anual!L$4)","v":0},{"$f":"SUMIFS(Depreciação_Mensal!$G34:$RF34,Depreciação_Mensal!$G$4:$RF$4,Depreciação_Anual!M$4)","v":0},{"$f":"SUMIFS(Depreciação_Mensal!$G34:$RF34,Depreciação_Mensal!$G$4:$RF$4,Depreciação_Anual!N$4)","v":0},{"$f":"SUMIFS(Depreciação_Mensal!$G34:$RF34,Depreciação_Mensal!$G$4:$RF$4,Depreciação_Anual!O$4)","v":0},{"$f":"SUMIFS(Depreciação_Mensal!$G34:$RF34,Depreciação_Mensal!$G$4:$RF$4,Depreciação_Anual!P$4)","v":0},{"$f":"SUMIFS(Depreciação_Mensal!$G34:$RF34,Depreciação_Mensal!$G$4:$RF$4,Depreciação_Anual!Q$4)","v":0},{"$f":"SUMIFS(Depreciação_Mensal!$G34:$RF34,Depreciação_Mensal!$G$4:$RF$4,Depreciação_Anual!R$4)","v":0},{"$f":"SUMIFS(Depreciação_Mensal!$G34:$RF34,Depreciação_Mensal!$G$4:$RF$4,Depreciação_Anual!S$4)","v":0},{"$f":"SUMIFS(Depreciação_Mensal!$G34:$RF34,Depreciação_Mensal!$G$4:$RF$4,Depreciação_Anual!T$4)","v":0},{"$f":"SUMIFS(Depreciação_Mensal!$G34:$RF34,Depreciação_Mensal!$G$4:$RF$4,Depreciação_Anual!U$4)","v":0},{"$f":"SUMIFS(Depreciação_Mensal!$G34:$RF34,Depreciação_Mensal!$G$4:$RF$4,Depreciação_Anual!V$4)","v":0},{"$f":"SUMIFS(Depreciação_Mensal!$G34:$RF34,Depreciação_Mensal!$G$4:$RF$4,Depreciação_Anual!W$4)","v":0},{"$f":"SUMIFS(Depreciação_Mensal!$G34:$RF34,Depreciação_Mensal!$G$4:$RF$4,Depreciação_Anual!X$4)","v":0},{"$f":"SUMIFS(Depreciação_Mensal!$G34:$RF34,Depreciação_Mensal!$G$4:$RF$4,Depreciação_Anual!Y$4)","v":0},{"$f":"SUMIFS(Depreciação_Mensal!$G34:$RF34,Depreciação_Mensal!$G$4:$RF$4,Depreciação_Anual!Z$4)","v":0},{"$f":"SUMIFS(Depreciação_Mensal!$G34:$RF34,Depreciação_Mensal!$G$4:$RF$4,Depreciação_Anual!AA$4)","v":0},{"$f":"SUMIFS(Depreciação_Mensal!$G34:$RF34,Depreciação_Mensal!$G$4:$RF$4,Depreciação_Anual!AB$4)","v":0},{"$f":"SUMIFS(Depreciação_Mensal!$G34:$RF34,Depreciação_Mensal!$G$4:$RF$4,Depreciação_Anual!AC$4)","v":0},{"$f":"SUMIFS(Depreciação_Mensal!$G34:$RF34,Depreciação_Mensal!$G$4:$RF$4,Depreciação_Anual!AD$4)","v":0},{"$f":"SUMIFS(Depreciação_Mensal!$G34:$RF34,Depreciação_Mensal!$G$4:$RF$4,Depreciação_Anual!AE$4)","v":0},{"$f":"SUMIFS(Depreciação_Mensal!$G34:$RF34,Depreciação_Mensal!$G$4:$RF$4,Depreciação_Anual!AF$4)","v":0},{"$f":"SUMIFS(Depreciação_Mensal!$G34:$RF34,Depreciação_Mensal!$G$4:$RF$4,Depreciação_Anual!AG$4)","v":0},{"$f":"SUMIFS(Depreciação_Mensal!$G34:$RF34,Depreciação_Mensal!$G$4:$RF$4,Depreciação_Anual!AH$4)","v":0},{"$f":"SUMIFS(Depreciação_Mensal!$G34:$RF34,Depreciação_Mensal!$G$4:$RF$4,Depreciação_Anual!AI$4)","v":0},{"$f":"SUMIFS(Depreciação_Mensal!$G34:$RF34,Depreciação_Mensal!$G$4:$RF$4,Depreciação_Anual!AJ$4)","v":0},{"$f":"SUMIFS(Depreciação_Mensal!$G34:$RF34,Depreciação_Mensal!$G$4:$RF$4,Depreciação_Anual!AK$4)","v":0},{"$f":"SUMIFS(Depreciação_Mensal!$G34:$RF34,Depreciação_Mensal!$G$4:$RF$4,Depreciação_Anual!AL$4)","v":0},{"$f":"SUMIFS(Depreciação_Mensal!$G34:$RF34,Depreciação_Mensal!$G$4:$RF$4,Depreciação_Anual!AM$4)","v":0},{"$f":"SUMIFS(Depreciação_Mensal!$G34:$RF34,Depreciação_Mensal!$G$4:$RF$4,Depreciação_Anual!AN$4)","v":0},{"$f":"SUMIFS(Depreciação_Mensal!$G34:$RF34,Depreciação_Mensal!$G$4:$RF$4,Depreciação_Anual!AO$4)","v":0},{"$f":"SUMIFS(Depreciação_Mensal!$G34:$RF34,Depreciação_Mensal!$G$4:$RF$4,Depreciação_Anual!AP$4)","v":0},{"$f":"SUMIFS(Depreciação_Mensal!$G34:$RF34,Depreciação_Mensal!$G$4:$RF$4,Depreciação_Anual!AQ$4)","v":0},{"$f":"SUMIFS(Depreciação_Mensal!$G34:$RF34,Depreciação_Mensal!$G$4:$RF$4,Depreciação_Anual!AR$4)","v":0},{"$f":"SUMIFS(Depreciação_Mensal!$G34:$RF34,Depreciação_Mensal!$G$4:$RF$4,Depreciação_Anual!AS$4)","v":0}]
[]
[{"$nulls":6},{"$f":"+G4","v":2022},{"$f":"+H4","v":2023},2024,2025,2026,2027,2028,2029,2030,2031,2032,2033,2034,2035,2036,2037,2038,2039,2040,2041,2042,2043,2044,2045,2046,2047,2048,2049,2050,2051,2052,{"$f":"+AL4","v":2053},2054,2055,2056,2057,2058,2059,2060]
["xxxxxx","Depreciação"]
[null,"Ativo",null,"Ciclo de Vida (Anos)","Ciclo de Vida (Meses)",null,{"$f":"+G40","v":0},{"$f":"+H40","v":0},{"v":6532652.614801495,"d":"6,532,653"},{"v":10797178.031185327,"d":"10,797,178"},{"v":10415451.72544767,"d":"10,415,452"},{"v":10057893.607694143,"d":"10,057,894"},{"v":9712610.311133355,"d":"9,712,610"},{"v":9379180.44626851,"d":"9,379,180"},{"v":9057197.089728655,"d":"9,057,197"},{"v":8746267.287652606,"d":"8,746,267"},{"v":8446011.576121487,"d":"8,446,012"},{"v":8156063.518054645,"d":"8,156,064"},{"v":7876069.256003712,"d":"7,876,069"},{"v":7605687.08029908,"d":"7,605,687"},{"v":7344587.012021708,"d":"7,344,587"},{"v":7092450.400291352,"d":"7,092,450"},{"v":6848969.533379704,"d":"6,848,970"},{"v":2755769.6929891133,"d":"2,755,770"},0,0,0,0,0,0,0,0,0,0,0,0,0,0,0,0,0,0,0,0,0]
[null,{"$f":"+B26","v":"GASIG"},null,{"$f":"+D26","v":15},{"$f":"+E26","v":180},null,{"$f":"G26","v":0},{"$f":"H26/PRODUCT($G$85:G$85)","v":0},{"$f":"I26/PRODUCT($G$85:H$85)","v":{"v":6532652.614801495,"d":"6,532,653"}},{"$f":"J26/PRODUCT($G$85:I$85)","v":{"v":10797178.031185327,"d":"10,797,178"}},{"$f":"K26/PRODUCT($G$85:J$85)","v":{"v":10415451.72544767,"d":"10,415,452"}},{"$f":"L26/PRODUCT($G$85:K$85)","v":{"v":10057893.607694143,"d":"10,057,894"}},{"$f":"M26/PRODUCT($G$85:L$85)","v":{"v":9712610.311133355,"d":"9,712,610"}},{"$f":"N26/PRODUCT($G$85:M$85)","v":{"v":9379180.44626851,"d":"9,379,180"}},{"$f":"O26/PRODUCT($G$85:N$85)","v":{"v":9057197.089728655,"d":"9,057,197"}},{"$f":"P26/PRODUCT($G$85:O$85)","v":{"v":8746267.287652606,"d":"8,746,267"}},{"$f":"Q26/PRODUCT($G$85:P$85)","v":{"v":8446011.576121487,"d":"8,446,012"}},{"$f":"R26/PRODUCT($G$85:Q$85)","v":{"v":8156063.518054645,"d":"8,156,064"}},{"$f":"S26/PRODUCT($G$85:R$85)","v":{"v":7876069.256003712,"d":"7,876,069"}},{"$f":"T26/PRODUCT($G$85:S$85)","v":{"v":7605687.08029908,"d":"7,605,687"}},{"$f":"U26/PRODUCT($G$85:T$85)","v":{"v":7344587.012021708,"d":"7,344,587"}},{"$f":"V26/PRODUCT($G$85:U$85)","v":{"v":7092450.400291352,"d":"7,092,450"}},{"$f":"W26/PRODUCT($G$85:V$85)","v":{"v":6848969.533379704,"d":"6,848,970"}},{"$f":"X26/PRODUCT($G$85:W$85)","v":{"v":2755769.6929891133,"d":"2,755,770"}},{"$f":"Y26/PRODUCT($G$85:X$85)","v":0},{"$f":"Z26/PRODUCT($G$85:Y$85)","v":0},{"$f":"AA26/PRODUCT($G$85:Z$85)","v":0},{"$f":"AB26/PRODUCT($G$85:AA$85)","v":0},{"$f":"AC26/PRODUCT($G$85:AB$85)","v":0},{"$f":"AD26/PRODUCT($G$85:AC$85)","v":0},{"$f":"AE26/PRODUCT($G$85:AD$85)","v":0},{"$f":"AF26/PRODUCT($G$85:AE$85)","v":0},{"$f":"AG26/PRODUCT($G$85:AF$85)","v":0},{"$f":"AH26/PRODUCT($G$85:AG$85)","v":0},{"$f":"AI26/PRODUCT($G$85:AH$85)","v":0},{"$f":"AJ26/PRODUCT($G$85:AI$85)","v":0},{"$f":"AK26/PRODUCT($G$85:AJ$85)","v":0},{"$f":"AL26/PRODUCT($G$85:AK$85)","v":0},{"$f":"AM26/PRODUCT($G$85:AL$85)","v":0},{"$f":"AN26/PRODUCT($G$85:AM$85)","v":0},{"$f":"AO26/PRODUCT($G$85:AN$85)","v":0},{"$f":"AP26/PRODUCT($G$85:AO$85)","v":0},{"$f":"AQ26/PRODUCT($G$85:AP$85)","v":0},{"$f":"AR26/PRODUCT($G$85:AQ$85)","v":0},{"$f":"AS26/PRODUCT($G$85:AR$85)","v":0}]
[null,{"$f":"+B27","v":0},null,0,0,null,{"$f":"G27","v":0},{"$f":"H27/PRODUCT($G$85:G$85)","v":0},{"$f":"I27/PRODUCT($G$85:H$85)","v":0},{"$f":"J27/PRODUCT($G$85:I$85)","v":0},{"$f":"K27/PRODUCT($G$85:J$85)","v":0},{"$f":"L27/PRODUCT($G$85:K$85)","v":0},{"$f":"M27/PRODUCT($G$85:L$85)","v":0},{"$f":"N27/PRODUCT($G$85:M$85)","v":0},{"$f":"O27/PRODUCT($G$85:N$85)","v":0},{"$f":"P27/PRODUCT($G$85:O$85)","v":0},{"$f":"Q27/PRODUCT($G$85:P$85)","v":0},{"$f":"R27/PRODUCT($G$85:Q$85)","v":0},{"$f":"S27/PRODUCT($G$85:R$85)","v":0},{"$f":"T27/PRODUCT($G$85:S$85)","v":0},{"$f":"U27/PRODUCT($G$85:T$85)","v":0},{"$f":"V27/PRODUCT($G$85:U$85)","v":0},{"$f":"W27/PRODUCT($G$85:V$85)","v":0},{"$f":"X27/PRODUCT($G$85:W$85)","v":0},{"$f":"Y27/PRODUCT($G$85:X$85)","v":0},{"$f":"Z27/PRODUCT($G$85:Y$85)","v":0},{"$f":"AA27/PRODUCT($G$85:Z$85)","v":0},{"$f":"AB27/PRODUCT($G$85:AA$85)","v":0},{"$f":"AC27/PRODUCT($G$85:AB$85)","v":0},{"$f":"AD27/PRODUCT($G$85:AC$85)","v":0},{"$f":"AE27/PRODUCT($G$85:AD$85)","v":0},{"$f":"AF27/PRODUCT($G$85:AE$85)","v":0},{"$f":"AG27/PRODUCT($G$85:AF$85)","v":0},{"$f":"AH27/PRODUCT($G$85:AG$85)","v":0},{"$f":"AI27/PRODUCT($G$85:AH$85)","v":0},{"$f":"AJ27/PRODUCT($G$85:AI$85)","v":0},{"$f":"AK27/PRODUCT($G$85:AJ$85)","v":0},{"$f":"AL27/PRODUCT($G$85:AK$85)","v":0},{"$f":"AM27/PRODUCT($G$85:AL$85)","v":0},{"$f":"AN27/PRODUCT($G$85:AM$85)","v":0},{"$f":"AO27/PRODUCT($G$85:AN$85)","v":0},{"$f":"AP27/PRODUCT($G$85:AO$85)","v":0},{"$f":"AQ27/PRODUCT($G$85:AP$85)","v":0},{"$f":"AR27/PRODUCT($G$85:AQ$85)","v":0},{"$f":"AS27/PRODUCT($G$85:AR$85)","v":0}]
[null,0,null,0,0,null,0,{"$f":"H28/PRODUCT($G$85:G$85)","v":0},{"$f":"I28/PRODUCT($G$85:H$85)","v":0},{"$f":"J28/PRODUCT($G$85:I$85)","v":0},{"$f":"K28/PRODUCT($G$85:J$85)","v":0},{"$f":"L28/PRODUCT($G$85:K$85)","v":0},{"$f":"M28/PRODUCT($G$85:L$85)","v":0},{"$f":"N28/PRODUCT($G$85:M$85)","v":0},{"$f":"O28/PRODUCT($G$85:N$85)","v":0},{"$f":"P28/PRODUCT($G$85:O$85)","v":0},{"$f":"Q28/PRODUCT($G$85:P$85)","v":0},{"$f":"R28/PRODUCT($G$85:Q$85)","v":0},{"$f":"S28/PRODUCT($G$85:R$85)","v":0},{"$f":"T28/PRODUCT($G$85:S$85)","v":0},{"$f":"U28/PRODUCT($G$85:T$85)","v":0},{"$f":"V28/PRODUCT($G$85:U$85)","v":0},{"$f":"W28/PRODUCT($G$85:V$85)","v":0},{"$f":"X28/PRODUCT($G$85:W$85)","v":0},{"$f":"Y28/PRODUCT($G$85:X$85)","v":0},{"$f":"Z28/PRODUCT($G$85:Y$85)","v":0},{"$f":"AA28/PRODUCT($G$85:Z$85)","v":0},{"$f":"AB28/PRODUCT($G$85:AA$85)","v":0},{"$f":"AC28/PRODUCT($G$85:AB$85)","v":0},{"$f":"AD28/PRODUCT($G$85:AC$85)","v":0},{"$f":"AE28/PRODUCT($G$85:AD$85)","v":0},{"$f":"AF28/PRODUCT($G$85:AE$85)","v":0},{"$f":"AG28/PRODUCT($G$85:AF$85)","v":0},{"$f":"AH28/PRODUCT($G$85:AG$85)","v":0},{"$f":"AI28/PRODUCT($G$85:AH$85)","v":0},{"$f":"AJ28/PRODUCT($G$85:AI$85)","v":0},{"$f":"AK28/PRODUCT($G$85:AJ$85)","v":0},{"$f":"AL28/PRODUCT($G$85:AK$85)","v":0},{"$f":"AM28/PRODUCT($G$85:AL$85)","v":0},{"$f":"AN28/PRODUCT($G$85:AM$85)","v":0},{"$f":"AO28/PRODUCT($G$85:AN$85)","v":0},{"$f":"AP28/PRODUCT($G$85:AO$85)","v":0},{"$f":"AQ28/PRODUCT($G$85:AP$85)","v":0},{"$f":"AR28/PRODUCT($G$85:AQ$85)","v":0},{"$f":"AS28/PRODUCT($G$85:AR$85)","v":0}]
[null,0,null,0,0,null,0,{"$f":"H29/PRODUCT($G$85:G$85)","v":0},{"$f":"I29/PRODUCT($G$85:H$85)","v":0},{"$f":"J29/PRODUCT($G$85:I$85)","v":0},{"$f":"K29/PRODUCT($G$85:J$85)","v":0},{"$f":"L29/PRODUCT($G$85:K$85)","v":0},{"$f":"M29/PRODUCT($G$85:L$85)","v":0},{"$f":"N29/PRODUCT($G$85:M$85)","v":0},{"$f":"O29/PRODUCT($G$85:N$85)","v":0},{"$f":"P29/PRODUCT($G$85:O$85)","v":0},{"$f":"Q29/PRODUCT($G$85:P$85)","v":0},{"$f":"R29/PRODUCT($G$85:Q$85)","v":0},{"$f":"S29/PRODUCT($G$85:R$85)","v":0},{"$f":"T29/PRODUCT($G$85:S$85)","v":0},{"$f":"U29/PRODUCT($G$85:T$85)","v":0},{"$f":"V29/PRODUCT($G$85:U$85)","v":0},{"$f":"W29/PRODUCT($G$85:V$85)","v":0},{"$f":"X29/PRODUCT($G$85:W$85)","v":0},{"$f":"Y29/PRODUCT($G$85:X$85)","v":0},{"$f":"Z29/PRODUCT($G$85:Y$85)","v":0},{"$f":"AA29/PRODUCT($G$85:Z$85)","v":0},{"$f":"AB29/PRODUCT($G$85:AA$85)","v":0},{"$f":"AC29/PRODUCT($G$85:AB$85)","v":0},{"$f":"AD29/PRODUCT($G$85:AC$85)","v":0},{"$f":"AE29/PRODUCT($G$85:AD$85)","v":0},{"$f":"AF29/PRODUCT($G$85:AE$85)","v":0},{"$f":"AG29/PRODUCT($G$85:AF$85)","v":0},{"$f":"AH29/PRODUCT($G$85:AG$85)","v":0},{"$f":"AI29/PRODUCT($G$85:AH$85)","v":0},{"$f":"AJ29/PRODUCT($G$85:AI$85)","v":0},{"$f":"AK29/PRODUCT($G$85:AJ$85)","v":0},{"$f":"AL29/PRODUCT($G$85:AK$85)","v":0},{"$f":"AM29/PRODUCT($G$85:AL$85)","v":0},{"$f":"AN29/PRODUCT($G$85:AM$85)","v":0},{"$f":"AO29/PRODUCT($G$85:AN$85)","v":0},{"$f":"AP29/PRODUCT($G$85:AO$85)","v":0},{"$f":"AQ29/PRODUCT($G$85:AP$85)","v":0},{"$f":"AR29/PRODUCT($G$85:AQ$85)","v":0},{"$f":"AS29/PRODUCT($G$85:AR$85)","v":0}]
[null,0,null,0,0,null,0,{"$f":"H30/PRODUCT($G$85:G$85)","v":0},{"$f":"I30/PRODUCT($G$85:H$85)","v":0},{"$f":"J30/PRODUCT($G$85:I$85)","v":0},{"$f":"K30/PRODUCT($G$85:J$85)","v":0},{"$f":"L30/PRODUCT($G$85:K$85)","v":0},{"$f":"M30/PRODUCT($G$85:L$85)","v":0},{"$f":"N30/PRODUCT($G$85:M$85)","v":0},{"$f":"O30/PRODUCT($G$85:N$85)","v":0},{"$f":"P30/PRODUCT($G$85:O$85)","v":0},{"$f":"Q30/PRODUCT($G$85:P$85)","v":0},{"$f":"R30/PRODUCT($G$85:Q$85)","v":0},{"$f":"S30/PRODUCT($G$85:R$85)","v":0},{"$f":"T30/PRODUCT($G$85:S$85)","v":0},{"$f":"U30/PRODUCT($G$85:T$85)","v":0},{"$f":"V30/PRODUCT($G$85:U$85)","v":0},{"$f":"W30/PRODUCT($G$85:V$85)","v":0},{"$f":"X30/PRODUCT($G$85:W$85)","v":0},{"$f":"Y30/PRODUCT($G$85:X$85)","v":0},{"$f":"Z30/PRODUCT($G$85:Y$85)","v":0},{"$f":"AA30/PRODUCT($G$85:Z$85)","v":0},{"$f":"AB30/PRODUCT($G$85:AA$85)","v":0},{"$f":"AC30/PRODUCT($G$85:AB$85)","v":0},{"$f":"AD30/PRODUCT($G$85:AC$85)","v":0},{"$f":"AE30/PRODUCT($G$85:AD$85)","v":0},{"$f":"AF30/PRODUCT($G$85:AE$85)","v":0},{"$f":"AG30/PRODUCT($G$85:AF$85)","v":0},{"$f":"AH30/PRODUCT($G$85:AG$85)","v":0},{"$f":"AI30/PRODUCT($G$85:AH$85)","v":0},{"$f":"AJ30/PRODUCT($G$85:AI$85)","v":0},{"$f":"AK30/PRODUCT($G$85:AJ$85)","v":0},{"$f":"AL30/PRODUCT($G$85:AK$85)","v":0},{"$f":"AM30/PRODUCT($G$85:AL$85)","v":0},{"$f":"AN30/PRODUCT($G$85:AM$85)","v":0},{"$f":"AO30/PRODUCT($G$85:AN$85)","v":0},{"$f":"AP30/PRODUCT($G$85:AO$85)","v":0},{"$f":"AQ30/PRODUCT($G$85:AP$85)","v":0},{"$f":"AR30/PRODUCT($G$85:AQ$85)","v":0},{"$f":"AS30/PRODUCT($G$85:AR$85)","v":0}]
[null,0,null,0,0,null,0,{"$f":"H31/PRODUCT($G$85:G$85)","v":0},{"$f":"I31/PRODUCT($G$85:H$85)","v":0},{"$f":"J31/PRODUCT($G$85:I$85)","v":0},{"$f":"K31/PRODUCT($G$85:J$85)","v":0},{"$f":"L31/PRODUCT($G$85:K$85)","v":0},{"$f":"M31/PRODUCT($G$85:L$85)","v":0},{"$f":"N31/PRODUCT($G$85:M$85)","v":0},{"$f":"O31/PRODUCT($G$85:N$85)","v":0},{"$f":"P31/PRODUCT($G$85:O$85)","v":0},{"$f":"Q31/PRODUCT($G$85:P$85)","v":0},{"$f":"R31/PRODUCT($G$85:Q$85)","v":0},{"$f":"S31/PRODUCT($G$85:R$85)","v":0},{"$f":"T31/PRODUCT($G$85:S$85)","v":0},{"$f":"U31/PRODUCT($G$85:T$85)","v":0},{"$f":"V31/PRODUCT($G$85:U$85)","v":0},{"$f":"W31/PRODUCT($G$85:V$85)","v":0},{"$f":"X31/PRODUCT($G$85:W$85)","v":0},{"$f":"Y31/PRODUCT($G$85:X$85)","v":0},{"$f":"Z31/PRODUCT($G$85:Y$85)","v":0},{"$f":"AA31/PRODUCT($G$85:Z$85)","v":0},{"$f":"AB31/PRODUCT($G$85:AA$85)","v":0},{"$f":"AC31/PRODUCT($G$85:AB$85)","v":0},{"$f":"AD31/PRODUCT($G$85:AC$85)","v":0},{"$f":"AE31/PRODUCT($G$85:AD$85)","v":0},{"$f":"AF31/PRODUCT($G$85:AE$85)","v":0},{"$f":"AG31/PRODUCT($G$85:AF$85)","v":0},{"$f":"AH31/PRODUCT($G$85:AG$85)","v":0},{"$f":"AI31/PRODUCT($G$85:AH$85)","v":0},{"$f":"AJ31/PRODUCT($G$85:AI$85)","v":0},{"$f":"AK31/PRODUCT($G$85:AJ$85)","v":0},{"$f":"AL31/PRODUCT($G$85:AK$85)","v":0},{"$f":"AM31/PRODUCT($G$85:AL$85)","v":0},{"$f":"AN31/PRODUCT($G$85:AM$85)","v":0},{"$f":"AO31/PRODUCT($G$85:AN$85)","v":0},{"$f":"AP31/PRODUCT($G$85:AO$85)","v":0},{"$f":"AQ31/PRODUCT($G$85:AP$85)","v":0},{"$f":"AR31/PRODUCT($G$85:AQ$85)","v":0},{"$f":"AS31/PRODUCT($G$85:AR$85)","v":0}]
[null,0,null,0,0,null,0,{"$f":"H32/PRODUCT($G$85:G$85)","v":0},{"$f":"I32/PRODUCT($G$85:H$85)","v":0},{"$f":"J32/PRODUCT($G$85:I$85)","v":0},{"$f":"K32/PRODUCT($G$85:J$85)","v":0},{"$f":"L32/PRODUCT($G$85:K$85)","v":0},{"$f":"M32/PRODUCT($G$85:L$85)","v":0},{"$f":"N32/PRODUCT($G$85:M$85)","v":0},{"$f":"O32/PRODUCT($G$85:N$85)","v":0},{"$f":"P32/PRODUCT($G$85:O$85)","v":0},{"$f":"Q32/PRODUCT($G$85:P$85)","v":0},{"$f":"R32/PRODUCT($G$85:Q$85)","v":0},{"$f":"S32/PRODUCT($G$85:R$85)","v":0},{"$f":"T32/PRODUCT($G$85:S$85)","v":0},{"$f":"U32/PRODUCT($G$85:T$85)","v":0},{"$f":"V32/PRODUCT($G$85:U$85)","v":0},{"$f":"W32/PRODUCT($G$85:V$85)","v":0},{"$f":"X32/PRODUCT($G$85:W$85)","v":0},{"$f":"Y32/PRODUCT($G$85:X$85)","v":0},{"$f":"Z32/PRODUCT($G$85:Y$85)","v":0},{"$f":"AA32/PRODUCT($G$85:Z$85)","v":0},{"$f":"AB32/PRODUCT($G$85:AA$85)","v":0},{"$f":"AC32/PRODUCT($G$85:AB$85)","v":0},{"$f":"AD32/PRODUCT($G$85:AC$85)","v":0},{"$f":"AE32/PRODUCT($G$85:AD$85)","v":0},{"$f":"AF32/PRODUCT($G$85:AE$85)","v":0},{"$f":"AG32/PRODUCT($G$85:AF$85)","v":0},{"$f":"AH32/PRODUCT($G$85:AG$85)","v":0},{"$f":"AI32/PRODUCT($G$85:AH$85)","v":0},{"$f":"AJ32/PRODUCT($G$85:AI$85)","v":0},{"$f":"AK32/PRODUCT($G$85:AJ$85)","v":0},{"$f":"AL32/PRODUCT($G$85:AK$85)","v":0},{"$f":"AM32/PRODUCT($G$85:AL$85)","v":0},{"$f":"AN32/PRODUCT($G$85:AM$85)","v":0},{"$f":"AO32/PRODUCT($G$85:AN$85)","v":0},{"$f":"AP32/PRODUCT($G$85:AO$85)","v":0},{"$f":"AQ32/PRODUCT($G$85:AP$85)","v":0},{"$f":"AR32/PRODUCT($G$85:AQ$85)","v":0},{"$f":"AS32/PRODUCT($G$85:AR$85)","v":0}]
[null,0,null,0,0,null,0,{"$f":"H33/PRODUCT($G$85:G$85)","v":0},{"$f":"I33/PRODUCT($G$85:H$85)","v":0},{"$f":"J33/PRODUCT($G$85:I$85)","v":0},{"$f":"K33/PRODUCT($G$85:J$85)","v":0},{"$f":"L33/PRODUCT($G$85:K$85)","v":0},{"$f":"M33/PRODUCT($G$85:L$85)","v":0},{"$f":"N33/PRODUCT($G$85:M$85)","v":0},{"$f":"O33/PRODUCT($G$85:N$85)","v":0},{"$f":"P33/PRODUCT($G$85:O$85)","v":0},{"$f":"Q33/PRODUCT($G$85:P$85)","v":0},{"$f":"R33/PRODUCT($G$85:Q$85)","v":0},{"$f":"S33/PRODUCT($G$85:R$85)","v":0},{"$f":"T33/PRODUCT($G$85:S$85)","v":0},{"$f":"U33/PRODUCT($G$85:T$85)","v":0},{"$f":"V33/PRODUCT($G$85:U$85)","v":0},{"$f":"W33/PRODUCT($G$85:V$85)","v":0},{"$f":"X33/PRODUCT($G$85:W$85)","v":0},{"$f":"Y33/PRODUCT($G$85:X$85)","v":0},{"$f":"Z33/PRODUCT($G$85:Y$85)","v":0},{"$f":"AA33/PRODUCT($G$85:Z$85)","v":0},{"$f":"AB33/PRODUCT($G$85:AA$85)","v":0},{"$f":"AC33/PRODUCT($G$85:AB$85)","v":0},{"$f":"AD33/PRODUCT($G$85:AC$85)","v":0},{"$f":"AE33/PRODUCT($G$85:AD$85)","v":0},{"$f":"AF33/PRODUCT($G$85:AE$85)","v":0},{"$f":"AG33/PRODUCT($G$85:AF$85)","v":0},{"$f":"AH33/PRODUCT($G$85:AG$85)","v":0},{"$f":"AI33/PRODUCT($G$85:AH$85)","v":0},{"$f":"AJ33/PRODUCT($G$85:AI$85)","v":0},{"$f":"AK33/PRODUCT($G$85:AJ$85)","v":0},{"$f":"AL33/PRODUCT($G$85:AK$85)","v":0},{"$f":"AM33/PRODUCT($G$85:AL$85)","v":0},{"$f":"AN33/PRODUCT($G$85:AM$85)","v":0},{"$f":"AO33/PRODUCT($G$85:AN$85)","v":0},{"$f":"AP33/PRODUCT($G$85:AO$85)","v":0},{"$f":"AQ33/PRODUCT($G$85:AP$85)","v":0},{"$f":"AR33/PRODUCT($G$85:AQ$85)","v":0},{"$f":"AS33/PRODUCT($G$85:AR$85)","v":0}]
[null,0,null,0,0,null,0,{"$f":"H34/PRODUCT($G$85:G$85)","v":0},{"$f":"I34/PRODUCT($G$85:H$85)","v":0},{"$f":"J34/PRODUCT($G$85:I$85)","v":0},{"$f":"K34/PRODUCT($G$85:J$85)","v":0},{"$f":"L34/PRODUCT($G$85:K$85)","v":0},{"$f":"M34/PRODUCT($G$85:L$85)","v":0},{"$f":"N34/PRODUCT($G$85:M$85)","v":0},{"$f":"O34/PRODUCT($G$85:N$85)","v":0},{"$f":"P34/PRODUCT($G$85:O$85)","v":0},{"$f":"Q34/PRODUCT($G$85:P$85)","v":0},{"$f":"R34/PRODUCT($G$85:Q$85)","v":0},{"$f":"S34/PRODUCT($G$85:R$85)","v":0},{"$f":"T34/PRODUCT($G$85:S$85)","v":0},{"$f":"U34/PRODUCT($G$85:T$85)","v":0},{"$f":"V34/PRODUCT($G$85:U$85)","v":0},{"$f":"W34/PRODUCT($G$85:V$85)","v":0},{"$f":"X34/PRODUCT($G$85:W$85)","v":0},{"$f":"Y34/PRODUCT($G$85:X$85)","v":0},{"$f":"Z34/PRODUCT($G$85:Y$85)","v":0},{"$f":"AA34/PRODUCT($G$85:Z$85)","v":0},{"$f":"AB34/PRODUCT($G$85:AA$85)","v":0},{"$f":"AC34/PRODUCT($G$85:AB$85)","v":0},{"$f":"AD34/PRODUCT($G$85:AC$85)","v":0},{"$f":"AE34/PRODUCT($G$85:AD$85)","v":0},{"$f":"AF34/PRODUCT($G$85:AE$85)","v":0},{"$f":"AG34/PRODUCT($G$85:AF$85)","v":0},{"$f":"AH34/PRODUCT($G$85:AG$85)","v":0},{"$f":"AI34/PRODUCT($G$85:AH$85)","v":0},{"$f":"AJ34/PRODUCT($G$85:AI$85)","v":0},{"$f":"AK34/PRODUCT($G$85:AJ$85)","v":0},{"$f":"AL34/PRODUCT($G$85:AK$85)","v":0},{"$f":"AM34/PRODUCT($G$85:AL$85)","v":0},{"$f":"AN34/PRODUCT($G$85:AM$85)","v":0},{"$f":"AO34/PRODUCT($G$85:AN$85)","v":0},{"$f":"AP34/PRODUCT($G$85:AO$85)","v":0},{"$f":"AQ34/PRODUCT($G$85:AP$85)","v":0},{"$f":"AR34/PRODUCT($G$85:AQ$85)","v":0},{"$f":"AS34/PRODUCT($G$85:AR$85)","v":0}]
[null,0,null,0,0,null,0,{"$f":"H35/PRODUCT($G$85:G$85)","v":0},{"$f":"I35/PRODUCT($G$85:H$85)","v":0},{"$f":"J35/PRODUCT($G$85:I$85)","v":0},{"$f":"K35/PRODUCT($G$85:J$85)","v":0},{"$f":"L35/PRODUCT($G$85:K$85)","v":0},{"$f":"M35/PRODUCT($G$85:L$85)","v":0},{"$f":"N35/PRODUCT($G$85:M$85)","v":0},{"$f":"O35/PRODUCT($G$85:N$85)","v":0},{"$f":"P35/PRODUCT($G$85:O$85)","v":0},{"$f":"Q35/PRODUCT($G$85:P$85)","v":0},{"$f":"R35/PRODUCT($G$85:Q$85)","v":0},{"$f":"S35/PRODUCT($G$85:R$85)","v":0},{"$f":"T35/PRODUCT($G$85:S$85)","v":0},{"$f":"U35/PRODUCT($G$85:T$85)","v":0},{"$f":"V35/PRODUCT($G$85:U$85)","v":0},{"$f":"W35/PRODUCT($G$85:V$85)","v":0},{"$f":"X35/PRODUCT($G$85:W$85)","v":0},{"$f":"Y35/PRODUCT($G$85:X$85)","v":0},{"$f":"Z35/PRODUCT($G$85:Y$85)","v":0},{"$f":"AA35/PRODUCT($G$85:Z$85)","v":0},{"$f":"AB35/PRODUCT($G$85:AA$85)","v":0},{"$f":"AC35/PRODUCT($G$85:AB$85)","v":0},{"$f":"AD35/PRODUCT($G$85:AC$85)","v":0},{"$f":"AE35/PRODUCT($G$85:AD$85)","v":0},{"$f":"AF35/PRODUCT($G$85:AE$85)","v":0},{"$f":"AG35/PRODUCT($G$85:AF$85)","v":0},{"$f":"AH35/PRODUCT($G$85:AG$85)","v":0},{"$f":"AI35/PRODUCT($G$85:AH$85)","v":0},{"$f":"AJ35/PRODUCT($G$85:AI$85)","v":0},{"$f":"AK35/PRODUCT($G$85:AJ$85)","v":0},{"$f":"AL35/PRODUCT($G$85:AK$85)","v":0},{"$f":"AM35/PRODUCT($G$85:AL$85)","v":0},{"$f":"AN35/PRODUCT($G$85:AM$85)","v":0},{"$f":"AO35/PRODUCT($G$85:AN$85)","v":0},{"$f":"AP35/PRODUCT($G$85:AO$85)","v":0},{"$f":"AQ35/PRODUCT($G$85:AP$85)","v":0},{"$f":"AR35/PRODUCT($G$85:AQ$85)","v":0},{"$f":"AS35/PRODUCT($G$85:AR$85)","v":0}]
[]
[{"$nulls":6},{"$f":"+G4","v":2022},2023,2024,2025,2026,2027,2028,2029,2030,2031,2032,2033,2034,2035,2036,2037,2038,2039,2040,2041,2042,2043,2044,2045,2046,2047,2048,2049,2050,2051,2052,{"$f":"+AL4","v":2053},2054,2055,2056,2057,2058,2059,2060]
["xxxxxx","Valor Residual - Fim do Periodo (EoP)"]
[null,"Ativo",null,"Ciclo de Vida (Anos)","Ciclo de Vida (Meses)",null,{"$f":"+G54","v":{"v":132200004.41859424,"d":"132,200,004"}},{"$f":"+H54","v":{"v":165983204.0252322,"d":"165,983,204"}},{"v":161449843.1943798,"d":"161,449,843"},{"v":150251010.14043438,"d":"150,251,010"},{"v":139052177.08648896,"d":"139,052,177"},{"v":127853344.03254354,"d":"127,853,344"},{"v":116654510.97859812,"d":"116,654,511"},{"v":105455677.9246527,"d":"105,455,678"},{"v":94256844.87070729,"d":"94,256,845"},{"v":83058011.81676187,"d":"83,058,012"},{"v":71859178.76281644,"d":"71,859,179"},{"v":60660345.70887102,"d":"60,660,346"},{"v":49461512.6549256,"d":"49,461,513"},{"v":38262679.60098018,"d":"38,262,680"},{"v":27063846.54703477,"d":"27,063,847"},{"v":15865013.493089348,"d":"15,865,013"},{"v":4666180.439143926,"d":"4,666,180"},0,0,0,0,0,0,0,0,0,0,0,0,0,0,0,0,0,0,0,0,0,0]
[null,{"$f":"+B26","v":"GASIG"},null,15,180,null,{"$f":"SUM($G12:G12)-SUM($F26:G26)","v":{"v":132200004.41859424,"d":"132,200,004"}},{"$f":"SUM($G12:H12)-SUM($F26:H26)","v":{"v":165983204.0252322,"d":"165,983,204"}},{"$f":"SUM($G12:I12)-SUM($F26:I26)","v":{"v":161449843.1943798,"d":"161,449,843"}},{"$f":"SUM($G12:J12)-SUM($F26:J26)","v":{"v":150251010.14043438,"d":"150,251,010"}},{"$f":"SUM($G12:K12)-SUM($F26:K26)","v":{"v":139052177.08648896,"d":"139,052,177"}},{"$f":"SUM($G12:L12)-SUM($F26:L26)","v":{"v":127853344.03254354,"d":"127,853,344"}},{"$f":"SUM($G12:M12)-SUM($F26:M26)","v":{"v":116654510.97859812,"d":"116,654,511"}},{"$f":"SUM($G12:N12)-SUM($F26:N26)","v":{"v":105455677.9246527,"d":"105,455,678"}},{"$f":"SUM($G12:O12)-SUM($F26:O26)","v":{"v":94256844.87070729,"d":"94,256,845"}},{"$f":"SUM($G12:P12)-SUM($F26:P26)","v":{"v":83058011.81676187,"d":"83,058,012"}},{"$f":"SUM($G12:Q12)-SUM($F26:Q26)","v":{"v":71859178.76281644,"d":"71,859,179"}},{"$f":"SUM($G12:R12)-SUM($F26:R26)","v":{"v":60660345.70887102,"d":"60,660,346"}},{"$f":"SUM($G12:S12)-SUM($F26:S26)","v":{"v":49461512.6549256,"d":"49,461,513"}},{"$f":"SUM($G12:T12)-SUM($F26:T26)","v":{"v":38262679.60098018,"d":"38,262,680"}},{"$f":"SUM($G12:U12)-SUM($F26:U26)","v":{"v":27063846.54703477,"d":"27,063,847"}},{"$f":"SUM($G12:V12)-SUM($F26:V26)","v":{"v":15865013.493089348,"d":"15,865,013"}},{"$f":"SUM($G12:W12)-SUM($F26:W26)","v":{"v":4666180.439143926,"d":"4,666,180"}},{"$f":"SUM($G12:X12)-SUM($F26:X26)","v":0},{"$f":"SUM($G12:Y12)-SUM($F26:Y26)","v":0},{"$f":"SUM($G12:Z12)-SUM($F26:Z26)","v":0},{"$f":"SUM($G12:AA12)-SUM($F26:AA26)","v":0},{"$f":"SUM($G12:AB12)-SUM($F26:AB26)","v":0},{"$f":"SUM($G12:AC12)-SUM($F26:AC26)","v":0},{"$f":"SUM($G12:AD12)-SUM($F26:AD26)","v":0},{"$f":"SUM($G12:AE12)-SUM($F26:AE26)","v":0},{"$f":"SUM($G12:AF12)-SUM($F26:AF26)","v":0},{"$f":"SUM($G12:AG12)-SUM($F26:AG26)","v":0},{"$f":"SUM($G12:AH12)-SUM($F26:AH26)","v":0},{"$f":"SUM($G12:AI12)-SUM($F26:AI26)","v":0},{"$f":"SUM($G12:AJ12)-SUM($F26:AJ26)","v":0},{"$f":"SUM($G12:AK12)-SUM($F26:AK26)","v":0},{"$f":"SUM($G12:AL12)-SUM($F26:AL26)","v":0},{"$f":"SUM($G12:AM12)-SUM($F26:AM26)","v":0},{"$f":"SUM($G12:AN12)-SUM($F26:AN26)","v":0},{"$f":"SUM($G12:AO12)-SUM($F26:AO26)","v":0},{"$f":"SUM($G12:AP12)-SUM($F26:AP26)","v":0},{"$f":"SUM($G12:AQ12)-SUM($F26:AQ26)","v":0},{"$f":"SUM($G12:AR12)-SUM($F26:AR26)","v":0},{"$f":"SUM($G12:AS12)-SUM($F26:AS26)","v":0}]
[null,0,null,0,0,null,{"$f":"SUM($G13:G13)-SUM($F27:G27)","v":0},{"$f":"SUM($G13:H13)-SUM($F27:H27)","v":0},{"$f":"SUM($G13:I13)-SUM($F27:I27)","v":0},{"$f":"SUM($G13:J13)-SUM($F27:J27)","v":0},{"$f":"SUM($G13:K13)-SUM($F27:K27)","v":0},{"$f":"SUM($G13:L13)-SUM($F27:L27)","v":0},{"$f":"SUM($G13:M13)-SUM($F27:M27)","v":0},{"$f":"SUM($G13:N13)-SUM($F27:N27)","v":0},{"$f":"SUM($G13:O13)-SUM($F27:O27)","v":0},{"$f":"SUM($G13:P13)-SUM($F27:P27)","v":0},{"$f":"SUM($G13:Q13)-SUM($F27:Q27)","v":0},{"$f":"SUM($G13:R13)-SUM($F27:R27)","v":0},{"$f":"SUM($G13:S13)-SUM($F27:S27)","v":0},{"$f":"SUM($G13:T13)-SUM($F27:T27)","v":0},{"$f":"SUM($G13:U13)-SUM($F27:U27)","v":0},{"$f":"SUM($G13:V13)-SUM($F27:V27)","v":0},{"$f":"SUM($G13:W13)-SUM($F27:W27)","v":0},{"$f":"SUM($G13:X13)-SUM($F27:X27)","v":0},{"$f":"SUM($G13:Y13)-SUM($F27:Y27)","v":0},{"$f":"SUM($G13:Z13)-SUM($F27:Z27)","v":0},{"$f":"SUM($G13:AA13)-SUM($F27:AA27)","v":0},{"$f":"SUM($G13:AB13)-SUM($F27:AB27)","v":0},{"$f":"SUM($G13:AC13)-SUM($F27:AC27)","v":0},{"$f":"SUM($G13:AD13)-SUM($F27:AD27)","v":0},{"$f":"SUM($G13:AE13)-SUM($F27:AE27)","v":0},{"$f":"SUM($G13:AF13)-SUM($F27:AF27)","v":0},{"$f":"SUM($G13:AG13)-SUM($F27:AG27)","v":0},{"$f":"SUM($G13:AH13)-SUM($F27:AH27)","v":0},{"$f":"SUM($G13:AI13)-SUM($F27:AI27)","v":0},{"$f":"SUM($G13:AJ13)-SUM($F27:AJ27)","v":0},{"$f":"SUM($G13:AK13)-SUM($F27:AK27)","v":0},{"$f":"SUM($G13:AL13)-SUM($F27:AL27)","v":0},{"$f":"SUM($G13:AM13)-SUM($F27:AM27)","v":0},{"$f":"SUM($G13:AN13)-SUM($F27:AN27)","v":0},{"$f":"SUM($G13:AO13)-SUM($F27:AO27)","v":0},{"$f":"SUM($G13:AP13)-SUM($F27:AP27)","v":0},{"$f":"SUM($G13:AQ13)-SUM($F27:AQ27)","v":0},{"$f":"SUM($G13:AR13)-SUM($F27:AR27)","v":0},{"$f":"SUM($G13:AS13)-SUM($F27:AS27)","v":0}]
[null,0,null,0,0,null,{"$f":"SUM($G14:G14)-SUM($F28:G28)","v":0},{"$f":"SUM($G14:H14)-SUM($F28:H28)","v":0},{"$f":"SUM($G14:I14)-SUM($F28:I28)","v":0},{"$f":"SUM($G14:J14)-SUM($F28:J28)","v":0},{"$f":"SUM($G14:K14)-SUM($F28:K28)","v":0},{"$f":"SUM($G14:L14)-SUM($F28:L28)","v":0},{"$f":"SUM($G14:M14)-SUM($F28:M28)","v":0},{"$f":"SUM($G14:N14)-SUM($F28:N28)","v":0},{"$f":"SUM($G14:O14)-SUM($F28:O28)","v":0},{"$f":"SUM($G14:P14)-SUM($F28:P28)","v":0},{"$f":"SUM($G14:Q14)-SUM($F28:Q28)","v":0},{"$f":"SUM($G14:R14)-SUM($F28:R28)","v":0},{"$f":"SUM($G14:S14)-SUM($F28:S28)","v":0},{"$f":"SUM($G14:T14)-SUM($F28:T28)","v":0},{"$f":"SUM($G14:U14)-SUM($F28:U28)","v":0},{"$f":"SUM($G14:V14)-SUM($F28:V28)","v":0},{"$f":"SUM($G14:W14)-SUM($F28:W28)","v":0},{"$f":"SUM($G14:X14)-SUM($F28:X28)","v":0},{"$f":"SUM($G14:Y14)-SUM($F28:Y28)","v":0},{"$f":"SUM($G14:Z14)-SUM($F28:Z28)","v":0},{"$f":"SUM($G14:AA14)-SUM($F28:AA28)","v":0},{"$f":"SUM($G14:AB14)-SUM($F28:AB28)","v":0},{"$f":"SUM($G14:AC14)-SUM($F28:AC28)","v":0},{"$f":"SUM($G14:AD14)-SUM($F28:AD28)","v":0},{"$f":"SUM($G14:AE14)-SUM($F28:AE28)","v":0},{"$f":"SUM($G14:AF14)-SUM($F28:AF28)","v":0},{"$f":"SUM($G14:AG14)-SUM($F28:AG28)","v":0},{"$f":"SUM($G14:AH14)-SUM($F28:AH28)","v":0},{"$f":"SUM($G14:AI14)-SUM($F28:AI28)","v":0},{"$f":"SUM($G14:AJ14)-SUM($F28:AJ28)","v":0},{"$f":"SUM($G14:AK14)-SUM($F28:AK28)","v":0},{"$f":"SUM($G14:AL14)-SUM($F28:AL28)","v":0},{"$f":"SUM($G14:AM14)-SUM($F28:AM28)","v":0},{"$f":"SUM($G14:AN14)-SUM($F28:AN28)","v":0},{"$f":"SUM($G14:AO14)-SUM($F28:AO28)","v":0},{"$f":"SUM($G14:AP14)-SUM($F28:AP28)","v":0},{"$f":"SUM($G14:AQ14)-SUM($F28:AQ28)","v":0},{"$f":"SUM($G14:AR14)-SUM($F28:AR28)","v":0},{"$f":"SUM($G14:AS14)-SUM($F28:AS28)","v":0}]
[null,0,null,0,0,null,{"$f":"SUM($G15:G15)-SUM($F29:G29)","v":0},{"$f":"SUM($G15:H15)-SUM($F29:H29)","v":0},{"$f":"SUM($G15:I15)-SUM($F29:I29)","v":0},{"$f":"SUM($G15:J15)-SUM($F29:J29)","v":0},{"$f":"SUM($G15:K15)-SUM($F29:K29)","v":0},{"$f":"SUM($G15:L15)-SUM($F29:L29)","v":0},{"$f":"SUM($G15:M15)-SUM($F29:M29)","v":0},{"$f":"SUM($G15:N15)-SUM($F29:N29)","v":0},{"$f":"SUM($G15:O15)-SUM($F29:O29)","v":0},{"$f":"SUM($G15:P15)-SUM($F29:P29)","v":0},{"$f":"SUM($G15:Q15)-SUM($F29:Q29)","v":0},{"$f":"SUM($G15:R15)-SUM($F29:R29)","v":0},{"$f":"SUM($G15:S15)-SUM($F29:S29)","v":0},{"$f":"SUM($G15:T15)-SUM($F29:T29)","v":0},{"$f":"SUM($G15:U15)-SUM($F29:U29)","v":0},{"$f":"SUM($G15:V15)-SUM($F29:V29)","v":0},{"$f":"SUM($G15:W15)-SUM($F29:W29)","v":0},{"$f":"SUM($G15:X15)-SUM($F29:X29)","v":0},{"$f":"SUM($G15:Y15)-SUM($F29:Y29)","v":0},{"$f":"SUM($G15:Z15)-SUM($F29:Z29)","v":0},{"$f":"SUM($G15:AA15)-SUM($F29:AA29)","v":0},{"$f":"SUM($G15:AB15)-SUM($F29:AB29)","v":0},{"$f":"SUM($G15:AC15)-SUM($F29:AC29)","v":0},{"$f":"SUM($G15:AD15)-SUM($F29:AD29)","v":0},{"$f":"SUM($G15:AE15)-SUM($F29:AE29)","v":0},{"$f":"SUM($G15:AF15)-SUM($F29:AF29)","v":0},{"$f":"SUM($G15:AG15)-SUM($F29:AG29)","v":0},{"$f":"SUM($G15:AH15)-SUM($F29:AH29)","v":0},{"$f":"SUM($G15:AI15)-SUM($F29:AI29)","v":0},{"$f":"SUM($G15:AJ15)-SUM($F29:AJ29)","v":0},{"$f":"SUM($G15:AK15)-SUM($F29:AK29)","v":0},{"$f":"SUM($G15:AL15)-SUM($F29:AL29)","v":0},{"$f":"SUM($G15:AM15)-SUM($F29:AM29)","v":0},{"$f":"SUM($G15:AN15)-SUM($F29:AN29)","v":0},{"$f":"SUM($G15:AO15)-SUM($F29:AO29)","v":0},{"$f":"SUM($G15:AP15)-SUM($F29:AP29)","v":0},{"$f":"SUM($G15:AQ15)-SUM($F29:AQ29)","v":0},{"$f":"SUM($G15:AR15)-SUM($F29:AR29)","v":0},{"$f":"SUM($G15:AS15)-SUM($F29:AS29)","v":0}]
[null,0,null,0,0,null,{"$f":"SUM($G16:G16)-SUM($F30:G30)","v":0},{"$f":"SUM($G16:H16)-SUM($F30:H30)","v":0},{"$f":"SUM($G16:I16)-SUM($F30:I30)","v":0},{"$f":"SUM($G16:J16)-SUM($F30:J30)","v":0},{"$f":"SUM($G16:K16)-SUM($F30:K30)","v":0},{"$f":"SUM($G16:L16)-SUM($F30:L30)","v":0},{"$f":"SUM($G16:M16)-SUM($F30:M30)","v":0},{"$f":"SUM($G16:N16)-SUM($F30:N30)","v":0},{"$f":"SUM($G16:O16)-SUM($F30:O30)","v":0},{"$f":"SUM($G16:P16)-SUM($F30:P30)","v":0},{"$f":"SUM($G16:Q16)-SUM($F30:Q30)","v":0},{"$f":"SUM($G16:R16)-SUM($F30:R30)","v":0},{"$f":"SUM($G16:S16)-SUM($F30:S30)","v":0},{"$f":"SUM($G16:T16)-SUM($F30:T30)","v":0},{"$f":"SUM($G16:U16)-SUM($F30:U30)","v":0},{"$f":"SUM($G16:V16)-SUM($F30:V30)","v":0},{"$f":"SUM($G16:W16)-SUM($F30:W30)","v":0},{"$f":"SUM($G16:X16)-SUM($F30:X30)","v":0},{"$f":"SUM($G16:Y16)-SUM($F30:Y30)","v":0},{"$f":"SUM($G16:Z16)-SUM($F30:Z30)","v":0},{"$f":"SUM($G16:AA16)-SUM($F30:AA30)","v":0},{"$f":"SUM($G16:AB16)-SUM($F30:AB30)","v":0},{"$f":"SUM($G16:AC16)-SUM($F30:AC30)","v":0},{"$f":"SUM($G16:AD16)-SUM($F30:AD30)","v":0},{"$f":"SUM($G16:AE16)-SUM($F30:AE30)","v":0},{"$f":"SUM($G16:AF16)-SUM($F30:AF30)","v":0},{"$f":"SUM($G16:AG16)-SUM($F30:AG30)","v":0},{"$f":"SUM($G16:AH16)-SUM($F30:AH30)","v":0},{"$f":"SUM($G16:AI16)-SUM($F30:AI30)","v":0},{"$f":"SUM($G16:AJ16)-SUM($F30:AJ30)","v":0},{"$f":"SUM($G16:AK16)-SUM($F30:AK30)","v":0},{"$f":"SUM($G16:AL16)-SUM($F30:AL30)","v":0},{"$f":"SUM($G16:AM16)-SUM($F30:AM30)","v":0},{"$f":"SUM($G16:AN16)-SUM($F30:AN30)","v":0},{"$f":"SUM($G16:AO16)-SUM($F30:AO30)","v":0},{"$f":"SUM($G16:AP16)-SUM($F30:AP30)","v":0},{"$f":"SUM($G16:AQ16)-SUM($F30:AQ30)","v":0},{"$f":"SUM($G16:AR16)-SUM($F30:AR30)","v":0},{"$f":"SUM($G16:AS16)-SUM($F30:AS30)","v":0}]
[null,0,null,0,0,null,{"$f":"SUM($G17:G17)-SUM($F31:G31)","v":0},{"$f":"SUM($G17:H17)-SUM($F31:H31)","v":0},{"$f":"SUM($G17:I17)-SUM($F31:I31)","v":0},{"$f":"SUM($G17:J17)-SUM($F31:J31)","v":0},{"$f":"SUM($G17:K17)-SUM($F31:K31)","v":0},{"$f":"SUM($G17:L17)-SUM($F31:L31)","v":0},{"$f":"SUM($G17:M17)-SUM($F31:M31)","v":0},{"$f":"SUM($G17:N17)-SUM($F31:N31)","v":0},{"$f":"SUM($G17:O17)-SUM($F31:O31)","v":0},{"$f":"SUM($G17:P17)-SUM($F31:P31)","v":0},{"$f":"SUM($G17:Q17)-SUM($F31:Q31)","v":0},{"$f":"SUM($G17:R17)-SUM($F31:R31)","v":0},{"$f":"SUM($G17:S17)-SUM($F31:S31)","v":0},{"$f":"SUM($G17:T17)-SUM($F31:T31)","v":0},{"$f":"SUM($G17:U17)-SUM($F31:U31)","v":0},{"$f":"SUM($G17:V17)-SUM($F31:V31)","v":0},{"$f":"SUM($G17:W17)-SUM($F31:W31)","v":0},{"$f":"SUM($G17:X17)-SUM($F31:X31)","v":0},{"$f":"SUM($G17:Y17)-SUM($F31:Y31)","v":0},{"$f":"SUM($G17:Z17)-SUM($F31:Z31)","v":0},{"$f":"SUM($G17:AA17)-SUM($F31:AA31)","v":0},{"$f":"SUM($G17:AB17)-SUM($F31:AB31)","v":0},{"$f":"SUM($G17:AC17)-SUM($F31:AC31)","v":0},{"$f":"SUM($G17:AD17)-SUM($F31:AD31)","v":0},{"$f":"SUM($G17:AE17)-SUM($F31:AE31)","v":0},{"$f":"SUM($G17:AF17)-SUM($F31:AF31)","v":0},{"$f":"SUM($G17:AG17)-SUM($F31:AG31)","v":0},{"$f":"SUM($G17:AH17)-SUM($F31:AH31)","v":0},{"$f":"SUM($G17:AI17)-SUM($F31:AI31)","v":0},{"$f":"SUM($G17:AJ17)-SUM($F31:AJ31)","v":0},{"$f":"SUM($G17:AK17)-SUM($F31:AK31)","v":0},{"$f":"SUM($G17:AL17)-SUM($F31:AL31)","v":0},{"$f":"SUM($G17:AM17)-SUM($F31:AM31)","v":0},{"$f":"SUM($G17:AN17)-SUM($F31:AN31)","v":0},{"$f":"SUM($G17:AO17)-SUM($F31:AO31)","v":0},{"$f":"SUM($G17:AP17)-SUM($F31:AP31)","v":0},{"$f":"SUM($G17:AQ17)-SUM($F31:AQ31)","v":0},{"$f":"SUM($G17:AR17)-SUM($F31:AR31)","v":0},{"$f":"SUM($G17:AS17)-SUM($F31:AS31)","v":0}]
[null,0,null,0,0,null,{"$f":"SUM($G18:G18)-SUM($F32:G32)","v":0},{"$f":"SUM($G18:H18)-SUM($F32:H32)","v":0},{"$f":"SUM($G18:I18)-SUM($F32:I32)","v":0},{"$f":"SUM($G18:J18)-SUM($F32:J32)","v":0},{"$f":"SUM($G18:K18)-SUM($F32:K32)","v":0},{"$f":"SUM($G18:L18)-SUM($F32:L32)","v":0},{"$f":"SUM($G18:M18)-SUM($F32:M32)","v":0},{"$f":"SUM($G18:N18)-SUM($F32:N32)","v":0},{"$f":"SUM($G18:O18)-SUM($F32:O32)","v":0},{"$f":"SUM($G18:P18)-SUM($F32:P32)","v":0},{"$f":"SUM($G18:Q18)-SUM($F32:Q32)","v":0},{"$f":"SUM($G18:R18)-SUM($F32:R32)","v":0},{"$f":"SUM($G18:S18)-SUM($F32:S32)","v":0},{"$f":"SUM($G18:T18)-SUM($F32:T32)","v":0},{"$f":"SUM($G18:U18)-SUM($F32:U32)","v":0},{"$f":"SUM($G18:V18)-SUM($F32:V32)","v":0},{"$f":"SUM($G18:W18)-SUM($F32:W32)","v":0},{"$f":"SUM($G18:X18)-SUM($F32:X32)","v":0},{"$f":"SUM($G18:Y18)-SUM($F32:Y32)","v":0},{"$f":"SUM($G18:Z18)-SUM($F32:Z32)","v":0},{"$f":"SUM($G18:AA18)-SUM($F32:AA32)","v":0},{"$f":"SUM($G18:AB18)-SUM($F32:AB32)","v":0},{"$f":"SUM($G18:AC18)-SUM($F32:AC32)","v":0},{"$f":"SUM($G18:AD18)-SUM($F32:AD32)","v":0},{"$f":"SUM($G18:AE18)-SUM($F32:AE32)","v":0},{"$f":"SUM($G18:AF18)-SUM($F32:AF32)","v":0},{"$f":"SUM($G18:AG18)-SUM($F32:AG32)","v":0},{"$f":"SUM($G18:AH18)-SUM($F32:AH32)","v":0},{"$f":"SUM($G18:AI18)-SUM($F32:AI32)","v":0},{"$f":"SUM($G18:AJ18)-SUM($F32:AJ32)","v":0},{"$f":"SUM($G18:AK18)-SUM($F32:AK32)","v":0},{"$f":"SUM($G18:AL18)-SUM($F32:AL32)","v":0},{"$f":"SUM($G18:AM18)-SUM($F32:AM32)","v":0},{"$f":"SUM($G18:AN18)-SUM($F32:AN32)","v":0},{"$f":"SUM($G18:AO18)-SUM($F32:AO32)","v":0},{"$f":"SUM($G18:AP18)-SUM($F32:AP32)","v":0},{"$f":"SUM($G18:AQ18)-SUM($F32:AQ32)","v":0},{"$f":"SUM($G18:AR18)-SUM($F32:AR32)","v":0},{"$f":"SUM($G18:AS18)-SUM($F32:AS32)","v":0}]
[null,0,null,0,0,null,{"$f":"SUM($G19:G19)-SUM($F33:G33)","v":0},{"$f":"SUM($G19:H19)-SUM($F33:H33)","v":0},{"$f":"SUM($G19:I19)-SUM($F33:I33)","v":0},{"$f":"SUM($G19:J19)-SUM($F33:J33)","v":0},{"$f":"SUM($G19:K19)-SUM($F33:K33)","v":0},{"$f":"SUM($G19:L19)-SUM($F33:L33)","v":0},{"$f":"SUM($G19:M19)-SUM($F33:M33)","v":0},{"$f":"SUM($G19:N19)-SUM($F33:N33)","v":0},{"$f":"SUM($G19:O19)-SUM($F33:O33)","v":0},{"$f":"SUM($G19:P19)-SUM($F33:P33)","v":0},{"$f":"SUM($G19:Q19)-SUM($F33:Q33)","v":0},{"$f":"SUM($G19:R19)-SUM($F33:R33)","v":0},{"$f":"SUM($G19:S19)-SUM($F33:S33)","v":0},{"$f":"SUM($G19:T19)-SUM($F33:T33)","v":0},{"$f":"SUM($G19:U19)-SUM($F33:U33)","v":0},{"$f":"SUM($G19:V19)-SUM($F33:V33)","v":0},{"$f":"SUM($G19:W19)-SUM($F33:W33)","v":0},{"$f":"SUM($G19:X19)-SUM($F33:X33)","v":0},{"$f":"SUM($G19:Y19)-SUM($F33:Y33)","v":0},{"$f":"SUM($G19:Z19)-SUM($F33:Z33)","v":0},{"$f":"SUM($G19:AA19)-SUM($F33:AA33)","v":0},{"$f":"SUM($G19:AB19)-SUM($F33:AB33)","v":0},{"$f":"SUM($G19:AC19)-SUM($F33:AC33)","v":0},{"$f":"SUM($G19:AD19)-SUM($F33:AD33)","v":0},{"$f":"SUM($G19:AE19)-SUM($F33:AE33)","v":0},{"$f":"SUM($G19:AF19)-SUM($F33:AF33)","v":0},{"$f":"SUM($G19:AG19)-SUM($F33:AG33)","v":0},{"$f":"SUM($G19:AH19)-SUM($F33:AH33)","v":0},{"$f":"SUM($G19:AI19)-SUM($F33:AI33)","v":0},{"$f":"SUM($G19:AJ19)-SUM($F33:AJ33)","v":0},{"$f":"SUM($G19:AK19)-SUM($F33:AK33)","v":0},{"$f":"SUM($G19:AL19)-SUM($F33:AL33)","v":0},{"$f":"SUM($G19:AM19)-SUM($F33:AM33)","v":0},{"$f":"SUM($G19:AN19)-SUM($F33:AN33)","v":0},{"$f":"SUM($G19:AO19)-SUM($F33:AO33)","v":0},{"$f":"SUM($G19:AP19)-SUM($F33:AP33)","v":0},{"$f":"SUM($G19:AQ19)-SUM($F33:AQ33)","v":0},{"$f":"SUM($G19:AR19)-SUM($F33:AR33)","v":0},{"$f":"SUM($G19:AS19)-SUM($F33:AS33)","v":0}]
[null,0,null,0,0,null,{"$f":"SUM($G20:G20)-SUM($F34:G34)","v":0},{"$f":"SUM($G20:H20)-SUM($F34:H34)","v":0},{"$f":"SUM($G20:I20)-SUM($F34:I34)","v":0},{"$f":"SUM($G20:J20)-SUM($F34:J34)","v":0},{"$f":"SUM($G20:K20)-SUM($F34:K34)","v":0},{"$f":"SUM($G20:L20)-SUM($F34:L34)","v":0},{"$f":"SUM($G20:M20)-SUM($F34:M34)","v":0},{"$f":"SUM($G20:N20)-SUM($F34:N34)","v":0},{"$f":"SUM($G20:O20)-SUM($F34:O34)","v":0},{"$f":"SUM($G20:P20)-SUM($F34:P34)","v":0},{"$f":"SUM($G20:Q20)-SUM($F34:Q34)","v":0},{"$f":"SUM($G20:R20)-SUM($F34:R34)","v":0},{"$f":"SUM($G20:S20)-SUM($F34:S34)","v":0},{"$f":"SUM($G20:T20)-SUM($F34:T34)","v":0},{"$f":"SUM($G20:U20)-SUM($F34:U34)","v":0},{"$f":"SUM($G20:V20)-SUM($F34:V34)","v":0},{"$f":"SUM($G20:W20)-SUM($F34:W34)","v":0},{"$f":"SUM($G20:X20)-SUM($F34:X34)","v":0},{"$f":"SUM($G20:Y20)-SUM($F34:Y34)","v":0},{"$f":"SUM($G20:Z20)-SUM($F34:Z34)","v":0},{"$f":"SUM($G20:AA20)-SUM($F34:AA34)","v":0},{"$f":"SUM($G20:AB20)-SUM($F34:AB34)","v":0},{"$f":"SUM($G20:AC20)-SUM($F34:AC34)","v":0},{"$f":"SUM($G20:AD20)-SUM($F34:AD34)","v":0},{"$f":"SUM($G20:AE20)-SUM($F34:AE34)","v":0},{"$f":"SUM($G20:AF20)-SUM($F34:AF34)","v":0},{"$f":"SUM($G20:AG20)-SUM($F34:AG34)","v":0},{"$f":"SUM($G20:AH20)-SUM($F34:AH34)","v":0},{"$f":"SUM($G20:AI20)-SUM($F34:AI34)","v":0},{"$f":"SUM($G20:AJ20)-SUM($F34:AJ34)","v":0},{"$f":"SUM($G20:AK20)-SUM($F34:AK34)","v":0},{"$f":"SUM($G20:AL20)-SUM($F34:AL34)","v":0},{"$f":"SUM($G20:AM20)-SUM($F34:AM34)","v":0},{"$f":"SUM($G20:AN20)-SUM($F34:AN34)","v":0},{"$f":"SUM($G20:AO20)-SUM($F34:AO34)","v":0},{"$f":"SUM($G20:AP20)-SUM($F34:AP34)","v":0},{"$f":"SUM($G20:AQ20)-SUM($F34:AQ34)","v":0},{"$f":"SUM($G20:AR20)-SUM($F34:AR34)","v":0},{"$f":"SUM($G20:AS20)-SUM($F34:AS34)","v":0}]
[null,0,null,0,0,null,{"$f":"SUM($G21:G21)-SUM($F35:G35)","v":0},{"$f":"SUM($G21:H21)-SUM($F35:H35)","v":0},{"$f":"SUM($G21:I21)-SUM($F35:I35)","v":0},{"$f":"SUM($G21:J21)-SUM($F35:J35)","v":0},{"$f":"SUM($G21:K21)-SUM($F35:K35)","v":0},{"$f":"SUM($G21:L21)-SUM($F35:L35)","v":0},{"$f":"SUM($G21:M21)-SUM($F35:M35)","v":0},{"$f":"SUM($G21:N21)-SUM($F35:N35)","v":0},{"$f":"SUM($G21:O21)-SUM($F35:O35)","v":0},{"$f":"SUM($G21:P21)-SUM($F35:P35)","v":0},{"$f":"SUM($G21:Q21)-SUM($F35:Q35)","v":0},{"$f":"SUM($G21:R21)-SUM($F35:R35)","v":0},{"$f":"SUM($G21:S21)-SUM($F35:S35)","v":0},{"$f":"SUM($G21:T21)-SUM($F35:T35)","v":0},{"$f":"SUM($G21:U21)-SUM($F35:U35)","v":0},{"$f":"SUM($G21:V21)-SUM($F35:V35)","v":0},{"$f":"SUM($G21:W21)-SUM($F35:W35)","v":0},{"$f":"SUM($G21:X21)-SUM($F35:X35)","v":0},{"$f":"SUM($G21:Y21)-SUM($F35:Y35)","v":0},{"$f":"SUM($G21:Z21)-SUM($F35:Z35)","v":0},{"$f":"SUM($G21:AA21)-SUM($F35:AA35)","v":0},{"$f":"SUM($G21:AB21)-SUM($F35:AB35)","v":0},{"$f":"SUM($G21:AC21)-SUM($F35:AC35)","v":0},{"$f":"SUM($G21:AD21)-SUM($F35:AD35)","v":0},{"$f":"SUM($G21:AE21)-SUM($F35:AE35)","v":0},{"$f":"SUM($G21:AF21)-SUM($F35:AF35)","v":0},{"$f":"SUM($G21:AG21)-SUM($F35:AG35)","v":0},{"$f":"SUM($G21:AH21)-SUM($F35:AH35)","v":0},{"$f":"SUM($G21:AI21)-SUM($F35:AI35)","v":0},{"$f":"SUM($G21:AJ21)-SUM($F35:AJ35)","v":0},{"$f":"SUM($G21:AK21)-SUM($F35:AK35)","v":0},{"$f":"SUM($G21:AL21)-SUM($F35:AL35)","v":0},{"$f":"SUM($G21:AM21)-SUM($F35:AM35)","v":0},{"$f":"SUM($G21:AN21)-SUM($F35:AN35)","v":0},{"$f":"SUM($G21:AO21)-SUM($F35:AO35)","v":0},{"$f":"SUM($G21:AP21)-SUM($F35:AP35)","v":0},{"$f":"SUM($G21:AQ21)-SUM($F35:AQ35)","v":0},{"$f":"SUM($G21:AR21)-SUM($F35:AR35)","v":0},{"$f":"SUM($G21:AS21)-SUM($F35:AS35)","v":0}]
[]
[{"$nulls":6},{"$f":"+G4","v":2022},2023,2024,2025,2026,2027,2028,2029,2030,2031,2032,2033,2034,2035,2036,2037,2038,2039,2040,2041,2042,2043,2044,2045,2046,2047,2048,2049,2050,2051,2052,{"$f":"+AL4","v":2053},2054,2055,2056,2057,2058,2059,2060]
["xxxxxx","Valor Residual - Inicio do Periodo (BoP)"]
[null,"Ativo",null,"Ciclo de Vida (Anos)","Ciclo de Vida (Meses)",null,{"$f":"+G68","v":0},{"$f":"+H68","v":{"v":132200004.41859424,"d":"132,200,004"}},{"v":165983204.0252322,"d":"165,983,204"},{"v":161449843.1943798,"d":"161,449,843"},{"v":150251010.14043438,"d":"150,251,010"},{"v":139052177.08648896,"d":"139,052,177"},{"v":127853344.03254354,"d":"127,853,344"},{"v":116654510.97859812,"d":"116,654,511"},{"v":105455677.9246527,"d":"105,455,678"},{"v":94256844.87070729,"d":"94,256,845"},{"v":83058011.81676187,"d":"83,058,012"},{"v":71859178.76281644,"d":"71,859,179"},{"v":60660345.70887102,"d":"60,660,346"},{"v":49461512.6549256,"d":"49,461,513"},{"v":38262679.60098018,"d":"38,262,680"},{"v":27063846.54703477,"d":"27,063,847"},{"v":15865013.493089348,"d":"15,865,013"},{"v":4666180.439143926,"d":"4,666,180"},0,0,0,0,0,0,0,0,0,0,0,0,0,0,0,0,0,0,0,0,0]
[null,{"$f":"+B40","v":"GASIG"},null,15,180,null,{"$f":"SUM($F12:F12)-SUM($F26:F26)","v":0},{"$f":"SUM($F12:G12)-SUM($F26:G26)","v":{"v":132200004.41859424,"d":"132,200,004"}},{"$f":"SUM($F12:H12)-SUM($F26:H26)","v":{"v":165983204.0252322,"d":"165,983,204"}},{"$f":"SUM($F12:I12)-SUM($F26:I26)","v":{"v":161449843.1943798,"d":"161,449,843"}},{"$f":"SUM($F12:J12)-SUM($F26:J26)","v":{"v":150251010.14043438,"d":"150,251,010"}},{"$f":"SUM($F12:K12)-SUM($F26:K26)","v":{"v":139052177.08648896,"d":"139,052,177"}},{"$f":"SUM($F12:L12)-SUM($F26:L26)","v":{"v":127853344.03254354,"d":"127,853,344"}},{"$f":"SUM($F12:M12)-SUM($F26:M26)","v":{"v":116654510.97859812,"d":"116,654,511"}},{"$f":"SUM($F12:N12)-SUM($F26:N26)","v":{"v":105455677.9246527,"d":"105,455,678"}},{"$f":"SUM($F12:O12)-SUM($F26:O26)","v":{"v":94256844.87070729,"d":"94,256,845"}},{"$f":"SUM($F12:P12)-SUM($F26:P26)","v":{"v":83058011.81676187,"d":"83,058,012"}},{"$f":"SUM($F12:Q12)-SUM($F26:Q26)","v":{"v":71859178.76281644,"d":"71,859,179"}},{"$f":"SUM($F12:R12)-SUM($F26:R26)","v":{"v":60660345.70887102,"d":"60,660,346"}},{"$f":"SUM($F12:S12)-SUM($F26:S26)","v":{"v":49461512.6549256,"d":"49,461,513"}},{"$f":"SUM($F12:T12)-SUM($F26:T26)","v":{"v":38262679.60098018,"d":"38,262,680"}},{"$f":"SUM($F12:U12)-SUM($F26:U26)","v":{"v":27063846.54703477,"d":"27,063,847"}},{"$f":"SUM($F12:V12)-SUM($F26:V26)","v":{"v":15865013.493089348,"d":"15,865,013"}},{"$f":"SUM($F12:W12)-SUM($F26:W26)","v":{"v":4666180.439143926,"d":"4,666,180"}},{"$f":"SUM($F12:X12)-SUM($F26:X26)","v":0},{"$f":"SUM($F12:Y12)-SUM($F26:Y26)","v":0},{"$f":"SUM($F12:Z12)-SUM($F26:Z26)","v":0},{"$f":"SUM($F12:AA12)-SUM($F26:AA26)","v":0},{"$f":"SUM($F12:AB12)-SUM($F26:AB26)","v":0},{"$f":"SUM($F12:AC12)-SUM($F26:AC26)","v":0},{"$f":"SUM($F12:AD12)-SUM($F26:AD26)","v":0},{"$f":"SUM($F12:AE12)-SUM($F26:AE26)","v":0},{"$f":"SUM($F12:AF12)-SUM($F26:AF26)","v":0},{"$f":"SUM($F12:AG12)-SUM($F26:AG26)","v":0},{"$f":"SUM($F12:AH12)-SUM($F26:AH26)","v":0},{"$f":"SUM($F12:AI12)-SUM($F26:AI26)","v":0},{"$f":"SUM($F12:AJ12)-SUM($F26:AJ26)","v":0},{"$f":"SUM($F12:AK12)-SUM($F26:AK26)","v":0},{"$f":"SUM($F12:AL12)-SUM($F26:AL26)","v":0},{"$f":"SUM($F12:AM12)-SUM($F26:AM26)","v":0},{"$f":"SUM($F12:AN12)-SUM($F26:AN26)","v":0},{"$f":"SUM($F12:AO12)-SUM($F26:AO26)","v":0},{"$f":"SUM($F12:AP12)-SUM($F26:AP26)","v":0},{"$f":"SUM($F12:AQ12)-SUM($F26:AQ26)","v":0},{"$f":"SUM($F12:AR12)-SUM($F26:AR26)","v":0}]
[null,0,null,0,0,null,{"$f":"SUM($F13:F13)-SUM($F27:F27)","v":0},{"$f":"SUM($F13:G13)-SUM($F27:G27)","v":0},{"$f":"SUM($F13:H13)-SUM($F27:H27)","v":0},{"$f":"SUM($F13:I13)-SUM($F27:I27)","v":0},{"$f":"SUM($F13:J13)-SUM($F27:J27)","v":0},{"$f":"SUM($F13:K13)-SUM($F27:K27)","v":0},{"$f":"SUM($F13:L13)-SUM($F27:L27)","v":0},{"$f":"SUM($F13:M13)-SUM($F27:M27)","v":0},{"$f":"SUM($F13:N13)-SUM($F27:N27)","v":0},{"$f":"SUM($F13:O13)-SUM($F27:O27)","v":0},{"$f":"SUM($F13:P13)-SUM($F27:P27)","v":0},{"$f":"SUM($F13:Q13)-SUM($F27:Q27)","v":0},{"$f":"SUM($F13:R13)-SUM($F27:R27)","v":0},{"$f":"SUM($F13:S13)-SUM($F27:S27)","v":0},{"$f":"SUM($F13:T13)-SUM($F27:T27)","v":0},{"$f":"SUM($F13:U13)-SUM($F27:U27)","v":0},{"$f":"SUM($F13:V13)-SUM($F27:V27)","v":0},{"$f":"SUM($F13:W13)-SUM($F27:W27)","v":0},{"$f":"SUM($F13:X13)-SUM($F27:X27)","v":0},{"$f":"SUM($F13:Y13)-SUM($F27:Y27)","v":0},{"$f":"SUM($F13:Z13)-SUM($F27:Z27)","v":0},{"$f":"SUM($F13:AA13)-SUM($F27:AA27)","v":0},{"$f":"SUM($F13:AB13)-SUM($F27:AB27)","v":0},{"$f":"SUM($F13:AC13)-SUM($F27:AC27)","v":0},{"$f":"SUM($F13:AD13)-SUM($F27:AD27)","v":0},{"$f":"SUM($F13:AE13)-SUM($F27:AE27)","v":0},{"$f":"SUM($F13:AF13)-SUM($F27:AF27)","v":0},{"$f":"SUM($F13:AG13)-SUM($F27:AG27)","v":0},{"$f":"SUM($F13:AH13)-SUM($F27:AH27)","v":0},{"$f":"SUM($F13:AI13)-SUM($F27:AI27)","v":0},{"$f":"SUM($F13:AJ13)-SUM($F27:AJ27)","v":0},{"$f":"SUM($F13:AK13)-SUM($F27:AK27)","v":0},{"$f":"SUM($F13:AL13)-SUM($F27:AL27)","v":0},{"$f":"SUM($F13:AM13)-SUM($F27:AM27)","v":0},{"$f":"SUM($F13:AN13)-SUM($F27:AN27)","v":0},{"$f":"SUM($F13:AO13)-SUM($F27:AO27)","v":0},{"$f":"SUM($F13:AP13)-SUM($F27:AP27)","v":0},{"$f":"SUM($F13:AQ13)-SUM($F27:AQ27)","v":0},{"$f":"SUM($F13:AR13)-SUM($F27:AR27)","v":0}]
[null,0,null,0,0,null,{"$f":"SUM($G14:G14)-SUM($F28:F28)","v":0},{"$f":"SUM($F14:G14)-SUM($F28:G28)","v":0},{"$f":"SUM($F14:H14)-SUM($F28:H28)","v":0},{"$f":"SUM($F14:I14)-SUM($F28:I28)","v":0},{"$f":"SUM($F14:J14)-SUM($F28:J28)","v":0},{"$f":"SUM($F14:K14)-SUM($F28:K28)","v":0},{"$f":"SUM($F14:L14)-SUM($F28:L28)","v":0},{"$f":"SUM($F14:M14)-SUM($F28:M28)","v":0},{"$f":"SUM($F14:N14)-SUM($F28:N28)","v":0},{"$f":"SUM($F14:O14)-SUM($F28:O28)","v":0},{"$f":"SUM($F14:P14)-SUM($F28:P28)","v":0},{"$f":"SUM($F14:Q14)-SUM($F28:Q28)","v":0},{"$f":"SUM($F14:R14)-SUM($F28:R28)","v":0},{"$f":"SUM($F14:S14)-SUM($F28:S28)","v":0},{"$f":"SUM($F14:T14)-SUM($F28:T28)","v":0},{"$f":"SUM($F14:U14)-SUM($F28:U28)","v":0},{"$f":"SUM($F14:V14)-SUM($F28:V28)","v":0},{"$f":"SUM($F14:W14)-SUM($F28:W28)","v":0},{"$f":"SUM($F14:X14)-SUM($F28:X28)","v":0},{"$f":"SUM($F14:Y14)-SUM($F28:Y28)","v":0},{"$f":"SUM($F14:Z14)-SUM($F28:Z28)","v":0},{"$f":"SUM($F14:AA14)-SUM($F28:AA28)","v":0},{"$f":"SUM($F14:AB14)-SUM($F28:AB28)","v":0},{"$f":"SUM($F14:AC14)-SUM($F28:AC28)","v":0},{"$f":"SUM($F14:AD14)-SUM($F28:AD28)","v":0},{"$f":"SUM($F14:AE14)-SUM($F28:AE28)","v":0},{"$f":"SUM($F14:AF14)-SUM($F28:AF28)","v":0},{"$f":"SUM($F14:AG14)-SUM($F28:AG28)","v":0},{"$f":"SUM($F14:AH14)-SUM($F28:AH28)","v":0},{"$f":"SUM($F14:AI14)-SUM($F28:AI28)","v":0},{"$f":"SUM($F14:AJ14)-SUM($F28:AJ28)","v":0},{"$f":"SUM($F14:AK14)-SUM($F28:AK28)","v":0},{"$f":"SUM($F14:AL14)-SUM($F28:AL28)","v":0},{"$f":"SUM($F14:AM14)-SUM($F28:AM28)","v":0},{"$f":"SUM($F14:AN14)-SUM($F28:AN28)","v":0},{"$f":"SUM($F14:AO14)-SUM($F28:AO28)","v":0},{"$f":"SUM($F14:AP14)-SUM($F28:AP28)","v":0},{"$f":"SUM($F14:AQ14)-SUM($F28:AQ28)","v":0},{"$f":"SUM($F14:AR14)-SUM($F28:AR28)","v":0}]
[null,0,null,0,0,null,{"$f":"SUM($G15:G15)-SUM($F29:F29)","v":0},{"$f":"SUM($F15:G15)-SUM($F29:G29)","v":0},{"$f":"SUM($F15:H15)-SUM($F29:H29)","v":0},{"$f":"SUM($F15:I15)-SUM($F29:I29)","v":0},{"$f":"SUM($F15:J15)-SUM($F29:J29)","v":0},{"$f":"SUM($F15:K15)-SUM($F29:K29)","v":0},{"$f":"SUM($F15:L15)-SUM($F29:L29)","v":0},{"$f":"SUM($F15:M15)-SUM($F29:M29)","v":0},{"$f":"SUM($F15:N15)-SUM($F29:N29)","v":0},{"$f":"SUM($F15:O15)-SUM($F29:O29)","v":0},{"$f":"SUM($F15:P15)-SUM($F29:P29)","v":0},{"$f":"SUM($F15:Q15)-SUM($F29:Q29)","v":0},{"$f":"SUM($F15:R15)-SUM($F29:R29)","v":0},{"$f":"SUM($F15:S15)-SUM($F29:S29)","v":0},{"$f":"SUM($F15:T15)-SUM($F29:T29)","v":0},{"$f":"SUM($F15:U15)-SUM($F29:U29)","v":0},{"$f":"SUM($F15:V15)-SUM($F29:V29)","v":0},{"$f":"SUM($F15:W15)-SUM($F29:W29)","v":0},{"$f":"SUM($F15:X15)-SUM($F29:X29)","v":0},{"$f":"SUM($F15:Y15)-SUM($F29:Y29)","v":0},{"$f":"SUM($F15:Z15)-SUM($F29:Z29)","v":0},{"$f":"SUM($F15:AA15)-SUM($F29:AA29)","v":0},{"$f":"SUM($F15:AB15)-SUM($F29:AB29)","v":0},{"$f":"SUM($F15:AC15)-SUM($F29:AC29)","v":0},{"$f":"SUM($F15:AD15)-SUM($F29:AD29)","v":0},{"$f":"SUM($F15:AE15)-SUM($F29:AE29)","v":0},{"$f":"SUM($F15:AF15)-SUM($F29:AF29)","v":0},{"$f":"SUM($F15:AG15)-SUM($F29:AG29)","v":0},{"$f":"SUM($F15:AH15)-SUM($F29:AH29)","v":0},{"$f":"SUM($F15:AI15)-SUM($F29:AI29)","v":0},{"$f":"SUM($F15:AJ15)-SUM($F29:AJ29)","v":0},{"$f":"SUM($F15:AK15)-SUM($F29:AK29)","v":0},{"$f":"SUM($F15:AL15)-SUM($F29:AL29)","v":0},{"$f":"SUM($F15:AM15)-SUM($F29:AM29)","v":0},{"$f":"SUM($F15:AN15)-SUM($F29:AN29)","v":0},{"$f":"SUM($F15:AO15)-SUM($F29:AO29)","v":0},{"$f":"SUM($F15:AP15)-SUM($F29:AP29)","v":0},{"$f":"SUM($F15:AQ15)-SUM($F29:AQ29)","v":0},{"$f":"SUM($F15:AR15)-SUM($F29:AR29)","v":0}]
[null,0,null,0,0,null,{"$f":"SUM($G16:G16)-SUM($F30:F30)","v":0},{"$f":"SUM($F16:G16)-SUM($F30:G30)","v":0},{"$f":"SUM($F16:H16)-SUM($F30:H30)","v":0},{"$f":"SUM($F16:I16)-SUM($F30:I30)","v":0},{"$f":"SUM($F16:J16)-SUM($F30:J30)","v":0},{"$f":"SUM($F16:K16)-SUM($F30:K30)","v":0},{"$f":"SUM($F16:L16)-SUM($F30:L30)","v":0},{"$f":"SUM($F16:M16)-SUM($F30:M30)","v":0},{"$f":"SUM($F16:N16)-SUM($F30:N30)","v":0},{"$f":"SUM($F16:O16)-SUM($F30:O30)","v":0},{"$f":"SUM($F16:P16)-SUM($F30:P30)","v":0},{"$f":"SUM($F16:Q16)-SUM($F30:Q30)","v":0},{"$f":"SUM($F16:R16)-SUM($F30:R30)","v":0},{"$f":"SUM($F16:S16)-SUM($F30:S30)","v":0},{"$f":"SUM($F16:T16)-SUM($F30:T30)","v":0},{"$f":"SUM($F16:U16)-SUM($F30:U30)","v":0},{"$f":"SUM($F16:V16)-SUM($F30:V30)","v":0},{"$f":"SUM($F16:W16)-SUM($F30:W30)","v":0},{"$f":"SUM($F16:X16)-SUM($F30:X30)","v":0},{"$f":"SUM($F16:Y16)-SUM($F30:Y30)","v":0},{"$f":"SUM($F16:Z16)-SUM($F30:Z30)","v":0},{"$f":"SUM($F16:AA16)-SUM($F30:AA30)","v":0},{"$f":"SUM($F16:AB16)-SUM($F30:AB30)","v":0},{"$f":"SUM($F16:AC16)-SUM($F30:AC30)","v":0},{"$f":"SUM($F16:AD16)-SUM($F30:AD30)","v":0},{"$f":"SUM($F16:AE16)-SUM($F30:AE30)","v":0},{"$f":"SUM($F16:AF16)-SUM($F30:AF30)","v":0},{"$f":"SUM($F16:AG16)-SUM($F30:AG30)","v":0},{"$f":"SUM($F16:AH16)-SUM($F30:AH30)","v":0},{"$f":"SUM($F16:AI16)-SUM($F30:AI30)","v":0},{"$f":"SUM($F16:AJ16)-SUM($F30:AJ30)","v":0},{"$f":"SUM($F16:AK16)-SUM($F30:AK30)","v":0},{"$f":"SUM($F16:AL16)-SUM($F30:AL30)","v":0},{"$f":"SUM($F16:AM16)-SUM($F30:AM30)","v":0},{"$f":"SUM($F16:AN16)-SUM($F30:AN30)","v":0},{"$f":"SUM($F16:AO16)-SUM($F30:AO30)","v":0},{"$f":"SUM($F16:AP16)-SUM($F30:AP30)","v":0},{"$f":"SUM($F16:AQ16)-SUM($F30:AQ30)","v":0},{"$f":"SUM($F16:AR16)-SUM($F30:AR30)","v":0}]
[null,0,null,0,0,null,{"$f":"SUM($G17:G17)-SUM($F31:F31)","v":0},{"$f":"SUM($F17:G17)-SUM($F31:G31)","v":0},{"$f":"SUM($F17:H17)-SUM($F31:H31)","v":0},{"$f":"SUM($F17:I17)-SUM($F31:I31)","v":0},{"$f":"SUM($F17:J17)-SUM($F31:J31)","v":0},{"$f":"SUM($F17:K17)-SUM($F31:K31)","v":0},{"$f":"SUM($F17:L17)-SUM($F31:L31)","v":0},{"$f":"SUM($F17:M17)-SUM($F31:M31)","v":0},{"$f":"SUM($F17:N17)-SUM($F31:N31)","v":0},{"$f":"SUM($F17:O17)-SUM($F31:O31)","v":0},{"$f":"SUM($F17:P17)-SUM($F31:P31)","v":0},{"$f":"SUM($F17:Q17)-SUM($F31:Q31)","v":0},{"$f":"SUM($F17:R17)-SUM($F31:R31)","v":0},{"$f":"SUM($F17:S17)-SUM($F31:S31)","v":0},{"$f":"SUM($F17:T17)-SUM($F31:T31)","v":0},{"$f":"SUM($F17:U17)-SUM($F31:U31)","v":0},{"$f":"SUM($F17:V17)-SUM($F31:V31)","v":0},{"$f":"SUM($F17:W17)-SUM($F31:W31)","v":0},{"$f":"SUM($F17:X17)-SUM($F31:X31)","v":0},{"$f":"SUM($F17:Y17)-SUM($F31:Y31)","v":0},{"$f":"SUM($F17:Z17)-SUM($F31:Z31)","v":0},{"$f":"SUM($F17:AA17)-SUM($F31:AA31)","v":0},{"$f":"SUM($F17:AB17)-SUM($F31:AB31)","v":0},{"$f":"SUM($F17:AC17)-SUM($F31:AC31)","v":0},{"$f":"SUM($F17:AD17)-SUM($F31:AD31)","v":0},{"$f":"SUM($F17:AE17)-SUM($F31:AE31)","v":0},{"$f":"SUM($F17:AF17)-SUM($F31:AF31)","v":0},{"$f":"SUM($F17:AG17)-SUM($F31:AG31)","v":0},{"$f":"SUM($F17:AH17)-SUM($F31:AH31)","v":0},{"$f":"SUM($F17:AI17)-SUM($F31:AI31)","v":0},{"$f":"SUM($F17:AJ17)-SUM($F31:AJ31)","v":0},{"$f":"SUM($F17:AK17)-SUM($F31:AK31)","v":0},{"$f":"SUM($F17:AL17)-SUM($F31:AL31)","v":0},{"$f":"SUM($F17:AM17)-SUM($F31:AM31)","v":0},{"$f":"SUM($F17:AN17)-SUM($F31:AN31)","v":0},{"$f":"SUM($F17:AO17)-SUM($F31:AO31)","v":0},{"$f":"SUM($F17:AP17)-SUM($F31:AP31)","v":0},{"$f":"SUM($F17:AQ17)-SUM($F31:AQ31)","v":0},{"$f":"SUM($F17:AR17)-SUM($F31:AR31)","v":0}]
[null,0,null,0,0,null,{"$f":"SUM($G18:G18)-SUM($F32:F32)","v":0},{"$f":"SUM($F18:G18)-SUM($F32:G32)","v":0},{"$f":"SUM($F18:H18)-SUM($F32:H32)","v":0},{"$f":"SUM($F18:I18)-SUM($F32:I32)","v":0},{"$f":"SUM($F18:J18)-SUM($F32:J32)","v":0},{"$f":"SUM($F18:K18)-SUM($F32:K32)","v":0},{"$f":"SUM($F18:L18)-SUM($F32:L32)","v":0},{"$f":"SUM($F18:M18)-SUM($F32:M32)","v":0},{"$f":"SUM($F18:N18)-SUM($F32:N32)","v":0},{"$f":"SUM($F18:O18)-SUM($F32:O32)","v":0},{"$f":"SUM($F18:P18)-SUM($F32:P32)","v":0},{"$f":"SUM($F18:Q18)-SUM($F32:Q32)","v":0},{"$f":"SUM($F18:R18)-SUM($F32:R32)","v":0},{"$f":"SUM($F18:S18)-SUM($F32:S32)","v":0},{"$f":"SUM($F18:T18)-SUM($F32:T32)","v":0},{"$f":"SUM($F18:U18)-SUM($F32:U32)","v":0},{"$f":"SUM($F18:V18)-SUM($F32:V32)","v":0},{"$f":"SUM($F18:W18)-SUM($F32:W32)","v":0},{"$f":"SUM($F18:X18)-SUM($F32:X32)","v":0},{"$f":"SUM($F18:Y18)-SUM($F32:Y32)","v":0},{"$f":"SUM($F18:Z18)-SUM($F32:Z32)","v":0},{"$f":"SUM($F18:AA18)-SUM($F32:AA32)","v":0},{"$f":"SUM($F18:AB18)-SUM($F32:AB32)","v":0},{"$f":"SUM($F18:AC18)-SUM($F32:AC32)","v":0},{"$f":"SUM($F18:AD18)-SUM($F32:AD32)","v":0},{"$f":"SUM($F18:AE18)-SUM($F32:AE32)","v":0},{"$f":"SUM($F18:AF18)-SUM($F32:AF32)","v":0},{"$f":"SUM($F18:AG18)-SUM($F32:AG32)","v":0},{"$f":"SUM($F18:AH18)-SUM($F32:AH32)","v":0},{"$f":"SUM($F18:AI18)-SUM($F32:AI32)","v":0},{"$f":"SUM($F18:AJ18)-SUM($F32:AJ32)","v":0},{"$f":"SUM($F18:AK18)-SUM($F32:AK32)","v":0},{"$f":"SUM($F18:AL18)-SUM($F32:AL32)","v":0},{"$f":"SUM($F18:AM18)-SUM($F32:AM32)","v":0},{"$f":"SUM($F18:AN18)-SUM($F32:AN32)","v":0},{"$f":"SUM($F18:AO18)-SUM($F32:AO32)","v":0},{"$f":"SUM($F18:AP18)-SUM($F32:AP32)","v":0},{"$f":"SUM($F18:AQ18)-SUM($F32:AQ32)","v":0},{"$f":"SUM($F18:AR18)-SUM($F32:AR32)","v":0}]
[null,0,null,0,0,null,{"$f":"SUM($G19:G19)-SUM($F33:F33)","v":0},{"$f":"SUM($F19:G19)-SUM($F33:G33)","v":0},{"$f":"SUM($F19:H19)-SUM($F33:H33)","v":0},{"$f":"SUM($F19:I19)-SUM($F33:I33)","v":0},{"$f":"SUM($F19:J19)-SUM($F33:J33)","v":0},{"$f":"SUM($F19:K19)-SUM($F33:K33)","v":0},{"$f":"SUM($F19:L19)-SUM($F33:L33)","v":0},{"$f":"SUM($F19:M19)-SUM($F33:M33)","v":0},{"$f":"SUM($F19:N19)-SUM($F33:N33)","v":0},{"$f":"SUM($F19:O19)-SUM($F33:O33)","v":0},{"$f":"SUM($F19:P19)-SUM($F33:P33)","v":0},{"$f":"SUM($F19:Q19)-SUM($F33:Q33)","v":0},{"$f":"SUM($F19:R19)-SUM($F33:R33)","v":0},{"$f":"SUM($F19:S19)-SUM($F33:S33)","v":0},{"$f":"SUM($F19:T19)-SUM($F33:T33)","v":0},{"$f":"SUM($F19:U19)-SUM($F33:U33)","v":0},{"$f":"SUM($F19:V19)-SUM($F33:V33)","v":0},{"$f":"SUM($F19:W19)-SUM($F33:W33)","v":0},{"$f":"SUM($F19:X19)-SUM($F33:X33)","v":0},{"$f":"SUM($F19:Y19)-SUM($F33:Y33)","v":0},{"$f":"SUM($F19:Z19)-SUM($F33:Z33)","v":0},{"$f":"SUM($F19:AA19)-SUM($F33:AA33)","v":0},{"$f":"SUM($F19:AB19)-SUM($F33:AB33)","v":0},{"$f":"SUM($F19:AC19)-SUM($F33:AC33)","v":0},{"$f":"SUM($F19:AD19)-SUM($F33:AD33)","v":0},{"$f":"SUM($F19:AE19)-SUM($F33:AE33)","v":0},{"$f":"SUM($F19:AF19)-SUM($F33:AF33)","v":0},{"$f":"SUM($F19:AG19)-SUM($F33:AG33)","v":0},{"$f":"SUM($F19:AH19)-SUM($F33:AH33)","v":0},{"$f":"SUM($F19:AI19)-SUM($F33:AI33)","v":0},{"$f":"SUM($F19:AJ19)-SUM($F33:AJ33)","v":0},{"$f":"SUM($F19:AK19)-SUM($F33:AK33)","v":0},{"$f":"SUM($F19:AL19)-SUM($F33:AL33)","v":0},{"$f":"SUM($F19:AM19)-SUM($F33:AM33)","v":0},{"$f":"SUM($F19:AN19)-SUM($F33:AN33)","v":0},{"$f":"SUM($F19:AO19)-SUM($F33:AO33)","v":0},{"$f":"SUM($F19:AP19)-SUM($F33:AP33)","v":0},{"$f":"SUM($F19:AQ19)-SUM($F33:AQ33)","v":0},{"$f":"SUM($F19:AR19)-SUM($F33:AR33)","v":0}]
[null,0,null,0,0,null,{"$f":"SUM($G20:G20)-SUM($F34:F34)","v":0},{"$f":"SUM($F20:G20)-SUM($F34:G34)","v":0},{"$f":"SUM($F20:H20)-SUM($F34:H34)","v":0},{"$f":"SUM($F20:I20)-SUM($F34:I34)","v":0},{"$f":"SUM($F20:J20)-SUM($F34:J34)","v":0},{"$f":"SUM($F20:K20)-SUM($F34:K34)","v":0},{"$f":"SUM($F20:L20)-SUM($F34:L34)","v":0},{"$f":"SUM($F20:M20)-SUM($F34:M34)","v":0},{"$f":"SUM($F20:N20)-SUM($F34:N34)","v":0},{"$f":"SUM($F20:O20)-SUM($F34:O34)","v":0},{"$f":"SUM($F20:P20)-SUM($F34:P34)","v":0},{"$f":"SUM($F20:Q20)-SUM($F34:Q34)","v":0},{"$f":"SUM($F20:R20)-SUM($F34:R34)","v":0},{"$f":"SUM($F20:S20)-SUM($F34:S34)","v":0},{"$f":"SUM($F20:T20)-SUM($F34:T34)","v":0},{"$f":"SUM($F20:U20)-SUM($F34:U34)","v":0},{"$f":"SUM($F20:V20)-SUM($F34:V34)","v":0},{"$f":"SUM($F20:W20)-SUM($F34:W34)","v":0},{"$f":"SUM($F20:X20)-SUM($F34:X34)","v":0},{"$f":"SUM($F20:Y20)-SUM($F34:Y34)","v":0},{"$f":"SUM($F20:Z20)-SUM($F34:Z34)","v":0},{"$f":"SUM($F20:AA20)-SUM($F34:AA34)","v":0},{"$f":"SUM($F20:AB20)-SUM($F34:AB34)","v":0},{"$f":"SUM($F20:AC20)-SUM($F34:AC34)","v":0},{"$f":"SUM($F20:AD20)-SUM($F34:AD34)","v":0},{"$f":"SUM($F20:AE20)-SUM($F34:AE34)","v":0},{"$f":"SUM($F20:AF20)-SUM($F34:AF34)","v":0},{"$f":"SUM($F20:AG20)-SUM($F34:AG34)","v":0},{"$f":"SUM($F20:AH20)-SUM($F34:AH34)","v":0},{"$f":"SUM($F20:AI20)-SUM($F34:AI34)","v":0},{"$f":"SUM($F20:AJ20)-SUM($F34:AJ34)","v":0},{"$f":"SUM($F20:AK20)-SUM($F34:AK34)","v":0},{"$f":"SUM($F20:AL20)-SUM($F34:AL34)","v":0},{"$f":"SUM($F20:AM20)-SUM($F34:AM34)","v":0},{"$f":"SUM($F20:AN20)-SUM($F34:AN34)","v":0},{"$f":"SUM($F20:AO20)-SUM($F34:AO34)","v":0},{"$f":"SUM($F20:AP20)-SUM($F34:AP34)","v":0},{"$f":"SUM($F20:AQ20)-SUM($F34:AQ34)","v":0},{"$f":"SUM($F20:AR20)-SUM($F34:AR34)","v":0}]
[null,0,null,0,0,null,{"$f":"SUM($G21:G21)-SUM($F35:F35)","v":0},{"$f":"SUM($F21:G21)-SUM($F35:G35)","v":0},{"$f":"SUM($F21:H21)-SUM($F35:H35)","v":0},{"$f":"SUM($F21:I21)-SUM($F35:I35)","v":0},{"$f":"SUM($F21:J21)-SUM($F35:J35)","v":0},{"$f":"SUM($F21:K21)-SUM($F35:K35)","v":0},{"$f":"SUM($F21:L21)-SUM($F35:L35)","v":0},{"$f":"SUM($F21:M21)-SUM($F35:M35)","v":0},{"$f":"SUM($F21:N21)-SUM($F35:N35)","v":0},{"$f":"SUM($F21:O21)-SUM($F35:O35)","v":0},{"$f":"SUM($F21:P21)-SUM($F35:P35)","v":0},{"$f":"SUM($F21:Q21)-SUM($F35:Q35)","v":0},{"$f":"SUM($F21:R21)-SUM($F35:R35)","v":0},{"$f":"SUM($F21:S21)-SUM($F35:S35)","v":0},{"$f":"SUM($F21:T21)-SUM($F35:T35)","v":0},{"$f":"SUM($F21:U21)-SUM($F35:U35)","v":0},{"$f":"SUM($F21:V21)-SUM($F35:V35)","v":0},{"$f":"SUM($F21:W21)-SUM($F35:W35)","v":0},{"$f":"SUM($F21:X21)-SUM($F35:X35)","v":0},{"$f":"SUM($F21:Y21)-SUM($F35:Y35)","v":0},{"$f":"SUM($F21:Z21)-SUM($F35:Z35)","v":0},{"$f":"SUM($F21:AA21)-SUM($F35:AA35)","v":0},{"$f":"SUM($F21:AB21)-SUM($F35:AB35)","v":0},{"$f":"SUM($F21:AC21)-SUM($F35:AC35)","v":0},{"$f":"SUM($F21:AD21)-SUM($F35:AD35)","v":0},{"$f":"SUM($F21:AE21)-SUM($F35:AE35)","v":0},{"$f":"SUM($F21:AF21)-SUM($F35:AF35)","v":0},{"$f":"SUM($F21:AG21)-SUM($F35:AG35)","v":0},{"$f":"SUM($F21:AH21)-SUM($F35:AH35)","v":0},{"$f":"SUM($F21:AI21)-SUM($F35:AI35)","v":0},{"$f":"SUM($F21:AJ21)-SUM($F35:AJ35)","v":0},{"$f":"SUM($F21:AK21)-SUM($F35:AK35)","v":0},{"$f":"SUM($F21:AL21)-SUM($F35:AL35)","v":0},{"$f":"SUM($F21:AM21)-SUM($F35:AM35)","v":0},{"$f":"SUM($F21:AN21)-SUM($F35:AN35)","v":0},{"$f":"SUM($F21:AO21)-SUM($F35:AO35)","v":0},{"$f":"SUM($F21:AP21)-SUM($F35:AP35)","v":0},{"$f":"SUM($F21:AQ21)-SUM($F35:AQ35)","v":0},{"$f":"SUM($F21:AR21)-SUM($F35:AR35)","v":0}]
[]
[]
[]
[{"$nulls":4},"Check",null,{"$f":"ROUND((G67-G53),0)=ROUND(G25,0)","v":false},{"$f":"ROUND((H67-H53),0)=ROUND(H25,0)","v":false},false,true,true,true,true,true,true,true,true,true,true,true,true,true,true,true,true,true,true,true,true,true,true,true,true,true,true,true,true,{"$f":"ROUND((AL67-AL53),0)=ROUND(AL25,0)","v":true},true,true,true,true,true,true,true]
[]
[]
[{"$nulls":3},"Composição","Inflação",null,{"$f":"IFERROR(INDEX(Inputs_Financeiros!$K$22:$N$61,MATCH(Depreciação_Anual!G$4,Inputs_Financeiros!$K$22:$K$61,0),MATCH(Depreciação_Anual!$D$84,Inputs_Financeiros!$K$22:$N$22,0)),0)","v":{"v":0,"d":"0.00%"}},{"$f":"IFERROR(INDEX(Inputs_Financeiros!$K$22:$N$61,MATCH(Depreciação_Anual!H$4,Inputs_Financeiros!$K$22:$K$61,0),MATCH(Depreciação_Anual!$D$84,Inputs_Financeiros!$K$22:$N$22,0)),0)","v":{"v":0,"d":"0.00%"}},{"$f":"IFERROR(INDEX(Inputs_Financeiros!$K$22:$N$61,MATCH(Depreciação_Anual!I$4,Inputs_Financeiros!$K$22:$K$61,0),MATCH(Depreciação_Anual!$D$84,Inputs_Financeiros!$K$22:$N$22,0)),0)","v":{"v":0.037200000000000004,"d":"3.72%"}},{"$f":"IFERROR(INDEX(Inputs_Financeiros!$K$22:$N$61,MATCH(Depreciação_Anual!J$4,Inputs_Financeiros!$K$22:$K$61,0),MATCH(Depreciação_Anual!$D$84,Inputs_Financeiros!$K$22:$N$22,0)),0)","v":{"v":0.03665,"d":"3.67%"}},{"$f":"IFERROR(INDEX(Inputs_Financeiros!$K$22:$N$61,MATCH(Depreciação_Anual!K$4,Inputs_Financeiros!$K$22:$K$61,0),MATCH(Depreciação_Anual!$D$84,Inputs_Financeiros!$K$22:$N$22,0)),0)","v":{"v":0.035550000000000005,"d":"3.56%"}},{"$f":"IFERROR(INDEX(Inputs_Financeiros!$K$22:$N$61,MATCH(Depreciação_Anual!L$4,Inputs_Financeiros!$K$22:$K$61,0),MATCH(Depreciação_Anual!$D$84,Inputs_Financeiros!$K$22:$N$22,0)),0)","v":{"v":0.035550000000000005,"d":"3.56%"}},{"$f":"IFERROR(INDEX(Inputs_Financeiros!$K$22:$N$61,MATCH(Depreciação_Anual!M$4,Inputs_Financeiros!$K$22:$K$61,0),MATCH(Depreciação_Anual!$D$84,Inputs_Financeiros!$K$22:$N$22,0)),0)","v":{"v":0.035550000000000005,"d":"3.56%"}},{"$f":"IFERROR(INDEX(Inputs_Financeiros!$K$22:$N$61,MATCH(Depreciação_Anual!N$4,Inputs_Financeiros!$K$22:$K$61,0),MATCH(Depreciação_Anual!$D$84,Inputs_Financeiros!$K$22:$N$22,0)),0)","v":{"v":0.035550000000000005,"d":"3.56%"}},{"$f":"IFERROR(INDEX(Inputs_Financeiros!$K$22:$N$61,MATCH(Depreciação_Anual!O$4,Inputs_Financeiros!$K$22:$K$61,0),MATCH(Depreciação_Anual!$D$84,Inputs_Financeiros!$K$22:$N$22,0)),0)","v":{"v":0.035550000000000005,"d":"3.56%"}},{"$f":"IFERROR(INDEX(Inputs_Financeiros!$K$22:$N$61,MATCH(Depreciação_Anual!P$4,Inputs_Financeiros!$K$22:$K$61,0),MATCH(Depreciação_Anual!$D$84,Inputs_Financeiros!$K$22:$N$22,0)),0)","v":{"v":0.035550000000000005,"d":"3.56%"}},{"$f":"IFERROR(INDEX(Inputs_Financeiros!$K$22:$N$61,MATCH(Depreciação_Anual!Q$4,Inputs_Financeiros!$K$22:$K$61,0),MATCH(Depreciação_Anual!$D$84,Inputs_Financeiros!$K$22:$N$22,0)),0)","v":{"v":0.035550000000000005,"d":"3.56%"}},{"$f":"IFERROR(INDEX(Inputs_Financeiros!$K$22:$N$61,MATCH(Depreciação_Anual!R$4,Inputs_Financeiros!$K$22:$K$61,0),MATCH(Depreciação_Anual!$D$84,Inputs_Financeiros!$K$22:$N$22,0)),0)","v":{"v":0.035550000000000005,"d":"3.56%"}},{"$f":"IFERROR(INDEX(Inputs_Financeiros!$K$22:$N$61,MATCH(Depreciação_Anual!S$4,Inputs_Financeiros!$K$22:$K$61,0),MATCH(Depreciação_Anual!$D$84,Inputs_Financeiros!$K$22:$N$22,0)),0)","v":{"v":0.035550000000000005,"d":"3.56%"}},{"$f":"IFERROR(INDEX(Inputs_Financeiros!$K$22:$N$61,MATCH(Depreciação_Anual!T$4,Inputs_Financeiros!$K$22:$K$61,0),MATCH(Depreciação_Anual!$D$84,Inputs_Financeiros!$K$22:$N$22,0)),0)","v":{"v":0.035550000000000005,"d":"3.56%"}},{"$f":"IFERROR(INDEX(Inputs_Financeiros!$K$22:$N$61,MATCH(Depreciação_Anual!U$4,Inputs_Financeiros!$K$22:$K$61,0),MATCH(Depreciação_Anual!$D$84,Inputs_Financeiros!$K$22:$N$22,0)),0)","v":{"v":0.035550000000000005,"d":"3.56%"}},{"$f":"IFERROR(INDEX(Inputs_Financeiros!$K$22:$N$61,MATCH(Depreciação_Anual!V$4,Inputs_Financeiros!$K$22:$K$61,0),MATCH(Depreciação_Anual!$D$84,Inputs_Financeiros!$K$22:$N$22,0)),0)","v":{"v":0.035550000000000005,"d":"3.56%"}},{"$f":"IFERROR(INDEX(Inputs_Financeiros!$K$22:$N$61,MATCH(Depreciação_Anual!W$4,Inputs_Financeiros!$K$22:$K$61,0),MATCH(Depreciação_Anual!$D$84,Inputs_Financeiros!$K$22:$N$22,0)),0)","v":{"v":0.035550000000000005,"d":"3.56%"}},{"$f":"IFERROR(INDEX(Inputs_Financeiros!$K$22:$N$61,MATCH(Depreciação_Anual!X$4,Inputs_Financeiros!$K$22:$K$61,0),MATCH(Depreciação_Anual!$D$84,Inputs_Financeiros!$K$22:$N$22,0)),0)","v":{"v":0.035550000000000005,"d":"3.56%"}},{"$f":"IFERROR(INDEX(Inputs_Financeiros!$K$22:$N$61,MATCH(Depreciação_Anual!Y$4,Inputs_Financeiros!$K$22:$K$61,0),MATCH(Depreciação_Anual!$D$84,Inputs_Financeiros!$K$22:$N$22,0)),0)","v":{"v":0.035550000000000005,"d":"3.56%"}},{"$f":"IFERROR(INDEX(Inputs_Financeiros!$K$22:$N$61,MATCH(Depreciação_Anual!Z$4,Inputs_Financeiros!$K$22:$K$61,0),MATCH(Depreciação_Anual!$D$84,Inputs_Financeiros!$K$22:$N$22,0)),0)","v":{"v":0,"d":"0.00%"}},{"$f":"IFERROR(INDEX(Inputs_Financeiros!$K$22:$N$61,MATCH(Depreciação_Anual!AA$4,Inputs_Financeiros!$K$22:$K$61,0),MATCH(Depreciação_Anual!$D$84,Inputs_Financeiros!$K$22:$N$22,0)),0)","v":{"v":0,"d":"0.00%"}},{"$f":"IFERROR(INDEX(Inputs_Financeiros!$K$22:$N$61,MATCH(Depreciação_Anual!AB$4,Inputs_Financeiros!$K$22:$K$61,0),MATCH(Depreciação_Anual!$D$84,Inputs_Financeiros!$K$22:$N$22,0)),0)","v":{"v":0,"d":"0.00%"}},{"$f":"IFERROR(INDEX(Inputs_Financeiros!$K$22:$N$61,MATCH(Depreciação_Anual!AC$4,Inputs_Financeiros!$K$22:$K$61,0),MATCH(Depreciação_Anual!$D$84,Inputs_Financeiros!$K$22:$N$22,0)),0)","v":{"v":0,"d":"0.00%"}},{"$f":"IFERROR(INDEX(Inputs_Financeiros!$K$22:$N$61,MATCH(Depreciação_Anual!AD$4,Inputs_Financeiros!$K$22:$K$61,0),MATCH(Depreciação_Anual!$D$84,Inputs_Financeiros!$K$22:$N$22,0)),0)","v":{"v":0,"d":"0.00%"}},{"$f":"IFERROR(INDEX(Inputs_Financeiros!$K$22:$N$61,MATCH(Depreciação_Anual!AE$4,Inputs_Financeiros!$K$22:$K$61,0),MATCH(Depreciação_Anual!$D$84,Inputs_Financeiros!$K$22:$N$22,0)),0)","v":{"v":0,"d":"0.00%"}},{"$f":"IFERROR(INDEX(Inputs_Financeiros!$K$22:$N$61,MATCH(Depreciação_Anual!AF$4,Inputs_Financeiros!$K$22:$K$61,0),MATCH(Depreciação_Anual!$D$84,Inputs_Financeiros!$K$22:$N$22,0)),0)","v":{"v":0,"d":"0.00%"}},{"$f":"IFERROR(INDEX(Inputs_Financeiros!$K$22:$N$61,MATCH(Depreciação_Anual!AG$4,Inputs_Financeiros!$K$22:$K$61,0),MATCH(Depreciação_Anual!$D$84,Inputs_Financeiros!$K$22:$N$22,0)),0)","v":{"v":0,"d":"0.00%"}},{"$f":"IFERROR(INDEX(Inputs_Financeiros!$K$22:$N$61,MATCH(Depreciação_Anual!AH$4,Inputs_Financeiros!$K$22:$K$61,0),MATCH(Depreciação_Anual!$D$84,Inputs_Financeiros!$K$22:$N$22,0)),0)","v":{"v":0,"d":"0.00%"}},{"$f":"IFERROR(INDEX(Inputs_Financeiros!$K$22:$N$61,MATCH(Depreciação_Anual!AI$4,Inputs_Financeiros!$K$22:$K$61,0),MATCH(Depreciação_Anual!$D$84,Inputs_Financeiros!$K$22:$N$22,0)),0)","v":{"v":0,"d":"0.00%"}},{"$f":"IFERROR(INDEX(Inputs_Financeiros!$K$22:$N$61,MATCH(Depreciação_Anual!AJ$4,Inputs_Financeiros!$K$22:$K$61,0),MATCH(Depreciação_Anual!$D$84,Inputs_Financeiros!$K$22:$N$22,0)),0)","v":{"v":0,"d":"0.00%"}},{"$f":"IFERROR(INDEX(Inputs_Financeiros!$K$22:$N$61,MATCH(Depreciação_Anual!AK$4,Inputs_Financeiros!$K$22:$K$61,0),MATCH(Depreciação_Anual!$D$84,Inputs_Financeiros!$K$22:$N$22,0)),0)","v":{"v":0,"d":"0.00%"}},{"$f":"IFERROR(INDEX(Inputs_Financeiros!$K$22:$N$61,MATCH(Depreciação_Anual!AL$4,Inputs_Financeiros!$K$22:$K$61,0),MATCH(Depreciação_Anual!$D$84,Inputs_Financeiros!$K$22:$N$22,0)),0)","v":{"v":0,"d":"0.00%"}},{"$f":"IFERROR(INDEX(Inputs_Financeiros!$K$22:$N$61,MATCH(Depreciação_Anual!AM$4,Inputs_Financeiros!$K$22:$K$61,0),MATCH(Depreciação_Anual!$D$84,Inputs_Financeiros!$K$22:$N$22,0)),0)","v":{"v":0,"d":"0.00%"}},{"$f":"IFERROR(INDEX(Inputs_Financeiros!$K$22:$N$61,MATCH(Depreciação_Anual!AN$4,Inputs_Financeiros!$K$22:$K$61,0),MATCH(Depreciação_Anual!$D$84,Inputs_Financeiros!$K$22:$N$22,0)),0)","v":{"v":0,"d":"0.00%"}},{"$f":"IFERROR(INDEX(Inputs_Financeiros!$K$22:$N$61,MATCH(Depreciação_Anual!AO$4,Inputs_Financeiros!$K$22:$K$61,0),MATCH(Depreciação_Anual!$D$84,Inputs_Financeiros!$K$22:$N$22,0)),0)","v":{"v":0,"d":"0.00%"}},{"$f":"IFERROR(INDEX(Inputs_Financeiros!$K$22:$N$61,MATCH(Depreciação_Anual!AP$4,Inputs_Financeiros!$K$22:$K$61,0),MATCH(Depreciação_Anual!$D$84,Inputs_Financeiros!$K$22:$N$22,0)),0)","v":{"v":0,"d":"0.00%"}},{"$f":"IFERROR(INDEX(Inputs_Financeiros!$K$22:$N$61,MATCH(Depreciação_Anual!AQ$4,Inputs_Financeiros!$K$22:$K$61,0),MATCH(Depreciação_Anual!$D$84,Inputs_Financeiros!$K$22:$N$22,0)),0)","v":{"v":0,"d":"0.00%"}},{"$f":"IFERROR(INDEX(Inputs_Financeiros!$K$22:$N$61,MATCH(Depreciação_Anual!AR$4,Inputs_Financeiros!$K$22:$K$61,0),MATCH(Depreciação_Anual!$D$84,Inputs_Financeiros!$K$22:$N$22,0)),0)","v":{"v":0,"d":"0.00%"}},{"$f":"IFERROR(INDEX(Inputs_Financeiros!$K$22:$N$61,MATCH(Depreciação_Anual!AS$4,Inputs_Financeiros!$K$22:$K$61,0),MATCH(Depreciação_Anual!$D$84,Inputs_Financeiros!$K$22:$N$22,0)),0)","v":{"v":0,"d":"0.00%"}}]
[{"$nulls":4},"Indice",null,{"$f":"IFERROR(+G84+1,0)","v":{"v":1,"d":"100.0%"}},{"$f":"IFERROR(+H84+1,0)","v":{"v":1,"d":"100.0%"}},{"v":1.0372,"d":"103.7%"},{"v":1.03665,"d":"103.7%"},{"v":1.03555,"d":"103.6%"},{"v":1.03555,"d":"103.6%"},{"v":1.03555,"d":"103.6%"},{"v":1.03555,"d":"103.6%"},{"v":1.03555,"d":"103.6%"},{"v":1.03555,"d":"103.6%"},{"v":1.03555,"d":"103.6%"},{"v":1.03555,"d":"103.6%"},{"v":1.03555,"d":"103.6%"},{"v":1.03555,"d":"103.6%"},{"v":1.03555,"d":"103.6%"},{"v":1.03555,"d":"103.6%"},{"v":1.03555,"d":"103.6%"},{"v":1.03555,"d":"103.6%"},{"v":1.03555,"d":"103.6%"},{"v":1,"d":"100.0%"},{"v":1,"d":"100.0%"},{"v":1,"d":"100.0%"},{"v":1,"d":"100.0%"},{"v":1,"d":"100.0%"},{"v":1,"d":"100.0%"},{"v":1,"d":"100.0%"},{"v":1,"d":"100.0%"},{"v":1,"d":"100.0%"},{"v":1,"d":"100.0%"},{"v":1,"d":"100.0%"},{"v":1,"d":"100.0%"},{"$f":"IFERROR(+AL84+1,0)","v":{"v":1,"d":"100.0%"}},{"v":1,"d":"100.0%"},{"v":1,"d":"100.0%"},{"v":1,"d":"100.0%"},{"v":1,"d":"100.0%"},{"v":1,"d":"100.0%"},{"v":1,"d":"100.0%"},{"v":1,"d":"100.0%"}]
[{"$nulls":4},"Indice Acumulado",null,{"$f":"PRODUCT($G$85:G85)-1","v":{"v":0,"d":"0.0%"}},{"$f":"PRODUCT($G$85:H85)-1","v":{"v":0,"d":"0.0%"}},{"$f":"PRODUCT($G$85:I85)-1","v":{"v":0.0371999999999999,"d":"3.7%"}},{"$f":"PRODUCT($G$85:J85)-1","v":{"v":0.07521337999999989,"d":"7.5%"}},{"$f":"PRODUCT($G$85:K85)-1","v":{"v":0.11343721565899978,"d":"11.3%"}},{"$f":"PRODUCT($G$85:L85)-1","v":{"v":0.15301990867567716,"d":"15.3%"}},{"$f":"PRODUCT($G$85:M85)-1","v":{"v":0.1940097664290974,"d":"19.4%"}},{"$f":"PRODUCT($G$85:N85)-1","v":{"v":0.23645681362565174,"d":"23.6%"}},{"$f":"PRODUCT($G$85:O85)-1","v":{"v":0.2804128533500436,"d":"28.0%"}},{"$f":"PRODUCT($G$85:P85)-1","v":{"v":0.3259315302866377,"d":"32.6%"}},{"$f":"PRODUCT($G$85:Q85)-1","v":{"v":0.37306839618832766,"d":"37.3%"}},{"$f":"PRODUCT($G$85:R85)-1","v":{"v":0.42188097767282273,"d":"42.2%"}},{"$f":"PRODUCT($G$85:S85)-1","v":{"v":0.47242884642909155,"d":"47.2%"}},{"$f":"PRODUCT($G$85:T85)-1","v":{"v":0.5247736919196457,"d":"52.5%"}},{"$f":"PRODUCT($G$85:U85)-1","v":{"v":0.5789793966673891,"d":"57.9%"}},{"$f":"PRODUCT($G$85:V85)-1","v":{"v":0.6351121142189147,"d":"63.5%"}},{"$f":"PRODUCT($G$85:W85)-1","v":{"v":0.6932403498793971,"d":"69.3%"}},{"$f":"PRODUCT($G$85:X85)-1","v":{"v":0.7534350443176097,"d":"75.3%"}},{"$f":"PRODUCT($G$85:Y85)-1","v":{"v":0.8157696601431006,"d":"81.6%"}},{"$f":"PRODUCT($G$85:Z85)-1","v":{"v":0.8157696601431006,"d":"81.6%"}},{"$f":"PRODUCT($G$85:AA85)-1","v":{"v":0.8157696601431006,"d":"81.6%"}},{"$f":"PRODUCT($G$85:AB85)-1","v":{"v":0.8157696601431006,"d":"81.6%"}},{"$f":"PRODUCT($G$85:AC85)-1","v":{"v":0.8157696601431006,"d":"81.6%"}},{"$f":"PRODUCT($G$85:AD85)-1","v":{"v":0.8157696601431006,"d":"81.6%"}},{"$f":"PRODUCT($G$85:AE85)-1","v":{"v":0.8157696601431006,"d":"81.6%"}},{"$f":"PRODUCT($G$85:AF85)-1","v":{"v":0.8157696601431006,"d":"81.6%"}},{"$f":"PRODUCT($G$85:AG85)-1","v":{"v":0.8157696601431006,"d":"81.6%"}},{"$f":"PRODUCT($G$85:AH85)-1","v":{"v":0.8157696601431006,"d":"81.6%"}},{"$f":"PRODUCT($G$85:AI85)-1","v":{"v":0.8157696601431006,"d":"81.6%"}},{"$f":"PRODUCT($G$85:AJ85)-1","v":{"v":0.8157696601431006,"d":"81.6%"}},{"$f":"PRODUCT($G$85:AK85)-1","v":{"v":0.8157696601431006,"d":"81.6%"}},{"$f":"PRODUCT($G$85:AL85)-1","v":{"v":0.8157696601431006,"d":"81.6%"}},{"$f":"PRODUCT($G$85:AM85)-1","v":{"v":0.8157696601431006,"d":"81.6%"}},{"$f":"PRODUCT($G$85:AN85)-1","v":{"v":0.8157696601431006,"d":"81.6%"}},{"$f":"PRODUCT($G$85:AO85)-1","v":{"v":0.8157696601431006,"d":"81.6%"}},{"$f":"PRODUCT($G$85:AP85)-1","v":{"v":0.8157696601431006,"d":"81.6%"}},{"$f":"PRODUCT($G$85:AQ85)-1","v":{"v":0.8157696601431006,"d":"81.6%"}},{"$f":"PRODUCT($G$85:AR85)-1","v":{"v":0.8157696601431006,"d":"81.6%"}},{"$f":"PRODUCT($G$85:AS85)-1","v":{"v":0.8157696601431006,"d":"81.6%"}}]

{"sheet":"Fluxo de Caixa","index":5,"n_rows":96,"n_cols":22,"rows_kept":96,"merged":[[10,3,10,6],[10,7,10,11],[10,12,10,16],[10,17,10,21]]}
["Confidencial"]
[]
[null,"Ativos:",{"$f":"Inputs_Operacionais!C5","v":"GASIG"}]
[null,null,"In/Out",0,0,{"$f":"IF(HLOOKUP(HLOOKUP(F12,$D$45:$AO$47,3,0),$D$33:$G$37,5,0)=\"Out\",0,1)","v":1},1,1,1,1,1,1,1,1,1,1,1,1,1,1,1,1]
[null,null,"Operação",{"$f":"HLOOKUP(D$12,Depreciação_Anual!$G$4:$AS$7,ROWS(Depreciação_Anual!$G$4:$G$7),0)","v":0},{"$f":"HLOOKUP(E$12,Depreciação_Anual!$G$4:$AS$7,ROWS(Depreciação_Anual!$G$4:$G$7),0)","v":0},{"$f":"HLOOKUP(F$12,Depreciação_Anual!$G$4:$AS$7,ROWS(Depreciação_Anual!$G$4:$G$7),0)","v":{"v":0.5833333333333334,"d":"1"}},{"$f":"HLOOKUP(G$12,Depreciação_Anual!$G$4:$AS$7,ROWS(Depreciação_Anual!$G$4:$G$7),0)","v":1},{"$f":"HLOOKUP(H$12,Depreciação_Anual!$G$4:$AS$7,ROWS(Depreciação_Anual!$G$4:$G$7),0)","v":1},{"$f":"HLOOKUP(I$12,Depreciação_Anual!$G$4:$AS$7,ROWS(Depreciação_Anual!$G$4:$G$7),0)","v":1},{"$f":"HLOOKUP(J$12,Depreciação_Anual!$G$4:$AS$7,ROWS(Depreciação_Anual!$G$4:$G$7),0)","v":1},{"$f":"HLOOKUP(K$12,Depreciação_Anual!$G$4:$AS$7,ROWS(Depreciação_Anual!$G$4:$G$7),0)","v":1},{"$f":"HLOOKUP(L$12,Depreciação_Anual!$G$4:$AS$7,ROWS(Depreciação_Anual!$G$4:$G$7),0)","v":1},{"$f":"HLOOKUP(M$12,Depreciação_Anual!$G$4:$AS$7,ROWS(Depreciação_Anual!$G$4:$G$7),0)","v":1},{"$f":"HLOOKUP(N$12,Depreciação_Anual!$G$4:$AS$7,ROWS(Depreciação_Anual!$G$4:$G$7),0)","v":1},{"$f":"HLOOKUP(O$12,Depreciação_Anual!$G$4:$AS$7,ROWS(Depreciação_Anual!$G$4:$G$7),0)","v":1},{"$f":"HLOOKUP(P$12,Depreciação_Anual!$G$4:$AS$7,ROWS(Depreciação_Anual!$G$4:$G$7),0)","v":1},{"$f":"HLOOKUP(Q$12,Depreciação_Anual!$G$4:$AS$7,ROWS(Depreciação_Anual!$G$4:$G$7),0)","v":1},{"$f":"HLOOKUP(R$12,Depreciação_Anual!$G$4:$AS$7,ROWS(Depreciação_Anual!$G$4:$G$7),0)","v":1},{"$f":"HLOOKUP(S$12,Depreciação_Anual!$G$4:$AS$7,ROWS(Depreciação_Anual!$G$4:$G$7),0)","v":1},{"$f":"HLOOKUP(T$12,Depreciação_Anual!$G$4:$AS$7,ROWS(Depreciação_Anual!$G$4:$G$7),0)","v":1},{"$f":"HLOOKUP(U$12,Depreciação_Anual!$G$4:$AS$7,ROWS(Depreciação_Anual!$G$4:$G$7),0)","v":1},{"$f":"HLOOKUP(V$12,Depreciação_Anual!$G$4:$AS$7,ROWS(Depreciação_Anual!$G$4:$G$7),0)","v":1}]
[null,null,"Capacidade diaria (MM M3)",{"$f":"+Inputs_Financeiros!$D$24","v":{"v":0,"d":"0.00"}},{"$f":"+Inputs_Financeiros!$D$24","v":{"v":0,"d":"0.00"}},{"$f":"INDEX(Inputs_Financeiros!$B$23:$D$61,MATCH('Fluxo de Caixa'!F$12,Inputs_Financeiros!$B$23:$B$61,0),3)","v":{"v":13,"d":"13.00"}},{"$f":"INDEX(Inputs_Financeiros!$B$23:$D$61,MATCH('Fluxo de Caixa'!G$12,Inputs_Financeiros!$B$23:$B$61,0),3)","v":{"v":13,"d":"13.00"}},{"$f":"INDEX(Inputs_Financeiros!$B$23:$D$61,MATCH('Fluxo de Caixa'!H$12,Inputs_Financeiros!$B$23:$B$61,0),3)","v":{"v":13,"d":"13.00"}},{"$f":"INDEX(Inputs_Financeiros!$B$23:$D$61,MATCH('Fluxo de Caixa'!I$12,Inputs_Financeiros!$B$23:$B$61,0),3)","v":{"v":13,"d":"13.00"}},{"$f":"INDEX(Inputs_Financeiros!$B$23:$D$61,MATCH('Fluxo de Caixa'!J$12,Inputs_Financeiros!$B$23:$B$61,0),3)","v":{"v":13,"d":"13.00"}},{"$f":"INDEX(Inputs_Financeiros!$B$23:$D$61,MATCH('Fluxo de Caixa'!K$12,Inputs_Financeiros!$B$23:$B$61,0),3)","v":{"v":13,"d":"13.00"}},{"$f":"INDEX(Inputs_Financeiros!$B$23:$D$61,MATCH('Fluxo de Caixa'!L$12,Inputs_Financeiros!$B$23:$B$61,0),3)","v":{"v":13,"d":"13.00"}},{"$f":"INDEX(Inputs_Financeiros!$B$23:$D$61,MATCH('Fluxo de Caixa'!M$12,Inputs_Financeiros!$B$23:$B$61,0),3)","v":{"v":13,"d":"13.00"}},{"$f":"INDEX(Inputs_Financeiros!$B$23:$D$61,MATCH('Fluxo de Caixa'!N$12,Inputs_Financeiros!$B$23:$B$61,0),3)","v":{"v":13,"d":"13.00"}},{"$f":"INDEX(Inputs_Financeiros!$B$23:$D$61,MATCH('Fluxo de Caixa'!O$12,Inputs_Financeiros!$B$23:$B$61,0),3)","v":{"v":13,"d":"13.00"}},{"$f":"INDEX(Inputs_Financeiros!$B$23:$D$61,MATCH('Fluxo de Caixa'!P$12,Inputs_Financeiros!$B$23:$B$61,0),3)","v":{"v":13,"d":"13.00"}},{"$f":"INDEX(Inputs_Financeiros!$B$23:$D$61,MATCH('Fluxo de Caixa'!Q$12,Inputs_Financeiros!$B$23:$B$61,0),3)","v":{"v":13,"d":"13.00"}},{"$f":"INDEX(Inputs_Financeiros!$B$23:$D$61,MATCH('Fluxo de Caixa'!R$12,Inputs_Financeiros!$B$23:$B$61,0),3)","v":{"v":13,"d":"13.00"}},{"$f":"INDEX(Inputs_Financeiros!$B$23:$D$61,MATCH('Fluxo de Caixa'!S$12,Inputs_Financeiros!$B$23:$B$61,0),3)","v":{"v":13,"d":"13.00"}},{"$f":"INDEX(Inputs_Financeiros!$B$23:$D$61,MATCH('Fluxo de Caixa'!T$12,Inputs_Financeiros!$B$23:$B$61,0),3)","v":{"v":13,"d":"13.00"}},{"$f":"INDEX(Inputs_Financeiros!$B$23:$D$61,MATCH('Fluxo de Caixa'!U$12,Inputs_Financeiros!$B$23:$B$61,0),3)","v":{"v":13,"d":"13.00"}},{"$f":"INDEX(Inputs_Financeiros!$B$23:$D$61,MATCH('Fluxo de Caixa'!V$12,Inputs_Financeiros!$B$23:$B$61,0),3)","v":{"v":13,"d":"13.00"}}]
[null,null,"Dias",0,0,{"$f":"DATEDIF(Inputs_Operacionais!C16,DATE(F12,12,31),\"d\")+1","v":214},{"$f":"DATEDIF(DATE((F12),12,31),DATE(G12,12,31),\"d\")","v":365},365,365,366,365,365,365,366,365,365,365,366,365,365,365,366]
[null,null,"Tarifa Indicativa (R$/MMBTU)",0,0,{"$f":"IFERROR(HLOOKUP(HLOOKUP(F12,$D$45:$AO$47,3,0),$D$33:$G$36,4,0),)","v":{"v":0.28144694428080724,"d":"0.2814"}},{"v":0.28144694428080724,"d":"0.2814"},{"v":0.17855479283139553,"d":"0.1786"},{"v":0.17855479283139553,"d":"0.1786"},{"v":0.17855479283139553,"d":"0.1786"},{"v":0.17855479283139553,"d":"0.1786"},{"v":0.17855479283139553,"d":"0.1786"},{"v":0.1479403115259165,"d":"0.1479"},{"v":0.1479403115259165,"d":"0.1479"},{"v":0.1479403115259165,"d":"0.1479"},{"v":0.1479403115259165,"d":"0.1479"},{"v":0.1479403115259165,"d":"0.1479"},{"v":0.0952908179054239,"d":"0.0953"},{"v":0.0952908179054239,"d":"0.0953"},{"v":0.0952908179054239,"d":"0.0953"},{"v":0.0952908179054239,"d":"0.0953"},{"v":0.0952908179054239,"d":"0.0953"}]
[]
[]
[{"$nulls":3},"1º Ciclo Regulatório",{"$nulls":3},"2º Ciclo Regulatório",{"$nulls":4},"3º Ciclo Regulatório",{"$nulls":4},"4º Ciclo Regulatório"]
[null,null,"DRE (MM R$)",{"$f":"YEAR(Inputs_Operacionais!C13)","v":2022},{"$f":"+D12+1","v":2023},2024,2025,2026,2027,2028,2029,2030,2031,2032,2033,2034,2035,2036,2037,2038,2039,2040]
[null,null,"Receita Líquida",{"$f":"+D6*D7*D8*Inputs_Financeiros!$E$13*D4","v":0},{"$f":"+E6*E7*E8*Inputs_Financeiros!$E$13*E4","v":0},{"$f":"+F6*F7*F8*Inputs_Financeiros!$E$13*F4","v":{"v":29.20706150748177,"d":"29.21"}},{"$f":"+G6*G7*G8*Inputs_Financeiros!$E$13*G4","v":{"v":49.81578247771424,"d":"49.82"}},{"$f":"+H6*H7*H8*Inputs_Financeiros!$E$13*H4","v":{"v":31.60399109242948,"d":"31.60"}},{"$f":"+I6*I7*I8*Inputs_Financeiros!$E$13*I4","v":{"v":31.60399109242948,"d":"31.60"}},{"$f":"+J6*J7*J8*Inputs_Financeiros!$E$13*J4","v":{"v":31.69057736939504,"d":"31.69"}},{"$f":"+K6*K7*K8*Inputs_Financeiros!$E$13*K4","v":{"v":31.60399109242948,"d":"31.60"}},{"$f":"+L6*L7*L8*Inputs_Financeiros!$E$13*L4","v":{"v":31.60399109242948,"d":"31.60"}},{"$f":"+M6*M7*M8*Inputs_Financeiros!$E$13*M4","v":{"v":26.185263433904346,"d":"26.19"}},{"$f":"+N6*N7*N8*Inputs_Financeiros!$E$13*N4","v":{"v":26.257003881668467,"d":"26.26"}},{"$f":"+O6*O7*O8*Inputs_Financeiros!$E$13*O4","v":{"v":26.185263433904346,"d":"26.19"}},{"$f":"+P6*P7*P8*Inputs_Financeiros!$E$13*P4","v":{"v":26.185263433904346,"d":"26.19"}},{"$f":"+Q6*Q7*Q8*Inputs_Financeiros!$E$13*Q4","v":{"v":26.185263433904346,"d":"26.19"}},{"$f":"+R6*R7*R8*Inputs_Financeiros!$E$13*R4","v":{"v":16.91257338735402,"d":"16.91"}},{"$f":"+S6*S7*S8*Inputs_Financeiros!$E$13*S4","v":{"v":16.86636417044868,"d":"16.87"}},{"$f":"+T6*T7*T8*Inputs_Financeiros!$E$13*T4","v":{"v":16.86636417044868,"d":"16.87"}},{"$f":"+U6*U7*U8*Inputs_Financeiros!$E$13*U4","v":{"v":16.86636417044868,"d":"16.87"}},{"$f":"+V6*V7*V8*Inputs_Financeiros!$E$13*V4","v":{"v":16.91257338735402,"d":"16.91"}}]
[null,{"$f":"-Inputs_Operacionais!C9/1000","v":{"v":-4.4462591143192105,"d":"(4.45)"}},"O&M",{"$f":"D$4*$B14*D$5","v":0},0,{"v":-2.59365115001954,"d":"(2.59)"},{"v":-4.4462591143192105,"d":"(4.45)"},{"v":-4.4462591143192105,"d":"(4.45)"},{"v":-4.4462591143192105,"d":"(4.45)"},{"v":-4.4462591143192105,"d":"(4.45)"},{"v":-4.4462591143192105,"d":"(4.45)"},{"v":-4.4462591143192105,"d":"(4.45)"},{"v":-4.4462591143192105,"d":"(4.45)"},{"$f":"N$4*$B14*N$5","v":{"v":-4.4462591143192105,"d":"(4.45)"}},{"v":-4.4462591143192105,"d":"(4.45)"},{"v":-4.4462591143192105,"d":"(4.45)"},{"v":-4.4462591143192105,"d":"(4.45)"},{"v":-4.4462591143192105,"d":"(4.45)"},{"v":-4.4462591143192105,"d":"(4.45)"},{"v":-4.4462591143192105,"d":"(4.45)"},{"v":-4.4462591143192105,"d":"(4.45)"},{"v":-4.4462591143192105,"d":"(4.45)"}]
[null,{"$f":"-Inputs_Operacionais!C11/1000","v":{"v":-0.614,"d":"(0.61)"}},"G&A",0,0,{"v":-0.3581666666666667,"d":"(0.36)"},{"v":-0.614,"d":"(0.61)"},{"v":-0.614,"d":"(0.61)"},{"v":-0.614,"d":"(0.61)"},{"v":-0.614,"d":"(0.61)"},{"v":-0.614,"d":"(0.61)"},{"v":-0.614,"d":"(0.61)"},{"v":-0.614,"d":"(0.61)"},{"v":-0.614,"d":"(0.61)"},{"v":-0.614,"d":"(0.61)"},{"v":-0.614,"d":"(0.61)"},{"v":-0.614,"d":"(0.61)"},{"v":-0.614,"d":"(0.61)"},{"v":-0.614,"d":"(0.61)"},{"v":-0.614,"d":"(0.61)"},{"v":-0.614,"d":"(0.61)"},{"v":-0.614,"d":"(0.61)"}]
[null,null,"EBITDA",{"$f":"SUM(D13:D15)","v":0},0,{"v":26.255243690795567,"d":"26.26"},{"v":44.75552336339503,"d":"44.76"},{"v":26.54373197811027,"d":"26.54"},{"v":26.54373197811027,"d":"26.54"},{"v":26.630318255075828,"d":"26.63"},{"v":26.54373197811027,"d":"26.54"},{"v":26.54373197811027,"d":"26.54"},{"v":21.125004319585134,"d":"21.13"},{"v":21.196744767349255,"d":"21.20"},{"v":21.125004319585134,"d":"21.13"},{"v":21.125004319585134,"d":"21.13"},{"v":21.125004319585134,"d":"21.13"},{"v":11.852314273034807,"d":"11.85"},{"v":11.806105056129468,"d":"11.81"},{"v":11.806105056129468,"d":"11.81"},{"v":11.806105056129468,"d":"11.81"},{"v":11.852314273034807,"d":"11.85"}]
[null,null,"Depreciação",{"$f":"-HLOOKUP(D$12,Depreciação_Anual!$G$37:$AS$39,ROWS(Depreciação_Anual!$G$37:$G$39),0)/10^6*D4","v":0},{"$f":"-HLOOKUP(E$12,Depreciação_Anual!$G$37:$AS$39,ROWS(Depreciação_Anual!$G$37:$G$39),0)/10^6*E4","v":0},{"$f":"-HLOOKUP(F$12,Depreciação_Anual!$G$37:$AS$39,ROWS(Depreciação_Anual!$G$37:$G$39),0)/10^6*F4","v":{"v":-6.532652614801496,"d":"(6.53)"}},{"$f":"-HLOOKUP(G$12,Depreciação_Anual!$G$37:$AS$39,ROWS(Depreciação_Anual!$G$37:$G$39),0)/10^6*G4","v":{"v":-10.797178031185327,"d":"(10.80)"}},{"$f":"-HLOOKUP(H$12,Depreciação_Anual!$G$37:$AS$39,ROWS(Depreciação_Anual!$G$37:$G$39),0)/10^6*H4","v":{"v":-10.415451725447669,"d":"(10.42)"}},{"$f":"-HLOOKUP(I$12,Depreciação_Anual!$G$37:$AS$39,ROWS(Depreciação_Anual!$G$37:$G$39),0)/10^6*I4","v":{"v":-10.057893607694144,"d":"(10.06)"}},{"$f":"-HLOOKUP(J$12,Depreciação_Anual!$G$37:$AS$39,ROWS(Depreciação_Anual!$G$37:$G$39),0)/10^6*J4","v":{"v":-9.712610311133355,"d":"(9.71)"}},{"$f":"-HLOOKUP(K$12,Depreciação_Anual!$G$37:$AS$39,ROWS(Depreciação_Anual!$G$37:$G$39),0)/10^6*K4","v":{"v":-9.37918044626851,"d":"(9.38)"}},{"$f":"-HLOOKUP(L$12,Depreciação_Anual!$G$37:$AS$39,ROWS(Depreciação_Anual!$G$37:$G$39),0)/10^6*L4","v":{"v":-9.057197089728655,"d":"(9.06)"}},{"$f":"-HLOOKUP(M$12,Depreciação_Anual!$G$37:$AS$39,ROWS(Depreciação_Anual!$G$37:$G$39),0)/10^6*M4","v":{"v":-8.746267287652605,"d":"(8.75)"}},{"$f":"-HLOOKUP(N$12,Depreciação_Anual!$G$37:$AS$39,ROWS(Depreciação_Anual!$G$37:$G$39),0)/10^6*N4","v":{"v":-8.446011576121487,"d":"(8.45)"}},{"$f":"-HLOOKUP(O$12,Depreciação_Anual!$G$37:$AS$39,ROWS(Depreciação_Anual!$G$37:$G$39),0)/10^6*O4","v":{"v":-8.156063518054644,"d":"(8.16)"}},{"$f":"-HLOOKUP(P$12,Depreciação_Anual!$G$37:$AS$39,ROWS(Depreciação_Anual!$G$37:$G$39),0)/10^6*P4","v":{"v":-7.876069256003713,"d":"(7.88)"}},{"$f":"-HLOOKUP(Q$12,Depreciação_Anual!$G$37:$AS$39,ROWS(Depreciação_Anual!$G$37:$G$39),0)/10^6*Q4","v":{"v":-7.60568708029908,"d":"(7.61)"}},{"$f":"-HLOOKUP(R$12,Depreciação_Anual!$G$37:$AS$39,ROWS(Depreciação_Anual!$G$37:$G$39),0)/10^6*R4","v":{"v":-7.344587012021709,"d":"(7.34)"}},{"$f":"-HLOOKUP(S$12,Depreciação_Anual!$G$37:$AS$39,ROWS(Depreciação_Anual!$G$37:$G$39),0)/10^6*S4","v":{"v":-7.0924504002913515,"d":"(7.09)"}},{"$f":"-HLOOKUP(T$12,Depreciação_Anual!$G$37:$AS$39,ROWS(Depreciação_Anual!$G$37:$G$39),0)/10^6*T4","v":{"v":-6.848969533379703,"d":"(6.85)"}},{"$f":"-HLOOKUP(U$12,Depreciação_Anual!$G$37:$AS$39,ROWS(Depreciação_Anual!$G$37:$G$39),0)/10^6*U4","v":{"v":-2.755769692989113,"d":"(2.76)"}},{"$f":"-HLOOKUP(V$12,Depreciação_Anual!$G$37:$AS$39,ROWS(Depreciação_Anual!$G$37:$G$39),0)/10^6*V4","v":0}]
[null,null,"EBIT",{"$f":"+D16+D17","v":0},0,{"v":19.72259107599407,"d":"19.72"},{"v":33.9583453322097,"d":"33.96"},{"v":16.1282802526626,"d":"16.13"},{"v":16.485838370416126,"d":"16.49"},{"v":16.917707943942474,"d":"16.92"},{"v":17.16455153184176,"d":"17.16"},{"v":17.486534888381613,"d":"17.49"},{"v":12.378737031932529,"d":"12.38"},{"v":12.750733191227768,"d":"12.75"},{"v":12.96894080153049,"d":"12.97"},{"v":13.24893506358142,"d":"13.25"},{"v":13.519317239286053,"d":"13.52"},{"v":4.507727261013098,"d":"4.51"},{"v":4.713654655838116,"d":"4.71"},{"v":4.957135522749764,"d":"4.96"},{"v":9.050335363140356,"d":"9.05"},{"v":11.852314273034807,"d":"11.85"}]
[null,{"v":0.34,"d":"34%"},"Tributos",{"$f":"IF(D18>0,+D18*-$B$19,0)","v":0},{"$f":"IF(E18>0,+E18*-$B$19,0)","v":0},{"v":-6.705680965837985,"d":"(6.71)"},{"v":-11.5458374129513,"d":"(11.55)"},{"v":-5.483615285905284,"d":"(5.48)"},{"v":-5.605185045941483,"d":"(5.61)"},{"v":-5.752020700940442,"d":"(5.75)"},{"v":-5.835947520826199,"d":"(5.84)"},{"v":-5.9454218620497485,"d":"(5.95)"},{"v":-4.2087705908570605,"d":"(4.21)"},{"v":-4.335249285017442,"d":"(4.34)"},{"v":-4.409439872520367,"d":"(4.41)"},{"v":-4.504637921617683,"d":"(4.50)"},{"v":-4.596567861357259,"d":"(4.60)"},{"v":-1.5326272687444535,"d":"(1.53)"},{"v":-1.6026425829849595,"d":"(1.60)"},{"v":-1.68542607773492,"d":"(1.69)"},{"v":-3.077114023467721,"d":"(3.08)"},{"v":-4.029786852831835,"d":"(4.03)"}]
[null,null,"NOPAT",{"$f":"+D18+D19","v":0},0,{"v":13.016910110156086,"d":"13.02"},{"v":22.412507919258402,"d":"22.41"},{"v":10.644664966757315,"d":"10.64"},{"v":10.880653324474643,"d":"10.88"},{"v":11.165687243002033,"d":"11.17"},{"v":11.32860401101556,"d":"11.33"},{"v":11.541113026331864,"d":"11.54"},{"v":8.169966441075468,"d":"8.17"},{"v":8.415483906210326,"d":"8.42"},{"v":8.559500929010124,"d":"8.56"},{"v":8.744297141963738,"d":"8.74"},{"v":8.922749377928795,"d":"8.92"},{"v":2.9750999922686447,"d":"2.98"},{"v":3.111012072853157,"d":"3.11"},{"v":3.2717094450148445,"d":"3.27"},{"v":5.973221339672635,"d":"5.97"},{"v":7.822527420202972,"d":"7.82"}]
[]
[null,null,"FCFF (MM R$)"]
[null,null,{"$f":"+C16","v":"EBITDA"},0,0,{"v":26.255243690795567,"d":"26.26"},{"v":44.75552336339503,"d":"44.76"},{"v":26.54373197811027,"d":"26.54"},{"v":26.54373197811027,"d":"26.54"},{"v":26.630318255075828,"d":"26.63"},{"v":26.54373197811027,"d":"26.54"},{"v":26.54373197811027,"d":"26.54"},{"v":21.125004319585134,"d":"21.13"},{"v":21.196744767349255,"d":"21.20"},{"v":21.125004319585134,"d":"21.13"},{"v":21.125004319585134,"d":"21.13"},{"v":21.125004319585134,"d":"21.13"},{"v":11.852314273034807,"d":"11.85"},{"v":11.806105056129468,"d":"11.81"},{"v":11.806105056129468,"d":"11.81"},{"v":11.806105056129468,"d":"11.81"},{"v":11.852314273034807,"d":"11.85"}]
[null,null," ∆ Capital de Giro",{"$f":"+D55","v":0},0,{"v":-4.621858766523111,"d":"(4.62)"},{"v":4.621858766523111,"d":"4.62"},{"v":-4.845643589211646,"d":"(4.85)"},0,{"v":-0.014431046160925831,"d":"(0.01)"},{"v":0.014431046160925831,"d":"0.01"},{"v":4.845643589211646,"d":"4.85"},{"v":-3.94252231279079,"d":"(3.94)"},{"v":-0.011956741294020024,"d":"(0.01)"},{"v":0.011956741294020024,"d":"0.01"},0,{"v":3.94252231279079,"d":"3.94"},{"v":-2.397073971699069,"d":"(2.40)"},{"v":7.701536150889865E-3,"d":"0.01"},0,0,{"v":2.389372435548179,"d":"2.39"}]
[null,null,"CAPEX",{"$f":"-HLOOKUP(D$12,Depreciação_Anual!$G$4:$AS$11,ROWS(Depreciação_Anual!$G$4:$G$11),0)/10^6","v":{"v":-132.20000441859423,"d":"(132.20)"}},{"$f":"-HLOOKUP(E$12,Depreciação_Anual!$G$4:$AS$11,ROWS(Depreciação_Anual!$G$4:$G$11),0)/10^6","v":{"v":-33.78319960663797,"d":"(33.78)"}},{"$f":"-HLOOKUP(F$12,Depreciação_Anual!$G$4:$AS$11,ROWS(Depreciação_Anual!$G$4:$G$11),0)/10^6","v":{"v":-1.9992917839491076,"d":"(2.00)"}},{"$f":"-HLOOKUP(G$12,Depreciação_Anual!$G$4:$AS$11,ROWS(Depreciação_Anual!$G$4:$G$11),0)/10^6","v":0},{"$f":"-HLOOKUP(H$12,Depreciação_Anual!$G$4:$AS$11,ROWS(Depreciação_Anual!$G$4:$G$11),0)/10^6","v":0},{"$f":"-HLOOKUP(I$12,Depreciação_Anual!$G$4:$AS$11,ROWS(Depreciação_Anual!$G$4:$G$11),0)/10^6","v":0},{"$f":"-HLOOKUP(J$12,Depreciação_Anual!$G$4:$AS$11,ROWS(Depreciação_Anual!$G$4:$G$11),0)/10^6","v":0},{"$f":"-HLOOKUP(K$12,Depreciação_Anual!$G$4:$AS$11,ROWS(Depreciação_Anual!$G$4:$G$11),0)/10^6","v":0},{"$f":"-HLOOKUP(L$12,Depreciação_Anual!$G$4:$AS$11,ROWS(Depreciação_Anual!$G$4:$G$11),0)/10^6","v":0},{"$f":"-HLOOKUP(M$12,Depreciação_Anual!$G$4:$AS$11,ROWS(Depreciação_Anual!$G$4:$G$11),0)/10^6","v":0},{"$f":"-HLOOKUP(N$12,Depreciação_Anual!$G$4:$AS$11,ROWS(Depreciação_Anual!$G$4:$G$11),0)/10^6","v":0},{"$f":"-HLOOKUP(O$12,Depreciação_Anual!$G$4:$AS$11,ROWS(Depreciação_Anual!$G$4:$G$11),0)/10^6","v":0},{"$f":"-HLOOKUP(P$12,Depreciação_Anual!$G$4:$AS$11,ROWS(Depreciação_Anual!$G$4:$G$11),0)/10^6","v":0},{"$f":"-HLOOKUP(Q$12,Depreciação_Anual!$G$4:$AS$11,ROWS(Depreciação_Anual!$G$4:$G$11),0)/10^6","v":0},{"$f":"-HLOOKUP(R$12,Depreciação_Anual!$G$4:$AS$11,ROWS(Depreciação_Anual!$G$4:$G$11),0)/10^6","v":0},{"$f":"-HLOOKUP(S$12,Depreciação_Anual!$G$4:$AS$11,ROWS(Depreciação_Anual!$G$4:$G$11),0)/10^6","v":0},{"$f":"-HLOOKUP(T$12,Depreciação_Anual!$G$4:$AS$11,ROWS(Depreciação_Anual!$G$4:$G$11),0)/10^6","v":0},{"$f":"-HLOOKUP(U$12,Depreciação_Anual!$G$4:$AS$11,ROWS(Depreciação_Anual!$G$4:$G$11),0)/10^6","v":0},{"$f":"-HLOOKUP(V$12,Depreciação_Anual!$G$4:$AS$11,ROWS(Depreciação_Anual!$G$4:$G$11),0)/10^6","v":0}]
[null,null,"Tributos",{"$f":"+D19","v":0},0,{"v":-6.705680965837985,"d":"(6.71)"},{"v":-11.5458374129513,"d":"(11.55)"},{"v":-5.483615285905284,"d":"(5.48)"},{"v":-5.605185045941483,"d":"(5.61)"},{"v":-5.752020700940442,"d":"(5.75)"},{"v":-5.835947520826199,"d":"(5.84)"},{"v":-5.9454218620497485,"d":"(5.95)"},{"v":-4.2087705908570605,"d":"(4.21)"},{"v":-4.335249285017442,"d":"(4.34)"},{"v":-4.409439872520367,"d":"(4.41)"},{"v":-4.504637921617683,"d":"(4.50)"},{"v":-4.596567861357259,"d":"(4.60)"},{"v":-1.5326272687444535,"d":"(1.53)"},{"v":-1.6026425829849595,"d":"(1.60)"},{"v":-1.68542607773492,"d":"(1.69)"},{"v":-3.077114023467721,"d":"(3.08)"},{"v":-4.029786852831835,"d":"(4.03)"}]
[null,null,"Valor Residual",{"$f":"IF(HLOOKUP(D$12,$D$45:$AO$48,4,0)=\"Close\",D$59,0)*D4","v":0},0,0,{"v":150.25101014043437,"d":"150.25"},0,0,0,0,{"v":94.25684487070728,"d":"94.26"},0,0,0,0,{"v":38.26267960098018,"d":"38.26"},0,0,0,0,0]
[]
[null,null,"FCL",{"$f":"SUM(D23:D28)","v":{"v":-132.20000441859423,"d":"(132.20)"}},{"v":-33.78319960663797,"d":"(33.78)"},{"v":12.928412174485363,"d":"12.93"},{"v":188.08255485740122,"d":"188.08"},{"v":16.21447310299334,"d":"16.21"},{"v":20.938546932168787,"d":"20.94"},{"v":20.86386650797446,"d":"20.86"},{"v":20.722215503444996,"d":"20.72"},{"v":119.70079857597945,"d":"119.70"},{"v":12.973711415937284,"d":"12.97"},{"v":16.84953874103779,"d":"16.85"},{"v":16.72752118835879,"d":"16.73"},{"v":16.62036639796745,"d":"16.62"},{"v":58.73363837199884,"d":"58.73"},{"v":7.9226130325912845,"d":"7.92"},{"v":10.211164009295398,"d":"10.21"},{"v":10.120678978394547,"d":"10.12"},{"v":8.728991032661746,"d":"8.73"},{"v":10.21189985575115,"d":"10.21"}]
[null,null,"WACC",{"$f":"HLOOKUP(HLOOKUP(D12,$D$45:$AO$47,3,0),$D$39:$G$42,4,0)","v":{"v":0.0725,"d":"7.25%"}},{"v":0.0725,"d":"7.25%"},{"v":0.0725,"d":"7.25%"},{"v":0.0725,"d":"7.25%"},{"v":0.0725,"d":"7.25%"},{"v":0.0725,"d":"7.25%"},{"v":0.0725,"d":"7.25%"},{"v":0.0725,"d":"7.25%"},{"v":0.0725,"d":"7.25%"},{"v":0.0725,"d":"7.25%"},{"v":0.0725,"d":"7.25%"},{"v":0.0725,"d":"7.25%"},{"v":0.0725,"d":"7.25%"},{"v":0.0725,"d":"7.25%"},{"v":0.0725,"d":"7.25%"},{"v":0.0725,"d":"7.25%"},{"v":0.0725,"d":"7.25%"},{"v":0.0725,"d":"7.25%"},{"v":0.0725,"d":"7.25%"}]
[]
[]
[null,null,"Periodo Regulatório",{"$f":"D34&\"-\"&D35","v":"2022-2025"},"2026-2030","2031-2035","2036-2040"]
[null,null,"Inicio do Periodo",2022,{"$f":"+D35+1","v":2026},2031,2036]
[null,null,"Fim do Periodo",{"$f":"+D34+3","v":2025},{"$f":"+E34+4","v":2030},2035,2040]
[null,null,"Tarifa Indicativa (R$/MMBtu)",{"v":0.28144694428080724,"d":"0.2814"},{"v":0.17855479283139553,"d":"0.1786"},{"v":0.1479403115259165,"d":"0.1479"},{"v":0.0952908179054239,"d":"0.0953"}]
[null,null,"In/out","In","In","In","In"]
[]
[null,null,"Periodo Regulatório",{"$f":"+D33","v":"2022-2025"},"2026-2030","2031-2035","2036-2040"]
[null,null,"VPL",{"$f":"IFERROR(NPV(D42,(OFFSET($D$29,,HLOOKUP(D$34,$D$45:$AO$46,2,1)):OFFSET($D$29,,HLOOKUP(D$35,$D$45:$AO$46,2,1))))-HLOOKUP(D$34,$D$57:$AO$59,ROWS($D$57:$D$58),0),)","v":{"v":3.2325318893304251E-4,"d":"0.0"}},{"$f":"IFERROR(NPV(E42,(OFFSET($D$29,,HLOOKUP(E$34,$D$45:$AO$46,2,1)):OFFSET($D$29,,HLOOKUP(E$35,$D$45:$AO$46,2,1))))-HLOOKUP(E$34,$D$57:$AO$59,ROWS($D$57:$D$58),0),)","v":0},{"$f":"IFERROR(NPV(F42,(OFFSET($D$29,,HLOOKUP(F$34,$D$45:$AO$46,2,1)):OFFSET($D$29,,HLOOKUP(F$35,$D$45:$AO$46,2,1))))-HLOOKUP(F$34,$D$57:$AO$59,ROWS($D$57:$D$58),0),)","v":{"v":-1.4210854715202004E-14,"d":"(0.0)"}},{"$f":"IFERROR(NPV(G42,(OFFSET($D$29,,HLOOKUP(G$34,$D$45:$AO$46,2,1)):OFFSET($D$29,,HLOOKUP(G$35,$D$45:$AO$46,2,1))))-HLOOKUP(G$34,$D$57:$AO$59,ROWS($D$57:$D$58),0),)","v":{"v":-5.727050979089654E-4,"d":"(0.0)"}}]
[null,null,"TIR",{"$f":"HLOOKUP(D39,$D$72:$G$95,ROWS($D$72:$D$95),0)","v":{"v":0.07250082929807755,"d":"7.25%"}},{"$f":"HLOOKUP(E39,$D$72:$G$95,ROWS($D$72:$D$95),0)","v":{"v":0.07249999998961276,"d":"7.25%"}},{"v":0.07249999999357004,"d":"7.25%"},{"v":0.07249452202919882,"d":"7.25%"}]
[null,null,"WACC",{"v":0.0725,"d":"7.25%"},{"v":0.0725,"d":"7.25%"},{"v":0.0725,"d":"7.25%"},{"v":0.0725,"d":"7.25%"}]
[]
[]
[{"$nulls":3},{"$f":"+D12","v":2022},2023,2024,2025,2026,2027,2028,2029,2030,2031,2032,2033,2034,2035,2036,2037,2038,2039,2040]
[{"$nulls":4},{"$f":"+E45-$D$45","v":1},{"$f":"+F45-$D$45","v":2},3,4,5,6,7,8,9,10,11,12,13,14,15,16,17,18]
[{"$nulls":3},{"$f":"IF(AND(D12>=$D$34,D12<=$D$35),$D$33,IF(AND(D12>=$E$34,D12<=$E$35),$E$33,IF(AND(D12>=$F$34,D12<=$F$35),$F$33,IF(AND(D12>=$G$34,D12<=$G$35),$G$33,))))","v":"2022-2025"},"2022-2025","2022-2025","2022-2025","2026-2030","2026-2030","2026-2030","2026-2030","2026-2030","2031-2035","2031-2035","2031-2035","2031-2035","2031-2035","2036-2040","2036-2040","2036-2040","2036-2040","2036-2040"]
[{"$nulls":3},"open",{"$f":"IF(E47<>F47,\"Close\",IF(D48=\"Close\",\"Open\",))","v":0},{"$f":"IF(F47<>G47,\"Close\",IF(E48=\"Close\",\"Open\",))","v":0},{"$f":"IF(G47<>H47,\"Close\",IF(F48=\"Close\",\"Open\",))","v":"Close"},{"$f":"IF(H47<>I47,\"Close\",IF(G48=\"Close\",\"Open\",))","v":"Open"},{"$f":"IF(I47<>J47,\"Close\",IF(H48=\"Close\",\"Open\",))","v":0},0,0,"Close","Open",0,0,0,"Close","Open",0,0,0,"Close"]
[]
[]
[null,60,"Contas a Receber",{"$f":"-D13/(360/$B51)","v":0},0,{"v":-4.867843584580295,"d":"(4.9)"},{"v":-8.302630412952373,"d":"(8.3)"},{"v":-5.267331848738247,"d":"(5.3)"},{"v":-5.267331848738247,"d":"(5.3)"},{"v":-5.281762894899173,"d":"(5.3)"},{"v":-5.267331848738247,"d":"(5.3)"},{"v":-5.267331848738247,"d":"(5.3)"},{"v":-4.364210572317391,"d":"(4.4)"},{"v":-4.376167313611411,"d":"(4.4)"},{"v":-4.364210572317391,"d":"(4.4)"},{"v":-4.364210572317391,"d":"(4.4)"},{"v":-4.364210572317391,"d":"(4.4)"},{"v":-2.8187622312256697,"d":"(2.8)"},{"v":-2.81106069507478,"d":"(2.8)"},{"v":-2.81106069507478,"d":"(2.8)"},{"v":-2.81106069507478,"d":"(2.8)"},{"v":-2.8187622312256697,"d":"(2.8)"}]
[null,30,"Contas a Pagar (Custo)",{"$f":"-D14/(360/$B52)","v":0},0,{"v":0.21613759583496164,"d":"0.2"},{"v":0.3705215928599342,"d":"0.4"},{"v":0.3705215928599342,"d":"0.4"},{"v":0.3705215928599342,"d":"0.4"},{"v":0.3705215928599342,"d":"0.4"},{"v":0.3705215928599342,"d":"0.4"},{"v":0.3705215928599342,"d":"0.4"},{"v":0.3705215928599342,"d":"0.4"},{"v":0.3705215928599342,"d":"0.4"},{"v":0.3705215928599342,"d":"0.4"},{"v":0.3705215928599342,"d":"0.4"},{"v":0.3705215928599342,"d":"0.4"},{"v":0.3705215928599342,"d":"0.4"},{"v":0.3705215928599342,"d":"0.4"},{"v":0.3705215928599342,"d":"0.4"},{"v":0.3705215928599342,"d":"0.4"},{"v":0.3705215928599342,"d":"0.4"}]
[null,30,"Contar a Pagar (Despesa)",{"$f":"-D15/(360/$B53)","v":0},0,{"v":0.029847222222222223,"d":"0.0"},{"v":0.051166666666666666,"d":"0.1"},{"v":0.051166666666666666,"d":"0.1"},{"v":0.051166666666666666,"d":"0.1"},{"v":0.051166666666666666,"d":"0.1"},{"v":0.051166666666666666,"d":"0.1"},{"v":0.051166666666666666,"d":"0.1"},{"v":0.051166666666666666,"d":"0.1"},{"v":0.051166666666666666,"d":"0.1"},{"v":0.051166666666666666,"d":"0.1"},{"v":0.051166666666666666,"d":"0.1"},{"v":0.051166666666666666,"d":"0.1"},{"v":0.051166666666666666,"d":"0.1"},{"v":0.051166666666666666,"d":"0.1"},{"v":0.051166666666666666,"d":"0.1"},{"v":0.051166666666666666,"d":"0.1"},{"v":0.051166666666666666,"d":"0.1"}]
[null,null,"Capital de Giro",{"$f":"SUM(D51:D53)","v":0},{"$f":"IF(E48=\"Close\",,SUM(E51:E53))","v":0},{"$f":"IF(F48=\"Close\",,SUM(F51:F53))","v":{"v":-4.621858766523111,"d":"(4.6)"}},0,{"v":-4.845643589211646,"d":"(4.8)"},{"v":-4.845643589211646,"d":"(4.8)"},{"v":-4.8600746353725714,"d":"(4.9)"},{"v":-4.845643589211646,"d":"(4.8)"},0,{"v":-3.94252231279079,"d":"(3.9)"},{"v":-3.95447905408481,"d":"(4.0)"},{"v":-3.94252231279079,"d":"(3.9)"},{"v":-3.94252231279079,"d":"(3.9)"},0,{"v":-2.397073971699069,"d":"(2.4)"},{"v":-2.389372435548179,"d":"(2.4)"},{"v":-2.389372435548179,"d":"(2.4)"},{"v":-2.389372435548179,"d":"(2.4)"},0]
[null,null,"Capital de Giro (∆)",{"$f":"+D54-B54","v":0},{"$f":"+E54-D54","v":0},{"$f":"+F54-E54","v":{"v":-4.621858766523111,"d":"(4.6)"}},{"$f":"+G54-F54","v":{"v":4.621858766523111,"d":"4.6"}},{"v":-4.845643589211646,"d":"(4.8)"},0,{"v":-0.014431046160925831,"d":"(0.0)"},{"v":0.014431046160925831,"d":"0.0"},{"v":4.845643589211646,"d":"4.8"},{"v":-3.94252231279079,"d":"(3.9)"},{"v":-0.011956741294020024,"d":"(0.0)"},{"v":0.011956741294020024,"d":"0.0"},0,{"v":3.94252231279079,"d":"3.9"},{"v":-2.397073971699069,"d":"(2.4)"},{"v":7.701536150889865E-3,"d":"0.0"},0,0,{"v":2.389372435548179,"d":"2.4"}]
[]
[null,null,"Valor do Ativo (MM R$)",{"$f":"+D12","v":2022},2023,2024,2025,2026,2027,2028,2029,2030,2031,2032,2033,2034,2035,2036,2037,2038,2039,2040]
[null,null,"Inicio do Periodo (BoP)",{"$f":"HLOOKUP(D$12,Depreciação_Anual!$G$65:$AS$67,ROWS(Depreciação_Anual!$G$65:$G$67))/10^6","v":0},{"$f":"HLOOKUP(E$12,Depreciação_Anual!$G$65:$AS$67,ROWS(Depreciação_Anual!$G$65:$G$67))/10^6","v":{"v":132.20000441859423,"d":"132"}},{"$f":"HLOOKUP(F$12,Depreciação_Anual!$G$65:$AS$67,ROWS(Depreciação_Anual!$G$65:$G$67))/10^6","v":{"v":165.9832040252322,"d":"166"}},{"$f":"HLOOKUP(G$12,Depreciação_Anual!$G$65:$AS$67,ROWS(Depreciação_Anual!$G$65:$G$67))/10^6","v":{"v":161.4498431943798,"d":"161"}},{"$f":"HLOOKUP(H$12,Depreciação_Anual!$G$65:$AS$67,ROWS(Depreciação_Anual!$G$65:$G$67))/10^6","v":{"v":150.25101014043437,"d":"150"}},{"$f":"HLOOKUP(I$12,Depreciação_Anual!$G$65:$AS$67,ROWS(Depreciação_Anual!$G$65:$G$67))/10^6","v":{"v":139.05217708648897,"d":"139"}},{"$f":"HLOOKUP(J$12,Depreciação_Anual!$G$65:$AS$67,ROWS(Depreciação_Anual!$G$65:$G$67))/10^6","v":{"v":127.85334403254355,"d":"128"}},{"$f":"HLOOKUP(K$12,Depreciação_Anual!$G$65:$AS$67,ROWS(Depreciação_Anual!$G$65:$G$67))/10^6","v":{"v":116.65451097859811,"d":"117"}},{"$f":"HLOOKUP(L$12,Depreciação_Anual!$G$65:$AS$67,ROWS(Depreciação_Anual!$G$65:$G$67))/10^6","v":{"v":105.45567792465269,"d":"105"}},{"$f":"HLOOKUP(M$12,Depreciação_Anual!$G$65:$AS$67,ROWS(Depreciação_Anual!$G$65:$G$67))/10^6","v":{"v":94.25684487070728,"d":"94"}},{"$f":"HLOOKUP(N$12,Depreciação_Anual!$G$65:$AS$67,ROWS(Depreciação_Anual!$G$65:$G$67))/10^6","v":{"v":83.05801181676186,"d":"83"}},{"$f":"HLOOKUP(O$12,Depreciação_Anual!$G$65:$AS$67,ROWS(Depreciação_Anual!$G$65:$G$67))/10^6","v":{"v":71.85917876281644,"d":"72"}},{"$f":"HLOOKUP(P$12,Depreciação_Anual!$G$65:$AS$67,ROWS(Depreciação_Anual!$G$65:$G$67))/10^6","v":{"v":60.66034570887102,"d":"61"}},{"$f":"HLOOKUP(Q$12,Depreciação_Anual!$G$65:$AS$67,ROWS(Depreciação_Anual!$G$65:$G$67))/10^6","v":{"v":49.4615126549256,"d":"49"}},{"$f":"HLOOKUP(R$12,Depreciação_Anual!$G$65:$AS$67,ROWS(Depreciação_Anual!$G$65:$G$67))/10^6","v":{"v":38.26267960098018,"d":"38"}},{"$f":"HLOOKUP(S$12,Depreciação_Anual!$G$65:$AS$67,ROWS(Depreciação_Anual!$G$65:$G$67))/10^6","v":{"v":27.06384654703477,"d":"27"}},{"$f":"HLOOKUP(T$12,Depreciação_Anual!$G$65:$AS$67,ROWS(Depreciação_Anual!$G$65:$G$67))/10^6","v":{"v":15.865013493089348,"d":"16"}},{"$f":"HLOOKUP(U$12,Depreciação_Anual!$G$65:$AS$67,ROWS(Depreciação_Anual!$G$65:$G$67))/10^6","v":{"v":4.666180439143926,"d":"5"}},{"$f":"HLOOKUP(V$12,Depreciação_Anual!$G$65:$AS$67,ROWS(Depreciação_Anual!$G$65:$G$67))/10^6","v":0}]
[null,null,"Fim do Periodo (EoP)",{"$f":"HLOOKUP(D$12,Depreciação_Anual!$G$51:$AS$53,ROWS(Depreciação_Anual!$G$51:$G$53),0)/10^6","v":{"v":132.20000441859423,"d":"132"}},{"$f":"HLOOKUP(E$12,Depreciação_Anual!$G$51:$AS$53,ROWS(Depreciação_Anual!$G$51:$G$53),0)/10^6","v":{"v":165.9832040252322,"d":"166"}},{"$f":"HLOOKUP(F$12,Depreciação_Anual!$G$51:$AS$53,ROWS(Depreciação_Anual!$G$51:$G$53),0)/10^6","v":{"v":161.4498431943798,"d":"161"}},{"$f":"HLOOKUP(G$12,Depreciação_Anual!$G$51:$AS$53,ROWS(Depreciação_Anual!$G$51:$G$53),0)/10^6","v":{"v":150.25101014043437,"d":"150"}},{"$f":"HLOOKUP(H$12,Depreciação_Anual!$G$51:$AS$53,ROWS(Depreciação_Anual!$G$51:$G$53),0)/10^6","v":{"v":139.05217708648897,"d":"139"}},{"$f":"HLOOKUP(I$12,Depreciação_Anual!$G$51:$AS$53,ROWS(Depreciação_Anual!$G$51:$G$53),0)/10^6","v":{"v":127.85334403254355,"d":"128"}},{"$f":"HLOOKUP(J$12,Depreciação_Anual!$G$51:$AS$53,ROWS(Depreciação_Anual!$G$51:$G$53),0)/10^6","v":{"v":116.65451097859811,"d":"117"}},{"$f":"HLOOKUP(K$12,Depreciação_Anual!$G$51:$AS$53,ROWS(Depreciação_Anual!$G$51:$G$53),0)/10^6","v":{"v":105.45567792465269,"d":"105"}},{"$f":"HLOOKUP(L$12,Depreciação_Anual!$G$51:$AS$53,ROWS(Depreciação_Anual!$G$51:$G$53),0)/10^6","v":{"v":94.25684487070728,"d":"94"}},{"$f":"HLOOKUP(M$12,Depreciação_Anual!$G$51:$AS$53,ROWS(Depreciação_Anual!$G$51:$G$53),0)/10^6","v":{"v":83.05801181676186,"d":"83"}},{"$f":"HLOOKUP(N$12,Depreciação_Anual!$G$51:$AS$53,ROWS(Depreciação_Anual!$G$51:$G$53),0)/10^6","v":{"v":71.85917876281644,"d":"72"}},{"$f":"HLOOKUP(O$12,Depreciação_Anual!$G$51:$AS$53,ROWS(Depreciação_Anual!$G$51:$G$53),0)/10^6","v":{"v":60.66034570887102,"d":"61"}},{"$f":"HLOOKUP(P$12,Depreciação_Anual!$G$51:$AS$53,ROWS(Depreciação_Anual!$G$51:$G$53),0)/10^6","v":{"v":49.4615126549256,"d":"49"}},{"$f":"HLOOKUP(Q$12,Depreciação_Anual!$G$51:$AS$53,ROWS(Depreciação_Anual!$G$51:$G$53),0)/10^6","v":{"v":38.26267960098018,"d":"38"}},{"$f":"HLOOKUP(R$12,Depreciação_Anual!$G$51:$AS$53,ROWS(Depreciação_Anual!$G$51:$G$53),0)/10^6","v":{"v":27.06384654703477,"d":"27"}},{"$f":"HLOOKUP(S$12,Depreciação_Anual!$G$51:$AS$53,ROWS(Depreciação_Anual!$G$51:$G$53),0)/10^6","v":{"v":15.865013493089348,"d":"16"}},{"$f":"HLOOKUP(T$12,Depreciação_Anual!$G$51:$AS$53,ROWS(Depreciação_Anual!$G$51:$G$53),0)/10^6","v":{"v":4.666180439143926,"d":"5"}},{"$f":"HLOOKUP(U$12,Depreciação_Anual!$G$51:$AS$53,ROWS(Depreciação_Anual!$G$51:$G$53),0)/10^6","v":0},{"$f":"HLOOKUP(V$12,Depreciação_Anual!$G$51:$AS$53,ROWS(Depreciação_Anual!$G$51:$G$53),0)/10^6","v":0}]
{"$rows_empty":8}
[null,null,"Poka yoke"]
[null,null,"D0",{"$f":"+D70-1","v":2021},2025,2030,2035]
[null,null,"Inicio",{"$f":"D34","v":2022},2026,2031,2036]
[null,null,"Fim",{"$f":"+D35","v":2025},2030,2035,2040]
[{"$nulls":3},{"$f":"D39","v":"2022-2025"},"2026-2030","2031-2035","2036-2040"]
[null,null,{"$f":"+D12","v":2022},{"$f":"IF(AND($C73>=D$70,$C73<=D$71),HLOOKUP($C73,$D$12:$AO$29,ROWS($D$12:$D$29)),IF($C73=D$69,-HLOOKUP($C73,$D$57:$AO$59,ROWS($D$57:$D$59),0),))","v":{"v":-132.20000441859423,"d":"(132)"}},{"$f":"IF(AND($C73>=E$70,$C73<=E$71),HLOOKUP($C73,$D$12:$AO$29,ROWS($D$12:$D$29)),IF($C73=E$69,-HLOOKUP($C73,$D$57:$AO$59,ROWS($D$57:$D$59),0),))","v":0},{"$f":"IF(AND($C73>=F$70,$C73<=F$71),HLOOKUP($C73,$D$12:$AO$29,ROWS($D$12:$D$29)),IF($C73=F$69,-HLOOKUP($C73,$D$57:$AO$59,ROWS($D$57:$D$59),0),))","v":0},{"$f":"IF(AND($C73>=G$70,$C73<=G$71),HLOOKUP($C73,$D$12:$AO$29,ROWS($D$12:$D$29)),IF($C73=G$69,-HLOOKUP($C73,$D$57:$AO$59,ROWS($D$57:$D$59),0),))","v":0}]
[null,null,{"$f":"+C73+1","v":2023},{"$f":"IF(AND($C74>=D$70,$C74<=D$71),HLOOKUP($C74,$D$12:$AO$29,ROWS($D$12:$D$29)),IF($C74=D$69,-HLOOKUP($C74,$D$57:$AO$59,ROWS($D$57:$D$59),0),))","v":{"v":-33.78319960663797,"d":"(34)"}},0,0,0]
[null,null,{"$f":"+C74+1","v":2024},{"v":12.928412174485363,"d":"13"},0,0,0]
[null,null,2025,{"v":188.08255485740122,"d":"188"},{"v":-150.25101014043437,"d":"(150)"},0,0]
[null,null,2026,0,{"v":16.21447310299334,"d":"16"},0,0]
[null,null,2027,0,{"v":20.938546932168787,"d":"21"},0,0]
[null,null,2028,0,{"v":20.86386650797446,"d":"21"},0,0]
[null,null,2029,0,{"v":20.722215503444996,"d":"21"},0,0]
[null,null,2030,0,{"v":119.70079857597945,"d":"120"},{"v":-94.25684487070728,"d":"(94)"},0]
[null,null,2031,0,0,{"v":12.973711415937284,"d":"13"},0]
[null,null,2032,0,0,{"v":16.84953874103779,"d":"17"},0]
[null,null,2033,0,0,{"v":16.72752118835879,"d":"17"},0]
[null,null,2034,0,0,{"v":16.62036639796745,"d":"17"},0]
[null,null,2035,0,0,{"v":58.73363837199884,"d":"59"},{"v":-38.26267960098018,"d":"(38)"}]
[null,null,2036,0,0,0,{"v":7.9226130325912845,"d":"8"}]
[null,null,2037,0,0,0,{"v":10.211164009295398,"d":"10"}]
[null,null,2038,0,0,0,{"v":10.120678978394547,"d":"10"}]
[null,null,2039,0,0,0,{"v":8.728991032661746,"d":"9"}]
[null,null,2040,0,0,0,{"v":10.21189985575115,"d":"10"}]
[]
[]
[]
[null,null,"TIR",{"$f":"IFERROR(IRR(D73:D91),)","v":{"v":0.07250082929807755,"d":"7.25%"}},{"$f":"IFERROR(IRR(E73:E91),)","v":{"v":0.07249999998961276,"d":"7.25%"}},{"v":0.07249999999357004,"d":"7.25%"},{"v":0.07249452202919882,"d":"7.25%"}]
[null,null,"VPL",{"$f":"NPV(D$42,D73:D77)","v":{"v":3.2325318893304251E-4,"d":"0"}},{"$f":"NPV($E$42,E77:E81)+E76","v":0},{"$f":"NPV($F$42,F82:F86)+F81","v":0},{"$f":"NPV($G$42,G87:G91)+G86","v":{"v":-5.727050979089654E-4,"d":"(0)"}}]

{"sheet":"Reajuste CAPEX","index":6,"n_rows":32,"n_cols":5,"rows_kept":32,"merged":[[31,1,36,4]]}
[]
[]
[null,"Mês","Desembolso \nno Periodo","Reajuste \nIGP-M / IPCA","Desembolso\nData-Base Jan/24"]
[{"$f":"DATE(YEAR(B4),MONTH(B4)-1,DAY(B4))","v":"2022-02-01"},"2022-03-01",{"v":2605779.43,"d":"2,605,779.43"},{"$f":"55%*('IGPM e IPCA'!$F$267/VLOOKUP($A4,'IGPM e IPCA'!$B$241:$F$269,5,FALSE))+45%*('IGPM e IPCA'!$K$267/VLOOKUP($A4,'IGPM e IPCA'!$B$241:$K$269,10,FALSE))","v":{"v":1.0319838433495043,"d":"1.0320"}},{"$f":"D4*C4","v":{"v":2689122.271092481,"d":"2,689,122.27"}}]
["2022-03-01","2022-04-01",{"v":242578.57,"d":"242,578.57"},{"$f":"55%*('IGPM e IPCA'!$F$267/VLOOKUP($A5,'IGPM e IPCA'!$B$241:$F$269,5,FALSE))+45%*('IGPM e IPCA'!$K$267/VLOOKUP($A5,'IGPM e IPCA'!$B$241:$K$269,10,FALSE))","v":{"v":1.0148992138602018,"d":"1.0149"}},{"v":246192.79999233194,"d":"246,192.80"}]
["2022-04-01","2022-05-01",{"v":222389.44,"d":"222,389.44"},{"$f":"55%*('IGPM e IPCA'!$F$267/VLOOKUP($A6,'IGPM e IPCA'!$B$241:$F$269,5,FALSE))+45%*('IGPM e IPCA'!$K$267/VLOOKUP($A6,'IGPM e IPCA'!$B$241:$K$269,10,FALSE))","v":{"v":1.0024294208079783,"d":"1.0024"}},{"v":222929.71753301064,"d":"222,929.72"}]
["2022-05-01","2022-06-01",{"v":26335329.669999994,"d":"26,335,329.67"},{"$f":"55%*('IGPM e IPCA'!$F$267/VLOOKUP($A7,'IGPM e IPCA'!$B$241:$F$269,5,FALSE))+45%*('IGPM e IPCA'!$K$267/VLOOKUP($A7,'IGPM e IPCA'!$B$241:$K$269,10,FALSE))","v":{"v":0.9974715805614566,"d":"0.9975"}},{"v":26268742.910541918,"d":"26,268,742.91"}]
["2022-06-01","2022-07-01",{"v":1761248.0100000002,"d":"1,761,248.01"},{"$f":"55%*('IGPM e IPCA'!$F$267/VLOOKUP($A8,'IGPM e IPCA'!$B$241:$F$269,5,FALSE))+45%*('IGPM e IPCA'!$K$267/VLOOKUP($A8,'IGPM e IPCA'!$B$241:$K$269,10,FALSE))","v":{"v":0.991269812160302,"d":"0.9913"}},{"v":1745871.9840404058,"d":"1,745,871.98"}]
["2022-07-01","2022-08-01",{"v":7180273.91,"d":"7,180,273.91"},{"$f":"55%*('IGPM e IPCA'!$F$267/VLOOKUP($A9,'IGPM e IPCA'!$B$241:$F$269,5,FALSE))+45%*('IGPM e IPCA'!$K$267/VLOOKUP($A9,'IGPM e IPCA'!$B$241:$K$269,10,FALSE))","v":{"v":0.9934342496662631,"d":"0.9934"}},{"v":7133130.024179095,"d":"7,133,130.02"}]
["2022-08-01","2022-09-01",{"v":23975025.06,"d":"23,975,025.06"},{"$f":"55%*('IGPM e IPCA'!$F$267/VLOOKUP($A10,'IGPM e IPCA'!$B$241:$F$269,5,FALSE))+45%*('IGPM e IPCA'!$K$267/VLOOKUP($A10,'IGPM e IPCA'!$B$241:$K$269,10,FALSE))","v":{"v":0.9987946308396181,"d":"0.9988"}},{"v":23946126.30417329,"d":"23,946,126.30"}]
["2022-09-01","2022-10-01",{"v":21743983.23,"d":"21,743,983.23"},{"$f":"55%*('IGPM e IPCA'!$F$267/VLOOKUP($A11,'IGPM e IPCA'!$B$241:$F$269,5,FALSE))+45%*('IGPM e IPCA'!$K$267/VLOOKUP($A11,'IGPM e IPCA'!$B$241:$K$269,10,FALSE))","v":{"v":1.0051653318323064,"d":"1.0052"}},{"v":21856298.118739057,"d":"21,856,298.12"}]
["2022-10-01","2022-11-01",{"v":17991585.5,"d":"17,991,585.50"},{"$f":"55%*('IGPM e IPCA'!$F$267/VLOOKUP($A12,'IGPM e IPCA'!$B$241:$F$269,5,FALSE))+45%*('IGPM e IPCA'!$K$267/VLOOKUP($A12,'IGPM e IPCA'!$B$241:$K$269,10,FALSE))","v":{"v":1.0075250597495542,"d":"1.0075"}},{"v":18126973.255876713,"d":"18,126,973.26"}]
["2022-11-01","2022-12-01",{"v":29709041.96,"d":"29,709,041.96"},{"$f":"55%*('IGPM e IPCA'!$F$267/VLOOKUP($A13,'IGPM e IPCA'!$B$241:$F$269,5,FALSE))+45%*('IGPM e IPCA'!$K$267/VLOOKUP($A13,'IGPM e IPCA'!$B$241:$K$269,10,FALSE))","v":{"v":1.0086026022909136,"d":"1.0086"}},{"v":29964617.032425944,"d":"29,964,617.03"}]
["2022-12-01","2023-01-01",{"v":0,"d":"0.00"},{"$f":"55%*('IGPM e IPCA'!$F$267/VLOOKUP($A14,'IGPM e IPCA'!$B$241:$F$269,5,FALSE))+45%*('IGPM e IPCA'!$K$267/VLOOKUP($A14,'IGPM e IPCA'!$B$241:$K$269,10,FALSE))","v":{"v":1.0032987184852447,"d":"1.0033"}},{"v":0,"d":"0.00"}]
["2023-01-01","2023-02-01",{"v":9425540.84,"d":"9,425,540.84"},{"$f":"55%*('IGPM e IPCA'!$F$267/VLOOKUP($A15,'IGPM e IPCA'!$B$241:$F$269,5,FALSE))+45%*('IGPM e IPCA'!$K$267/VLOOKUP($A15,'IGPM e IPCA'!$B$241:$K$269,10,FALSE))","v":{"v":0.9996913971358107,"d":"0.9997"}},{"v":9422632.091100242,"d":"9,422,632.09"}]
["2023-02-01","2023-03-01",{"v":8677375.849999998,"d":"8,677,375.85"},{"$f":"55%*('IGPM e IPCA'!$F$267/VLOOKUP($A16,'IGPM e IPCA'!$B$241:$F$269,5,FALSE))+45%*('IGPM e IPCA'!$K$267/VLOOKUP($A16,'IGPM e IPCA'!$B$241:$K$269,10,FALSE))","v":{"v":0.996112098069097,"d":"0.9961"}},{"v":8643639.06367761,"d":"8,643,639.06"}]
["2023-03-01","2023-04-01",{"v":1574856.85,"d":"1,574,856.85"},{"$f":"55%*('IGPM e IPCA'!$F$267/VLOOKUP($A17,'IGPM e IPCA'!$B$241:$F$269,5,FALSE))+45%*('IGPM e IPCA'!$K$267/VLOOKUP($A17,'IGPM e IPCA'!$B$241:$K$269,10,FALSE))","v":{"v":0.9925645529625466,"d":"0.9926"}},{"v":1563147.0853002544,"d":"1,563,147.09"}]
["2023-04-01","2023-05-01",{"v":5314204.790000001,"d":"5,314,204.79"},{"$f":"55%*('IGPM e IPCA'!$F$267/VLOOKUP($A18,'IGPM e IPCA'!$B$241:$F$269,5,FALSE))+45%*('IGPM e IPCA'!$K$267/VLOOKUP($A18,'IGPM e IPCA'!$B$241:$K$269,10,FALSE))","v":{"v":0.9948656078841328,"d":"0.9949"}},{"v":5286919.5788241215,"d":"5,286,919.58"}]
["2023-05-01","2023-06-01",{"v":528297.73,"d":"528,297.73"},{"$f":"55%*('IGPM e IPCA'!$F$267/VLOOKUP($A19,'IGPM e IPCA'!$B$241:$F$269,5,FALSE))+45%*('IGPM e IPCA'!$K$267/VLOOKUP($A19,'IGPM e IPCA'!$B$241:$K$269,10,FALSE))","v":{"v":1.0038937566417343,"d":"1.0039"}},{"v":530354.7927950006,"d":"530,354.79"}]
["2023-06-01","2023-07-01",{"v":184619.94,"d":"184,619.94"},{"$f":"55%*('IGPM e IPCA'!$F$267/VLOOKUP($A20,'IGPM e IPCA'!$B$241:$F$269,5,FALSE))+45%*('IGPM e IPCA'!$K$267/VLOOKUP($A20,'IGPM e IPCA'!$B$241:$K$269,10,FALSE))","v":{"v":1.0150160634492578,"d":"1.0150"}},{"v":187392.20473303818,"d":"187,392.20"}]
["2023-07-01","2023-08-01",{"v":95068.77999999988,"d":"95,068.78"},{"$f":"55%*('IGPM e IPCA'!$F$267/VLOOKUP($A21,'IGPM e IPCA'!$B$241:$F$269,5,FALSE))+45%*('IGPM e IPCA'!$K$267/VLOOKUP($A21,'IGPM e IPCA'!$B$241:$K$269,10,FALSE))","v":{"v":1.0185299159428651,"d":"1.0185"}},{"v":96830.39650219062,"d":"96,830.40"}]
["2023-08-01","2023-09-01",{"v":548648.7,"d":"548,648.70"},{"$f":"55%*('IGPM e IPCA'!$F$267/VLOOKUP($A22,'IGPM e IPCA'!$B$241:$F$269,5,FALSE))+45%*('IGPM e IPCA'!$K$267/VLOOKUP($A22,'IGPM e IPCA'!$B$241:$K$269,10,FALSE))","v":{"v":1.0182434376116762,"d":"1.0182"}},{"v":558657.9383291772,"d":"558,657.94"}]
["2023-09-01","2023-10-01",{"v":560813.1,"d":"560,813.10"},{"$f":"55%*('IGPM e IPCA'!$F$267/VLOOKUP($A23,'IGPM e IPCA'!$B$241:$F$269,5,FALSE))+45%*('IGPM e IPCA'!$K$267/VLOOKUP($A23,'IGPM e IPCA'!$B$241:$K$269,10,FALSE))","v":{"v":1.0150078634125321,"d":"1.0150"}},{"v":569229.7064047587,"d":"569,229.71"}]
["2023-10-01","2023-11-01",{"v":80565.25000000001,"d":"80,565.25"},{"$f":"55%*('IGPM e IPCA'!$F$267/VLOOKUP($A24,'IGPM e IPCA'!$B$241:$F$269,5,FALSE))+45%*('IGPM e IPCA'!$K$267/VLOOKUP($A24,'IGPM e IPCA'!$B$241:$K$269,10,FALSE))","v":{"v":1.0111435627577052,"d":"1.0111"}},{"v":81463.03391946522,"d":"81,463.03"}]
["2023-11-01","2023-12-01",{"$f":"7010773.46-212639.76","v":{"v":6798133.7,"d":"6,798,133.70"}},{"$f":"55%*('IGPM e IPCA'!$F$267/VLOOKUP($A25,'IGPM e IPCA'!$B$241:$F$269,5,FALSE))+45%*('IGPM e IPCA'!$K$267/VLOOKUP($A25,'IGPM e IPCA'!$B$241:$K$269,10,FALSE))","v":{"v":1.006590046184603,"d":"1.0066"}},{"v":6842933.7150521055,"d":"6,842,933.72"}]
["2023-12-01","2024-01-01",{"v":42527.96000000002,"d":"42,527.96"},{"$f":"55%*('IGPM e IPCA'!$F$267/VLOOKUP($A26,'IGPM e IPCA'!$B$241:$F$269,5,FALSE))+45%*('IGPM e IPCA'!$K$267/VLOOKUP($A26,'IGPM e IPCA'!$B$241:$K$269,10,FALSE))","v":{"v":1,"d":"1.0000"}},{"v":42527.96000000002,"d":"42,527.96"}]
["2024-01-01","2024-02-01",{"v":0,"d":"0.00"},{"$f":"55%*('IGPM e IPCA'!$F$267/VLOOKUP($A27,'IGPM e IPCA'!$B$241:$F$269,5,FALSE))+45%*('IGPM e IPCA'!$K$267/VLOOKUP($A27,'IGPM e IPCA'!$B$241:$K$269,10,FALSE))","v":{"v":0.997723179736751,"d":"0.9977"}},{"v":0,"d":"0.00"}]
["2024-02-01","2024-03-01",{"v":0,"d":"0.00"},{"$f":"55%*('IGPM e IPCA'!$F$267/VLOOKUP($A28,'IGPM e IPCA'!$B$241:$F$269,5,FALSE))+45%*('IGPM e IPCA'!$K$267/VLOOKUP($A28,'IGPM e IPCA'!$B$241:$K$269,10,FALSE))","v":{"v":0.996892095691045,"d":"0.9969"}},{"v":0,"d":"0.00"}]
[{"$f":"DATE(YEAR(B29),MONTH(B29)-1,DAY(B29))","v":"2024-03-01"},"2024-04-01",{"$f":"1747135.54+212639.76","v":{"v":1959775.3,"d":"1,959,775.30"}},{"$f":"55%*('IGPM e IPCA'!$F$267/VLOOKUP($A29,'IGPM e IPCA'!$B$241:$F$270,5,FALSE))+45%*('IGPM e IPCA'!$K$267/VLOOKUP($A29,'IGPM e IPCA'!$B$241:$K$270,10,FALSE))","v":{"v":0.9984633564618901,"d":"0.9985"}},{"v":1956763.8239491077,"d":"1,956,763.82"}]
[null,null,{"$f":"SUM(C4:C29)","v":{"v":167557663.56999996,"d":"167,557,663.57"}},null,{"$f":"SUM(E4:E29)","v":{"v":167982495.80918133,"d":"167,982,495.81"}}]
[]
[null,"Nota: Os valores destacados em amarelo dos meses de dezembro de 2023, março e abril de 2024, foram ajustados devido a: (i) Reversão de provisão de custo de R$ 212.639,76 (custos de engenharia) do mês de dezembro de 2023, que foi pago em abril de 2024; e (ii) Acerto do pagamento do projeto básico que ocorreu no mês de abril de 2024, diferente do que estava projetado (março/2024)"]

{"sheet":"IGPM e IPCA","index":7,"n_rows":270,"n_cols":11,"rows_kept":270,"merged":[[0,2,0,5],[0,7,0,10],[1,1,2,1],[1,2,2,2],[1,3,2,3],[1,4,2,4],[1,5,2,5],[1,7,2,7],[1,8,2,8],[1,9,2,9],[1,10,2,10]]}
[null,null,"IGP-M - Fonte: FGV DADOS",{"$nulls":4},"IPCA - Fonte: IBGE"]
[null,"Mês/ano","Mensal (em %)","Acumulado nos últimos 12 meses (em %)","Acumulado no ano (em %)","Número índice acumulado a partir de ago/94¹",null,"Mensal (em %)","Acumulado nos últimos 12 meses (em %)","Acumulado no ano (em %)","Número índice acumulado a partir de ago/94¹"]
[]
[null,"2002-01-01",0.36,{"v":9.659999999999998,"d":"9.66"},{"$f":"SUM($C$4:C4)","v":0.36},{"v":216.944,"d":"216.9440"}]
[null,"2002-02-01",0.06,9.49,{"$f":"SUM($C$4:C5)","v":0.42},{"v":217.074,"d":"217.0740"}]
[null,"2002-03-01",0.09,9.02,{"$f":"SUM($C$4:C6)","v":0.51},{"v":217.276,"d":"217.2760"}]
[null,"2002-04-01",0.56,8.58,{"$f":"SUM($C$4:C7)","v":1.07},{"v":218.486,"d":"218.4860"}]
[null,"2002-05-01",0.83,{"v":8.549999999999999,"d":"8.55"},{"$f":"SUM($C$4:C8)","v":{"v":1.9,"d":"1.90"}},{"v":220.292,"d":"220.2920"}]
[null,"2002-06-01",1.54,9.11,{"$f":"SUM($C$4:C9)","v":3.44},{"v":223.688,"d":"223.6880"}]
[null,"2002-07-01",1.95,9.58,{"$f":"SUM($C$4:C10)","v":5.39},{"v":228.057,"d":"228.0570"}]
[null,"2002-08-01",2.32,10.52,{"$f":"SUM($C$4:C11)","v":{"v":7.709999999999999,"d":"7.71"}},{"v":233.348,"d":"233.3480"}]
[null,"2002-09-01",{"v":2.4,"d":"2.40"},{"v":12.610000000000001,"d":"12.61"},{"$f":"SUM($C$4:C12)","v":10.11},{"v":238.943,"d":"238.9430"}]
[null,"2002-10-01",3.87,{"v":15.3,"d":"15.30"},{"$f":"SUM($C$4:C13)","v":13.98},{"v":248.199,"d":"248.1990"}]
[null,"2002-11-01",5.19,19.39,{"$f":"SUM($C$4:C14)","v":19.17},{"v":261.08,"d":"261.0800"}]
[null,"2002-12-01",3.75,{"$f":"SUM(C4:C15)","v":22.92},{"$f":"SUM($C$4:C15)","v":22.92},{"v":270.867,"d":"270.8670"}]
[null,"2003-01-01",2.33,{"$f":"((F16/F4)-1)","v":{"v":0.27762464046021096,"d":"27.76%"}},{"$f":"SUM($C$16:C16)","v":2.33},{"v":277.173,"d":"277.1730"}]
[null,"2003-02-01",2.28,{"v":0.3060338870615549,"d":"30.60%"},{"$f":"SUM($C$16:C17)","v":{"v":4.609999999999999,"d":"4.61"}},{"v":283.506,"d":"283.5060"}]
[null,"2003-03-01",1.53,{"v":0.3248356928514884,"d":"32.48%"},{"$f":"SUM($C$16:C18)","v":6.14},{"v":287.855,"d":"287.8550"}]
[null,"2003-04-01",0.92,{"v":0.3296595662880002,"d":"32.97%"},{"$f":"SUM($C$16:C19)","v":7.06},{"v":290.512,"d":"290.5120"}]
[null,"2003-05-01",-0.26,{"v":0.3152860748461135,"d":"31.53%"},{"$f":"SUM($C$16:C20)","v":{"v":6.8,"d":"6.80"}},{"v":289.747,"d":"289.7470"}]
[null,"2003-06-01",{"v":-1,"d":"-1.00"},{"v":0.28233521690926655,"d":"28.23%"},{"$f":"SUM($C$16:C21)","v":{"v":5.8,"d":"5.80"}},{"v":286.843,"d":"286.8430"}]
[null,"2003-07-01",-0.42,{"v":0.252533357888598,"d":"25.25%"},{"$f":"SUM($C$16:C22)","v":5.38},{"v":285.649,"d":"285.6490"}]
[null,"2003-08-01",0.38,{"v":0.2287870476712892,"d":"22.88%"},{"$f":"SUM($C$16:C23)","v":5.76},{"v":286.735,"d":"286.7350"}]
[null,"2003-09-01",1.18,{"v":0.2142100835764178,"d":"21.42%"},{"$f":"SUM($C$16:C24)","v":{"v":6.9399999999999995,"d":"6.94"}},{"v":290.127,"d":"290.1270"}]
[null,"2003-10-01",0.38,{"v":0.17336894991518892,"d":"17.34%"},{"$f":"SUM($C$16:C25)","v":{"v":7.319999999999999,"d":"7.32"}},{"v":291.229,"d":"291.2290"}]
[null,"2003-11-01",0.49,{"v":0.12094760226750423,"d":"12.09%"},{"$f":"SUM($C$16:C26)","v":7.81},{"v":292.657,"d":"292.6570"}]
[null,"2003-12-01",0.61,{"v":0.0870833287185222,"d":"8.71%"},{"$f":"SUM($C$16:C27)","v":8.42},{"v":294.455,"d":"294.4550"}]
[null,"2004-01-01",0.88,{"v":0.07167364786613417,"d":"7.17%"},{"$f":"SUM($C$28:C28)","v":0.88},{"v":297.039,"d":"297.0390"}]
[null,"2004-02-01",0.69,{"v":0.05499354511015642,"d":"5.50%"},{"$f":"SUM($C$28:C29)","v":{"v":1.5699999999999998,"d":"1.57"}},{"v":299.097,"d":"299.0970"}]
[null,"2004-03-01",1.13,{"v":0.050820725712598325,"d":"5.08%"},{"$f":"SUM($C$28:C30)","v":{"v":2.6999999999999997,"d":"2.70"}},{"v":302.484,"d":"302.4840"}]
[null,"2004-04-01",1.21,{"v":0.05383254392245429,"d":"5.38%"},{"$f":"SUM($C$28:C31)","v":{"v":3.9099999999999997,"d":"3.91"}},{"v":306.151,"d":"306.1510"}]
[null,"2004-05-01",1.31,{"v":0.07042350740473569,"d":"7.04%"},{"$f":"SUM($C$28:C32)","v":5.22},{"v":310.152,"d":"310.1520"}]
[null,"2004-06-01",1.38,{"v":0.09613621388703919,"d":"9.61%"},{"$f":"SUM($C$28:C33)","v":{"v":6.6,"d":"6.60"}},{"v":314.419,"d":"314.4190"}]
[null,"2004-07-01",1.31,{"v":0.11511680418975723,"d":"11.51%"},{"$f":"SUM($C$28:C34)","v":7.91},{"v":318.532,"d":"318.5320"}]
[null,"2004-08-01",1.22,{"v":0.12442499171709054,"d":"12.44%"},{"$f":"SUM($C$28:C35)","v":9.13},{"v":322.412,"d":"322.4120"}]
[null,"2004-09-01",0.69,{"v":0.11899616374897892,"d":"11.90%"},{"$f":"SUM($C$28:C36)","v":9.82},{"v":324.651,"d":"324.6510"}]
[null,"2004-10-01",0.39,{"v":0.11913648709434854,"d":"11.91%"},{"$f":"SUM($C$28:C37)","v":10.21},{"v":325.925,"d":"325.9250"}]
[null,"2004-11-01",0.82,{"v":0.12277512582989658,"d":"12.28%"},{"$f":"SUM($C$28:C38)","v":{"v":11.030000000000001,"d":"11.03"}},{"v":328.588,"d":"328.5880"}]
[null,"2004-12-01",0.74,{"v":0.12412762561342139,"d":"12.41%"},{"$f":"SUM($C$28:C39)","v":{"v":11.770000000000001,"d":"11.77"}},{"v":331.005,"d":"331.0050"}]
[null,"2005-01-01",0.39,{"v":0.1187015846404007,"d":"11.87%"},{"$f":"SUM($C$40:C40)","v":0.39},{"v":332.298,"d":"332.2980"}]
[null,"2005-02-01",{"v":0.3,"d":"0.30"},{"v":0.11431408539704524,"d":"11.43%"},{"$f":"SUM($C$40:C41)","v":0.69},{"v":333.288,"d":"333.2880"}]
[null,"2005-03-01",0.85,{"v":0.11120918792398937,"d":"11.12%"},{"$f":"SUM($C$40:C42)","v":1.54},{"v":336.123,"d":"336.1230"}]
[null,"2005-04-01",0.86,{"v":0.10739471698606229,"d":"10.74%"},{"$f":"SUM($C$40:C43)","v":{"v":2.4,"d":"2.40"}},{"v":339.03,"d":"339.0300"}]
[null,"2005-05-01",-0.22,{"v":0.09075227630323202,"d":"9.08%"},{"$f":"SUM($C$40:C44)","v":{"v":2.1799999999999997,"d":"2.18"}},{"v":338.299,"d":"338.2990"}]
[null,"2005-06-01",-0.44,{"v":0.07118526552148574,"d":"7.12%"},{"$f":"SUM($C$40:C45)","v":{"v":1.7399999999999998,"d":"1.74"}},{"v":336.801,"d":"336.8010"}]
[null,"2005-07-01",-0.34,{"v":0.05378109577687651,"d":"5.38%"},{"$f":"SUM($C$40:C46)","v":{"v":1.3999999999999997,"d":"1.40"}},{"v":335.663,"d":"335.6630"}]
[null,"2005-08-01",-0.65,{"v":0.03431013733980137,"d":"3.43%"},{"$f":"SUM($C$40:C47)","v":{"v":0.7499999999999997,"d":"0.75"}},{"v":333.474,"d":"333.4740"}]
[null,"2005-09-01",-0.53,{"v":0.021681744396290226,"d":"2.17%"},{"$f":"SUM($C$40:C48)","v":{"v":0.21999999999999964,"d":"0.22"}},{"v":331.69,"d":"331.6900"}]
[null,"2005-10-01",{"v":0.6,"d":"0.60"},{"v":0.023836772263557515,"d":"2.38%"},{"$f":"SUM($C$40:C49)","v":{"v":0.8199999999999996,"d":"0.82"}},{"v":333.694,"d":"333.6940"}]
[null,"2005-11-01",{"v":0.4,"d":"0.40"},{"v":0.019614228151971336,"d":"1.96%"},{"$f":"SUM($C$40:C50)","v":{"v":1.2199999999999998,"d":"1.22"}},{"v":335.033,"d":"335.0330"}]
[null,"2005-12-01",-0.01,{"v":0.01208743070346352,"d":"1.21%"},{"$f":"SUM($C$40:C51)","v":{"v":1.2099999999999997,"d":"1.21"}},{"v":335.006,"d":"335.0060"}]
[null,"2006-01-01",0.92,{"v":0.017409072579431806,"d":"1.74%"},{"$f":"SUM($C$52:C52)","v":0.92},{"v":338.083,"d":"338.0830"}]
[null,"2006-02-01",0.01,{"v":0.014521974988598307,"d":"1.45%"},{"$f":"SUM($C$52:C53)","v":0.93},{"v":338.128,"d":"338.1280"}]
[null,"2006-03-01",-0.23,{"v":3.6177232739205145E-3,"d":"0.36%"},{"$f":"SUM($C$52:C54)","v":{"v":0.7000000000000001,"d":"0.70"}},{"v":337.339,"d":"337.3390"}]
[null,"2006-04-01",-0.42,{"v":-0.009170279916231538,"d":"-0.92%"},{"$f":"SUM($C$52:C55)","v":{"v":0.2800000000000001,"d":"0.28"}},{"v":335.921,"d":"335.9210"}]
[null,"2006-05-01",0.38,{"v":-3.292944998359415E-3,"d":"-0.33%"},{"$f":"SUM($C$52:C56)","v":{"v":0.6600000000000001,"d":"0.66"}},{"v":337.185,"d":"337.1850"}]
[null,"2006-06-01",0.75,{"v":8.643085976585585E-3,"d":"0.86%"},{"$f":"SUM($C$52:C57)","v":{"v":1.4100000000000001,"d":"1.41"}},{"v":339.712,"d":"339.7120"}]
[null,"2006-07-01",0.18,{"v":0.013850200945591196,"d":"1.39%"},{"$f":"SUM($C$52:C58)","v":1.59},{"v":340.312,"d":"340.3120"}]
[null,"2006-08-01",0.37,{"v":0.024289749725615817,"d":"2.43%"},{"$f":"SUM($C$52:C59)","v":1.96},{"v":341.574,"d":"341.5740"}]
[null,"2006-09-01",0.29,{"v":0.032774578672857047,"d":"3.28%"},{"$f":"SUM($C$52:C60)","v":2.25},{"v":342.561,"d":"342.5610"}]
[null,"2006-10-01",0.47,{"v":0.031349080295120624,"d":"3.13%"},{"$f":"SUM($C$52:C61)","v":{"v":2.7199999999999998,"d":"2.72"}},{"v":344.155,"d":"344.1550"}]
[null,"2006-11-01",0.75,{"v":0.03496073521115828,"d":"3.50%"},{"$f":"SUM($C$52:C62)","v":{"v":3.4699999999999998,"d":"3.47"}},{"v":346.746,"d":"346.7460"}]
[null,"2006-12-01",0.32,{"v":0.03831573165853741,"d":"3.83%"},{"$f":"SUM($C$52:C63)","v":{"v":3.7899999999999996,"d":"3.79"}},{"v":347.842,"d":"347.8420"}]
[null,"2007-01-01",{"v":0.5,"d":"0.50"},{"v":0.03404489430110358,"d":"3.40%"},{"$f":"SUM($C$64:C64)","v":{"v":0.5,"d":"0.50"}},{"v":349.593,"d":"349.5930"}]
[null,"2007-02-01",0.27,{"v":0.036660672881275724,"d":"3.67%"},{"$f":"SUM($C$64:C65)","v":0.77},{"v":350.524,"d":"350.5240"}]
[null,"2007-03-01",0.34,{"v":0.04262181366518547,"d":"4.26%"},{"$f":"SUM($C$64:C66)","v":1.11},{"v":351.717,"d":"351.7170"}]
[null,"2007-04-01",0.04,{"v":0.04747544809642745,"d":"4.75%"},{"$f":"SUM($C$64:C67)","v":{"v":1.1500000000000001,"d":"1.15"}},{"v":351.869,"d":"351.8690"}]
[null,"2007-05-01",0.04,{"v":0.043996619066684506,"d":"4.40%"},{"$f":"SUM($C$64:C68)","v":{"v":1.1900000000000002,"d":"1.19"}},{"v":352.02,"d":"352.0200"}]
[null,"2007-06-01",0.26,{"v":0.03892709118311988,"d":"3.89%"},{"$f":"SUM($C$64:C69)","v":{"v":1.4500000000000002,"d":"1.45"}},{"v":352.936,"d":"352.9360"}]
[null,"2007-07-01",0.28,{"v":0.03998683560967575,"d":"4.00%"},{"$f":"SUM($C$64:C70)","v":{"v":1.7300000000000002,"d":"1.73"}},{"v":353.92,"d":"353.9200"}]
[null,"2007-08-01",0.98,{"v":0.04634427678921682,"d":"4.63%"},{"$f":"SUM($C$64:C71)","v":2.71},{"v":357.404,"d":"357.4040"}]
[null,"2007-09-01",1.29,{"v":0.05673734021094057,"d":"5.67%"},{"$f":"SUM($C$64:C72)","v":{"v":4,"d":"4.00"}},{"v":361.997,"d":"361.9970"}]
[null,"2007-10-01",1.05,{"v":0.06287573912917144,"d":"6.29%"},{"$f":"SUM($C$64:C73)","v":5.05},{"v":365.794,"d":"365.7940"}]
[null,"2007-11-01",0.69,{"v":0.062258829229464796,"d":"6.23%"},{"$f":"SUM($C$64:C74)","v":5.74},{"v":368.334,"d":"368.3340"}]
[null,"2007-12-01",1.76,{"v":0.07754382736989784,"d":"7.75%"},{"$f":"SUM($C$64:C75)","v":{"v":7.5,"d":"7.50"}},{"v":374.815,"d":"374.8150"}]
[null,"2008-01-01",1.09,{"v":0.08383177008692955,"d":"8.38%"},{"$f":"SUM($C$76:C76)","v":1.09},{"v":378.9,"d":"378.9000"}]
[null,"2008-02-01",0.53,{"v":0.08667594800926604,"d":"8.67%"},{"$f":"SUM($C$76:C77)","v":1.62},{"v":380.906,"d":"380.9060"}]
[null,"2008-03-01",0.74,{"v":0.09102204329048647,"d":"9.10%"},{"$f":"SUM($C$76:C78)","v":{"v":2.3600000000000003,"d":"2.36"}},{"v":383.731,"d":"383.7310"}]
[null,"2008-04-01",0.69,{"v":0.09807911467051644,"d":"9.81%"},{"$f":"SUM($C$76:C79)","v":{"v":3.0500000000000003,"d":"3.05"}},{"v":386.38,"d":"386.3800"}]
[null,"2008-05-01",1.61,{"$f":"((F80/F68)-1)","v":{"v":0.11525481506732582,"d":"11.53%"}},{"$f":"SUM($C$76:C80)","v":4.66},{"v":392.592,"d":"392.5920"}]
[null,"2008-06-01",1.98,{"v":0.1344323050071401,"d":"13.44%"},{"$f":"SUM($C$76:C81)","v":{"v":6.640000000000001,"d":"6.64"}},{"v":400.382,"d":"400.3820"}]
[null,"2008-07-01",1.76,{"v":0.15123756781193487,"d":"15.12%"},{"$f":"SUM($C$76:C82)","v":{"v":8.4,"d":"8.40"}},{"v":407.446,"d":"407.4460"}]
[null,"2008-08-01",-0.32,{"v":0.1363247193652002,"d":"13.63%"},{"$f":"SUM($C$76:C83)","v":8.08},{"v":406.127,"d":"406.1270"}]
[null,"2008-09-01",0.11,{"v":0.12309494277576882,"d":"12.31%"},{"$f":"SUM($C$76:C84)","v":8.19},{"v":406.557,"d":"406.5570"}]
[null,"2008-10-01",0.98,{"v":0.12228194010836702,"d":"12.23%"},{"$f":"SUM($C$76:C85)","v":9.17},{"v":410.524,"d":"410.5240"}]
[null,"2008-11-01",0.38,{"v":0.1188323641043183,"d":"11.88%"},{"$f":"SUM($C$76:C86)","v":9.55},{"v":412.104,"d":"412.1040"}]
[null,"2008-12-01",-0.13,{"v":0.09807505035817665,"d":"9.81%"},{"$f":"SUM($C$76:C87)","v":9.42},{"v":411.575,"d":"411.5750"}]
[null,"2009-01-01",-0.44,{"v":0.08150435471100548,"d":"8.15%"},{"$f":"SUM($C$88:C88)","v":-0.44},{"v":409.782,"d":"409.7820"}]
[null,"2009-02-01",0.26,{"v":0.07860994576089642,"d":"7.86%"},{"$f":"SUM($C$88:C89)","v":-0.18},{"v":410.849,"d":"410.8490"}]
[null,"2009-03-01",-0.74,{"v":0.06274447464499877,"d":"6.27%"},{"$f":"SUM($C$88:C90)","v":{"v":-0.9199999999999999,"d":"-0.92"}},{"v":407.808,"d":"407.8080"}]
[null,"2009-04-01",-0.15,{"v":0.05383560225684558,"d":"5.38%"},{"$f":"SUM($C$88:C91)","v":{"v":-1.0699999999999998,"d":"-1.07"}},{"v":407.181,"d":"407.1810"}]
[null,"2009-05-01",-0.07,{"v":0.03640675306679708,"d":"3.64%"},{"$f":"SUM($C$88:C92)","v":-1.14},{"v":406.885,"d":"406.8850"}]
[null,"2009-06-01",{"v":-0.1,"d":"-0.10"},{"v":0.015245440604222837,"d":"1.52%"},{"$f":"SUM($C$88:C93)","v":-1.24},{"v":406.486,"d":"406.4860"}]
[null,"2009-07-01",-0.43,{"v":-0.006695365766261063,"d":"-0.67%"},{"$f":"SUM($C$88:C94)","v":-1.67},{"v":404.718,"d":"404.7180"}]
[null,"2009-08-01",-0.36,{"v":-0.007076604116446394,"d":"-0.71%"},{"$f":"SUM($C$88:C95)","v":-2.03},{"v":403.253,"d":"403.2530"}]
[null,"2009-09-01",0.42,{"v":-3.9650036772211905E-3,"d":"-0.40%"},{"$f":"SUM($C$88:C96)","v":{"v":-1.6099999999999999,"d":"-1.61"}},{"v":404.945,"d":"404.9450"}]
[null,"2009-10-01",0.05,{"v":-0.013141740799563428,"d":"-1.31%"},{"$f":"SUM($C$88:C97)","v":{"v":-1.5599999999999998,"d":"-1.56"}},{"v":405.129,"d":"405.1290"}]
[null,"2009-11-01",{"v":0.1,"d":"0.10"},{"v":-0.015908605594704195,"d":"-1.59%"},{"$f":"SUM($C$88:C98)","v":{"v":-1.4599999999999997,"d":"-1.46"}},{"v":405.548,"d":"405.5480"}]
[null,"2009-12-01",-0.26,{"v":-0.01719249225536046,"d":"-1.72%"},{"$f":"SUM($C$88:C99)","v":{"v":-1.7199999999999998,"d":"-1.72"}},{"v":404.499,"d":"404.4990"}]
[null,"2010-01-01",0.63,{"v":-6.669399827225253E-3,"d":"-0.67%"},{"$f":"SUM($C$100:C100)","v":0.63},{"v":407.049,"d":"407.0490"}]
[null,"2010-02-01",1.18,{"v":0.002419380356286638,"d":"0.24%"},{"$f":"SUM($C$100:C101)","v":1.81},{"v":411.843,"d":"411.8430"}]
[null,"2010-03-01",0.94,{"v":0.0194356167608285,"d":"1.94%"},{"$f":"SUM($C$100:C102)","v":2.75},{"v":415.734,"d":"415.7340"}]
[null,"2010-04-01",0.77,{"v":0.028822562938840335,"d":"2.88%"},{"$f":"SUM($C$100:C103)","v":3.52},{"v":418.917,"d":"418.9170"}]
[null,"2010-05-01",1.19,{"v":0.041780847168118695,"d":"4.18%"},{"$f":"SUM($C$100:C104)","v":4.71},{"v":423.885,"d":"423.8850"}]
[null,"2010-06-01",0.85,{"v":0.0516696762004103,"d":"5.17%"},{"$f":"SUM($C$100:C105)","v":5.56},{"v":427.489,"d":"427.4890"}]
[null,"2010-07-01",0.15,{"v":0.05789710366230305,"d":"5.79%"},{"$f":"SUM($C$100:C106)","v":5.71},{"v":428.15,"d":"428.1500"}]
[null,"2010-08-01",0.77,{"v":0.06991144517213765,"d":"6.99%"},{"$f":"SUM($C$100:C107)","v":6.48},{"v":431.445,"d":"431.4450"}]
[null,"2010-09-01",1.15,{"v":0.07773401326106022,"d":"7.77%"},{"$f":"SUM($C$100:C108)","v":{"v":7.630000000000001,"d":"7.63"}},{"v":436.423,"d":"436.4230"}]
[null,"2010-10-01",1.01,{"v":0.08812008027072848,"d":"8.81%"},{"$f":"SUM($C$100:C109)","v":8.64},{"v":440.829,"d":"440.8290"}]
[null,"2010-11-01",1.45,{"v":0.10272026985708238,"d":"10.27%"},{"$f":"SUM($C$100:C110)","v":10.09},{"v":447.206,"d":"447.2060"}]
[null,"2010-12-01",0.69,{"v":0.11323142949673537,"d":"11.32%"},{"$f":"SUM($C$100:C111)","v":10.78},{"v":450.301,"d":"450.3010"}]
[null,"2011-01-01",0.79,{"v":0.1150377472982369,"d":"11.50%"},{"$f":"SUM($C$112:C112)","v":0.79},{"v":453.875,"d":"453.8750"}]
[null,"2011-02-01",{"v":1,"d":"1.00"},{"v":0.11303822087543058,"d":"11.30%"},{"$f":"SUM($C$112:C113)","v":1.79},{"v":458.397,"d":"458.3970"}]
[null,"2011-03-01",0.62,{"v":0.1094810624100988,"d":"10.95%"},{"$f":"SUM($C$112:C114)","v":2.41},{"v":461.249,"d":"461.2490"}]
[null,"2011-04-01",0.45,{"v":0.10597325961944737,"d":"10.60%"},{"$f":"SUM($C$112:C115)","v":{"v":2.8600000000000003,"d":"2.86"}},{"v":463.311,"d":"463.3110"}]
[null,"2011-05-01",0.43,{"v":0.09772933696639408,"d":"9.77%"},{"$f":"SUM($C$112:C116)","v":{"v":3.2900000000000005,"d":"3.29"}},{"v":465.311,"d":"465.3110"}]
[null,"2011-06-01",-0.18,{"v":0.08649111439124768,"d":"8.65%"},{"$f":"SUM($C$112:C117)","v":{"v":3.1100000000000003,"d":"3.11"}},{"v":464.463,"d":"464.4630"}]
[null,"2011-07-01",-0.12,{"v":0.0835618358052086,"d":"8.36%"},{"$f":"SUM($C$112:C118)","v":2.99},{"v":463.927,"d":"463.9270"}]
[null,"2011-08-01",0.44,{"v":0.08001715166475454,"d":"8.00%"},{"$f":"SUM($C$112:C119)","v":3.43},{"v":465.968,"d":"465.9680"}]
[null,"2011-09-01",0.65,{"v":0.07458818623216468,"d":"7.46%"},{"$f":"SUM($C$112:C120)","v":4.08},{"v":468.975,"d":"468.9750"}]
[null,"2011-10-01",0.53,{"v":0.06949860376699357,"d":"6.95%"},{"$f":"SUM($C$112:C121)","v":4.61},{"v":471.466,"d":"471.4660"}]
[null,"2011-11-01",{"v":0.5,"d":"0.50"},{"v":0.05948489063205775,"d":"5.95%"},{"$f":"SUM($C$112:C122)","v":5.11},{"v":473.808,"d":"473.8080"}]
[null,"2011-12-01",-0.12,{"v":0.050968130206239914,"d":"5.10%"},{"$f":"SUM($C$112:C123)","v":4.99},{"v":473.252,"d":"473.2520"}]
[null,"2012-01-01",0.25,{"v":0.04528559625447537,"d":"4.53%"},{"$f":"SUM($C$124:C124)","v":0.25},{"v":474.429,"d":"474.4290"}]
[null,"2012-02-01",-0.06,{"v":0.03433922996878258,"d":"3.43%"},{"$f":"SUM($C$124:C125)","v":0.19},{"v":474.138,"d":"474.1380"}]
[null,"2012-03-01",0.43,{"v":0.03234044951858972,"d":"3.23%"},{"$f":"SUM($C$124:C126)","v":0.62},{"v":476.166,"d":"476.1660"}]
[null,"2012-04-01",0.85,{"v":0.036515429160973945,"d":"3.65%"},{"$f":"SUM($C$124:C127)","v":1.47},{"v":480.229,"d":"480.2290"}]
[null,"2012-05-01",1.02,{"v":0.042614509435624726,"d":"4.26%"},{"$f":"SUM($C$124:C128)","v":2.49},{"v":485.14,"d":"485.1400"}]
[null,"2012-06-01",0.66,{"v":0.051412060810010596,"d":"5.14%"},{"$f":"SUM($C$124:C129)","v":{"v":3.1500000000000004,"d":"3.15"}},{"v":488.342,"d":"488.3420"}]
[null,"2012-07-01",1.34,{"v":0.06674325917655155,"d":"6.67%"},{"$f":"SUM($C$124:C130)","v":4.49},{"v":494.891,"d":"494.8910"}]
[null,"2012-08-01",1.43,{"v":0.07723491741922195,"d":"7.72%"},{"$f":"SUM($C$124:C131)","v":5.92},{"v":501.957,"d":"501.9570"}]
[null,"2012-09-01",0.97,{"v":0.08066314835545585,"d":"8.07%"},{"$f":"SUM($C$124:C132)","v":6.89},{"v":506.804,"d":"506.8040"}]
[null,"2012-10-01",0.02,{"v":0.07521221042450565,"d":"7.52%"},{"$f":"SUM($C$124:C133)","v":{"v":6.909999999999999,"d":"6.91"}},{"v":506.926,"d":"506.9260"}]
[null,"2012-11-01",-0.03,{"v":0.06962102792692404,"d":"6.96%"},{"$f":"SUM($C$124:C134)","v":{"v":6.879999999999999,"d":"6.88"}},{"v":506.795,"d":"506.7950"}]
[null,"2012-12-01",0.68,{"v":0.07818244825167131,"d":"7.82%"},{"$f":"SUM($C$124:C135)","v":{"v":7.559999999999999,"d":"7.56"}},{"v":510.252,"d":"510.2520"}]
[null,"2013-01-01",0.34,{"v":0.0791435599425836,"d":"7.91%"},{"$f":"SUM($C$136:C136)","v":0.34},{"v":511.977,"d":"511.9770"}]
[null,"2013-02-01",0.29,{"v":0.0829484242984111,"d":"8.29%"},{"$f":"SUM($C$136:C137)","v":0.63},{"v":513.467,"d":"513.4670"}]
[null,"2013-03-01",0.21,{"v":0.08056014079123663,"d":"8.06%"},{"$f":"SUM($C$136:C138)","v":0.84},{"v":514.526,"d":"514.5260"}]
[null,"2013-04-01",0.15,{"v":0.0729797659033502,"d":"7.30%"},{"$f":"SUM($C$136:C139)","v":0.99},{"v":515.276,"d":"515.2760"}]
[null,"2013-05-01",{"v":0,"d":"0.00"},{"v":0.06216556045677546,"d":"6.22%"},{"$f":"SUM($C$136:C140)","v":0.99},{"v":515.299,"d":"515.2990"}]
[null,"2013-06-01",0.75,{"v":0.06309307821158128,"d":"6.31%"},{"$f":"SUM($C$136:C141)","v":1.74},{"v":519.153,"d":"519.1530"}]
[null,"2013-07-01",0.26,{"v":0.051762913449628245,"d":"5.18%"},{"$f":"SUM($C$136:C142)","v":{"v":2,"d":"2.00"}},{"v":520.508,"d":"520.5080"}]
[null,"2013-08-01",0.15,{"v":0.03847540725600007,"d":"3.85%"},{"$f":"SUM($C$136:C143)","v":2.15},{"v":521.27,"d":"521.2700"}]
[null,"2013-09-01",{"v":1.5,"d":"1.50"},{"$f":"((F144/F132)-1)","v":{"v":0.04396374140693449,"d":"4.40%"}},{"$f":"SUM($C$136:C144)","v":3.65},{"v":529.085,"d":"529.0850"}]
[null,"2013-10-01",0.86,{"v":0.05266054611521209,"d":"5.27%"},{"$f":"SUM($C$136:C145)","v":4.51},{"v":533.621,"d":"533.6210"}]
[null,"2013-11-01",0.29,{"v":0.05598516165313394,"d":"5.60%"},{"$f":"SUM($C$136:C146)","v":{"v":4.8,"d":"4.80"}},{"v":535.168,"d":"535.1680"}]
[null,"2013-12-01",{"v":0.6,"d":"0.60"},{"v":0.055106104434671455,"d":"5.51%"},{"$f":"SUM($C$136:C147)","v":{"v":5.3999999999999995,"d":"5.40"}},{"v":538.37,"d":"538.3700"}]
[null,"2014-01-01",0.48,{"v":0.056608011688024984,"d":"5.66%"},{"$f":"SUM($C$148:C148)","v":0.48},{"v":540.959,"d":"540.9590"}]
[null,"2014-02-01",0.38,{"v":0.05759084809734616,"d":"5.76%"},{"$f":"SUM($C$148:C149)","v":0.86},{"v":543.038,"d":"543.0380"}]
[null,"2014-03-01",1.67,{"v":0.0730011700089015,"d":"7.30%"},{"$f":"SUM($C$148:C150)","v":2.53},{"v":552.087,"d":"552.0870"}]
[null,"2014-04-01",0.78,{"v":0.07984846955806213,"d":"7.98%"},{"$f":"SUM($C$148:C151)","v":{"v":3.3099999999999996,"d":"3.31"}},{"v":556.42,"d":"556.4200"}]
[null,"2014-05-01",-0.13,{"v":0.07836227122505579,"d":"7.84%"},{"$f":"SUM($C$148:C152)","v":{"v":3.1799999999999997,"d":"3.18"}},{"v":555.679,"d":"555.6790"}]
[null,"2014-06-01",-0.74,{"v":0.062411273747815965,"d":"6.24%"},{"$f":"SUM($C$148:C153)","v":{"v":2.4399999999999995,"d":"2.44"}},{"v":551.554,"d":"551.5540"}]
[null,"2014-07-01",-0.61,{"v":0.05320571441745359,"d":"5.32%"},{"$f":"SUM($C$148:C154)","v":{"v":1.8299999999999996,"d":"1.83"}},{"v":548.202,"d":"548.2020"}]
[null,"2014-08-01",-0.27,{"v":0.04887102653135611,"d":"4.89%"},{"$f":"SUM($C$148:C155)","v":{"v":1.5599999999999996,"d":"1.56"}},{"v":546.745,"d":"546.7450"}]
[null,"2014-09-01",{"v":0.2,"d":"0.20"},{"v":0.03544610034304507,"d":"3.54%"},{"$f":"SUM($C$148:C156)","v":{"v":1.7599999999999996,"d":"1.76"}},{"v":547.839,"d":"547.8390"}]
[null,"2014-10-01",0.28,{"v":0.029562179899216723,"d":"2.96%"},{"$f":"SUM($C$148:C157)","v":{"v":2.0399999999999996,"d":"2.04"}},{"v":549.396,"d":"549.3960"}]
[null,"2014-11-01",0.98,{"v":0.03662588196603678,"d":"3.66%"},{"$f":"SUM($C$148:C158)","v":{"v":3.0199999999999996,"d":"3.02"}},{"v":554.769,"d":"554.7690"}]
[null,"2014-12-01",0.62,{"v":0.036857551498040264,"d":"3.69%"},{"$f":"SUM($C$148:C159)","v":{"v":3.6399999999999997,"d":"3.64"}},{"v":558.213,"d":"558.2130"}]
[null,"2015-01-01",0.76,{"v":0.03978674908819335,"d":"3.98%"},{"$f":"SUM($C$160:C160)","v":0.76},{"v":562.482,"d":"562.4820"}]
[null,"2015-02-01",0.27,{"v":0.03860871614877781,"d":"3.86%"},{"$f":"SUM($C$160:C161)","v":1.03},{"v":564.004,"d":"564.0040"}]
[null,"2015-03-01",0.98,{"v":0.0316055259406578,"d":"3.16%"},{"$f":"SUM($C$160:C162)","v":2.01},{"v":569.536,"d":"569.5360"}]
[null,"2015-04-01",1.17,{"v":0.03550375615542212,"d":"3.55%"},{"$f":"SUM($C$160:C163)","v":{"v":3.1799999999999997,"d":"3.18"}},{"v":576.175,"d":"576.1750"}]
[null,"2015-05-01",0.41,{"v":0.04109746814257864,"d":"4.11%"},{"$f":"SUM($C$160:C164)","v":3.59},{"v":578.516,"d":"578.5160"}]
[null,"2015-06-01",0.67,{"v":0.055927434122497566,"d":"5.59%"},{"$f":"SUM($C$160:C165)","v":4.26},{"v":582.401,"d":"582.4010"}]
[null,"2015-07-01",0.69,{"v":0.06972612285252522,"d":"6.97%"},{"$f":"SUM($C$160:C166)","v":{"v":4.949999999999999,"d":"4.95"}},{"v":586.426,"d":"586.4260"}]
[null,"2015-08-01",0.28,{"v":0.07553246943273373,"d":"7.55%"},{"$f":"SUM($C$160:C167)","v":{"v":5.2299999999999995,"d":"5.23"}},{"v":588.042,"d":"588.0420"}]
[null,"2015-09-01",0.95,{"v":0.08354096732799232,"d":"8.35%"},{"$f":"SUM($C$160:C168)","v":6.18},{"v":593.606,"d":"593.6060"}]
[null,"2015-10-01",1.89,{"v":0.10090353770322325,"d":"10.09%"},{"$f":"SUM($C$160:C169)","v":8.07},{"v":604.832,"d":"604.8320"}]
[null,"2015-11-01",1.52,{"v":0.10685889081761957,"d":"10.69%"},{"$f":"SUM($C$160:C170)","v":9.59},{"v":614.051,"d":"614.0510"}]
[null,"2015-12-01",0.49,{"v":0.10539166948817025,"d":"10.54%"},{"$f":"SUM($C$160:C171)","v":10.08},{"v":617.044,"d":"617.0440"}]
[null,"2016-01-01",1.14,{"v":0.10947550321610278,"d":"10.95%"},{"$f":"SUM($C$172:C172)","v":1.14},{"v":624.06,"d":"624.0600"}]
[null,"2016-02-01",1.29,{"v":0.12076155488258955,"d":"12.08%"},{"$f":"SUM($C$172:C173)","v":{"v":2.4299999999999997,"d":"2.43"}},{"v":632.114,"d":"632.1140"}]
[null,"2016-03-01",0.51,{"v":0.11555546971569863,"d":"11.56%"},{"$f":"SUM($C$172:C174)","v":{"v":2.9399999999999995,"d":"2.94"}},{"v":635.349,"d":"635.3490"}]
[null,"2016-04-01",0.33,{"v":0.10632012843320182,"d":"10.63%"},{"$f":"SUM($C$172:C175)","v":{"v":3.2699999999999996,"d":"3.27"}},{"v":637.434,"d":"637.4340"}]
[null,"2016-05-01",0.82,{"v":0.1108612380642886,"d":"11.09%"},{"$f":"SUM($C$172:C176)","v":4.09},{"v":642.651,"d":"642.6510"}]
[null,"2016-06-01",1.69,{"v":0.12207224918913262,"d":"12.21%"},{"$f":"SUM($C$172:C177)","v":{"v":5.779999999999999,"d":"5.78"}},{"v":653.496,"d":"653.4960"}]
[null,"2016-07-01",0.18,{"v":0.11632328716666707,"d":"11.63%"},{"$f":"SUM($C$172:C178)","v":{"v":5.959999999999999,"d":"5.96"}},{"v":654.641,"d":"654.6410"}]
[null,"2016-08-01",0.15,{"v":0.11488975277276103,"d":"11.49%"},{"$f":"SUM($C$172:C179)","v":{"v":6.109999999999999,"d":"6.11"}},{"v":655.602,"d":"655.6020"}]
[null,"2016-09-01",{"v":0.2,"d":"0.20"},{"v":0.10661617301711912,"d":"10.66%"},{"$f":"SUM($C$172:C180)","v":6.31},{"v":656.894,"d":"656.8940"}]
[null,"2016-10-01",0.16,{"v":0.08778470715835152,"d":"8.78%"},{"$f":"SUM($C$172:C181)","v":6.47},{"v":657.927,"d":"657.9270"}]
[null,"2016-11-01",-0.03,{"v":0.07116835572289593,"d":"7.12%"},{"$f":"SUM($C$172:C182)","v":{"v":6.4399999999999995,"d":"6.44"}},{"v":657.752,"d":"657.7520"}]
[null,"2016-12-01",0.54,{"v":0.07172908252896071,"d":"7.17%"},{"$f":"SUM($C$172:C183)","v":{"v":6.9799999999999995,"d":"6.98"}},{"v":661.304,"d":"661.3040"}]
[null,"2017-01-01",0.64,{"v":0.0664711726436562,"d":"6.65%"},{"$f":"((F184/$F$183)-1)*100","v":{"v":0.640855037925081,"d":"0.6409"}},{"v":665.542,"d":"665.5420"}]
[null,"2017-02-01",0.08,{"v":0.053764036233970414,"d":"5.38%"},{"$f":"((F185/$F$183)-1)*100","v":{"v":0.7250825641460068,"d":"0.73"}},{"v":666.099,"d":"666.0990"}]
[null,"2017-03-01",0.01,{"v":0.04855284261091142,"d":"4.86%"},{"v":0.7399017698365595,"d":"0.74"},{"v":666.197,"d":"666.1970"}]
[null,"2017-04-01",{"v":-1.1,"d":"-1.10"},{"v":0.033672505702551314,"d":"3.37%"},{"v":-0.3638266213420671,"d":"-0.36"},{"v":658.898,"d":"658.8980"}]
[null,"2017-05-01",-0.93,{"v":0.01572704313849993,"d":"1.57%"},{"v":-1.2922952227719664,"d":"-1.29"},{"v":652.758,"d":"652.7580"}]
[null,"2017-06-01",-0.67,{"v":-0.007784286361354864,"d":"-0.78%"},{"v":-1.9499352793873936,"d":"-1.95"},{"v":648.409,"d":"648.4090"}]
[null,"2017-07-01",-0.72,{"v":-0.01661215841965291,"d":"-1.66%"},{"v":-2.6520329530745346,"d":"-2.65"},{"v":643.766,"d":"643.7660"}]
[null,"2017-08-01",{"v":0.1,"d":"0.10"},{"v":-0.017112516435276226,"d":"-1.71%"},{"v":-2.5587324437777337,"d":"-2.56"},{"v":644.383,"d":"644.3830"}]
[null,"2017-09-01",0.47,{"v":-0.014452864541311117,"d":"-1.45%"},{"v":-2.102512611446472,"d":"-2.10"},{"v":647.4,"d":"647.4000"}]
[null,"2017-10-01",{"v":0.2,"d":"0.20"},{"v":-0.014066910158725854,"d":"-1.41%"},{"v":-1.9101653702381927,"d":"-1.91"},{"v":648.672,"d":"648.6720"}]
[null,"2017-11-01",0.52,{"v":-0.008633953222491164,"d":"-0.86%"},{"v":-1.3958784462213991,"d":"-1.40"},{"v":652.073,"d":"652.0730"}]
[null,"2017-12-01",0.89,{"$f":"((F195/F183)-1)","v":{"v":-0.005209404449390775,"d":"-0.52%"}},{"v":-0.5209404449390775,"d":"-0.52"},{"v":657.859,"d":"657.8590"}]
[null,"2018-01-01",0.76,{"$f":"((F196/F184)-1)","v":{"v":-4.0808844520706655E-3,"d":"-0.41%"}},{"$f":"((F196/$F$195)-1)*100","v":{"v":0.7550250129586988,"d":"0.7550"}},{"v":662.826,"d":"662.8260"}]
[null,"2018-02-01",0.07,{"v":-0.004185564007752607,"d":"-0.42%"},{"$f":"((F197/$F$195)-1)*100","v":{"v":0.8287490176466461,"d":"0.83"}},{"v":663.311,"d":"663.3110"}]
[null,"2018-03-01",0.64,{"v":0.001991903295871955,"d":"0.20%"},{"v":1.4691598047605892,"d":"1.47"},{"v":667.524,"d":"667.5240"}]
[null,"2018-04-01",0.57,{"v":0.0188633142003769,"d":"1.89%"},{"v":2.04724720646825,"d":"2.05"},{"v":671.327,"d":"671.3270"}]
[null,"2018-05-01",1.38,{"v":0.04262069557171255,"d":"4.26%"},{"v":3.453627601051279,"d":"3.45"},{"v":680.579,"d":"680.5790"}]
[null,"2018-06-01",1.87,{"v":0.06921248779705413,"d":"6.92%"},{"v":5.385348532132261,"d":"5.39"},{"v":693.287,"d":"693.2870"}]
[null,"2018-07-01",0.51,{"v":0.08238086509694509,"d":"8.24%"},{"v":5.919353539284233,"d":"5.92"},{"v":696.8,"d":"696.8000"}]
[null,"2018-08-01",0.7,{"v":0.08891296014947625,"d":"8.89%"},{"v":6.660697809104987,"d":"6.66"},{"v":701.677,"d":"701.6770"}]
[null,"2018-09-01",1.52,{"v":0.10035990114303384,"d":"10.04%"},{"v":8.28657812692386,"d":"8.29"},{"v":712.373,"d":"712.3730"}]
[null,"2018-10-01",0.89,{"v":0.10793128114054551,"d":"10.79%"},{"v":9.245902237409531,"d":"9.25"},{"v":718.684,"d":"718.6840"}]
[null,"2018-11-01",-0.49,{"v":0.09675757162158227,"d":"9.68%"},{"v":8.711137188972117,"d":"8.71"},{"v":715.166,"d":"715.1660"}]
[null,"2018-12-01",-1.08,{"v":0.07536873402963251,"d":"7.54%"},{"v":7.536873402963251,"d":"7.54"},{"v":707.441,"d":"707.4410"}]
[null,"2019-01-01",0.01,{"v":0.06738118299523554,"d":"6.74%"},{"$f":"((F208/$F$207)-1)*100","v":{"v":0.006643663570526925,"d":"0.0066"}},{"v":707.488,"d":"707.4880"}]
[null,"2019-02-01",0.88,{"v":0.07603673088490903,"d":"7.60%"},{"$f":"((F209/$F$207)-1)*100","v":{"v":0.8913817548035663,"d":"0.89"}},713.747]
[null,"2019-03-01",1.26,{"v":0.08266818870931991,"d":"8.27%"},{"v":2.1579184695260656,"d":"2.16"},722.707]
[null,"2019-04-01",0.92,{"v":0.08642435057728948,"d":"8.64%"},{"v":3.0963712874995997,"d":"3.10"},729.346]
[null,"2019-05-01",0.45,{"v":0.07642904056692923,"d":"7.64%"},{"v":3.555632201130554,"d":"3.56"},732.595]
[null,"2019-06-01",{"v":0.8,"d":"0.80"},{"v":0.06510146591527022,"d":"6.51%"},{"v":4.379163774788286,"d":"4.38"},738.421]
[null,"2019-07-01",{"v":0.4,"d":"0.40"},{"v":0.06392939150401844,"d":"6.39%"},{"v":4.79262581614579,"d":"4.79"},741.346]
[null,"2019-08-01",-0.67,{"v":0.04948858235341902,"d":"4.95%"},{"v":4.093768950343568,"d":"4.09"},736.402]
[null,"2019-09-01",-0.01,{"v":0.033674774310648914,"d":"3.37%"},{"v":4.088114768581397,"d":"4.09"},736.362]
[null,"2019-10-01",0.68,{"v":0.03151454603135728,"d":"3.15%"},{"v":4.790788207073082,"d":"4.79"},741.333]
[null,"2019-11-01",{"v":0.3,"d":"0.30"},{"v":0.03969987387543572,"d":"3.97%"},{"v":5.105302067592921,"d":"5.11"},743.558]
[null,"2019-12-01",2.09,{"v":0.073039306458065,"d":"7.30%"},{"v":7.3039306458065,"d":"7.30"},759.112]
[null,"2020-01-01",0.48,{"v":0.07808613008277154,"d":"7.81%"},{"$f":"((F220/$F$219)-1)*100","v":{"v":0.47700471076732587,"d":"0.4770"}},762.733]
[null,"2020-02-01",-0.04,{"v":0.06819783480701158,"d":"6.82%"},{"$f":"((F221/$F$219)-1)*100","v":{"v":0.43616752205208886,"d":"0.44"}},762.423]
[null,"2020-03-01",1.24,{"v":0.06807876497667809,"d":"6.81%"},{"v":1.6856537638714864,"d":"1.69"},771.908]
[null,"2020-04-01",0.8,{"v":0.06684755932026776,"d":"6.68%"},{"v":2.5014754081084334,"d":"2.50"},778.101]
[null,"2020-05-01",0.28,{"v":0.06509053433343115,"d":"6.51%"},{"v":2.788521324916493,"d":"2.79"},780.28]
[null,"2020-06-01",1.56,{"v":0.07313984840626131,"d":"7.31%"},{"v":4.388943923953259,"d":"4.39"},792.429]
[null,"2020-07-01",2.23,{"v":0.092719189150545,"d":"9.27%"},{"v":6.714555954852508,"d":"6.71"},810.083]
[null,"2020-08-01",2.74,{"v":0.13024272068788512,"d":"13.02%"},{"v":9.642977584335387,"d":"9.64"},832.313]
[null,"2020-09-01",4.34,{"v":0.17936829983078972,"d":"17.94%"},{"v":14.402354329795862,"d":"14.40"},868.442]
[null,"2020-10-01",3.23,{"v":0.20931484231782482,"d":"20.93%"},{"v":18.099173771459288,"d":"18.10"},896.505]
[null,"2020-11-01",3.28,{"v":0.24521153696147446,"d":"24.52%"},{"v":21.96974886446268,"d":"21.97"},925.887]
[null,"2020-12-01",{"v":0.96,"d":"0.9600"},{"v":0.2313835112605256,"d":"23.14%"},{"v":23.13835112605256,"d":"23.14"},{"v":934.758,"d":"934.7580"}]
[null,"2021-01-01",{"v":2.58,"d":"2.5800"},{"v":0.2571161861359088,"d":"25.71%"},{"$f":"((F232/$F$231)-1)*100","v":{"v":2.576709693845891,"d":"2.5767"}},{"v":958.844,"d":"958.8440"}]
[null,"2021-02-01",{"v":2.53,"d":"2.5300"},{"v":0.28939315839107693,"d":"28.94%"},{"$f":"((F233/$F$231)-1)*100","v":{"v":5.167647669236319,"d":"5.17"}},{"v":983.063,"d":"983.0630"}]
[null,"2021-03-01",{"v":2.94,"d":"2.9400"},{"v":0.310969701052457,"d":"31.10%"},{"v":8.25775227385055,"d":"8.26"},{"v":1011.948,"d":"1011.9480"}]
[null,"2021-04-01",{"v":1.51,"d":"1.5100"},{"v":0.3201512400061175,"d":"32.02%"},{"v":9.89058130553575,"d":"9.89"},{"v":1027.211,"d":"1027.2110"}]
[null,"2021-05-01",{"v":4.1,"d":"4.1000"},{"v":0.3703913979597069,"d":"37.04%"},{"v":14.392067251630891,"d":"14.39"},{"v":1069.289,"d":"1069.2890"}]
[null,"2021-06-01",{"v":0.6,"d":"0.6000"},{"v":0.3575134176058674,"d":"35.75%"},{"v":15.081443539397355,"d":"15.0814"},{"v":1075.733,"d":"1075.7330"}]
[null,"2021-07-01",{"v":0.78,"d":"0.7800"},{"v":0.3382517593876184,"d":"33.83%"},{"v":15.976006624174378,"d":"15.9760"},{"v":1084.095,"d":"1084.0950"}]
[null,"2021-08-01",{"v":0.66,"d":"0.6600"},{"v":0.31115337619381167,"d":"31.12%"},{"v":16.745724561865206,"d":"16.7457"},{"v":1091.29,"d":"1091.2900"}]
[null,"2021-09-01",{"v":-0.64,"d":"-0.6400"},{"v":0.2485715799097694,"d":"24.86%"},{"v":15.999221188799662,"d":"15.9992"},{"v":1084.312,"d":"1084.3120"}]
[null,"2021-10-01",{"v":0.64,"d":"0.6400"},{"v":0.21726370739705847,"d":"21.73%"},{"v":16.7449757049418,"d":"16.7450"},{"v":1091.283,"d":"1091.2830"}]
[null,"2021-11-01",{"v":0.02,"d":"0.0200"},{"v":0.17885119890440193,"d":"17.89%"},{"v":16.766371617038843,"d":"16.7664"},{"v":1091.483,"d":"1091.4830"}]
[null,"2021-12-01",{"v":0.87,"d":"0.8700"},{"v":0.17783212339450416,"d":"17.78%"},{"v":17.783212339450415,"d":"17.7832"},{"v":1100.988,"d":"1100.9880"}]
[null,"2022-01-01",{"v":1.82,"d":"1.8200"},{"v":0.16911510110090888,"d":"16.91%"},{"$f":"((F244/$F$243)-1)*100","v":{"v":1.817549328421375,"d":"1.8175"}},{"v":1120.999,"d":"1120.9990"}]
[null,"2022-02-01",{"v":1.83,"d":"1.8300"},{"v":0.16121347258517527,"d":"16.12%"},{"$f":"((F245/$F$243)-1)*100","v":{"v":3.683782202894137,"d":"3.6838"}},{"v":1141.546,"d":"1141.5460"},null,{"v":1.01,"d":"1.0100"},{"v":0.1054,"d":"10.54%"},{"v":1.56,"d":"1.5600"},{"v":6215.24,"d":"6215.2400"}]
[null,"2022-03-01",{"v":1.74,"d":"1.7400"},{"v":0.1477052180546825,"d":"14.77%"},{"v":5.488706507246199,"d":"5.4887"},{"v":1161.418,"d":"1161.4180"},null,{"v":1.62,"d":"1.6200"},{"v":0.113,"d":"11.30%"},{"v":3.2,"d":"3.2000"},{"v":6315.93,"d":"6315.9300"}]
[null,"2022-04-01",{"v":1.41,"d":"1.4100"},{"v":0.14660863250101475,"d":"14.66%"},{"v":6.977460244798306,"d":"6.9775"},{"v":1177.809,"d":"1177.8090"},null,{"v":1.06,"d":"1.0600"},{"v":0.1213,"d":"12.13%"},{"v":4.29,"d":"4.2900"},{"v":6382.88,"d":"6382.8800"}]
[null,"2022-05-01",{"v":0.52,"d":"0.5200"},{"v":0.10723387222724634,"d":"10.72%"},{"v":7.535504474163202,"d":"7.5355"},{"v":1183.953,"d":"1183.9530"},null,{"v":0.47,"d":"0.4700"},{"v":0.1173,"d":"11.73%"},{"v":4.78,"d":"4.7800"},{"v":6412.88,"d":"6412.8800"}]
[null,"2022-06-01",{"v":0.59,"d":"0.5900"},{"v":0.10704236088323049,"d":"10.70%"},{"v":8.164848299890636,"d":"8.1648"},{"v":1190.882,"d":"1190.8820"},null,{"v":0.67,"d":"0.6700"},{"v":0.1189,"d":"11.89%"},{"v":5.49,"d":"5.4900"},{"v":6455.85,"d":"6455.8500"}]
[null,"2022-07-01",{"v":0.21,"d":"0.2100"},{"v":0.10076792163048442,"d":"10.08%"},{"v":8.38782984010724,"d":"8.3878"},{"v":1193.337,"d":"1193.3370"},null,{"v":-0.68,"d":"-0.6800"},{"v":0.1007,"d":"10.07%"},{"v":4.77,"d":"4.7700"},{"v":6411.95,"d":"6411.9500"}]
[null,"2022-08-01",{"v":-0.7,"d":"-0.7000"},{"v":0.08587451548167757,"d":"8.59%"},{"v":7.630964188528844,"d":"7.6310"},{"v":1185.004,"d":"1185.0040"},null,{"v":-0.36,"d":"-0.3600"},{"v":0.0873,"d":"8.73%"},{"v":4.39,"d":"4.3900"},{"v":6388.87,"d":"6388.8700"}]
[null,"2022-09-01",{"v":-0.95,"d":"-0.9500"},{"v":0.08252329587793916,"d":"8.25%"},{"v":6.612696959458209,"d":"6.6127"},{"v":1173.793,"d":"1173.7930"},null,{"v":-0.29,"d":"-0.2900"},{"v":0.0717,"d":"7.17%"},{"v":4.09,"d":"4.0900"},{"v":6370.34,"d":"6370.3400"}]
[null,"2022-10-01",{"v":-0.97,"d":"-0.9700"},{"v":0.06515999974342135,"d":"6.52%"},{"v":5.577081675731255,"d":"5.5771"},{"v":1162.391,"d":"1162.3910"},null,{"v":0.59,"d":"0.5900"},{"v":0.0647,"d":"6.47%"},{"v":4.7,"d":"4.7000"},{"v":6407.93,"d":"6407.9300"}]
[null,"2022-11-01",{"v":-0.56,"d":"-0.5600"},{"v":0.058952819237679366,"d":"5.90%"},{"v":4.9810715466471756,"d":"4.9811"},{"v":1155.829,"d":"1155.8290"},null,{"v":0.41,"d":"0.4100"},{"v":0.059000000000000004,"d":"5.90%"},{"v":5.13,"d":"5.1300"},{"v":6434.2,"d":"6434.2000"}]
[null,"2022-12-01",{"v":0.45,"d":"0.4500"},{"v":0.054512855725947995,"d":"5.45%"},{"v":5.4512855725947995,"d":"5.4513"},{"v":1161.006,"d":"1161.0060"},null,{"v":0.62,"d":"0.6200"},{"v":0.0579,"d":"5.79%"},{"v":5.79,"d":"5.7900"},{"v":6474.09,"d":"6474.0900"}]
[null,"2023-01-01",{"v":0.21,"d":"0.2100"},{"v":0.037882281786156824,"d":"3.79%"},{"$f":"((F256/$F$255)-1)*100","v":{"v":0.21179907769639517,"d":"0.2118"}},{"v":1163.465,"d":"1163.4650"},null,{"v":0.53,"d":"0.5300"},{"v":0.057699999999999994,"d":"5.77%"},{"v":0.53,"d":"0.5300"},{"v":6508.4,"d":"6508.4000"}]
[null,"2023-02-01",{"v":-0.06,"d":"-0.0600"},{"v":0.018584446005679878,"d":"1.86%"},{"v":0.151162009498651,"d":"0.1512"},{"v":1162.761,"d":"1162.7610"},null,{"v":0.84,"d":"0.8400"},{"v":0.055999999999999994,"d":"5.60%"},{"v":1.37,"d":"1.3700"},{"v":6563.07,"d":"6563.0700"}]
[null,"2023-03-01",{"v":0.05,"d":"0.0500"},{"v":1.6712329238912638E-3,"d":"0.17%"},{"v":0.2026690645870799,"d":"0.2027"},{"v":1163.359,"d":"1163.3590"},null,{"v":0.71,"d":"0.7100"},{"v":0.04650000000000001,"d":"4.65%"},{"v":2.09,"d":"2.0900"},{"v":6609.67,"d":"6609.6700"}]
[null,"2023-04-01",{"v":-0.95,"d":"-0.9500"},{"v":-0.021652067525379737,"d":"-2.17%"},{"v":-0.7492640003583184,"d":"-0.7493"},{"v":1152.307,"d":"1152.3070"},null,{"v":0.61,"d":"0.6100"},{"v":0.0418,"d":"4.18%"},{"v":2.72,"d":"2.7200"},{"v":6649.99,"d":"6649.9900"}]
[null,"2023-05-01",{"v":-1.84,"d":"-1.8400"},{"$f":"((F260/F248)-1)","v":{"v":-0.04467660456116074,"d":"-4.47%"}},{"v":-2.5794870999805375,"d":"-2.5795"},{"v":1131.058,"d":"1131.0580"},null,{"v":0.23,"d":"0.2300"},{"v":0.0394,"d":"3.94%"},{"v":2.95,"d":"2.9500"},{"v":6665.28,"d":"6665.2800"}]
[null,"2023-06-01",{"v":-1.93,"d":"-1.9300"},{"v":-0.06856430779875755,"d":"-6.86%"},{"v":-4.459580742907454,"d":"-4.4596"},{"v":1109.23,"d":"1109.2300"},null,{"v":-0.08,"d":"-0.0800"},{"v":0.0316,"d":"3.16%"},{"v":2.87,"d":"2.8700"},{"v":6659.95,"d":"6659.9500"}]
[null,"2023-07-01",{"v":-0.72,"d":"-0.7200"},{"v":-0.07720618735529028,"d":"-7.72%"},{"v":-5.150877773241492,"d":"-5.1509"},{"v":1101.204,"d":"1101.2040"},null,{"v":0.12,"d":"0.1200"},{"v":0.039900000000000005,"d":"3.99%"},{"v":2.99,"d":"2.9900"},{"v":6667.94,"d":"6667.9400"}]
[null,"2023-08-01",{"v":-0.14,"d":"-0.1400"},{"v":-0.07197781610863752,"d":"-7.20%"},{"v":-5.279559278763424,"d":"-5.2796"},{"v":1099.71,"d":"1099.7100"},null,{"v":0.23,"d":"0.2300"},{"v":0.0461,"d":"4.61%"},{"v":3.23,"d":"3.2300"},{"v":6683.28,"d":"6683.2800"}]
[null,"2023-09-01",{"v":0.37,"d":"0.3700"},{"v":-0.059680880700430095,"d":"-5.97%"},{"v":-4.932446516210942,"d":"-4.9324"},{"v":1103.74,"d":"1103.7400"},null,{"v":0.26,"d":"0.2600"},{"v":0.0519,"d":"5.19%"},{"v":3.5,"d":"3.5000"},{"v":6700.66,"d":"6700.6600"}]
[null,"2023-10-01",{"v":0.5,"d":"0.5000"},{"v":-0.04572901889295422,"d":"-4.57%"},{"v":-4.459063949712572,"d":"-4.4591"},{"v":1109.236,"d":"1109.2360"},null,{"v":0.24,"d":"0.2400"},{"v":0.0482,"d":"4.82%"},{"v":3.75,"d":"3.7500"},{"v":6716.74,"d":"6716.7400"}]
[null,"2023-11-01",{"v":0.59,"d":"0.5900"},{"v":-0.0346193078733964,"d":"-3.46%"},{"$f":"((F266/$F$255)-1)*100","v":{"v":-3.892400211540681,"d":"-3.8924"}},{"v":1115.815,"d":"1115.8150"},null,{"v":0.28,"d":"0.2800"},{"v":0.0468,"d":"4.68%"},{"v":4.04,"d":"4.0400"},{"v":6735.55,"d":"6735.5500"}]
[null,"2023-12-01",{"v":0.74,"d":"0.7400"},{"v":-0.03181206643204271,"d":"-3.18%"},{"$f":"((F267/$F$255)-1)*100","v":{"v":-3.1812066432042707,"d":"-3.1812"}},{"v":1124.072,"d":"1124.0720"},null,{"v":0.56,"d":"0.5600"},{"$f":"((K267/K255)-1)","v":{"v":0.0462119000508181,"d":"4.62%"}},{"v":4.62,"d":"4.6200"},{"v":6773.27,"d":"6773.2700"}]
[null,"2024-01-01",{"v":0.07,"d":"0.0700"},{"v":-0.033164727774363634,"d":"-3.32%"},{"$f":"((F268/$F$267)-1)*100","v":{"v":0.07179255421361219,"d":"0.0718"}},{"v":1124.879,"d":"1124.8790"},null,{"v":0.42003345503722755,"d":"0.4200"},{"v":0.045067912236494534,"d":"4.51%"},{"$f":"((K268/$K$267)-1)*100","v":{"v":0.42003345503722755,"d":"0.4200"}},{"v":6801.72,"d":"6801.7200"}]
[null,"2024-02-01",{"v":-0.52,"d":"-0.5200"},{"v":-0.03758295986879512,"d":"-3.76%"},{"$f":"((F269/$F$267)-1)*100","v":{"v":-0.44578994939825645,"d":"-0.4458"}},{"v":1119.061,"d":"1119.0610"},null,{"v":0.829937133548575,"d":"0.8299"},{"$f":"((K269/K257)-1)","v":{"v":0.044963713627921065,"d":"4.50%"}},{"$f":"((K269/$K$267)-1)*100","v":{"v":1.2534566022024851,"d":"1.2535"}},{"v":6858.17,"d":"6858.1700"}]
[null,"2024-03-01",{"v":-0.47,"d":"-0.4700"},{"v":-0.042568115259348116,"d":"-4.26%"},{"$f":"((F270/$F$267)-1)*100","v":{"v":-0.9105288629198016,"d":"-0.9105"}},{"v":1113.837,"d":"1113.8370"},null,{"v":0.23,"d":"0.2300"},{"$f":"((K270/K258)-1)","v":{"v":0.03998290247470737,"d":"4.00%"}},{"$f":"((K270/$K$267)-1)*100","v":{"v":1.4863395523875278,"d":"1.4863"}},{"$f":"K269*(1+0.23%)","v":{"v":6873.943791,"d":"6873.9438"}}]