{"text_format":"1","workbook":"xlsx","n_sheets":36,"sheets":["Premissas","Cenário Ref","Fluxo Ótimo","Contratos Originais","Investimento Anterior","Investimento Futuro","Investimento Futuro_I","Investimento e Depreciação","Investimento Adicional","O&M e G&A","O&M e G&A_I","O&M e G&A_Adicional","Fluxo de Caixa Regulado","FC E-S","FC ECTL","FC EM","FC Total","C. Capacidade","C. Demanda","Proporções","Conta Reg","Cálculo Encargos ECE, ECT e ECS","Calculo Encargos EM e ECEmp","TARIFAS","Teste Receita","Receita Anual Máxima","RMP e Conta Reg","Inflação 2020 ","RMP Base 2020","TARIFAS Base 2020","Inflação 2021  ","TARIFAS Base 2021","Inflação 2022","TARIFAS Base 2022","Planilha1","Gasoduto"],"not_rendered":{"charts":0,"images":3,"macros":1,"external_links":4,"defined_names":418,"comments":9,"pivot_tables":0},"unopened":[],"bounds":{"document_bytes":16777216,"sheet_cells":100000,"rows_first":2000,"rows_last":500,"rows_between":2000,"halvings":0,"cell_chars":16384,"cell_head_chars":4096},"cells_cut":0,"cells_raw":0,"read":"whole","date_system":"1904"}

{"sheet":"Premissas","index":0,"n_rows":70,"n_cols":6,"rows_kept":70,"cut":false,"hidden":false,"merged":[[17,0,17,1],[16,0,16,1],[16,2,17,2],[5,6,6,6]]}
[]
[]
[" PREMISSAS"]
[]
[]
["1. Alíquotas de Tributos (%)","2020 ","2021 ","2022 ","2023 ","2024 "]
[]
["IRPJ",0.25,0.25,0.25,0.25,0.25]
["CSLL",0.09,0.09,0.09,0.09,0.09]
["ICMS",{"$f":"+Proporções!C13*17%+(Proporções!C7)*18%+(1-Proporções!C13-Proporções!C7)*12%","v":0.12141465106901241},{"$f":"+Proporções!D13*17%+(Proporções!D7)*18%+(1-Proporções!D13-Proporções!D7)*12%","v":0.13740255855280481},{"$f":"+Proporções!E13*17%+(Proporções!E7)*18%+(1-Proporções!E13-Proporções!E7)*12%","v":0.13863558440535723},{"$f":"+Proporções!F13*17%+(Proporções!F7)*18%+(1-Proporções!F13-Proporções!F7)*12%","v":0.1332896340941854},{"$f":"+Proporções!G13*17%+(Proporções!G7)*18%+(1-Proporções!G13-Proporções!G7)*12%","v":0.13612696238852007}]
["PIS ",1.6500000000000001E-2,1.6500000000000001E-2,1.6500000000000001E-2,1.6500000000000001E-2,1.6500000000000001E-2]
["COFINS",7.5999999999999998E-2,7.5999999999999998E-2,7.5999999999999998E-2,7.5999999999999998E-2,7.5999999999999998E-2]
["CPMF",0,0,0,0,0]
["Outros Tributos Aplicáveis"]
["Benefício fiscal para Prejuízo Acumulado",0.3,0.3,0.3,0.3,0.3]
[]
["2. Depreciação dos Ativos",null," Investimento"]
["Método de Depreciação Contábil - Depreciação Linear"]
["Taxa de Depreciação ","%","%"]
["1. Tubulações",null,0.59978335140278816]
["1.1 Linha Tronco",{"$f":"1/30","v":3.3333333333333333E-2},0.59978335140278816]
["1.2 Trecho(s)/Ramal(is)",{"$f":"1/30","v":3.3333333333333333E-2},0]
["2. Componentes",null,0.25003684106291729]
["2.1 Lançadores e Recebedores de Pigs e Esferas ",3.3333333333333333E-2,7.636922534905527E-2]
["2.2 Válvulas",3.3333333333333333E-2,5.3866624708873663E-2]
["2.3 Sistema de Proteção Catódica e Demais Equipamentos de Controle de Corrosão",3.3333333333333333E-2,2.8829748636846383E-2]
["2.4 Sistemas de Comunicação e de Supervisão e Controle",{"$f":"1/5","v":0.2},9.0971242368141969E-2]
["2.5 Outros Componentes",3.3333333333333333E-2,0]
["3. Complementos",null,0.15017980753429461]
["3.1 Estação(ões) de Recebimento ",3.3333333333333333E-2,7.5089903767147304E-2]
["3.2 Estação(ões) de Entrega",3.3333333333333333E-2,7.5089903767147304E-2]
["3.3 Estação(ões) de Interconexão",3.3333333333333333E-2,0]
["3.4 Estação(ões) de Compressão",3.3333333333333333E-2,0]
["3.5 Estação(ões) de Medição",3.3333333333333333E-2,0]
["3.6 Estação(ões) de Regulagem de Pressão",3.3333333333333333E-2,0]
["3.7 Sistema Elétrico",{"$f":"1/10","v":0.1},0]
["3.8 Sistemas Auxiliares",0.1,0]
["6. Outros Bens e Instalações Diretamente Vinculados",null,0]
["6.1 Imóveis/Edificações/Terrenos e Benfeitorias",3.3333333333333333E-2,0]
["6.2 Móveis, Equipamentos e Instalações de Escritório",{"$f":"1/10","v":0.1},0]
["6.3 Equipamentos e Instalações de Processamento de Dados e de Comunicação",{"$f":"1/5","v":0.2},0]
["6.4 Veículos",{"$f":"1/5","v":0.2},0]
["6.5 Outros Bens Imobilizados",{"$f":"1/20","v":0.05},0]
["8 Overhaul",{"$f":"1/5","v":0.2},0]
["TOTAL",null,{"$f":"C20+C23+C29+C38+C44","v":1}]
[]
["3. Custo de Capital Próprio, Custo de Capital de Terceiros e Custo Médio Ponderado de Capital","WACC 1"]
[]
["Total da Dívida/Capital Total [D/(D+E)]"]
["Capital Próprio/Capital Total [E/(D+E)]"]
["Custo Médio Ponderado de Capital, em termos reais (% a.a.)",7.25]
["Base Regulatória de Ativos (BRA) (Valores na Data-base Dezembro/19)",4202394.619077947,668690.6137317738," => alteração da BRA com desconto de 100% da Capex CPAC"]
[]
["4. Outros","2020 ","2021 ","2022 ","2023 ","2024 "]
[]
["Poder Calorífico de Referência (kcal/m3)",9192.7999999999993,{"$f":"+B56","v":9192.7999999999993},9400,{"$f":"+D56","v":9400},{"$f":"+E56","v":9400}]
["Fator de conversão (MMBtu/m³)",{"$f":"B56/251996","v":3.6479944126097237E-2},{"$f":"C56/251996","v":3.6479944126097237E-2},{"$f":"D56/251996","v":3.7302179399673008E-2},{"$f":"D57","v":3.7302179399673008E-2},3.7302179399673008E-2]
["Extensão Total (km)"]
["Duração do Ano (dias)",366,365,365,365,366]
["Dias Operacionais (dias)",366,365,365,365,366]
["TJLP (a.a.)",0.08,0.08,0.08,0.08,0.08]
["Taxa de Inflação EUA (a.a.)",0.02,{"$f":"+B62","v":0.02},{"$f":"+C62","v":0.02},{"$f":"+D62","v":0.02},{"$f":"+E62","v":0.02}]
["Taxa de Inflação Brasil (a.a.)",0.04,0.04,0.04,0.04,0.04]
["Outras premissas relevantes"]
["% O&M Variável",{"$f":"0.21/119.41","v":1.7586466795075789E-3},{"$f":"+B65","v":1.7586466795075789E-3},{"$f":"+C65","v":1.7586466795075789E-3},{"$f":"+D65","v":1.7586466795075789E-3},{"$f":"+E65","v":1.7586466795075789E-3}]
["Taxa de câmbio  R$/US$",3.8,3.84,3.88,3.88,3.88]
[]
[]
[null,"2016-12-01","2019-12-01","Fator"]
["IGPM",661.30399999999997,759.11199999999997,{"$f":"C70/B70","v":1.1479017214473222}]

{"sheet":"Cenário Ref","index":1,"n_rows":102,"n_cols":16,"rows_kept":102,"cut":false,"hidden":true,"merged":[[4,0,5,0]]}
[]
[]
[]
[]
["Distribuidoras","VOLUME - CENÁRIO BASE",2020,2021,2022,2023,2024,2025,2026,2027,2028,2029,2030]
[null,"EMED CORUMBÁ",{"$f":"-26958.12347896+24.899","v":-26933.224478959997},{"$f":"-26957.87020066+24.899","v":-26932.971200659998},{"$f":"-19460.0761633+24.899","v":-19435.177163299999},{"$f":"-19460.93718082+24.899","v":-19436.03818082},{"$f":"-19463.12308168+24.899+45.3862027282651","v":-19392.837878951734},-19463.277759060002,-19463.298863219999,-19463.357561640001,-19463.450650459999,-19474.674002380001,-19474.749780279999]
["MSgás","Corumbá",null,10.226280000000001,16.362048000000001,16.984765610431584,17.609734305195893,18.236984028659204,18.934002052023509,19.632622146253293,20.332774588400863,21.034176794893735,21.73657198466465]
["MSgás","Campo Grande",95.104404000000002,95.615718000000015,97.149660000000011,100.84704581193753,104.55779743710062,108.28209267016403,112.4206371838896,116.56869399337894,120.72584911863012,124.89042471968155,129.06089615894635]
["MSgás","Três Lagoas (UFN III)",0,0,2098.6886559999971,2098.6886559999971,2098.6886559999971,{"$f":"G9","v":2098.6886559999971},2098.6886559999971,2098.6886559999971,2098.6886559999971,2098.6886559999971,2098.6886559999971]
["MSgás","Três Lagoas (UTE)"]
["Gás Brasiliano","Valparaíso",21.979219213811522,22.871715936244836,23.771070785696526,24.675765870142492,25.58373136945448,26.495010787333893,27.507650817011058,28.52261836338705,29.539812131738543,30.558821579686988,31.579273651186661]
["Gás Brasiliano","Bilac",55.656574731718287,57.916587248391735,60.193966162624839,62.484867813273297,64.784050926862903,67.091625665041562,69.655869414548377,72.226006986116289,74.801781877579103,77.382154498660697,79.966180183334188]
["Gás Brasiliano","Guaiçara",61.052101771477311,63.531207157280484,66.029362494977534,68.542351506572729,71.064424812714194,73.595703254473662,76.408533025554533,79.227827984729188,82.053306763687999,84.883828990935783,87.718358421488247]
["Gás Brasiliano","Iacanga",138.73741754252399,144.37104306993839,150.04795852601001,155.75858265958144,161.48985033414453,167.24203615413936,173.634031304236,180.04071822536153,186.46145752408759,192.89365777126298,199.33496415929059]
["Gás Brasiliano","Ibitinga",38.712186200327494,40.284148287147644,41.86818965155895,43.461636817397562,45.060844192823865,46.665888401278089,48.449459919511703,50.237130912751837,52.028722969738617,53.823512998680329,55.620843932782904]
["Gás Brasiliano","Boa Esperança do Sul",186.5835848765839,194.16007048065703,201.79477534685125,209.4748139521389,217.18261540576981,224.91854901460985,233.51494204789677,242.13109358148813,250.76614371529269,259.41660731783293,268.07931748250974]
["Gás Brasiliano","São Carlos",297.56082847761076,309.64369919095833,321.81941714958526,334.06743270594319,{"$f":"346.359724055155","v":346.35972405515503},358.69688016252007,372.40628463449423,386.14719967972678,399.91825394186981,413.71388938316483,427.52905546633156]
["Comgás","Itirapima",0.56023223148966206,0.58298123933848622,0.60590505520783056,0.62896498927766331,0.6521082835342461,0.67533604685116921,0.70114740884738158,0.7270180973310969,0.75294553038307899,0.77891924361555231,0.80492972813655217]
["Comgás","Rio Claro",1225.1586813489607,1274.9079511900638,1325.0395045769394,1375.4687316527672,1426.0802571590241,1476.8765060652643,1533.322766115341,1589.8987658646224,1646.5988589746989,1703.4001611222354,1760.2818775351973]
["Comgás","Limeira",1147.0412578613514,1193.6184612268714,1240.5535733317881,1287.7673791339428,1335.1518598242794,1382.70928575371,1435.556472093785,1488.5251257915463,1541.6099605251409,1594.7895511000825,1648.0444286411678]
["Comgás","Americana",413.04583500532192,429.8181348022743,446.71931637493128,463.72085464365091,480.78385238579449,497.90912714735839,516.93922746843725,536.01306779087849,555.12874452733581,574.27854253479597,593.45545113447145]
["Comgás","Replan",1708.1999999999971,1708.1999999999971,1708.1999999999971,1708.1999999999971,1708.1999999999971]
[null,"EMED GASCAR",344.88786874882499,3.1754065795103101,-9740.0395907527,-10082.806736746101,-10428.519869326499,-10727.3025975163,-10961.647122132999,-10747.9450855308,-10533.3733587107,-10318.1024047641,-10102.287174454599]
["Comgás","EMED GASPAJ",0,0,301.93559443383452,301.93559443383452,301.93559443383452,301.93559443383452,301.93559443383452,301.93559443383452,301.93559443383452,301.93559443383452,301.93559443383452]
["Comgás","Jaguaríuna",1331.1906054618207,1385.2454488459737,1439.7156606819954,1494.509308513906,1549.5010318781306,1604.6934656143339,1666.0248933191785,1727.4972891054367,1789.1045179697323,1850.8217150543946,1912.6262858942357]
["Comgás","Itatiba",487.38542575890432,507.17638788635992,527.11942780712764,547.18088652526114,567.31486613353081,587.52233131907235,609.97745072998271,632.48418242548723,655.04028021242596,677.63664038379238,700.26499048559629]
["Comgás","Guararema ",523.72881616950804,544.99555214079498,566.42570605288915,587.98310902348794,609.61844062701493,631.33273748546367,655.46229180627461,679.64730704011583,703.88536949953948,728.16669663167988,752.48239912162126]
["Comgás","EMED Guararema",3000,3000,3000,3000,3000,3000,2902.328520738135,2355.8473534100926,1807.7665806895491,1258.3912708937332,707.99868930474327]
["Comgás","Gemini",1E-3,1E-3,1E-3,1E-3,1E-3]
["Comgás","Sumaré"]
["Comgás","Campinas"]
["Comgás","Indaiatuba"]
["Gás Natural São Paulo","Itu",497.9529639571922,518.17303565011571,538.54848250185501,559.04491571884034,{"$f":"579.615442230955-45.3862027282651","v":534.22923950268989},600.26104764177319,623.20304113545387,646.19776597630209,669.24292726898011,692.32922391902002,715.44820410828027]
["Gás Natural São Paulo","Porto Feliz",502.71307488429875,523.12643749258791,543.69666054654704,564.38902651779813,585.15619406855262,605.99915822412481,629.16046245962912,652.3750021201563,675.64046037264029,698.94744721011682,722.28743002048373]
["Gás Natural São Paulo","Araçoiaba da Serra",169.23581259795205,176.10786781486792,183.03272930700061,189.99870959411544,196.98987145442445,204.00654985816408,211.80368571747334,219.61874301320987,227.45094179524685,235.29712096525932,243.15440806256387]
["Gás Natural São Paulo","Itapetininga",3.1140088313776779,3.2404574849261412,3.3678777957429626,3.4960547093659176,3.6246949743334316,3.7538047542361679,3.8972752735819909,4.041075554758061,4.1851912463599916,4.329564182873348,4.4741415098354809]
["Compagás","Campo Largo"]
["Compagás","Araucária CIC"]
["Compagás","REPAR",1E-3,1E-3,1E-3,1E-3,1E-3]
["Compagás","Araucária UTE"]
["SCGás","Joinville",{"$f":"102.823451315789-0.002","v":102.82145131578901},{"$f":"106.998740364773-0.002","v":106.996740364773},{"$f":"111.343572824519-0.002","v":111.34157282451901},{"$f":"115.864833240697-0.002","v":115.862833240697},{"$f":"120.569685715512-0.002","v":120.567685715512},120.56968571551189,120.56968571551189,120.56968571551189,120.56968571551189,120.56968571551189,120.56968571551189]
["SCGás","Guararmirim ",437.36409144736848,455.12386782202304,473.60480458237356,492.8361854474785,512.84848324248003,512.84848324248003,512.84848324248003,512.84848324248003,512.84848324248003,512.84848324248003,512.84848324248003]
["SCGás","GASPAR",192.47159671052634,200.28717321279387,208.42011205374803,216.88330017192587,225.69014779790203,225.69014779790203,225.69014779790203,225.69014779790203,225.69014779790203,225.69014779790203,225.69014779790203]
["SCGás","Brusque",21.360815131578949,22.228200697370948,23.130807658746868,24.070066229392296,25.047464698805907,25.047464698805907,25.047464698805907,25.047464698805907,25.047464698805907,25.047464698805907,25.047464698805907]
["SCGás","Tijucas",295.37914572368425,307.37342617873713,319.85475105015189,332.84289745289584,346.35844557915726,346.35844557915726,346.35844557915726,346.35844557915726,346.35844557915726,346.35844557915726,346.35844557915726]
["SCGás","São Pedro de Alcântara",70.885084553229333,70.885084553229333,70.885084553229333,70.885084553229333,70.885084553229333,70.885084553229333,70.885084553229333,70.885084553229333,70.885084553229333,70.885084553229333,70.885084553229333]
["SCGás","Tubarão",121.10056555315172,121.10056555315172,121.10056555315172,121.10056555315172,121.10056555315172,121.10056555315172,121.10056555315172,121.10056555315172,121.10056555315172,121.10056555315172,121.10056555315172]
["SCGás","Urussanga",258.014349893619,258.014349893619,258.014349893619,258.014349893619,258.014349893619,258.014349893619,258.014349893619,258.014349893619,258.014349893619,258.014349893619,258.014349893619]
["SCGás","Nova Veneza",{"$f":"251-0.001-24.899","v":226.1},{"$f":"251-0.001-24.899","v":226.1},226.1,226.1,226.1,251,251,251,251,251,251]
["Sulgás","Várzea do Cedro"]
["Sulgás","Igrejinha"]
["Sulgás","Araricá"]
["Sulgás","Cachoeirinha"]
["Sulgás","REFAP"]
["Sulgás","Canoas UTE"]
["Sulgás","Canoas",1E-3,1E-3,1E-3,1E-3,1E-3]
[null,"Total Saídas",{"$f":"IF(C23>0,SUM(C7:C56),SUM(C7:C22)+SUM(C24:C56))","v":13975.101000000001},13975.101000000001,16715.140590752697,17057.907736746049,17358.234666598219,16019.102597516259,16253.447122132973,16039.74508553082,15825.173358710748,15609.902404764087,15394.087174454555]
[null,"GUS",958.12347895999994,957.87020066000002,460.07616329999991,460.93718082000004,463.12308167999998,463.27775906000005,463.29886321999993,463.35756163999997,463.45065046000002,474.67400237999999,474.74978027999998]
[null,"Total Entradas",{"$f":"IF(C23>0,C6,C6+C23)","v":-26933.224478959997},-26932.971200659998,-29175.216754052701,-29518.844917566101,-29821.357748278235,-30190.580356576302,-30424.945985352999,-30211.3026471708,-29996.824009170698,-29792.776407144102,-29577.036954734598]
[null,"Saldo",{"$f":"C59+C58+C57","v":-11999.999999999998},{"$f":"D59+D58+D57","v":-11999.999999999998},-12000.000000000004,-12000.000000000051,-12000.000000000015,-13708.200000000041,-13708.200000000026,-13708.199999999979,-13708.19999999995,-13708.200000000013,-13708.200000000044]
[null,null,{"$f":"-C59-C58","v":25975.100999999999},{"$f":"-D59-D58","v":25975.100999999999},28715.140590752701,29057.9077367461,29358.234666598233]
[]
[null,null,"2020","2021","2022","2023","2024","2025","2026","2027","2028","2029","2030"]
[null,"Alocação PB - Entrada",12000,{"$f":"+C64","v":12000},12000,12000,12000,12000,12000,12000,12000,12000,12000]
[null,"Alocação PB - Saída",{"$f":"-C60","v":11999.999999999998},{"$f":"-D60","v":11999.999999999998},12000.000000000004,12000.000000000051,12000.000000000015,13708.200000000041,13708.200000000026,13708.199999999979,13708.19999999995,13708.200000000013,13708.200000000044]
[null,"Demanda novos Contratos - Entrada",{"$f":"-'Cenário Ref'!C59-'Cenário Ref'!C58-C64","v":13975.100999999999},{"$f":"-'Cenário Ref'!D59-'Cenário Ref'!D58-D64","v":13975.100999999999},{"$f":"-'Cenário Ref'!E59-'Cenário Ref'!E58-E64","v":16715.140590752701},{"$f":"-'Cenário Ref'!F59-'Cenário Ref'!F58-F64","v":17057.9077367461},{"$f":"-'Cenário Ref'!G59-'Cenário Ref'!G58-G64","v":17358.234666598233},{"$f":"-'Cenário Ref'!H59-'Cenário Ref'!H58-H64","v":17727.3025975163},{"$f":"-'Cenário Ref'!I59-'Cenário Ref'!I58-I64","v":17961.647122132999},{"$f":"-'Cenário Ref'!J59-'Cenário Ref'!J58-J64","v":17747.945085530799},{"$f":"-'Cenário Ref'!K59-'Cenário Ref'!K58-K64","v":17533.373358710698},{"$f":"-'Cenário Ref'!L59-'Cenário Ref'!L58-L64","v":17318.1024047641},{"$f":"-'Cenário Ref'!M59-'Cenário Ref'!M58-M64","v":17102.287174454599}]
[null,"Demanda novos Contratos - Saída",{"$f":"-'Cenário Ref'!C59-C58-C65","v":13975.101000000001},{"$f":"-'Cenário Ref'!D59-D58-D65","v":13975.101000000001},{"$f":"-'Cenário Ref'!E59-E58-E65","v":16715.140590752697},{"$f":"-'Cenário Ref'!F59-F58-F65","v":17057.907736746049},{"$f":"-'Cenário Ref'!G59-G58-G65","v":17358.234666598219},{"$f":"-'Cenário Ref'!H59-H58-H65","v":16019.102597516259},{"$f":"-'Cenário Ref'!I59-I58-I65","v":16253.447122132973},{"$f":"-'Cenário Ref'!J59-J58-J65","v":16039.74508553082},{"$f":"-'Cenário Ref'!K59-K58-K65","v":15825.173358710748},{"$f":"-'Cenário Ref'!L59-L58-L65","v":15609.902404764087},{"$f":"-'Cenário Ref'!M59-M58-M65","v":15394.087174454555}]
[null,null,{"$f":"C66-C67","v":0},{"$f":"D66-D67","v":0},{"$f":"E66-E67","v":0},{"$f":"F66-F67","v":5.0931703299283981E-11},{"$f":"G66-G67","v":0},{"$f":"H66-H67","v":1708.2000000000407},1708.2000000000262,1708.1999999999789,1708.1999999999498,1708.2000000000135,1708.2000000000444]
[null,"Capacidade Existente","2020","2021","2022","2023","2024","2025","2026","2027","2028","2029","2030","Coluna13","Coluna14","Coluna15"]
[null,"Total",30080,{"$f":"+C70","v":30080},{"$f":"+D70","v":30080},{"$f":"+E70","v":30080},{"$f":"+F70","v":30080},{"$f":"+G70","v":30080},30080,30080,30080,30080,30080,{"$f":"SUM(C70:G70)","v":150400},null,{"$f":"AVERAGE(C70:G70)","v":30080}]
[null,"Capacidade novos Contratos - Entrada",{"$f":"+C70-C64","v":18080},{"$f":"+D70-D64","v":18080},18080,18080,18080,18080,18080,18080,18080,18080,18080,{"$f":"SUM(C71:G71)","v":90400},{"$f":"N71/N70","v":0.60106382978723405},{"$f":"AVERAGE(C71:G71)","v":18080}]
[null,"Capacidade novos Contratos - Saída",{"$f":"C70-C65","v":18080},{"$f":"D70-D65","v":18080},18079.999999999996,18079.999999999949,18079.999999999985,16371.799999999959,16371.799999999974,16371.800000000021,16371.80000000005,16371.799999999987,16371.799999999956,{"$f":"SUM(C72:G72)","v":90399.999999999927},{"$f":"N72/N70","v":0.60106382978723361},{"$f":"AVERAGE(C72:G72)","v":18079.999999999985}]
[]
[null,"Demanda novos Contratos - Entrada","2020","2021","2022","2023","2024","2025","2026","2027","2028","2029","2030","Total","%","Média"]
[null,"Total",{"$f":"SUM(C76:C77)","v":18080.001},{"$f":"SUM(D76:D77)","v":11500},19858,17983.159401612967,19146.154493506896,null,null,null,null,null,null,{"$f":"SUM(C75:G75)","v":86567.314895119867},null,{"$f":"AVERAGE(C75:G75)","v":17313.462979023974}]
[null,"Bolívia",{"$f":"+'C. Demanda'!C6","v":18080},{"$f":"+'C. Demanda'!D6","v":8500},{"$f":"+'C. Demanda'!E6","v":14000},{"$f":"+'C. Demanda'!F6","v":14000},{"$f":"+'C. Demanda'!G6","v":14000},null,null,null,null,null,null,{"$f":"SUM(C76:G76)","v":68580},{"$f":"N76/N75","v":0.79221586210786032},{"$f":"AVERAGE(C76:G76)","v":13716}]
[null,"Gascar",{"$f":"+'C. Demanda'!C7","v":1E-3},{"$f":"+'C. Demanda'!D7","v":3000},{"$f":"+'C. Demanda'!E7","v":5858},{"$f":"+'C. Demanda'!F7","v":3983.1594016129675},{"$f":"+'C. Demanda'!G7","v":5146.154493506896},null,null,null,null,null,null,{"$f":"SUM(C77:G77)","v":17987.314895119864},{"$f":"N77/N75","v":0.20778413789213968},{"$f":"AVERAGE(C77:G77)","v":3597.4629790239728}]
[]
[null,"Demanda novos Contratos - Saída","2020","2021","2022","2023","2024","2025","2026","2027","2028","2029","2030","Total","%","Média"]
[null,"Total",{"$f":"+C67","v":13975.101000000001},13975.101000000001,16715.140590752697,17057.907736746049,17358.234666598219,16019.102597516259,16253.447122132973,16039.74508553082,15825.173358710748,15609.902404764087,15394.087174454555,{"$f":"SUM(C80:G80)","v":79081.484994096973},{"$f":"+N80/N80","v":1},{"$f":"AVERAGE(C80:G80)","v":15816.296998819395}]
[null,"MSgás",{"$f":"+C7+C8+C9+C10","v":95.104404000000002},105.84199800000002,2212.2003639999971,2216.520467422366,2220.8561877422935,2225.2077326988201,2230.0432952359101,2234.8899721396292,2239.7472797070282,2244.6132575145725,2249.4861241436083,6850.5234211646566,{"$f":"N81/$N$80","v":8.6626135329603546E-2},1370.1046842329313]
[null,"Gás Brasiliano",{"$f":"+C11+C12+C13+C14+C15+C16+C17","v":800.28191281405316},832.77847137061849,865.52474011730442,898.46545132504957,931.5252410969249,964.70569343939644,1001.5767711632526,1038.5325957335608,1075.5694789239944,1112.6724725402244,1149.827993296924,4328.575816723951,5.473564156068967E-2,865.7151633447902]
[null,"Comgás",{"$f":"IF(C23>0,+C18+C19+C20+C21+C22+C24+C25+C26+C27+C28+C29+C30+C31+C32+C23,+C18+C19+C20+C21+C22+C24+C25+C26+C27+C28+C29+C30+C31+C32)","v":10181.199722586178},10047.721323911184,10556.315688314709,10767.395828916126,10979.239010725141,9483.654383865889,9622.2483641138169,9312.5757039593464,9001.8228523626403,8690.1990913981645,8377.8946462790027,52531.87157445334,0.66427522925719684,10506.374314890669]
[null,"Gás Natural São Paulo",{"$f":"+C33+C34+C35+C36","v":1173.0158602708207},1220.6477984424976,1268.6457501511456,1316.9287065401197,1320.0000000000005,1414.0205604782984,1468.0644645861382,1522.2325866644262,1576.5195206832273,1630.9033562772697,1685.3641837011635,6299.2381154045834,7.965503070503531E-2,1259.8476230809167]
[null,"Compagás",{"$f":"+C37+C38+C39+C40","v":1E-3},1E-3,1E-3,1E-3,1E-3,0,0,0,0,0,0,5.0000000000000001E-3,6.3225924505252071E-8,1E-3]
[null,"SCGás",{"$f":"+C41+C42+C43+C44+C45+C46+C47+C48+C49","v":1725.497100328947},1768.1094082756979,1812.4520481695395,1858.5952825423894,1906.6122270338572,1931.5142270338572,1931.5142270338572,1931.5142270338572,1931.5142270338572,1931.5142270338572,1931.5142270338572,9071.2660663504303,0.11470783669562545,1814.253213270086]
[null,"Sulgás",{"$f":"+C50+C51+C52+C53+C54+C55+C56","v":1E-3},1E-3,1E-3,1E-3,1E-3,0,0,0,0,0,0,5.0000000000000001E-3,6.3225924505252071E-8,1E-3]
[]
[]
[]
[]
[]
[]
[]
[]
[]
[]
[]
[]
[null,null,null,null,null,null,null,{"$f":"SUM(H91:H99)","v":0},0,0,0,0,0]
[]
[null,null,null,null,null,null,null,12000,12000,12000,12000,12000,12000]

{"sheet":"Fluxo Ótimo","index":2,"n_rows":58,"n_cols":26,"rows_kept":58,"cut":false,"hidden":true,"merged":[[6,8,6,9],[5,10,5,11],[5,12,5,13],[6,18,6,19],[6,16,6,17],[6,14,6,15],[6,12,6,13],[6,10,6,11],[6,4,6,5],[6,2,6,3],[4,2,4,3],[5,2,5,3],[4,4,4,5],[5,4,5,5],[4,6,4,7],[5,6,5,7],[4,20,4,21],[6,20,6,21],[5,14,5,15],[5,16,5,17],[5,18,5,19],[5,20,5,21],[4,8,4,9],[4,14,4,15],[4,16,4,17],[4,18,4,19],[6,6,6,7],[4,10,4,11],[4,12,4,13],[5,8,5,9],[4,24,4,25],[5,24,5,25],[6,24,6,25],[6,22,6,23],[4,22,4,23],[5,22,5,23]]}
[]
[]
[]
[null,"Fluxo Ótimo",{"$f":"(C5+C6)*-1","v":25975.100999999999},null,{"$f":"(E5+E6)*-1","v":25975.100999999999},null,{"$f":"(G5+G6)*-1","v":28715.140590752701},null,{"$f":"(I5+I6)*-1","v":29057.9077367461},null,{"$f":"(K5+K6)*-1","v":29358.234666598233},null,{"$f":"(M5+M6)*-1","v":29727.3025975163},null,{"$f":"(O5+O6)*-1","v":29961.647122132999},null,{"$f":"(Q5+Q6)*-1","v":29747.945085530802},null,{"$f":"(S5+S6)*-1","v":29533.373358710698},null,{"$f":"(U5+U6)*-1","v":29318.1024047641},null,{"$f":"(W5+W6)*-1","v":29102.287174454599}]
[null,"EMED CORUMBÁ",{"$f":"+'Cenário Ref'!C6+'Cenário Ref'!C58","v":-25975.100999999999},null,{"$f":"+'Cenário Ref'!D6+'Cenário Ref'!D58","v":-25975.100999999999},null,{"$f":"+'Cenário Ref'!E6+'Cenário Ref'!E58","v":-18975.100999999999},null,{"$f":"+'Cenário Ref'!F6+'Cenário Ref'!F58","v":-18975.100999999999},null,{"$f":"+'Cenário Ref'!G6+'Cenário Ref'!G58","v":-18929.714797271732},null,{"$f":"+'Cenário Ref'!H6+'Cenário Ref'!H58","v":-19000},null,{"$f":"+'Cenário Ref'!I6+'Cenário Ref'!I58","v":-19000},null,{"$f":"+'Cenário Ref'!J6+'Cenário Ref'!J58","v":-19000},null,{"$f":"+'Cenário Ref'!K6+'Cenário Ref'!K58","v":-19000},null,{"$f":"+'Cenário Ref'!L6+'Cenário Ref'!L58","v":-19000},null,{"$f":"+'Cenário Ref'!M6+'Cenário Ref'!M58","v":-19000}]
[null,"EMED GASCAR",{"$f":"IF(+'Cenário Ref'!C23<0,'Cenário Ref'!C23,0)","v":0},null,{"$f":"IF(+'Cenário Ref'!D23<0,'Cenário Ref'!D23,0)","v":0},null,{"$f":"IF(+'Cenário Ref'!E23<0,'Cenário Ref'!E23,0)","v":-9740.0395907527},null,{"$f":"IF(+'Cenário Ref'!F23<0,'Cenário Ref'!F23,0)","v":-10082.806736746101},null,{"$f":"IF(+'Cenário Ref'!G23<0,'Cenário Ref'!G23,0)","v":-10428.519869326499},null,{"$f":"IF(+'Cenário Ref'!H23<0,'Cenário Ref'!H23,0)","v":-10727.3025975163},null,{"$f":"IF(+'Cenário Ref'!I23<0,'Cenário Ref'!I23,0)","v":-10961.647122132999},null,{"$f":"IF(+'Cenário Ref'!J23<0,'Cenário Ref'!J23,0)","v":-10747.9450855308},null,{"$f":"IF(+'Cenário Ref'!K23<0,'Cenário Ref'!K23,0)","v":-10533.3733587107},null,{"$f":"IF(+'Cenário Ref'!L23<0,'Cenário Ref'!L23,0)","v":-10318.1024047641},null,{"$f":"IF(+'Cenário Ref'!M23<0,'Cenário Ref'!M23,0)","v":-10102.287174454599}]
[null,null,2020,null,2021,null,2022,null,2023,null,2024,null,2025,null,2026,null,2027,null,2028,null,2029,null,2030,null,2030]
[null,"Fonte ->","Gás Bolívia","Gás Brasil","Gás Bolívia","Gás Brasil","Gás Bolívia","Gás Brasil","Gás Bolívia","Gás Brasil","Gás Bolívia","Gás Brasil","Gás Bolívia","Gás Brasil","Gás Bolívia","Gás Brasil","Gás Bolívia","Gás Brasil","Gás Bolívia","Gás Brasil","Gás Bolívia","Gás Brasil","Gás Bolívia","Gás Brasil","Gás Bolívia","Gás Brasil"]
[null,"Corumbá",1,0,1,0,1,0,1,0,1,0,1,0,1,0,1,0,1,0,1,0,1,0,{"$f":"+(C9+E9+G9+I9+K9)/5","v":1},{"$f":"+(D9+F9+H9+J9+L9)/5","v":0}]
[null,"Campo Grande",1,0,1,0,1,0,1,0,1,0,1,0,1,0,1,0,1,0,1,0,1,0,1,0]
[null,"Três Lagoas (UFN III)",1,0,1,0,1,0,1,0,1,0,1,0,1,0,1,0,1,0,1,0,1,0,1,0]
[null,"Três Lagoas (UTE)",1,0,1,0,1,0,1,0,1,0,1,0,1,0,1,0,1,0,1,0,1,0,1,0]
[null,"Valparaíso",1,0,1,0,1,0,1,0,1,0,1,0,1,0,1,0,1,0,1,0,1,0,1,0]
[null,"Bilac",1,0,1,0,1,0,1,0,1,0,1,0,1,0,1,0,1,0,1,0,1,0,1,0]
[null,"Guaiçara",1,0,1,0,1,0,1,0,1,0,1,0,1,0,1,0,1,0,1,0,1,0,1,0]
[null,"Iacanga",1,0,1,0,1,0,1,0,1,0,1,0,1,0,1,0,1,0,1,0,1,0,1,0]
[null,"Ibitinga",1,0,1,0,1,0,1,0,1,0,1,0,1,0,1,0,1,0,1,0,1,0,1,0]
[null,"Boa Esperança do Sul",1,0,1,0,1,0,1,0,1,0,1,0,1,0,1,0,1,0,1,0,1,0,1,0]
[null,"São Carlos",1,0,1,0,1,0,1,0,1,0,1,0,1,0,1,0,1,0,1,0,1,0,1,0]
[null,"Itirapima",1,0,1,0,1,0,1,0,1,0,1,0,1,0,1,0,1,0,1,0,1,0,1,0]
[null,"Rio Claro",1,0,1,0,1,0,1,0,1,0,1,0,1,0,1,0,1,0,1,0,1,0,1,0]
[null,"Limeira",1,0,1,0,1,0,1,0,1,0,1,0,1,0,1,0,1,0,1,0,1,0,1,0]
[null,"Americana",1,0,1,0,1,0,1,0,1,0,1,0,1,0,1,0,1,0,1,0,1,0,1,0]
[null,"Replan",1,0,1,0,0,1,0,1,0,1,0,1,0,1,0,1,0,1,0,1,0,1,0.4,0.6]
[null,"EMED GASCAR",1,0,1,0,"--","--","--","--","--","--","--","--","--","--","--","--","--","--","--","--","--","--"]
[null,"EMED GASPAJ",1,0,1,0,0,1,0,1,0,1,0,1,0,1,0,1,0,1,0,1,0,1,{"$f":"+(C26+E26+G26+I26+K26)/5","v":0.4},{"$f":"+(D26+F26+H26+J26+L26)/5","v":0.6}]
[null,"Jaguaríuna",1,0,1,0,0.62,0.38,0.6,0.4,0.59,0.41,0.18899999999999995,0.81100000000000005,0.18899999999999995,0.81100000000000005,0.18899999999999995,0.81100000000000005,0.18899999999999995,0.81100000000000005,0.18899999999999995,0.81100000000000005,0.18899999999999995,0.81100000000000005,0.76200000000000001,0.23799999999999999]
[null,"Itatiba",1,0,1,0,0.62,0.38,0.6,0.4,0.59,0.41,0.18899999999999995,0.81100000000000005,0.18899999999999995,0.81100000000000005,0.18899999999999995,0.81100000000000005,0.18899999999999995,0.81100000000000005,0.18899999999999995,0.81100000000000005,0.18899999999999995,0.81100000000000005,0.76200000000000001,0.23799999999999999]
[null,"Guararema ",1,0,1,0,0.62,0.38,0.6,0.4,0.59,0.41,0.18899999999999995,0.81100000000000005,0.18899999999999995,0.81100000000000005,0.18899999999999995,0.81100000000000005,0.18899999999999995,0.81100000000000005,0.18899999999999995,0.81100000000000005,0.18899999999999995,0.81100000000000005,0.76200000000000001,0.23799999999999999]
[null,"EMED Guararema",1,0,1,0,0.62,0.38,0.6,0.4,0.59,0.41,0.18899999999999995,0.81100000000000005,0.18899999999999995,0.81100000000000005,0.18899999999999995,0.81100000000000005,0.18899999999999995,0.81100000000000005,0.18899999999999995,0.81100000000000005,0.18899999999999995,0.81100000000000005,0.76200000000000001,0.23799999999999999]
[null,"Gemini",1,0,1,0,0.62,0.38,0.6,0.4,0.59,0.41,0.18899999999999995,0.81100000000000005,0.18899999999999995,0.81100000000000005,0.18899999999999995,0.81100000000000005,0.18899999999999995,0.81100000000000005,0.18899999999999995,0.81100000000000005,0.18899999999999995,0.81100000000000005,0.76200000000000001,0.23799999999999999]
[null,"Sumaré",1,0,1,0,0.62,0.38,0.6,0.4,0.59,0.41,0.18899999999999995,0.81100000000000005,0.18899999999999995,0.81100000000000005,0.18899999999999995,0.81100000000000005,0.18899999999999995,0.81100000000000005,0.18899999999999995,0.81100000000000005,0.18899999999999995,0.81100000000000005,0.76200000000000001,0.23799999999999999]
[null,"Campinas",1,0,1,0,0.62,0.38,0.6,0.4,0.59,0.41,0.18899999999999995,0.81100000000000005,0.18899999999999995,0.81100000000000005,0.18899999999999995,0.81100000000000005,0.18899999999999995,0.81100000000000005,0.18899999999999995,0.81100000000000005,0.18899999999999995,0.81100000000000005,0.76200000000000001,0.23799999999999999]
[null,"Indaiatuba",1,0,1,0,0.62,0.38,0.6,0.4,0.59,0.41,0.18899999999999995,0.81100000000000005,0.18899999999999995,0.81100000000000005,0.18899999999999995,0.81100000000000005,0.18899999999999995,0.81100000000000005,0.18899999999999995,0.81100000000000005,0.18899999999999995,0.81100000000000005,0.76200000000000001,0.23799999999999999]
[null,"Itu",1,0,1,0,0.62,0.38,0.6,0.4,0.59,0.41,0.18899999999999995,0.81100000000000005,0.18899999999999995,0.81100000000000005,0.18899999999999995,0.81100000000000005,0.18899999999999995,0.81100000000000005,0.18899999999999995,0.81100000000000005,0.18899999999999995,0.81100000000000005,0.76200000000000001,0.23799999999999999]
[null,"Porto Feliz",1,0,1,0,0.62,0.38,0.6,0.4,0.59,0.41,0.18899999999999995,0.81100000000000005,0.18899999999999995,0.81100000000000005,0.18899999999999995,0.81100000000000005,0.18899999999999995,0.81100000000000005,0.18899999999999995,0.81100000000000005,0.18899999999999995,0.81100000000000005,0.76200000000000001,0.23799999999999999]
[null,"Araçoiaba da Serra",1,0,1,0,0.62,0.38,0.6,0.4,0.59,0.41,0.18899999999999995,0.81100000000000005,0.18899999999999995,0.81100000000000005,0.18899999999999995,0.81100000000000005,0.18899999999999995,0.81100000000000005,0.18899999999999995,0.81100000000000005,0.18899999999999995,0.81100000000000005,0.76200000000000001,0.23799999999999999]
[null,"Itapetininga",1,0,1,0,0.62,0.38,0.6,0.4,0.59,0.41,0.18899999999999995,0.81100000000000005,0.18899999999999995,0.81100000000000005,0.18899999999999995,0.81100000000000005,0.18899999999999995,0.81100000000000005,0.18899999999999995,0.81100000000000005,0.18899999999999995,0.81100000000000005,0.76200000000000001,0.23799999999999999]
[null,"Campo Largo",1,0,1,0,0.62,0.38,0.6,0.4,0.59,0.41,0.18899999999999995,0.81100000000000005,0.18899999999999995,0.81100000000000005,0.18899999999999995,0.81100000000000005,0.18899999999999995,0.81100000000000005,0.18899999999999995,0.81100000000000005,0.18899999999999995,0.81100000000000005,0.76200000000000001,0.23799999999999999]
[null,"Araucária CIC",1,0,1,0,0.62,0.38,0.6,0.4,0.59,0.41,0.18899999999999995,0.81100000000000005,0.18899999999999995,0.81100000000000005,0.18899999999999995,0.81100000000000005,0.18899999999999995,0.81100000000000005,0.18899999999999995,0.81100000000000005,0.18899999999999995,0.81100000000000005,0.76200000000000001,0.23799999999999999]
[null,"REPAR",1,0,1,0,0.62,0.38,0.6,0.4,0.59,0.41,0.18899999999999995,0.81100000000000005,0.18899999999999995,0.81100000000000005,0.18899999999999995,0.81100000000000005,0.18899999999999995,0.81100000000000005,0.18899999999999995,0.81100000000000005,0.18899999999999995,0.81100000000000005,0.76200000000000001,0.23799999999999999]
[null,"Araucária UTE",1,0,1,0,0.62,0.38,0.6,0.4,0.59,0.41,0.18899999999999995,0.81100000000000005,0.18899999999999995,0.81100000000000005,0.18899999999999995,0.81100000000000005,0.18899999999999995,0.81100000000000005,0.18899999999999995,0.81100000000000005,0.18899999999999995,0.81100000000000005,0.76200000000000001,0.23799999999999999]
[null,"Joinville",1,0,1,0,0.62,0.38,0.6,0.4,0.59,0.41,0.18899999999999995,0.81100000000000005,0.18899999999999995,0.81100000000000005,0.18899999999999995,0.81100000000000005,0.18899999999999995,0.81100000000000005,0.18899999999999995,0.81100000000000005,0.18899999999999995,0.81100000000000005,0.76200000000000001,0.23799999999999999]
[null,"Guararmirim ",1,0,1,0,0.62,0.38,0.6,0.4,0.59,0.41,0.18899999999999995,0.81100000000000005,0.18899999999999995,0.81100000000000005,0.18899999999999995,0.81100000000000005,0.18899999999999995,0.81100000000000005,0.18899999999999995,0.81100000000000005,0.18899999999999995,0.81100000000000005,0.76200000000000001,0.23799999999999999]
[null,"GASPAR",1,0,1,0,0.62,0.38,0.6,0.4,0.59,0.41,0.18899999999999995,0.81100000000000005,0.18899999999999995,0.81100000000000005,0.18899999999999995,0.81100000000000005,0.18899999999999995,0.81100000000000005,0.18899999999999995,0.81100000000000005,0.18899999999999995,0.81100000000000005,0.76200000000000001,0.23799999999999999]
[null,"Brusque",1,0,1,0,0.62,0.38,0.6,0.4,0.59,0.41,0.18899999999999995,0.81100000000000005,0.18899999999999995,0.81100000000000005,0.18899999999999995,0.81100000000000005,0.18899999999999995,0.81100000000000005,0.18899999999999995,0.81100000000000005,0.18899999999999995,0.81100000000000005,0.76200000000000001,0.23799999999999999]
[null,"Tijucas",1,0,1,0,0.62,0.38,0.6,0.4,0.59,0.41,0.18899999999999995,0.81100000000000005,0.18899999999999995,0.81100000000000005,0.18899999999999995,0.81100000000000005,0.18899999999999995,0.81100000000000005,0.18899999999999995,0.81100000000000005,0.18899999999999995,0.81100000000000005,0.76200000000000001,0.23799999999999999]
[null,"São Pedro de Alcântara",1,0,1,0,0.62,0.38,0.6,0.4,0.59,0.41,0.18899999999999995,0.81100000000000005,0.18899999999999995,0.81100000000000005,0.18899999999999995,0.81100000000000005,0.18899999999999995,0.81100000000000005,0.18899999999999995,0.81100000000000005,0.18899999999999995,0.81100000000000005,0.76200000000000001,0.23799999999999999]
[null,"Tubarão",1,0,1,0,0.62,0.38,0.6,0.4,0.59,0.41,0.18899999999999995,0.81100000000000005,0.18899999999999995,0.81100000000000005,0.18899999999999995,0.81100000000000005,0.18899999999999995,0.81100000000000005,0.18899999999999995,0.81100000000000005,0.18899999999999995,0.81100000000000005,0.76200000000000001,0.23799999999999999]
[null,"Urussanga",1,0,1,0,0.62,0.38,0.6,0.4,0.59,0.41,0.18899999999999995,0.81100000000000005,0.18899999999999995,0.81100000000000005,0.18899999999999995,0.81100000000000005,0.18899999999999995,0.81100000000000005,0.18899999999999995,0.81100000000000005,0.18899999999999995,0.81100000000000005,0.76200000000000001,0.23799999999999999]
[null,"Nova Veneza",1,0,1,0,0.62,0.38,0.6,0.4,0.59,0.41,0.18899999999999995,0.81100000000000005,0.18899999999999995,0.81100000000000005,0.18899999999999995,0.81100000000000005,0.18899999999999995,0.81100000000000005,0.18899999999999995,0.81100000000000005,0.18899999999999995,0.81100000000000005,0.76200000000000001,0.23799999999999999]
[null,"Várzea do Cedro",1,0,1,0,0.62,0.38,0.6,0.4,0.59,0.41,0.18899999999999995,0.81100000000000005,0.18899999999999995,0.81100000000000005,0.18899999999999995,0.81100000000000005,0.18899999999999995,0.81100000000000005,0.18899999999999995,0.81100000000000005,0.18899999999999995,0.81100000000000005,0.76200000000000001,0.23799999999999999]
[null,"Igrejinha",1,0,1,0,0.62,0.38,0.6,0.4,0.59,0.41,0.18899999999999995,0.81100000000000005,0.18899999999999995,0.81100000000000005,0.18899999999999995,0.81100000000000005,0.18899999999999995,0.81100000000000005,0.18899999999999995,0.81100000000000005,0.18899999999999995,0.81100000000000005,0.76200000000000001,0.23799999999999999]
[null,"Araricá",1,0,1,0,0.62,0.38,0.6,0.4,0.59,0.41,0.18899999999999995,0.81100000000000005,0.18899999999999995,0.81100000000000005,0.18899999999999995,0.81100000000000005,0.18899999999999995,0.81100000000000005,0.18899999999999995,0.81100000000000005,0.18899999999999995,0.81100000000000005,0.76200000000000001,0.23799999999999999]
[null,"Cachoeirinha",1,0,1,0,0.62,0.38,0.6,0.4,0.59,0.41,0.18899999999999995,0.81100000000000005,0.18899999999999995,0.81100000000000005,0.18899999999999995,0.81100000000000005,0.18899999999999995,0.81100000000000005,0.18899999999999995,0.81100000000000005,0.18899999999999995,0.81100000000000005,0.76200000000000001,0.23799999999999999]
[null,"REFAP",1,0,1,0,0.62,0.38,0.6,0.4,0.59,0.41,0.18899999999999995,0.81100000000000005,0.18899999999999995,0.81100000000000005,0.18899999999999995,0.81100000000000005,0.18899999999999995,0.81100000000000005,0.18899999999999995,0.81100000000000005,0.18899999999999995,0.81100000000000005,0.76200000000000001,0.23799999999999999]
[null,"Canoas UTE",1,0,1,0,0.62,0.38,0.6,0.4,0.59,0.41,0.18899999999999995,0.81100000000000005,0.18899999999999995,0.81100000000000005,0.18899999999999995,0.81100000000000005,0.18899999999999995,0.81100000000000005,0.18899999999999995,0.81100000000000005,0.18899999999999995,0.81100000000000005,0.76200000000000001,0.23799999999999999]
[null,"Canoas",1,0,1,0,0.62,0.38,0.6,0.4,0.59,0.41,0.18899999999999995,0.81100000000000005,0.18899999999999995,0.81100000000000005,0.18899999999999995,0.81100000000000005,0.18899999999999995,0.81100000000000005,0.18899999999999995,0.81100000000000005,0.18899999999999995,0.81100000000000005,0.76200000000000001,0.23799999999999999]

{"sheet":"Contratos Originais","index":3,"n_rows":53,"n_cols":32,"rows_kept":53,"cut":false,"hidden":true,"merged":[]}
["SUMÁRIO"]
[]
[null,"Volume em m3 / dia","2020","2021","2022","2023","2024","2025","2026","2027","2028","2029","2030","2031","2032","2033","2034","2035","2036","2037","2038","2039","2040","2041","2042","2043","2044","2045","2046","2047","2048","2049"]
[null,"Contrato 1 "]
[null,"Capacidade Contratada",18080000,{"$f":"C5","v":18080000},{"$f":"D5","v":18080000},18080000,18080000,18080000,18080000,18080000,18080000,18080000,18080000,18080000,18080000,18080000,18080000,18080000,18080000,18080000,18080000,18080000,18080000,18080000,18080000,18080000,18080000,18080000,18080000,18080000,18080000,18080000]
[null,"Contrato 2"]
[null,"Capacidade Contratada",null,null,6000000,{"$f":"E7","v":6000000},{"$f":"F7","v":6000000},6000000,6000000,6000000,6000000,6000000,6000000,6000000,6000000,6000000,6000000,6000000,6000000,6000000,6000000,6000000,6000000,6000000,6000000,6000000,6000000,6000000,6000000,6000000,6000000,6000000]
[null,"Contrato 3 (Equivalente ao Cpac techo sul)"]
[null,"Capacidade Contratada",null,null,null,null,null,null,null,null,null,null,5200000,{"$f":"M9","v":5200000},{"$f":"N9","v":5200000},5200000,5200000,5200000,5200000,5200000,5200000,5200000,5200000,5200000,5200000,5200000,5200000,5200000,5200000,5200000,5200000,5200000]
[null,"Contrato 4"]
[null,"Capacidade Contratada",null,null,null,null,null,null,null,null,null,null,null,null,null,null,null,null,null,null,null,null,null,6000000,{"$f":"X11","v":6000000},{"$f":"Y11","v":6000000},6000000,6000000,6000000,6000000,6000000,6000000]
[]
[null,"Volume Total Disponível (mil m3/dia)",{"$f":"C19+C28+C46","v":18080},{"$f":"D19+D28+D46","v":18080},24080,24080,24080,24080,24080,24080,24080,24080,24080,24080,24080,24080,24080,24080,24080,24080,24080,24080,24080,30080,30080,30080,30080,30080,30080,30080,30080,30080]
[null,"Volume Total Disponível (mil m3/ano)",{"$f":"C20+C29+C47","v":6617280},{"$f":"D20+D29+D47","v":6599200},8789200,8789200,8813280,{"$error":"#REF!"},{"$error":"#REF!"},{"$error":"#REF!"},{"$error":"#REF!"},{"$error":"#REF!"},{"$error":"#REF!"},{"$error":"#REF!"},{"$error":"#REF!"},{"$error":"#REF!"},{"$error":"#REF!"},{"$error":"#REF!"},{"$error":"#REF!"},{"$error":"#REF!"},{"$error":"#REF!"},{"$error":"#REF!"},{"$error":"#REF!"},{"$error":"#REF!"},{"$error":"#REF!"},{"$error":"#REF!"},{"$error":"#REF!"},{"$error":"#REF!"},{"$error":"#REF!"},{"$error":"#REF!"},{"$error":"#REF!"},{"$error":"#REF!"}]
[null,"Volume Total Disponível (MMBtu/ano)",{"$f":"C21+C30+C48","v":241398.00466674072},{"$f":"D21+D30+D48","v":240738.44727694089},327856.31517960597,327856.31517960597,328754.55165955011,{"$error":"#REF!"},{"$error":"#REF!"},{"$error":"#REF!"},{"$error":"#REF!"},{"$error":"#REF!"},{"$error":"#REF!"},{"$error":"#REF!"},{"$error":"#REF!"},{"$error":"#REF!"},{"$error":"#REF!"},{"$error":"#REF!"},{"$error":"#REF!"},{"$error":"#REF!"},{"$error":"#REF!"},{"$error":"#REF!"},{"$error":"#REF!"},{"$error":"#REF!"},{"$error":"#REF!"},{"$error":"#REF!"},{"$error":"#REF!"},{"$error":"#REF!"},{"$error":"#REF!"},{"$error":"#REF!"},{"$error":"#REF!"},{"$error":"#REF!"}]
[]
[]
[null,"Dados Contrato 1 (01/01/2020 à 31/12/2049):",2020,2021,2022,2023,2024,2025,2026,2027,2028,2029,2030,2031,2032,2033,2034,2035,2036,2037,2038,2039,2040,2041,2042,2043,2044,2045,2046,2047,2048,2049]
[null,"Capacidade Contratada de Transporte Total ( mil m3/dia)",{"$f":"C5/10^3","v":18080},18080,18080,18080,18080,18080,18080,18080,18080,18080,18080,18080,18080,18080,18080,18080,18080,18080,18080,18080,18080,18080,18080,18080,18080,18080,18080,18080,18080,18080]
[null,"Capacidade Contratada de Transporte Total (mil m3/ano)",{"$f":"(C19*C23)","v":6617280},{"$f":"(D19*D23)","v":6599200},6599200,6599200,6617280,{"$error":"#REF!"},{"$error":"#REF!"},{"$error":"#REF!"},{"$error":"#REF!"},{"$error":"#REF!"},{"$error":"#REF!"},{"$error":"#REF!"},{"$error":"#REF!"},{"$error":"#REF!"},{"$error":"#REF!"},{"$error":"#REF!"},{"$error":"#REF!"},{"$error":"#REF!"},{"$error":"#REF!"},{"$error":"#REF!"},{"$error":"#REF!"},{"$error":"#REF!"},{"$error":"#REF!"},{"$error":"#REF!"},{"$error":"#REF!"},{"$error":"#REF!"},{"$error":"#REF!"},{"$error":"#REF!"},{"$error":"#REF!"},{"$error":"#REF!"}]
[null,"Capacidade Contratada de Transporte Total (MMBtu/ano)",{"$f":"C20*C24","v":241398.00466674072},{"$f":"D20*D24","v":240738.44727694089},246164.54229432211,246164.54229432211,246838.9656978682,{"$error":"#REF!"},{"$error":"#REF!"},{"$error":"#REF!"},{"$error":"#REF!"},{"$error":"#REF!"},{"$f":"M20*M24","v":{"$error":"#REF!"}},{"$error":"#REF!"},{"$error":"#REF!"},{"$error":"#REF!"},{"$error":"#REF!"},{"$error":"#REF!"},{"$error":"#REF!"},{"$error":"#REF!"},{"$error":"#REF!"},{"$error":"#REF!"},{"$f":"W20*W24","v":{"$error":"#REF!"}},{"$error":"#REF!"},{"$error":"#REF!"},{"$error":"#REF!"},{"$error":"#REF!"},{"$error":"#REF!"},{"$error":"#REF!"},{"$error":"#REF!"},{"$error":"#REF!"},{"$error":"#REF!"}]
[null,"Duração Ano (dias)",{"$f":"Premissas!B59","v":366},{"$f":"Premissas!C59","v":365},{"$f":"Premissas!D59","v":365},{"$f":"Premissas!E59","v":365},{"$f":"Premissas!F59","v":366},{"$f":"Premissas!#REF!","v":{"$error":"#REF!"}},{"$f":"Premissas!#REF!","v":{"$error":"#REF!"}},{"$f":"Premissas!#REF!","v":{"$error":"#REF!"}},{"$f":"Premissas!#REF!","v":{"$error":"#REF!"}},{"$f":"Premissas!#REF!","v":{"$error":"#REF!"}},{"$f":"Premissas!#REF!","v":{"$error":"#REF!"}},{"$f":"Premissas!#REF!","v":{"$error":"#REF!"}},{"$f":"Premissas!#REF!","v":{"$error":"#REF!"}},{"$f":"Premissas!#REF!","v":{"$error":"#REF!"}},{"$f":"Premissas!#REF!","v":{"$error":"#REF!"}},{"$f":"Premissas!#REF!","v":{"$error":"#REF!"}},{"$f":"Premissas!#REF!","v":{"$error":"#REF!"}},{"$f":"Premissas!#REF!","v":{"$error":"#REF!"}},{"$f":"Premissas!#REF!","v":{"$error":"#REF!"}},{"$f":"Premissas!#REF!","v":{"$error":"#REF!"}},{"$f":"Premissas!#REF!","v":{"$error":"#REF!"}},{"$f":"Premissas!#REF!","v":{"$error":"#REF!"}},{"$f":"Premissas!#REF!","v":{"$error":"#REF!"}},{"$f":"Premissas!#REF!","v":{"$error":"#REF!"}},{"$f":"Premissas!#REF!","v":{"$error":"#REF!"}},{"$f":"Premissas!#REF!","v":{"$error":"#REF!"}},{"$f":"Premissas!#REF!","v":{"$error":"#REF!"}},{"$f":"Premissas!#REF!","v":{"$error":"#REF!"}},{"$f":"Premissas!#REF!","v":{"$error":"#REF!"}},{"$f":"Premissas!#REF!","v":{"$error":"#REF!"}}]
[null,"Dias Operacionais (dias)",{"$f":"Premissas!B60","v":366},{"$f":"Premissas!C60","v":365},{"$f":"Premissas!D60","v":365},{"$f":"Premissas!E60","v":365},{"$f":"Premissas!F60","v":366},{"$f":"Premissas!#REF!","v":{"$error":"#REF!"}},{"$f":"Premissas!#REF!","v":{"$error":"#REF!"}},{"$f":"Premissas!#REF!","v":{"$error":"#REF!"}},{"$f":"Premissas!#REF!","v":{"$error":"#REF!"}},{"$f":"Premissas!#REF!","v":{"$error":"#REF!"}},{"$f":"Premissas!#REF!","v":{"$error":"#REF!"}},{"$f":"Premissas!#REF!","v":{"$error":"#REF!"}},{"$f":"Premissas!#REF!","v":{"$error":"#REF!"}},{"$f":"Premissas!#REF!","v":{"$error":"#REF!"}},{"$f":"Premissas!#REF!","v":{"$error":"#REF!"}},{"$f":"Premissas!#REF!","v":{"$error":"#REF!"}},{"$f":"Premissas!#REF!","v":{"$error":"#REF!"}},{"$f":"Premissas!#REF!","v":{"$error":"#REF!"}},{"$f":"Premissas!#REF!","v":{"$error":"#REF!"}},{"$f":"Premissas!#REF!","v":{"$error":"#REF!"}},{"$f":"Premissas!#REF!","v":{"$error":"#REF!"}},{"$f":"Premissas!#REF!","v":{"$error":"#REF!"}},{"$f":"Premissas!#REF!","v":{"$error":"#REF!"}},{"$f":"Premissas!#REF!","v":{"$error":"#REF!"}},{"$f":"Premissas!#REF!","v":{"$error":"#REF!"}},{"$f":"Premissas!#REF!","v":{"$error":"#REF!"}},{"$f":"Premissas!#REF!","v":{"$error":"#REF!"}},{"$f":"Premissas!#REF!","v":{"$error":"#REF!"}},{"$f":"Premissas!#REF!","v":{"$error":"#REF!"}},{"$f":"Premissas!#REF!","v":{"$error":"#REF!"}}]
[null,"Fator de conversão (MMBtu/m³)",{"$f":"Premissas!B56/251996","v":3.6479944126097237E-2},{"$f":"Premissas!C56/251996","v":3.6479944126097237E-2},{"$f":"Premissas!D56/251996","v":3.7302179399673008E-2},{"$f":"Premissas!E56/251996","v":3.7302179399673008E-2},{"$f":"Premissas!F56/251996","v":3.7302179399673008E-2},{"$f":"Premissas!#REF!/251996","v":{"$error":"#REF!"}},{"$f":"Premissas!#REF!/251996","v":{"$error":"#REF!"}},{"$f":"Premissas!#REF!/251996","v":{"$error":"#REF!"}},{"$f":"Premissas!#REF!/251996","v":{"$error":"#REF!"}},{"$f":"Premissas!#REF!/251996","v":{"$error":"#REF!"}},{"$f":"Premissas!#REF!/251996","v":{"$error":"#REF!"}},{"$f":"Premissas!#REF!/251996","v":{"$error":"#REF!"}},{"$f":"Premissas!#REF!/251996","v":{"$error":"#REF!"}},{"$f":"Premissas!#REF!/251996","v":{"$error":"#REF!"}},{"$f":"Premissas!#REF!/251996","v":{"$error":"#REF!"}},{"$f":"Premissas!#REF!/251996","v":{"$error":"#REF!"}},{"$f":"Premissas!#REF!/251996","v":{"$error":"#REF!"}},{"$f":"Premissas!#REF!/251996","v":{"$error":"#REF!"}},{"$f":"Premissas!#REF!/251996","v":{"$error":"#REF!"}},{"$f":"Premissas!#REF!/251996","v":{"$error":"#REF!"}},{"$f":"Premissas!#REF!/251996","v":{"$error":"#REF!"}},{"$f":"Premissas!#REF!/251996","v":{"$error":"#REF!"}},{"$f":"Premissas!#REF!/251996","v":{"$error":"#REF!"}},{"$f":"Premissas!#REF!/251996","v":{"$error":"#REF!"}},{"$f":"Premissas!#REF!/251996","v":{"$error":"#REF!"}},{"$f":"Premissas!#REF!/251996","v":{"$error":"#REF!"}},{"$f":"Premissas!#REF!/251996","v":{"$error":"#REF!"}},{"$f":"Premissas!#REF!/251996","v":{"$error":"#REF!"}},{"$f":"Premissas!#REF!/251996","v":{"$error":"#REF!"}},{"$f":"Premissas!#REF!/251996","v":{"$error":"#REF!"}}]
[null,null,null,null,null,null,null,null,null,null,null,null,null,null,null,92]
[]
[null,"Dados Contrato 2 (01/01/2022 à 31/12/2049):",2020,2021,2022,2023,2024,2025,2026,2027,2028,2029,2030,2031,2032,2033,2034,2035,2036,2037,2038,2039,2040,2041,2042,2043,2044,2045,2046,2047,2048,2049]
[null,"Capacidade Contratada de Transporte Total ( mil m3/dia)",{"$f":"C7/10^3","v":0},0,6000,6000,6000,6000,6000,6000,6000,6000,6000,6000,6000,6000,6000,6000,6000,6000,6000,6000,6000,6000,6000,6000,6000,6000,6000,6000,6000,6000]
[null,"Capacidade Contratada de Transporte Total (mil m3/ano)",{"$f":"(C28*C32)","v":0},{"$f":"(D28*D32)","v":0},2190000,2190000,2196000,{"$error":"#REF!"},{"$error":"#REF!"},{"$error":"#REF!"},{"$error":"#REF!"},{"$error":"#REF!"},{"$error":"#REF!"},{"$error":"#REF!"},{"$error":"#REF!"},{"$error":"#REF!"},{"$error":"#REF!"},{"$error":"#REF!"},{"$error":"#REF!"},{"$error":"#REF!"},{"$error":"#REF!"},{"$error":"#REF!"},{"$error":"#REF!"},{"$error":"#REF!"},{"$error":"#REF!"},{"$error":"#REF!"},{"$error":"#REF!"},{"$error":"#REF!"},{"$error":"#REF!"},{"$error":"#REF!"},{"$error":"#REF!"},{"$error":"#REF!"}]
[null,"Capacidade Contratada de Transporte Total (MMBtu/ano)",{"$f":"C29*C33","v":0},0,81691.772885283892,81691.772885283892,81915.585961681922,{"$error":"#REF!"},{"$error":"#REF!"},{"$error":"#REF!"},{"$error":"#REF!"},{"$error":"#REF!"},{"$f":"M29*M33","v":{"$error":"#REF!"}},{"$error":"#REF!"},{"$error":"#REF!"},{"$error":"#REF!"},{"$error":"#REF!"},{"$error":"#REF!"},{"$error":"#REF!"},{"$error":"#REF!"},{"$error":"#REF!"},{"$error":"#REF!"},{"$f":"W29*W33","v":{"$error":"#REF!"}},{"$error":"#REF!"},{"$error":"#REF!"},{"$error":"#REF!"},{"$error":"#REF!"},{"$error":"#REF!"},{"$error":"#REF!"},{"$error":"#REF!"},{"$error":"#REF!"},{"$error":"#REF!"}]
[null,"Duração Ano (dias)",{"$f":"Premissas!B60","v":366},{"$f":"Premissas!C60","v":365},{"$f":"Premissas!D60","v":365},{"$f":"Premissas!E60","v":365},{"$f":"Premissas!F60","v":366},{"$f":"Premissas!#REF!","v":{"$error":"#REF!"}},{"$f":"Premissas!#REF!","v":{"$error":"#REF!"}},{"$f":"Premissas!#REF!","v":{"$error":"#REF!"}},{"$f":"Premissas!#REF!","v":{"$error":"#REF!"}},{"$f":"Premissas!#REF!","v":{"$error":"#REF!"}},{"$f":"Premissas!#REF!","v":{"$error":"#REF!"}},{"$f":"Premissas!#REF!","v":{"$error":"#REF!"}},{"$f":"Premissas!#REF!","v":{"$error":"#REF!"}},{"$f":"Premissas!#REF!","v":{"$error":"#REF!"}},{"$f":"Premissas!#REF!","v":{"$error":"#REF!"}},{"$f":"Premissas!#REF!","v":{"$error":"#REF!"}},{"$f":"Premissas!#REF!","v":{"$error":"#REF!"}},{"$f":"Premissas!#REF!","v":{"$error":"#REF!"}},{"$f":"Premissas!#REF!","v":{"$error":"#REF!"}},{"$f":"Premissas!#REF!","v":{"$error":"#REF!"}},{"$f":"Premissas!#REF!","v":{"$error":"#REF!"}},{"$f":"Premissas!#REF!","v":{"$error":"#REF!"}},{"$f":"Premissas!#REF!","v":{"$error":"#REF!"}},{"$f":"Premissas!#REF!","v":{"$error":"#REF!"}},{"$f":"Premissas!#REF!","v":{"$error":"#REF!"}},{"$f":"Premissas!#REF!","v":{"$error":"#REF!"}},{"$f":"Premissas!#REF!","v":{"$error":"#REF!"}},{"$f":"Premissas!#REF!","v":{"$error":"#REF!"}},{"$f":"Premissas!#REF!","v":{"$error":"#REF!"}},{"$f":"Premissas!#REF!","v":{"$error":"#REF!"}}]
[null,"Dias Operacionais (dias)",{"$f":"Premissas!B60-366","v":0},{"$f":"D31","v":365},{"$f":"E31","v":365},365,366,{"$error":"#REF!"},{"$error":"#REF!"},{"$error":"#REF!"},{"$error":"#REF!"},{"$error":"#REF!"},{"$error":"#REF!"},{"$error":"#REF!"},{"$error":"#REF!"},{"$error":"#REF!"},{"$error":"#REF!"},{"$error":"#REF!"},{"$error":"#REF!"},{"$error":"#REF!"},{"$error":"#REF!"},{"$error":"#REF!"},{"$error":"#REF!"},{"$error":"#REF!"},{"$error":"#REF!"},{"$error":"#REF!"},{"$error":"#REF!"},{"$error":"#REF!"},{"$error":"#REF!"},{"$f":"AD31","v":{"$error":"#REF!"}},{"$f":"AE31","v":{"$error":"#REF!"}},{"$f":"AF31","v":{"$error":"#REF!"}}]
[null,"Fator de conversão (MMBtu/m³)",{"$f":"Premissas!B56/251996","v":3.6479944126097237E-2},{"$f":"Premissas!C56/251996","v":3.6479944126097237E-2},{"$f":"Premissas!D56/251996","v":3.7302179399673008E-2},{"$f":"Premissas!E56/251996","v":3.7302179399673008E-2},{"$f":"Premissas!F56/251996","v":3.7302179399673008E-2},{"$f":"Premissas!#REF!/251996","v":{"$error":"#REF!"}},{"$f":"Premissas!#REF!/251996","v":{"$error":"#REF!"}},{"$f":"Premissas!#REF!/251996","v":{"$error":"#REF!"}},{"$f":"Premissas!#REF!/251996","v":{"$error":"#REF!"}},{"$f":"Premissas!#REF!/251996","v":{"$error":"#REF!"}},{"$f":"Premissas!#REF!/251996","v":{"$error":"#REF!"}},{"$f":"Premissas!#REF!/251996","v":{"$error":"#REF!"}},{"$f":"Premissas!#REF!/251996","v":{"$error":"#REF!"}},{"$f":"Premissas!#REF!/251996","v":{"$error":"#REF!"}},{"$f":"Premissas!#REF!/251996","v":{"$error":"#REF!"}},{"$f":"Premissas!#REF!/251996","v":{"$error":"#REF!"}},{"$f":"Premissas!#REF!/251996","v":{"$error":"#REF!"}},{"$f":"Premissas!#REF!/251996","v":{"$error":"#REF!"}},{"$f":"Premissas!#REF!/251996","v":{"$error":"#REF!"}},{"$f":"Premissas!#REF!/251996","v":{"$error":"#REF!"}},{"$f":"Premissas!#REF!/251996","v":{"$error":"#REF!"}},{"$f":"Premissas!#REF!/251996","v":{"$error":"#REF!"}},{"$f":"Premissas!#REF!/251996","v":{"$error":"#REF!"}},{"$f":"Premissas!#REF!/251996","v":{"$error":"#REF!"}},{"$f":"Premissas!#REF!/251996","v":{"$error":"#REF!"}},{"$f":"Premissas!#REF!/251996","v":{"$error":"#REF!"}},{"$f":"Premissas!#REF!/251996","v":{"$error":"#REF!"}},{"$f":"Premissas!#REF!/251996","v":{"$error":"#REF!"}},{"$f":"Premissas!#REF!/251996","v":{"$error":"#REF!"}},{"$f":"Premissas!#REF!/251996","v":{"$error":"#REF!"}}]
[]
[]
[null,"Dados Contrato 3 (01/10/2030 à 30/09/2049):",2020,2021,2022,2023,2024,2025,2026,2027,2028,2029,2030,2031,2032,2033,2034,2035,2036,2037,2038,2039,2040,2041,2042,2043,2044,2045,2046,2047,2048,2049]
[null,"Capacidade Contratada de Transporte Total ( mil m3/dia)",{"$f":"(C9/10^3)","v":0},{"$f":"D9/10^3","v":0},0,0,0,0,0,0,0,0,5200,5200,5200,5200,5200,5200,5200,5200,5200,5200,5200,5200,5200,5200,5200,5200,5200,5200,5200,5200]
[null,"Capacidade Contratada de Transporte Total (mil m3/ano)",{"$f":"(C37*C41)","v":0},{"$f":"(D37*D41)","v":0},0,0,0,{"$error":"#REF!"},{"$error":"#REF!"},{"$error":"#REF!"},{"$error":"#REF!"},{"$error":"#REF!"},{"$error":"#REF!"},{"$error":"#REF!"},{"$error":"#REF!"},{"$error":"#REF!"},{"$error":"#REF!"},{"$error":"#REF!"},{"$error":"#REF!"},{"$error":"#REF!"},{"$error":"#REF!"},{"$error":"#REF!"},{"$error":"#REF!"},{"$error":"#REF!"},{"$error":"#REF!"},{"$error":"#REF!"},{"$error":"#REF!"},{"$error":"#REF!"},{"$error":"#REF!"},{"$error":"#REF!"},1903200,{"$error":"#REF!"}]
[null,"Capacidade Contratada de Transporte Total (MMBtu/ano)",{"$f":"C38*C42","v":0},0,0,0,0,{"$error":"#REF!"},{"$error":"#REF!"},{"$error":"#REF!"},{"$error":"#REF!"},{"$error":"#REF!"},{"$f":"M38*M42","v":{"$error":"#REF!"}},{"$error":"#REF!"},{"$error":"#REF!"},{"$error":"#REF!"},{"$error":"#REF!"},{"$error":"#REF!"},{"$error":"#REF!"},{"$error":"#REF!"},{"$error":"#REF!"},{"$error":"#REF!"},{"$f":"W38*W42","v":{"$error":"#REF!"}},{"$error":"#REF!"},{"$error":"#REF!"},{"$error":"#REF!"},{"$error":"#REF!"},{"$error":"#REF!"},{"$error":"#REF!"},{"$error":"#REF!"},{"$error":"#REF!"},{"$error":"#REF!"}]
[null,"Duração Ano (dias)",{"$f":"Premissas!B60","v":366},{"$f":"Premissas!C60","v":365},{"$f":"Premissas!D60","v":365},{"$f":"Premissas!E60","v":365},{"$f":"Premissas!F60","v":366},{"$f":"Premissas!#REF!","v":{"$error":"#REF!"}},{"$f":"Premissas!#REF!","v":{"$error":"#REF!"}},{"$f":"Premissas!#REF!","v":{"$error":"#REF!"}},{"$f":"Premissas!#REF!","v":{"$error":"#REF!"}},{"$f":"Premissas!#REF!","v":{"$error":"#REF!"}},{"$f":"Premissas!#REF!","v":{"$error":"#REF!"}},{"$f":"Premissas!#REF!","v":{"$error":"#REF!"}},{"$f":"Premissas!#REF!","v":{"$error":"#REF!"}},{"$f":"Premissas!#REF!","v":{"$error":"#REF!"}},{"$f":"Premissas!#REF!","v":{"$error":"#REF!"}},{"$f":"Premissas!#REF!","v":{"$error":"#REF!"}},{"$f":"Premissas!#REF!","v":{"$error":"#REF!"}},{"$f":"Premissas!#REF!","v":{"$error":"#REF!"}},{"$f":"Premissas!#REF!","v":{"$error":"#REF!"}},{"$f":"Premissas!#REF!","v":{"$error":"#REF!"}},{"$f":"Premissas!#REF!","v":{"$error":"#REF!"}},{"$f":"Premissas!#REF!","v":{"$error":"#REF!"}},{"$f":"Premissas!#REF!","v":{"$error":"#REF!"}},{"$f":"Premissas!#REF!","v":{"$error":"#REF!"}},{"$f":"Premissas!#REF!","v":{"$error":"#REF!"}},{"$f":"Premissas!#REF!","v":{"$error":"#REF!"}},{"$f":"Premissas!#REF!","v":{"$error":"#REF!"}},{"$f":"Premissas!#REF!","v":{"$error":"#REF!"}},{"$f":"Premissas!#REF!","v":{"$error":"#REF!"}},{"$f":"Premissas!#REF!","v":{"$error":"#REF!"}}]
[null,"Dias Operacionais (dias)",{"$f":"Premissas!B60-C40","v":0},{"$f":"Premissas!C60-D40","v":0},{"$f":"Premissas!D60-E40","v":0},{"$f":"Premissas!E60-F40","v":0},{"$f":"Premissas!F60-G40","v":0},{"$f":"Premissas!#REF!-H40","v":{"$error":"#REF!"}},{"$f":"Premissas!#REF!-I40","v":{"$error":"#REF!"}},{"$f":"Premissas!#REF!-J40","v":{"$error":"#REF!"}},{"$f":"Premissas!#REF!-K40","v":{"$error":"#REF!"}},{"$f":"Premissas!#REF!-L40","v":{"$error":"#REF!"}},{"$f":"Premissas!#REF!-273","v":{"$error":"#REF!"}},{"$f":"Premissas!#REF!","v":{"$error":"#REF!"}},{"$f":"Premissas!#REF!","v":{"$error":"#REF!"}},{"$f":"Premissas!#REF!","v":{"$error":"#REF!"}},{"$f":"Premissas!#REF!","v":{"$error":"#REF!"}},{"$f":"Premissas!#REF!","v":{"$error":"#REF!"}},{"$f":"Premissas!#REF!","v":{"$error":"#REF!"}},{"$f":"Premissas!#REF!","v":{"$error":"#REF!"}},{"$f":"Premissas!#REF!","v":{"$error":"#REF!"}},{"$f":"Premissas!#REF!","v":{"$error":"#REF!"}},{"$f":"Premissas!#REF!","v":{"$error":"#REF!"}},{"$f":"Premissas!#REF!","v":{"$error":"#REF!"}},{"$f":"Premissas!#REF!","v":{"$error":"#REF!"}},{"$f":"Premissas!#REF!","v":{"$error":"#REF!"}},{"$f":"Premissas!#REF!","v":{"$error":"#REF!"}},{"$f":"Premissas!#REF!","v":{"$error":"#REF!"}},{"$f":"Premissas!#REF!","v":{"$error":"#REF!"}},{"$f":"Premissas!#REF!","v":{"$error":"#REF!"}},366,{"$f":"Premissas!#REF!-92","v":{"$error":"#REF!"}}]
[null,"Fator de conversão (MMBtu/m³)",{"$f":"Premissas!B56/251996","v":3.6479944126097237E-2},{"$f":"Premissas!C56/251996","v":3.6479944126097237E-2},{"$f":"Premissas!D56/251996","v":3.7302179399673008E-2},{"$f":"Premissas!E56/251996","v":3.7302179399673008E-2},{"$f":"Premissas!F56/251996","v":3.7302179399673008E-2},{"$f":"Premissas!#REF!/251996","v":{"$error":"#REF!"}},{"$f":"Premissas!#REF!/251996","v":{"$error":"#REF!"}},{"$f":"Premissas!#REF!/251996","v":{"$error":"#REF!"}},{"$f":"Premissas!#REF!/251996","v":{"$error":"#REF!"}},{"$f":"Premissas!#REF!/251996","v":{"$error":"#REF!"}},{"$f":"Premissas!#REF!/251996","v":{"$error":"#REF!"}},{"$f":"Premissas!#REF!/251996","v":{"$error":"#REF!"}},{"$f":"Premissas!#REF!/251996","v":{"$error":"#REF!"}},{"$f":"Premissas!#REF!/251996","v":{"$error":"#REF!"}},{"$f":"Premissas!#REF!/251996","v":{"$error":"#REF!"}},{"$f":"Premissas!#REF!/251996","v":{"$error":"#REF!"}},{"$f":"Premissas!#REF!/251996","v":{"$error":"#REF!"}},{"$f":"Premissas!#REF!/251996","v":{"$error":"#REF!"}},{"$f":"Premissas!#REF!/251996","v":{"$error":"#REF!"}},{"$f":"Premissas!#REF!/251996","v":{"$error":"#REF!"}},{"$f":"Premissas!#REF!/251996","v":{"$error":"#REF!"}},{"$f":"Premissas!#REF!/251996","v":{"$error":"#REF!"}},{"$f":"Premissas!#REF!/251996","v":{"$error":"#REF!"}},{"$f":"Premissas!#REF!/251996","v":{"$error":"#REF!"}},{"$f":"Premissas!#REF!/251996","v":{"$error":"#REF!"}},{"$f":"Premissas!#REF!/251996","v":{"$error":"#REF!"}},{"$f":"Premissas!#REF!/251996","v":{"$error":"#REF!"}},{"$f":"Premissas!#REF!/251996","v":{"$error":"#REF!"}},{"$f":"Premissas!#REF!/251996","v":{"$error":"#REF!"}},{"$f":"Premissas!#REF!/251996","v":{"$error":"#REF!"}}]
[]
[]
[null,"Dados Contrato 4 (05/09/2041 à 04/09/2049):",2020,2021,2022,2023,2024,2025,2026,2027,2028,2029,2030,2031,2032,2033,2034,2035,2036,2037,2038,2039,2040,2041,2042,2043,2044,2045,2046,2047,2048,2049]
[null,"Capacidade Contratada de Transporte Total ( mil m3/dia)",{"$f":"C11/10^3","v":0},0,0,0,0,0,0,0,0,0,0,0,0,0,0,0,0,0,0,0,0,6000,6000,6000,6000,6000,6000,6000,6000,6000]
[null,"Capacidade Contratada de Transporte Total (mil m3/ano)",{"$f":"(C46*C50)","v":0},{"$f":"(D46*D50)","v":0},0,0,0,{"$error":"#REF!"},{"$error":"#REF!"},{"$error":"#REF!"},{"$error":"#REF!"},{"$error":"#REF!"},{"$error":"#REF!"},{"$error":"#REF!"},{"$error":"#REF!"},{"$error":"#REF!"},{"$error":"#REF!"},{"$error":"#REF!"},{"$error":"#REF!"},{"$error":"#REF!"},{"$error":"#REF!"},{"$error":"#REF!"},{"$error":"#REF!"},{"$error":"#REF!"},{"$error":"#REF!"},{"$error":"#REF!"},{"$error":"#REF!"},{"$error":"#REF!"},{"$error":"#REF!"},{"$error":"#REF!"},{"$error":"#REF!"},{"$error":"#REF!"}]
[null,"Capacidade Contratada de Transporte Total (MMBtu/ano)",{"$f":"C47*C51","v":0},0,0,0,0,{"$error":"#REF!"},{"$error":"#REF!"},{"$error":"#REF!"},{"$error":"#REF!"},{"$error":"#REF!"},{"$f":"M47*M51","v":{"$error":"#REF!"}},{"$error":"#REF!"},{"$error":"#REF!"},{"$error":"#REF!"},{"$error":"#REF!"},{"$error":"#REF!"},{"$error":"#REF!"},{"$error":"#REF!"},{"$error":"#REF!"},{"$error":"#REF!"},{"$f":"W47*W51","v":{"$error":"#REF!"}},{"$error":"#REF!"},{"$error":"#REF!"},{"$error":"#REF!"},{"$error":"#REF!"},{"$error":"#REF!"},{"$error":"#REF!"},{"$error":"#REF!"},{"$error":"#REF!"},{"$error":"#REF!"}]
[null,"Duração Ano (dias)",{"$f":"Premissas!B60","v":366},{"$f":"Premissas!C60","v":365},{"$f":"Premissas!D60","v":365},{"$f":"Premissas!E60","v":365},{"$f":"Premissas!F60","v":366},{"$f":"Premissas!#REF!","v":{"$error":"#REF!"}},{"$f":"Premissas!#REF!","v":{"$error":"#REF!"}},{"$f":"Premissas!#REF!","v":{"$error":"#REF!"}},{"$f":"Premissas!#REF!","v":{"$error":"#REF!"}},{"$f":"Premissas!#REF!","v":{"$error":"#REF!"}},{"$f":"Premissas!#REF!","v":{"$error":"#REF!"}},{"$f":"Premissas!#REF!","v":{"$error":"#REF!"}},{"$f":"Premissas!#REF!","v":{"$error":"#REF!"}},{"$f":"Premissas!#REF!","v":{"$error":"#REF!"}},{"$f":"Premissas!#REF!","v":{"$error":"#REF!"}},{"$f":"Premissas!#REF!","v":{"$error":"#REF!"}},{"$f":"Premissas!#REF!","v":{"$error":"#REF!"}},{"$f":"Premissas!#REF!","v":{"$error":"#REF!"}},{"$f":"Premissas!#REF!","v":{"$error":"#REF!"}},{"$f":"Premissas!#REF!","v":{"$error":"#REF!"}},{"$f":"Premissas!#REF!","v":{"$error":"#REF!"}},{"$f":"Premissas!#REF!","v":{"$error":"#REF!"}},{"$f":"Premissas!#REF!","v":{"$error":"#REF!"}},{"$f":"Premissas!#REF!","v":{"$error":"#REF!"}},{"$f":"Premissas!#REF!","v":{"$error":"#REF!"}},{"$f":"Premissas!#REF!","v":{"$error":"#REF!"}},{"$f":"Premissas!#REF!","v":{"$error":"#REF!"}},{"$f":"Premissas!#REF!","v":{"$error":"#REF!"}},{"$f":"Premissas!#REF!","v":{"$error":"#REF!"}},{"$f":"Premissas!#REF!","v":{"$error":"#REF!"}}]
[null,"Dias Operacionais (dias)",{"$f":"Premissas!B60-C49","v":0},{"$f":"Premissas!C60-D49","v":0},{"$f":"Premissas!D60-E49","v":0},{"$f":"Premissas!E60-F49","v":0},{"$f":"Premissas!F60-G49","v":0},{"$f":"Premissas!#REF!-H49","v":{"$error":"#REF!"}},{"$f":"Premissas!#REF!-I49","v":{"$error":"#REF!"}},{"$f":"Premissas!#REF!-J49","v":{"$error":"#REF!"}},{"$f":"Premissas!#REF!-K49","v":{"$error":"#REF!"}},{"$f":"Premissas!#REF!-L49","v":{"$error":"#REF!"}},{"$f":"Premissas!#REF!-M49","v":{"$error":"#REF!"}},{"$f":"Premissas!#REF!-N49","v":{"$error":"#REF!"}},{"$f":"Premissas!#REF!-O49","v":{"$error":"#REF!"}},{"$f":"Premissas!#REF!-P49","v":{"$error":"#REF!"}},{"$f":"Premissas!#REF!-Q49","v":{"$error":"#REF!"}},{"$f":"Premissas!#REF!-R49","v":{"$error":"#REF!"}},{"$f":"Premissas!#REF!-S49","v":{"$error":"#REF!"}},{"$f":"Premissas!#REF!-T49","v":{"$error":"#REF!"}},{"$f":"Premissas!#REF!-U49","v":{"$error":"#REF!"}},{"$f":"Premissas!#REF!-V49","v":{"$error":"#REF!"}},{"$f":"Premissas!#REF!-W49","v":{"$error":"#REF!"}},{"$f":"Premissas!#REF!-247","v":{"$error":"#REF!"}},{"$f":"Premissas!#REF!","v":{"$error":"#REF!"}},{"$f":"Premissas!#REF!","v":{"$error":"#REF!"}},{"$f":"Premissas!#REF!","v":{"$error":"#REF!"}},{"$f":"Premissas!#REF!","v":{"$error":"#REF!"}},{"$f":"Premissas!#REF!","v":{"$error":"#REF!"}},{"$f":"Premissas!#REF!","v":{"$error":"#REF!"}},{"$f":"Premissas!#REF!","v":{"$error":"#REF!"}},{"$f":"Premissas!#REF!-118","v":{"$error":"#REF!"}}]
[null,"Fator de conversão (MMBtu/m³)",{"$f":"Premissas!B56/251996","v":3.6479944126097237E-2},{"$f":"Premissas!C56/251996","v":3.6479944126097237E-2},{"$f":"Premissas!D56/251996","v":3.7302179399673008E-2},{"$f":"Premissas!E56/251996","v":3.7302179399673008E-2},{"$f":"Premissas!F56/251996","v":3.7302179399673008E-2},{"$f":"Premissas!#REF!/251996","v":{"$error":"#REF!"}},{"$f":"Premissas!#REF!/251996","v":{"$error":"#REF!"}},{"$f":"Premissas!#REF!/251996","v":{"$error":"#REF!"}},{"$f":"Premissas!#REF!/251996","v":{"$error":"#REF!"}},{"$f":"Premissas!#REF!/251996","v":{"$error":"#REF!"}},{"$f":"Premissas!#REF!/251996","v":{"$error":"#REF!"}},{"$f":"Premissas!#REF!/251996","v":{"$error":"#REF!"}},{"$f":"Premissas!#REF!/251996","v":{"$error":"#REF!"}},{"$f":"Premissas!#REF!/251996","v":{"$error":"#REF!"}},{"$f":"Premissas!#REF!/251996","v":{"$error":"#REF!"}},{"$f":"Premissas!#REF!/251996","v":{"$error":"#REF!"}},{"$f":"Premissas!#REF!/251996","v":{"$error":"#REF!"}},{"$f":"Premissas!#REF!/251996","v":{"$error":"#REF!"}},{"$f":"Premissas!#REF!/251996","v":{"$error":"#REF!"}},{"$f":"Premissas!#REF!/251996","v":{"$error":"#REF!"}},{"$f":"Premissas!#REF!/251996","v":{"$error":"#REF!"}},{"$f":"Premissas!#REF!/251996","v":{"$error":"#REF!"}},{"$f":"Premissas!#REF!/251996","v":{"$error":"#REF!"}},{"$f":"Premissas!#REF!/251996","v":{"$error":"#REF!"}},{"$f":"Premissas!#REF!/251996","v":{"$error":"#REF!"}},{"$f":"Premissas!#REF!/251996","v":{"$error":"#REF!"}},{"$f":"Premissas!#REF!/251996","v":{"$error":"#REF!"}},{"$f":"Premissas!#REF!/251996","v":{"$error":"#REF!"}},{"$f":"Premissas!#REF!/251996","v":{"$error":"#REF!"}},{"$f":"Premissas!#REF!/251996","v":{"$error":"#REF!"}}]
[]
["UP"]

{"sheet":"Investimento Anterior","index":4,"n_rows":147,"n_cols":29,"rows_kept":147,"cut":false,"hidden":true,"merged":[[79,26,80,26],[8,2,8,3],[2,2,2,3],[2,24,2,28],[7,2,7,3],[4,2,6,3],[5,4,6,4],[5,5,6,5],[5,6,6,6],[5,7,6,7],[5,8,6,8],[5,9,6,9],[5,10,6,10],[5,11,6,11],[5,12,6,12],[4,4,4,22],[5,27,6,27],[30,2,30,3],[19,2,19,3],[9,2,9,3],[10,2,10,3],[11,2,11,3],[12,2,12,3],[13,2,13,3],[14,2,14,3],[15,2,15,3],[16,2,16,3],[17,2,17,3],[18,2,18,3],[20,2,20,3],[21,2,21,3],[22,2,22,3],[23,2,23,3],[24,2,24,3],[25,2,25,3],[27,2,27,3],[28,2,28,3],[29,2,29,3],[26,2,26,3],[81,2,81,3],[70,2,70,3],[51,2,51,3],[52,2,52,3],[55,2,55,3],[56,2,56,3],[57,2,57,3],[58,2,58,3],[59,2,59,3],[60,2,60,3],[61,2,61,3],[54,2,54,3],[53,2,53,3],[62,2,62,3],[63,2,63,3],[64,2,64,3],[65,2,65,3],[66,2,66,3],[67,2,67,3],[68,2,68,3],[69,2,69,3],[92,2,92,3],[91,2,91,3],[82,2,82,3],[83,2,83,3],[84,2,84,3],[85,2,85,3],[86,2,86,3],[87,2,87,3],[88,2,88,3],[89,2,89,3],[90,2,90,3],[101,2,101,3],[102,2,102,3],[103,2,103,3],[104,2,104,3],[99,2,99,3],[100,2,100,3],[93,2,93,3],[94,2,94,3],[95,2,95,3],[96,2,96,3],[97,2,97,3],[98,2,98,3],[118,2,118,3],[119,2,119,3],[110,2,110,3],[111,2,111,3],[112,2,112,3],[113,2,113,3],[114,2,114,3],[105,2,105,3],[106,2,106,3],[107,2,107,3],[108,2,108,3],[109,2,109,3],[141,2,141,3],[142,2,142,3],[144,2,144,3],[143,2,143,3],[134,2,134,3],[135,2,135,3],[136,2,136,3],[137,2,137,3],[138,2,138,3],[78,4,79,22],[73,1,74,3],[75,1,75,3],[76,1,76,3],[78,1,80,3],[139,2,139,3],[140,2,140,3],[129,2,129,3],[130,2,130,3],[131,2,131,3],[132,2,132,3],[133,2,133,3],[124,2,124,3],[125,2,125,3],[126,2,126,3],[127,2,127,3],[128,2,128,3],[120,2,120,3],[121,2,121,3],[122,2,122,3],[123,2,123,3],[115,2,115,3],[116,2,116,3],[117,2,117,3],[4,1,6,1],[5,23,6,23],[5,24,6,24],[5,25,6,25],[5,26,6,26],[5,18,6,18],[5,19,6,19],[5,20,6,20],[5,21,6,21],[5,22,6,22],[5,13,6,13],[5,14,6,14],[5,15,6,15],[5,16,6,16],[5,17,6,17],[5,35,6,35],[5,36,6,36],[5,37,6,37],[5,38,6,38],[4,29,4,38],[5,29,6,29],[5,30,6,30],[5,31,6,31],[5,32,6,32],[5,33,6,33],[5,34,6,34],[43,2,43,3],[44,2,44,3],[45,2,45,3],[46,2,46,3],[47,2,47,3],[48,2,48,3],[49,2,49,3],[50,2,50,3],[31,2,31,3],[42,2,42,3],[32,2,32,3],[33,2,33,3],[34,2,34,3],[35,2,35,3],[36,2,36,3],[37,2,37,3],[38,2,38,3],[39,2,39,3],[40,2,40,3],[41,2,41,3]]}
[]
[]
[null,null," INVESTIMENTOS "]
[]
[null,"Código","Quadro Resumo",null,"Real R$ mil (a valor de 2016)"]
[null,null,null,null,1998,1999,2000,2001,2002,2003,2004,2005,2006,2007,2008,2009,2010,2011,2012,2013,2014,2015,2016,2017,2018,2019,"TOTAL",2016]
[]
[null,1,"1. Tubulações",null,{"$f":"+E82*($W$76/E$76)","v":0},{"$f":"+F82*($W$76/F$76)","v":0},0,0,0,0,0,0,0,0,0,0,0,0,0,0,0,0,{"$f":"+W82*($W$76/W$76)","v":1205094.0342799998},null,null,null,null,{"$f":"SUM(E8:W8)","v":1205094.0342799998},{"$f":"+AB8/$AB$71","v":0.63608037067388956}]
[null,1.1000000000000001,"1.1 Linha Tronco",null,{"$f":"+E83*($W$76/E$76)","v":0},0,0,0,0,0,0,0,0,0,0,0,0,0,0,0,0,0,51763.411130000008,null,null,null,null,{"$f":"SUM(E9:W9)","v":51763.411130000008},{"$f":"+AB9/$AB$71","v":2.7322091722566076E-2}]
[null,null,"Tubo API-5L X70, 24\", revist. ext. PE3L, revest. int. epóxi aprox.: 11.000m, c/ mantas termcontráteis incluídas (quantidade: 918)",null,0,0,0,0,0,0,0,0,0,0,0,0,0,0,0,0,0,0,0,null,null,null,null,{"$f":"SUM(E10:W10)","v":0},{"$f":"+AB10/$AB$71","v":0}]
[null,null,"Afretamento para transporte dos tubos",null,0,0,0,0,0,0,0,0,0,0,0,0,0,0,0,0,0,0,0,null,null,null,null,0,{"$f":"+AB11/$AB$71","v":0}]
[null,1.2,"1.2 Trecho(s)/Ramal(is)",null,0,0,0,0,0,0,0,0,0,0,0,0,0,0,0,0,0,0,0,null,null,null,null,0,{"$f":"+AB12/$AB$71","v":0}]
[null,2,"2 Componentes",null,0,0,0,0,0,0,0,0,0,0,0,0,0,0,0,0,0,0,0,null,null,null,null,0,0]
[null,2.1,"2.1 Lançadores e Recebedores de Pigs e Esferas ",null,0,0,0,0,0,0,0,0,0,0,0,0,0,0,0,0,0,0,0,null,null,null,null,0,0]
[null,2.2000000000000002,"2.2 Válvulas",null,0,0,0,0,0,0,0,0,0,0,0,0,0,0,0,0,0,0,11904.344360000006,null,null,null,null,11904.344360000006,6.2834264860189924E-3]
[null,null,"Válvulas auxiliares e complementos",null,0,0,0,0,0,0,0,0,0,0,0,0,0,0,0,0,0,0,0,null,null,null,null,0,0]
[null,null,"Válvulas de bloqueio autônoma, 24\", Classe de Pressão: 600#. Quantidade: 2",null,0,0,0,0,0,0,0,0,0,0,0,0,0,0,0,0,0,0,0,null,null,null,null,0,0]
[null,2.2999999999999998,"2.3 Sistema de Proteção Catódica e Demais Equipamentos de Controle de Corrosão",null,0,0,0,0,0,0,0,0,0,0,0,0,0,0,0,0,0,0,5802.3063800000009,null,null,null,null,5802.3063800000009,{"$f":"+AB18/$AB$71","v":3.062610126652029E-3}]
[null,2.4,"2.4 Sistemas de Comunicação e de Supervisão e Controle",null,0,0,0,0,0,0,0,0,0,0,0,0,0,0,0,0,0,0,2665.9820800000002,null,null,null,null,2665.9820800000002,1.407175557606601E-3]
[null,null,"Materiais (linha tronco + instalações complementares)",null,0,0,0,0,0,0,0,0,0,0,0,0,0,0,0,0,0,0,0,null,null,null,null,0,0]
[null,null,"Fibra óptica e tubos PEAD. Extensão aproximada: 11.000m",null,0,0,0,0,0,0,0,0,0,0,0,0,0,0,0,0,0,0,0,null,null,null,null,0,0]
[null,2.5,"2.5 Outros Componentes",null,0,0,0,0,0,0,0,0,0,0,0,0,0,0,0,0,0,0,0,null,null,null,null,0,0]
[null,3,"3 Complementos",null,0,{"$f":"+F97*($W$76/F$76)","v":0},0,0,0,0,0,0,0,0,0,0,0,0,0,0,0,0,0,null,null,null,null,0,0]
[null,3.1,"3.1 Estação(ões) de Recebimento ",null,0,0,0,0,0,0,0,0,0,0,0,0,0,0,0,0,0,0,0,null,null,null,null,0,0]
[null,3.2,"3.2 Estação(ões) de Entrega",null,0,0,0,0,0,0,0,0,0,0,0,0,0,0,0,0,0,0,121193.27243000007,null,null,null,null,121193.27243000007,6.3969001138167461E-2]
[null,3.3,"3.3 Estação(ões) de Interconexão",null,0,0,0,0,0,0,0,0,0,0,0,0,0,0,0,0,0,0,0,null,null,null,null,0,0]
[null,3.4,"3.4 Estação(ões) de Compressão",null,0,0,0,0,0,0,0,0,0,0,0,0,0,0,0,0,0,0,414298.21128999896,null,null,null,null,414298.21128999896,0.21867750757252713]
[null,3.5,"3.5 Estação(ões) de Medição",null,0,0,0,0,0,0,0,0,0,0,0,0,0,0,0,0,0,0,13278.350629999999,null,null,null,null,13278.350629999999,7.0086631834622871E-3]
[null,3.6,"3.6 Estação(ões) de Regulagem de Pressão",null,0,0,0,0,0,0,0,0,0,0,0,0,0,0,0,0,0,0,1149.8435099999999,null,null,null,null,1149.8435099999999,6.0691768878828368E-4]
[null,3.7,"3.7 Sistema Elétrico",null,0,0,0,0,0,0,0,0,0,0,0,0,0,0,0,0,0,0,1965.5454000000004,null,null,null,null,1965.5454000000004,1.037466630025544E-3]
[null,3.8,"3.8 Sistemas Auxiliares",null,0,0,0,0,0,0,0,0,0,0,0,0,0,0,0,0,0,0,2319.3549499999999,null,null,null,null,2319.3549499999999,1.2242166290382117E-3]
[null,4,"4 Construção e Montagem",null,0,0,0,0,0,0,0,0,0,0,0,0,0,0,0,0,0,0,0,null,null,null,null,0,0]
[null,4.0999999999999996,"4.1 Preparo da Faixa do Duto",null,0,0,0,0,0,0,0,0,0,0,0,0,0,0,0,0,0,0,0,null,null,null,null,0,0]
[null,4.2,"4.2 Tubulação e Acessórios",null,0,0,0,0,0,0,0,0,0,0,0,0,0,0,0,0,0,0,0,null,null,null,null,0,0]
[null,null,"Construção e Montagem do gasoduto",null,0,0,0,0,0,0,0,0,0,0,0,0,0,0,0,0,0,0,0,null,null,null,null,0,0]
[null,null,"Montagem do sistema de lançamento e recebimento de pigs",null,0,0,0,0,0,0,0,0,0,0,0,0,0,0,0,0,0,0,0,null,null,null,null,0,0]
[null,null,"Construção dos pontos de teste e montagem do sistema de proteção catódica",null,0,0,0,0,{"$f":"+I111*($W$76/I$76)","v":0},0,0,0,0,0,0,0,0,0,0,0,0,0,0,null,null,null,null,0,0]
[null,null,"Montagem das válvulas de bloqueio autônomas",null,0,0,0,0,0,0,0,0,0,0,0,0,0,0,0,0,0,0,0,null,null,null,null,0,0]
[null,null,"Construção de abrigos para módulos de medição de vazão e instalação das EMEDs",null,0,0,0,0,0,0,0,0,0,0,0,0,0,0,0,0,0,0,0,null,null,null,null,0,0]
[null,null,"Construção e montagem dos Sistemas de Comunicação e de Supervisão e Controle",null,0,0,0,0,0,0,0,0,0,0,0,0,0,0,0,0,0,0,0,null,null,null,null,0,0]
[null,4.3,"4.3 Travessias e Cruzamentos",null,0,0,0,0,0,0,0,0,0,0,0,0,0,0,0,0,0,0,0,null,null,null,null,0,0]
[null,null,"Travessias convencionais",null,0,0,0,0,0,0,0,0,0,0,0,0,0,0,0,0,0,0,0,null,null,null,null,0,0]
[null,null,"Cruzamentos convecionais",null,0,0,0,0,0,0,0,0,0,0,0,0,0,0,0,0,0,0,0,null,null,null,null,0,0]
[null,4.4000000000000004,"4.4 Testes, Inspeções e Ensaios Exigidos por Normas",null,0,0,0,0,0,0,0,0,0,0,0,0,0,0,0,0,0,0,0,null,null,null,null,0,0]
[null,null,"Testes a frio",null,0,0,0,0,0,0,0,0,0,0,0,0,0,0,0,0,0,0,0,null,null,null,null,0,0]
[null,4.5,"4.5 Condicionamento e Comissionamento",null,0,0,0,0,0,0,0,0,0,0,0,0,0,0,0,0,0,0,0,null,null,null,null,0,0]
[null,null,"Comissionamento e apoio a pré-operação",null,0,0,0,0,0,0,0,0,0,0,0,0,0,0,0,0,0,0,0,null,null,null,null,0,0]
[null,5,"5 Licenciamento Ambiental e Liberação da Faixa de Servidão",null,0,0,0,0,0,0,0,0,0,0,0,0,0,0,0,0,0,0,0,null,null,null,null,0,0]
[null,5.0999999999999996,"5.1 Licenciamento Ambiental ",null,0,0,0,0,0,0,0,0,0,0,0,0,0,0,0,0,0,0,0,null,null,null,null,0,0]
[null,5.2,"5.2 Imóveis Atingidos pela Faixa de Servidão",null,0,0,0,0,0,0,0,0,0,0,0,0,0,0,0,0,0,0,0,null,null,null,null,0,0]
[null,5.3,"5.3 Seleção da Faixa de Servidão",null,0,0,0,0,0,0,0,{"$f":"+L125*($W$76/L$76)","v":0},0,0,0,0,0,0,0,0,0,0,0,null,null,null,null,0,0]
[null,5.4,"5.4 Custos de Compartilhamento",null,0,0,0,0,0,0,0,0,0,0,0,0,0,0,0,0,0,0,0,null,null,null,null,0,0]
[null,null,"Desapropriação + aquisição de terrenos",null,0,0,0,0,0,0,0,0,0,0,0,0,0,0,0,0,0,0,0,null,null,null,null,0,0]
[null,null,"Passagem pelos rios Macacu e Guapiaçu",null,0,0,0,0,0,0,0,0,0,0,0,0,0,0,0,0,0,0,0,null,null,null,null,0,0]
[null,null,"Licença Prévia",null,0,0,0,0,0,0,0,0,0,0,0,0,0,0,0,0,0,0,0,null,null,null,null,{"$f":"SUM(E55:W55)","v":0},0]
[null,6,"6 Outros Bens e Instalações Diretamente Vinculados",null,0,0,0,0,0,0,0,0,0,0,0,0,0,0,0,0,0,0,0,null,null,null,null,0,0]
[null,6.1,"6.1 Imóveis/Edificações/Terrenos e Benfeitorias",null,0,0,0,0,0,0,0,0,0,0,0,0,0,0,0,0,0,0,{"$f":"+W131*($W$76/W$76)","v":3538.6152299999903},null,null,null,null,3538.6152299999903,1.8677743173091572E-3]
[null,6.2,"6.2 Móveis, Equipamentos e Instalações de Escritório",null,0,0,0,0,0,0,0,0,0,0,0,0,0,0,0,0,0,0,728.82539000000395,null,null,null,null,728.82539000000395,3.846932364118156E-4]
[null,6.3,"6.3 Equipamentos e Instalações de Processamento de Dados e de Comunicação",null,0,0,0,0,0,0,0,0,0,0,0,0,0,0,0,0,0,0,13079.837669999997,null,null,null,null,{"$f":"SUM(E59:W59)","v":13079.837669999997},6.9038828148034921E-3]
[null,6.4,"6.4 Veículos",null,0,0,0,0,0,0,0,0,0,0,0,0,0,0,0,0,0,0,0,null,null,null,null,0,0]
[null,6.5,"6.5 Outros Bens Imobilizados",null,0,0,0,0,0,0,0,0,0,0,0,0,0,0,0,0,0,0,0,null,null,null,null,{"$f":"SUM(E61:W61)","v":0},0]
[null,7,"7 Administração da Obra e Despesas Diversas",null,0,0,0,0,0,0,0,0,0,0,0,0,0,0,0,0,0,0,0,null,null,null,null,0,0]
[null,7.1,"7.1 Administração da Obra",null,0,0,0,0,0,0,0,0,0,0,0,0,0,0,0,0,0,0,0,null,null,null,null,0,0]
[null,7.2,"7.2 Benefícios e Despesas Indiretas - BDI",null,0,0,0,0,0,0,0,0,0,0,0,0,0,0,0,0,0,0,1844.6592800000001,null,null,null,null,1844.6592800000001,9.7365975202961272E-4]
[null,7.3,"7.3 Projetos de Engenharia",null,0,0,0,0,0,0,0,0,0,0,{"$f":"+O139*($W$76/O$76)","v":0},0,0,0,0,0,0,0,0,null,null,null,null,0,0]
[null,null,"Projeto Conceitual + Projeto Básico",null,0,0,0,0,0,0,0,0,0,0,0,0,0,0,0,0,0,0,0,null,null,null,null,0,0]
[null,null,"Projeto Executivo",null,0,0,0,0,0,0,0,0,0,0,0,0,0,0,0,0,0,0,0,null,null,null,null,0,0]
[null,null,"\"As built\"",null,0,{"$f":"+F142*($W$76/F$76)","v":0},0,0,0,0,0,0,0,0,0,0,0,0,0,0,0,0,0,null,null,null,null,0,0]
[null,7.4,"7.4 Outros (Seguro, Consultoria Jurídica-Contábil, tributos etc.)",null,0,0,0,0,0,0,0,0,0,0,0,0,0,0,0,0,0,0,0,null,null,null,null,0,0]
[null,8,"8 Overhaul",null,0,0,0,0,0,0,0,0,0,0,0,0,0,0,0,0,0,0,43935.932740000011,null,null,null,null,43935.932740000011,2.3190542470703939E-2]
[null,null,"Total Geral",null,{"$f":"SUM(E8:E70)","v":0},{"$f":"SUM(F8:F70)","v":0},{"$f":"SUM(G8:G70)","v":0},0,0,0,0,0,0,0,0,0,0,0,0,0,0,0,1894562.5267499986,0,0,{"$f":"SUM(Z8:Z70)","v":0},{"$f":"SUM(AA8:AA70)","v":0},1894562.5267499986,1]
[]
[]
[null,"IPCA ",null,null,1998,1999,2000,2001,2002,2003,2004,2005,2006,2007,2008,2009,2010,2011,2012,2013,2014,2015,2016,2017,2018,2019]
[null,null,null,null,1.65,8.94,5.97,7.67,12.53,9.3000000000000007,7.6,5.69,3.14,4.46,5.9,4.3099999999999996,5.91,6.5,5.84,5.91,6.41,10.67,6.29]
[null,"Índice (1998=100)",null,null,100,{"$f":"E76*(1+F75/100)","v":108.94},{"$f":"F76*(1+G75/100)","v":115.443718},{"$f":"G76*(1+H75/100)","v":124.2982511706},139.87282204227617,152.88099449220786,164.49995007361568,173.8599972328044,179.31920114591449,187.31683751702226,198.36853093052656,206.91821461363224,219.1470810972979,233.39164136862226,247.02171322454981,261.62069647612071,{"$f":"T76*(1+U75/100)","v":278.39058312024008},{"$f":"U76*(1+V75/100)","v":308.09485833916972},{"$f":"V76*(1+W75/100)","v":327.4740249287035},327.4740249287035,327.4740249287035,327.4740249287035]
[null,"Índice (1999=100)",null,null,{"$f":"(E76/$F$76)*100","v":91.793647879566734},{"$f":"(F76/$F$76)*100","v":100},{"$f":"(G76/$F$76)*100","v":105.97000000000001},{"$f":"(H76/$F$76)*100","v":114.097899},{"$f":"(I76/$F$76)*100","v":128.3943657447},140.33504175895709,151.00050493263785,159.59243366330494,164.60363608033276,171.94495824951557,182.08971078623696,189.93777732112378,201.16309996080219,214.23870145825435,226.7502416234164,240.15118090336028,255.54487159926572,282.81150939890745,300.60035334009865,300.60035334009865,300.60035334009865,300.60035334009865]
[]
[null,"Quadro Resumo",null,null,"Nominal R$ mil"]
[null,null,null,null,null,null,null,null,null,null,null,null,null,null,null,null,null,null,null,null,null,null,null,null,null,null,"TOTAL"]
[null,null,null,null,1998,1999,2000,2001,2002,2003,2004,2005,2006,2007,2008,2009,2010,2011,2012,2013,2014,2015,2016,2017,2018,2019]
[null,1,"1. Tubulações",null,null,null,null,null,null,null,null,null,null,null,null,null,null,null,null,null,null,null,1205094.0342799998,null,null,null,{"$f":"SUM(E82:Z82)","v":1205094.0342799998}]
[null,1.1000000000000001,"1.1 Linha Tronco",null,null,null,null,null,null,null,null,null,null,null,null,null,null,null,null,null,null,null,51763.411130000008,null,null,null,{"$f":"SUM(E83:Z83)","v":51763.411130000008}]
[null,null,"Tubo API-5L X70, 24\", revist. ext. PE3L, revest. int. epóxi aprox.: 11.000m, c/ mantas termcontráteis incluídas (quantidade: 918)",null,null,null,null,null,null,null,null,null,null,null,null,null,null,null,null,null,null,null,null,null,null,null,{"$f":"SUM(E84:Z84)","v":0}]
[null,null,"Afretamento para transporte dos tubos",null,null,null,null,null,null,null,null,null,null,null,null,null,null,null,null,null,null,null,null,null,null,null,0]
[null,1.2,"1.2 Trecho(s)/Ramal(is)",null,null,null,null,null,null,null,null,null,null,null,null,null,null,null,null,null,null,null,null,null,null,null,0]
[null,2,"2 Componentes",null,null,null,null,null,null,null,null,null,null,null,null,null,null,null,null,null,null,null,null,null,null,null,0]
[null,2.1,"2.1 Lançadores e Recebedores de Pigs e Esferas ",null,null,null,null,null,null,null,null,null,null,null,null,null,null,null,null,null,null,null,null,null,null,null,0]
[null,2.2000000000000002,"2.2 Válvulas",null,null,null,null,null,null,null,null,null,null,null,null,null,null,null,null,null,null,null,11904.344360000006,null,null,null,11904.344360000006]
[null,null,"Válvulas auxiliares e complementos",null,null,null,null,null,null,null,null,null,null,null,null,null,null,null,null,null,null,null,null,null,null,null,0]
[null,null,"Válvulas de bloqueio autônoma, 24\", Classe de Pressão: 600#. Quantidade: 2",null,null,null,null,null,null,null,null,null,null,null,null,null,null,null,null,null,null,null,null,null,null,null,0]
[null,2.2999999999999998,"2.3 Sistema de Proteção Catódica e Demais Equipamentos de Controle de Corrosão",null,null,null,null,null,null,null,null,null,null,null,null,null,null,null,null,null,null,null,5802.3063800000009,null,null,null,5802.3063800000009]
[null,2.4,"2.4 Sistemas de Comunicação e de Supervisão e Controle",null,null,null,null,null,null,null,null,null,null,null,null,null,null,null,null,null,null,null,2665.9820800000002,null,null,null,2665.9820800000002]
[null,null,"Materiais (linha tronco + instalações complementares)",null,null,null,null,null,null,null,null,null,null,null,null,null,null,null,null,null,null,null,null,null,null,null,0]
[null,null,"Fibra óptica e tubos PEAD. Extensão aproximada: 11.000m",null,null,null,null,null,null,null,null,null,null,null,null,null,null,null,null,null,null,null,null,null,null,null,0]
[null,2.5,"2.5 Outros Componentes",null,null,null,null,null,null,null,null,null,null,null,null,null,null,null,null,null,null,null,null,null,null,null,0]
[null,3,"3 Complementos",null,null,null,null,null,null,null,null,null,null,null,null,null,null,null,null,null,null,null,null,null,null,null,0]
[null,3.1,"3.1 Estação(ões) de Recebimento ",null,null,null,null,null,null,null,null,null,null,null,null,null,null,null,null,null,null,null,null,null,null,null,0]
[null,3.2,"3.2 Estação(ões) de Entrega",null,null,null,null,null,null,null,null,null,null,null,null,null,null,null,null,null,null,null,121193.27243000007,null,null,null,121193.27243000007]
[null,3.3,"3.3 Estação(ões) de Interconexão",null,null,null,null,null,null,null,null,null,null,null,null,null,null,null,null,null,null,null,null,null,null,null,0]
[null,3.4,"3.4 Estação(ões) de Compressão",null,null,null,null,null,null,null,null,null,null,null,null,null,null,null,null,null,null,null,{"$f":"568647.868859999-154349.65757","v":414298.21128999896},null,null,null,{"$f":"SUM(E101:Z101)","v":414298.21128999896}]
[null,3.5,"3.5 Estação(ões) de Medição",null,null,null,null,null,null,null,null,null,null,null,null,null,null,null,null,null,null,null,13278.350629999999,null,null,null,13278.350629999999]
[null,3.6,"3.6 Estação(ões) de Regulagem de Pressão",null,null,null,null,null,null,null,null,null,null,null,null,null,null,null,null,null,null,null,1149.8435099999999,null,null,null,1149.8435099999999]
[null,3.7,"3.7 Sistema Elétrico",null,null,null,null,null,null,null,null,null,null,null,null,null,null,null,null,null,null,null,1965.5454000000004,null,null,null,1965.5454000000004]
[null,3.8,"3.8 Sistemas Auxiliares",null,null,null,null,null,null,null,null,null,null,null,null,null,null,null,null,null,null,null,2319.3549499999999,null,null,null,2319.3549499999999]
[null,4,"4 Construção e Montagem",null,null,null,null,null,null,null,null,null,null,null,null,null,null,null,null,null,null,null,null,null,null,null,0]
[null,4.0999999999999996,"4.1 Preparo da Faixa do Duto",null,null,null,null,null,null,null,null,null,null,null,null,null,null,null,null,null,null,null,null,null,null,null,0]
[null,4.2,"4.2 Tubulação e Acessórios",null,null,null,null,null,null,null,null,null,null,null,null,null,null,null,null,null,null,null,null,null,null,null,0]
[null,null,"Construção e Montagem do gasoduto",null,null,null,null,null,null,null,null,null,null,null,null,null,null,null,null,null,null,null,null,null,null,null,0]
[null,null,"Montagem do sistema de lançamento e recebimento de pigs",null,null,null,null,null,null,null,null,null,null,null,null,null,null,null,null,null,null,null,null,null,null,null,0]
[null,null,"Construção dos pontos de teste e montagem do sistema de proteção catódica",null,null,null,null,null,null,null,null,null,null,null,null,null,null,null,null,null,null,null,null,null,null,null,0]
[null,null,"Montagem das válvulas de bloqueio autônomas",null,null,null,null,null,null,null,null,null,null,null,null,null,null,null,null,null,null,null,null,null,null,null,0]
[null,null,"Construção de abrigos para módulos de medição de vazão e instalação das EMEDs",null,null,null,null,null,null,null,null,null,null,null,null,null,null,null,null,null,null,null,null,null,null,null,0]
[null,null,"Construção e montagem dos Sistemas de Comunicação e de Supervisão e Controle",null,null,null,null,null,null,null,null,null,null,null,null,null,null,null,null,null,null,null,null,null,null,null,0]
[null,4.3,"4.3 Travessias e Cruzamentos",null,null,null,null,null,null,null,null,null,null,null,null,null,null,null,null,null,null,null,null,null,null,null,0]
[null,null,"Travessias convencionais",null,null,null,null,null,null,null,null,null,null,null,null,null,null,null,null,null,null,null,null,null,null,null,0]
[null,null,"Cruzamentos convecionais",null,null,null,null,null,null,null,null,null,null,null,null,null,null,null,null,null,null,null,null,null,null,null,0]
[null,4.4000000000000004,"4.4 Testes, Inspeções e Ensaios Exigidos por Normas",null,null,null,null,null,null,null,null,null,null,null,null,null,null,null,null,null,null,null,null,null,null,null,0]
[null,null,"Testes a frio",null,null,null,null,null,null,null,null,null,null,null,null,null,null,null,null,null,null,null,null,null,null,null,0]
[null,4.5,"4.5 Condicionamento e Comissionamento",null,null,null,null,null,null,null,null,null,null,null,null,null,null,null,null,null,null,null,null,null,null,null,0]
[null,null,"Comissionamento e apoio a pré-operação",null,null,null,null,null,null,null,null,null,null,null,null,null,null,null,null,null,null,null,null,null,null,null,0]
[null,5,"5 Licenciamento Ambiental e Liberação da Faixa de Servidão",null,null,null,null,null,null,null,null,null,null,null,null,null,null,null,null,null,null,null,null,null,null,null,0]
[null,5.0999999999999996,"5.1 Licenciamento Ambiental ",null,null,null,null,null,null,null,null,null,null,null,null,null,null,null,null,null,null,null,null,null,null,null,0]
[null,5.2,"5.2 Imóveis Atingidos pela Faixa de Servidão",null,null,null,null,null,null,null,null,null,null,null,null,null,null,null,null,null,null,null,null,null,null,null,0]
[null,5.3,"5.3 Seleção da Faixa de Servidão",null,null,null,null,null,null,null,null,null,null,null,null,null,null,null,null,null,null,null,null,null,null,null,0]
[null,5.4,"5.4 Custos de Compartilhamento",null,null,null,null,null,null,null,null,null,null,null,null,null,null,null,null,null,null,null,null,null,null,null,0]
[null,null,"Desapropriação + aquisição de terrenos",null,null,null,null,null,null,null,null,null,null,null,null,null,null,null,null,null,null,null,null,null,null,null,0]
[null,null,"Passagem pelos rios Macacu e Guapiaçu",null,null,null,null,null,null,null,null,null,null,null,null,null,null,null,null,null,null,null,null,null,null,null,0]
[null,null,"Licença Prévia",null,null,null,null,null,null,null,null,null,null,null,null,null,null,null,null,null,null,null,null,null,null,null,0]
[null,6,"6 Outros Bens e Instalações Diretamente Vinculados",null,null,null,null,null,null,null,null,null,null,null,null,null,null,null,null,null,null,null,null,null,null,null,0]
[null,6.1,"6.1 Imóveis/Edificações/Terrenos e Benfeitorias",null,null,null,null,null,null,null,null,null,null,null,null,null,null,null,null,null,null,null,3538.6152299999903,null,null,null,3538.6152299999903]
[null,6.2,"6.2 Móveis, Equipamentos e Instalações de Escritório",null,null,null,null,null,null,null,null,null,null,null,null,null,null,null,null,null,null,null,728.82539000000395,null,null,null,728.82539000000395]
[null,6.3,"6.3 Equipamentos e Instalações de Processamento de Dados e de Comunicação",null,null,null,null,null,null,null,null,null,null,null,null,null,null,null,null,null,null,null,13079.837669999997,null,null,null,13079.837669999997]
[null,6.4,"6.4 Veículos",null,null,null,null,null,null,null,null,null,null,null,null,null,null,null,null,null,null,null,null,null,null,null,0]
[null,6.5,"6.5 Outros Bens Imobilizados",null,null,null,null,null,null,null,null,null,null,null,null,null,null,null,null,null,null,null,null,null,null,null,0]
[null,7,"7 Administração da Obra e Despesas Diversas",null,null,null,null,null,null,null,null,null,null,null,null,null,null,null,null,null,null,null,null,null,null,null,0]
[null,7.1,"7.1 Administração da Obra",null,null,null,null,null,null,null,null,null,null,null,null,null,null,null,null,null,null,null,null,null,null,null,{"$f":"SUM(E137:Z137)","v":0}]
[null,7.2,"7.2 Benefícios e Despesas Indiretas - BDI",null,null,null,null,null,null,null,null,null,null,null,null,null,null,null,null,null,null,null,1844.6592800000001,null,null,null,1844.6592800000001]
[null,7.3,"7.3 Projetos de Engenharia",null,null,null,null,null,null,null,null,null,null,null,null,null,null,null,null,null,null,null,null,null,null,null,0]
[null,null,"Projeto Conceitual + Projeto Básico",null,null,null,null,null,null,null,null,null,null,null,null,null,null,null,null,null,null,null,null,null,null,null,0]
[null,null,"Projeto Executivo",null,null,null,null,null,null,null,null,null,null,null,null,null,null,null,null,null,null,null,null,null,null,null,0]
[null,null,"\"As built\"",null,null,null,null,null,null,null,null,null,null,null,null,null,null,null,null,null,null,null,null,null,null,null,0]
[null,7.4,"7.4 Outros (Seguro, Consultoria Jurídica-Contábil, tributos etc.)",null,null,null,null,null,null,null,null,null,null,null,null,null,null,null,null,null,null,null,null,null,null,null,0]
[null,8,"8 Overhaul",null,null,null,null,null,null,null,null,null,null,null,null,null,null,null,null,null,null,null,43935.932740000011,null,null,null,43935.932740000011]
[null,null,"Total Geral",null,{"$f":"SUM(E82:E144)","v":0},{"$f":"SUM(F82:F144)","v":0},0,0,0,0,0,0,0,0,0,0,0,0,0,0,0,0,1894562.5267499986,0,0,0,{"$f":"SUM(E145:Z145)","v":1894562.5267499986}]
[]
["UP"]

{"sheet":"Investimento Futuro","index":5,"n_rows":1000,"n_cols":69,"rows_kept":1000,"cut":false,"hidden":false,"merged":[[999,2,999,3],[173,2,173,3],[998,2,998,3],[994,2,994,3],[995,2,995,3],[996,2,996,3],[997,2,997,3],[992,2,992,3],[993,2,993,3],[990,2,990,3],[991,2,991,3],[985,2,985,3],[986,2,986,3],[987,2,987,3],[988,2,988,3],[989,2,989,3],[980,2,980,3],[981,2,981,3],[982,2,982,3],[983,2,983,3],[984,2,984,3],[975,2,975,3],[976,2,976,3],[977,2,977,3],[978,2,978,3],[979,2,979,3],[969,2,969,3],[970,2,970,3],[973,2,973,3],[974,2,974,3],[968,2,968,3],[963,2,963,3],[964,2,964,3],[965,2,965,3],[966,2,966,3],[967,2,967,3],[959,2,959,3],[960,2,960,3],[961,2,961,3],[962,2,962,3],[954,2,954,3],[955,2,955,3],[956,2,956,3],[957,2,957,3],[958,2,958,3],[949,2,949,3],[950,2,950,3],[951,2,951,3],[952,2,952,3],[953,2,953,3],[944,2,944,3],[945,2,945,3],[946,2,946,3],[947,2,947,3],[948,2,948,3],[940,2,940,3],[941,2,941,3],[937,2,937,3],[938,2,938,3],[939,2,939,3],[934,2,934,3],[935,2,935,3],[936,2,936,3],[933,2,933,3],[928,2,928,3],[929,2,929,3],[930,2,930,3],[931,2,931,3],[932,2,932,3],[923,2,923,3],[924,2,924,3],[925,2,925,3],[926,2,926,3],[927,2,927,3],[918,2,918,3],[919,2,919,3],[920,2,920,3],[921,2,921,3],[922,2,922,3],[911,2,911,3],[912,2,912,3],[915,2,915,3],[916,2,916,3],[917,2,917,3],[906,2,906,3],[907,2,907,3],[908,2,908,3],[909,2,909,3],[910,2,910,3],[905,2,905,3],[902,2,902,3],[903,2,903,3],[904,2,904,3],[897,2,897,3],[898,2,898,3],[899,2,899,3],[900,2,900,3],[901,2,901,3],[892,2,892,3],[893,2,893,3],[894,2,894,3],[895,2,895,3],[896,2,896,3],[887,2,887,3],[888,2,888,3],[889,2,889,3],[890,2,890,3],[891,2,891,3],[882,2,882,3],[883,2,883,3],[886,2,886,3],[880,2,880,3],[881,2,881,3],[876,2,876,3],[877,2,877,3],[878,2,878,3],[879,2,879,3],[871,2,871,3],[872,2,872,3],[873,2,873,3],[874,2,874,3],[875,2,875,3],[866,2,866,3],[867,2,867,3],[868,2,868,3],[869,2,869,3],[870,2,870,3],[861,2,861,3],[862,2,862,3],[863,2,863,3],[864,2,864,3],[865,2,865,3],[854,2,854,3],[857,2,857,3],[858,2,858,3],[859,2,859,3],[860,2,860,3],[853,2,853,3],[849,2,849,3],[850,2,850,3],[851,2,851,3],[852,2,852,3],[847,2,847,3],[848,2,848,3],[845,2,845,3],[846,2,846,3],[840,2,840,3],[841,2,841,3],[842,2,842,3],[843,2,843,3],[844,2,844,3],[835,2,835,3],[836,2,836,3],[837,2,837,3],[838,2,838,3],[839,2,839,3],[830,2,830,3],[831,2,831,3],[832,2,832,3],[833,2,833,3],[834,2,834,3],[824,2,824,3],[825,2,825,3],[828,2,828,3],[829,2,829,3],[823,2,823,3],[818,2,818,3],[819,2,819,3],[820,2,820,3],[821,2,821,3],[822,2,822,3],[814,2,814,3],[815,2,815,3],[816,2,816,3],[817,2,817,3],[809,2,809,3],[810,2,810,3],[811,2,811,3],[812,2,812,3],[813,2,813,3],[804,2,804,3],[805,2,805,3],[806,2,806,3],[807,2,807,3],[808,2,808,3],[799,2,799,3],[800,2,800,3],[801,2,801,3],[802,2,802,3],[803,2,803,3],[795,2,795,3],[796,2,796,3],[792,2,792,3],[793,2,793,3],[794,2,794,3],[789,2,789,3],[790,2,790,3],[791,2,791,3],[788,2,788,3],[783,2,783,3],[784,2,784,3],[785,2,785,3],[786,2,786,3],[787,2,787,3],[778,2,778,3],[779,2,779,3],[780,2,780,3],[781,2,781,3],[782,2,782,3],[773,2,773,3],[774,2,774,3],[775,2,775,3],[776,2,776,3],[777,2,777,3],[766,2,766,3],[767,2,767,3],[770,2,770,3],[771,2,771,3],[772,2,772,3],[761,2,761,3],[762,2,762,3],[763,2,763,3],[764,2,764,3],[765,2,765,3],[760,2,760,3],[757,2,757,3],[758,2,758,3],[759,2,759,3],[752,2,752,3],[753,2,753,3],[754,2,754,3],[755,2,755,3],[756,2,756,3],[747,2,747,3],[748,2,748,3],[749,2,749,3],[750,2,750,3],[751,2,751,3],[742,2,742,3],[743,2,743,3],[744,2,744,3],[745,2,745,3],[746,2,746,3],[737,2,737,3],[738,2,738,3],[741,2,741,3],[735,2,735,3],[736,2,736,3],[731,2,731,3],[732,2,732,3],[733,2,733,3],[734,2,734,3],[726,2,726,3],[727,2,727,3],[728,2,728,3],[729,2,729,3],[730,2,730,3],[721,2,721,3],[722,2,722,3],[723,2,723,3],[724,2,724,3],[725,2,725,3],[716,2,716,3],[717,2,717,3],[718,2,718,3],[719,2,719,3],[720,2,720,3],[709,2,709,3],[712,2,712,3],[713,2,713,3],[714,2,714,3],[715,2,715,3],[708,2,708,3],[704,2,704,3],[705,2,705,3],[706,2,706,3],[707,2,707,3],[702,2,702,3],[703,2,703,3],[700,2,700,3],[701,2,701,3],[695,2,695,3],[696,2,696,3],[697,2,697,3],[698,2,698,3],[699,2,699,3],[690,2,690,3],[691,2,691,3],[692,2,692,3],[693,2,693,3],[694,2,694,3],[685,2,685,3],[686,2,686,3],[687,2,687,3],[688,2,688,3],[689,2,689,3],[679,2,679,3],[680,2,680,3],[683,2,683,3],[684,2,684,3],[678,2,678,3],[673,2,673,3],[674,2,674,3],[675,2,675,3],[676,2,676,3],[677,2,677,3],[669,2,669,3],[670,2,670,3],[671,2,671,3],[672,2,672,3],[664,2,664,3],[665,2,665,3],[666,2,666,3],[667,2,667,3],[668,2,668,3],[659,2,659,3],[660,2,660,3],[661,2,661,3],[662,2,662,3],[663,2,663,3],[654,2,654,3],[655,2,655,3],[656,2,656,3],[657,2,657,3],[658,2,658,3],[650,2,650,3],[651,2,651,3],[647,2,647,3],[648,2,648,3],[649,2,649,3],[644,2,644,3],[645,2,645,3],[646,2,646,3],[643,2,643,3],[638,2,638,3],[639,2,639,3],[640,2,640,3],[641,2,641,3],[642,2,642,3],[633,2,633,3],[634,2,634,3],[635,2,635,3],[636,2,636,3],[637,2,637,3],[628,2,628,3],[629,2,629,3],[630,2,630,3],[631,2,631,3],[632,2,632,3],[621,2,621,3],[622,2,622,3],[625,2,625,3],[626,2,626,3],[627,2,627,3],[616,2,616,3],[617,2,617,3],[618,2,618,3],[619,2,619,3],[620,2,620,3],[615,2,615,3],[612,2,612,3],[613,2,613,3],[614,2,614,3],[607,2,607,3],[608,2,608,3],[609,2,609,3],[610,2,610,3],[611,2,611,3],[602,2,602,3],[603,2,603,3],[604,2,604,3],[605,2,605,3],[606,2,606,3],[597,2,597,3],[598,2,598,3],[599,2,599,3],[600,2,600,3],[601,2,601,3],[592,2,592,3],[593,2,593,3],[596,2,596,3],[590,2,590,3],[591,2,591,3],[586,2,586,3],[587,2,587,3],[588,2,588,3],[589,2,589,3],[581,2,581,3],[582,2,582,3],[583,2,583,3],[584,2,584,3],[585,2,585,3],[576,2,576,3],[577,2,577,3],[578,2,578,3],[579,2,579,3],[580,2,580,3],[571,2,571,3],[572,2,572,3],[573,2,573,3],[574,2,574,3],[575,2,575,3],[564,2,564,3],[567,2,567,3],[568,2,568,3],[569,2,569,3],[570,2,570,3],[563,2,563,3],[559,2,559,3],[560,2,560,3],[561,2,561,3],[562,2,562,3],[557,2,557,3],[558,2,558,3],[555,2,555,3],[556,2,556,3],[550,2,550,3],[551,2,551,3],[552,2,552,3],[553,2,553,3],[554,2,554,3],[545,2,545,3],[546,2,546,3],[547,2,547,3],[548,2,548,3],[549,2,549,3],[540,2,540,3],[541,2,541,3],[542,2,542,3],[543,2,543,3],[544,2,544,3],[534,2,534,3],[535,2,535,3],[538,2,538,3],[539,2,539,3],[533,2,533,3],[528,2,528,3],[529,2,529,3],[530,2,530,3],[531,2,531,3],[532,2,532,3],[524,2,524,3],[525,2,525,3],[526,2,526,3],[527,2,527,3],[519,2,519,3],[520,2,520,3],[521,2,521,3],[522,2,522,3],[523,2,523,3],[514,2,514,3],[515,2,515,3],[516,2,516,3],[517,2,517,3],[518,2,518,3],[509,2,509,3],[510,2,510,3],[511,2,511,3],[512,2,512,3],[513,2,513,3],[505,2,505,3],[506,2,506,3],[502,2,502,3],[503,2,503,3],[504,2,504,3],[499,2,499,3],[500,2,500,3],[501,2,501,3],[498,2,498,3],[493,2,493,3],[494,2,494,3],[495,2,495,3],[496,2,496,3],[497,2,497,3],[488,2,488,3],[489,2,489,3],[490,2,490,3],[491,2,491,3],[492,2,492,3],[483,2,483,3],[484,2,484,3],[485,2,485,3],[486,2,486,3],[487,2,487,3],[476,2,476,3],[477,2,477,3],[480,2,480,3],[481,2,481,3],[482,2,482,3],[471,2,471,3],[472,2,472,3],[473,2,473,3],[474,2,474,3],[475,2,475,3],[470,2,470,3],[467,2,467,3],[468,2,468,3],[469,2,469,3],[462,2,462,3],[463,2,463,3],[464,2,464,3],[465,2,465,3],[466,2,466,3],[457,2,457,3],[458,2,458,3],[459,2,459,3],[460,2,460,3],[461,2,461,3],[452,2,452,3],[453,2,453,3],[454,2,454,3],[455,2,455,3],[456,2,456,3],[447,2,447,3],[448,2,448,3],[451,2,451,3],[445,2,445,3],[446,2,446,3],[441,2,441,3],[442,2,442,3],[443,2,443,3],[444,2,444,3],[436,2,436,3],[437,2,437,3],[438,2,438,3],[439,2,439,3],[440,2,440,3],[431,2,431,3],[432,2,432,3],[433,2,433,3],[434,2,434,3],[435,2,435,3],[426,2,426,3],[427,2,427,3],[428,2,428,3],[429,2,429,3],[430,2,430,3],[419,2,419,3],[422,2,422,3],[423,2,423,3],[424,2,424,3],[425,2,425,3],[418,2,418,3],[414,2,414,3],[415,2,415,3],[416,2,416,3],[417,2,417,3],[412,2,412,3],[413,2,413,3],[410,2,410,3],[411,2,411,3],[405,2,405,3],[406,2,406,3],[407,2,407,3],[408,2,408,3],[409,2,409,3],[400,2,400,3],[401,2,401,3],[402,2,402,3],[403,2,403,3],[404,2,404,3],[395,2,395,3],[396,2,396,3],[397,2,397,3],[398,2,398,3],[399,2,399,3],[389,2,389,3],[390,2,390,3],[393,2,393,3],[394,2,394,3],[388,2,388,3],[383,2,383,3],[384,2,384,3],[385,2,385,3],[386,2,386,3],[387,2,387,3],[379,2,379,3],[380,2,380,3],[381,2,381,3],[382,2,382,3],[374,2,374,3],[375,2,375,3],[376,2,376,3],[377,2,377,3],[378,2,378,3],[369,2,369,3],[370,2,370,3],[371,2,371,3],[372,2,372,3],[373,2,373,3],[364,2,364,3],[365,2,365,3],[366,2,366,3],[367,2,367,3],[368,2,368,3],[360,2,360,3],[361,2,361,3],[357,2,357,3],[358,2,358,3],[359,2,359,3],[354,2,354,3],[355,2,355,3],[356,2,356,3],[353,2,353,3],[348,2,348,3],[349,2,349,3],[350,2,350,3],[351,2,351,3],[352,2,352,3],[343,2,343,3],[344,2,344,3],[345,2,345,3],[346,2,346,3],[347,2,347,3],[338,2,338,3],[339,2,339,3],[340,2,340,3],[341,2,341,3],[342,2,342,3],[332,2,332,3],[333,2,333,3],[335,2,335,3],[336,2,336,3],[337,2,337,3],[327,2,327,3],[328,2,328,3],[329,2,329,3],[330,2,330,3],[331,2,331,3],[326,2,326,3],[323,2,323,3],[324,2,324,3],[325,2,325,3],[318,2,318,3],[319,2,319,3],[320,2,320,3],[321,2,321,3],[322,2,322,3],[313,2,313,3],[314,2,314,3],[315,2,315,3],[316,2,316,3],[317,2,317,3],[308,2,308,3],[309,2,309,3],[310,2,310,3],[311,2,311,3],[312,2,312,3],[303,2,303,3],[304,2,304,3],[307,2,307,3],[301,2,301,3],[302,2,302,3],[297,2,297,3],[298,2,298,3],[299,2,299,3],[300,2,300,3],[292,2,292,3],[293,2,293,3],[294,2,294,3],[295,2,295,3],[296,2,296,3],[287,2,287,3],[288,2,288,3],[289,2,289,3],[290,2,290,3],[291,2,291,3],[282,2,282,3],[283,2,283,3],[284,2,284,3],[285,2,285,3],[286,2,286,3],[275,2,275,3],[278,2,278,3],[279,2,279,3],[280,2,280,3],[281,2,281,3],[274,2,274,3],[270,2,270,3],[271,2,271,3],[272,2,272,3],[273,2,273,3],[268,2,268,3],[269,2,269,3],[266,2,266,3],[267,2,267,3],[261,2,261,3],[262,2,262,3],[263,2,263,3],[264,2,264,3],[265,2,265,3],[256,2,256,3],[257,2,257,3],[258,2,258,3],[259,2,259,3],[260,2,260,3],[251,2,251,3],[252,2,252,3],[253,2,253,3],[254,2,254,3],[255,2,255,3],[245,2,245,3],[246,2,246,3],[249,2,249,3],[250,2,250,3],[244,2,244,3],[239,2,239,3],[240,2,240,3],[241,2,241,3],[242,2,242,3],[243,2,243,3],[235,2,235,3],[236,2,236,3],[237,2,237,3],[238,2,238,3],[230,2,230,3],[231,2,231,3],[232,2,232,3],[233,2,233,3],[234,2,234,3],[225,2,225,3],[226,2,226,3],[227,2,227,3],[228,2,228,3],[229,2,229,3],[220,2,220,3],[221,2,221,3],[222,2,222,3],[223,2,223,3],[224,2,224,3],[217,2,217,3],[218,2,218,3],[214,2,214,3],[215,2,215,3],[216,2,216,3],[211,2,211,3],[212,2,212,3],[213,2,213,3],[210,2,210,3],[205,2,205,3],[206,2,206,3],[207,2,207,3],[208,2,208,3],[209,2,209,3],[200,2,200,3],[201,2,201,3],[202,2,202,3],[203,2,203,3],[204,2,204,3],[195,2,195,3],[196,2,196,3],[197,2,197,3],[198,2,198,3],[199,2,199,3],[188,2,188,3],[189,2,189,3],[192,2,192,3],[193,2,193,3],[194,2,194,3],[183,2,183,3],[184,2,184,3],[185,2,185,3],[186,2,186,3],[187,2,187,3],[182,2,182,3],[179,2,179,3],[180,2,180,3],[181,2,181,3],[174,2,174,3],[175,2,175,3],[176,2,176,3],[177,2,177,3],[178,2,178,3],[169,2,169,3],[170,2,170,3],[171,2,171,3],[172,2,172,3],[164,2,164,3],[165,2,165,3],[166,2,166,3],[167,2,167,3],[168,2,168,3],[159,2,159,3],[160,2,160,3],[163,2,163,3],[154,2,154,3],[155,2,155,3],[156,2,156,3],[157,2,157,3],[158,2,158,3],[153,2,153,3],[148,2,148,3],[149,2,149,3],[150,2,150,3],[151,2,151,3],[152,2,152,3],[143,2,143,3],[144,2,144,3],[145,2,145,3],[146,2,146,3],[147,2,147,3],[141,2,141,3],[142,2,142,3],[137,2,137,3],[138,2,138,3],[139,2,139,3],[140,2,140,3],[135,2,135,3],[136,2,136,3],[134,2,134,3],[2,6,2,13],[2,2,2,3],[4,3,4,33],[4,36,5,36],[4,37,5,38],[4,40,4,68],[6,37,6,38],[7,37,7,38],[8,37,8,38],[9,37,9,38],[10,37,10,38],[11,37,11,38],[14,37,14,38],[15,37,15,38],[16,37,16,38],[17,37,17,38],[18,37,18,38],[19,37,19,38],[20,37,20,38],[21,37,21,38],[22,37,22,38],[23,37,23,38],[24,37,24,38],[25,37,25,38],[26,37,26,38],[27,37,27,38],[28,37,28,38],[29,37,29,38],[30,37,30,38],[31,37,31,38],[32,37,32,38],[33,37,33,38],[34,37,34,38],[35,37,35,38],[36,37,36,38],[37,37,37,38],[38,37,38,38],[39,37,39,38],[40,37,40,38],[41,37,41,38],[42,37,42,38],[43,37,43,38],[44,37,44,38],[45,37,45,38],[46,37,46,38],[47,37,47,38],[48,37,48,38],[49,37,49,38],[50,37,50,38],[51,37,51,38],[52,37,52,38],[53,37,53,38],[54,37,54,38],[55,37,55,38],[56,37,56,38],[57,37,57,38],[58,37,58,38],[68,37,68,38],[69,37,69,38],[70,37,70,38],[71,37,71,38],[72,37,72,38],[59,37,59,38],[60,37,60,38],[61,37,61,38],[62,37,62,38],[63,37,63,38],[64,37,64,38],[65,37,65,38],[66,37,66,38],[67,37,67,38]]}
[]
[null,null,null,null,null," "]
[null,null," INVESTIMENTOS "]
[null,null,null,null,null,null,null,null,null,null,null,null,null,null,null,null,null,null,null,null,null,null,null,null,null,null,null,null,null,null,null,null,null,null,null,null,null,null,null,null," Linepack => ajuste para base dez/2019"]
[null,"Código","Quadro Resumo em Termos Reais (a preços de Dez/2019)","R$ mil/ano",null,null,null,null,null,null,null,null,null,null,null,null,null,null,null,null,null,null,null,null,null,null,null,null,null,null,null,null,null,null,null,null,"Código","Quadro Resumo em Termos Reais",null,"R$ mil/ano"]
[null,null,null,null,2020,2021,2022,2023,2024,2025,2026,2027,2028,2029,2030,2031,2032,2033,2034,2035,2036,2037,2038,2039,2040,2041,2042,2043,2044,2045,2046,2047,2048,2049,null,null,null,null,null,2020,2021,2022,2023,2024,2025,2026,2027,2028,2029,2030,2031,2032,2033,2034,2035,2036,2037,2038,2039,2040,2041,2042,2043,2044,2045,2046,2047,2048,2049]
[null,1,"1. Tubulações",null,{"$f":"+E8+E11+E12","v":62529.081165653311},{"$f":"+F8+F11+F12","v":9368.6792509357947},{"$f":"+G8+G11+G12","v":105379.59112977496},{"$f":"+H8+H11+H12","v":3243.6258942936979},3735.3812522531234,6116.0203718713328,0,0,0,773,1100,11838.585957441661,6116.0203718713328,0,0,0,0,0,0,0,0,0,0,0,0,0,0,0,0,0,null,null,1,"1. Tubulações",null,{"$f":"+AN8+AN11+AN12","v":62147.982799999991},{"$f":"+AO8+AO11+AO12","v":8795.3448833227158},104326.72980088537,2825.7,3254.0949999999998,5328,0,0,0,773,1100,11679,5328,0,0,0,0,0,0,0,0,0,0,0,0,0,0,0,0,0]
[null,1.1000000000000001,"1.1 Linha Tronco",null,{"$f":"AN8*$D$75","v":2957.7983656533147},{"$f":"AO8*$D$75","v":4449.7893676130789},{"$f":"AP8*$D$75","v":8171.5163288895865},{"$f":"AQ8*$D$75","v":3243.6258942936979},{"$f":"AR8*$D$75","v":3735.3812522531234},{"$f":"AS8*$D$75","v":6116.0203718713328},{"$f":"AT8*$D$75","v":0},{"$f":"AU8*$D$75","v":0},{"$f":"AV8*$D$75","v":0},{"$f":"AW8*$D$75","v":0},{"$f":"AX8*$D$75","v":0},{"$f":"AY8*$D$75","v":1238.5859574416606},{"$f":"AZ8*$D$75","v":6116.0203718713328},{"$f":"BA8*$D$75","v":0},{"$f":"BB8*$D$75","v":0},{"$f":"BC8*$D$75","v":0},{"$f":"BD8*$D$75","v":0},{"$f":"BE8*$D$75","v":0},{"$f":"BF8*$D$75","v":0},{"$f":"BG8*$D$75","v":0},{"$f":"BH8*$D$75","v":0},{"$f":"BI8*$D$75","v":0},{"$f":"BJ8*$D$75","v":0},{"$f":"BK8*$D$75","v":0},{"$f":"BL8*$D$75","v":0},{"$f":"BM8*$D$75","v":0},{"$f":"BN8*$D$75","v":0},{"$f":"BO8*$D$75","v":0},{"$f":"BP8*$D$75","v":0},{"$f":"BQ8*$D$75","v":0},null,null,1.1000000000000001,"1.1 Linha Tronco",null,2576.6999999999998,3876.4549999999999,7118.6549999999997,2825.7,3254.0949999999998,5328,0,0,0,0,0,1079,5328,0,0,0,0,0,0,0,0,0,0,0,0,0,0,0,0,0]
[null,null,"Tubo API-5L X70, 24\", revist. ext. PE3L, revest. int. epóxi aprox.: 11.000m, c/ mantas termcontráteis incluídas (quantidade: 918)",null,{"$f":"AN9*$D$75","v":0},0,0,0,0,0,0,0,0,0,0,0,0,0,0,0,0,0,0,0,0,0,0,0,0,0,0,0,0,0,null,null,null,"Tubo API-5L X70, 24\", revist. ext. PE3L, revest. int. epóxi aprox.: 11.000m, c/ mantas termcontráteis incluídas (quantidade: 918)"]
[null,null,"Afretamento para transporte dos tubos",null,0,0,0,0,0,0,0,0,0,0,0,0,0,0,0,0,0,0,0,0,0,0,0,0,0,0,0,0,0,0,null,null,null,"Afretamento para transporte dos tubos"]
[null,null,"1.2 Trecho(s)/Ramal(is)",null,0,0,0,0,0,0,0,0,0,0,0,0,0,0,0,0,0,0,0,0,0,0,0,0,0,0,0,0,0,0,null,null,null,"1.2 Trecho(s)/Ramal(is)",null,0,0,0,0,0,0,0,0,0,0,0,0,0,0,0,0,0,0,0,0,0,0,0,0,0,0,0,0,0,0]
[null,1.2,"1.3 Linepack",null,{"$f":"SUM(E13:E14)","v":59571.282799999994},{"$f":"SUM(F13:F14)","v":4918.8898833227149},{"$f":"SUM(G13:G14)","v":97208.07480088537},0,0,{"$f":"SUMIF($B$79:$B$127,$B12,J$79:J$127)/1000","v":0},0,0,0,773,1100,10600,0,0,0,{"$f":"SUMIF($B$79:$B$127,$B12,T$79:T$127)/1000","v":0},0,0,0,0,0,0,0,0,0,0,0,0,0,0,null,null,1.2,"1.3 Linepack",null,{"$f":"SUM(AN13:AN14)","v":59571.282799999994},{"$f":"SUM(AO13:AO14)","v":4918.8898833227149},{"$f":"SUM(AP13:AP14)","v":97208.07480088537},0,0,0,0,0,0,773,1100,10600,0,0,0,0,0,0,0,0,0,0,0,0,0,0,0,0,0,0]
[null,null,"Linepack - Base Regulatória de Ativos",null,{"$f":"AN13","v":49980.685139999994},{"$f":"AO13","v":4126.9605351397167},{"$f":"AP13","v":81557.810383258664},0,0,null,null,null,null,null,null,null,null,null,null,null,null,null,null,null,null,null,null,null,null,null,null,null,null,null,null,null,null,"Linepack - Base Regulatória de Ativos",null,49980.685139999994,{"$f":"5410.72159789325/(1+'Inflação 2021  '!C16)","v":4126.9605351397167},{"$f":"106927.750425566/(1+'Inflação 2021  '!C16)","v":81557.810383258664}]
[null,null,"Linepack - Estoque Operacional",null,{"$f":"AN14","v":9590.5976599999995},791.9293481829983,15650.264417626706,0,0,null,null,null,null,null,null,null,null,null,null,null,null,null,null,null,null,null,null,null,null,null,null,null,null,null,null,null,null,"Linepack - Estoque Operacional",null,9590.5976599999995,{"$f":"1038.27240210675/(1+'Inflação 2021  '!C16)","v":791.9293481829983},{"$f":"20518.5445744337/(1+'Inflação 2021  '!C16)","v":15650.264417626706}]
[null,2,"2 Componentes",null,{"$f":"E16+E17+E20+E21+E24","v":3020.3727842928515},{"$f":"F16+F17+F20+F21+F24","v":3433.7703045231842},4100.8628292464582,2881.574018063704,3493.957546742799,13020.768780341265,5532.8862973760934,7281.2601731046525,4591.6068857892888,7097.5958976730817,16439.1005528471,16439.1005528471,4591.6068857892888,0,0,0,0,0,0,0,0,0,0,0,0,0,0,0,0,0,null,null,2,"2 Componentes",null,{"$f":"AN16+AN17+AN20+AN21+AN24","v":2631.212},{"$f":"AO16+AO17+AO20+AO21+AO24","v":2991.3451999999997},3572.4859999999999,2510.2968000000001,3043.7776000000003,11343.104149999999,4820,6343.1041500000001,4000,6183.1041500000001,14321,14321,4000,0,0,0,0,0,0,0,0,0,0,0,0,0,0,0,0,0]
[null,2.1,"2.1 Lançadores e Recebedores de Pigs e Esferas ",null,{"$f":"AN16*$D$75","v":0},{"$f":"AO16*$D$75","v":0},{"$f":"AP16*$D$75","v":0},{"$f":"AQ16*$D$75","v":0},{"$f":"AR16*$D$75","v":0},{"$f":"AS16*$D$75","v":0},{"$f":"AT16*$D$75","v":0},{"$f":"AU16*$D$75","v":0},{"$f":"AV16*$D$75","v":0},{"$f":"AW16*$D$75","v":0},{"$f":"AX16*$D$75","v":0},{"$f":"AY16*$D$75","v":0},{"$f":"AZ16*$D$75","v":0},{"$f":"BA16*$D$75","v":0},{"$f":"BB16*$D$75","v":0},{"$f":"BC16*$D$75","v":0},{"$f":"BD16*$D$75","v":0},{"$f":"BE16*$D$75","v":0},{"$f":"BF16*$D$75","v":0},{"$f":"BG16*$D$75","v":0},{"$f":"BH16*$D$75","v":0},{"$f":"BI16*$D$75","v":0},{"$f":"BJ16*$D$75","v":0},{"$f":"BK16*$D$75","v":0},{"$f":"BL16*$D$75","v":0},{"$f":"BM16*$D$75","v":0},{"$f":"BN16*$D$75","v":0},{"$f":"BO16*$D$75","v":0},{"$f":"BP16*$D$75","v":0},{"$f":"BQ16*$D$75","v":0},null,null,2.1,"2.1 Lançadores e Recebedores de Pigs e Esferas ",null,0,0,0,0,0,0,0,0,0,0,0,0,0,0,0,0,0,0,0,0,0,0,0,0,0,0,0,0,0,0]
[null,2.2000000000000002,"2.2 Válvulas",null,901.10285133614786,480.97082128642796,1067.0320451713583,210.12341011093233,0,0,0,0,0,0,0,0,0,0,0,0,0,0,0,0,0,0,0,0,0,0,0,0,0,0,null,null,2.2000000000000002,"2.2 Válvulas",null,785,419,929.55,183.05,0,0,0,0,0,0,0,0,0,0,0,0,0,0,0,0,0,0,0,0,0,0,0,0,0,0]
[null,null,"Válvulas auxiliares e complementos",null,0,0,0,0,0,0,0,0,0,0,0,0,0,0,0,0,0,0,0,0,0,0,0,0,0,0,0,0,0,0,null,null,null,"Válvulas auxiliares e complementos"]
[null,null,"Válvulas de bloqueio autônoma, 24\", Classe de Pressão: 600#. Quantidade: 2",null,0,0,0,0,0,0,0,0,0,0,0,0,0,0,0,0,0,0,0,0,0,0,0,0,0,0,0,0,0,0,null,null,null,"Válvulas de bloqueio autônoma, 24\", Classe de Pressão: 600#. Quantidade: 2"]
[null,2.2999999999999998,"2.3 Sistema de Proteção Catódica e Demais Equipamentos de Controle de Corrosão",null,574.1804410679506,574.1804410679506,0,0,574.1804410679506,941.27941158680414,941.27941158680414,941.27941158680414,0,757.61513615523268,11847.493667057812,11847.493667057812,0,0,0,0,0,0,0,0,0,0,0,0,0,0,0,0,0,0,null,null,2.2999999999999998,"2.3 Sistema de Proteção Catódica e Demais Equipamentos de Controle de Corrosão",null,500.20000000000005,500.20000000000005,0,0,500.20000000000005,820,820,820,0,660,10321,10321,0,0,0,0,0,0,0,0,0,0,0,0,0,0,0,0,0,0]
[null,2.4,"2.4 Sistemas de Comunicação e de Supervisão e Controle",null,1545.0894918887529,2378.6190421688057,3033.8307840750999,2671.4506079527719,2919.7771056748484,5739.5086072366112,0,0,0,0,0,0,0,0,0,0,0,0,0,0,0,0,0,0,0,0,0,0,0,0,null,null,2.4,"2.4 Sistemas de Comunicação e de Supervisão e Controle",null,1346.0119999999999,2072.1451999999999,2642.9360000000001,2327.2467999999999,2543.5776000000001,5000,0,0,0,0,0,0,0,0,0,0,0,0,0,0,0,0,0,0,0,0,0,0,0,0]
[null,null,"Materiais (linha tronco + instalações complementares)",null,0,0,0,0,0,0,0,0,0,0,0,0,0,0,0,0,0,0,0,0,0,0,0,0,0,0,0,0,0,0,null,null,null,"Materiais (linha tronco + instalações complementares)"]
[null,null,"Fibra óptica e tubos PEAD. Extensão aproximada: 11.000m",null,0,0,0,0,0,0,0,0,0,0,0,0,0,0,0,0,0,0,0,0,0,0,0,0,0,0,0,0,0,0,null,null,null,"Fibra óptica e tubos PEAD. Extensão aproximada: 11.000m"]
[null,2.5,"2.5 Outros Componentes",null,0,0,0,0,0,6339.9807615178488,4591.6068857892888,6339.9807615178488,4591.6068857892888,6339.9807615178488,4591.6068857892888,4591.6068857892888,4591.6068857892888,0,0,0,0,0,0,0,0,0,0,0,0,0,0,0,0,0,null,null,2.5,"2.5 Outros Componentes",null,null,null,null,null,null,5523.1041500000001,4000,5523.1041500000001,4000,5523.1041500000001,4000,4000,4000,0,0,0,0,0,0,0,0,0,0,0,0,0,0,0,0,0]
[null,3,"3 Complementos",null,{"$f":"E26+E27+E28+E29+E30+E31+E32+E33","v":39155.438085655238},{"$f":"F26+F27+F28+F29+F30+F31+F32+F33","v":35739.443448540587},41096.02069568319,15561.252014365067,23195.040439672641,15216.585219505701,15505.856453310427,9929.3498905193374,15186.739774748072,11037.075051716001,13874.688107133783,5445.6457665460966,13964.224441406675,0,0,0,0,0,0,0,0,0,0,0,0,0,0,0,0,0,null,null,3,"3 Complementos",null,{"$f":"AN26+AN27+AN28+AN29+AN30+AN31+AN32+AN33","v":34110.444608695616},{"$f":"AO26+AO27+AO28+AO29+AO30+AO31+AO32+AO33","v":31134.584765217372},35800.992304347812,13556.258104347811,20206.46890434781,13256,13508,8650,13230,9615,12087,4744,12165,0,0,0,0,0,0,0,0,0,0,0,0,0,0,0,0,0]
[null,3.1,"3.1 Estação(ões) de Recebimento ",null,{"$f":"AN26*$D$75","v":107.90276181604828},{"$f":"AO26*$D$75","v":683.23110460544615},{"$f":"AP26*$D$75","v":401.1916516458391},{"$f":"AQ26*$D$75","v":107.90276181604828},{"$f":"AR26*$D$75","v":107.90276181604828},{"$f":"AS26*$D$75","v":0},{"$f":"AT26*$D$75","v":0},{"$f":"AU26*$D$75","v":0},{"$f":"AV26*$D$75","v":0},{"$f":"AW26*$D$75","v":0},{"$f":"AX26*$D$75","v":0},{"$f":"AY26*$D$75","v":0},{"$f":"AZ26*$D$75","v":0},{"$f":"BA26*$D$75","v":0},{"$f":"BB26*$D$75","v":0},{"$f":"BC26*$D$75","v":0},{"$f":"BD26*$D$75","v":0},{"$f":"BE26*$D$75","v":0},{"$f":"BF26*$D$75","v":0},{"$f":"BG26*$D$75","v":0},{"$f":"BH26*$D$75","v":0},{"$f":"BI26*$D$75","v":0},{"$f":"BJ26*$D$75","v":0},{"$f":"BK26*$D$75","v":0},{"$f":"BL26*$D$75","v":0},{"$f":"BM26*$D$75","v":0},{"$f":"BN26*$D$75","v":0},{"$f":"BO26*$D$75","v":0},{"$f":"BP26*$D$75","v":0},{"$f":"BQ26*$D$75","v":0},null,null,3.1,"3.1 Estação(ões) de Recebimento ",null,94,595.20000000000005,349.5,94,94,0,0,0,0,0,0,0,0,0,0,0,0,0,0,0,0,0,0,0,0,0,0,0,0,0]
[null,3.2,"3.2 Estação(ões) de Entrega",null,4977.7510431300516,8489.7718316169958,7668.1736516837009,3476.7597430425913,2699.5154874506093,1572.6253583828313,1572.6253583828313,539.51380908024146,539.51380908024146,539.51380908024146,0,0,0,0,0,0,0,0,0,0,0,0,0,0,0,0,0,0,0,0,null,null,3.2,"3.2 Estação(ões) de Entrega",null,4336.3913043478115,7395.9047826086871,6680.1656521739069,3028.7956521739056,2351.6956521739057,1370,1370,470,470,470,0,0,0,0,0,0,0,0,0,0,0,0,0,0,0,0,0,0,0,0]
[null,3.3,"3.3 Estação(ões) de Interconexão",null,700.22005008286646,680.36135030182788,293.28888982979078,0,0,0,0,0,0,0,0,0,0,0,0,0,0,0,0,0,0,0,0,0,0,0,0,0,0,0,null,null,3.3,"3.3 Estação(ões) de Interconexão",null,610,592.70000000000005,255.49999999999997,0,0,0,0,0,0,0,0,0,0,0,0,0,0,0,0,0,0,0,0,0,0,0,0,0,0,0]
[null,3.4,"3.4 Estação(ões) de Compressão",null,21713.82375306969,15562.390613091708,24600.480909536309,4775.5007415651498,12306.367380206379,9252.0878748654159,11146.125715253498,7695.5331405828474,9963.7869421627565,7180.1252676530003,11089.878530902579,4435.4922516724528,9464.449693333172,0,0,0,0,0,0,0,0,0,0,0,0,0,0,0,0,0,null,null,3.4,"3.4 Estação(ões) de Compressão",null,18916.099999999999,13557.25,21430.825000000001,4160.2,10720.75,8060,9710,6704,8680,6255,9661,3864,8245,0,0,0,0,0,0,0,0,0,0,0,0,0,0,0,0,0]
[null,3.5,"3.5 Estação(ões) de Medição",null,4977.406672613617,3653.007575178201,2987.8683998781767,2694.5795100483856,2694.5795100483856,0,0,0,0,0,0,0,0,0,0,0,0,0,0,0,0,0,0,0,0,0,0,0,0,0,null,null,3.5,"3.5 Estação(ões) de Medição",null,4336.0913043478113,3182.3347826086865,2602.8956521739055,2347.3956521739055,2347.3956521739055,0,0,0,0,0,0,0,0,0,0,0,0,0,0,0,0,0,0,0,0,0,0,0,0,0]
[null,3.6,"3.6 Estação(ões) de Regulagem de Pressão",null,0,0,0,0,0,0,0,0,0,0,0,0,0,0,0,0,0,0,0,0,0,0,0,0,0,0,0,0,0,0,null,null,3.6,"3.6 Estação(ões) de Regulagem de Pressão",null,0,0,0,0,0,0,0,0,0,0,0,0,0,0,0,0,0,0,0,0,0,0,0,0,0,0,0,0,0,0]
[null,3.7,"3.7 Sistema Elétrico",null,4603.200693175907,3762.9366330764665,4243.3908985882435,3749.7357632798225,4106.8479888220845,459.16068857892884,1090.506635374956,459.16068857892884,1090.506635374956,0,998.67449765917024,367.32855086314311,998.67449765917024,0,0,0,0,0,0,0,0,0,0,0,0,0,0,0,0,0,null,null,3.7,"3.7 Sistema Elétrico",null,4010.1,3278.1,3696.65,3266.6,3577.7,400,950,400,950,0,870,320,870,0,0,0,0,0,0,0,0,0,0,0,0,0,0,0,0,0]
[null,3.8,"3.8 Sistemas Auxiliares",null,2075.1331117670538,2907.744340669949,901.62629452112787,756.77349461306756,1279.8273113291314,3932.7112976785256,1696.5987442991423,1235.1422522773187,3592.9323881301184,3317.4359749827609,1786.1350785720333,642.82496401050037,3501.1002504143325,0,0,0,0,0,0,0,0,0,0,0,0,0,0,0,0,0,null,null,3.8,"3.8 Sistemas Auxiliares",null,1807.7619999999999,2533.0952000000002,785.45600000000002,659.2668000000001,1114.9276,3426,1478,1076,3130,2890,1556,560,3050,0,0,0,0,0,0,0,0,0,0,0,0,0,0,0,0,0]
[null,4,"4 Construção e Montagem",null,{"$f":"E35+E36+E43+E46+E48","v":2843.4558751799473},{"$f":"F35+F36+F43+F46+F48","v":4377.6093073684715},{"$f":"G35+G36+G43+G46+G48","v":7434.4371545310469},2876.5154447576306,9783.6754225590648,0,0,918.32137715785768,0,0,0,0,0,0,0,0,0,0,0,0,0,0,0,0,0,0,0,0,0,0,null,null,4,"4 Construção e Montagem",null,{"$f":"AN35+AN36+AN43+AN46+AN48","v":2477.09},{"$f":"AO35+AO36+AO43+AO46+AO48","v":3813.5749999999998},{"$f":"AP35+AP36+AP43+AP46+AP48","v":6476.5450000000001},{"$f":"AQ35+AQ36+AQ43+AQ46+AQ48","v":2505.8900000000003},8523.0949999999993,0,0,800,0,0,0,0,0,0,0,0,0,0,0,0,0,0,0,0,0,0,0,0,0,0]
[null,4.0999999999999996,"4.1 Preparo da Faixa do Duto",null,{"$f":"AN35*$D$75","v":0},{"$f":"AO35*$D$75","v":280.08802003314662},{"$f":"AP35*$D$75","v":270.63504935702787},{"$f":"AQ35*$D$75","v":385.12102754557657},{"$f":"AR35*$D$75","v":4369.0230024920456},{"$f":"AS35*$D$75","v":0},{"$f":"AT35*$D$75","v":0},{"$f":"AU35*$D$75","v":0},{"$f":"AV35*$D$75","v":0},{"$f":"AW35*$D$75","v":0},{"$f":"AX35*$D$75","v":0},{"$f":"AY35*$D$75","v":0},{"$f":"AZ35*$D$75","v":0},{"$f":"BA35*$D$75","v":0},{"$f":"BB35*$D$75","v":0},{"$f":"BC35*$D$75","v":0},{"$f":"BD35*$D$75","v":0},{"$f":"BE35*$D$75","v":0},{"$f":"BF35*$D$75","v":0},{"$f":"BG35*$D$75","v":0},{"$f":"BH35*$D$75","v":0},{"$f":"BI35*$D$75","v":0},{"$f":"BJ35*$D$75","v":0},{"$f":"BK35*$D$75","v":0},{"$f":"BL35*$D$75","v":0},{"$f":"BM35*$D$75","v":0},{"$f":"BN35*$D$75","v":0},{"$f":"BO35*$D$75","v":0},{"$f":"BP35*$D$75","v":0},{"$f":"BQ35*$D$75","v":0},null,null,4.0999999999999996,"4.1 Preparo da Faixa do Duto",null,0,244,235.76499999999999,335.5,3806.0949999999998,0,0,0,0,0,0,0,0,0,0,0,0,0,0,0,0,0,0,0,0,0,0,0,0,0]
[null,4.2,"4.2 Tubulação e Acessórios",null,1050.3300751242998,2069.5003580199118,3820.0504832270785,0,0,0,0,0,0,0,0,0,0,0,0,0,0,0,0,0,0,0,0,0,0,0,0,0,0,0,null,null,4.2,"4.2 Tubulação e Acessórios",null,915,1802.855,3327.855,0,0,0,0,0,0,0,0,0,0,0,0,0,0,0,0,0,0,0,0,0,0,0,0,0,0,0]
["A",null,"Construção e Montagem do gasoduto",null,0,0,0,0,0,0,0,0,0,0,0,0,0,0,0,0,0,0,0,0,0,0,0,0,0,0,0,0,0,0,null,null,null,"Construção e Montagem do gasoduto"]
["B",null,"Montagem do sistema de lançamento e recebimento de pigs",null,0,0,0,0,0,0,0,0,0,0,0,0,0,0,0,0,0,0,0,0,0,0,0,0,0,0,0,0,0,0,null,null,null,"Montagem do sistema de lançamento e recebimento de pigs"]
["D",null,"Construção dos pontos de teste e montagem do sistema de proteção catódica",null,0,0,0,0,0,0,0,0,0,0,0,0,0,0,0,0,0,0,0,0,0,0,0,0,0,0,0,0,0,0,null,null,null,"Construção dos pontos de teste e montagem do sistema de proteção catódica"]
["C",null,"Montagem das válvulas de bloqueio autônomas",null,0,0,0,0,0,0,0,0,0,0,0,0,0,0,0,0,0,0,0,0,0,0,0,0,0,0,0,0,0,0,null,null,null,"Montagem das válvulas de bloqueio autônomas"]
["F",null,"Construção de abrigos para módulos de medição de vazão e instalação das EMEDs",null,0,0,0,0,0,0,0,0,0,0,0,0,0,0,0,0,0,0,0,0,0,0,0,0,0,0,0,0,0,0,null,null,null,"Construção de abrigos para módulos de medição de vazão e instalação das EMEDs"]
["E",null,"Construção e montagem dos Sistemas de Comunicação e de Supervisão e Controle",null,0,0,0,0,0,0,0,0,0,0,0,0,0,0,0,0,0,0,0,0,0,0,0,0,0,0,0,0,0,0,null,null,null,"Construção e montagem dos Sistemas de Comunicação e de Supervisão e Controle"]
[null,4.3,"4.3 Travessias e Cruzamentos",null,0,280.08802003314662,270.63504935702787,385.12102754557657,3991.2542854723392,0,0,918.32137715785768,0,0,0,0,0,0,0,0,0,0,0,0,0,0,0,0,0,0,0,0,0,0,null,null,4.3,"4.3 Travessias e Cruzamentos",null,0,244,235.76499999999999,335.5,3477,0,0,800,0,0,0,0,0,0,0,0,0,0,0,0,0,0,0,0,0,0,0,0,0,0]
[null,null,"Travessias convencionais",null,0,0,0,0,0,0,0,0,0,0,0,0,0,0,0,0,0,0,0,0,0,0,0,0,0,0,0,0,0,0,null,null,null,"Travessias convencionais"]
[null,null,"Cruzamentos convecionais",null,0,0,0,0,0,0,0,0,0,0,0,0,0,0,0,0,0,0,0,0,0,0,0,0,0,0,0,0,0,0,null,null,null,"Cruzamentos convecionais"]
[null,4.4000000000000004,"4.4 Testes, Inspeções e Ensaios Exigidos por Normas",null,1793.1258000556475,1747.9329092822663,3073.1165725899127,2106.2733896664772,1423.3981345946795,0,0,0,0,0,0,0,0,0,0,0,0,0,0,0,0,0,0,0,0,0,0,0,0,0,null,null,4.4000000000000004,"4.4 Testes, Inspeções e Ensaios Exigidos por Normas",null,1562.09,1522.72,2677.16,1834.89,1240,0,0,0,0,0,0,0,0,0,0,0,0,0,0,0,0,0,0,0,0,0,0,0,0,0]
[null,null,"Testes a frio",null,0,0,0,0,0,0,0,0,0,0,0,0,0,0,0,0,0,0,0,0,0,0,0,0,0,0,0,0,0,0,null,null,null,"Testes a frio"]
[null,4.5,"4.5 Condicionamento e Comissionamento",null,0,0,0,0,0,0,0,0,0,0,0,0,0,0,0,0,0,0,0,0,0,0,0,0,0,0,0,0,0,0,null,null,4.5,"4.5 Condicionamento e Comissionamento",null,null,null,null,null,null,0,0,0,0,0,0,0,0,0,0,0,0,0,0,0,0,0,0,0,0,0,0,0,0,0]
[null,null,"Comissionamento e apoio a pré-operação",null,0,0,0,0,0,0,0,0,0,0,0,0,0,0,0,0,0,0,0,0,0,0,0,0,0,0,0,0,0,0,null,null,null,"Comissionamento e apoio a pré-operação"]
[null,5,"5 Licenciamento Ambiental e Liberação da Faixa de Servidão",null,{"$f":"E51+E52+E53+E54","v":5038.1406554322966},{"$f":"F51+F52+F53+F54","v":1250.0649746561339},0,833.37664977075588,2295.8034428946444,0,6116.0203718713328,0,2202.8234034574111,0,0,0,0,0,0,0,0,0,0,0,0,0,0,0,0,0,0,0,0,0,null,null,5,"5 Licenciamento Ambiental e Liberação da Faixa de Servidão",null,{"$f":"AN51+AN52+AN53+AN54","v":4389},{"$f":"AO51+AO52+AO53+AO54","v":1089},0,726,2000,0,5328,0,1919,0,0,0,0,0,0,0,0,0,0,0,0,0,0,0,0,0,0,0,0,0]
[null,5.0999999999999996,"5.1 Licenciamento Ambiental ",null,{"$f":"AN51*$D$75","v":5038.1406554322966},{"$f":"AO51*$D$75","v":1250.0649746561339},{"$f":"AP51*$D$75","v":0},{"$f":"AQ51*$D$75","v":833.37664977075588},{"$f":"AR51*$D$75","v":2295.8034428946444},{"$f":"AS51*$D$75","v":0},{"$f":"AT51*$D$75","v":0},{"$f":"AU51*$D$75","v":0},{"$f":"AV51*$D$75","v":0},{"$f":"AW51*$D$75","v":0},{"$f":"AX51*$D$75","v":0},{"$f":"AY51*$D$75","v":0},{"$f":"AZ51*$D$75","v":0},{"$f":"BA51*$D$75","v":0},{"$f":"BB51*$D$75","v":0},{"$f":"BC51*$D$75","v":0},{"$f":"BD51*$D$75","v":0},{"$f":"BE51*$D$75","v":0},{"$f":"BF51*$D$75","v":0},{"$f":"BG51*$D$75","v":0},{"$f":"BH51*$D$75","v":0},{"$f":"BI51*$D$75","v":0},{"$f":"BJ51*$D$75","v":0},{"$f":"BK51*$D$75","v":0},{"$f":"BL51*$D$75","v":0},{"$f":"BM51*$D$75","v":0},{"$f":"BN51*$D$75","v":0},{"$f":"BO51*$D$75","v":0},{"$f":"BP51*$D$75","v":0},{"$f":"BQ51*$D$75","v":0},null,null,5.0999999999999996,"5.1 Licenciamento Ambiental ",null,4389,1089,0,726,2000,0,0,0,0,0,0,0,0,0,0,0,0,0,0,0,0,0,0,0,0,0,0,0,0,0]
[null,5.2,"5.2 Imóveis Atingidos pela Faixa de Servidão",null,0,0,0,0,0,0,0,0,0,0,0,0,0,0,0,0,0,0,0,0,0,0,0,0,0,0,0,0,0,0,null,null,5.2,"5.2 Imóveis Atingidos pela Faixa de Servidão",null,0,0,0,0,0,0,0,0,0,0,0,0,0,0,0,0,0,0,0,0,0,0,0,0,0,0,0,0,0,0]
[null,5.3,"5.3 Seleção da Faixa de Servidão",null,0,0,0,0,0,0,0,0,0,0,0,0,0,0,0,0,0,0,0,0,0,0,0,0,0,0,0,0,0,0,null,null,5.3,"5.3 Seleção da Faixa de Servidão",null,0,0,0,0,0,0,0,0,0,0,0,0,0,0,0,0,0,0,0,0,0,0,0,0,0,0,0,0,0,0]
[null,5.4,"5.4 Custos de Compartilhamento",null,0,0,0,0,0,0,6116.0203718713328,0,2202.8234034574111,0,0,0,0,0,0,0,0,0,0,0,0,0,0,0,0,0,0,0,0,0,null,null,5.4,"5.4 Custos de Compartilhamento",null,0,0,0,0,0,0,5328,0,1919,0,0,0,0,0,0,0,0,0,0,0,0,0,0,0,0,0,0,0,0,0]
[null,null,"Desapropriação + aquisição de terrenos",null,0,0,0,0,0,0,0,0,0,0,0,0,0,0,0,0,0,0,0,0,0,0,0,0,0,0,0,0,0,0,null,null,null,"Desapropriação + aquisição de terrenos"]
[null,null,"Passagem pelos rios Macacu e Guapiaçu",null,0,0,0,0,0,0,0,0,0,0,0,0,0,0,0,0,0,0,0,0,0,0,0,0,0,0,0,0,0,0,null,null,null,"Passagem pelos rios Macacu e Guapiaçu"]
[null,null,"Licença Prévia",null,0,0,0,0,0,0,0,0,0,0,0,0,0,0,0,0,0,0,0,0,0,0,0,0,0,0,0,0,0,0,null,null,null,"Licença Prévia"]
[null,6,"6 Outros Bens e Instalações Diretamente Vinculados",null,{"$f":"E59+E60+E61+E62+E63","v":23853.255450993594},{"$f":"F59+F60+F61+F62+F63","v":11899.452577412783},13266.333000948887,9555.3582653435642,19943.329186276052,21138.573619535549,11862.530748208974,9773.623196591454,10136.77907440032,10928.172906590289,15515.893128267428,11518.512258422683,10342.24791391777,0,0,0,0,0,0,0,0,0,0,0,0,0,0,0,0,0,null,null,6,"6 Outros Bens e Instalações Diretamente Vinculados",null,{"$f":"AN59+AN60+AN61+AN62+AN63","v":20779.876016666669},{"$f":"AO59+AO60+AO61+AO62+AO63","v":10366.264249877993},11557.028579260377,8324.1954313787173,17373.725305621701,18414.968132361675,10334.099624184029,8514.337955925761,8830.7029121094529,9520.1293825150769,13516.743496737983,10034.406293859081,9009.6980609784569,0,0,0,0,0,0,0,0,0,0,0,0,0,0,0,0,0]
[null,6.1,"6.1 Imóveis/Edificações/Terrenos e Benfeitorias",null,{"$f":"AN59*$D$75","v":2048.3158317506018},{"$f":"AO59*$D$75","v":739.82265947279916},{"$f":"AP59*$D$75","v":74.039661033352274},{"$f":"AQ59*$D$75","v":994.082890773381},{"$f":"AR59*$D$75","v":11357.798792688383},{"$f":"AS59*$D$75","v":7679.3477263104405},{"$f":"AT59*$D$75","v":3267.2152746694405},{"$f":"AU59*$D$75","v":964.23744601575061},{"$f":"AV59*$D$75","v":1090.506635374956},{"$f":"AW59*$D$75","v":1618.5414272407243},{"$f":"AX59*$D$75","v":390.28658529208951},{"$f":"AY59*$D$75","v":723.17808451181293},{"$f":"AZ59*$D$75","v":34.437051643419665},{"$f":"BA59*$D$75","v":0},{"$f":"BB59*$D$75","v":0},{"$f":"BC59*$D$75","v":0},{"$f":"BD59*$D$75","v":0},{"$f":"BE59*$D$75","v":0},{"$f":"BF59*$D$75","v":0},{"$f":"BG59*$D$75","v":0},{"$f":"BH59*$D$75","v":0},{"$f":"BI59*$D$75","v":0},{"$f":"BJ59*$D$75","v":0},{"$f":"BK59*$D$75","v":0},{"$f":"BL59*$D$75","v":0},{"$f":"BM59*$D$75","v":0},{"$f":"BN59*$D$75","v":0},{"$f":"BO59*$D$75","v":0},{"$f":"BP59*$D$75","v":0},{"$f":"BQ59*$D$75","v":0},null,null,6.1,"6.1 Imóveis/Edificações/Terrenos e Benfeitorias",null,1784.4,644.5,64.5,866,9894.4,6689.9,2846.25,840,950,1410,340,630,30,0,0,0,0,0,0,0,0,0,0,0,0,0,0,0,0,0]
[null,6.2,"6.2 Móveis, Equipamentos e Instalações de Escritório",null,1721.8525821709832,2904.1913552617252,241.05936150393765,241.05936150393765,241.05936150393765,298.45444757630378,241.05936150393765,241.05936150393765,241.05936150393765,241.05936150393765,757.61513615523268,1101.9856525894293,241.05936150393765,0,0,0,0,0,0,0,0,0,0,0,0,0,0,0,0,0,null,null,6.2,"6.2 Móveis, Equipamentos e Instalações de Escritório",null,1500,2530,210,210,210,260,210,210,210,210,660,960,210,0,0,0,0,0,0,0,0,0,0,0,0,0,0,0,0,0]
[null,6.3,"6.3 Equipamentos e Instalações de Processamento de Dados e de Comunicação",null,20083.087037072008,8255.4385626782587,12951.233978411597,8320.2160130662451,8344.4710320837312,13160.771445648805,8354.2561120355949,8568.3263890717662,8805.2130775214264,9068.5721178456279,14367.991406820105,9693.3485213214408,10066.751500770413,0,0,0,0,0,0,0,0,0,0,0,0,0,0,0,0,0,null,null,6.3,"6.3 Equipamentos e Instalações de Processamento de Dados e de Comunicação",null,17495.476016666667,7191.7642498779933,11282.528579260377,7248.1954313787173,7269.3253056217,11465.068132361677,7277.8496241840303,7464.337955925761,7670.702912109452,7900.1293825150769,12516.743496737983,8444.4062938590814,8769.6980609784569,0,0,0,0,0,0,0,0,0,0,0,0,0,0,0,0,0]
[null,6.4,"6.4 Veículos",null,0,0,0,0,0,0,0,0,0,0,0,0,0,0,0,0,0,0,0,0,0,0,0,0,0,0,0,0,0,0,null,null,6.4,"6.4 Veículos",null,0,0,0,0,0,0,0,0,0,0,0,0,0,0,0,0,0,0,0,0,0,0,0,0,0,0,0,0,0,0]
[null,6.5,"6.5 Outros Bens Imobilizados",null,0,0,0,0,0,0,0,0,0,0,0,0,0,0,0,0,0,0,0,0,0,0,0,0,0,0,0,0,0,0,null,null,6.5,"6.5 Outros Bens Imobilizados",null,0,0,0,0,0,0,0,0,0,0,0,0,0,0,0,0,0,0,0,0,0,0,0,0,0,0,0,0,0,0]
[null,7,"7 Administração da Obra e Despesas Diversas",null,{"$f":"E65+E66+E67+E71","v":32057.555584372141},{"$f":"F65+F66+F67+F71","v":29863.171195027673},39061.477488604054,15705.030937240084,26080.451304267655,757.61513615523268,1182.3387730907418,757.61513615523268,1182.3387730907418,757.61513615523268,1182.3387730907418,757.61513615523268,1182.3387730907418,0,0,0,0,0,0,0,0,0,0,0,0,0,0,0,0,0,null,null,7,"7 Administração da Obra e Despesas Diversas",null,{"$f":"AN65+AN66+AN67+AN71","v":27927.090782608677},{"$f":"AO65+AO66+AO67+AO71","v":26015.442469565209},34028.590391304344,13681.51179130434,22720.108191304338,660,1030,660,1030,660,1030,660,1030,0,0,0,0,0,0,0,0,0,0,0,0,0,0,0,0,0]
[null,7.1,"7.1 Administração da Obra",null,{"$f":"AN65*$D$75","v":3907.9864927739577},{"$f":"AO65*$D$75","v":3519.4167691869907},{"$f":"AP65*$D$75","v":4724.7697240734888},{"$f":"AQ65*$D$75","v":1864.4569121140878},{"$f":"AR65*$D$75","v":3135.5858833587799},{"$f":"AS65*$D$75","v":0},{"$f":"AT65*$D$75","v":0},{"$f":"AU65*$D$75","v":0},{"$f":"AV65*$D$75","v":0},{"$f":"AW65*$D$75","v":0},{"$f":"AX65*$D$75","v":0},{"$f":"AY65*$D$75","v":0},{"$f":"AZ65*$D$75","v":0},{"$f":"BA65*$D$75","v":0},{"$f":"BB65*$D$75","v":0},{"$f":"BC65*$D$75","v":0},{"$f":"BD65*$D$75","v":0},{"$f":"BE65*$D$75","v":0},{"$f":"BF65*$D$75","v":0},{"$f":"BG65*$D$75","v":0},{"$f":"BH65*$D$75","v":0},{"$f":"BI65*$D$75","v":0},{"$f":"BJ65*$D$75","v":0},{"$f":"BK65*$D$75","v":0},{"$f":"BL65*$D$75","v":0},{"$f":"BM65*$D$75","v":0},{"$f":"BN65*$D$75","v":0},{"$f":"BO65*$D$75","v":0},{"$f":"BP65*$D$75","v":0},{"$f":"BQ65*$D$75","v":0},null,null,7.1,"7.1 Administração da Obra",null,3404.460869565215,3065.9565217391291,4116.0054347826072,1624.2304347826075,2731.5804347826074,0,0,0,0,0,0,0,0,0,0,0,0,0,0,0,0,0,0,0,0,0,0,0,0,0]
[null,7.2,"7.2 Benefícios e Despesas Indiretas - BDI",null,15875.145021408545,15144.818962859039,19568.112752408542,7712.6728504741814,12801.98420968447,0,0,0,0,0,0,0,0,0,0,0,0,0,0,0,0,0,0,0,0,0,0,0,0,0,null,null,7.2,"7.2 Benefícios e Despesas Indiretas - BDI",null,13829.70747826086,13193.480486956516,17046.853739130431,6718.9313391304295,11152.50893913043,0,0,0,0,0,0,0,0,0,0,0,0,0,0,0,0,0,0,0,0,0,0,0,0,0]
[null,7.3,"7.3 Projetos de Engenharia",null,9148.0348759704739,8383.4020476320529,10988.779232863235,4636.3356449605462,7634.4125045373821,757.61513615523268,1182.3387730907418,757.61513615523268,1182.3387730907418,757.61513615523268,1182.3387730907418,757.61513615523268,1182.3387730907418,0,0,0,0,0,0,0,0,0,0,0,0,0,0,0,0,0,null,null,7.3,"7.3 Projetos de Engenharia",null,7969.3537391304299,7303.240243478258,9572.9268695652154,4038.9656695652147,6650.754469565215,660,1030,660,1030,660,1030,660,1030,0,0,0,0,0,0,0,0,0,0,0,0,0,0,0,0,0]
[null,null,"Projeto Conceitual + Projeto Básico",null,0,0,0,0,0,0,0,0,0,0,0,0,0,0,0,0,0,0,0,0,0,0,0,0,0,0,0,0,0,0,null,null,null,"Projeto Conceitual + Projeto Básico"]
[null,null,"Projeto Executivo",null,0,0,0,0,0,0,0,0,0,0,0,0,0,0,0,0,0,0,0,0,0,0,0,0,0,0,0,0,0,0,null,null,null,"Projeto Executivo"]
[null,null,"\"As built\"",null,0,0,0,0,0,0,0,0,0,0,0,0,0,0,0,0,0,0,0,0,0,0,0,0,0,0,0,0,0,0,null,null,null,"\"As built\""]
[null,7.4,"7.4 Outros (Seguro, Consultoria Jurídica-Contábil, tributos etc.)",null,{"$f":"AN71*$D$75","v":3126.3891942191658},2815.5334153495924,3779.8157792587913,1491.5655296912701,2508.4687066870242,0,0,0,0,0,0,0,0,0,0,0,0,0,0,0,0,0,0,0,0,0,0,0,0,0,null,null,7.4,"7.4 Outros (Seguro, Consultoria Jurídica-Contábil, tributos etc.)",null,2723.5686956521718,2452.7652173913034,3292.8043478260861,1299.384347826086,2185.2643478260861,0,0,0,0,0,0,0,0,0,0,0,0,0,0,0,0,0,0,0,0,0,0,0,0,0]
[null,8,"8 Overhaul",null,{"$f":"AN72","v":35638.152027027027},{"$f":"AO72","v":18952.652027027027},6486.6520270270275,39860.652027027027,2538.6520270270271,9536.3680630096605,69387.963819273034,17453.446235831841,17756.492290293932,18059.538344756027,2225.3819991116652,2225.3819991116684,2225.3819991116684,0,0,0,0,0,0,0,0,0,0,0,0,0,0,0,0,0,null,null,8,"8 Overhaul",null,35638.152027027027,18952.652027027027,6486.6520270270275,39860.652027027027,2538.6520270270271,8307.6520270270285,60447.652027027027,15204.652027027027,15468.652027027027,15732.652027027027,1938.6520270270273,1938.65202702703,1938.65202702703,0,0,0,0,0,0,0,0,0,0,0,0,0,0,0,0,0]
[null,null,"Total Geral",null,{"$f":"E7+E15+E25+E34+E50+E58+E64+E72","v":204135.45162860642},{"$f":"F7+F15+F25+F34+F50+F58+F64+F72","v":114884.84308549167},216825.37432581562,90517.385250861524,91066.290621692999,65785.931190418734,109587.5964631306,46113.616009360376,51056.780201779766,48652.997336890636,50337.402560450719,48224.841670524445,38421.820385187479,0,0,0,0,0,0,0,0,0,0,0,0,0,0,0,0,0,null,null,null,"Total Geral",null,{"$f":"AN7+AN15+AN25+AN34+AN50+AN58+AN64+AN72","v":190100.848234998},{"$f":"AO7+AO15+AO25+AO34+AO50+AO58+AO64+AO72","v":103158.20859501032},202249.02410282494,83990.504154057897,79659.922028300876,57309.724309388701,95467.75165121106,40172.094132952785,44478.35493913648,42483.885559542105,43993.395523765008,43377.058320886106,33471.350088005485,0,0,0,0,0,0,0,0,0,0,0,0,0,0,0,0,0]
[]
[null,null,"IGP-m (31/12/2016 a 31/12/2019)",{"$f":"'O&M e G&A'!C32","v":1.1479017214473222}]
[]
[null,"N°","Projetos futuros","Total (R$)",2025,2025,2025,2025,2025,2025,2026,2027,2028,2029,2030,2031,2032,2033,2034,2035,2036,2037,2038,2039,2040,2041,2042,2043,2044,2045,2046,2047,2048,2049]
[null,null,"Dolar Projetado (*)",null,3.86,3.86,3.86,3.86,3.86,3.86,3.94,4.0199999999999996,4.0999999999999996,4.18,4.26,4.34,4.43,4.5199999999999996,4.6100000000000003,4.7,4.79,4.88,4.9800000000000004,5.08,5.18,5.18,5.18,5.18,5.18,5.18,5.18,5.18,5.18,5.18]
[null,3.8,"Sistema de Detecção de vazamentos adicional (Áreas de alto risco)",{"$f":"SUM(E79:S79)","v":0}]
[null,2.5,"Automação de SDVs",{"$f":"SUM(E80:S80)","v":12184833.200000001},1523104.15,1523104.15,1523104.15,1523104.15,1523104.15,1523104.15,null,1523104.15,null,1523104.15]
[null,3.4,"Selos Compressores Centrífugos",{"$f":"SUM(E81:S81)","v":8154000},null,null,null,null,null,null,null,494000,1730000,2965000,2471000,494000,0]
[null,3.4,"Proteção de surto para ECOMPs",24000000,3000000,3000000,3000000,3000000,3000000,3000000,3000000,3000000]
[null,3.2,"Proteção de surto para PEs",{"$f":"SUM(E83:S83)","v":6300000},900000,900000,900000,900000,900000,900000,900000]
[null,5.4,"Reclassificação de Classe de Locação (Crescimento Populacional)",7247000,null,null,null,null,null,null,5328000,null,1919000]
[null,2.5,"Correlações e Reparos",52000000,4000000,4000000,4000000,4000000,4000000,4000000,4000000,4000000,4000000,4000000,4000000,4000000,4000000]
[null,4.3,"Obras de investimento em proteção de encostas e travessias",800000,null,null,null,null,null,null,null,800000]
[null,1.1000000000000001,"Troca de Trecho Convencional (Linha Tronco)",38375000,5328000,5328000,5328000,5328000,5328000,5328000,null,null,null,null,null,1079000,5328000]
[null,1.2,"Troca de Trecho em Travessias e Cruzamentos",12473000,null,null,null,null,null,null,null,null,null,773000,1100000,10600000]
[null,1.3,"Linepack",0]
[null,2.2999999999999998,"Stress Corrosion Crack",250000,null,null,null,null,null,null,null,null,null,250000]
[null,2.2999999999999998,"Troca de Revestimento/Recoating  (Envelhecimento)",19822000,null,null,null,null,null,null,null,null,null,null,9911000,9911000]
[null,2.2999999999999998,"Melhorias do Sistema de Proteção Catódica (Envelhecimento Revestimento)",7790000,820000,820000,820000,820000,820000,820000,820000,820000,null,410000,410000,410000]
[null,3.7,"Retrofit CLPs dos Geradores Elétricos",2200000,null,null,null,null,null,null,550000,null,550000,null,550000,null,550000]
[null,6.3,"Máquina Virtual de Automação nos Laptop Corporativos",350000,50000,50000,50000,50000,50000,50000,null,null,null,null,50000]
[null,3.4,"Retrofit CLP Utilidades ECOMPS",7000000,600000,600000,600000,600000,600000,600000,200000,600000,200000,600000,200000,600000,1000000]
[null,3.4,"Retrofit Painéis Turbinas Solar",54525000,3860000,3860000,3860000,3860000,3860000,3860000,5910000,2009999.9999999998,6149999.9999999991,2089999.9999999998,6390000,2170000,6645000]
[null,3.2,"Retrofit CLP PEs e EMEDs",4700000,470000,470000,470000,470000,470000,470000,470000,470000,470000,470000]
[null,3.2,"Substituição das turbinas de medição dos PEs",0]
[null,3.2,"Limite de vazão e substituição das XVs-14 dos PEs",0]
[null,6.3,"Software de automação",2535000,195000,195000,195000,195000,195000,195000,195000,195000,195000,195000,195000,195000,195000]
[null,3.4,"Retrofit SID",0]
[null,3.4,"Melhorias do sistema de utilidades das ECOMPs CGR e PEN (\"botão de manutenção\")",0]
[null,3.8,"Adequação do sistema de combate a incêndio nos motogeradores das ECOMPs",17450000,1870000,1870000,1870000,1870000,1870000,1870000,null,null,1870000,1870000,null,null,2490000]
[null,3.7,"Retrofit dos Disjuntores das ECOMPs",{"$f":"SUM(E104:S104)","v":3600000},400000,400000,400000,400000,400000,400000,400000,400000,400000]
[null,2.2000000000000002,"Instalação das válvulas manuais sucção e descarga em PEN",0]
[null,7.3,"As-built documentação técnica",1480000,null,null,null,null,null,null,370000,null,370000,null,370000,null,370000]
[null,7.3,"Estudos e Projetos de Engenharia",8580000,660000,660000,660000,660000,660000,660000,660000,660000,660000,660000,660000,660000,660000]
[null,6.1,"Atualização da Infraestrutura do Centro de Controle",0]
[null,3.3,"Instalação de cromatógrafos PEs",0]
[null,3.7,"Projetos do GT do sistema elétrico",0]
[null,3.4,"Confiabilidade ECOMP BIG (Aquis. 1 conj. Motocompressor)",0]
[null,8,"Overhaul de turbinas ",137313000,6369000,6369000,6369000,6369000,6369000,6369000,58509000,13265999.999999998,13529999.999999998,13793999.999999998,0,0,0]
[null,8,"Overhaul de motores alternativos",14802476.351351362,1138652.0270270272,1138652.0270270272,1138652.0270270272,1138652.0270270272,1138652.0270270272,1138652.0270270272,1138652.0270270272,1138652.0270270272,1138652.0270270272,1138652.0270270272,1138652.0270270272,1138652.02702703,1138652.02702703]
[null,8,"Overhaul de compressores alternativos",10400000,800000,800000,800000,800000,800000,800000,800000,800000,800000,800000,800000,800000,800000]
[null,3.7,"Aquisição de UPS (cargas críticas)",960000,null,null,null,null,null,null,null,null,null,null,320000,320000,320000]
[null,3.8,"Máquinas e Equipamentos operacionais",16846000,1556000,1556000,1556000,1556000,1556000,1556000,1478000,1076000,1260000,1020000,1556000,560000,560000]
[null,3.4,"Projeto de adequação da medição do sistema de utilidades",0]
[null,6.3,"Sistema de Gerenciamento de Contratos de Transporte (programação e nominação, software)",0]
[null,3.4,"Retrofit BIG",0]
[null,3.4,"Retrofit ARC",0]
[null,2.4,"Monitoramento do duto por fibra óptica",30000000,5000000,5000000,5000000,5000000,5000000,5000000]
[null,3.4,"Revisão geral de bundle de compressor de GN",{"$f":"SUM(E122:S122)","v":7800000},600000,600000,600000,600000,600000,600000,600000,600000,600000,600000,600000,600000,600000]
[null,3.4,"Melhorias HUB Paulínia",{"$f":"SUM(E123:S123)","v":0}]
[null,5.0999999999999996,"Licenciamento Ambiental",{"$f":"SUM(E124:S124)","v":0},0,0,0,0,0,0,0,0,0,0,0,0,0]
[null,6.1,"Imóveis/Edificações/Terrenos e Benfeitorias",47185650,6689900,6689900,6689900,6689900,6689900,6689900,2846250,840000,950000,1410000,340000,630000,30000]
[null,6.2,"Móveis, Equipamentos e Instalações de Escritório",4230000,260000,260000,260000,260000,260000,260000,210000,210000,210000,210000,660000,960000,210000]
[null,6.3,"Equipamentos e Instalações de Processamento de Dados e de Comunicação",125949276.5204799,11220068.132361677,11220068.132361677,11220068.132361677,11220068.132361677,11220068.132361677,11220068.132361677,7082849.6241840301,7269337.9559257608,7475702.9121094523,7705129.3825150765,12271743.496737983,8249406.2938590813,8574698.0609784573]
[null,null,null,null,0,0,0,0,0,0,0,0,0,0,0,0,0,0,0,0,0,0,0,0,0,0,0,0,0,0,0,0,0,0]
[null,null,"Investimento Total (R$)",{"$f":"SUM(D79:D127)","v":687302236.07183123},{"$f":"SUM(E79:E127)","v":57309724.309388697},57309724.309388697,57309724.309388697,57309724.309388697,57309724.309388697,{"$f":"SUM(J79:J127)","v":57309724.309388697},95467751.651211053,40172094.132952787,44478354.939136475,42483885.559542105,43993395.523765013,43377058.320886105,33471350.088005487,0,0,0,0,0,0,0,0,0,0,0,0,0,0,0,0,0]
[]
[null,null,null,{"$f":"SUM(D79:D123)","v":509937309.55135137}]
["UP"]
[]
[]
[null,"N°","Projetos futuros",null,2020,"%","5.4 Custos de Compart.","4.1 Preparo da Faixa do Duto","4.2 Tubulação e Acessórios","4.3 Travessias e Cruzamen-tos","4.4 Testes, Inspeções e Ensaios Exigidos por Normas","4.5 Condiciona-mento e Comissiona-mento","7.1 Admin. da Obra","7.2 BDI","7.3 Projetos de Engenharia","7.4 Outros (Seguro, Consultoria etc.)","TOTAL 2020"]
[null,1,"1. Tubulações",null,{"$f":"VLOOKUP(B165,B7:AH73,4,FALSE)","v":62529.081165653311},{"$f":"SUM(F137:F138)","v":0.38081906444222752},{"$f":"SUM(G137:G138)","v":1918.6200109300783},0,{"$f":"SUM(I137:I138)","v":1050.3300751242998},0,682.85648960441233,0,1488.2357600310404,6045.5578749374872,3483.7460829519446,{"$f":"SUM(P137:P138)","v":1190.5886080248322},{"$f":"SUM(Q137:Q138)","v":78389.016067257384}]
["A",1.1000000000000001,"1.1 Linha Tronco",null,{"$f":"VLOOKUP(B166,$B$8:$AH$74,4,FALSE)","v":2957.7983656533147},{"$f":"E137/$E$161","v":1.8013794308488242E-2},{"$f":"$E$50*F137","v":90.756029464189524},{"$f":"$E$35","v":0},{"$f":"+E36","v":1050.3300751242998},{"$f":"$E$43","v":0},{"$f":"$E$46*F137","v":32.300999331445844},{"$f":"$E$48*F137","v":0},{"$f":"$E$65*F137","v":70.397664841180443},{"$f":"$E$66*F137","v":285.97159703307472},{"$f":"$E$67*F137","v":164.79081858260886},{"$f":"$E$71*F137","v":56.318131872944349},{"$f":"SUM(E137:P137)-F137","v":4708.6636819030582}]
[null,1.2,"1.2 Trecho(s)/Ramal(is)",null,{"$f":"VLOOKUP(B167,$B$8:$AH$74,4,FALSE)","v":59571.282799999994},0.36280527013373925,{"$f":"$E$50*F138","v":1827.8639814658886},0,0,0,{"$f":"$E$46*F138","v":650.55549027296649},{"$f":"$E$48*F138","v":0},{"$f":"$E$65*F138","v":1417.83809518986},{"$f":"$E$66*F138","v":5759.5862779044128},{"$f":"$E$67*F138","v":3318.9552643693355},{"$f":"$E$71*F138","v":1134.2704761518878},{"$f":"SUM(E138:P138)-F138","v":73680.35238535433}]
[null,2,"2 Componentes",null,3020.3727842928515,1.8394889490443579E-2,{"$f":"SUM(G140:G144)","v":92.676040593988063},0,0,0,32.984350934486869,0,71.886979664723128,292.02153831357572,168.27709059820057,{"$f":"SUM(P140:P144)","v":57.509583731778498},{"$f":"SUM(Q140:Q144)","v":3735.728368129604}]
["B",2.1,"2.1 Lançadores e Recebedores de Pigs e Esferas ",null,0,0,{"$f":"$E$50*F140","v":0},0,{"$f":"VLOOKUP(A140,$A$7:$AH$72,4,FALSE)","v":0},0,{"$f":"$E$46*F140","v":0},{"$f":"$E$48*F140","v":0},{"$f":"$E$65*F140","v":0},{"$f":"$E$66*F140","v":0},{"$f":"$E$67*F140","v":0},{"$f":"$E$71*F140","v":0},{"$f":"SUM(E140:P140)-F140","v":0}]
["C",2.2000000000000002,"2.2 Válvulas",null,901.10285133614786,5.4879607762499593E-3,{"$f":"$E$50*F141","v":27.649118302242705},0,{"$f":"VLOOKUP(A141,$A$7:$AH$72,4,FALSE)","v":0},0,{"$f":"$E$46*F141","v":9.8406040575872211},{"$f":"$E$48*F141","v":0},{"$f":"$E$65*F141","v":21.446876586458124},{"$f":"$E$66*F141","v":87.122173194769914},{"$f":"$E$67*F141","v":50.204056579092622},17.157501269166499,1114.523181325465]
["D",2.2999999999999998,"2.3 Sistema de Proteção Catódica e Demais Equipamentos de Controle de Corrosão",null,574.1804410679506,3.4969146245608027E-3,{"$f":"$E$50*F142","v":17.617947738575545},0,{"$f":"VLOOKUP(A142,$A$7:$AH$72,4,FALSE)","v":0},0,{"$f":"$E$46*F142","v":6.2704078338918832},{"$f":"$E$48*F142","v":0},{"$f":"$E$65*F142","v":13.665895119167333},{"$f":"$E$66*F142","v":55.514026792387156},{"$f":"$E$67*F142","v":31.98989694377342},10.932716095333864,710.17133159107982]
["E",2.4,"2.4 Sistemas de Comunicação e de Supervisão e Controle",null,1545.0894918887529,9.4100140896328163E-3,{"$f":"$E$50*F143","v":47.40897455316982},0,{"$f":"VLOOKUP(A143,$A$7:$AH$72,4,FALSE)","v":0},0,{"$f":"$E$46*F143","v":16.873339043007761},{"$f":"$E$48*F143","v":0},{"$f":"$E$65*F143","v":36.774207959097673},{"$f":"$E$66*F143","v":149.38533832641866},{"$f":"$E$67*F143","v":86.083137075334548},29.419366367278137,1911.0338552130593]
[null,2.5,"2.5 Outros Componentes",null,0,0,{"$f":"$E$50*F144","v":0},0,0,0,{"$f":"$E$46*F144","v":0},{"$f":"$E$48*F144","v":0},{"$f":"$E$65*F144","v":0},{"$f":"$E$66*F144","v":0},{"$f":"$E$67*F144","v":0},0,0]
[null,3,"3 Complementos",null,39155.438085655238,0.238467238309514,{"$f":"SUM(G146:G153)","v":1201.4314883158245},{"$f":"SUM(H146:H153)","v":0},0,0,427.60175748080792,0,931.92674628268912,3785.7019910183258,2181.5066128317958,{"$f":"SUM(P146:P153)","v":745.541397026151},48429.14807861083]
["F",3.1,"3.1 Estação(ões) de Recebimento ",null,107.90276181604828,6.5715708658279769E-4,{"$f":"$E$50*F146","v":3.3108498349182347},0,{"$f":"VLOOKUP(A146,$A$7:$AH$72,4,FALSE)/2","v":0},0,{"$f":"$E$46*F146","v":1.1783653266410175},{"$f":"$E$48*F146","v":0},{"$f":"$E$65*F146","v":2.5681610179962595},{"$f":"$E$66*F146","v":10.432464051348244},{"$f":"$E$67*F146","v":6.0116959470505815},{"$f":"$E$71*F146","v":2.0545288143970075},{"$f":"SUM(E146:P146)-F146","v":133.45882680839961}]
["F",3.2,"3.2 Estação(ões) de Entrega",null,4977.7510431300516,3.0315853998384955E-2,{"$f":"$E$50*F147","v":152.73553653341298},0,{"$f":"VLOOKUP(A147,$A$7:$AH$72,4,FALSE)/2","v":0},0,{"$f":"$E$46*F147","v":54.36013995522422},{"$f":"$E$48*F147","v":0},{"$f":"$E$65*F147","v":118.47394794259579},{"$f":"$E$66*F147","v":481.26857867220923},{"$f":"$E$67*F147","v":277.33048967205451},94.779158354076614,6156.6988942596263]
[null,3.3,"3.3 Estação(ões) de Interconexão",null,700.22005008286646,4.2645300299521977E-3,21.485302120214076,0,0,0,7.6468388218193688,0,16.665725755082111,67.700032673642866,39.012069443626118,13.332580604065686,866.06259950131687]
[null,3.4,"3.4 Estação(ões) de Compressão",null,{"$f":"VLOOKUP(B178,$B$8:$AH$74,4,FALSE)","v":21713.82375306969},0.13224307622881765,666.25921874783853,0,0,0,237.1284718646186,0,516.80415566509623,2099.3780132096654,1209.7642734468457,413.44332453207693,26856.601210535835]
[null,3.5,"3.5 Estação(ões) de Medição",null,4977.406672613617,3.0313756688534158E-2,152.72496999138664,0,0,0,54.356379214820045,0,118.46575168402771,481.23528357417302,277.31130340839371,94.77260134722215,6156.2729618336398]
[null,3.6,"3.6 Estação(ões) de Regulagem de Pressão",null,0,0,0,0,0,0,0,0,0,0,0,0,0]
[null,3.7,"3.7 Sistema Elétrico",null,4603.200693175907,{"$f":"E152/$E$161","v":2.8034740775592312E-2},141.24296726601719,0,0,0,50.269816982586647,0,109.55938827943406,445.0555754501234,256.46278635391002,87.647510623547234,5693.4387381315255]
[null,3.8,"3.8 Sistemas Auxiliares",null,2075.1331117670538,1.2638123501649908E-2,63.672643822036783,0,0,0,22.661745315098074,0,49.389615938456956,200.63204338716389,115.61399455991545,39.511692750765562,2566.6148475404907]
[null,6,"6 Outros Bens e Instalações Diretamente Vinculados",null,23853.255450993594,0.14527279556025979,{"$f":"SUM(G155:G159)","v":731.90477744044915},{"$f":"SUM(H155:H159)","v":0},0,0,260.49239776531135,0,567.72412281700781,2306.2266971845593,1328.9606003149852,{"$f":"SUM(P155:P159)","v":454.17929825360619},29502.743344769508]
[null,6.1,"6.1 Imóveis/Edificações/Terrenos e Benfeitorias",null,2048.3158317506018,1.2474798992535577E-2,{"$f":"$E$50*F155","v":62.849791972639345},0,0,0,{"$f":"$E$46*F155","v":22.368883924023741},{"$f":"$E$48*F155","v":0},{"$f":"$E$65*F155","v":48.751345962899208},{"$f":"$E$66*F155","v":198.0392431194235},{"$f":"$E$67*F155","v":114.11989625443678},{"$f":"$E$71*F155","v":39.001076770319365},{"$f":"SUM(E155:P155)-F155","v":2533.4460697543432}]
[null,6.2,"6.2 Móveis, Equipamentos e Instalações de Escritório",null,1721.8525821709832,1.0486549253980813E-2,52.832710131673956,0,0,0,18.803702020867298,0,40.981292840365839,166.47549018108901,95.931318303998637,32.78503427229267,2129.6621299212707]
[null,6.3,"6.3 Equipamentos e Instalações de Processamento de Dados e de Comunicação",null,20083.087037072008,0.12231144731374338,616.22227533613591,0,0,0,219.31981182042028,0,477.99148401374271,1941.7119638840468,1118.9093857565497,382.39318721099414,24839.635145093893]
[null,6.4,"6.4 Veículos",null,0,0,0,0,0,0,0,0,0,0,0,0,0]
[null,6.5,"6.5 Outros Bens Imobilizados",null,0,0,0,0,0,0,0,0,0,0,0,0,0]
[null,8,"8 Overhaul",null,35638.152027027027,0.21704601219755518,{"$f":"$E$50*F160","v":1093.5083381519569},0,0,0,389.19080427062892,0,848.2128839784973,3445.6369199545966,1985.5444892735477,678.57030718279771,44078.81576983905]
[null,null,"Total Geral",null,{"$f":"E136+E139+E145+E154+E160","v":164196.29951362201},1.0000000000000002,5038.1406554322966,0,1050.3300751242998,0,1793.1258000556472,0,3907.9864927739577,15875.145021408543,9148.0348759704757,3126.3891942191658,204135.45162860636,{"$f":"Q161/$Q$161","v":1},{"$f":"Q161-E129/1000","v":146825.72731921767}]
[]
[]
[null,"N°","Projetos futuros",null,2021,"%","5.4 Custos de Compart.","4.1 Preparo da Faixa do Duto","4.2 Tubulação e Acessórios","4.3 Travessias e Cruzamen-tos","4.4 Testes, Inspeções e Ensaios Exigidos por Normas","4.5 Condiciona-mento e Comissiona-mento","7.1 Admin. da Obra","7.2 BDI","7.3 Projetos de Engenharia","7.4 Outros (Seguro, Consultoria etc.)","TOTAL 2021"]
[null,1,"1. Tubulações",null,{"$f":"VLOOKUP(B165,$B$7:$AH$73,5,FALSE)","v":9368.6792509357947},{"$f":"SUM(F166:F167)","v":0.11800236205690096},147.51061973402383,280.08802003314662,2069.5003580199118,280.08802003314662,206.26021201229821,0,415.29949182673192,1787.1244105415117,989.26124369324236,{"$f":"SUM(P166:P167)","v":332.23959346138554},15876.051220291192]
["A",1.1000000000000001,"1.1 Linha Tronco",null,4449.7893676130789,{"$f":"E166/$E$190","v":5.6046924221637595E-2},{"$f":"$F$50*F166","v":70.062296906675655},{"$f":"$F$35","v":280.08802003314662},{"$f":"+F36","v":2069.5003580199118},{"$f":"$F$43","v":280.08802003314662},{"$f":"$F$46*F166","v":97.966263311049715},{"$f":"$F$48*F166","v":0},{"$f":"$F$65*F166","v":197.25248496698387},{"$f":"$F$66*F166","v":848.82052076178059},{"$f":"$F$67*F166","v":469.86389928315509},{"$f":"$F$71*F166","v":157.8019879735871},{"$f":"SUM(E166:P166)-F166","v":8921.2332189025165}]
[null,1.2,"1.2 Trecho(s)/Ramal(is)",null,4918.8898833227149,6.1955437835263368E-2,{"$f":"$F$50*F167","v":77.448322827348179},0,0,0,{"$f":"$F$46*F167","v":108.2939487012485},{"$f":"$F$48*F167","v":0},{"$f":"$F$65*F167","v":218.04700685974805},{"$f":"$F$66*F167","v":938.30388977973098},{"$f":"$F$67*F167","v":519.39734441008727},{"$f":"$F$71*F167","v":174.43760548779844},{"$f":"SUM(E167:P167)-F167","v":6954.8180013886758}]
[null,2,"2 Componentes",null,3433.7703045231842,4.3249746932483256E-2,{"$f":"SUM(G169:G173)","v":54.064993803038888},0,0,0,75.597655981417233,0,152.2138846172752,655.00958748192693,362.58001699334824,{"$f":"SUM(P169:P173)","v":121.77110769382014},{"$f":"SUM(Q169:Q173)","v":4855.0075510940114}]
["B",2.1,"2.1 Lançadores e Recebedores de Pigs e Esferas ",null,0,0,{"$f":"$F$50*F169","v":0},0,{"$f":"VLOOKUP(A169,$A$7:$AH$72,5,FALSE)","v":0},0,{"$f":"$F$46*F169","v":0},0,0,0,0,{"$f":"$F$71*F169","v":0},{"$f":"SUM(E169:P169)-F169","v":0}]
["C",2.2000000000000002,"2.2 Válvulas",null,480.97082128642796,6.0580249864544159E-3,{"$f":"$F$50*F170","v":7.5729248511583656},0,{"$f":"VLOOKUP(A170,$A$7:$AH$72,5,FALSE)","v":0},0,{"$f":"$F$46*F170","v":10.58902123907793},0,21.320714725481462,91.747691692328715,50.786859076048088,{"$f":"$F$71*F170","v":17.05657178038517},680.04460465090756]
["D",2.2999999999999998,"2.3 Sistema de Proteção Catódica e Demais Equipamentos de Controle de Corrosão",null,574.1804410679506,7.2320384205835312E-3,{"$f":"$F$50*F171","v":9.0405179249389391},0,{"$f":"VLOOKUP(A171,$A$7:$AH$72,5,FALSE)","v":0},0,{"$f":"$F$46*F171","v":12.641117956531698},0,25.452557292806279,109.5279126121786,60.629085703673653,{"$f":"$F$71*F171","v":20.36204583424502},811.83367839232494]
["E",2.4,"2.4 Sistemas de Comunicação e de Supervisão e Controle",null,2378.6190421688057,2.995968352544531E-2,{"$f":"$F$50*F172","v":37.451551026941587},0,{"$f":"VLOOKUP(A172,$A$7:$AH$72,5,FALSE)","v":0},0,{"$f":"$F$46*F172","v":52.367516785807602},0,105.44061259898744,453.73398317741965,251.1640722136265,{"$f":"$F$71*F172","v":84.352490079189948},3363.129268050779]
[null,2.5,"2.5 Outros Componentes",null,0,0,{"$f":"$F$50*F173","v":0},0,0,0,{"$f":"$F$46*F173","v":0},0,0,0,0,{"$f":"$F$71*F173","v":0},0]
[null,3,"3 Complementos",null,35739.443448540587,0.45015296527582299,{"$f":"SUM(G175:G182)","v":562.7204551289052},0,0,0,786.83718221660854,0,1584.2758946909807,6817.4851646965117,3773.8132908409748,{"$f":"SUM(P175:P182)","v":1267.4207157527846},{"$f":"SUM(Q175:Q182)","v":50531.996151867366}]
["F",3.1,"3.1 Estação(ões) de Recebimento ",null,683.23110460544615,8.6055763053404979E-3,{"$f":"$F$50*F175","v":10.757529526036896},0,{"$f":"VLOOKUP(A175,$A$7:$AH$72,5,FALSE)/2","v":0},0,{"$f":"$F$46*F175","v":15.041970027444354},0,30.286609557533573,130.32989521545119,72.14400601924541,{"$f":"$F$71*F175","v":24.229287646026858},{"$f":"SUM(E175:P175)-F175","v":966.02040259718433}]
["F",3.2,"3.2 Estação(ões) de Entrega",null,8489.7718316169958,0.10693216222071873,{"$f":"$F$50*F176","v":133.67215065636836},0,{"$f":"VLOOKUP(A176,$A$7:$AH$72,5,FALSE)/2","v":0},0,{"$f":"$F$46*F176","v":186.91024540630414},0,376.3388448850211,1619.46823813986,896.45530771889628,301.07107590801684,12003.687694331464]
[null,3.3,"3.3 Estação(ões) de Interconexão",null,680.36135030182788,8.5694305715311048E-3,10.712345010218529,0,0,0,14.978789709788758,0,30.159397655830229,129.78247462062825,71.840981800414582,24.127518124664181,961.96285722337257]
[null,3.4,"3.4 Estação(ões) de Compressão",null,15562.390613091708,0.19601469987496214,245.03111083142426,0,0,0,342.62054461453289,0,689.85742174709685,2968.6071436654502,1643.27003629774,551.88593739767748,22003.662807645629]
[null,3.5,"3.5 Estação(ões) de Medição",null,3653.007575178201,4.6011130377819585E-2,57.516902529649116,0,0,0,80.42436898066785,0,161.93234382094721,696.83023984858164,385.72980462327808,129.54587505675775,5164.9871100380824]
[null,3.6,"3.6 Estação(ões) de Regulagem de Pressão",null,0,0,0,0,0,0,0,0,0,0,0,0,0]
[null,3.7,"3.7 Sistema Elétrico",null,3762.9366330764665,4.7395732000229646E-2,59.24774452167599,0,0,0,82.844559722724014,0,166.8053339895007,717.79978075566294,397.33747669974525,133.44426719160055,5320.4157959573758]
[null,3.8,"3.8 Sistemas Auxiliares",null,2907.744340669949,3.6624233925221357E-2,45.782672053532153,0,0,0,64.016703755146438,0,128.89594303505112,554.66739245087774,307.03567768165601,103.11675442804089,4111.2594840742531]
[null,6,"6 Outros Bens e Instalações Diretamente Vinculados",null,11899.452577412783,0.14987849126957051,{"$f":"SUM(G184:G188)","v":187.35785239039524},0,0,0,261.97754728365709,0,527.48487551457242,2269.8826167040943,1256.49165060532,{"$f":"SUM(P184:P188)","v":421.98790041165785},16824.635020322479]
[null,6.1,"6.1 Imóveis/Edificações/Terrenos e Benfeitorias",null,739.82265947279916,9.3183701760617462E-3,{"$f":"$F$50*F184","v":11.6485681779751},0,0,0,{"$f":"$F$46*F184","v":16.287885891612714},0,32.79522825912364,141.12502934536005,78.119643614589492,{"$f":"$F$71*F184","v":26.236182607298911},{"$f":"SUM(E184:P184)-F184","v":1046.0351973687591}]
[null,6.2,"6.2 Móveis, Equipamentos e Instalações de Escritório",null,2904.1913552617252,3.6579482615106622E-2,45.726730008187751,0,0,0,63.938481467463404,0,128.73844452379024,553.98964196083932,306.66050945680593,102.99075561903219,4106.2359182978444]
[null,6.3,"6.3 Equipamentos e Instalações de Processamento de Dados e de Comunicação",null,8255.4385626782587,0.10398063847840212,129.98255420423237,0,0,0,181.75117992458098,0,365.9512027316585,1574.7679453978947,871.71149753392456,292.76096218532678,11672.363904655875]
[null,6.4,"6.4 Veículos",null,0,0,0,0,0,0,0,0,0,0,0,0,0]
[null,6.5,"6.5 Outros Bens Imobilizados",null,0,0,0,0,0,0,0,0,0,0,0,0,0]
[null,8,"8 Overhaul",null,18952.652027027027,0.23871643446522217,298.41105359977058,0,0,0,417.26031178828526,0,840.14262253743016,3615.3171834349937,2001.2558454991663,672.1140980299441,26797.153141916617]
[null,null,"Total Geral",null,{"$f":"E165+E168+E174+E183+E189","v":79393.997608439386},{"$f":"F165+F168+F174+F183+F189","v":0.99999999999999989},1250.0649746561337,{"$f":"H165+H168+H174+H183+H189","v":280.08802003314662},2069.5003580199118,280.08802003314662,1747.9329092822663,0,3519.4167691869902,15144.818962859039,8383.4020476320529,{"$f":"P165+P168+P174+P183+P189","v":2815.5334153495924},114884.84308549165]
[]
[]
[null,"N°","Projetos futuros",null,2022,"%","5.4 Custos de Compart.","4.1 Preparo da Faixa do Duto","4.2 Tubulação e Acessórios","4.3 Travessias e Cruzamen-tos","4.4 Testes, Inspeções e Ensaios Exigidos por Normas","4.5 Condiciona-mento e Comissiona-mento","7.1 Admin. da Obra","7.2 BDI","7.3 Projetos de Engenharia","7.4 Outros (Seguro, Consultoria etc.)","TOTAL 2022"]
[null,1,"1. Tubulações",null,{"$f":"VLOOKUP(B165,$B$7:$AH$73,6,FALSE)","v":105379.59112977496},{"$f":"SUM(F195:F196)","v":0.61868094530502515},0,270.63504935702787,3820.0504832270785,270.63504935702787,1901.2786661624662,0,2923.1249992383487,12106.418495495434,6798.5483235360543,{"$f":"SUM(P195:P196)","v":2338.4999993906795},135808.78219553907]
["A",1.1000000000000001,"1.1 Linha Tronco",null,8171.5163288895865,{"$f":"E195/$E$219","v":4.7974768100086239E-2},{"$f":"$G$50*F195","v":0},{"$f":"$G$35","v":270.63504935702787},{"$f":"+G36","v":3820.0504832270785},{"$f":"$G$43","v":270.63504935702787},{"$f":"$G$46*F195","v":147.4320549145329},{"$f":"$G$48*F195","v":0},{"$f":"$G$65*F195","v":226.66973183873407},{"$f":"$G$66*F195","v":938.77567145314003},{"$f":"$G$67*F195","v":527.18413539965729},{"$f":"$G$71*F195","v":181.33578547098728},{"$f":"SUM(E195:P195)-F195","v":14554.23428990777}]
[null,1.2,"1.2 Trecho(s)/Ramal(is)",null,97208.07480088537,0.57070617720493888,{"$f":"$G$50*F196","v":0},0,0,0,{"$f":"$G$46*F196","v":1753.8466112479332},{"$f":"$G$48*F196","v":0},{"$f":"$G$65*F196","v":2696.4552673996145},{"$f":"$G$66*F196","v":11167.642824042294},{"$f":"$G$67*F196","v":6271.3641881363974},{"$f":"$G$71*F196","v":2157.164213919692},121254.54790563131]
[null,2,"2 Componentes",null,4100.8628292464582,2.4076063159516048E-2,{"$f":"SUM(G198:G202)","v":0},0,0,0,73.988548698230218,0,113.75385429096252,471.12311853951945,264.56654285639354,91.003083432770012,5115.2979770643342]
["B",2.1,"2.1 Lançadores e Recebedores de Pigs e Esferas ",null,0,0,0,0,{"$f":"VLOOKUP(A198,$A$7:$AH$72,6,FALSE)","v":0},0,{"$f":"$G$46*F198","v":0},0,0,0,0,{"$f":"$G$71*F198","v":0},{"$f":"SUM(E198:P198)-F198","v":0}]
["C",2.2000000000000002,"2.2 Válvulas",null,1067.0320451713583,6.2645184641530131E-3,0,0,{"$f":"VLOOKUP(A199,$A$7:$AH$72,6,FALSE)","v":0},0,{"$f":"$G$46*F199","v":19.251595511484133},0,29.598407175329505,122.58480364609134,68.839410402772913,{"$f":"$G$71*F199","v":23.678725740263609},1330.9849876472999]
["D",2.2999999999999998,"2.3 Sistema de Proteção Catódica e Demais Equipamentos de Controle de Corrosão",null,0,0,0,0,{"$f":"VLOOKUP(A200,$A$7:$AH$72,6,FALSE)","v":0},0,{"$f":"$G$46*F200","v":0},0,0,0,0,{"$f":"$G$71*F200","v":0},0]
["E",2.4,"2.4 Sistemas de Comunicação e de Supervisão e Controle",null,3033.8307840750999,1.7811544695363033E-2,0,0,{"$f":"VLOOKUP(A201,$A$7:$AH$72,6,FALSE)","v":0},0,{"$f":"$G$46*F201","v":54.736953186746085},0,84.15544711563301,348.53831489342809,195.72713245362061,{"$f":"$G$71*F201","v":67.32435769250641},3784.3129894170338]
[null,2.5,"2.5 Outros Componentes",null,0,0,0,0,0,0,{"$f":"$G$46*F202","v":0},0,0,0,0,{"$f":"$G$71*F202","v":0},0]
[null,3,"3 Complementos",null,41096.02069568319,0.24127371020987232,{"$f":"SUM(G204:G211)","v":0},0,0,0,741.46223737621449,0,1139.9627212144853,4721.2711655787252,2651.303536190107,911.97017697158833,51261.990533014301]
["F",3.1,"3.1 Estação(ões) de Recebimento ",null,401.1916516458391,2.3553861580565627E-3,{"$f":"$G$50*F204","v":0},0,{"$f":"VLOOKUP(A204,$A$7:$AH$72,6,FALSE)/2","v":0},0,{"$f":"$G$46*F204","v":7.2383762371725062},0,11.128657208087422,46.090461916313188,25.882818499025479,{"$f":"$G$71*F204","v":8.9029257664699379},{"$f":"SUM(E204:P204)-F204","v":500.43489127290763}]
["F",3.2,"3.2 Estação(ões) de Entrega",null,7668.1736516837009,4.501965582447872E-2,{"$f":"$G$50*F205","v":0},0,{"$f":"VLOOKUP(A205,$A$7:$AH$72,6,FALSE)/2","v":0},0,{"$f":"$G$46*F205","v":138.35065040649954},0,212.70750682770574,880.94970124802558,494.71105899468216,170.16600546216461,9565.0585746227771]
[null,3.3,"3.3 Estação(ões) de Interconexão",null,293.28888982979078,1.7218917407251838E-3,0,0,0,0,5.2915740446282555,0,8.135541964710546,33.694171729951414,18.921488201719626,6.5084335717684372,365.84009934256903]
[null,3.4,"3.4 Estação(ões) de Compressão",null,24600.480909536309,0.14442880847133774,0,0,0,0,443.84656487268239,0,682.3928615493852,2826.199208863155,1587.0962911570177,545.91428923950821,30685.930125218056]
[null,3.5,"3.5 Estação(ões) de Medição",null,2987.8683998781767,1.7541700686683911E-2,0,0,0,0,53.907691091660183,0,82.880496313203267,343.25797690603315,192.76187621493492,66.304397050562628,3726.980837454571]
[null,3.6,"3.6 Estação(ões) de Regulagem de Pressão",null,0,0,0,0,0,0,0,0,0,0,0,0,0]
[null,3.7,"3.7 Sistema Elétrico",null,4243.3908985882435,2.4912841891787676E-2,0,0,0,0,76.560067287964941,0,117.70744111094811,487.49729912142817,273.76171961208166,94.165952888758497,5293.0833786094245]
[null,3.8,"3.8 Sistemas Auxiliares",null,901.62629452112787,5.2934254368025057E-3,0,0,0,0,16.267313435606777,0,25.010216240444961,103.58234579381887,58.168283510645374,20.00817299235597,1124.6626264939996]
[null,6,"6 Outros Bens e Instalações Diretamente Vinculados",null,13266.333000948887,7.7886309424474956E-2,{"$f":"SUM(G213:G217)","v":0},0,0,0,239.3537082702199,0,367.99487668857887,1524.0880846871059,855.87545952803043,{"$f":"SUM(P213:P217)","v":294.39590135086314},16548.041031473687]
[null,6.1,"6.1 Imóveis/Edificações/Terrenos e Benfeitorias",null,74.039661033352274,4.3468499912631842E-4,{"$f":"$G$50*F213","v":0},0,0,0,{"$f":"$G$46*F213","v":1.335837674671321},0,2.05378652338094,8.5059650746844078,4.7766574912364614,{"$f":"$G$71*F213","v":1.6430292187047524},{"$f":"SUM(E213:P213)-F213","v":92.354937016030163}]
[null,6.2,"6.2 Móveis, Equipamentos e Instalações de Escritório",null,241.05936150393765,1.4152534855275485E-3,0,0,0,0,4.3492389407903476,0,6.6867468203100389,27.69383977804226,15.551908111002433,5.3493974562480311,300.69049261033081]
[null,6.3,"6.3 Equipamentos e Instalações de Processamento de Dados e de Comunicação",null,12951.233978411597,7.6036370939821088E-2,0,0,0,0,233.66863165475823,0,359.2543433448879,1487.8882798343793,835.54689392579155,287.40347467591033,16154.995601847326]
[null,6.4,"6.4 Veículos",null,0,0,0,0,0,0,0,0,0,0,0,0,0]
[null,6.5,"6.5 Outros Bens Imobilizados",null,0,0,0,0,0,0,0,0,0,0,0,0,0]
[null,8,"8 Overhaul",null,6486.6520270270275,3.8082971901111505E-2,0,0,0,0,117.03341208278174,0,179.93327264111304,745.21188810775618,418.48537075264824,143.94661811289043,{"$f":"SUM(E218:P218)-F218","v":8091.2625887242166}]
[null,null,"Total Geral",null,{"$f":"E194+E197+E203+E212+E218","v":170329.45968268052},{"$f":"F194+F197+F203+F212+F218","v":1},0,270.63504935702787,3820.0504832270785,270.63504935702787,3073.1165725899127,0,4724.7697240734888,19568.112752408539,10988.779232863233,{"$f":"P194+P197+P203+P212+P218","v":3779.8157792587913},216825.37432581559]
[]
[null,"N°","Projetos futuros",null,2023,"%","5.4 Custos de Compart.","4.1 Preparo da Faixa do Duto","4.2 Tubulação e Acessórios","4.3 Travessias e Cruzamen-tos","4.4 Testes, Inspeções e Ensaios Exigidos por Normas","4.5 Condiciona-mento e Comissiona-mento","7.1 Admin. da Obra","7.2 BDI","7.3 Projetos de Engenharia","7.4 Outros (Seguro, Consultoria etc.)","TOTAL 2023"]
[null,1,"1. Tubulações",null,{"$f":"VLOOKUP(B165,$B$7:$AH$73,7,FALSE)","v":3243.6258942936979},{"$f":"SUM(F223:F224)","v":4.561903755595529E-2},38.017840684148311,385.12102754557657,0,385.12102754557657,96.086164866304273,0,85.054729895193006,351.84471242257843,211.50516990946934,{"$f":"SUM(P223:P224)","v":68.043783916154396},4864.4203510786983]
["A",1.1000000000000001,"1.1 Linha Tronco",null,3243.6258942936979,{"$f":"E223/$E$247","v":4.561903755595529E-2},{"$f":"$H$50*F223","v":38.017840684148311},{"$f":"$H$35","v":385.12102754557657},{"$f":"VLOOKUP(A223,$A$7:$AH$72,7,FALSE)","v":0},{"$f":"$H$43","v":385.12102754557657},{"$f":"$H$46*F223","v":96.086164866304273},{"$f":"$H$48*F223","v":0},{"$f":"$H$65*F223","v":85.054729895193006},{"$f":"$H$66*F223","v":351.84471242257843},{"$f":"$H$67*F223","v":211.50516990946934},{"$f":"$H$71*F223","v":68.043783916154396},{"$f":"SUM(E223:P223)-F223","v":4864.4203510786983}]
[null,1.2,"1.2 Trecho(s)/Ramal(is)",null,0,0,{"$f":"$H$50*F224","v":0},0,0,0,{"$f":"$H$46*F224","v":0},{"$f":"$H$48*F224","v":0},{"$f":"$H$65*F224","v":0},{"$f":"$H$66*F224","v":0},{"$f":"$H$67*F224","v":0},{"$f":"$H$71*F224","v":0},0]
[null,2,"2 Componentes",null,2881.574018063704,4.0527063734930951E-2,{"$f":"SUM(G226:G230)","v":33.774308600462653},0,0,0,85.361075906202387,0,75.560964108280189,312.57198417783877,187.89707017984827,60.448771286624144,3637.1881923229603]
["B",2.1,"2.1 Lançadores e Recebedores de Pigs e Esferas ",null,0,0,{"$f":"$H$50*F226","v":0},0,{"$f":"VLOOKUP(A226,$A$7:$AH$72,7,FALSE)","v":0},0,{"$f":"$H$46*F226","v":0},0,0,0,0,{"$f":"$H$71*F226","v":0},{"$f":"SUM(E226:P226)-F226","v":0}]
["C",2.2000000000000002,"2.2 Válvulas",null,210.12341011093233,2.9552198834333497E-3,{"$f":"$H$50*F227","v":2.4628112457916087},0,{"$f":"VLOOKUP(A227,$A$7:$AH$72,7,FALSE)","v":0},0,{"$f":"$H$46*F227","v":6.2245010010889334},0,5.5098801384842977,22.792644162137872,13.70139128425819,{"$f":"$H$71*F227","v":4.4079041107874373},265.22254205348065]
["D",2.2999999999999998,"2.3 Sistema de Proteção Catódica e Demais Equipamentos de Controle de Corrosão",null,0,0,{"$f":"$H$50*F228","v":0},0,{"$f":"VLOOKUP(A228,$A$7:$AH$72,7,FALSE)","v":0},0,{"$f":"$H$46*F228","v":0},0,0,0,0,{"$f":"$H$71*F228","v":0},0]
["E",2.4,"2.4 Sistemas de Comunicação e de Supervisão e Controle",null,2671.4506079527719,3.7571843851497602E-2,{"$f":"$H$50*F229","v":31.311497354671044},0,{"$f":"VLOOKUP(A229,$A$7:$AH$72,7,FALSE)","v":0},0,{"$f":"$H$46*F229","v":79.136574905113449},0,70.051083969795897,289.77934001570088,174.19567889559008,{"$f":"$H$71*F229","v":56.040867175836709},3371.9656502694797]
[null,2.5,"2.5 Outros Componentes",null,0,0,{"$f":"$H$50*F230","v":0},0,0,0,{"$f":"$H$46*F230","v":0},0,0,0,0,{"$f":"$H$71*F230","v":0},0]
[null,3,"3 Complementos",null,15561.252014365067,0.2188567249108066,{"$f":"SUM(G232:G239)","v":182.39008418596788},0,0,0,460.97209582918828,0,408.04893352260473,1687.9703203632739,1014.6932348432972,326.43914681808377,19641.765829927481]
["F",3.1,"3.1 Estação(ões) de Recebimento ",null,107.90276181604828,1.5175671622110619E-3,{"$f":"$H$50*F232","v":1.2647050374455679},0,{"$f":"VLOOKUP(A232,$A$7:$AH$72,7,FALSE)/2","v":0},0,{"$f":"$H$46*F232","v":3.1964113307968298},0,2.8294385851817756,11.704499050756406,7.0359507277807696,{"$f":"$H$71*F232","v":2.2635508681454199},{"$f":"SUM(E232:P232)-F232","v":136.19731741615504}]
["F",3.2,"3.2 Estação(ões) de Entrega",null,3476.7597430425913,4.8897881093476134E-2,{"$f":"$H$50*F233","v":40.750352326569924},0,{"$f":"VLOOKUP(A233,$A$7:$AH$72,7,FALSE)/2","v":0},0,{"$f":"$H$46*F233","v":102.99230575826432},0,91.167992392464342,377.13335995536818,226.70698907672576,72.934393913971462,4388.4451364659553]
[null,3.3,"3.3 Estação(ões) de Interconexão",null,0,0,0,0,0,0,0,0,0,0,0,0,0]
[null,3.4,"3.4 Estação(ões) de Compressão",null,4775.5007415651498,6.7163647959898501E-2,55.972615923202675,0,0,0,141.46500445086139,0,125.22372768163001,518.01124415911477,311.3932150820591,100.17898214530399,6027.7455310073219]
[null,3.5,"3.5 Estação(ões) de Medição",null,2694.5795100483856,3.7897133600597217E-2,31.58258623598045,0,0,0,79.821724047573255,0,70.657572690944534,292.28819343211904,175.70383135428088,56.526058152755617,3401.1594759620393]
[null,3.6,"3.6 Estação(ões) de Regulagem de Pressão",null,0,0,0,0,0,0,0,0,0,0,0,0,0]
[null,3.7,"3.7 Sistema Elétrico",null,3749.7357632798225,5.2737073319985686E-2,43.949845482124388,0,0,0,111.07869418277579,0,98.326000876114762,406.74379360851992,244.50677284434744,78.660800700891798,4733.0016709745969]
[null,3.8,"3.8 Sistemas Auxiliares",null,756.77349461306756,1.0643421774637955E-2,8.8699791806448918,0,0,0,22.417956058916676,0,19.844201296269325,82.089230157395889,49.346475758103182,15.875361037015459,955.21669810141316]
[null,6,"6 Outros Bens e Instalações Diretamente Vinculados",null,9555.3582653435642,0.13438857062220944,{"$f":"SUM(G241:G245)","v":111.99629675261751},0,0,0,283.05907017687377,0,250.56169940571056,1036.4950800519468,623.07052025104724,{"$f":"SUM(P241:P245)","v":200.44935952456842},12060.990291506329]
[null,6.1,"6.1 Imóveis/Edificações/Terrenos e Benfeitorias",null,994.082890773381,1.3980991090157229E-2,{"$f":"$H$50*F241","v":11.651431515190019},0,0,0,{"$f":"$H$46*F241","v":29.447789494362283},0,26.06695547624912,107.83081040377709,64.82056734317176,{"$f":"$H$71*F241","v":20.853564380999295},{"$f":"SUM(E241:P241)-F241","v":1254.7540093871307}]
[null,6.2,"6.2 Móveis, Equipamentos e Instalações de Escritório",null,241.05936150393765,3.3903096177055636E-3,2.8254048708890345,0,0,0,7.1409189305035561,0,6.3210862009380087,26.148348943179201,15.718613328020867,5.056868960750406,304.27060273821871]
[null,6.3,"6.3 Equipamentos e Instalações de Processamento de Dados e de Comunicação",null,8320.2160130662451,0.11701726991434662,97.519460366538453,0,0,0,246.47036175200793,0,218.17365772852344,902.51592070499044,542.5313395798546,174.53892618281873,10501.965679380979]
[null,6.4,"6.4 Veículos",null,0,0,0,0,0,0,0,0,0,0,0,0,0]
[null,6.5,"6.5 Outros Bens Imobilizados",null,0,0,0,0,0,0,0,0,0,0,0,0,0]
[null,8,"8 Overhaul",null,39860.652027027027,0.56060860317609784,467.19811954755954,0,0,0,1180.7949828879086,0,1045.2305851822994,4323.7907534585438,2599.1696497768844,836.18446814583945,50313.020586026061]
[null,null,"Total Geral",null,{"$f":"E222+E225+E231+E240+E246","v":71102.462219093053},{"$f":"F222+F225+F231+F240+F246","v":1},833.37664977075588,385.12102754557657,0,385.12102754557657,2106.2733896664772,0,1864.456912114088,7712.6728504741823,4636.3356449605462,{"$f":"P222+P225+P231+P240+P246","v":1491.5655296912701},90517.385250861524]
[]
[]
[null,"N°","Projetos futuros",null,2024,"%","5.4 Custos de Compart.","4.1 Preparo da Faixa do Duto","4.2 Tubulação e Acessórios","4.3 Travessias e Cruzamen-tos","4.4 Testes, Inspeções e Ensaios Exigidos por Normas","4.5 Condiciona-mento e Comissiona-mento","7.1 Admin. da Obra","7.2 BDI","7.3 Projetos de Engenharia","7.4 Outros (Seguro, Consultoria etc.)","TOTAL 2024"]
[null,1,"1. Tubulações",null,{"$f":"VLOOKUP(B165,$B$7:$AH$73,8,FALSE)","v":3735.3812522531234},{"$f":"SUM(F252:F253)","v":7.0603632915632139E-2},162.09206352857791,4369.0230024920456,0,3991.2542854723392,100.4970793877183,0,221.38375468410143,903.86659373228133,539.01725799686915,{"$f":"SUM(P252:P253)","v":177.10700374728117},14199.62229329434]
["A",1.1000000000000001,"1.1 Linha Tronco",null,3735.3812522531234,{"$f":"E252/$E$276","v":7.0603632915632139E-2},{"$f":"$I$50*F252","v":162.09206352857791},{"$f":"$I$35","v":4369.0230024920456},{"$f":"VLOOKUP(A252,$A$7:$AH$72,8,FALSE)","v":0},{"$f":"$I$43","v":3991.2542854723392},{"$f":"$I$46*F252","v":100.4970793877183},{"$f":"$I$48*F252","v":0},{"$f":"$I$65*F252","v":221.38375468410143},{"$f":"$I$66*F252","v":903.86659373228133},{"$f":"$I$67*F252","v":539.01725799686915},{"$f":"$I$71*F252","v":177.10700374728117},{"$f":"SUM(E252:P252)-F252","v":14199.62229329434}]
[null,1.2,"1.2 Trecho(s)/Ramal(is)",null,0,0,{"$f":"$I$50*F253","v":0},0,0,0,{"$f":"$I$46*F253","v":0},{"$f":"$I$48*F253","v":0},{"$f":"$I$65*F253","v":0},{"$f":"$I$66*F253","v":0},{"$f":"$I$67*F253","v":0},{"$f":"$I$71*F253","v":0},0]
[null,2,"2 Componentes",null,3493.957546742799,6.6040406425511178E-2,{"$f":"SUM(G255:G259)","v":151.61579244185015},0,0,0,94.001791313947109,0,207.07536611910933,845.44824026053891,504.17970461965342,165.66029289528748,5461.9387343931849]
["B",2.1,"2.1 Lançadores e Recebedores de Pigs e Esferas ",null,0,0,{"$f":"$I$50*F255","v":0},0,{"$f":"VLOOKUP(A255,$A$7:$AH$72,8,FALSE)","v":0},0,0,0,0,0,0,{"$f":"$I$71*F255","v":0},{"$f":"SUM(E255:P255)-F255","v":0}]
["C",2.2000000000000002,"2.2 Válvulas",null,0,0,{"$f":"$I$50*F256","v":0},0,{"$f":"VLOOKUP(A256,$A$7:$AH$72,8,FALSE)","v":0},0,0,0,0,0,0,{"$f":"$I$71*F256","v":0},0]
["D",2.2999999999999998,"2.3 Sistema de Proteção Catódica e Demais Equipamentos de Controle de Corrosão",null,574.1804410679506,1.085276772325307E-2,{"$f":"$I$50*F257","v":24.915821503980268},0,{"$f":"VLOOKUP(A257,$A$7:$AH$72,8,FALSE)","v":0},0,15.447809332467767,0,34.029785268404133,138.93696102445907,82.854505615242928,{"$f":"$I$71*F257","v":27.223828214723309},897.58915202722801]
["E",2.4,"2.4 Sistemas de Comunicação e de Supervisão e Controle",null,2919.7771056748484,5.518763870225811E-2,{"$f":"$I$50*F258","v":126.69997093786989},0,{"$f":"VLOOKUP(A258,$A$7:$AH$72,8,FALSE)","v":0},0,78.553981981479339,0,173.04558085070519,706.51127923607987,421.32519900441048,{"$f":"$I$71*F258","v":138.43646468056417},4564.3495823659568]
[null,2.5,"2.5 Outros Componentes",null,0,0,{"$f":"$I$50*F259","v":0},0,0,0,0,0,0,0,0,{"$f":"$I$71*F259","v":0},0]
[null,3,"3 Complementos",null,23195.040439672641,0.43841686030792237,{"$f":"SUM(G261:G268)","v":1006.5189373179883},0,0,0,624.04174113715283,0,1374.6937182079994,5612.605722921463,3347.055160534821,1099.7549745663996,36259.710694358459]
["F",3.1,"3.1 Estação(ões) de Recebimento ",null,107.90276181604828,2.0395045301595132E-3,{"$f":"$I$50*F261","v":4.6823015221394346},0,{"$f":"VLOOKUP(A261,$A$7:$AH$72,8,FALSE)/2","v":0},0,2.9030269437264495,0,6.3950416138144508,26.109704790682031,15.570418888110426,{"$f":"$I$71*F261","v":5.1160332910515613},{"$f":"SUM(E261:P261)-F261","v":168.67928886557266}]
["F",3.2,"3.2 Estação(ões) de Entrega",null,2699.5154874506093,5.1024403576224592E-2,{"$f":"$I$50*F262","v":117.14200140194222},0,{"$f":"VLOOKUP(A262,$A$7:$AH$72,8,FALSE)/2","v":0},0,72.628040869204185,0,159.99139956041108,653.21360889139498,389.54134469889095,127.99311964832887,4220.0250025207815]
[null,3.3,"3.3 Estação(ões) de Interconexão",null,0,0,0,0,0,0,0,0,0,0,0,0,0]
[null,3.4,"3.4 Estação(ões) de Compressão",null,12306.367380206379,0.23260657650752767,534.01897918591851,0,0,0,331.09176709526946,0,729.35789767341782,2977.8257195181318,1775.8145563267005,583.4863181387343,19237.962618144549]
[null,3.5,"3.5 Estação(ões) de Medição",null,2694.5795100483856,5.0931107092398141E-2,116.92781101316349,0,0,0,72.495242828161366,0,159.69886042275786,652.01922877862967,388.8290808561369,127.7590883382063,4212.3088222854403]
[null,3.6,"3.6 Estação(ões) de Regulagem de Pressão",null,0,0,0,0,0,0,0,0,0,0,0,0,0]
[null,3.7,"3.7 Sistema Elétrico",null,4106.8479888220845,7.7624844229273307E-2,178.21138463572612,0,0,0,110.49105847415019,0,243.39936576323365,993.75203010237351,592.62008144673064,194.71949261058694,6420.0414018548845]
[null,3.8,"3.8 Sistemas Auxiliares",null,1279.8273113291314,2.4190424372339082E-2,55.536459559098581,0,0,0,34.432604926641119,0,75.851153174364597,309.68543084025129,184.67967831825135,60.680922539491689,2000.6935606872296]
[null,6,"6 Outros Bens e Instalações Diretamente Vinculados",null,19943.329186276052,0.37695522836768541,{"$f":"SUM(G270:G274)","v":865.41511110366912},0,0,0,536.55736888427487,0,1181.9754927279996,4825.7748813211119,2877.8317091010022,{"$f":"SUM(P270:P274)","v":945.5803941823998},31176.46414359651]
[null,6.1,"6.1 Imóveis/Edificações/Terrenos e Benfeitorias",null,11357.798792688383,0.21467737897032219,{"$f":"$I$50*F270","v":492.85706575166398},0,0,0,305.57138076603167,0,673.13935897580529,2748.2964157545134,1638.9356664523382,{"$f":"$I$71*F270","v":538.51148718064428},{"$f":"SUM(E270:P270)-F270","v":17755.110167569379}]
[null,6.2,"6.2 Móveis, Equipamentos e Instalações de Escritório",null,241.05936150393765,4.5563399078031681E-3,10.460460847332779,0,0,0,6.4854857253463232,0,14.286795094691859,58.330191553651353,34.78497836705521,11.429436075753488,376.83670916776856]
[null,6.3,"6.3 Equipamentos e Instalações de Processamento de Dados e de Comunicação",null,8344.4710320837312,0.15772150948956007,362.09758450467234,0,0,0,224.50050239289683,0,494.5493386575024,2019.1482740129472,1204.1110642816088,395.63947092600199,13044.51726685936]
[null,6.4,"6.4 Veículos",null,0,0,0,0,0,0,0,0,0,0,0,0,0]
[null,6.5,"6.5 Outros Bens Imobilizados",null,0,0,0,0,0,0,0,0,0,0,0,0,0]
[null,8,"8 Overhaul",null,2538.6520270270271,4.7983871983248848E-2,110.16153850255857,0,0,0,68.300153871586318,0,150.45755161956995,614.28877144907278,366.32867228503596,120.36604129565598,3968.554756050507]
[null,null,"Total Geral",null,{"$f":"E251+E254+E260+E269+E275","v":52906.360451971646},{"$f":"F251+F254+F260+F269+F275","v":1},2295.8034428946439,4369.0230024920456,0,3991.2542854723392,1423.3981345946795,0,3135.5858833587799,12801.984209684468,7634.4125045373821,{"$f":"P251+P254+P260+P269+P275","v":2508.4687066870242},91066.290621692999]
[]
[]
[null,"N°","Projetos futuros",null,2025,"%","5.4 Custos de Compart.","4.1 Preparo da Faixa do Duto","4.2 Tubulação e Acessórios","4.3 Travessias e Cruzamen-tos","4.4 Testes, Inspeções e Ensaios Exigidos por Normas","4.5 Condiciona-mento e Comissiona-mento","7.1 Admin. da Obra","7.2 BDI","7.3 Projetos de Engenharia","7.4 Outros (Seguro, Consultoria etc.)","TOTAL 2025"]
[null,1,"1. Tubulações",null,{"$f":"VLOOKUP(B165,$B$7:$AH$73,9,FALSE)","v":6116.0203718713328},{"$f":"SUM(F281:F282)","v":9.4051649234892704E-2},0,0,0,0,0,0,0,0,71.254953040717425,{"$f":"SUM(P281:P282)","v":0},6187.2753249120506]
["A",1.1000000000000001,"1.1 Linha Tronco",null,6116.0203718713328,{"$f":"E281/$E$305","v":9.4051649234892704E-2},{"$f":"$J$50*F281","v":0},{"$f":"$J$35","v":0},{"$f":"VLOOKUP(A281,$A$7:$AH$72,10,FALSE)","v":0},{"$f":"$J$43","v":0},{"$f":"$J$46*F281","v":0},{"$f":"$J$48*F281","v":0},{"$f":"$J$65*F281","v":0},{"$f":"$J$66*F281","v":0},{"$f":"$J$67*F281","v":71.254953040717425},{"$f":"$J$71*F281","v":0},{"$f":"SUM(E281:P281)-F281","v":6187.2753249120506}]
[null,1.2,"1.2 Trecho(s)/Ramal(is)",null,0,0,{"$f":"$J$50*F282","v":0},0,0,0,{"$f":"$J$46*F282","v":0},{"$f":"$J$48*F282","v":0},{"$f":"$J$65*F282","v":0},{"$f":"$J$66*F282","v":0},{"$f":"$J$67*F282","v":0},{"$f":"$J$71*F282","v":0},0]
[null,2,"2 Componentes",null,13020.768780341265,0.20023229218293087,{"$f":"SUM(G284:G288)","v":0},0,0,0,0,0,0,0,151.69901530484549,0,13172.467795646109]
["B",2.1,"2.1 Lançadores e Recebedores de Pigs e Esferas ",null,0,0,{"$f":"$J$50*F284","v":0},0,{"$f":"VLOOKUP(A284,$A$7:$AH$72,10,FALSE)","v":0},0,0,0,0,0,0,{"$f":"$J$71*F284","v":0},{"$f":"SUM(E284:P284)-F284","v":0}]
["C",2.2000000000000002,"2.2 Válvulas",null,0,0,{"$f":"$J$50*F285","v":0},0,{"$f":"VLOOKUP(A285,$A$7:$AH$72,10,FALSE)","v":0},0,0,0,0,0,0,{"$f":"$J$71*F285","v":0},0]
["D",2.2999999999999998,"2.3 Sistema de Proteção Catódica e Demais Equipamentos de Controle de Corrosão",null,941.27941158680414,1.4474915985850602E-2,{"$f":"$J$50*F286","v":0},0,{"$f":"VLOOKUP(A286,$A$7:$AH$72,10,FALSE)","v":0},0,0,0,0,0,10.966415445455757,{"$f":"$J$71*F286","v":0},952.24582703225985]
["E",2.4,"2.4 Sistemas de Comunicação e de Supervisão e Controle",null,5739.5086072366112,8.8261682840552469E-2,{"$f":"$J$50*F287","v":0},0,{"$f":"VLOOKUP(A287,$A$7:$AH$72,10,FALSE)","v":0},0,0,0,0,0,66.868386862535118,{"$f":"$J$71*F287","v":0},5806.376994099146]
[null,2.5,"2.5 Outros Componentes",null,6339.9807615178488,9.7495693356527816E-2,{"$f":"$J$50*F288","v":0},0,0,0,0,0,0,0,73.864212996854633,{"$f":"$J$71*F288","v":0},6413.8449745147036]
[null,3,"3 Complementos",null,15216.585219505701,0.23399937354687267,{"$f":"SUM(G290:G297)","v":0},0,0,0,0,0,0,0,177.2814672499531,0,15393.866686755655]
["F",3.1,"3.1 Estação(ões) de Recebimento ",null,0,0,{"$f":"$J$50*F290","v":0},0,{"$f":"VLOOKUP(A290,$A$7:$AH$72,10,FALSE)/2","v":0},0,0,0,0,0,0,{"$f":"$J$71*F290","v":0},{"$f":"SUM(E290:P290)-F290","v":0}]
["F",3.2,"3.2 Estação(ões) de Entrega",null,1572.6253583828313,2.4183701098311375E-2,{"$f":"$J$50*F291","v":0},0,{"$f":"VLOOKUP(A291,$A$7:$AH$72,10,FALSE)/2","v":0},0,0,0,0,0,18.321938000334622,0,1590.9472963831658]
[null,3.3,"3.3 Estação(ões) de Interconexão",null,0,0,0,0,0,0,0,0,0,0,0,0,0]
[null,3.4,"3.4 Estação(ões) de Compressão",null,9252.0878748654159,0.14227783273897054,0,0,0,0,0,0,0,0,107.79183962240658,0,9359.8797144878226]
[null,3.5,"3.5 Estação(ões) de Medição",null,0,0,0,0,0,0,0,0,0,0,0,0,0]
[null,3.6,"3.6 Estação(ões) de Regulagem de Pressão",null,0,0,0,0,0,0,0,0,0,0,0,0,0]
[null,3.7,"3.7 Sistema Elétrico",null,459.16068857892884,7.0609346272441963E-3,0,0,0,0,0,0,0,0,5.349470949002809,0,464.51015952793165]
[null,3.8,"3.8 Sistemas Auxiliares",null,3932.7112976785256,6.0476905082346544E-2,0,0,0,0,0,0,0,0,45.818218678209057,0,{"$f":"SUM(E297:P297)-F297","v":3978.5295163567348}]
[null,6,"6 Outros Bens e Instalações Diretamente Vinculados",null,21138.573619535549,0.32506721536347744,{"$f":"SUM(G299:G303)","v":0},0,0,0,0,0,0,0,246.2758426272033,{"$f":"SUM(P299:P303)","v":0},21384.849462162754]
[null,6.1,"6.1 Imóveis/Edificações/Terrenos e Benfeitorias",null,7679.3477263104405,0.11809236640700238,{"$f":"$J$50*F299","v":0},0,0,0,0,0,0,0,89.468564254334737,{"$f":"$J$71*F299","v":0},{"$f":"SUM(E299:P299)-F299","v":7768.816290564775}]
[null,6.2,"6.2 Móveis, Equipamentos e Instalações de Escritório",null,298.45444757630378,4.5896075077087282E-3,0,0,0,0,0,0,0,0,3.4771561168518264,0,301.93160369315558]
[null,6.3,"6.3 Equipamentos e Instalações de Processamento de Dados e de Comunicação",null,13160.771445648805,0.2023852414487663,0,0,0,0,0,0,0,0,153.33012225601672,0,13314.101567904821]
[null,6.4,"6.4 Veículos",null,0,0,0,0,0,0,0,0,0,0,0,0,0]
[null,6.5,"6.5 Outros Bens Imobilizados",null,0,0,0,0,0,0,0,0,0,0,0,0,0]
[null,8,"8 Overhaul",null,9536.3680630096605,0.14664946967182646,0,0,0,0,0,0,0,0,111.10385793251346,0,9647.4719209421746]
[null,null,"Total Geral",null,{"$f":"E280+E283+E289+E298+E304","v":65028.316054263501},{"$f":"F280+F283+F289+F298+F304","v":1},0,0,0,0,0,0,0,0,757.61513615523279,{"$f":"P280+P283+P289+P298+P304","v":0},65785.931190418749]
[]
[]
[null,"N°","Projetos futuros",null,2026,"%","5.4 Custos de Compart.","4.1 Preparo da Faixa do Duto","4.2 Tubulação e Acessórios","4.3 Travessias e Cruzamen-tos","4.4 Testes, Inspeções e Ensaios Exigidos por Normas","4.5 Condiciona-mento e Comissiona-mento","7.1 Admin. da Obra","7.2 BDI","7.3 Projetos de Engenharia",null,"TOTAL 2026"]
[null,1,"1. Tubulações",null,{"$f":"VLOOKUP(B165,$B$7:$AH$73,10,FALSE)","v":0},{"$f":"SUM(F310:F311)","v":0},0,0,0,0,0,0,0,0,0,null,0]
["A",1.1000000000000001,"1.1 Linha Tronco",null,0,{"$f":"E310/$E$334","v":0},{"$f":"$K$50*F310","v":0},{"$f":"$K$35","v":0},{"$f":"VLOOKUP(A310,$A$7:$AH$72,11,FALSE)","v":0},{"$f":"$K$43","v":0},{"$f":"$K$46*F310","v":0},{"$f":"$K$48*F310","v":0},{"$f":"$K$65*F310","v":0},{"$f":"$K$66*F310","v":0},{"$f":"$K$67*F310","v":0},null,{"$f":"SUM(E310:O310)-F310","v":0}]
[null,1.2,"1.2 Trecho(s)/Ramal(is)",null,0,0,{"$f":"$K$50*F311","v":0},0,0,0,{"$f":"$K$46*F311","v":0},{"$f":"$K$48*F311","v":0},{"$f":"$K$65*F311","v":0},{"$f":"$K$66*F311","v":0},{"$f":"$K$67*F311","v":0},null,{"$f":"SUM(E311:O311)-F311","v":0}]
[null,2,"2 Componentes",null,5532.8862973760934,5.4090600755641247E-2,{"$f":"SUM(G313:G317)","v":330.81921614826069},0,0,0,0,0,0,0,63.953414533166018,null,5927.6589280575199]
["B",2.1,"2.1 Lançadores e Recebedores de Pigs e Esferas ",null,0,0,{"$f":"$K$50*F313","v":0},0,{"$f":"VLOOKUP(A313,$A$7:$AH$72,11,FALSE)","v":0},0,0,0,0,0,0,null,{"$f":"SUM(E313:O313)-F313","v":0}]
["C",2.2000000000000002,"2.2 Válvulas",null,0,0,{"$f":"$K$50*F314","v":0},0,{"$f":"VLOOKUP(A314,$A$7:$AH$72,11,FALSE)","v":0},0,0,0,0,0,0,null,{"$f":"SUM(E314:O314)-F314","v":0}]
["D",2.2999999999999998,"2.3 Sistema de Proteção Catódica e Demais Equipamentos de Controle de Corrosão",null,941.27941158680414,9.2021353982626175E-3,{"$f":"$K$50*F315","v":56.28044756049249},0,{"$f":"VLOOKUP(A315,$A$7:$AH$72,11,FALSE)","v":0},0,0,0,0,0,10.880041476596707,null,{"$f":"SUM(E315:O315)-F315","v":1008.4399006238933}]
["E",2.4,"2.4 Sistemas de Comunicação e de Supervisão e Controle",null,0,0,{"$f":"$K$50*F316","v":0},0,{"$f":"VLOOKUP(A316,$A$7:$AH$72,11,FALSE)","v":0},0,0,0,0,0,0,null,{"$f":"SUM(E316:O316)-F316","v":0}]
[null,2.5,"2.5 Outros Componentes",null,4591.6068857892888,4.4888465357378622E-2,{"$f":"$K$50*F317","v":274.53876858776823},0,0,0,0,0,0,0,53.073373056569309,null,{"$f":"SUM(E317:O317)-F317","v":4919.2190274336263}]
[null,3,"3 Complementos",null,15505.856453310427,0.15158834751186762,{"$f":"SUM(G319:G326)","v":927.11742152089357},0,0,0,0,0,0,0,179.22878081203459,null,16612.202655643356]
["F",3.1,"3.1 Estação(ões) de Recebimento ",null,0,0,{"$f":"$K$50*F319","v":0},0,{"$f":"VLOOKUP(A319,$A$7:$AH$72,11,FALSE)/2","v":0},0,0,0,0,0,0,null,{"$f":"SUM(E319:O319)-F319","v":0}]
["F",3.2,"3.2 Estação(ões) de Entrega",null,1572.6253583828313,1.5374299384902179E-2,{"$f":"$K$50*F320","v":94.029528241310629},0,{"$f":"VLOOKUP(A320,$A$7:$AH$72,11,FALSE)/2","v":0},0,0,0,0,0,18.177630271874989,null,1684.8325168960168]
[null,3.3,"3.3 Estação(ões) de Interconexão",null,0,0,0,0,0,0,0,0,0,0,0,null,0]
[null,3.4,"3.4 Estação(ões) de Compressão",null,11146.125715253498,0.10896674965503661,666.44286074680747,0,0,0,0,0,0,0,128.83561309482201,null,11941.404189095127]
[null,3.5,"3.5 Estação(ões) de Medição",null,0,0,0,0,0,0,0,0,0,0,0,null,0]
[null,3.6,"3.6 Estação(ões) de Regulagem de Pressão",null,0,0,0,0,0,0,0,0,0,0,0,null,0]
[null,3.7,"3.7 Sistema Elétrico",null,1090.506635374956,1.0661010522377423E-2,65.202957539594962,0,0,0,0,0,0,0,12.604926100935211,null,1168.3145190154862]
[null,3.8,"3.8 Sistemas Auxiliares",null,1696.5987442991423,1.6586287949551404E-2,101.44207499318038,0,0,0,0,0,0,0,19.610611344402365,null,1817.6514306367249]
[null,6,"6 Outros Bens e Instalações Diretamente Vinculados",null,11862.530748208974,0.11597046824497108,{"$f":"SUM(G328:G332)","v":709.27774632170053},0,0,0,0,0,0,0,137.11638113951793,null,12708.924875670193]
[null,6.1,"6.1 Imóveis/Edificações/Terrenos e Benfeitorias",null,3267.2152746694405,3.1940948630859729E-2,{"$f":"$K$50*F328","v":195.35149252323387},0,0,0,0,0,0,0,37.765022015565101,null,{"$f":"SUM(E328:O328)-F328","v":3500.3317892082396}]
[null,6.2,"6.2 Móveis, Equipamentos e Instalações de Escritório",null,241.05936150393765,2.3566444312623776E-3,14.413285350857832,0,0,0,0,0,0,0,2.7863520854698884,null,258.25899894026537]
[null,6.3,"6.3 Equipamentos e Instalações de Processamento de Dados e de Comunicação",null,8354.2561120355949,8.1672875182848964E-2,499.5129684476089,0,0,0,0,0,0,0,96.565007038482946,null,8950.3340875216873]
[null,6.4,"6.4 Veículos",null,0,0,0,0,0,0,0,0,0,0,0,null,0]
[null,6.5,"6.5 Outros Bens Imobilizados",null,0,0,0,0,0,0,0,0,0,0,0,null,0]
[null,8,"8 Overhaul",null,69387.963819273034,0.67835058348752009,4148.8059878804779,0,0,0,0,0,0,0,802.0401966060233,null,74338.810003759529]
[null,null,"Total Geral",null,{"$f":"E309+E312+E318+E327+E333","v":102289.23731816853},{"$f":"F309+F312+F318+F327+F333","v":1},6116.0203718713328,0,0,0,0,0,0,0,1182.3387730907418,null,109587.5964631306]
[]
[null,"N°","Projetos futuros",null,2027,"%","5.4 Custos de Compart.","4.1 Preparo da Faixa do Duto","4.2 Tubulação e Acessórios","4.3 Travessias e Cruzamen-tos","4.4 Testes, Inspeções e Ensaios Exigidos por Normas","4.5 Condiciona-mento e Comissiona-mento","7.1 Admin. da Obra","7.2 BDI","7.3 Projetos de Engenharia",null,"TOTAL 2027"]
[null,1,"1. Tubulações",null,{"$f":"VLOOKUP(B165,$B$7:$AH$73,11,FALSE)","v":0},{"$f":"SUM(F338:F339)","v":0},0,0,0,918.32137715785768,0,0,0,0,0,null,918.32137715785768]
["A",1.1000000000000001,"1.1 Linha Tronco",null,0,{"$f":"E338/$E$362","v":0},{"$f":"$L$50*F338","v":0},{"$f":"$L$35","v":0},{"$f":"VLOOKUP(A338,$A$7:$AH$72,12,FALSE)","v":0},{"$f":"$L$43","v":918.32137715785768},{"$f":"$L$46*F338","v":0},{"$f":"$L$48*F338","v":0},{"$f":"$L$65*F338","v":0},{"$f":"$L$66*F338","v":0},{"$f":"$L$67*F338","v":0},null,{"$f":"SUM(E338:O338)-F338","v":918.32137715785768}]
[null,1.2,"1.2 Trecho(s)/Ramal(is)",null,0,0,{"$f":"$L$50*F339","v":0},0,0,0,{"$f":"$L$46*F339","v":0},{"$f":"$L$48*F339","v":0},{"$f":"$L$65*F339","v":0},{"$f":"$L$66*F339","v":0},{"$f":"$L$67*F339","v":0},null,{"$f":"SUM(E339:O339)-F339","v":0}]
[null,2,"2 Componentes",null,7281.2601731046525,0.16385329422415765,{"$f":"SUM(G341:G345)","v":0},0,0,0,0,0,0,0,124.13773581311858,null,7405.3979089177719]
["B",2.1,"2.1 Lançadores e Recebedores de Pigs e Esferas ",null,0,0,{"$f":"$L$50*F341","v":0},0,{"$f":"VLOOKUP(A341,$A$7:$AH$72,12,FALSE)","v":0},0,0,0,0,0,0,null,{"$f":"SUM(E341:O341)-F341","v":0}]
["C",2.2000000000000002,"2.2 Válvulas",null,0,0,{"$f":"$L$50*F342","v":0},0,{"$f":"VLOOKUP(A342,$A$7:$AH$72,12,FALSE)","v":0},0,0,0,0,0,0,null,{"$f":"SUM(E342:O342)-F342","v":0}]
["D",2.2999999999999998,"2.3 Sistema de Proteção Catódica e Demais Equipamentos de Controle de Corrosão",null,941.27941158680414,2.1182010902943992E-2,{"$f":"$L$50*F343","v":0},0,{"$f":"VLOOKUP(A343,$A$7:$AH$72,12,FALSE)","v":0},0,0,0,0,0,16.047812074275534,null,{"$f":"SUM(E343:O343)-F343","v":957.32722366107964}]
["E",2.4,"2.4 Sistemas de Comunicação e de Supervisão e Controle",null,0,0,{"$f":"$L$50*F344","v":0},0,{"$f":"VLOOKUP(A344,$A$7:$AH$72,12,FALSE)","v":0},0,0,0,0,0,0,null,{"$f":"SUM(E344:O344)-F344","v":0}]
[null,2.5,"2.5 Outros Componentes",null,6339.9807615178488,0.14267128332121365,{"$f":"$L$50*F345","v":0},0,0,0,0,0,0,0,108.08992373884305,null,{"$f":"SUM(E345:O345)-F345","v":6448.0706852566918}]
[null,3,"3 Complementos",null,9929.3498905193374,0.22344438330544578,{"$f":"SUM(G347:G354)","v":0},0,0,0,0,0,0,0,169.28484688107727,null,10098.634737400413]
["F",3.1,"3.1 Estação(ões) de Recebimento ",null,0,0,{"$f":"$L$50*F347","v":0},0,{"$f":"VLOOKUP(A347,$A$7:$AH$72,12,FALSE)/2","v":0},0,0,0,0,0,0,null,{"$f":"SUM(E347:O347)-F347","v":0}]
["F",3.2,"3.2 Estação(ões) de Entrega",null,539.51380908024146,1.2140908688272776E-2,{"$f":"$L$50*F348","v":0},0,{"$f":"VLOOKUP(A348,$A$7:$AH$72,12,FALSE)/2","v":0},0,0,0,0,0,9.1981361889140274,null,548.71194526915554]
[null,3.3,"3.3 Estação(ões) de Interconexão",null,0,0,0,0,0,0,0,0,0,0,0,null,0]
[null,3.4,"3.4 Estação(ões) de Compressão",null,7695.5331405828474,0.1731758549918738,0,0,0,0,0,0,0,0,131.2006489584673,null,7826.7337895413148]
[null,3.5,"3.5 Estação(ões) de Medição",null,0,0,0,0,0,0,0,0,0,0,0,null,0]
[null,3.6,"3.6 Estação(ões) de Regulagem de Pressão",null,0,0,0,0,0,0,0,0,0,0,0,null,0]
[null,3.7,"3.7 Sistema Elétrico",null,459.16068857892884,1.0332688245338532E-2,0,0,0,0,0,0,0,0,7.828201011841724,null,466.98888959077055]
[null,3.8,"3.8 Sistemas Auxiliares",null,1235.1422522773187,2.7794931379960652E-2,0,0,0,0,0,0,0,0,21.057860721854237,null,1256.2001129991729]
[null,6,"6 Outros Bens e Instalações Diretamente Vinculados",null,9773.623196591454,0.21993999928508451,{"$f":"SUM(G356:G360)","v":0},0,0,0,0,0,0,0,166.62987250435108,null,9940.2530690958047]
[null,6.1,"6.1 Imóveis/Edificações/Terrenos e Benfeitorias",null,964.23744601575061,2.1698645315210915E-2,{"$f":"$L$50*F356","v":0},0,0,0,0,0,0,0,16.439222124867619,null,{"$f":"SUM(E356:O356)-F356","v":980.67666814061818}]
[null,6.2,"6.2 Móveis, Equipamentos e Instalações de Escritório",null,241.05936150393765,5.4246613288027289E-3,0,0,0,0,0,0,0,0,4.1098055312169048,null,245.16916703515454]
[null,6.3,"6.3 Equipamentos e Instalações de Processamento de Dados e de Comunicação",null,8568.3263890717662,0.19281669264107087,0,0,0,0,0,0,0,0,146.08084484826657,null,8714.407233920032]
[null,6.4,"6.4 Veículos",null,0,0,0,0,0,0,0,0,0,0,0,null,0]
[null,6.5,"6.5 Outros Bens Imobilizados",null,0,0,0,0,0,0,0,0,0,0,0,null,0]
[null,8,"8 Overhaul",null,17453.446235831841,0.39276232318531212,0,0,0,0,0,0,0,0,297.56268095668577,null,17751.008916788527]
[null,null,"Total Geral",null,{"$f":"E337+E340+E346+E355+E361","v":44437.679496047283},{"$f":"F337+F340+F346+F355+F361","v":1},0,0,0,918.32137715785768,0,0,0,0,757.61513615523268,null,46113.616009360376]
[]
[]
[null,"N°","Projetos futuros",null,2028,"%","5.4 Custos de Compart.","4.1 Preparo da Faixa do Duto","4.2 Tubulação e Acessórios","4.3 Travessias e Cruzamen-tos","4.4 Testes, Inspeções e Ensaios Exigidos por Normas","4.5 Condiciona-mento e Comissiona-mento","7.1 Admin. da Obra","7.2 BDI","7.3 Projetos de Engenharia",null,"TOTAL 2028"]
[null,1,"1. Tubulações",null,{"$f":"VLOOKUP(B165,$B$7:$AH$73,12,FALSE)","v":0},{"$f":"SUM(F367:F368)","v":0},0,0,0,0,0,0,0,0,0,null,0]
["A",1.1000000000000001,"1.1 Linha Tronco",null,0,{"$f":"E367/$E$391","v":0},{"$f":"$M$50*F367","v":0},{"$f":"$M$35","v":0},{"$f":"VLOOKUP(A367,$A$7:$AH$72,13,FALSE)","v":0},{"$f":"$M$43","v":0},{"$f":"$M$46*F367","v":0},{"$f":"$M$48*F367","v":0},{"$f":"$M$65*F367","v":0},{"$f":"$M$66*F367","v":0},{"$f":"$M$67*F367","v":0},null,{"$f":"SUM(E367:O367)-F367","v":0}]
[null,1.2,"1.2 Trecho(s)/Ramal(is)",null,0,0,{"$f":"$M$50*F368","v":0},0,0,0,{"$f":"$M$46*F368","v":0},{"$f":"$M$48*F368","v":0},{"$f":"$M$65*F368","v":0},{"$f":"$M$66*F368","v":0},{"$f":"$M$67*F368","v":0},null,{"$f":"SUM(E368:O368)-F368","v":0}]
[null,2,"2 Componentes",null,4591.6068857892888,9.6317412246402986E-2,{"$f":"SUM(G370:G374)","v":212.17024985683196},0,0,0,0,0,0,0,113.87981102268729,null,4917.6569466688079]
["B",2.1,"2.1 Lançadores e Recebedores de Pigs e Esferas ",null,0,0,{"$f":"$M$50*F370","v":0},0,{"$f":"VLOOKUP(A370,$A$7:$AH$72,13,FALSE)","v":0},0,0,0,0,0,0,null,{"$f":"SUM(E370:O370)-F370","v":0}]
["C",2.2000000000000002,"2.2 Válvulas",null,0,0,{"$f":"$M$50*F371","v":0},0,{"$f":"VLOOKUP(A371,$A$7:$AH$72,13,FALSE)","v":0},0,0,0,0,0,0,null,{"$f":"SUM(E371:O371)-F371","v":0}]
["D",2.2999999999999998,"2.3 Sistema de Proteção Catódica e Demais Equipamentos de Controle de Corrosão",null,0,0,{"$f":"$M$50*F372","v":0},0,{"$f":"VLOOKUP(A372,$A$7:$AH$72,13,FALSE)","v":0},0,0,0,0,0,0,null,{"$f":"SUM(E372:O372)-F372","v":0}]
["E",2.4,"2.4 Sistemas de Comunicação e de Supervisão e Controle",null,0,0,{"$f":"$M$50*F373","v":0},0,{"$f":"VLOOKUP(A373,$A$7:$AH$72,13,FALSE)","v":0},0,0,0,0,0,0,null,{"$f":"SUM(E373:O373)-F373","v":0}]
[null,2.5,"2.5 Outros Componentes",null,4591.6068857892888,9.6317412246402986E-2,{"$f":"$M$50*F374","v":212.17024985683196},0,0,0,0,0,0,0,113.87981102268729,null,{"$f":"SUM(E374:O374)-F374","v":4917.6569466688079}]
[null,3,"3 Complementos",null,15186.739774748072,0.31856984100497787,{"$f":"SUM(G376:G383)","v":701.75310140147167},0,0,0,0,0,0,0,376.65747495753828,null,16265.150351107082]
["F",3.1,"3.1 Estação(ões) de Recebimento ",null,0,0,{"$f":"$M$50*F376","v":0},0,{"$f":"VLOOKUP(A376,$A$7:$AH$72,13,FALSE)/2","v":0},0,0,0,0,0,0,null,{"$f":"SUM(E376:O376)-F376","v":0}]
["F",3.2,"3.2 Estação(ões) de Entrega",null,539.51380908024146,1.1317295938952351E-2,{"$f":"$M$50*F377","v":24.930004358177754},0,{"$f":"VLOOKUP(A377,$A$7:$AH$72,13,FALSE)/2","v":0},0,0,0,0,0,13.380877795165759,null,577.82469123358499]
[null,3.3,"3.3 Estação(ões) de Interconexão",null,0,0,0,0,0,0,0,0,0,0,0,null,0]
[null,3.4,"3.4 Estação(ões) de Compressão",null,9963.7869421627565,0.20900878457469449,460.40944218932538,0,0,0,0,0,0,0,247.11918991923145,null,10671.315574271313]
[null,3.5,"3.5 Estação(ões) de Medição",null,0,0,0,0,0,0,0,0,0,0,0,null,0]
[null,3.6,"3.6 Estação(ões) de Regulagem de Pressão",null,0,0,0,0,0,0,0,0,0,0,0,null,0]
[null,3.7,"3.7 Sistema Elétrico",null,1090.506635374956,2.2875385408520708E-2,50.390434340997587,0,0,0,0,0,0,0,27.046455117888232,null,1167.9435248338418]
[null,3.8,"3.8 Sistemas Auxiliares",null,3592.9323881301184,7.5368375082810343E-2,166.02322051297102,0,0,0,0,0,0,0,89.110952125252822,null,3848.0665607683422]
[null,6,"6 Outros Bens e Instalações Diretamente Vinculados",null,10136.77907440032,0.21263761320278934,{"$f":"SUM(G385:G389)","v":468.40311081842896},0,0,0,0,0,0,0,251.40969470712969,null,10856.591879925878]
[null,6.1,"6.1 Imóveis/Edificações/Terrenos e Benfeitorias",null,1090.506635374956,2.2875385408520708E-2,{"$f":"$M$50*F385","v":50.390434340997587},0,0,0,0,0,0,0,27.046455117888232,null,{"$f":"SUM(E385:O385)-F385","v":1167.9435248338418}]
[null,6.2,"6.2 Móveis, Equipamentos e Instalações de Escritório",null,241.05936150393765,5.0566641429361566E-3,11.138938117483677,0,0,0,0,0,0,0,5.9786900786910833,null,258.17698970011241]
[null,6.3,"6.3 Equipamentos e Instalações de Processamento de Dados e de Comunicação",null,8805.2130775214264,0.18470556365133248,406.87373835994771,0,0,0,0,0,0,0,218.38454951055036,null,9430.4713653919243]
[null,6.4,"6.4 Veículos",null,0,0,0,0,0,0,0,0,0,0,0,null,0]
[null,6.5,"6.5 Outros Bens Imobilizados",null,0,0,0,0,0,0,0,0,0,0,0,null,0]
[null,8,"8 Overhaul",null,17756.492290293932,0.37247513354582984,820.49694138067866,0,0,0,0,0,0,0,440.39179240338666,null,19017.381024077997]
[null,null,"Total Geral",null,{"$f":"E366+E369+E375+E384+E390","v":47671.618025231612},{"$f":"F366+F369+F375+F384+F390","v":1},2202.8234034574116,0,0,0,0,0,0,0,1182.3387730907421,null,51056.780201779766]
[]
[]
[null,"N°","Projetos futuros",null,2029,"%","5.4 Custos de Compart.","4.1 Preparo da Faixa do Duto","4.2 Tubulação e Acessórios","4.3 Travessias e Cruzamen-tos","4.4 Testes, Inspeções e Ensaios Exigidos por Normas","4.5 Condiciona-mento e Comissiona-mento","7.1 Admin. da Obra","7.2 BDI","7.3 Projetos de Engenharia",null,"TOTAL 2029"]
[null,1,"1. Tubulações",null,{"$f":"VLOOKUP(B165,$B$7:$AH$73,13,FALSE)","v":773},{"$f":"SUM(F396:F397)","v":1.6139342969647103E-2},0,0,0,0,0,0,0,0,12.227410521405186,null,785.2274105214052]
["A",1.1000000000000001,"1.1 Linha Tronco",null,0,{"$f":"E396/$E$420","v":0},{"$f":"$N$50*F396","v":0},{"$f":"$N$35","v":0},{"$f":"VLOOKUP(A396,$A$7:$AH$72,14,FALSE)","v":0},{"$f":"$N$43","v":0},{"$f":"$N$46*F396","v":0},{"$f":"$N$48*F396","v":0},{"$f":"$N$65*F396","v":0},{"$f":"$N$66*F396","v":0},{"$f":"$N$67*F396","v":0},null,{"$f":"SUM(E396:O396)-F396","v":0}]
[null,1.2,"1.2 Trecho(s)/Ramal(is)",null,773,1.6139342969647103E-2,{"$f":"$N$50*F397","v":0},0,0,0,{"$f":"$N$46*F397","v":0},{"$f":"$N$48*F397","v":0},{"$f":"$N$65*F397","v":0},{"$f":"$N$66*F397","v":0},{"$f":"$N$67*F397","v":12.227410521405186},null,{"$f":"SUM(E397:O397)-F397","v":785.2274105214052}]
[null,2,"2 Componentes",null,7097.5958976730817,0.14818956591527319,{"$f":"SUM(G399:G403)","v":0},0,0,0,0,0,0,0,112.27065815768454,null,7209.8665558307657]
["B",2.1,"2.1 Lançadores e Recebedores de Pigs e Esferas ",null,0,0,{"$f":"$N$50*F399","v":0},0,{"$f":"VLOOKUP(A399,$A$7:$AH$72,14,FALSE)","v":0},0,0,0,0,0,0,null,{"$f":"SUM(E399:O399)-F399","v":0}]
["C",2.2000000000000002,"2.2 Válvulas",null,0,0,{"$f":"$N$50*F400","v":0},0,{"$f":"VLOOKUP(A400,$A$7:$AH$72,14,FALSE)","v":0},0,0,0,0,0,0,null,{"$f":"SUM(E400:O400)-F400","v":0}]
["D",2.2999999999999998,"2.3 Sistema de Proteção Catódica e Demais Equipamentos de Controle de Corrosão",null,757.61513615523268,1.5818124865983427E-2,{"$f":"$N$50*F401","v":0},0,{"$f":"VLOOKUP(A401,$A$7:$AH$72,14,FALSE)","v":0},0,0,0,0,0,11.984050824062505,null,{"$f":"SUM(E401:O401)-F401","v":769.59918697929515}]
["E",2.4,"2.4 Sistemas de Comunicação e de Supervisão e Controle",null,0,0,{"$f":"$N$50*F402","v":0},0,{"$f":"VLOOKUP(A402,$A$7:$AH$72,14,FALSE)","v":0},0,0,0,0,0,0,null,{"$f":"SUM(E402:O402)-F402","v":0}]
[null,2.5,"2.5 Outros Componentes",null,6339.9807615178488,0.13237144104928977,{"$f":"$N$50*F403","v":0},0,0,0,0,0,0,0,100.28660733362203,null,{"$f":"SUM(E403:O403)-F403","v":6440.2673688514706}]
[null,3,"3 Complementos",null,11037.075051716001,0.23044131907034943,{"$f":"SUM(G405:G412)","v":0},0,0,0,0,0,0,0,174.58583132327419,null,11211.660883039278]
["F",3.1,"3.1 Estação(ões) de Recebimento ",null,0,0,{"$f":"$N$50*F405","v":0},0,{"$f":"VLOOKUP(A405,$A$7:$AH$72,14,FALSE)/2","v":0},0,0,0,0,0,0,null,{"$f":"SUM(E405:O405)-F405","v":0}]
["F",3.2,"3.2 Estação(ões) de Entrega",null,539.51380908024146,1.1264422253048804E-2,{"$f":"$N$50*F406","v":0},0,{"$f":"VLOOKUP(A406,$A$7:$AH$72,14,FALSE)/2","v":0},0,0,0,0,0,8.5340967989536018,null,548.04790587919501]
[null,3.3,"3.3 Estação(ões) de Interconexão",null,0,0,0,0,0,0,0,0,0,0,0,null,0]
[null,3.4,"3.4 Estação(ões) de Compressão",null,7180.1252676530003,0.14991268338897928,0,0,0,0,0,0,0,0,113.57611803713783,null,7293.7013856901385]
[null,3.5,"3.5 Estação(ões) de Medição",null,0,0,0,0,0,0,0,0,0,0,0,null,0]
[null,3.6,"3.6 Estação(ões) de Regulagem de Pressão",null,0,0,0,0,0,0,0,0,0,0,0,null,0]
[null,3.7,"3.7 Sistema Elétrico",null,0,0,0,0,0,0,0,0,0,0,0,null,0]
[null,3.8,"3.8 Sistemas Auxiliares",null,3317.4359749827609,6.9264213428321356E-2,0,0,0,0,0,0,0,0,52.475616487182776,null,3369.9115914699437]
[null,6,"6 Outros Bens e Instalações Diretamente Vinculados",null,10928.172906590289,0.22816756865597149,{"$f":"SUM(G414:G418)","v":0},0,0,0,0,0,0,0,172.86320359350225,null,11101.036110183792]
[null,6.1,"6.1 Imóveis/Edificações/Terrenos e Benfeitorias",null,1618.5414272407243,3.3793266759146408E-2,{"$f":"$N$50*F414","v":0},0,0,0,0,0,0,0,25.602290396860806,null,{"$f":"SUM(E414:O414)-F414","v":1644.143717637585}]
[null,6.2,"6.2 Móveis, Equipamentos e Instalações de Escritório",null,241.05936150393765,5.0330397300856356E-3,0,0,0,0,0,0,0,0,3.8131070803835243,null,244.87246858432118]
[null,6.3,"6.3 Equipamentos e Instalações de Processamento de Dados e de Comunicação",null,9068.5721178456279,0.18934126216673944,0,0,0,0,0,0,0,0,143.44780611625791,null,9212.0199239618851]
[null,6.4,"6.4 Veículos",null,0,0,0,0,0,0,0,0,0,0,0,null,0]
[null,6.5,"6.5 Outros Bens Imobilizados",null,0,0,0,0,0,0,0,0,0,0,0,null,0]
[null,8,"8 Overhaul",null,18059.538344756027,0.37706220338875873,0,0,0,0,0,0,0,0,285.66803255936651,null,18345.206377315393]
[null,null,"Total Geral",null,{"$f":"E395+E398+E404+E413+E419","v":47895.382200735403},{"$f":"F395+F398+F404+F413+F419","v":1},0,0,0,0,0,0,0,0,757.61513615523268,null,48652.997336890636]
[]
[]
[null,"N°","Projetos futuros",null,2030,"%","5.4 Custos de Compart.","4.1 Preparo da Faixa do Duto","4.2 Tubulação e Acessórios","4.3 Travessias e Cruzamen-tos","4.4 Testes, Inspeções e Ensaios Exigidos por Normas","4.5 Condiciona-mento e Comissiona-mento","7.1 Admin. da Obra","7.2 BDI","7.3 Projetos de Engenharia",null,"TOTAL 2030"]
[null,1,"1. Tubulações",null,{"$f":"VLOOKUP(B165,$B$7:$AH$73,14,FALSE)","v":1100},{"$f":"SUM(F425:F426)","v":2.2378162395607765E-2},{"$f":"SUM(G425:G426)","v":0},0,0,0,0,0,0,0,26.458569070848259,null,1126.4585690708482]
["A",1.1000000000000001,"1.1 Linha Tronco",null,0,{"$f":"IF(E425=0,0,E425/$E$449)","v":0},{"$f":"$O$50*F425","v":0},{"$f":"$O$35","v":0},{"$f":"VLOOKUP(A425,$A$7:$AH$72,15,FALSE)","v":0},{"$f":"$O$43","v":0},{"$f":"$O$46*F425","v":0},{"$f":"$O$48*F425","v":0},{"$f":"$O$65*F425","v":0},{"$f":"$O$66*F425","v":0},{"$f":"$O$67*F425","v":0},null,{"$f":"SUM(E425:O425)-F425","v":0}]
[null,1.2,"1.2 Trecho(s)/Ramal(is)",null,1100,2.2378162395607765E-2,{"$f":"$O$50*F426","v":0},0,0,0,{"$f":"$O$46*F426","v":0},{"$f":"$O$48*F426","v":0},{"$f":"$O$65*F426","v":0},{"$f":"$O$66*F426","v":0},{"$f":"$O$67*F426","v":26.458569070848259},null,{"$f":"SUM(E426:O426)-F426","v":1126.4585690708482}]
[null,2,"2 Componentes",null,16439.1005528471,0.33443351073576161,{"$f":"SUM(G428:G432)","v":0},0,0,0,0,0,0,0,395.41370676374987,null,16834.514259610849]
["B",2.1,"2.1 Lançadores e Recebedores de Pigs e Esferas ",null,0,0,{"$f":"$O$50*F428","v":0},0,{"$f":"VLOOKUP(A428,$A$7:$AH$72,15,FALSE)","v":0},0,0,0,0,0,0,null,{"$f":"SUM(E428:O428)-F428","v":0}]
["C",2.2000000000000002,"2.2 Válvulas",null,0,0,{"$f":"$O$50*F429","v":0},0,{"$f":"VLOOKUP(A429,$A$7:$AH$72,15,FALSE)","v":0},0,0,0,0,0,0,null,{"$f":"SUM(E429:O429)-F429","v":0}]
["D",2.2999999999999998,"2.3 Sistema de Proteção Catódica e Demais Equipamentos de Controle de Corrosão",null,11847.493667057812,0.24102285205668569,{"$f":"$O$50*F430","v":0},0,{"$f":"VLOOKUP(A430,$A$7:$AH$72,15,FALSE)","v":0},0,0,0,0,0,284.97066318753315,null,{"$f":"SUM(E430:O430)-F430","v":12132.464330245344}]
["E",2.4,"2.4 Sistemas de Comunicação e de Supervisão e Controle",null,0,0,{"$f":"$O$50*F431","v":0},0,{"$f":"VLOOKUP(A431,$A$7:$AH$72,15,FALSE)","v":0},0,0,0,0,0,0,null,{"$f":"SUM(E431:O431)-F431","v":0}]
[null,2.5,"2.5 Outros Componentes",null,4591.6068857892888,9.3410658679075942E-2,{"$f":"$O$50*F432","v":0},0,0,0,0,0,0,0,110.44304357621671,null,{"$f":"SUM(E432:O432)-F432","v":4702.0499293655057}]
[null,3,"3 Complementos",null,13874.688107133783,0.28226365786349772,{"$f":"SUM(G434:G441)","v":0},0,0,0,0,0,0,0,333.7312669264328,null,14208.419374060215]
["F",3.1,"3.1 Estação(ões) de Recebimento ",null,0,{"$f":"IF(E434=0,0,E434/$E$449)","v":0},{"$f":"$O$50*F434","v":0},0,{"$f":"VLOOKUP(A434,$A$7:$AH$72,15,FALSE)/2","v":0},0,0,0,0,0,0,null,{"$f":"SUM(E434:O434)-F434","v":0}]
["F",3.2,"3.2 Estação(ões) de Entrega",null,0,0,{"$f":"$O$50*F435","v":0},0,{"$f":"VLOOKUP(A435,$A$7:$AH$72,15,FALSE)/2","v":0},0,0,0,0,0,0,null,0]
[null,3.3,"3.3 Estação(ões) de Interconexão",null,0,0,0,0,0,0,0,0,0,0,0,null,0]
[null,3.4,"3.4 Estação(ões) de Compressão",null,11089.878530902579,0.22561009337463814,0,0,0,0,0,0,0,0,266.74756099745736,null,11356.626091900036]
[null,3.5,"3.5 Estação(ões) de Medição",null,0,0,0,0,0,0,0,0,0,0,0,null,0]
[null,3.6,"3.6 Estação(ões) de Regulagem de Pressão",null,0,0,0,0,0,0,0,0,0,0,0,null,0]
[null,3.7,"3.7 Sistema Elétrico",null,998.67449765917024,2.0316818262699016E-2,0,0,0,0,0,0,0,0,24.02136197782713,null,1022.6958596369974]
[null,3.8,"3.8 Sistemas Auxiliares",null,1786.1350785720333,3.6336746226160538E-2,0,0,0,0,0,0,0,0,42.962343951148291,null,1829.0974225231816]
[null,6,"6 Outros Bens e Instalações Diretamente Vinculados",null,15515.893128267428,0.3156519783066028,{"$f":"SUM(G443:G447)","v":0},0,0,0,0,0,0,0,373.20757275469424,null,15889.100701022122]
[null,6.1,"6.1 Imóveis/Edificações/Terrenos e Benfeitorias",null,390.28658529208951,7.9399059877214538E-3,{"$f":"$O$50*F443","v":0},0,0,0,0,0,0,0,9.3876587039784187,null,{"$f":"SUM(E443:O443)-F443","v":399.67424399606796}]
[null,6.2,"6.2 Móveis, Equipamentos e Instalações de Escritório",null,757.61513615523268,1.5412758682047532E-2,0,0,0,0,0,0,0,0,18.223102190075757,null,775.83823834530847]
[null,6.3,"6.3 Equipamentos e Instalações de Processamento de Dados e de Comunicação",null,14367.991406820105,0.29229931363683381,0,0,0,0,0,0,0,0,345.59681186064006,null,14713.588218680745]
[null,6.4,"6.4 Veículos",null,0,0,0,0,0,0,0,0,0,0,0,null,0]
[null,6.5,"6.5 Outros Bens Imobilizados",null,0,0,0,0,0,0,0,0,0,0,0,null,0]
[null,8,"8 Overhaul",null,2225.3819991116652,4.5272690698530085E-2,0,0,0,0,0,0,0,0,53.527657575016704,null,2278.909656686682]
[null,null,"Total Geral",null,{"$f":"E424+E427+E433+E442+E448","v":49155.063787359977},{"$f":"F424+F427+F433+F442+F448","v":1},{"$f":"G424+G427+G433+G442+G448","v":0},0,0,0,0,0,0,0,1182.3387730907418,null,50337.402560450711]
[]
[]
[null,"N°","Projetos futuros",null,2031,"%","5.4 Custos de Compart.","4.1 Preparo da Faixa do Duto","4.2 Tubulação e Acessórios","4.3 Travessias e Cruzamen-tos","4.4 Testes, Inspeções e Ensaios Exigidos por Normas","4.5 Condiciona-mento e Comissiona-mento","7.1 Admin. da Obra","7.2 BDI","7.3 Projetos de Engenharia",null,"TOTAL 2031"]
[null,1,"1. Tubulações",null,{"$f":"VLOOKUP(B165,$B$7:$AH$73,15,FALSE)","v":11838.585957441661},{"$f":"SUM(F454:F455)","v":0.24940547029580062},0,0,0,0,0,0,0,0,188.95335933601285,null,12027.539316777673]
["A",1.1000000000000001,"1.1 Linha Tronco",null,1238.5859574416606,{"$f":"IF(E454=0,0,E454/$E$478)","v":2.6093497511274388E-2},{"$f":"$P$50*F454","v":0},{"$f":"$P$35","v":0},{"$f":"VLOOKUP(A454,$A$7:$AH$72,16,FALSE)","v":0},{"$f":"$P$43","v":0},{"$f":"$P$46*F454","v":0},{"$f":"$P$48*F454","v":0},{"$f":"$P$65*F454","v":0},{"$f":"$P$66*F454","v":0},{"$f":"$P$67*F454","v":19.768828669770372},null,{"$f":"SUM(E454:O454)-F454","v":1258.3547861114309}]
[null,1.2,"1.2 Trecho(s)/Ramal(is)",null,10600,{"$f":"IF(E455=0,0,E455/$E$478)","v":0.22331197278452625},{"$f":"$P$50*F455","v":0},0,0,0,{"$f":"$P$46*F455","v":0},{"$f":"$P$48*F455","v":0},{"$f":"$P$65*F455","v":0},{"$f":"$P$66*F455","v":0},{"$f":"$P$67*F455","v":169.18453066624247},null,{"$f":"SUM(E455:O455)-F455","v":10769.184530666242}]
[null,2,"2 Componentes",null,16439.1005528471,0.3463252806848568,{"$f":"SUM(G457:G461)","v":0},0,0,0,0,0,0,0,262.38127468005695,null,16701.481827527157]
["B",2.1,"2.1 Lançadores e Recebedores de Pigs e Esferas ",null,0,0,{"$f":"$P$50*F457","v":0},0,{"$f":"VLOOKUP(A457,$A$7:$AH$72,16,FALSE)","v":0},0,0,0,0,0,0,null,{"$f":"SUM(E457:O457)-F457","v":0}]
["C",2.2000000000000002,"2.2 Válvulas",null,0,0,{"$f":"$P$50*F458","v":0},0,{"$f":"VLOOKUP(A458,$A$7:$AH$72,16,FALSE)","v":0},0,0,0,0,0,0,null,{"$f":"SUM(E458:O458)-F458","v":0}]
["D",2.2999999999999998,"2.3 Sistema de Proteção Catódica e Demais Equipamentos de Controle de Corrosão",null,11847.493667057812,0.2495931305040435,{"$f":"$P$50*F459","v":0},0,{"$f":"VLOOKUP(A459,$A$7:$AH$72,16,FALSE)","v":0},0,0,0,0,0,189.09553355023166,null,{"$f":"SUM(E459:O459)-F459","v":12036.589200608043}]
["E",2.4,"2.4 Sistemas de Comunicação e de Supervisão e Controle",null,0,0,{"$f":"$P$50*F460","v":0},0,{"$f":"VLOOKUP(A460,$A$7:$AH$72,16,FALSE)","v":0},0,0,0,0,0,0,null,{"$f":"SUM(E460:O460)-F460","v":0}]
[null,2.5,"2.5 Outros Componentes",null,4591.6068857892888,9.6732150180813298E-2,{"$f":"$P$50*F461","v":0},0,0,0,0,0,0,0,73.285741129825283,null,{"$f":"SUM(E461:O461)-F461","v":4664.8926269191143}]
[null,3,"3 Complementos",null,5445.6457665460966,0.11472433011444458,{"$f":"SUM(G463:G470)","v":0},0,0,0,0,0,0,0,86.916888979972796,null,5532.5626555260687]
["F",3.1,"3.1 Estação(ões) de Recebimento ",null,0,0,{"$f":"$P$50*F463","v":0},0,{"$f":"VLOOKUP(A463,$A$7:$AH$72,16,FALSE)/2","v":0},0,0,0,0,0,0,null,{"$f":"SUM(E463:O463)-F463","v":0}]
["F",3.2,"3.2 Estação(ões) de Entrega",null,0,0,{"$f":"$P$50*F464","v":0},0,{"$f":"VLOOKUP(A464,$A$7:$AH$72,16,FALSE)/2","v":0},0,0,0,0,0,0,null,0]
[null,3.3,"3.3 Estação(ões) de Interconexão",null,0,0,0,0,0,0,0,0,0,0,0,null,0]
[null,3.4,"3.4 Estação(ões) de Compressão",null,4435.4922516724528,9.344325707466565E-2,0,0,0,0,0,0,0,0,70.794025931411227,null,4506.2862776038637]
[null,3.5,"3.5 Estação(ões) de Medição",null,0,0,0,0,0,0,0,0,0,0,0,null,0]
[null,3.6,"3.6 Estação(ões) de Regulagem de Pressão",null,0,0,0,0,0,0,0,0,0,0,0,null,0]
[null,3.7,"3.7 Sistema Elétrico",null,367.32855086314311,7.7385720144650645E-3,0,0,0,0,0,0,0,0,5.862859290386023,null,373.19141015352915]
[null,3.8,"3.8 Sistemas Auxiliares",null,642.82496401050037,1.3542501025313861E-2,0,0,0,0,0,0,0,0,10.260003758175539,null,653.08496776867594]
[null,6,"6 Outros Bens e Instalações Diretamente Vinculados",null,11518.512258422683,0.2426624241482187,{"$f":"SUM(G472:G476)","v":0},0,0,0,0,0,0,0,183.84472551081154,null,11702.356983933494]
[null,6.1,"6.1 Imóveis/Edificações/Terrenos e Benfeitorias",null,723.17808451181293,1.5235313653478093E-2,{"$f":"$P$50*F472","v":0},0,0,0,0,0,0,0,11.542504227947481,null,{"$f":"SUM(E472:O472)-F472","v":734.72058873976039}]
[null,6.2,"6.2 Móveis, Equipamentos e Instalações de Escritório",null,1101.9856525894293,2.3215716043395191E-2,0,0,0,0,0,0,0,0,17.588577871158066,null,1119.5742304605874]
[null,6.3,"6.3 Equipamentos e Instalações de Processamento de Dados e de Comunicação",null,9693.3485213214408,0.20421139445134542,0,0,0,0,0,0,0,0,154.71364341170599,null,9848.0621647331463]
[null,6.4,"6.4 Veículos",null,0,0,{"$f":"$P$50*F475","v":0},0,0,0,0,0,0,0,0,null,0]
[null,6.5,"6.5 Outros Bens Imobilizados",null,0,0,0,0,0,0,0,0,0,0,0,null,0]
[null,8,"8 Overhaul",null,2225.3819991116684,4.6882494756679202E-2,0,0,0,0,0,0,0,0,35.518887648378495,null,2260.9008867600469]
[null,null,"Total Geral",null,{"$f":"E453+E456+E462+E471+E477","v":47467.226534369212},{"$f":"F453+F456+F462+F471+F477","v":0.99999999999999989},0,0,0,0,0,0,0,0,757.61513615523268,null,48224.841670524445]
[]
[]
[null,"N°","Projetos futuros",null,2032,"%","5.4 Custos de Compart.","4.1 Preparo da Faixa do Duto","4.2 Tubulação e Acessórios","4.3 Travessias e Cruzamen-tos","4.4 Testes, Inspeções e Ensaios Exigidos por Normas","4.5 Condiciona-mento e Comissiona-mento","7.1 Admin. da Obra","7.2 BDI","7.3 Projetos de Engenharia",null,"TOTAL 2032"]
[null,1,"1. Tubulações",null,{"$f":"VLOOKUP(B165,$B$7:$AH$73,16,FALSE)","v":6116.0203718713328},{"$f":"SUM(F483:F484)","v":0.16423484181596737},0,0,0,0,0,0,0,0,194.18122137144292,null,6310.2015932427757]
["A",1.1000000000000001,"1.1 Linha Tronco",null,6116.0203718713328,{"$f":"IF(E483=0,0,E483/$E$507)","v":0.16423484181596737},{"$f":"$Q$50*F483","v":0},{"$f":"$Q$35","v":0},{"$f":"VLOOKUP(A483,$A$7:$AH$72,17,FALSE)","v":0},{"$f":"$Q$43","v":0},{"$f":"$Q$46*F483","v":0},{"$f":"$Q$48*F483","v":0},{"$f":"$Q$65*F483","v":0},{"$f":"$Q$66*F483","v":0},{"$f":"$Q$67*F483","v":194.18122137144292},null,{"$f":"SUM(E483:O483)-F483","v":6310.2015932427757}]
[null,1.2,"1.2 Trecho(s)/Ramal(is)",null,0,{"$f":"IF(E484=0,0,E484/$E$507)","v":0},{"$f":"$Q$50*F484","v":0},0,0,0,{"$f":"$Q$46*F484","v":0},{"$f":"$Q$48*F484","v":0},{"$f":"$Q$65*F484","v":0},{"$f":"$Q$66*F484","v":0},{"$f":"$Q$67*F484","v":0},null,{"$f":"SUM(E484:O484)-F484","v":0}]
[null,2,"2 Componentes",null,4591.6068857892888,0.12329943079276828,{"$f":"SUM(G486:G490)","v":0},0,0,0,0,0,0,0,145.78169772630849,null,4737.388583515597]
["B",2.1,"2.1 Lançadores e Recebedores de Pigs e Esferas ",null,0,0,{"$f":"$Q$50*F486","v":0},0,{"$f":"VLOOKUP(A486,$A$7:$AH$72,17,FALSE)","v":0},0,0,0,0,0,0,null,{"$f":"SUM(E486:O486)-F486","v":0}]
["C",2.2000000000000002,"2.2 Válvulas",null,0,0,{"$f":"$Q$50*F487","v":0},0,{"$f":"VLOOKUP(A487,$A$7:$AH$72,17,FALSE)","v":0},0,0,0,0,0,0,null,{"$f":"SUM(E487:O487)-F487","v":0}]
["D",2.2999999999999998,"2.3 Sistema de Proteção Catódica e Demais Equipamentos de Controle de Corrosão",null,0,0,{"$f":"$Q$50*F488","v":0},0,{"$f":"VLOOKUP(A488,$A$7:$AH$72,17,FALSE)","v":0},0,0,0,0,0,0,null,{"$f":"SUM(E488:O488)-F488","v":0}]
["E",2.4,"2.4 Sistemas de Comunicação e de Supervisão e Controle",null,0,0,{"$f":"$Q$50*F489","v":0},0,{"$f":"VLOOKUP(A489,$A$7:$AH$72,17,FALSE)","v":0},0,0,0,0,0,0,null,{"$f":"SUM(E489:O489)-F489","v":0}]
[null,2.5,"2.5 Outros Componentes",null,4591.6068857892888,0.12329943079276828,{"$f":"$Q$50*F490","v":0},0,0,0,0,0,0,0,145.78169772630849,null,{"$f":"SUM(E490:O490)-F490","v":4737.388583515597}]
[null,3,"3 Complementos",null,13964.224441406675,0.37498439389850657,{"$f":"SUM(G492:G499)","v":0},0,0,0,0,0,0,0,443.35858821013568,null,14407.58302961681]
["F",3.1,"3.1 Estação(ões) de Recebimento ",null,0,0,{"$f":"$Q$50*F492","v":0},0,{"$f":"VLOOKUP(A492,$A$7:$AH$72,17,FALSE)/2","v":0},0,0,0,0,0,0,null,{"$f":"SUM(E492:O492)-F492","v":0}]
["F",3.2,"3.2 Estação(ões) de Entrega",null,0,0,{"$f":"$Q$50*F493","v":0},0,{"$f":"VLOOKUP(A493,$A$7:$AH$72,17,FALSE)/2","v":0},0,0,0,0,0,0,null,0]
[null,3.3,"3.3 Estação(ões) de Interconexão",null,0,0,0,0,0,0,0,0,0,0,0,null,0]
[null,3.4,"3.4 Estação(ões) de Compressão",null,9464.449693333172,0.25415095172159363,0,0,0,0,0,0,0,0,300.49252443835337,null,9764.942217771526]
[null,3.5,"3.5 Estação(ões) de Medição",null,0,0,0,0,0,0,0,0,0,0,0,null,0]
[null,3.6,"3.6 Estação(ões) de Regulagem de Pressão",null,0,0,0,0,0,0,0,0,0,0,0,null,0]
[null,3.7,"3.7 Sistema Elétrico",null,998.67449765917024,2.68176261974271E-2,0,0,0,0,0,0,0,0,31.707519255472093,null,1030.3820169146422]
[null,3.8,"3.8 Sistemas Auxiliares",null,3501.1002504143325,9.4015815979485814E-2,0,0,0,0,0,0,0,0,111.15854451631022,null,3612.2587949306426]
[null,6,"6 Outros Bens e Instalações Diretamente Vinculados",null,10342.24791391777,0.27772266063333795,{"$f":"SUM(G501:G505)","v":0},0,0,0,0,0,0,0,328.36226983271729,null,10670.610183750487]
[null,6.1,"6.1 Imóveis/Edificações/Terrenos e Benfeitorias",null,34.437051643419665,9.2474573094576207E-4,{"$f":"$Q$50*F501","v":0},0,0,0,0,0,0,0,1.0933627329473137,null,{"$f":"SUM(E501:O501)-F501","v":35.530414376366977}]
[null,6.2,"6.2 Móveis, Equipamentos e Instalações de Escritório",null,241.05936150393765,6.4732201166203349E-3,0,0,0,0,0,0,0,0,7.653539130631196,null,248.71290063456885]
[null,6.3,"6.3 Equipamentos e Instalações de Processamento de Dados e de Comunicação",null,10066.751500770413,0.27032469478577187,0,0,0,0,0,0,0,0,319.61536796913879,null,10386.366868739551]
[null,6.4,"6.4 Veículos",null,0,0,0,0,0,0,0,0,0,0,0,null,0]
[null,6.5,"6.5 Outros Bens Imobilizados",null,0,0,0,0,0,0,0,0,0,0,0,null,0]
[null,8,"8 Overhaul",null,2225.3819991116684,5.9758672859419812E-2,0,0,0,0,0,0,0,0,70.654995950137433,null,2296.036995061806]
[null,null,"Total Geral",null,{"$f":"E482+E485+E491+E500+E506","v":37239.481612096737},{"$f":"F482+F485+F491+F500+F506","v":1},0,0,0,0,0,0,0,0,1182.3387730907418,null,38421.820385187471]
[]
[]
[null,"N°","Projetos futuros",null,2033,"%","5.4 Custos de Compart.","4.1 Preparo da Faixa do Duto","4.2 Tubulação e Acessórios","4.3 Travessias e Cruzamen-tos","4.4 Testes, Inspeções e Ensaios Exigidos por Normas","4.5 Condiciona-mento e Comissiona-mento","7.1 Admin. da Obra","7.2 BDI","7.3 Projetos de Engenharia",null,"TOTAL 2033"]
[null,1,"1. Tubulações",null,{"$f":"VLOOKUP(B165,$B$7:$AH$73,17,FALSE)","v":0},{"$f":"SUM(F512:F513)","v":0},0,0,0,0,0,0,0,0,0,null,0]
["A",1.1000000000000001,"1.1 Linha Tronco",null,0,{"$f":"IF(E512=0,0,E512/$E$536)","v":0},{"$f":"$R$50*F512","v":0},{"$f":"$R$35","v":0},{"$f":"VLOOKUP(A512,$A$7:$AH$72,18,FALSE)","v":0},{"$f":"$R$43","v":0},{"$f":"$R$46*F512","v":0},{"$f":"$R$48*F512","v":0},{"$f":"$R$65*F512","v":0},{"$f":"$R$66*F512","v":0},{"$f":"$R$67*F512","v":0},null,{"$f":"SUM(E512:O512)-F512","v":0}]
[null,1.2,"1.2 Trecho(s)/Ramal(is)",null,0,{"$f":"IF(E513=0,0,E513/$E$536)","v":0},{"$f":"$R$50*F513","v":0},0,0,0,{"$f":"$R$46*F513","v":0},{"$f":"$R$48*F513","v":0},{"$f":"$R$65*F513","v":0},{"$f":"$R$66*F513","v":0},{"$f":"$R$67*F513","v":0},null,{"$f":"SUM(E513:O513)-F513","v":0}]
[null,2,"2 Componentes",null,0,0,{"$f":"SUM(G515:G519)","v":0},0,0,0,0,0,0,0,0,null,0]
["B",2.1,"2.1 Lançadores e Recebedores de Pigs e Esferas ",null,0,0,{"$f":"$R$50*F515","v":0},0,{"$f":"VLOOKUP(A515,$A$7:$AH$72,18,FALSE)","v":0},0,0,0,0,0,0,null,{"$f":"SUM(E515:O515)-F515","v":0}]
["C",2.2000000000000002,"2.2 Válvulas",null,0,0,{"$f":"$R$50*F516","v":0},0,{"$f":"VLOOKUP(A516,$A$7:$AH$72,18,FALSE)","v":0},0,0,0,0,0,0,null,{"$f":"SUM(E516:O516)-F516","v":0}]
["D",2.2999999999999998,"2.3 Sistema de Proteção Catódica e Demais Equipamentos de Controle de Corrosão",null,0,0,{"$f":"$R$50*F517","v":0},0,{"$f":"VLOOKUP(A517,$A$7:$AH$72,18,FALSE)","v":0},0,0,0,0,0,0,null,{"$f":"SUM(E517:O517)-F517","v":0}]
["E",2.4,"2.4 Sistemas de Comunicação e de Supervisão e Controle",null,0,0,{"$f":"$R$50*F518","v":0},0,{"$f":"VLOOKUP(A518,$A$7:$AH$72,18,FALSE)","v":0},0,0,0,0,0,0,null,{"$f":"SUM(E518:O518)-F518","v":0}]
[null,2.5,"2.5 Outros Componentes",null,0,0,{"$f":"$R$50*F519","v":0},0,0,0,0,0,0,0,0,null,{"$f":"SUM(E519:O519)-F519","v":0}]
[null,3,"3 Complementos",null,0,0,{"$f":"SUM(G521:G528)","v":0},0,0,0,0,0,0,0,0,null,0]
["F",3.1,"3.1 Estação(ões) de Recebimento ",null,0,0,{"$f":"$R$50*F521","v":0},0,{"$f":"VLOOKUP(A521,$A$7:$AH$72,18,FALSE)/2","v":0},0,0,0,0,0,0,null,{"$f":"SUM(E521:O521)-F521","v":0}]
["F",3.2,"3.2 Estação(ões) de Entrega",null,0,0,{"$f":"$R$50*F522","v":0},0,{"$f":"VLOOKUP(A522,$A$7:$AH$72,18,FALSE)/2","v":0},0,0,0,0,0,0,null,0]
[null,3.3,"3.3 Estação(ões) de Interconexão",null,0,0,0,0,0,0,0,0,0,0,0,null,0]
[null,3.4,"3.4 Estação(ões) de Compressão",null,0,0,0,0,0,0,0,0,0,0,0,null,0]
[null,3.5,"3.5 Estação(ões) de Medição",null,0,0,0,0,0,0,0,0,0,0,0,null,0]
[null,3.6,"3.6 Estação(ões) de Regulagem de Pressão",null,0,0,0,0,0,0,0,0,0,0,0,null,0]
[null,3.7,"3.7 Sistema Elétrico",null,0,0,0,0,0,0,0,0,0,0,0,null,0]
[null,3.8,"3.8 Sistemas Auxiliares",null,0,0,0,0,0,0,0,0,0,0,0,null,0]
[null,6,"6 Outros Bens e Instalações Diretamente Vinculados",null,0,0,{"$f":"SUM(G530:G534)","v":0},0,0,0,0,0,0,0,0,null,0]
[null,6.1,"6.1 Imóveis/Edificações/Terrenos e Benfeitorias",null,0,0,{"$f":"$R$50*F530","v":0},0,0,0,0,0,0,0,0,null,{"$f":"SUM(E530:O530)-F530","v":0}]
[null,6.2,"6.2 Móveis, Equipamentos e Instalações de Escritório",null,0,0,0,0,0,0,0,0,0,0,0,null,0]
[null,6.3,"6.3 Equipamentos e Instalações de Processamento de Dados e de Comunicação",null,0,0,0,0,0,0,0,0,0,0,0,null,0]
[null,6.4,"6.4 Veículos",null,0,0,0,0,0,0,0,0,0,0,0,null,0]
[null,6.5,"6.5 Outros Bens Imobilizados",null,0,0,0,0,0,0,0,0,0,0,0,null,0]
[null,8,"8 Overhaul",null,0,0,0,0,0,0,0,0,0,0,0,null,0]
[null,null,"Total Geral",null,{"$f":"E511+E514+E520+E529+E535","v":0},{"$f":"F511+F514+F520+F529+F535","v":0},0,0,0,0,0,0,0,0,0,null,0]
[]
[]
[null,"N°","Projetos futuros",null,2034,"%","5.4 Custos de Compart.","4.1 Preparo da Faixa do Duto","4.2 Tubulação e Acessórios","4.3 Travessias e Cruzamen-tos","4.4 Testes, Inspeções e Ensaios Exigidos por Normas","4.5 Condiciona-mento e Comissiona-mento","7.1 Admin. da Obra","7.2 BDI","7.3 Projetos de Engenharia",null,"TOTAL 2034"]
[null,1,"1. Tubulações",null,{"$f":"VLOOKUP(B165,$B$7:$AH$73,18,FALSE)","v":0},{"$f":"SUM(F541:F542)","v":0},0,0,0,0,0,0,0,0,0,null,0]
["A",1.1000000000000001,"1.1 Linha Tronco",null,0,{"$f":"IF(E541=0,0,E541/$E$565)","v":0},{"$f":"$S$50*F541","v":0},{"$f":"$S$35","v":0},{"$f":"VLOOKUP(A541,$A$7:$AH$72,19,FALSE)","v":0},{"$f":"$S$43","v":0},{"$f":"$S$46*F541","v":0},{"$f":"$S$48*F541","v":0},{"$f":"$S$65*F541","v":0},{"$f":"$S$66*F541","v":0},{"$f":"$S$67*F541","v":0},null,{"$f":"SUM(E541:O541)-F541","v":0}]
[null,1.2,"1.2 Trecho(s)/Ramal(is)",null,0,{"$f":"IF(E542=0,0,E542/$E$565)","v":0},{"$f":"$S$50*F542","v":0},0,0,0,{"$f":"$S$46*F542","v":0},{"$f":"$S$48*F542","v":0},{"$f":"$S$65*F542","v":0},{"$f":"$S$66*F542","v":0},{"$f":"$S$67*F542","v":0},null,{"$f":"SUM(E542:O542)-F542","v":0}]
[null,2,"2 Componentes",null,0,0,{"$f":"SUM(G544:G548)","v":0},0,0,0,0,0,0,0,0,null,0]
["B",2.1,"2.1 Lançadores e Recebedores de Pigs e Esferas ",null,0,0,{"$f":"$S$50*F544","v":0},0,{"$f":"VLOOKUP(A544,$A$7:$AH$72,19,FALSE)","v":0},0,0,0,0,0,0,null,{"$f":"SUM(E544:O544)-F544","v":0}]
["C",2.2000000000000002,"2.2 Válvulas",null,0,0,{"$f":"$S$50*F545","v":0},0,{"$f":"VLOOKUP(A545,$A$7:$AH$72,19,FALSE)","v":0},0,0,0,0,0,0,null,{"$f":"SUM(E545:O545)-F545","v":0}]
["D",2.2999999999999998,"2.3 Sistema de Proteção Catódica e Demais Equipamentos de Controle de Corrosão",null,0,0,{"$f":"$S$50*F546","v":0},0,{"$f":"VLOOKUP(A546,$A$7:$AH$72,19,FALSE)","v":0},0,0,0,0,0,0,null,{"$f":"SUM(E546:O546)-F546","v":0}]
["E",2.4,"2.4 Sistemas de Comunicação e de Supervisão e Controle",null,0,0,{"$f":"$S$50*F547","v":0},0,{"$f":"VLOOKUP(A547,$A$7:$AH$72,19,FALSE)","v":0},0,0,0,0,0,0,null,{"$f":"SUM(E547:O547)-F547","v":0}]
[null,2.5,"2.5 Outros Componentes",null,0,0,{"$f":"$S$50*F548","v":0},0,0,0,0,0,0,0,0,null,{"$f":"SUM(E548:O548)-F548","v":0}]
[null,3,"3 Complementos",null,0,0,{"$f":"SUM(G550:G557)","v":0},0,0,0,0,0,0,0,0,null,0]
["F",3.1,"3.1 Estação(ões) de Recebimento ",null,0,0,{"$f":"$S$50*F550","v":0},0,{"$f":"VLOOKUP(A550,$A$7:$AH$72,19,FALSE)/2","v":0},0,0,0,0,0,0,null,{"$f":"SUM(E550:O550)-F550","v":0}]
["F",3.2,"3.2 Estação(ões) de Entrega",null,0,0,{"$f":"$S$50*F551","v":0},0,{"$f":"VLOOKUP(A551,$A$7:$AH$72,19,FALSE)/2","v":0},0,0,0,0,0,0,null,0]
[null,3.3,"3.3 Estação(ões) de Interconexão",null,0,0,0,0,0,0,0,0,0,0,0,null,0]
[null,3.4,"3.4 Estação(ões) de Compressão",null,0,0,0,0,0,0,0,0,0,0,0,null,0]
[null,3.5,"3.5 Estação(ões) de Medição",null,0,0,0,0,0,0,0,0,0,0,0,null,0]
[null,3.6,"3.6 Estação(ões) de Regulagem de Pressão",null,0,0,0,0,0,0,0,0,0,0,0,null,0]
[null,3.7,"3.7 Sistema Elétrico",null,0,0,0,0,0,0,0,0,0,0,0,null,0]
[null,3.8,"3.8 Sistemas Auxiliares",null,0,0,0,0,0,0,0,0,0,0,0,null,0]
[null,6,"6 Outros Bens e Instalações Diretamente Vinculados",null,0,0,{"$f":"SUM(G559:G563)","v":0},0,0,0,0,0,0,0,0,null,0]
[null,6.1,"6.1 Imóveis/Edificações/Terrenos e Benfeitorias",null,0,0,{"$f":"$S$50*F559","v":0},0,0,0,0,0,0,0,0,null,{"$f":"SUM(E559:O559)-F559","v":0}]
[null,6.2,"6.2 Móveis, Equipamentos e Instalações de Escritório",null,0,0,0,0,0,0,0,0,0,0,0,null,0]
[null,6.3,"6.3 Equipamentos e Instalações de Processamento de Dados e de Comunicação",null,0,0,0,0,0,0,0,0,0,0,0,null,0]
[null,6.4,"6.4 Veículos",null,0,0,0,0,0,0,0,0,0,0,0,null,0]
[null,6.5,"6.5 Outros Bens Imobilizados",null,0,0,0,0,0,0,0,0,0,0,0,null,0]
[null,8,"8 Overhaul",null,0,0,0,0,0,0,0,0,0,0,0,null,0]
[null,null,"Total Geral",null,{"$f":"E540+E543+E549+E558+E564","v":0},{"$f":"F540+F543+F549+F558+F564","v":0},0,0,0,0,0,0,0,0,0,null,0]
[]
[]
[null,"N°","Projetos futuros",null,2035,"%","5.4 Custos de Compart.","4.1 Preparo da Faixa do Duto","4.2 Tubulação e Acessórios","4.3 Travessias e Cruzamen-tos","4.4 Testes, Inspeções e Ensaios Exigidos por Normas","4.5 Condiciona-mento e Comissiona-mento","7.1 Admin. da Obra","7.2 BDI","7.3 Projetos de Engenharia",null,"TOTAL 2035"]
[null,1,"1. Tubulações",null,{"$f":"VLOOKUP(B165,$B$7:$AH$73,19,FALSE)","v":0},{"$f":"SUM(F570:F571)","v":0},0,0,0,0,0,0,0,0,0,null,0]
["A",1.1000000000000001,"1.1 Linha Tronco",null,0,{"$f":"IF(E570=0,0,E570/$E$594)","v":0},{"$f":"$T$50*F570","v":0},{"$f":"$T$35","v":0},{"$f":"VLOOKUP(A570,$A$7:$AH$72,20,FALSE)","v":0},{"$f":"$T$43","v":0},{"$f":"$T$46*F570","v":0},{"$f":"$T$48*F570","v":0},{"$f":"$T$65*F570","v":0},{"$f":"$T$66*F570","v":0},{"$f":"$T$67*F570","v":0},null,{"$f":"SUM(E570:O570)-F570","v":0}]
[null,1.2,"1.2 Trecho(s)/Ramal(is)",null,0,{"$f":"IF(E571=0,0,E571/$E$594)","v":0},{"$f":"$T$50*F571","v":0},0,0,0,{"$f":"$T$46*F571","v":0},{"$f":"$T$48*F571","v":0},{"$f":"$T$65*F571","v":0},{"$f":"$T$66*F571","v":0},{"$f":"$T$67*F571","v":0},null,{"$f":"SUM(E571:O571)-F571","v":0}]
[null,2,"2 Componentes",null,0,0,{"$f":"SUM(G573:G577)","v":0},0,0,0,0,0,0,0,0,null,0]
["B",2.1,"2.1 Lançadores e Recebedores de Pigs e Esferas ",null,0,0,{"$f":"$T$50*F573","v":0},0,{"$f":"VLOOKUP(A573,$A$7:$AH$72,20,FALSE)","v":0},0,0,0,0,0,0,null,{"$f":"SUM(E573:O573)-F573","v":0}]
["C",2.2000000000000002,"2.2 Válvulas",null,0,0,{"$f":"$T$50*F574","v":0},0,{"$f":"VLOOKUP(A574,$A$7:$AH$72,20,FALSE)","v":0},0,0,0,0,0,0,null,{"$f":"SUM(E574:O574)-F574","v":0}]
["D",2.2999999999999998,"2.3 Sistema de Proteção Catódica e Demais Equipamentos de Controle de Corrosão",null,0,0,{"$f":"$T$50*F575","v":0},0,{"$f":"VLOOKUP(A575,$A$7:$AH$72,20,FALSE)","v":0},0,0,0,0,0,0,null,{"$f":"SUM(E575:O575)-F575","v":0}]
["E",2.4,"2.4 Sistemas de Comunicação e de Supervisão e Controle",null,0,0,{"$f":"$T$50*F576","v":0},0,{"$f":"VLOOKUP(A576,$A$7:$AH$72,20,FALSE)","v":0},0,0,0,0,0,0,null,{"$f":"SUM(E576:O576)-F576","v":0}]
[null,2.5,"2.5 Outros Componentes",null,0,0,{"$f":"$T$50*F577","v":0},0,0,0,0,0,0,0,0,null,{"$f":"SUM(E577:O577)-F577","v":0}]
[null,3,"3 Complementos",null,0,0,{"$f":"SUM(G579:G586)","v":0},0,0,0,0,0,0,0,0,null,0]
["F",3.1,"3.1 Estação(ões) de Recebimento ",null,0,0,{"$f":"$T$50*F579","v":0},0,{"$f":"VLOOKUP(A579,$A$7:$AH$72,20,FALSE)/2","v":0},0,0,0,0,0,0,null,{"$f":"SUM(E579:O579)-F579","v":0}]
["F",3.2,"3.2 Estação(ões) de Entrega",null,0,0,{"$f":"$T$50*F580","v":0},0,{"$f":"VLOOKUP(A580,$A$7:$AH$72,20,FALSE)/2","v":0},0,0,0,0,0,0,null,0]
[null,3.3,"3.3 Estação(ões) de Interconexão",null,0,0,0,0,0,0,0,0,0,0,0,null,0]
[null,3.4,"3.4 Estação(ões) de Compressão",null,0,0,0,0,0,0,0,0,0,0,0,null,0]
[null,3.5,"3.5 Estação(ões) de Medição",null,0,0,0,0,0,0,0,0,0,0,0,null,0]
[null,3.6,"3.6 Estação(ões) de Regulagem de Pressão",null,0,0,0,0,0,0,0,0,0,0,0,null,0]
[null,3.7,"3.7 Sistema Elétrico",null,0,0,0,0,0,0,0,0,0,0,0,null,0]
[null,3.8,"3.8 Sistemas Auxiliares",null,0,0,0,0,0,0,0,0,0,0,0,null,0]
[null,6,"6 Outros Bens e Instalações Diretamente Vinculados",null,0,0,{"$f":"SUM(G588:G592)","v":0},0,0,0,0,0,0,0,0,null,0]
[null,6.1,"6.1 Imóveis/Edificações/Terrenos e Benfeitorias",null,0,0,{"$f":"$T$50*F588","v":0},0,0,0,0,0,0,0,0,null,{"$f":"SUM(E588:O588)-F588","v":0}]
[null,6.2,"6.2 Móveis, Equipamentos e Instalações de Escritório",null,0,0,0,0,0,0,0,0,0,0,0,null,0]
[null,6.3,"6.3 Equipamentos e Instalações de Processamento de Dados e de Comunicação",null,0,0,0,0,0,0,0,0,0,0,0,null,0]
[null,6.4,"6.4 Veículos",null,0,0,0,0,0,0,0,0,0,0,0,null,0]
[null,6.5,"6.5 Outros Bens Imobilizados",null,0,0,0,0,0,0,0,0,0,0,0,null,0]
[null,8,"8 Overhaul",null,0,0,0,0,0,0,0,0,0,0,0,null,0]
[null,null,"Total Geral",null,{"$f":"E569+E572+E578+E587+E593","v":0},{"$f":"F569+F572+F578+F587+F593","v":0},0,0,0,0,0,0,0,0,0,null,0]
[]
[]
[null,"N°","Projetos futuros",null,2036,"%","5.4 Custos de Compart.","4.1 Preparo da Faixa do Duto","4.2 Tubulação e Acessórios","4.3 Travessias e Cruzamen-tos","4.4 Testes, Inspeções e Ensaios Exigidos por Normas","4.5 Condiciona-mento e Comissiona-mento","7.1 Admin. da Obra","7.2 BDI","7.3 Projetos de Engenharia",null,"TOTAL 2036"]
[null,1,"1. Tubulações",null,{"$f":"VLOOKUP(B165,$B$7:$AH$73,20,FALSE)","v":0},{"$f":"SUM(F599:F600)","v":0},0,0,0,0,0,0,0,0,0,null,0]
["A",1.1000000000000001,"1.1 Linha Tronco",null,0,{"$f":"IF(E599=0,0,E599/$E$623)","v":0},{"$f":"$U$50*F599","v":0},{"$f":"$U$35","v":0},{"$f":"VLOOKUP(A599,$A$7:$AH$72,21,FALSE)","v":0},{"$f":"$U$43","v":0},{"$f":"$U$46*F599","v":0},{"$f":"$U$48*F599","v":0},{"$f":"$U$65*F599","v":0},{"$f":"$U$66*F599","v":0},{"$f":"$U$67*F599","v":0},null,{"$f":"SUM(E599:O599)-F599","v":0}]
[null,1.2,"1.2 Trecho(s)/Ramal(is)",null,0,{"$f":"IF(E600=0,0,E600/$E$623)","v":0},{"$f":"$U$50*F600","v":0},0,0,0,{"$f":"$U$46*F600","v":0},{"$f":"$U$48*F600","v":0},{"$f":"$U$65*F600","v":0},{"$f":"$U$66*F600","v":0},{"$f":"$U$67*F600","v":0},null,{"$f":"SUM(E600:O600)-F600","v":0}]
[null,2,"2 Componentes",null,0,0,{"$f":"SUM(G602:G606)","v":0},0,0,0,0,0,0,0,0,null,0]
["B",2.1,"2.1 Lançadores e Recebedores de Pigs e Esferas ",null,0,0,{"$f":"$U$50*F602","v":0},0,{"$f":"VLOOKUP(A602,$A$7:$AH$72,21,FALSE)","v":0},0,0,0,0,0,0,null,{"$f":"SUM(E602:O602)-F602","v":0}]
["C",2.2000000000000002,"2.2 Válvulas",null,0,0,{"$f":"$U$50*F603","v":0},0,{"$f":"VLOOKUP(A603,$A$7:$AH$72,21,FALSE)","v":0},0,0,0,0,0,0,null,{"$f":"SUM(E603:O603)-F603","v":0}]
["D",2.2999999999999998,"2.3 Sistema de Proteção Catódica e Demais Equipamentos de Controle de Corrosão",null,0,0,{"$f":"$U$50*F604","v":0},0,{"$f":"VLOOKUP(A604,$A$7:$AH$72,21,FALSE)","v":0},0,0,0,0,0,0,null,{"$f":"SUM(E604:O604)-F604","v":0}]
["E",2.4,"2.4 Sistemas de Comunicação e de Supervisão e Controle",null,0,0,{"$f":"$U$50*F605","v":0},0,{"$f":"VLOOKUP(A605,$A$7:$AH$72,21,FALSE)","v":0},0,0,0,0,0,0,null,{"$f":"SUM(E605:O605)-F605","v":0}]
[null,2.5,"2.5 Outros Componentes",null,0,0,{"$f":"$U$50*F606","v":0},0,0,0,0,0,0,0,0,null,{"$f":"SUM(E606:O606)-F606","v":0}]
[null,3,"3 Complementos",null,0,0,{"$f":"SUM(G608:G615)","v":0},0,0,0,0,0,0,0,0,null,0]
["F",3.1,"3.1 Estação(ões) de Recebimento ",null,0,0,{"$f":"$U$50*F608","v":0},0,{"$f":"VLOOKUP(A608,$A$7:$AH$72,21,FALSE)/2","v":0},0,0,0,0,0,0,null,{"$f":"SUM(E608:O608)-F608","v":0}]
["F",3.2,"3.2 Estação(ões) de Entrega",null,0,0,{"$f":"$U$50*F609","v":0},0,{"$f":"VLOOKUP(A609,$A$7:$AH$72,21,FALSE)/2","v":0},0,0,0,0,0,0,null,0]
[null,3.3,"3.3 Estação(ões) de Interconexão",null,0,0,0,0,0,0,0,0,0,0,0,null,0]
[null,3.4,"3.4 Estação(ões) de Compressão",null,0,0,0,0,0,0,0,0,0,0,0,null,0]
[null,3.5,"3.5 Estação(ões) de Medição",null,0,0,0,0,0,0,0,0,0,0,0,null,0]
[null,3.6,"3.6 Estação(ões) de Regulagem de Pressão",null,0,0,0,0,0,0,0,0,0,0,0,null,0]
[null,3.7,"3.7 Sistema Elétrico",null,0,0,0,0,0,0,0,0,0,0,0,null,0]
[null,3.8,"3.8 Sistemas Auxiliares",null,0,0,0,0,0,0,0,0,0,0,0,null,0]
[null,6,"6 Outros Bens e Instalações Diretamente Vinculados",null,0,0,{"$f":"SUM(G617:G621)","v":0},0,0,0,0,0,0,0,0,null,0]
[null,6.1,"6.1 Imóveis/Edificações/Terrenos e Benfeitorias",null,0,0,{"$f":"$U$50*F617","v":0},0,0,0,0,0,0,0,0,null,{"$f":"SUM(E617:O617)-F617","v":0}]
[null,6.2,"6.2 Móveis, Equipamentos e Instalações de Escritório",null,0,0,0,0,0,0,0,0,0,0,0,null,0]
[null,6.3,"6.3 Equipamentos e Instalações de Processamento de Dados e de Comunicação",null,0,0,0,0,0,0,0,0,0,0,0,null,0]
[null,6.4,"6.4 Veículos",null,0,0,0,0,0,0,0,0,0,0,0,null,0]
[null,6.5,"6.5 Outros Bens Imobilizados",null,0,0,0,0,0,0,0,0,0,0,0,null,0]
[null,8,"8 Overhaul",null,0,0,0,0,0,0,0,0,0,0,0,null,0]
[null,null,"Total Geral",null,{"$f":"E598+E601+E607+E616+E622","v":0},{"$f":"F598+F601+F607+F616+F622","v":0},0,0,0,0,0,0,0,0,0,null,0]
[]
[]
[null,"N°","Projetos futuros",null,2037,"%","5.4 Custos de Compart.","4.1 Preparo da Faixa do Duto","4.2 Tubulação e Acessórios","4.3 Travessias e Cruzamen-tos","4.4 Testes, Inspeções e Ensaios Exigidos por Normas","4.5 Condiciona-mento e Comissiona-mento","7.1 Admin. da Obra","7.2 BDI","7.3 Projetos de Engenharia",null,"TOTAL 2037"]
[null,1,"1. Tubulações",null,{"$f":"VLOOKUP(B165,$B$7:$AH$73,21,FALSE)","v":0},{"$f":"SUM(F628:F629)","v":0},0,0,0,0,0,0,0,0,0,null,0]
["A",1.1000000000000001,"1.1 Linha Tronco",null,0,{"$f":"IF(E628=0,0,E628/$E$652)","v":0},{"$f":"$V$50*F628","v":0},{"$f":"$V$35","v":0},{"$f":"VLOOKUP(A628,$A$7:$AH$72,22,FALSE)","v":0},{"$f":"$V$43","v":0},{"$f":"$V$46*F628","v":0},{"$f":"$V$48*F628","v":0},{"$f":"$V$65*F628","v":0},{"$f":"$V$66*F628","v":0},{"$f":"$V$67*F628","v":0},null,{"$f":"SUM(E628:O628)-F628","v":0}]
[null,1.2,"1.2 Trecho(s)/Ramal(is)",null,0,{"$f":"IF(E629=0,0,E629/$E$652)","v":0},{"$f":"$V$50*F629","v":0},0,0,0,{"$f":"$V$46*F629","v":0},{"$f":"$V$48*F629","v":0},{"$f":"$V$65*F629","v":0},{"$f":"$V$66*F629","v":0},{"$f":"$V$67*F629","v":0},null,{"$f":"SUM(E629:O629)-F629","v":0}]
[null,2,"2 Componentes",null,0,0,{"$f":"SUM(G631:G635)","v":0},0,0,0,0,0,0,0,0,null,0]
["B",2.1,"2.1 Lançadores e Recebedores de Pigs e Esferas ",null,0,0,{"$f":"$V$50*F631","v":0},0,{"$f":"VLOOKUP(A631,$A$7:$AH$72,22,FALSE)","v":0},0,0,0,0,0,0,null,{"$f":"SUM(E631:O631)-F631","v":0}]
["C",2.2000000000000002,"2.2 Válvulas",null,0,0,{"$f":"$V$50*F632","v":0},0,{"$f":"VLOOKUP(A632,$A$7:$AH$72,22,FALSE)","v":0},0,0,0,0,0,0,null,{"$f":"SUM(E632:O632)-F632","v":0}]
["D",2.2999999999999998,"2.3 Sistema de Proteção Catódica e Demais Equipamentos de Controle de Corrosão",null,0,0,{"$f":"$V$50*F633","v":0},0,{"$f":"VLOOKUP(A633,$A$7:$AH$72,22,FALSE)","v":0},0,0,0,0,0,0,null,{"$f":"SUM(E633:O633)-F633","v":0}]
["E",2.4,"2.4 Sistemas de Comunicação e de Supervisão e Controle",null,0,0,{"$f":"$V$50*F634","v":0},0,{"$f":"VLOOKUP(A634,$A$7:$AH$72,22,FALSE)","v":0},0,0,0,0,0,0,null,{"$f":"SUM(E634:O634)-F634","v":0}]
[null,2.5,"2.5 Outros Componentes",null,0,0,{"$f":"$V$50*F635","v":0},0,0,0,0,0,0,0,0,null,{"$f":"SUM(E635:O635)-F635","v":0}]
[null,3,"3 Complementos",null,0,0,{"$f":"SUM(G637:G644)","v":0},0,0,0,0,0,0,0,0,null,0]
["F",3.1,"3.1 Estação(ões) de Recebimento ",null,0,0,{"$f":"$V$50*F637","v":0},0,{"$f":"VLOOKUP(A637,$A$7:$AH$72,22,FALSE)/2","v":0},0,0,0,0,0,0,null,{"$f":"SUM(E637:O637)-F637","v":0}]
["F",3.2,"3.2 Estação(ões) de Entrega",null,0,0,{"$f":"$V$50*F638","v":0},0,{"$f":"VLOOKUP(A638,$A$7:$AH$72,22,FALSE)/2","v":0},0,0,0,0,0,0,null,0]
[null,3.3,"3.3 Estação(ões) de Interconexão",null,0,0,0,0,0,0,0,0,0,0,0,null,0]
[null,3.4,"3.4 Estação(ões) de Compressão",null,0,0,0,0,0,0,0,0,0,0,0,null,0]
[null,3.5,"3.5 Estação(ões) de Medição",null,0,0,0,0,0,0,0,0,0,0,0,null,0]
[null,3.6,"3.6 Estação(ões) de Regulagem de Pressão",null,0,0,0,0,0,0,0,0,0,0,0,null,0]
[null,3.7,"3.7 Sistema Elétrico",null,0,0,0,0,0,0,0,0,0,0,0,null,0]
[null,3.8,"3.8 Sistemas Auxiliares",null,0,0,0,0,0,0,0,0,0,0,0,null,0]
[null,6,"6 Outros Bens e Instalações Diretamente Vinculados",null,0,0,{"$f":"SUM(G646:G650)","v":0},0,0,0,0,0,0,0,0,null,0]
[null,6.1,"6.1 Imóveis/Edificações/Terrenos e Benfeitorias",null,0,0,{"$f":"$V$50*F646","v":0},0,0,0,0,0,0,0,0,null,{"$f":"SUM(E646:O646)-F646","v":0}]
[null,6.2,"6.2 Móveis, Equipamentos e Instalações de Escritório",null,0,0,0,0,0,0,0,0,0,0,0,null,0]
[null,6.3,"6.3 Equipamentos e Instalações de Processamento de Dados e de Comunicação",null,0,0,0,0,0,0,0,0,0,0,0,null,0]
[null,6.4,"6.4 Veículos",null,0,0,0,0,0,0,0,0,0,0,0,null,0]
[null,6.5,"6.5 Outros Bens Imobilizados",null,0,0,0,0,0,0,0,0,0,0,0,null,0]
[null,8,"8 Overhaul",null,0,0,0,0,0,0,0,0,0,0,0,null,0]
[null,null,"Total Geral",null,{"$f":"E627+E630+E636+E645+E651","v":0},{"$f":"F627+F630+F636+F645+F651","v":0},0,0,0,0,0,0,0,0,0,null,0]
[]
[]
[null,"N°","Projetos futuros",null,2038,"%","5.4 Custos de Compart.","4.1 Preparo da Faixa do Duto","4.2 Tubulação e Acessórios","4.3 Travessias e Cruzamen-tos","4.4 Testes, Inspeções e Ensaios Exigidos por Normas","4.5 Condiciona-mento e Comissiona-mento","7.1 Admin. da Obra","7.2 BDI","7.3 Projetos de Engenharia",null,"TOTAL 2038"]
[null,1,"1. Tubulações",null,{"$f":"VLOOKUP(B165,$B$7:$AH$73,22,FALSE)","v":0},{"$f":"SUM(F657:F658)","v":0},0,0,0,0,0,0,0,0,0,null,0]
["A",1.1000000000000001,"1.1 Linha Tronco",null,0,{"$f":"IF(E657=0,0,E657/$E$681)","v":0},{"$f":"$W$50*F657","v":0},{"$f":"$W$35","v":0},{"$f":"VLOOKUP(A657,$A$7:$AH$72,23,FALSE)","v":0},{"$f":"$W$43","v":0},{"$f":"$W$46*F657","v":0},{"$f":"$W$48*F657","v":0},{"$f":"$W$65*F657","v":0},{"$f":"$W$66*F657","v":0},{"$f":"$W$67*F657","v":0},null,{"$f":"SUM(E657:O657)-F657","v":0}]
[null,1.2,"1.2 Trecho(s)/Ramal(is)",null,0,{"$f":"IF(E658=0,0,E658/$E$681)","v":0},{"$f":"$W$50*F658","v":0},0,0,0,{"$f":"$W$46*F658","v":0},{"$f":"$W$48*F658","v":0},{"$f":"$W$65*F658","v":0},{"$f":"$W$66*F658","v":0},{"$f":"$W$67*F658","v":0},null,{"$f":"SUM(E658:O658)-F658","v":0}]
[null,2,"2 Componentes",null,0,0,{"$f":"SUM(G660:G664)","v":0},0,0,0,0,0,0,0,0,null,0]
["B",2.1,"2.1 Lançadores e Recebedores de Pigs e Esferas ",null,0,0,{"$f":"$W$50*F660","v":0},0,{"$f":"VLOOKUP(A660,$A$7:$AH$72,23,FALSE)","v":0},0,0,0,0,0,0,null,{"$f":"SUM(E660:O660)-F660","v":0}]
["C",2.2000000000000002,"2.2 Válvulas",null,0,0,{"$f":"$W$50*F661","v":0},0,{"$f":"VLOOKUP(A661,$A$7:$AH$72,23,FALSE)","v":0},0,0,0,0,0,0,null,{"$f":"SUM(E661:O661)-F661","v":0}]
["D",2.2999999999999998,"2.3 Sistema de Proteção Catódica e Demais Equipamentos de Controle de Corrosão",null,0,0,{"$f":"$W$50*F662","v":0},0,{"$f":"VLOOKUP(A662,$A$7:$AH$72,23,FALSE)","v":0},0,0,0,0,0,0,null,{"$f":"SUM(E662:O662)-F662","v":0}]
["E",2.4,"2.4 Sistemas de Comunicação e de Supervisão e Controle",null,0,0,{"$f":"$W$50*F663","v":0},0,{"$f":"VLOOKUP(A663,$A$7:$AH$72,23,FALSE)","v":0},0,0,0,0,0,0,null,{"$f":"SUM(E663:O663)-F663","v":0}]
[null,2.5,"2.5 Outros Componentes",null,0,0,{"$f":"$W$50*F664","v":0},0,0,0,0,0,0,0,0,null,{"$f":"SUM(E664:O664)-F664","v":0}]
[null,3,"3 Complementos",null,0,0,{"$f":"SUM(G666:G673)","v":0},0,0,0,0,0,0,0,0,null,0]
["F",3.1,"3.1 Estação(ões) de Recebimento ",null,0,0,{"$f":"$W$50*F666","v":0},0,{"$f":"VLOOKUP(A666,$A$7:$AH$72,23,FALSE)/2","v":0},0,0,0,0,0,0,null,{"$f":"SUM(E666:O666)-F666","v":0}]
["F",3.2,"3.2 Estação(ões) de Entrega",null,0,0,{"$f":"$W$50*F667","v":0},0,{"$f":"VLOOKUP(A667,$A$7:$AH$72,23,FALSE)/2","v":0},0,0,0,0,0,0,null,0]
[null,3.3,"3.3 Estação(ões) de Interconexão",null,0,0,0,0,0,0,0,0,0,0,0,null,0]
[null,3.4,"3.4 Estação(ões) de Compressão",null,0,0,0,0,0,0,0,0,0,0,0,null,0]
[null,3.5,"3.5 Estação(ões) de Medição",null,0,0,0,0,0,0,0,0,0,0,0,null,0]
[null,3.6,"3.6 Estação(ões) de Regulagem de Pressão",null,0,0,0,0,0,0,0,0,0,0,0,null,0]
[null,3.7,"3.7 Sistema Elétrico",null,0,0,0,0,0,0,0,0,0,0,0,null,0]
[null,3.8,"3.8 Sistemas Auxiliares",null,0,0,0,0,0,0,0,0,0,0,0,null,0]
[null,6,"6 Outros Bens e Instalações Diretamente Vinculados",null,0,0,{"$f":"SUM(G675:G679)","v":0},0,0,0,0,0,0,0,0,null,0]
[null,6.1,"6.1 Imóveis/Edificações/Terrenos e Benfeitorias",null,0,0,{"$f":"$W$50*F675","v":0},0,0,0,0,0,0,0,0,null,{"$f":"SUM(E675:O675)-F675","v":0}]
[null,6.2,"6.2 Móveis, Equipamentos e Instalações de Escritório",null,0,0,0,0,0,0,0,0,0,0,0,null,0]
[null,6.3,"6.3 Equipamentos e Instalações de Processamento de Dados e de Comunicação",null,0,0,0,0,0,0,0,0,0,0,0,null,0]
[null,6.4,"6.4 Veículos",null,0,0,0,0,0,0,0,0,0,0,0,null,0]
[null,6.5,"6.5 Outros Bens Imobilizados",null,0,0,0,0,0,0,0,0,0,0,0,null,0]
[null,8,"8 Overhaul",null,0,0,0,0,0,0,0,0,0,0,0,null,0]
[null,null,"Total Geral",null,{"$f":"E656+E659+E665+E674+E680","v":0},{"$f":"F656+F659+F665+F674+F680","v":0},0,0,0,0,0,0,0,0,0,null,0]
[]
[]
[null,"N°","Projetos futuros",null,2039,"%","5.4 Custos de Compart.","4.1 Preparo da Faixa do Duto","4.2 Tubulação e Acessórios","4.3 Travessias e Cruzamen-tos","4.4 Testes, Inspeções e Ensaios Exigidos por Normas","4.5 Condiciona-mento e Comissiona-mento","7.1 Admin. da Obra","7.2 BDI","7.3 Projetos de Engenharia",null,"TOTAL 2039"]
[null,1,"1. Tubulações",null,{"$f":"VLOOKUP(B165,$B$7:$AH$73,23,FALSE)","v":0},{"$f":"SUM(F686:F687)","v":0},0,0,0,0,0,0,0,0,0,null,0]
["A",1.1000000000000001,"1.1 Linha Tronco",null,0,{"$f":"IF(E686=0,0,E686/$E$710)","v":0},{"$f":"$X$50*F686","v":0},{"$f":"$X$35","v":0},{"$f":"VLOOKUP(A686,$A$7:$AH$72,24,FALSE)","v":0},{"$f":"$X$43","v":0},{"$f":"$X$46*F686","v":0},{"$f":"$X$48*F686","v":0},{"$f":"$X$65*F686","v":0},{"$f":"$X$66*F686","v":0},{"$f":"$X$67*F686","v":0},null,{"$f":"SUM(E686:O686)-F686","v":0}]
[null,1.2,"1.2 Trecho(s)/Ramal(is)",null,0,{"$f":"IF(E687=0,0,E687/$E$710)","v":0},{"$f":"$X$50*F687","v":0},0,0,0,{"$f":"$X$46*F687","v":0},{"$f":"$X$48*F687","v":0},{"$f":"$X$65*F687","v":0},{"$f":"$X$66*F687","v":0},{"$f":"$X$67*F687","v":0},null,{"$f":"SUM(E687:O687)-F687","v":0}]
[null,2,"2 Componentes",null,0,0,{"$f":"SUM(G689:G693)","v":0},0,0,0,0,0,0,0,0,null,0]
["B",2.1,"2.1 Lançadores e Recebedores de Pigs e Esferas ",null,0,0,{"$f":"$X$50*F689","v":0},0,{"$f":"VLOOKUP(A689,$A$7:$AH$72,24,FALSE)","v":0},0,0,0,0,0,0,null,{"$f":"SUM(E689:O689)-F689","v":0}]
["C",2.2000000000000002,"2.2 Válvulas",null,0,0,{"$f":"$X$50*F690","v":0},0,{"$f":"VLOOKUP(A690,$A$7:$AH$72,24,FALSE)","v":0},0,0,0,0,0,0,null,{"$f":"SUM(E690:O690)-F690","v":0}]
["D",2.2999999999999998,"2.3 Sistema de Proteção Catódica e Demais Equipamentos de Controle de Corrosão",null,0,0,{"$f":"$X$50*F691","v":0},0,{"$f":"VLOOKUP(A691,$A$7:$AH$72,24,FALSE)","v":0},0,0,0,0,0,0,null,{"$f":"SUM(E691:O691)-F691","v":0}]
["E",2.4,"2.4 Sistemas de Comunicação e de Supervisão e Controle",null,0,0,{"$f":"$X$50*F692","v":0},0,{"$f":"VLOOKUP(A692,$A$7:$AH$72,24,FALSE)","v":0},0,0,0,0,0,0,null,{"$f":"SUM(E692:O692)-F692","v":0}]
[null,2.5,"2.5 Outros Componentes",null,0,0,{"$f":"$X$50*F693","v":0},0,0,0,0,0,0,0,0,null,{"$f":"SUM(E693:O693)-F693","v":0}]
[null,3,"3 Complementos",null,0,0,{"$f":"SUM(G695:G702)","v":0},0,0,0,0,0,0,0,0,null,0]
["F",3.1,"3.1 Estação(ões) de Recebimento ",null,0,0,{"$f":"$X$50*F695","v":0},0,{"$f":"VLOOKUP(A695,$A$7:$AH$72,24,FALSE)/2","v":0},0,0,0,0,0,0,null,{"$f":"SUM(E695:O695)-F695","v":0}]
["F",3.2,"3.2 Estação(ões) de Entrega",null,0,0,{"$f":"$X$50*F696","v":0},0,{"$f":"VLOOKUP(A696,$A$7:$AH$72,24,FALSE)/2","v":0},0,0,0,0,0,0,null,0]
[null,3.3,"3.3 Estação(ões) de Interconexão",null,0,0,0,0,0,0,0,0,0,0,0,null,0]
[null,3.4,"3.4 Estação(ões) de Compressão",null,0,0,0,0,0,0,0,0,0,0,0,null,0]
[null,3.5,"3.5 Estação(ões) de Medição",null,0,0,0,0,0,0,0,0,0,0,0,null,0]
[null,3.6,"3.6 Estação(ões) de Regulagem de Pressão",null,0,0,0,0,0,0,0,0,0,0,0,null,0]
[null,3.7,"3.7 Sistema Elétrico",null,0,0,0,0,0,0,0,0,0,0,0,null,0]
[null,3.8,"3.8 Sistemas Auxiliares",null,0,0,0,0,0,0,0,0,0,0,0,null,0]
[null,6,"6 Outros Bens e Instalações Diretamente Vinculados",null,0,0,{"$f":"SUM(G704:G708)","v":0},0,0,0,0,0,0,0,0,null,0]
[null,6.1,"6.1 Imóveis/Edificações/Terrenos e Benfeitorias",null,0,0,{"$f":"$X$50*F704","v":0},0,0,0,0,0,0,0,0,null,{"$f":"SUM(E704:O704)-F704","v":0}]
[null,6.2,"6.2 Móveis, Equipamentos e Instalações de Escritório",null,0,0,0,0,0,0,0,0,0,0,0,null,0]
[null,6.3,"6.3 Equipamentos e Instalações de Processamento de Dados e de Comunicação",null,0,0,0,0,0,0,0,0,0,0,0,null,0]
[null,6.4,"6.4 Veículos",null,0,0,0,0,0,0,0,0,0,0,0,null,0]
[null,6.5,"6.5 Outros Bens Imobilizados",null,0,0,0,0,0,0,0,0,0,0,0,null,0]
[null,8,"8 Overhaul",null,0,0,0,0,0,0,0,0,0,0,0,null,0]
[null,null,"Total Geral",null,{"$f":"E685+E688+E694+E703+E709","v":0},{"$f":"F685+F688+F694+F703+F709","v":0},0,0,0,0,0,0,0,0,0,null,0]
[]
[]
[null,"N°","Projetos futuros",null,2040,"%","5.4 Custos de Compart.","4.1 Preparo da Faixa do Duto","4.2 Tubulação e Acessórios","4.3 Travessias e Cruzamen-tos","4.4 Testes, Inspeções e Ensaios Exigidos por Normas","4.5 Condiciona-mento e Comissiona-mento","7.1 Admin. da Obra","7.2 BDI","7.3 Projetos de Engenharia",null,"TOTAL 2040"]
[null,1,"1. Tubulações",null,{"$f":"VLOOKUP(B165,$B$7:$AH$73,24,FALSE)","v":0},{"$f":"SUM(F715:F716)","v":0},0,0,0,0,0,0,0,0,0,null,0]
["A",1.1000000000000001,"1.1 Linha Tronco",null,0,{"$f":"IF(E715=0,0,E715/$E$739)","v":0},{"$f":"$Y$50*F715","v":0},{"$f":"$Y$35","v":0},{"$f":"VLOOKUP(A715,$A$7:$AH$72,25,FALSE)","v":0},{"$f":"$Y$43","v":0},{"$f":"$Y$46*F715","v":0},{"$f":"$Y$48*F715","v":0},{"$f":"$Y$65*F715","v":0},{"$f":"$Y$66*F715","v":0},{"$f":"$Y$67*F715","v":0},null,{"$f":"SUM(E715:O715)-F715","v":0}]
[null,1.2,"1.2 Trecho(s)/Ramal(is)",null,0,{"$f":"IF(E716=0,0,E716/$E$739)","v":0},{"$f":"$Y$50*F716","v":0},0,0,0,{"$f":"$Y$46*F716","v":0},{"$f":"$Y$48*F716","v":0},{"$f":"$Y$65*F716","v":0},{"$f":"$Y$66*F716","v":0},{"$f":"$Y$67*F716","v":0},null,{"$f":"SUM(E716:O716)-F716","v":0}]
[null,2,"2 Componentes",null,0,0,{"$f":"SUM(G718:G722)","v":0},0,0,0,0,0,0,0,0,null,0]
["B",2.1,"2.1 Lançadores e Recebedores de Pigs e Esferas ",null,0,0,{"$f":"$Y$50*F718","v":0},0,{"$f":"VLOOKUP(A718,$A$7:$AH$72,25,FALSE)","v":0},0,0,0,0,0,0,null,{"$f":"SUM(E718:O718)-F718","v":0}]
["C",2.2000000000000002,"2.2 Válvulas",null,0,0,{"$f":"$Y$50*F719","v":0},0,{"$f":"VLOOKUP(A719,$A$7:$AH$72,25,FALSE)","v":0},0,0,0,0,0,0,null,{"$f":"SUM(E719:O719)-F719","v":0}]
["D",2.2999999999999998,"2.3 Sistema de Proteção Catódica e Demais Equipamentos de Controle de Corrosão",null,0,0,{"$f":"$Y$50*F720","v":0},0,{"$f":"VLOOKUP(A720,$A$7:$AH$72,25,FALSE)","v":0},0,0,0,0,0,0,null,{"$f":"SUM(E720:O720)-F720","v":0}]
["E",2.4,"2.4 Sistemas de Comunicação e de Supervisão e Controle",null,0,0,{"$f":"$Y$50*F721","v":0},0,{"$f":"VLOOKUP(A721,$A$7:$AH$72,25,FALSE)","v":0},0,0,0,0,0,0,null,{"$f":"SUM(E721:O721)-F721","v":0}]
[null,2.5,"2.5 Outros Componentes",null,0,0,{"$f":"$Y$50*F722","v":0},0,0,0,0,0,0,0,0,null,{"$f":"SUM(E722:O722)-F722","v":0}]
[null,3,"3 Complementos",null,0,0,{"$f":"SUM(G724:G731)","v":0},0,0,0,0,0,0,0,0,null,0]
["F",3.1,"3.1 Estação(ões) de Recebimento ",null,0,0,{"$f":"$Y$50*F724","v":0},0,{"$f":"VLOOKUP(A724,$A$7:$AH$72,25,FALSE)/2","v":0},0,0,0,0,0,0,null,{"$f":"SUM(E724:O724)-F724","v":0}]
["F",3.2,"3.2 Estação(ões) de Entrega",null,0,0,{"$f":"$Y$50*F725","v":0},0,{"$f":"VLOOKUP(A725,$A$7:$AH$72,25,FALSE)/2","v":0},0,0,0,0,0,0,null,0]
[null,3.3,"3.3 Estação(ões) de Interconexão",null,0,0,0,0,0,0,0,0,0,0,0,null,0]
[null,3.4,"3.4 Estação(ões) de Compressão",null,0,0,0,0,0,0,0,0,0,0,0,null,0]
[null,3.5,"3.5 Estação(ões) de Medição",null,0,0,0,0,0,0,0,0,0,0,0,null,0]
[null,3.6,"3.6 Estação(ões) de Regulagem de Pressão",null,0,0,0,0,0,0,0,0,0,0,0,null,0]
[null,3.7,"3.7 Sistema Elétrico",null,0,0,0,0,0,0,0,0,0,0,0,null,0]
[null,3.8,"3.8 Sistemas Auxiliares",null,0,0,0,0,0,0,0,0,0,0,0,null,0]
[null,6,"6 Outros Bens e Instalações Diretamente Vinculados",null,0,0,{"$f":"SUM(G733:G737)","v":0},0,0,0,0,0,0,0,0,null,0]
[null,6.1,"6.1 Imóveis/Edificações/Terrenos e Benfeitorias",null,0,0,{"$f":"$Y$50*F733","v":0},0,0,0,0,0,0,0,0,null,{"$f":"SUM(E733:O733)-F733","v":0}]
[null,6.2,"6.2 Móveis, Equipamentos e Instalações de Escritório",null,0,0,0,0,0,0,0,0,0,0,0,null,0]
[null,6.3,"6.3 Equipamentos e Instalações de Processamento de Dados e de Comunicação",null,0,0,0,0,0,0,0,0,0,0,0,null,0]
[null,6.4,"6.4 Veículos",null,0,0,0,0,0,0,0,0,0,0,0,null,0]
[null,6.5,"6.5 Outros Bens Imobilizados",null,0,0,0,0,0,0,0,0,0,0,0,null,0]
[null,8,"8 Overhaul",null,0,0,0,0,0,0,0,0,0,0,0,null,0]
[null,null,"Total Geral",null,{"$f":"E714+E717+E723+E732+E738","v":0},{"$f":"F714+F717+F723+F732+F738","v":0},0,0,0,0,0,0,0,0,0,null,0]
[]
[]
[null,"N°","Projetos futuros",null,2041,"%","5.4 Custos de Compart.","4.1 Preparo da Faixa do Duto","4.2 Tubulação e Acessórios","4.3 Travessias e Cruzamen-tos","4.4 Testes, Inspeções e Ensaios Exigidos por Normas","4.5 Condiciona-mento e Comissiona-mento","7.1 Admin. da Obra","7.2 BDI","7.3 Projetos de Engenharia",null,"TOTAL 2041"]
[null,1,"1. Tubulações",null,{"$f":"VLOOKUP(B165,$B$7:$AH$73,25,FALSE)","v":0},{"$f":"SUM(F744:F745)","v":0},0,0,0,0,0,0,0,0,0,null,0]
["A",1.1000000000000001,"1.1 Linha Tronco",null,0,{"$f":"IF(E744=0,0,E744/$E$768)","v":0},{"$f":"$Z$50*F744","v":0},{"$f":"$Z$35","v":0},{"$f":"VLOOKUP(A744,$A$7:$AH$72,26,FALSE)","v":0},{"$f":"$Z$43","v":0},{"$f":"$Z$46*F744","v":0},{"$f":"$Z$48*F744","v":0},{"$f":"$Z$65*F744","v":0},{"$f":"$Z$66*F744","v":0},{"$f":"$Z$67*F744","v":0},null,{"$f":"SUM(E744:O744)-F744","v":0}]
[null,1.2,"1.2 Trecho(s)/Ramal(is)",null,0,{"$f":"IF(E745=0,0,E745/$E$768)","v":0},{"$f":"$Z$50*F745","v":0},0,0,0,{"$f":"$Z$46*F745","v":0},{"$f":"$Z$48*F745","v":0},{"$f":"$Z$65*F745","v":0},{"$f":"$Z$66*F745","v":0},{"$f":"$Z$67*F745","v":0},null,{"$f":"SUM(E745:O745)-F745","v":0}]
[null,2,"2 Componentes",null,0,0,{"$f":"SUM(G747:G751)","v":0},0,0,0,0,0,0,0,0,null,0]
["B",2.1,"2.1 Lançadores e Recebedores de Pigs e Esferas ",null,0,0,{"$f":"$Z$50*F747","v":0},0,{"$f":"VLOOKUP(A747,$A$7:$AH$72,26,FALSE)","v":0},0,0,0,0,0,0,null,{"$f":"SUM(E747:O747)-F747","v":0}]
["C",2.2000000000000002,"2.2 Válvulas",null,0,0,{"$f":"$Z$50*F748","v":0},0,{"$f":"VLOOKUP(A748,$A$7:$AH$72,26,FALSE)","v":0},0,0,0,0,0,0,null,{"$f":"SUM(E748:O748)-F748","v":0}]
["D",2.2999999999999998,"2.3 Sistema de Proteção Catódica e Demais Equipamentos de Controle de Corrosão",null,0,0,{"$f":"$Z$50*F749","v":0},0,{"$f":"VLOOKUP(A749,$A$7:$AH$72,26,FALSE)","v":0},0,0,0,0,0,0,null,{"$f":"SUM(E749:O749)-F749","v":0}]
["E",2.4,"2.4 Sistemas de Comunicação e de Supervisão e Controle",null,0,0,{"$f":"$Z$50*F750","v":0},0,{"$f":"VLOOKUP(A750,$A$7:$AH$72,26,FALSE)","v":0},0,0,0,0,0,0,null,{"$f":"SUM(E750:O750)-F750","v":0}]
[null,2.5,"2.5 Outros Componentes",null,0,0,{"$f":"$Z$50*F751","v":0},0,0,0,0,0,0,0,0,null,{"$f":"SUM(E751:O751)-F751","v":0}]
[null,3,"3 Complementos",null,0,0,{"$f":"SUM(G753:G760)","v":0},0,0,0,0,0,0,0,0,null,0]
["F",3.1,"3.1 Estação(ões) de Recebimento ",null,0,0,{"$f":"$Z$50*F753","v":0},0,{"$f":"VLOOKUP(A753,$A$7:$AH$72,26,FALSE)/2","v":0},0,0,0,0,0,0,null,{"$f":"SUM(E753:O753)-F753","v":0}]
["F",3.2,"3.2 Estação(ões) de Entrega",null,0,0,{"$f":"$Z$50*F754","v":0},0,{"$f":"VLOOKUP(A754,$A$7:$AH$72,26,FALSE)/2","v":0},0,0,0,0,0,0,null,0]
[null,3.3,"3.3 Estação(ões) de Interconexão",null,0,0,0,0,0,0,0,0,0,0,0,null,0]
[null,3.4,"3.4 Estação(ões) de Compressão",null,0,0,0,0,0,0,0,0,0,0,0,null,0]
[null,3.5,"3.5 Estação(ões) de Medição",null,0,0,0,0,0,0,0,0,0,0,0,null,0]
[null,3.6,"3.6 Estação(ões) de Regulagem de Pressão",null,0,0,0,0,0,0,0,0,0,0,0,null,0]
[null,3.7,"3.7 Sistema Elétrico",null,0,0,0,0,0,0,0,0,0,0,0,null,0]
[null,3.8,"3.8 Sistemas Auxiliares",null,0,0,0,0,0,0,0,0,0,0,0,null,0]
[null,6,"6 Outros Bens e Instalações Diretamente Vinculados",null,0,0,{"$f":"SUM(G762:G766)","v":0},0,0,0,0,0,0,0,0,null,0]
[null,6.1,"6.1 Imóveis/Edificações/Terrenos e Benfeitorias",null,0,0,{"$f":"$Z$50*F762","v":0},0,0,0,0,0,0,0,0,null,{"$f":"SUM(E762:O762)-F762","v":0}]
[null,6.2,"6.2 Móveis, Equipamentos e Instalações de Escritório",null,0,0,0,0,0,0,0,0,0,0,0,null,0]
[null,6.3,"6.3 Equipamentos e Instalações de Processamento de Dados e de Comunicação",null,0,0,0,0,0,0,0,0,0,0,0,null,0]
[null,6.4,"6.4 Veículos",null,0,0,0,0,0,0,0,0,0,0,0,null,0]
[null,6.5,"6.5 Outros Bens Imobilizados",null,0,0,0,0,0,0,0,0,0,0,0,null,0]
[null,8,"8 Overhaul",null,0,0,0,0,0,0,0,0,0,0,0,null,0]
[null,null,"Total Geral",null,{"$f":"E743+E746+E752+E761+E767","v":0},{"$f":"F743+F746+F752+F761+F767","v":0},0,0,0,0,0,0,0,0,0,null,0]
[]
[]
[null,"N°","Projetos futuros",null,2042,"%","5.4 Custos de Compart.","4.1 Preparo da Faixa do Duto","4.2 Tubulação e Acessórios","4.3 Travessias e Cruzamen-tos","4.4 Testes, Inspeções e Ensaios Exigidos por Normas","4.5 Condiciona-mento e Comissiona-mento","7.1 Admin. da Obra","7.2 BDI","7.3 Projetos de Engenharia",null,"TOTAL 2042"]
[null,1,"1. Tubulações",null,{"$f":"VLOOKUP(B165,$B$7:$AH$73,26,FALSE)","v":0},{"$f":"SUM(F773:F774)","v":0},0,0,0,0,0,0,0,0,0,null,0]
["A",1.1000000000000001,"1.1 Linha Tronco",null,0,{"$f":"IF(E773=0,0,E773/$E$797)","v":0},{"$f":"$AA$50*F773","v":0},{"$f":"$AA$35","v":0},{"$f":"VLOOKUP(A773,$A$7:$AH$72,27,FALSE)","v":0},{"$f":"$AA$43","v":0},{"$f":"$AA$46*F773","v":0},{"$f":"$AA$48*F773","v":0},{"$f":"$AA$65*F773","v":0},{"$f":"$AA$66*F773","v":0},{"$f":"$AA$67*F773","v":0},null,{"$f":"SUM(E773:O773)-F773","v":0}]
[null,1.2,"1.2 Trecho(s)/Ramal(is)",null,0,{"$f":"IF(E774=0,0,E774/$E$797)","v":0},{"$f":"$AA$50*F774","v":0},0,0,0,{"$f":"$AA$46*F774","v":0},{"$f":"$AA$48*F774","v":0},{"$f":"$AA$65*F774","v":0},{"$f":"$AA$66*F774","v":0},{"$f":"$AA$67*F774","v":0},null,{"$f":"SUM(E774:O774)-F774","v":0}]
[null,2,"2 Componentes",null,0,0,{"$f":"SUM(G776:G780)","v":0},0,0,0,0,0,0,0,0,null,0]
["B",2.1,"2.1 Lançadores e Recebedores de Pigs e Esferas ",null,0,0,{"$f":"$AA$50*F776","v":0},0,{"$f":"VLOOKUP(A776,$A$7:$AH$72,27,FALSE)","v":0},0,0,0,0,0,0,null,{"$f":"SUM(E776:O776)-F776","v":0}]
["C",2.2000000000000002,"2.2 Válvulas",null,0,0,{"$f":"$AA$50*F777","v":0},0,{"$f":"VLOOKUP(A777,$A$7:$AH$72,27,FALSE)","v":0},0,0,0,0,0,0,null,{"$f":"SUM(E777:O777)-F777","v":0}]
["D",2.2999999999999998,"2.3 Sistema de Proteção Catódica e Demais Equipamentos de Controle de Corrosão",null,0,0,{"$f":"$AA$50*F778","v":0},0,{"$f":"VLOOKUP(A778,$A$7:$AH$72,27,FALSE)","v":0},0,0,0,0,0,0,null,{"$f":"SUM(E778:O778)-F778","v":0}]
["E",2.4,"2.4 Sistemas de Comunicação e de Supervisão e Controle",null,0,0,{"$f":"$AA$50*F779","v":0},0,{"$f":"VLOOKUP(A779,$A$7:$AH$72,27,FALSE)","v":0},0,0,0,0,0,0,null,{"$f":"SUM(E779:O779)-F779","v":0}]
[null,2.5,"2.5 Outros Componentes",null,0,0,{"$f":"$AA$50*F780","v":0},0,0,0,0,0,0,0,0,null,{"$f":"SUM(E780:O780)-F780","v":0}]
[null,3,"3 Complementos",null,0,0,{"$f":"SUM(G782:G789)","v":0},0,0,0,0,0,0,0,0,null,0]
["F",3.1,"3.1 Estação(ões) de Recebimento ",null,0,0,{"$f":"$AA$50*F782","v":0},0,{"$f":"VLOOKUP(A782,$A$7:$AH$72,27,FALSE)/2","v":0},0,0,0,0,0,0,null,{"$f":"SUM(E782:O782)-F782","v":0}]
["F",3.2,"3.2 Estação(ões) de Entrega",null,0,0,{"$f":"$AA$50*F783","v":0},0,{"$f":"VLOOKUP(A783,$A$7:$AH$72,27,FALSE)/2","v":0},0,0,0,0,0,0,null,0]
[null,3.3,"3.3 Estação(ões) de Interconexão",null,0,0,0,0,0,0,0,0,0,0,0,null,0]
[null,3.4,"3.4 Estação(ões) de Compressão",null,0,0,0,0,0,0,0,0,0,0,0,null,0]
[null,3.5,"3.5 Estação(ões) de Medição",null,0,0,0,0,0,0,0,0,0,0,0,null,0]
[null,3.6,"3.6 Estação(ões) de Regulagem de Pressão",null,0,0,0,0,0,0,0,0,0,0,0,null,0]
[null,3.7,"3.7 Sistema Elétrico",null,0,0,0,0,0,0,0,0,0,0,0,null,0]
[null,3.8,"3.8 Sistemas Auxiliares",null,0,0,0,0,0,0,0,0,0,0,0,null,0]
[null,6,"6 Outros Bens e Instalações Diretamente Vinculados",null,0,0,{"$f":"SUM(G791:G795)","v":0},0,0,0,0,0,0,0,0,null,0]
[null,6.1,"6.1 Imóveis/Edificações/Terrenos e Benfeitorias",null,0,0,{"$f":"$AA$50*F791","v":0},0,0,0,0,0,0,0,0,null,{"$f":"SUM(E791:O791)-F791","v":0}]
[null,6.2,"6.2 Móveis, Equipamentos e Instalações de Escritório",null,0,0,0,0,0,0,0,0,0,0,0,null,0]
[null,6.3,"6.3 Equipamentos e Instalações de Processamento de Dados e de Comunicação",null,0,0,0,0,0,0,0,0,0,0,0,null,0]
[null,6.4,"6.4 Veículos",null,0,0,0,0,0,0,0,0,0,0,0,null,0]
[null,6.5,"6.5 Outros Bens Imobilizados",null,0,0,0,0,0,0,0,0,0,0,0,null,0]
[null,8,"8 Overhaul",null,0,0,0,0,0,0,0,0,0,0,0,null,0]
[null,null,"Total Geral",null,{"$f":"E772+E775+E781+E790+E796","v":0},{"$f":"F772+F775+F781+F790+F796","v":0},0,0,0,0,0,0,0,0,0,null,0]
[]
[]
[null,"N°","Projetos futuros",null,2043,"%","5.4 Custos de Compart.","4.1 Preparo da Faixa do Duto","4.2 Tubulação e Acessórios","4.3 Travessias e Cruzamen-tos","4.4 Testes, Inspeções e Ensaios Exigidos por Normas","4.5 Condiciona-mento e Comissiona-mento","7.1 Admin. da Obra","7.2 BDI","7.3 Projetos de Engenharia",null,"TOTAL 2043"]
[null,1,"1. Tubulações",null,{"$f":"VLOOKUP(B165,$B$7:$AH$73,27,FALSE)","v":0},{"$f":"SUM(F802:F803)","v":0},0,0,0,0,0,0,0,0,0,null,0]
["A",1.1000000000000001,"1.1 Linha Tronco",null,0,{"$f":"IF(E802=0,0,E802/$E$826)","v":0},{"$f":"$AB$50*F802","v":0},{"$f":"$AB$35","v":0},{"$f":"VLOOKUP(A802,$A$7:$AH$72,28,FALSE)","v":0},{"$f":"$AB$43","v":0},{"$f":"$AB$46*F802","v":0},{"$f":"$AB$48*F802","v":0},{"$f":"$AB$65*F802","v":0},{"$f":"$AB$66*F802","v":0},{"$f":"$AB$67*F802","v":0},null,{"$f":"SUM(E802:O802)-F802","v":0}]
[null,1.2,"1.2 Trecho(s)/Ramal(is)",null,0,{"$f":"IF(E803=0,0,E803/$E$826)","v":0},{"$f":"$AB$50*F803","v":0},0,0,0,{"$f":"$AB$46*F803","v":0},{"$f":"$AB$48*F803","v":0},{"$f":"$AB$65*F803","v":0},{"$f":"$AB$66*F803","v":0},{"$f":"$AB$67*F803","v":0},null,{"$f":"SUM(E803:O803)-F803","v":0}]
[null,2,"2 Componentes",null,0,0,{"$f":"SUM(G805:G809)","v":0},0,0,0,0,0,0,0,0,null,0]
["B",2.1,"2.1 Lançadores e Recebedores de Pigs e Esferas ",null,0,0,{"$f":"$AB$50*F805","v":0},0,{"$f":"VLOOKUP(A805,$A$7:$AH$72,28,FALSE)","v":0},0,0,0,0,0,0,null,{"$f":"SUM(E805:O805)-F805","v":0}]
["C",2.2000000000000002,"2.2 Válvulas",null,0,0,{"$f":"$AB$50*F806","v":0},0,{"$f":"VLOOKUP(A806,$A$7:$AH$72,28,FALSE)","v":0},0,0,0,0,0,0,null,{"$f":"SUM(E806:O806)-F806","v":0}]
["D",2.2999999999999998,"2.3 Sistema de Proteção Catódica e Demais Equipamentos de Controle de Corrosão",null,0,0,{"$f":"$AB$50*F807","v":0},0,{"$f":"VLOOKUP(A807,$A$7:$AH$72,28,FALSE)","v":0},0,0,0,0,0,0,null,{"$f":"SUM(E807:O807)-F807","v":0}]
["E",2.4,"2.4 Sistemas de Comunicação e de Supervisão e Controle",null,0,0,{"$f":"$AB$50*F808","v":0},0,{"$f":"VLOOKUP(A808,$A$7:$AH$72,28,FALSE)","v":0},0,0,0,0,0,0,null,{"$f":"SUM(E808:O808)-F808","v":0}]
[null,2.5,"2.5 Outros Componentes",null,0,0,{"$f":"$AB$50*F809","v":0},0,0,0,0,0,0,0,0,null,{"$f":"SUM(E809:O809)-F809","v":0}]
[null,3,"3 Complementos",null,0,0,{"$f":"SUM(G811:G818)","v":0},0,0,0,0,0,0,0,0,null,0]
["F",3.1,"3.1 Estação(ões) de Recebimento ",null,0,0,{"$f":"$AB$50*F811","v":0},0,{"$f":"VLOOKUP(A811,$A$7:$AH$72,28,FALSE)/2","v":0},0,0,0,0,0,0,null,{"$f":"SUM(E811:O811)-F811","v":0}]
["F",3.2,"3.2 Estação(ões) de Entrega",null,0,0,{"$f":"$AB$50*F812","v":0},0,{"$f":"VLOOKUP(A812,$A$7:$AH$72,28,FALSE)/2","v":0},0,0,0,0,0,0,null,0]
[null,3.3,"3.3 Estação(ões) de Interconexão",null,0,0,0,0,0,0,0,0,0,0,0,null,0]
[null,3.4,"3.4 Estação(ões) de Compressão",null,0,0,0,0,0,0,0,0,0,0,0,null,0]
[null,3.5,"3.5 Estação(ões) de Medição",null,0,0,0,0,0,0,0,0,0,0,0,null,0]
[null,3.6,"3.6 Estação(ões) de Regulagem de Pressão",null,0,0,0,0,0,0,0,0,0,0,0,null,0]
[null,3.7,"3.7 Sistema Elétrico",null,0,0,0,0,0,0,0,0,0,0,0,null,0]
[null,3.8,"3.8 Sistemas Auxiliares",null,0,0,0,0,0,0,0,0,0,0,0,null,0]
[null,6,"6 Outros Bens e Instalações Diretamente Vinculados",null,0,0,{"$f":"SUM(G820:G824)","v":0},0,0,0,0,0,0,0,0,null,0]
[null,6.1,"6.1 Imóveis/Edificações/Terrenos e Benfeitorias",null,0,0,{"$f":"$AB$50*F820","v":0},0,0,0,0,0,0,0,0,null,{"$f":"SUM(E820:O820)-F820","v":0}]
[null,6.2,"6.2 Móveis, Equipamentos e Instalações de Escritório",null,0,0,0,0,0,0,0,0,0,0,0,null,0]
[null,6.3,"6.3 Equipamentos e Instalações de Processamento de Dados e de Comunicação",null,0,0,0,0,0,0,0,0,0,0,0,null,0]
[null,6.4,"6.4 Veículos",null,0,0,0,0,0,0,0,0,0,0,0,null,0]
[null,6.5,"6.5 Outros Bens Imobilizados",null,0,0,0,0,0,0,0,0,0,0,0,null,0]
[null,8,"8 Overhaul",null,0,0,0,0,0,0,0,0,0,0,0,null,0]
[null,null,"Total Geral",null,{"$f":"E801+E804+E810+E819+E825","v":0},{"$f":"F801+F804+F810+F819+F825","v":0},0,0,0,0,0,0,0,0,0,null,0]
[]
[]
[null,"N°","Projetos futuros",null,2044,"%","5.4 Custos de Compart.","4.1 Preparo da Faixa do Duto","4.2 Tubulação e Acessórios","4.3 Travessias e Cruzamen-tos","4.4 Testes, Inspeções e Ensaios Exigidos por Normas","4.5 Condiciona-mento e Comissiona-mento","7.1 Admin. da Obra","7.2 BDI","7.3 Projetos de Engenharia",null,"TOTAL 2044"]
[null,1,"1. Tubulações",null,{"$f":"VLOOKUP(B165,$B$7:$AH$73,28,FALSE)","v":0},{"$f":"SUM(F831:F832)","v":0},0,0,0,0,0,0,0,0,0,null,0]
["A",1.1000000000000001,"1.1 Linha Tronco",null,0,{"$f":"IF(E831=0,0,E831/$E$855)","v":0},{"$f":"$AC$50*F831","v":0},{"$f":"$AC$35","v":0},{"$f":"VLOOKUP(A831,$A$7:$AH$72,29,FALSE)","v":0},{"$f":"$AC$43","v":0},{"$f":"$AC$46*F831","v":0},{"$f":"$AC$48*F831","v":0},{"$f":"$AC$65*F831","v":0},{"$f":"$AC$66*F831","v":0},{"$f":"$AC$67*F831","v":0},null,{"$f":"SUM(E831:O831)-F831","v":0}]
[null,1.2,"1.2 Trecho(s)/Ramal(is)",null,0,{"$f":"IF(E832=0,0,E832/$E$855)","v":0},{"$f":"$AC$50*F832","v":0},0,0,0,{"$f":"$AC$46*F832","v":0},{"$f":"$AC$48*F832","v":0},{"$f":"$AC$65*F832","v":0},{"$f":"$AC$66*F832","v":0},{"$f":"$AC$67*F832","v":0},null,{"$f":"SUM(E832:O832)-F832","v":0}]
[null,2,"2 Componentes",null,0,0,{"$f":"SUM(G834:G838)","v":0},0,0,0,0,0,0,0,0,null,0]
["B",2.1,"2.1 Lançadores e Recebedores de Pigs e Esferas ",null,0,0,{"$f":"$AC$50*F834","v":0},0,{"$f":"VLOOKUP(A834,$A$7:$AH$72,29,FALSE)","v":0},0,0,0,0,0,0,null,{"$f":"SUM(E834:O834)-F834","v":0}]
["C",2.2000000000000002,"2.2 Válvulas",null,0,0,{"$f":"$AC$50*F835","v":0},0,{"$f":"VLOOKUP(A835,$A$7:$AH$72,29,FALSE)","v":0},0,0,0,0,0,0,null,{"$f":"SUM(E835:O835)-F835","v":0}]
["D",2.2999999999999998,"2.3 Sistema de Proteção Catódica e Demais Equipamentos de Controle de Corrosão",null,0,0,{"$f":"$AC$50*F836","v":0},0,{"$f":"VLOOKUP(A836,$A$7:$AH$72,29,FALSE)","v":0},0,0,0,0,0,0,null,{"$f":"SUM(E836:O836)-F836","v":0}]
["E",2.4,"2.4 Sistemas de Comunicação e de Supervisão e Controle",null,0,0,{"$f":"$AC$50*F837","v":0},0,{"$f":"VLOOKUP(A837,$A$7:$AH$72,29,FALSE)","v":0},0,0,0,0,0,0,null,{"$f":"SUM(E837:O837)-F837","v":0}]
[null,2.5,"2.5 Outros Componentes",null,0,0,{"$f":"$AC$50*F838","v":0},0,0,0,0,0,0,0,0,null,{"$f":"SUM(E838:O838)-F838","v":0}]
[null,3,"3 Complementos",null,0,0,{"$f":"SUM(G840:G847)","v":0},0,0,0,0,0,0,0,0,null,0]
["F",3.1,"3.1 Estação(ões) de Recebimento ",null,0,0,{"$f":"$AC$50*F840","v":0},0,{"$f":"VLOOKUP(A840,$A$7:$AH$72,29,FALSE)/2","v":0},0,0,0,0,0,0,null,{"$f":"SUM(E840:O840)-F840","v":0}]
["F",3.2,"3.2 Estação(ões) de Entrega",null,0,0,{"$f":"$AC$50*F841","v":0},0,{"$f":"VLOOKUP(A841,$A$7:$AH$72,29,FALSE)/2","v":0},0,0,0,0,0,0,null,0]
[null,3.3,"3.3 Estação(ões) de Interconexão",null,0,0,0,0,0,0,0,0,0,0,0,null,0]
[null,3.4,"3.4 Estação(ões) de Compressão",null,0,0,0,0,0,0,0,0,0,0,0,null,0]
[null,3.5,"3.5 Estação(ões) de Medição",null,0,0,0,0,0,0,0,0,0,0,0,null,0]
[null,3.6,"3.6 Estação(ões) de Regulagem de Pressão",null,0,0,0,0,0,0,0,0,0,0,0,null,0]
[null,3.7,"3.7 Sistema Elétrico",null,0,0,0,0,0,0,0,0,0,0,0,null,0]
[null,3.8,"3.8 Sistemas Auxiliares",null,0,0,0,0,0,0,0,0,0,0,0,null,0]
[null,6,"6 Outros Bens e Instalações Diretamente Vinculados",null,0,0,{"$f":"SUM(G849:G853)","v":0},0,0,0,0,0,0,0,0,null,0]
[null,6.1,"6.1 Imóveis/Edificações/Terrenos e Benfeitorias",null,0,0,{"$f":"$AC$50*F849","v":0},0,0,0,0,0,0,0,0,null,{"$f":"SUM(E849:O849)-F849","v":0}]
[null,6.2,"6.2 Móveis, Equipamentos e Instalações de Escritório",null,0,0,0,0,0,0,0,0,0,0,0,null,0]
[null,6.3,"6.3 Equipamentos e Instalações de Processamento de Dados e de Comunicação",null,0,0,0,0,0,0,0,0,0,0,0,null,0]
[null,6.4,"6.4 Veículos",null,0,0,0,0,0,0,0,0,0,0,0,null,0]
[null,6.5,"6.5 Outros Bens Imobilizados",null,0,0,0,0,0,0,0,0,0,0,0,null,0]
[null,8,"8 Overhaul",null,0,0,0,0,0,0,0,0,0,0,0,null,0]
[null,null,"Total Geral",null,{"$f":"E830+E833+E839+E848+E854","v":0},{"$f":"F830+F833+F839+F848+F854","v":0},0,0,0,0,0,0,0,0,0,null,0]
[]
[]
[null,"N°","Projetos futuros",null,2045,"%","5.4 Custos de Compart.","4.1 Preparo da Faixa do Duto","4.2 Tubulação e Acessórios","4.3 Travessias e Cruzamen-tos","4.4 Testes, Inspeções e Ensaios Exigidos por Normas","4.5 Condiciona-mento e Comissiona-mento","7.1 Admin. da Obra","7.2 BDI","7.3 Projetos de Engenharia",null,"TOTAL 2045"]
[null,1,"1. Tubulações",null,{"$f":"VLOOKUP(B165,$B$7:$AH$73,29,FALSE)","v":0},{"$f":"SUM(F860:F861)","v":0},0,0,0,0,0,0,0,0,0,null,0]
["A",1.1000000000000001,"1.1 Linha Tronco",null,0,{"$f":"IF(E860=0,0,E860/$E$884)","v":0},{"$f":"$AD$50*F860","v":0},{"$f":"$AD$35","v":0},{"$f":"VLOOKUP(A860,$A$7:$AH$72,30,FALSE)","v":0},{"$f":"$AD$43","v":0},{"$f":"$AD$46*F860","v":0},{"$f":"$AD$48*F860","v":0},{"$f":"$AD$65*F860","v":0},{"$f":"$AD$66*F860","v":0},{"$f":"$AD$67*F860","v":0},null,{"$f":"SUM(E860:O860)-F860","v":0}]
[null,1.2,"1.2 Trecho(s)/Ramal(is)",null,0,{"$f":"IF(E861=0,0,E861/$E$884)","v":0},{"$f":"$AD$50*F861","v":0},0,0,0,{"$f":"$AD$46*F861","v":0},{"$f":"$AD$48*F861","v":0},{"$f":"$AD$65*F861","v":0},{"$f":"$AD$66*F861","v":0},{"$f":"$AD$67*F861","v":0},null,{"$f":"SUM(E861:O861)-F861","v":0}]
[null,2,"2 Componentes",null,0,0,{"$f":"SUM(G863:G867)","v":0},0,0,0,0,0,0,0,0,null,0]
["B",2.1,"2.1 Lançadores e Recebedores de Pigs e Esferas ",null,0,0,{"$f":"$AD$50*F863","v":0},0,{"$f":"VLOOKUP(A863,$A$7:$AH$72,30,FALSE)","v":0},0,0,0,0,0,0,null,{"$f":"SUM(E863:O863)-F863","v":0}]
["C",2.2000000000000002,"2.2 Válvulas",null,0,0,{"$f":"$AD$50*F864","v":0},0,{"$f":"VLOOKUP(A864,$A$7:$AH$72,30,FALSE)","v":0},0,0,0,0,0,0,null,{"$f":"SUM(E864:O864)-F864","v":0}]
["D",2.2999999999999998,"2.3 Sistema de Proteção Catódica e Demais Equipamentos de Controle de Corrosão",null,0,0,{"$f":"$AD$50*F865","v":0},0,{"$f":"VLOOKUP(A865,$A$7:$AH$72,30,FALSE)","v":0},0,0,0,0,0,0,null,{"$f":"SUM(E865:O865)-F865","v":0}]
["E",2.4,"2.4 Sistemas de Comunicação e de Supervisão e Controle",null,0,0,{"$f":"$AD$50*F866","v":0},0,{"$f":"VLOOKUP(A866,$A$7:$AH$72,30,FALSE)","v":0},0,0,0,0,0,0,null,{"$f":"SUM(E866:O866)-F866","v":0}]
[null,2.5,"2.5 Outros Componentes",null,0,0,{"$f":"$AD$50*F867","v":0},0,0,0,0,0,0,0,0,null,{"$f":"SUM(E867:O867)-F867","v":0}]
[null,3,"3 Complementos",null,0,0,{"$f":"SUM(G869:G876)","v":0},0,0,0,0,0,0,0,0,null,0]
["F",3.1,"3.1 Estação(ões) de Recebimento ",null,0,0,{"$f":"$AD$50*F869","v":0},0,{"$f":"VLOOKUP(A869,$A$7:$AH$72,30,FALSE)/2","v":0},0,0,0,0,0,0,null,{"$f":"SUM(E869:O869)-F869","v":0}]
["F",3.2,"3.2 Estação(ões) de Entrega",null,0,0,{"$f":"$AD$50*F870","v":0},0,{"$f":"VLOOKUP(A870,$A$7:$AH$72,30,FALSE)/2","v":0},0,0,0,0,0,0,null,0]
[null,3.3,"3.3 Estação(ões) de Interconexão",null,0,0,0,0,0,0,0,0,0,0,0,null,0]
[null,3.4,"3.4 Estação(ões) de Compressão",null,0,0,0,0,0,0,0,0,0,0,0,null,0]
[null,3.5,"3.5 Estação(ões) de Medição",null,0,0,0,0,0,0,0,0,0,0,0,null,0]
[null,3.6,"3.6 Estação(ões) de Regulagem de Pressão",null,0,0,0,0,0,0,0,0,0,0,0,null,0]
[null,3.7,"3.7 Sistema Elétrico",null,0,0,0,0,0,0,0,0,0,0,0,null,0]
[null,3.8,"3.8 Sistemas Auxiliares",null,0,0,0,0,0,0,0,0,0,0,0,null,0]
[null,6,"6 Outros Bens e Instalações Diretamente Vinculados",null,0,0,{"$f":"SUM(G878:G882)","v":0},0,0,0,0,0,0,0,0,null,0]
[null,6.1,"6.1 Imóveis/Edificações/Terrenos e Benfeitorias",null,0,0,{"$f":"$AD$50*F878","v":0},0,0,0,0,0,0,0,0,null,{"$f":"SUM(E878:O878)-F878","v":0}]
[null,6.2,"6.2 Móveis, Equipamentos e Instalações de Escritório",null,0,0,0,0,0,0,0,0,0,0,0,null,0]
[null,6.3,"6.3 Equipamentos e Instalações de Processamento de Dados e de Comunicação",null,0,0,0,0,0,0,0,0,0,0,0,null,0]
[null,6.4,"6.4 Veículos",null,0,0,0,0,0,0,0,0,0,0,0,null,0]
[null,6.5,"6.5 Outros Bens Imobilizados",null,0,0,0,0,0,0,0,0,0,0,0,null,0]
[null,8,"8 Overhaul",null,0,0,0,0,0,0,0,0,0,0,0,null,0]
[null,null,"Total Geral",null,{"$f":"E859+E862+E868+E877+E883","v":0},{"$f":"F859+F862+F868+F877+F883","v":0},0,0,0,0,0,0,0,0,0,null,0]
[]
[]
[null,"N°","Projetos futuros",null,2046,"%","5.4 Custos de Compart.","4.1 Preparo da Faixa do Duto","4.2 Tubulação e Acessórios","4.3 Travessias e Cruzamen-tos","4.4 Testes, Inspeções e Ensaios Exigidos por Normas","4.5 Condiciona-mento e Comissiona-mento","7.1 Admin. da Obra","7.2 BDI","7.3 Projetos de Engenharia",null,"TOTAL 2046"]
[null,1,"1. Tubulações",null,{"$f":"VLOOKUP(B165,$B$7:$AH$73,30,FALSE)","v":0},{"$f":"SUM(F889:F890)","v":0},0,0,0,0,0,0,0,0,0,null,0]
["A",1.1000000000000001,"1.1 Linha Tronco",null,0,{"$f":"IF(E889=0,0,E889/$E$913)","v":0},{"$f":"$AE$50*F889","v":0},{"$f":"$AE$35","v":0},{"$f":"VLOOKUP(A889,$A$7:$AH$72,31,FALSE)","v":0},{"$f":"$AE$43","v":0},{"$f":"$AE$46*F889","v":0},{"$f":"$AE$48*F889","v":0},{"$f":"$AE$65*F889","v":0},{"$f":"$AE$66*F889","v":0},{"$f":"$AE$67*F889","v":0},null,{"$f":"SUM(E889:O889)-F889","v":0}]
[null,1.2,"1.2 Trecho(s)/Ramal(is)",null,0,{"$f":"IF(E890=0,0,E890/$E$913)","v":0},{"$f":"$AE$50*F890","v":0},0,0,0,{"$f":"$AE$46*F890","v":0},{"$f":"$AE$48*F890","v":0},{"$f":"$AE$65*F890","v":0},{"$f":"$AE$66*F890","v":0},{"$f":"$AE$67*F890","v":0},null,{"$f":"SUM(E890:O890)-F890","v":0}]
[null,2,"2 Componentes",null,0,0,{"$f":"SUM(G892:G896)","v":0},0,0,0,0,0,0,0,0,null,0]
["B",2.1,"2.1 Lançadores e Recebedores de Pigs e Esferas ",null,0,0,{"$f":"$AE$50*F892","v":0},0,{"$f":"VLOOKUP(A892,$A$7:$AH$72,31,FALSE)","v":0},0,0,0,0,0,0,null,{"$f":"SUM(E892:O892)-F892","v":0}]
["C",2.2000000000000002,"2.2 Válvulas",null,0,0,{"$f":"$AE$50*F893","v":0},0,{"$f":"VLOOKUP(A893,$A$7:$AH$72,31,FALSE)","v":0},0,0,0,0,0,0,null,{"$f":"SUM(E893:O893)-F893","v":0}]
["D",2.2999999999999998,"2.3 Sistema de Proteção Catódica e Demais Equipamentos de Controle de Corrosão",null,0,0,{"$f":"$AE$50*F894","v":0},0,{"$f":"VLOOKUP(A894,$A$7:$AH$72,31,FALSE)","v":0},0,0,0,0,0,0,null,{"$f":"SUM(E894:O894)-F894","v":0}]
["E",2.4,"2.4 Sistemas de Comunicação e de Supervisão e Controle",null,0,0,{"$f":"$AE$50*F895","v":0},0,{"$f":"VLOOKUP(A895,$A$7:$AH$72,31,FALSE)","v":0},0,0,0,0,0,0,null,{"$f":"SUM(E895:O895)-F895","v":0}]
[null,2.5,"2.5 Outros Componentes",null,0,0,{"$f":"$AE$50*F896","v":0},0,0,0,0,0,0,0,0,null,{"$f":"SUM(E896:O896)-F896","v":0}]
[null,3,"3 Complementos",null,0,0,{"$f":"SUM(G898:G905)","v":0},0,0,0,0,0,0,0,0,null,0]
["F",3.1,"3.1 Estação(ões) de Recebimento ",null,0,0,{"$f":"$AE$50*F898","v":0},0,{"$f":"VLOOKUP(A898,$A$7:$AH$72,31,FALSE)/2","v":0},0,0,0,0,0,0,null,{"$f":"SUM(E898:O898)-F898","v":0}]
["F",3.2,"3.2 Estação(ões) de Entrega",null,0,0,{"$f":"$AE$50*F899","v":0},0,{"$f":"VLOOKUP(A899,$A$7:$AH$72,31,FALSE)/2","v":0},0,0,0,0,0,0,null,0]
[null,3.3,"3.3 Estação(ões) de Interconexão",null,0,0,0,0,0,0,0,0,0,0,0,null,0]
[null,3.4,"3.4 Estação(ões) de Compressão",null,0,0,0,0,0,0,0,0,0,0,0,null,0]
[null,3.5,"3.5 Estação(ões) de Medição",null,0,0,0,0,0,0,0,0,0,0,0,null,0]
[null,3.6,"3.6 Estação(ões) de Regulagem de Pressão",null,0,0,0,0,0,0,0,0,0,0,0,null,0]
[null,3.7,"3.7 Sistema Elétrico",null,0,0,0,0,0,0,0,0,0,0,0,null,0]
[null,3.8,"3.8 Sistemas Auxiliares",null,0,0,0,0,0,0,0,0,0,0,0,null,0]
[null,6,"6 Outros Bens e Instalações Diretamente Vinculados",null,0,0,{"$f":"SUM(G907:G911)","v":0},0,0,0,0,0,0,0,0,null,0]
[null,6.1,"6.1 Imóveis/Edificações/Terrenos e Benfeitorias",null,0,0,{"$f":"$AE$50*F907","v":0},0,0,0,0,0,0,0,0,null,{"$f":"SUM(E907:O907)-F907","v":0}]
[null,6.2,"6.2 Móveis, Equipamentos e Instalações de Escritório",null,0,0,0,0,0,0,0,0,0,0,0,null,0]
[null,6.3,"6.3 Equipamentos e Instalações de Processamento de Dados e de Comunicação",null,0,0,0,0,0,0,0,0,0,0,0,null,0]
[null,6.4,"6.4 Veículos",null,0,0,0,0,0,0,0,0,0,0,0,null,0]
[null,6.5,"6.5 Outros Bens Imobilizados",null,0,0,0,0,0,0,0,0,0,0,0,null,0]
[null,8,"8 Overhaul",null,0,0,0,0,0,0,0,0,0,0,0,null,0]
[null,null,"Total Geral",null,{"$f":"E888+E891+E897+E906+E912","v":0},{"$f":"F888+F891+F897+F906+F912","v":0},0,0,0,0,0,0,0,0,0,null,0]
[]
[]
[null,"N°","Projetos futuros",null,2047,"%","5.4 Custos de Compart.","4.1 Preparo da Faixa do Duto","4.2 Tubulação e Acessórios","4.3 Travessias e Cruzamen-tos","4.4 Testes, Inspeções e Ensaios Exigidos por Normas","4.5 Condiciona-mento e Comissiona-mento","7.1 Admin. da Obra","7.2 BDI","7.3 Projetos de Engenharia",null,"TOTAL 2047"]
[null,1,"1. Tubulações",null,{"$f":"VLOOKUP(B165,$B$7:$AH$73,31,FALSE)","v":0},{"$f":"SUM(F918:F919)","v":0},0,0,0,0,0,0,0,0,0,null,0]
["A",1.1000000000000001,"1.1 Linha Tronco",null,0,{"$f":"IF(E918=0,0,E918/$E$942)","v":0},{"$f":"$AF$50*F918","v":0},{"$f":"$AF$35","v":0},{"$f":"VLOOKUP(A918,$A$7:$AH$72,32,FALSE)","v":0},{"$f":"$AF$43","v":0},{"$f":"$AF$46*F918","v":0},{"$f":"$AF$48*F918","v":0},{"$f":"$AF$65*F918","v":0},{"$f":"$AF$66*F918","v":0},{"$f":"$AF$67*F918","v":0},null,{"$f":"SUM(E918:O918)-F918","v":0}]
[null,1.2,"1.2 Trecho(s)/Ramal(is)",null,0,{"$f":"IF(E919=0,0,E919/$E$942)","v":0},{"$f":"$AF$50*F919","v":0},0,0,0,{"$f":"$AF$46*F919","v":0},{"$f":"$AF$48*F919","v":0},{"$f":"$AF$65*F919","v":0},{"$f":"$AF$66*F919","v":0},{"$f":"$AF$67*F919","v":0},null,{"$f":"SUM(E919:O919)-F919","v":0}]
[null,2,"2 Componentes",null,0,0,{"$f":"SUM(G921:G925)","v":0},0,0,0,0,0,0,0,0,null,0]
["B",2.1,"2.1 Lançadores e Recebedores de Pigs e Esferas ",null,0,0,{"$f":"$AF$50*F921","v":0},0,{"$f":"VLOOKUP(A921,$A$7:$AH$72,32,FALSE)","v":0},0,0,0,0,0,0,null,{"$f":"SUM(E921:O921)-F921","v":0}]
["C",2.2000000000000002,"2.2 Válvulas",null,0,0,{"$f":"$AF$50*F922","v":0},0,{"$f":"VLOOKUP(A922,$A$7:$AH$72,32,FALSE)","v":0},0,0,0,0,0,0,null,{"$f":"SUM(E922:O922)-F922","v":0}]
["D",2.2999999999999998,"2.3 Sistema de Proteção Catódica e Demais Equipamentos de Controle de Corrosão",null,0,0,{"$f":"$AF$50*F923","v":0},0,{"$f":"VLOOKUP(A923,$A$7:$AH$72,32,FALSE)","v":0},0,0,0,0,0,0,null,{"$f":"SUM(E923:O923)-F923","v":0}]
["E",2.4,"2.4 Sistemas de Comunicação e de Supervisão e Controle",null,0,0,{"$f":"$AF$50*F924","v":0},0,{"$f":"VLOOKUP(A924,$A$7:$AH$72,32,FALSE)","v":0},0,0,0,0,0,0,null,{"$f":"SUM(E924:O924)-F924","v":0}]
[null,2.5,"2.5 Outros Componentes",null,0,0,{"$f":"$AF$50*F925","v":0},0,0,0,0,0,0,0,0,null,{"$f":"SUM(E925:O925)-F925","v":0}]
[null,3,"3 Complementos",null,0,0,{"$f":"SUM(G927:G934)","v":0},0,0,0,0,0,0,0,0,null,0]
["F",3.1,"3.1 Estação(ões) de Recebimento ",null,0,0,{"$f":"$AF$50*F927","v":0},0,{"$f":"VLOOKUP(A927,$A$7:$AH$72,32,FALSE)/2","v":0},0,0,0,0,0,0,null,{"$f":"SUM(E927:O927)-F927","v":0}]
["F",3.2,"3.2 Estação(ões) de Entrega",null,0,0,{"$f":"$AF$50*F928","v":0},0,{"$f":"VLOOKUP(A928,$A$7:$AH$72,32,FALSE)/2","v":0},0,0,0,0,0,0,null,0]
[null,3.3,"3.3 Estação(ões) de Interconexão",null,0,0,0,0,0,0,0,0,0,0,0,null,0]
[null,3.4,"3.4 Estação(ões) de Compressão",null,0,0,0,0,0,0,0,0,0,0,0,null,0]
[null,3.5,"3.5 Estação(ões) de Medição",null,0,0,0,0,0,0,0,0,0,0,0,null,0]
[null,3.6,"3.6 Estação(ões) de Regulagem de Pressão",null,0,0,0,0,0,0,0,0,0,0,0,null,0]
[null,3.7,"3.7 Sistema Elétrico",null,0,0,0,0,0,0,0,0,0,0,0,null,0]
[null,3.8,"3.8 Sistemas Auxiliares",null,0,0,0,0,0,0,0,0,0,0,0,null,0]
[null,6,"6 Outros Bens e Instalações Diretamente Vinculados",null,0,0,{"$f":"SUM(G936:G940)","v":0},0,0,0,0,0,0,0,0,null,0]
[null,6.1,"6.1 Imóveis/Edificações/Terrenos e Benfeitorias",null,0,0,{"$f":"$AF$50*F936","v":0},0,0,0,0,0,0,0,0,null,{"$f":"SUM(E936:O936)-F936","v":0}]
[null,6.2,"6.2 Móveis, Equipamentos e Instalações de Escritório",null,0,0,0,0,0,0,0,0,0,0,0,null,0]
[null,6.3,"6.3 Equipamentos e Instalações de Processamento de Dados e de Comunicação",null,0,0,0,0,0,0,0,0,0,0,0,null,0]
[null,6.4,"6.4 Veículos",null,0,0,0,0,0,0,0,0,0,0,0,null,0]
[null,6.5,"6.5 Outros Bens Imobilizados",null,0,0,0,0,0,0,0,0,0,0,0,null,0]
[null,8,"8 Overhaul",null,0,0,0,0,0,0,0,0,0,0,0,null,0]
[null,null,"Total Geral",null,{"$f":"E917+E920+E926+E935+E941","v":0},{"$f":"F917+F920+F926+F935+F941","v":0},0,0,0,0,0,0,0,0,0,null,0]
[]
[]
[null,"N°","Projetos futuros",null,2048,"%","5.4 Custos de Compart.","4.1 Preparo da Faixa do Duto","4.2 Tubulação e Acessórios","4.3 Travessias e Cruzamen-tos","4.4 Testes, Inspeções e Ensaios Exigidos por Normas","4.5 Condiciona-mento e Comissiona-mento","7.1 Admin. da Obra","7.2 BDI","7.3 Projetos de Engenharia",null,"TOTAL 2048"]
[null,1,"1. Tubulações",null,{"$f":"VLOOKUP(B165,$B$7:$AH$73,32,FALSE)","v":0},{"$f":"SUM(F947:F948)","v":0},0,0,0,0,0,0,0,0,0,null,0]
["A",1.1000000000000001,"1.1 Linha Tronco",null,0,{"$f":"IF(E947=0,0,E947/$E$971)","v":0},{"$f":"$AG$50*F947","v":0},{"$f":"$AG$35","v":0},{"$f":"VLOOKUP(A947,$A$7:$AH$72,33,FALSE)","v":0},{"$f":"$AG$43","v":0},{"$f":"$AG$46*F947","v":0},{"$f":"$AG$48*F947","v":0},{"$f":"$AG$65*F947","v":0},{"$f":"$AG$66*F947","v":0},{"$f":"$AG$67*F947","v":0},null,{"$f":"SUM(E947:O947)-F947","v":0}]
[null,1.2,"1.2 Trecho(s)/Ramal(is)",null,0,{"$f":"IF(E948=0,0,E948/$E$971)","v":0},{"$f":"$AG$50*F948","v":0},0,0,0,{"$f":"$AG$46*F948","v":0},{"$f":"$AG$48*F948","v":0},{"$f":"$AG$65*F948","v":0},{"$f":"$AG$66*F948","v":0},{"$f":"$AG$67*F948","v":0},null,{"$f":"SUM(E948:O948)-F948","v":0}]
[null,2,"2 Componentes",null,0,0,{"$f":"SUM(G950:G954)","v":0},0,0,0,0,0,0,0,0,null,0]
["B",2.1,"2.1 Lançadores e Recebedores de Pigs e Esferas ",null,0,0,{"$f":"$AG$50*F950","v":0},0,{"$f":"VLOOKUP(A950,$A$7:$AH$72,33,FALSE)","v":0},0,0,0,0,0,0,null,{"$f":"SUM(E950:O950)-F950","v":0}]
["C",2.2000000000000002,"2.2 Válvulas",null,0,0,{"$f":"$AG$50*F951","v":0},0,{"$f":"VLOOKUP(A951,$A$7:$AH$72,33,FALSE)","v":0},0,0,0,0,0,0,null,{"$f":"SUM(E951:O951)-F951","v":0}]
["D",2.2999999999999998,"2.3 Sistema de Proteção Catódica e Demais Equipamentos de Controle de Corrosão",null,0,0,{"$f":"$AG$50*F952","v":0},0,{"$f":"VLOOKUP(A952,$A$7:$AH$72,33,FALSE)","v":0},0,0,0,0,0,0,null,{"$f":"SUM(E952:O952)-F952","v":0}]
["E",2.4,"2.4 Sistemas de Comunicação e de Supervisão e Controle",null,0,0,{"$f":"$AG$50*F953","v":0},0,{"$f":"VLOOKUP(A953,$A$7:$AH$72,33,FALSE)","v":0},0,0,0,0,0,0,null,{"$f":"SUM(E953:O953)-F953","v":0}]
[null,2.5,"2.5 Outros Componentes",null,0,0,{"$f":"$AG$50*F954","v":0},0,0,0,0,0,0,0,0,null,{"$f":"SUM(E954:O954)-F954","v":0}]
[null,3,"3 Complementos",null,0,0,{"$f":"SUM(G956:G963)","v":0},0,0,0,0,0,0,0,0,null,0]
["F",3.1,"3.1 Estação(ões) de Recebimento ",null,0,0,{"$f":"$AG$50*F956","v":0},0,{"$f":"VLOOKUP(A956,$A$7:$AH$72,33,FALSE)/2","v":0},0,0,0,0,0,0,null,{"$f":"SUM(E956:O956)-F956","v":0}]
["F",3.2,"3.2 Estação(ões) de Entrega",null,0,0,{"$f":"$AG$50*F957","v":0},0,{"$f":"VLOOKUP(A957,$A$7:$AH$72,33,FALSE)/2","v":0},0,0,0,0,0,0,null,0]
[null,3.3,"3.3 Estação(ões) de Interconexão",null,0,0,0,0,0,0,0,0,0,0,0,null,0]
[null,3.4,"3.4 Estação(ões) de Compressão",null,0,0,0,0,0,0,0,0,0,0,0,null,0]
[null,3.5,"3.5 Estação(ões) de Medição",null,0,0,0,0,0,0,0,0,0,0,0,null,0]
[null,3.6,"3.6 Estação(ões) de Regulagem de Pressão",null,0,0,0,0,0,0,0,0,0,0,0,null,0]
[null,3.7,"3.7 Sistema Elétrico",null,0,0,0,0,0,0,0,0,0,0,0,null,0]
[null,3.8,"3.8 Sistemas Auxiliares",null,0,0,0,0,0,0,0,0,0,0,0,null,0]
[null,6,"6 Outros Bens e Instalações Diretamente Vinculados",null,0,0,{"$f":"SUM(G965:G969)","v":0},0,0,0,0,0,0,0,0,null,0]
[null,6.1,"6.1 Imóveis/Edificações/Terrenos e Benfeitorias",null,0,0,{"$f":"$AG$50*F965","v":0},0,0,0,0,0,0,0,0,null,{"$f":"SUM(E965:O965)-F965","v":0}]
[null,6.2,"6.2 Móveis, Equipamentos e Instalações de Escritório",null,0,0,0,0,0,0,0,0,0,0,0,null,0]
[null,6.3,"6.3 Equipamentos e Instalações de Processamento de Dados e de Comunicação",null,0,0,0,0,0,0,0,0,0,0,0,null,0]
[null,6.4,"6.4 Veículos",null,0,0,0,0,0,0,0,0,0,0,0,null,0]
[null,6.5,"6.5 Outros Bens Imobilizados",null,0,0,0,0,0,0,0,0,0,0,0,null,0]
[null,8,"8 Overhaul",null,0,0,0,0,0,0,0,0,0,0,0,null,0]
[null,null,"Total Geral",null,{"$f":"E946+E949+E955+E964+E970","v":0},{"$f":"F946+F949+F955+F964+F970","v":0},0,0,0,0,0,0,0,0,0,null,0]
[]
[]
[null,"N°","Projetos futuros",null,2049,"%","5.4 Custos de Compart.","4.1 Preparo da Faixa do Duto","4.2 Tubulação e Acessórios","4.3 Travessias e Cruzamen-tos","4.4 Testes, Inspeções e Ensaios Exigidos por Normas","4.5 Condiciona-mento e Comissiona-mento","7.1 Admin. da Obra","7.2 BDI","7.3 Projetos de Engenharia",null,"TOTAL 2049"]
[null,1,"1. Tubulações",null,{"$f":"VLOOKUP(B165,$B$7:$AH$73,33,FALSE)","v":0},{"$f":"SUM(F976:F977)","v":0},0,0,0,0,0,0,0,0,0,null,0]
["A",1.1000000000000001,"1.1 Linha Tronco",null,0,{"$f":"IF(E976=0,0,E976/$E$1000)","v":0},{"$f":"$AH$50*F976","v":0},{"$f":"$AH$35","v":0},{"$f":"VLOOKUP(A976,$A$7:$AH$72,33,FALSE)","v":0},{"$f":"$AH$43","v":0},{"$f":"$AH$46*F976","v":0},{"$f":"$AH$48*F976","v":0},{"$f":"$AH$65*F976","v":0},{"$f":"$AH$66*F976","v":0},{"$f":"$AH$67*F976","v":0},null,{"$f":"SUM(E976:O976)-F976","v":0}]
[null,1.2,"1.2 Trecho(s)/Ramal(is)",null,0,{"$f":"IF(E977=0,0,E977/$E$1000)","v":0},{"$f":"$AH$50*F977","v":0},0,0,0,{"$f":"$AH$46*F977","v":0},{"$f":"$AH$48*F977","v":0},{"$f":"$AH$65*F977","v":0},{"$f":"$AH$66*F977","v":0},{"$f":"$AH$67*F977","v":0},null,{"$f":"SUM(E977:O977)-F977","v":0}]
[null,2,"2 Componentes",null,0,0,{"$f":"SUM(G979:G983)","v":0},0,0,0,0,0,{"$f":"SUM(M979:M983)","v":0},{"$f":"SUM(N979:N983)","v":0},{"$f":"SUM(O979:O983)","v":0},null,{"$f":"SUM(Q979:Q983)","v":0}]
["B",2.1,"2.1 Lançadores e Recebedores de Pigs e Esferas ",null,0,0,{"$f":"$AH$50*F979","v":0},0,{"$f":"VLOOKUP(A979,$A$7:$AH$72,33,FALSE)","v":0},0,0,0,0,0,0,null,{"$f":"SUM(E979:O979)-F979","v":0}]
["C",2.2000000000000002,"2.2 Válvulas",null,0,0,{"$f":"$AH$50*F980","v":0},0,{"$f":"VLOOKUP(A980,$A$7:$AH$72,33,FALSE)","v":0},0,0,0,0,0,0,null,{"$f":"SUM(E980:O980)-F980","v":0}]
["D",2.2999999999999998,"2.3 Sistema de Proteção Catódica e Demais Equipamentos de Controle de Corrosão",null,0,0,{"$f":"$AH$50*F981","v":0},0,{"$f":"VLOOKUP(A981,$A$7:$AH$72,33,FALSE)","v":0},0,0,0,0,0,0,null,{"$f":"SUM(E981:O981)-F981","v":0}]
["E",2.4,"2.4 Sistemas de Comunicação e de Supervisão e Controle",null,0,0,{"$f":"$AH$50*F982","v":0},0,{"$f":"VLOOKUP(A982,$A$7:$AH$72,33,FALSE)","v":0},0,0,0,0,0,0,null,{"$f":"SUM(E982:O982)-F982","v":0}]
[null,2.5,"2.5 Outros Componentes",null,0,0,{"$f":"$AH$50*F983","v":0},0,0,0,0,0,0,0,0,null,{"$f":"SUM(E983:O983)-F983","v":0}]
[null,3,"3 Complementos",null,0,0,{"$f":"SUM(G985:G992)","v":0},0,0,0,0,0,0,0,0,null,0]
["F",3.1,"3.1 Estação(ões) de Recebimento ",null,0,0,{"$f":"$AH$50*F985","v":0},0,{"$f":"VLOOKUP(A985,$A$7:$AH$72,33,FALSE)/2","v":0},0,0,0,0,0,0,null,{"$f":"SUM(E985:O985)-F985","v":0}]
["F",3.2,"3.2 Estação(ões) de Entrega",null,0,0,{"$f":"$AH$50*F986","v":0},0,{"$f":"VLOOKUP(A986,$A$7:$AH$72,33,FALSE)/2","v":0},0,0,0,0,0,0,null,0]
[null,3.3,"3.3 Estação(ões) de Interconexão",null,0,0,0,0,0,0,0,0,0,0,0,null,0]
[null,3.4,"3.4 Estação(ões) de Compressão",null,0,0,0,0,0,0,0,0,0,0,0,null,0]
[null,3.5,"3.5 Estação(ões) de Medição",null,0,0,0,0,0,0,0,0,0,0,0,null,0]
[null,3.6,"3.6 Estação(ões) de Regulagem de Pressão",null,0,0,0,0,0,0,0,0,0,0,0,null,0]
[null,3.7,"3.7 Sistema Elétrico",null,0,0,0,0,0,0,0,0,0,0,0,null,0]
[null,3.8,"3.8 Sistemas Auxiliares",null,0,0,0,0,0,0,0,0,0,0,0,null,0]
[null,6,"6 Outros Bens e Instalações Diretamente Vinculados",null,0,0,{"$f":"SUM(G994:G998)","v":0},0,0,0,0,0,0,0,0,null,0]
[null,6.1,"6.1 Imóveis/Edificações/Terrenos e Benfeitorias",null,0,0,{"$f":"$AH$50*F994","v":0},0,0,0,0,0,0,0,0,null,{"$f":"SUM(E994:O994)-F994","v":0}]
[null,6.2,"6.2 Móveis, Equipamentos e Instalações de Escritório",null,0,0,0,0,0,0,0,0,0,0,0,null,0]
[null,6.3,"6.3 Equipamentos e Instalações de Processamento de Dados e de Comunicação",null,0,0,0,0,0,0,0,0,0,0,0,null,0]
[null,6.4,"6.4 Veículos",null,0,0,0,0,0,0,0,0,0,0,0,null,0]
[null,6.5,"6.5 Outros Bens Imobilizados",null,0,0,0,0,0,0,0,0,0,0,0,null,0]
[null,8,"8 Overhaul",null,0,0,0,0,0,0,0,0,0,0,0,null,0]
[null,null,"Total Geral",null,{"$f":"E975+E978+E984+E993+E999","v":0},{"$f":"F975+F978+F984+F993+F999","v":0},{"$f":"G975+G978+G984+G993+G999","v":0},0,0,0,0,0,0,0,0,null,0]

{"sheet":"Investimento Futuro_I","index":6,"n_rows":34,"n_cols":34,"rows_kept":34,"cut":false,"hidden":true,"merged":[[1,2,1,3],[4,4,4,33],[4,2,4,3]]}
[]
[null,null,"INVESTIMENTOS em Termos Reais (INCERTEZA)"]
[null,null,null,null,null,0,"Incerteza de Custos"]
[]
[null,"Código","Quadro Resumo",null,"R$ mil"]
[null,null,null,null,"2020","2021","2022","2023","2024","2025","2026","2027","2028","2029","2030","2031","2032","2033","2034","2035","2036","2037","2038","2039","2040","2041","2042","2043","2044","2045","2046","2047","2048","2049"]
[null,1,"1. Tubulações",null,{"$f":"VLOOKUP(B7,'Investimento Futuro'!$B$136:$Q$171,16,FALSE)*(1+$F$3)","v":78389.016067257384},{"$f":"VLOOKUP(B7,'Investimento Futuro'!B165:Q190,16,FALSE)*(1+$F$3)","v":15876.051220291192},{"$f":"VLOOKUP(B7,'Investimento Futuro'!$B$194:$Q$219,16,FALSE)*(1+$F$3)","v":135808.78219553907},{"$f":"VLOOKUP(B7,'Investimento Futuro'!$B$222:$Q$247,16,FALSE)*(1+$F$3)","v":4864.4203510786983},{"$f":"VLOOKUP(B7,'Investimento Futuro'!$B$251:$Q$276,16,FALSE)*(1+$F$3)","v":14199.62229329434},{"$f":"VLOOKUP(B7,'Investimento Futuro'!$B$280:$Q$305,16,FALSE)*(1+$F$3)","v":6187.2753249120506},{"$f":"VLOOKUP(B7,'Investimento Futuro'!$B$309:$Q$334,16,FALSE)*(1+$F$3)","v":0},{"$f":"VLOOKUP(B7,'Investimento Futuro'!$B$337:$Q$362,16,FALSE)*(1+$F$3)","v":918.32137715785768},{"$f":"VLOOKUP(B7,'Investimento Futuro'!$B$366:$Q$391,16,FALSE)*(1+$F$3)","v":0},{"$f":"VLOOKUP(B7,'Investimento Futuro'!$B$395:$Q$420,16,FALSE)*(1+$F$3)","v":785.2274105214052},{"$f":"VLOOKUP(B7,'Investimento Futuro'!$B$424:$Q$449,16,FALSE)*(1+$F$3)","v":1126.4585690708482},{"$f":"VLOOKUP(B7,'Investimento Futuro'!$B$453:$Q$478,16,FALSE)*(1+$F$3)","v":12027.539316777673},{"$f":"VLOOKUP(B7,'Investimento Futuro'!$B$482:$Q$507,16,FALSE)*(1+$F$3)","v":6310.2015932427757},{"$f":"VLOOKUP(B7,'Investimento Futuro'!$B$511:$Q$536,16,FALSE)*(1+$F$3)","v":0},{"$f":"VLOOKUP(B7,'Investimento Futuro'!$B$540:$Q$565,16,FALSE)*(1+$F$3)","v":0},{"$f":"VLOOKUP(B7,'Investimento Futuro'!$B$569:$Q$594,16,FALSE)*(1+$F$3)","v":0},{"$f":"VLOOKUP(B7,'Investimento Futuro'!$B$598:$Q$623,16,FALSE)*(1+$F$3)","v":0},{"$f":"VLOOKUP(B7,'Investimento Futuro'!$B$627:$Q$652,16,FALSE)*(1+$F$3)","v":0},{"$f":"VLOOKUP(B7,'Investimento Futuro'!$B$656:$Q$681,16,FALSE)*(1+$F$3)","v":0},{"$f":"VLOOKUP(B7,'Investimento Futuro'!$B$685:$Q$710,16,FALSE)*(1+$F$3)","v":0},{"$f":"VLOOKUP(B7,'Investimento Futuro'!$B$714:$Q$739,16,FALSE)*(1+$F$3)","v":0},{"$f":"VLOOKUP(B7,'Investimento Futuro'!$B$743:$Q$768,16,FALSE)*(1+$F$3)","v":0},{"$f":"VLOOKUP(B7,'Investimento Futuro'!$B$772:$Q$797,16,FALSE)*(1+$F$3)","v":0},{"$f":"VLOOKUP(B7,'Investimento Futuro'!$B$801:$Q$826,16,FALSE)*(1+$F$3)","v":0},{"$f":"VLOOKUP(B7,'Investimento Futuro'!$B$830:$Q$855,16,FALSE)*(1+$F$3)","v":0},{"$f":"VLOOKUP(B7,'Investimento Futuro'!$B$859:$Q$884,16,FALSE)*(1+$F$3)","v":0},{"$f":"VLOOKUP(B7,'Investimento Futuro'!$B$888:$Q$913,16,FALSE)*(1+$F$3)","v":0},{"$f":"VLOOKUP(B7,'Investimento Futuro'!$B$918:$Q$942,16,FALSE)*(1+$F$3)","v":{"$error":"#N/A"}},{"$f":"VLOOKUP(B7,'Investimento Futuro'!$B$946:$Q$971,16,FALSE)*(1+$F$3)","v":0},{"$f":"VLOOKUP(B7,'Investimento Futuro'!$B$975:$Q$1000,16,FALSE)*(1+$F$3)","v":0}]
[null,1.1000000000000001,"1.1 Linha Tronco",null,{"$f":"VLOOKUP(B8,'Investimento Futuro'!$B$136:$Q$171,16,FALSE)*(1+$F$3)","v":4708.6636819030582},{"$f":"VLOOKUP(B8,'Investimento Futuro'!B166:Q191,16,FALSE)*(1+$F$3)","v":8921.2332189025165},{"$f":"VLOOKUP(B8,'Investimento Futuro'!$B$194:$Q$219,16,FALSE)*(1+$F$3)","v":14554.23428990777},{"$f":"VLOOKUP(B8,'Investimento Futuro'!$B$222:$Q$247,16,FALSE)*(1+$F$3)","v":4864.4203510786983},{"$f":"VLOOKUP(B8,'Investimento Futuro'!$B$251:$Q$276,16,FALSE)*(1+$F$3)","v":14199.62229329434},{"$f":"VLOOKUP(B8,'Investimento Futuro'!$B$280:$Q$305,16,FALSE)*(1+$F$3)","v":6187.2753249120506},{"$f":"VLOOKUP(B8,'Investimento Futuro'!$B$309:$Q$334,16,FALSE)*(1+$F$3)","v":0},{"$f":"VLOOKUP(B8,'Investimento Futuro'!$B$337:$Q$362,16,FALSE)*(1+$F$3)","v":918.32137715785768},{"$f":"VLOOKUP(B8,'Investimento Futuro'!$B$366:$Q$391,16,FALSE)*(1+$F$3)","v":0},{"$f":"VLOOKUP(B8,'Investimento Futuro'!$B$395:$Q$420,16,FALSE)*(1+$F$3)","v":0},{"$f":"VLOOKUP(B8,'Investimento Futuro'!$B$424:$Q$449,16,FALSE)*(1+$F$3)","v":0},{"$f":"VLOOKUP(B8,'Investimento Futuro'!$B$453:$Q$478,16,FALSE)*(1+$F$3)","v":1258.3547861114309},{"$f":"VLOOKUP(B8,'Investimento Futuro'!$B$482:$Q$507,16,FALSE)*(1+$F$3)","v":6310.2015932427757},{"$f":"VLOOKUP(B8,'Investimento Futuro'!$B$511:$Q$536,16,FALSE)*(1+$F$3)","v":0},{"$f":"VLOOKUP(B8,'Investimento Futuro'!$B$540:$Q$565,16,FALSE)*(1+$F$3)","v":0},{"$f":"VLOOKUP(B8,'Investimento Futuro'!$B$569:$Q$594,16,FALSE)*(1+$F$3)","v":0},{"$f":"VLOOKUP(B8,'Investimento Futuro'!$B$598:$Q$623,16,FALSE)*(1+$F$3)","v":0},{"$f":"VLOOKUP(B8,'Investimento Futuro'!$B$627:$Q$652,16,FALSE)*(1+$F$3)","v":0},{"$f":"VLOOKUP(B8,'Investimento Futuro'!$B$656:$Q$681,16,FALSE)*(1+$F$3)","v":0},{"$f":"VLOOKUP(B8,'Investimento Futuro'!$B$685:$Q$710,16,FALSE)*(1+$F$3)","v":0},{"$f":"VLOOKUP(B8,'Investimento Futuro'!$B$714:$Q$739,16,FALSE)*(1+$F$3)","v":0},{"$f":"VLOOKUP(B8,'Investimento Futuro'!$B$743:$Q$768,16,FALSE)*(1+$F$3)","v":0},{"$f":"VLOOKUP(B8,'Investimento Futuro'!$B$772:$Q$797,16,FALSE)*(1+$F$3)","v":0},{"$f":"VLOOKUP(B8,'Investimento Futuro'!$B$801:$Q$826,16,FALSE)*(1+$F$3)","v":0},{"$f":"VLOOKUP(B8,'Investimento Futuro'!$B$830:$Q$855,16,FALSE)*(1+$F$3)","v":0},{"$f":"VLOOKUP(B8,'Investimento Futuro'!$B$859:$Q$884,16,FALSE)*(1+$F$3)","v":0},{"$f":"VLOOKUP(B8,'Investimento Futuro'!$B$888:$Q$913,16,FALSE)*(1+$F$3)","v":0},{"$f":"VLOOKUP(B8,'Investimento Futuro'!$B$918:$Q$942,16,FALSE)*(1+$F$3)","v":0},{"$f":"VLOOKUP(B8,'Investimento Futuro'!$B$946:$Q$971,16,FALSE)*(1+$F$3)","v":0},{"$f":"VLOOKUP(B8,'Investimento Futuro'!$B$975:$Q$1000,16,FALSE)*(1+$F$3)","v":0}]
[null,1.2,"1.2 Trecho(s)/Ramal(is)",null,{"$f":"VLOOKUP(B9,'Investimento Futuro'!$B$136:$Q$171,16,FALSE)*(1+$F$3)","v":73680.35238535433},{"$f":"VLOOKUP(B9,'Investimento Futuro'!B167:Q192,16,FALSE)*(1+$F$3)","v":6954.8180013886758},{"$f":"VLOOKUP(B9,'Investimento Futuro'!$B$194:$Q$219,16,FALSE)*(1+$F$3)","v":121254.54790563131},{"$f":"VLOOKUP(B9,'Investimento Futuro'!$B$222:$Q$247,16,FALSE)*(1+$F$3)","v":0},{"$f":"VLOOKUP(B9,'Investimento Futuro'!$B$251:$Q$276,16,FALSE)*(1+$F$3)","v":0},{"$f":"VLOOKUP(B9,'Investimento Futuro'!$B$280:$Q$305,16,FALSE)*(1+$F$3)","v":0},{"$f":"VLOOKUP(B9,'Investimento Futuro'!$B$309:$Q$334,16,FALSE)*(1+$F$3)","v":0},{"$f":"VLOOKUP(B9,'Investimento Futuro'!$B$337:$Q$362,16,FALSE)*(1+$F$3)","v":0},{"$f":"VLOOKUP(B9,'Investimento Futuro'!$B$366:$Q$391,16,FALSE)*(1+$F$3)","v":0},{"$f":"VLOOKUP(B9,'Investimento Futuro'!$B$395:$Q$420,16,FALSE)*(1+$F$3)","v":785.2274105214052},{"$f":"VLOOKUP(B9,'Investimento Futuro'!$B$424:$Q$449,16,FALSE)*(1+$F$3)","v":1126.4585690708482},{"$f":"VLOOKUP(B9,'Investimento Futuro'!$B$453:$Q$478,16,FALSE)*(1+$F$3)","v":10769.184530666242},{"$f":"VLOOKUP(B9,'Investimento Futuro'!$B$482:$Q$507,16,FALSE)*(1+$F$3)","v":0},{"$f":"VLOOKUP(B9,'Investimento Futuro'!$B$511:$Q$536,16,FALSE)*(1+$F$3)","v":0},{"$f":"VLOOKUP(B9,'Investimento Futuro'!$B$540:$Q$565,16,FALSE)*(1+$F$3)","v":0},{"$f":"VLOOKUP(B9,'Investimento Futuro'!$B$569:$Q$594,16,FALSE)*(1+$F$3)","v":0},{"$f":"VLOOKUP(B9,'Investimento Futuro'!$B$598:$Q$623,16,FALSE)*(1+$F$3)","v":0},{"$f":"VLOOKUP(B9,'Investimento Futuro'!$B$627:$Q$652,16,FALSE)*(1+$F$3)","v":0},{"$f":"VLOOKUP(B9,'Investimento Futuro'!$B$656:$Q$681,16,FALSE)*(1+$F$3)","v":0},{"$f":"VLOOKUP(B9,'Investimento Futuro'!$B$685:$Q$710,16,FALSE)*(1+$F$3)","v":0},{"$f":"VLOOKUP(B9,'Investimento Futuro'!$B$714:$Q$739,16,FALSE)*(1+$F$3)","v":0},{"$f":"VLOOKUP(B9,'Investimento Futuro'!$B$743:$Q$768,16,FALSE)*(1+$F$3)","v":0},{"$f":"VLOOKUP(B9,'Investimento Futuro'!$B$772:$Q$797,16,FALSE)*(1+$F$3)","v":0},{"$f":"VLOOKUP(B9,'Investimento Futuro'!$B$801:$Q$826,16,FALSE)*(1+$F$3)","v":0},{"$f":"VLOOKUP(B9,'Investimento Futuro'!$B$830:$Q$855,16,FALSE)*(1+$F$3)","v":0},{"$f":"VLOOKUP(B9,'Investimento Futuro'!$B$859:$Q$884,16,FALSE)*(1+$F$3)","v":0},{"$f":"VLOOKUP(B9,'Investimento Futuro'!$B$888:$Q$913,16,FALSE)*(1+$F$3)","v":0},{"$f":"VLOOKUP(B9,'Investimento Futuro'!$B$918:$Q$942,16,FALSE)*(1+$F$3)","v":0},{"$f":"VLOOKUP(B9,'Investimento Futuro'!$B$946:$Q$971,16,FALSE)*(1+$F$3)","v":0},{"$f":"VLOOKUP(B9,'Investimento Futuro'!$B$975:$Q$1000,16,FALSE)*(1+$F$3)","v":0}]
[null,2,"2 Componentes",null,{"$f":"VLOOKUP(B10,'Investimento Futuro'!$B$136:$Q$171,16,FALSE)*(1+$F$3)","v":3735.728368129604},{"$f":"VLOOKUP(B10,'Investimento Futuro'!B168:Q193,16,FALSE)*(1+$F$3)","v":4855.0075510940114},{"$f":"VLOOKUP(B10,'Investimento Futuro'!$B$194:$Q$219,16,FALSE)*(1+$F$3)","v":5115.2979770643342},{"$f":"VLOOKUP(B10,'Investimento Futuro'!$B$222:$Q$247,16,FALSE)*(1+$F$3)","v":3637.1881923229603},{"$f":"VLOOKUP(B10,'Investimento Futuro'!$B$251:$Q$276,16,FALSE)*(1+$F$3)","v":5461.9387343931849},{"$f":"VLOOKUP(B10,'Investimento Futuro'!$B$280:$Q$305,16,FALSE)*(1+$F$3)","v":13172.467795646109},{"$f":"VLOOKUP(B10,'Investimento Futuro'!$B$309:$Q$334,16,FALSE)*(1+$F$3)","v":5927.6589280575199},{"$f":"VLOOKUP(B10,'Investimento Futuro'!$B$337:$Q$362,16,FALSE)*(1+$F$3)","v":7405.3979089177719},{"$f":"VLOOKUP(B10,'Investimento Futuro'!$B$366:$Q$391,16,FALSE)*(1+$F$3)","v":4917.6569466688079},{"$f":"VLOOKUP(B10,'Investimento Futuro'!$B$395:$Q$420,16,FALSE)*(1+$F$3)","v":7209.8665558307657},{"$f":"VLOOKUP(B10,'Investimento Futuro'!$B$424:$Q$449,16,FALSE)*(1+$F$3)","v":16834.514259610849},{"$f":"VLOOKUP(B10,'Investimento Futuro'!$B$453:$Q$478,16,FALSE)*(1+$F$3)","v":16701.481827527157},{"$f":"VLOOKUP(B10,'Investimento Futuro'!$B$482:$Q$507,16,FALSE)*(1+$F$3)","v":4737.388583515597},{"$f":"VLOOKUP(B10,'Investimento Futuro'!$B$511:$Q$536,16,FALSE)*(1+$F$3)","v":0},{"$f":"VLOOKUP(B10,'Investimento Futuro'!$B$540:$Q$565,16,FALSE)*(1+$F$3)","v":0},{"$f":"VLOOKUP(B10,'Investimento Futuro'!$B$569:$Q$594,16,FALSE)*(1+$F$3)","v":0},{"$f":"VLOOKUP(B10,'Investimento Futuro'!$B$598:$Q$623,16,FALSE)*(1+$F$3)","v":0},{"$f":"VLOOKUP(B10,'Investimento Futuro'!$B$627:$Q$652,16,FALSE)*(1+$F$3)","v":0},{"$f":"VLOOKUP(B10,'Investimento Futuro'!$B$656:$Q$681,16,FALSE)*(1+$F$3)","v":0},{"$f":"VLOOKUP(B10,'Investimento Futuro'!$B$685:$Q$710,16,FALSE)*(1+$F$3)","v":0},{"$f":"VLOOKUP(B10,'Investimento Futuro'!$B$714:$Q$739,16,FALSE)*(1+$F$3)","v":0},{"$f":"VLOOKUP(B10,'Investimento Futuro'!$B$743:$Q$768,16,FALSE)*(1+$F$3)","v":0},{"$f":"VLOOKUP(B10,'Investimento Futuro'!$B$772:$Q$797,16,FALSE)*(1+$F$3)","v":0},{"$f":"VLOOKUP(B10,'Investimento Futuro'!$B$801:$Q$826,16,FALSE)*(1+$F$3)","v":0},{"$f":"VLOOKUP(B10,'Investimento Futuro'!$B$830:$Q$855,16,FALSE)*(1+$F$3)","v":0},{"$f":"VLOOKUP(B10,'Investimento Futuro'!$B$859:$Q$884,16,FALSE)*(1+$F$3)","v":0},{"$f":"VLOOKUP(B10,'Investimento Futuro'!$B$888:$Q$913,16,FALSE)*(1+$F$3)","v":0},{"$f":"VLOOKUP(B10,'Investimento Futuro'!$B$918:$Q$942,16,FALSE)*(1+$F$3)","v":0},{"$f":"VLOOKUP(B10,'Investimento Futuro'!$B$946:$Q$971,16,FALSE)*(1+$F$3)","v":0},{"$f":"VLOOKUP(B10,'Investimento Futuro'!$B$975:$Q$1000,16,FALSE)*(1+$F$3)","v":0}]
[null,2.1,"2.1 Lançadores e Recebedores de Pigs e Esferas ",null,{"$f":"VLOOKUP(B11,'Investimento Futuro'!$B$136:$Q$171,16,FALSE)*(1+$F$3)","v":0},{"$f":"VLOOKUP(B11,'Investimento Futuro'!B169:Q194,16,FALSE)*(1+$F$3)","v":0},{"$f":"VLOOKUP(B11,'Investimento Futuro'!$B$194:$Q$219,16,FALSE)*(1+$F$3)","v":0},{"$f":"VLOOKUP(B11,'Investimento Futuro'!$B$222:$Q$247,16,FALSE)*(1+$F$3)","v":0},{"$f":"VLOOKUP(B11,'Investimento Futuro'!$B$251:$Q$276,16,FALSE)*(1+$F$3)","v":0},{"$f":"VLOOKUP(B11,'Investimento Futuro'!$B$280:$Q$305,16,FALSE)*(1+$F$3)","v":0},{"$f":"VLOOKUP(B11,'Investimento Futuro'!$B$309:$Q$334,16,FALSE)*(1+$F$3)","v":0},{"$f":"VLOOKUP(B11,'Investimento Futuro'!$B$337:$Q$362,16,FALSE)*(1+$F$3)","v":0},{"$f":"VLOOKUP(B11,'Investimento Futuro'!$B$366:$Q$391,16,FALSE)*(1+$F$3)","v":0},{"$f":"VLOOKUP(B11,'Investimento Futuro'!$B$395:$Q$420,16,FALSE)*(1+$F$3)","v":0},{"$f":"VLOOKUP(B11,'Investimento Futuro'!$B$424:$Q$449,16,FALSE)*(1+$F$3)","v":0},{"$f":"VLOOKUP(B11,'Investimento Futuro'!$B$453:$Q$478,16,FALSE)*(1+$F$3)","v":0},{"$f":"VLOOKUP(B11,'Investimento Futuro'!$B$482:$Q$507,16,FALSE)*(1+$F$3)","v":0},{"$f":"VLOOKUP(B11,'Investimento Futuro'!$B$511:$Q$536,16,FALSE)*(1+$F$3)","v":0},{"$f":"VLOOKUP(B11,'Investimento Futuro'!$B$540:$Q$565,16,FALSE)*(1+$F$3)","v":0},{"$f":"VLOOKUP(B11,'Investimento Futuro'!$B$569:$Q$594,16,FALSE)*(1+$F$3)","v":0},{"$f":"VLOOKUP(B11,'Investimento Futuro'!$B$598:$Q$623,16,FALSE)*(1+$F$3)","v":0},{"$f":"VLOOKUP(B11,'Investimento Futuro'!$B$627:$Q$652,16,FALSE)*(1+$F$3)","v":0},{"$f":"VLOOKUP(B11,'Investimento Futuro'!$B$656:$Q$681,16,FALSE)*(1+$F$3)","v":0},{"$f":"VLOOKUP(B11,'Investimento Futuro'!$B$685:$Q$710,16,FALSE)*(1+$F$3)","v":0},{"$f":"VLOOKUP(B11,'Investimento Futuro'!$B$714:$Q$739,16,FALSE)*(1+$F$3)","v":0},{"$f":"VLOOKUP(B11,'Investimento Futuro'!$B$743:$Q$768,16,FALSE)*(1+$F$3)","v":0},{"$f":"VLOOKUP(B11,'Investimento Futuro'!$B$772:$Q$797,16,FALSE)*(1+$F$3)","v":0},{"$f":"VLOOKUP(B11,'Investimento Futuro'!$B$801:$Q$826,16,FALSE)*(1+$F$3)","v":0},{"$f":"VLOOKUP(B11,'Investimento Futuro'!$B$830:$Q$855,16,FALSE)*(1+$F$3)","v":0},{"$f":"VLOOKUP(B11,'Investimento Futuro'!$B$859:$Q$884,16,FALSE)*(1+$F$3)","v":0},{"$f":"VLOOKUP(B11,'Investimento Futuro'!$B$888:$Q$913,16,FALSE)*(1+$F$3)","v":0},{"$f":"VLOOKUP(B11,'Investimento Futuro'!$B$918:$Q$942,16,FALSE)*(1+$F$3)","v":0},{"$f":"VLOOKUP(B11,'Investimento Futuro'!$B$946:$Q$971,16,FALSE)*(1+$F$3)","v":0},{"$f":"VLOOKUP(B11,'Investimento Futuro'!$B$975:$Q$1000,16,FALSE)*(1+$F$3)","v":0}]
[null,2.2000000000000002,"2.2 Válvulas",null,{"$f":"VLOOKUP(B12,'Investimento Futuro'!$B$136:$Q$171,16,FALSE)*(1+$F$3)","v":1114.523181325465},{"$f":"VLOOKUP(B12,'Investimento Futuro'!B170:Q195,16,FALSE)*(1+$F$3)","v":680.04460465090756},{"$f":"VLOOKUP(B12,'Investimento Futuro'!$B$194:$Q$219,16,FALSE)*(1+$F$3)","v":1330.9849876472999},{"$f":"VLOOKUP(B12,'Investimento Futuro'!$B$222:$Q$247,16,FALSE)*(1+$F$3)","v":265.22254205348065},{"$f":"VLOOKUP(B12,'Investimento Futuro'!$B$251:$Q$276,16,FALSE)*(1+$F$3)","v":0},{"$f":"VLOOKUP(B12,'Investimento Futuro'!$B$280:$Q$305,16,FALSE)*(1+$F$3)","v":0},{"$f":"VLOOKUP(B12,'Investimento Futuro'!$B$309:$Q$334,16,FALSE)*(1+$F$3)","v":0},{"$f":"VLOOKUP(B12,'Investimento Futuro'!$B$337:$Q$362,16,FALSE)*(1+$F$3)","v":0},{"$f":"VLOOKUP(B12,'Investimento Futuro'!$B$366:$Q$391,16,FALSE)*(1+$F$3)","v":0},{"$f":"VLOOKUP(B12,'Investimento Futuro'!$B$395:$Q$420,16,FALSE)*(1+$F$3)","v":0},{"$f":"VLOOKUP(B12,'Investimento Futuro'!$B$424:$Q$449,16,FALSE)*(1+$F$3)","v":0},{"$f":"VLOOKUP(B12,'Investimento Futuro'!$B$453:$Q$478,16,FALSE)*(1+$F$3)","v":0},{"$f":"VLOOKUP(B12,'Investimento Futuro'!$B$482:$Q$507,16,FALSE)*(1+$F$3)","v":0},{"$f":"VLOOKUP(B12,'Investimento Futuro'!$B$511:$Q$536,16,FALSE)*(1+$F$3)","v":0},{"$f":"VLOOKUP(B12,'Investimento Futuro'!$B$540:$Q$565,16,FALSE)*(1+$F$3)","v":0},{"$f":"VLOOKUP(B12,'Investimento Futuro'!$B$569:$Q$594,16,FALSE)*(1+$F$3)","v":0},{"$f":"VLOOKUP(B12,'Investimento Futuro'!$B$598:$Q$623,16,FALSE)*(1+$F$3)","v":0},{"$f":"VLOOKUP(B12,'Investimento Futuro'!$B$627:$Q$652,16,FALSE)*(1+$F$3)","v":0},{"$f":"VLOOKUP(B12,'Investimento Futuro'!$B$656:$Q$681,16,FALSE)*(1+$F$3)","v":0},{"$f":"VLOOKUP(B12,'Investimento Futuro'!$B$685:$Q$710,16,FALSE)*(1+$F$3)","v":0},{"$f":"VLOOKUP(B12,'Investimento Futuro'!$B$714:$Q$739,16,FALSE)*(1+$F$3)","v":0},{"$f":"VLOOKUP(B12,'Investimento Futuro'!$B$743:$Q$768,16,FALSE)*(1+$F$3)","v":0},{"$f":"VLOOKUP(B12,'Investimento Futuro'!$B$772:$Q$797,16,FALSE)*(1+$F$3)","v":0},{"$f":"VLOOKUP(B12,'Investimento Futuro'!$B$801:$Q$826,16,FALSE)*(1+$F$3)","v":0},{"$f":"VLOOKUP(B12,'Investimento Futuro'!$B$830:$Q$855,16,FALSE)*(1+$F$3)","v":0},{"$f":"VLOOKUP(B12,'Investimento Futuro'!$B$859:$Q$884,16,FALSE)*(1+$F$3)","v":0},{"$f":"VLOOKUP(B12,'Investimento Futuro'!$B$888:$Q$913,16,FALSE)*(1+$F$3)","v":0},{"$f":"VLOOKUP(B12,'Investimento Futuro'!$B$918:$Q$942,16,FALSE)*(1+$F$3)","v":0},{"$f":"VLOOKUP(B12,'Investimento Futuro'!$B$946:$Q$971,16,FALSE)*(1+$F$3)","v":0},{"$f":"VLOOKUP(B12,'Investimento Futuro'!$B$975:$Q$1000,16,FALSE)*(1+$F$3)","v":0}]
[null,2.2999999999999998,"2.3 Sistema de Proteção Catódica e Demais Equipamentos de Controle de Corrosão",null,{"$f":"VLOOKUP(B13,'Investimento Futuro'!$B$136:$Q$171,16,FALSE)*(1+$F$3)","v":710.17133159107982},{"$f":"VLOOKUP(B13,'Investimento Futuro'!B171:Q196,16,FALSE)*(1+$F$3)","v":811.83367839232494},{"$f":"VLOOKUP(B13,'Investimento Futuro'!$B$194:$Q$219,16,FALSE)*(1+$F$3)","v":0},{"$f":"VLOOKUP(B13,'Investimento Futuro'!$B$222:$Q$247,16,FALSE)*(1+$F$3)","v":0},{"$f":"VLOOKUP(B13,'Investimento Futuro'!$B$251:$Q$276,16,FALSE)*(1+$F$3)","v":897.58915202722801},{"$f":"VLOOKUP(B13,'Investimento Futuro'!$B$280:$Q$305,16,FALSE)*(1+$F$3)","v":952.24582703225985},{"$f":"VLOOKUP(B13,'Investimento Futuro'!$B$309:$Q$334,16,FALSE)*(1+$F$3)","v":1008.4399006238933},{"$f":"VLOOKUP(B13,'Investimento Futuro'!$B$337:$Q$362,16,FALSE)*(1+$F$3)","v":957.32722366107964},{"$f":"VLOOKUP(B13,'Investimento Futuro'!$B$366:$Q$391,16,FALSE)*(1+$F$3)","v":0},{"$f":"VLOOKUP(B13,'Investimento Futuro'!$B$395:$Q$420,16,FALSE)*(1+$F$3)","v":769.59918697929515},{"$f":"VLOOKUP(B13,'Investimento Futuro'!$B$424:$Q$449,16,FALSE)*(1+$F$3)","v":12132.464330245344},{"$f":"VLOOKUP(B13,'Investimento Futuro'!$B$453:$Q$478,16,FALSE)*(1+$F$3)","v":12036.589200608043},{"$f":"VLOOKUP(B13,'Investimento Futuro'!$B$482:$Q$507,16,FALSE)*(1+$F$3)","v":0},{"$f":"VLOOKUP(B13,'Investimento Futuro'!$B$511:$Q$536,16,FALSE)*(1+$F$3)","v":0},{"$f":"VLOOKUP(B13,'Investimento Futuro'!$B$540:$Q$565,16,FALSE)*(1+$F$3)","v":0},{"$f":"VLOOKUP(B13,'Investimento Futuro'!$B$569:$Q$594,16,FALSE)*(1+$F$3)","v":0},{"$f":"VLOOKUP(B13,'Investimento Futuro'!$B$598:$Q$623,16,FALSE)*(1+$F$3)","v":0},{"$f":"VLOOKUP(B13,'Investimento Futuro'!$B$627:$Q$652,16,FALSE)*(1+$F$3)","v":0},{"$f":"VLOOKUP(B13,'Investimento Futuro'!$B$656:$Q$681,16,FALSE)*(1+$F$3)","v":0},{"$f":"VLOOKUP(B13,'Investimento Futuro'!$B$685:$Q$710,16,FALSE)*(1+$F$3)","v":0},{"$f":"VLOOKUP(B13,'Investimento Futuro'!$B$714:$Q$739,16,FALSE)*(1+$F$3)","v":0},{"$f":"VLOOKUP(B13,'Investimento Futuro'!$B$743:$Q$768,16,FALSE)*(1+$F$3)","v":0},{"$f":"VLOOKUP(B13,'Investimento Futuro'!$B$772:$Q$797,16,FALSE)*(1+$F$3)","v":0},{"$f":"VLOOKUP(B13,'Investimento Futuro'!$B$801:$Q$826,16,FALSE)*(1+$F$3)","v":0},{"$f":"VLOOKUP(B13,'Investimento Futuro'!$B$830:$Q$855,16,FALSE)*(1+$F$3)","v":0},{"$f":"VLOOKUP(B13,'Investimento Futuro'!$B$859:$Q$884,16,FALSE)*(1+$F$3)","v":0},{"$f":"VLOOKUP(B13,'Investimento Futuro'!$B$888:$Q$913,16,FALSE)*(1+$F$3)","v":0},{"$f":"VLOOKUP(B13,'Investimento Futuro'!$B$918:$Q$942,16,FALSE)*(1+$F$3)","v":0},{"$f":"VLOOKUP(B13,'Investimento Futuro'!$B$946:$Q$971,16,FALSE)*(1+$F$3)","v":0},{"$f":"VLOOKUP(B13,'Investimento Futuro'!$B$975:$Q$1000,16,FALSE)*(1+$F$3)","v":0}]
[null,2.4,"2.4 Sistemas de Comunicação e de Supervisão e Controle",null,{"$f":"VLOOKUP(B14,'Investimento Futuro'!$B$136:$Q$171,16,FALSE)*(1+$F$3)","v":1911.0338552130593},{"$f":"VLOOKUP(B14,'Investimento Futuro'!B172:Q197,16,FALSE)*(1+$F$3)","v":3363.129268050779},{"$f":"VLOOKUP(B14,'Investimento Futuro'!$B$194:$Q$219,16,FALSE)*(1+$F$3)","v":3784.3129894170338},{"$f":"VLOOKUP(B14,'Investimento Futuro'!$B$222:$Q$247,16,FALSE)*(1+$F$3)","v":3371.9656502694797},{"$f":"VLOOKUP(B14,'Investimento Futuro'!$B$251:$Q$276,16,FALSE)*(1+$F$3)","v":4564.3495823659568},{"$f":"VLOOKUP(B14,'Investimento Futuro'!$B$280:$Q$305,16,FALSE)*(1+$F$3)","v":5806.376994099146},{"$f":"VLOOKUP(B14,'Investimento Futuro'!$B$309:$Q$334,16,FALSE)*(1+$F$3)","v":0},{"$f":"VLOOKUP(B14,'Investimento Futuro'!$B$337:$Q$362,16,FALSE)*(1+$F$3)","v":0},{"$f":"VLOOKUP(B14,'Investimento Futuro'!$B$366:$Q$391,16,FALSE)*(1+$F$3)","v":0},{"$f":"VLOOKUP(B14,'Investimento Futuro'!$B$395:$Q$420,16,FALSE)*(1+$F$3)","v":0},{"$f":"VLOOKUP(B14,'Investimento Futuro'!$B$424:$Q$449,16,FALSE)*(1+$F$3)","v":0},{"$f":"VLOOKUP(B14,'Investimento Futuro'!$B$453:$Q$478,16,FALSE)*(1+$F$3)","v":0},{"$f":"VLOOKUP(B14,'Investimento Futuro'!$B$482:$Q$507,16,FALSE)*(1+$F$3)","v":0},{"$f":"VLOOKUP(B14,'Investimento Futuro'!$B$511:$Q$536,16,FALSE)*(1+$F$3)","v":0},{"$f":"VLOOKUP(B14,'Investimento Futuro'!$B$540:$Q$565,16,FALSE)*(1+$F$3)","v":0},{"$f":"VLOOKUP(B14,'Investimento Futuro'!$B$569:$Q$594,16,FALSE)*(1+$F$3)","v":0},{"$f":"VLOOKUP(B14,'Investimento Futuro'!$B$598:$Q$623,16,FALSE)*(1+$F$3)","v":0},{"$f":"VLOOKUP(B14,'Investimento Futuro'!$B$627:$Q$652,16,FALSE)*(1+$F$3)","v":0},{"$f":"VLOOKUP(B14,'Investimento Futuro'!$B$656:$Q$681,16,FALSE)*(1+$F$3)","v":0},{"$f":"VLOOKUP(B14,'Investimento Futuro'!$B$685:$Q$710,16,FALSE)*(1+$F$3)","v":0},{"$f":"VLOOKUP(B14,'Investimento Futuro'!$B$714:$Q$739,16,FALSE)*(1+$F$3)","v":0},{"$f":"VLOOKUP(B14,'Investimento Futuro'!$B$743:$Q$768,16,FALSE)*(1+$F$3)","v":0},{"$f":"VLOOKUP(B14,'Investimento Futuro'!$B$772:$Q$797,16,FALSE)*(1+$F$3)","v":0},{"$f":"VLOOKUP(B14,'Investimento Futuro'!$B$801:$Q$826,16,FALSE)*(1+$F$3)","v":0},{"$f":"VLOOKUP(B14,'Investimento Futuro'!$B$830:$Q$855,16,FALSE)*(1+$F$3)","v":0},{"$f":"VLOOKUP(B14,'Investimento Futuro'!$B$859:$Q$884,16,FALSE)*(1+$F$3)","v":0},{"$f":"VLOOKUP(B14,'Investimento Futuro'!$B$888:$Q$913,16,FALSE)*(1+$F$3)","v":0},{"$f":"VLOOKUP(B14,'Investimento Futuro'!$B$918:$Q$942,16,FALSE)*(1+$F$3)","v":0},{"$f":"VLOOKUP(B14,'Investimento Futuro'!$B$946:$Q$971,16,FALSE)*(1+$F$3)","v":0},{"$f":"VLOOKUP(B14,'Investimento Futuro'!$B$975:$Q$1000,16,FALSE)*(1+$F$3)","v":0}]
[null,2.5,"2.5 Outros Componentes",null,{"$f":"VLOOKUP(B15,'Investimento Futuro'!$B$136:$Q$161,16,FALSE)*(1+$F$3)","v":0},{"$f":"VLOOKUP(B15,'Investimento Futuro'!B173:Q198,16,FALSE)*(1+$F$3)","v":0},{"$f":"VLOOKUP(B15,'Investimento Futuro'!$B$194:$Q$219,16,FALSE)*(1+$F$3)","v":0},{"$f":"VLOOKUP(B15,'Investimento Futuro'!$B$222:$Q$247,16,FALSE)*(1+$F$3)","v":0},{"$f":"VLOOKUP(B15,'Investimento Futuro'!$B$251:$Q$276,16,FALSE)*(1+$F$3)","v":0},{"$f":"VLOOKUP(B15,'Investimento Futuro'!$B$280:$Q$305,16,FALSE)*(1+$F$3)","v":6413.8449745147036},{"$f":"VLOOKUP(B15,'Investimento Futuro'!$B$309:$Q$334,16,FALSE)*(1+$F$3)","v":4919.2190274336263},{"$f":"VLOOKUP(B15,'Investimento Futuro'!$B$337:$Q$362,16,FALSE)*(1+$F$3)","v":6448.0706852566918},{"$f":"VLOOKUP(B15,'Investimento Futuro'!$B$366:$Q$391,16,FALSE)*(1+$F$3)","v":4917.6569466688079},{"$f":"VLOOKUP(B15,'Investimento Futuro'!$B$395:$Q$420,16,FALSE)*(1+$F$3)","v":6440.2673688514706},{"$f":"VLOOKUP(B15,'Investimento Futuro'!$B$424:$Q$449,16,FALSE)*(1+$F$3)","v":4702.0499293655057},{"$f":"VLOOKUP(B15,'Investimento Futuro'!$B$453:$Q$478,16,FALSE)*(1+$F$3)","v":4664.8926269191143},{"$f":"VLOOKUP(B15,'Investimento Futuro'!$B$482:$Q$507,16,FALSE)*(1+$F$3)","v":4737.388583515597},{"$f":"VLOOKUP(B15,'Investimento Futuro'!$B$511:$Q$536,16,FALSE)*(1+$F$3)","v":0},{"$f":"VLOOKUP(B15,'Investimento Futuro'!$B$540:$Q$565,16,FALSE)*(1+$F$3)","v":0},{"$f":"VLOOKUP(B15,'Investimento Futuro'!$B$569:$Q$594,16,FALSE)*(1+$F$3)","v":0},{"$f":"VLOOKUP(B15,'Investimento Futuro'!$B$598:$Q$623,16,FALSE)*(1+$F$3)","v":0},{"$f":"VLOOKUP(B15,'Investimento Futuro'!$B$627:$Q$652,16,FALSE)*(1+$F$3)","v":0},{"$f":"VLOOKUP(B15,'Investimento Futuro'!$B$656:$Q$681,16,FALSE)*(1+$F$3)","v":0},{"$f":"VLOOKUP(B15,'Investimento Futuro'!$B$685:$Q$710,16,FALSE)*(1+$F$3)","v":0},{"$f":"VLOOKUP(B15,'Investimento Futuro'!$B$714:$Q$739,16,FALSE)*(1+$F$3)","v":0},{"$f":"VLOOKUP(B15,'Investimento Futuro'!$B$743:$Q$768,16,FALSE)*(1+$F$3)","v":0},{"$f":"VLOOKUP(B15,'Investimento Futuro'!$B$772:$Q$797,16,FALSE)*(1+$F$3)","v":0},{"$f":"VLOOKUP(B15,'Investimento Futuro'!$B$801:$Q$826,16,FALSE)*(1+$F$3)","v":0},{"$f":"VLOOKUP(B15,'Investimento Futuro'!$B$830:$Q$855,16,FALSE)*(1+$F$3)","v":0},{"$f":"VLOOKUP(B15,'Investimento Futuro'!$B$859:$Q$884,16,FALSE)*(1+$F$3)","v":0},{"$f":"VLOOKUP(B15,'Investimento Futuro'!$B$888:$Q$913,16,FALSE)*(1+$F$3)","v":0},{"$f":"VLOOKUP(B15,'Investimento Futuro'!$B$917:$Q$942,16,FALSE)*(1+$F$3)","v":0},{"$f":"VLOOKUP(B15,'Investimento Futuro'!$B$946:$Q$971,16,FALSE)*(1+$F$3)","v":0},{"$f":"VLOOKUP(B15,'Investimento Futuro'!$B$975:$Q$1000,16,FALSE)*(1+$F$3)","v":0}]
[null,3,"3 Complementos",null,{"$f":"VLOOKUP(B16,'Investimento Futuro'!$B$136:$Q$171,16,FALSE)*(1+$F$3)","v":48429.14807861083},{"$f":"VLOOKUP(B16,'Investimento Futuro'!B174:Q199,16,FALSE)*(1+$F$3)","v":50531.996151867366},{"$f":"VLOOKUP(B16,'Investimento Futuro'!$B$194:$Q$219,16,FALSE)*(1+$F$3)","v":51261.990533014301},{"$f":"VLOOKUP(B16,'Investimento Futuro'!$B$222:$Q$247,16,FALSE)*(1+$F$3)","v":19641.765829927481},{"$f":"VLOOKUP(B16,'Investimento Futuro'!$B$251:$Q$276,16,FALSE)*(1+$F$3)","v":36259.710694358459},{"$f":"VLOOKUP(B16,'Investimento Futuro'!$B$280:$Q$305,16,FALSE)*(1+$F$3)","v":15393.866686755655},{"$f":"VLOOKUP(B16,'Investimento Futuro'!$B$309:$Q$334,16,FALSE)*(1+$F$3)","v":16612.202655643356},{"$f":"VLOOKUP(B16,'Investimento Futuro'!$B$337:$Q$362,16,FALSE)*(1+$F$3)","v":10098.634737400413},{"$f":"VLOOKUP(B16,'Investimento Futuro'!$B$366:$Q$391,16,FALSE)*(1+$F$3)","v":16265.150351107082},{"$f":"VLOOKUP(B16,'Investimento Futuro'!$B$395:$Q$420,16,FALSE)*(1+$F$3)","v":11211.660883039278},{"$f":"VLOOKUP(B16,'Investimento Futuro'!$B$424:$Q$449,16,FALSE)*(1+$F$3)","v":14208.419374060215},{"$f":"VLOOKUP(B16,'Investimento Futuro'!$B$453:$Q$478,16,FALSE)*(1+$F$3)","v":5532.5626555260687},{"$f":"VLOOKUP(B16,'Investimento Futuro'!$B$482:$Q$507,16,FALSE)*(1+$F$3)","v":14407.58302961681},{"$f":"VLOOKUP(B16,'Investimento Futuro'!$B$511:$Q$536,16,FALSE)*(1+$F$3)","v":0},{"$f":"VLOOKUP(B16,'Investimento Futuro'!$B$540:$Q$565,16,FALSE)*(1+$F$3)","v":0},{"$f":"VLOOKUP(B16,'Investimento Futuro'!$B$569:$Q$594,16,FALSE)*(1+$F$3)","v":0},{"$f":"VLOOKUP(B16,'Investimento Futuro'!$B$598:$Q$623,16,FALSE)*(1+$F$3)","v":0},{"$f":"VLOOKUP(B16,'Investimento Futuro'!$B$627:$Q$652,16,FALSE)*(1+$F$3)","v":0},{"$f":"VLOOKUP(B16,'Investimento Futuro'!$B$656:$Q$681,16,FALSE)*(1+$F$3)","v":0},{"$f":"VLOOKUP(B16,'Investimento Futuro'!$B$685:$Q$710,16,FALSE)*(1+$F$3)","v":0},{"$f":"VLOOKUP(B16,'Investimento Futuro'!$B$714:$Q$739,16,FALSE)*(1+$F$3)","v":0},{"$f":"VLOOKUP(B16,'Investimento Futuro'!$B$743:$Q$768,16,FALSE)*(1+$F$3)","v":0},{"$f":"VLOOKUP(B16,'Investimento Futuro'!$B$772:$Q$797,16,FALSE)*(1+$F$3)","v":0},{"$f":"VLOOKUP(B16,'Investimento Futuro'!$B$801:$Q$826,16,FALSE)*(1+$F$3)","v":0},{"$f":"VLOOKUP(B16,'Investimento Futuro'!$B$830:$Q$855,16,FALSE)*(1+$F$3)","v":0},{"$f":"VLOOKUP(B16,'Investimento Futuro'!$B$859:$Q$884,16,FALSE)*(1+$F$3)","v":0},{"$f":"VLOOKUP(B16,'Investimento Futuro'!$B$888:$Q$913,16,FALSE)*(1+$F$3)","v":0},{"$f":"VLOOKUP(B16,'Investimento Futuro'!$B$918:$Q$942,16,FALSE)*(1+$F$3)","v":0},{"$f":"VLOOKUP(B16,'Investimento Futuro'!$B$946:$Q$971,16,FALSE)*(1+$F$3)","v":0},{"$f":"VLOOKUP(B16,'Investimento Futuro'!$B$975:$Q$1000,16,FALSE)*(1+$F$3)","v":0}]
[null,3.1,"3.1 Ponto(s) de Recebimento ",null,{"$f":"VLOOKUP(B17,'Investimento Futuro'!$B$136:$Q$171,16,FALSE)*(1+$F$3)","v":133.45882680839961},{"$f":"VLOOKUP(B17,'Investimento Futuro'!B175:Q200,16,FALSE)*(1+$F$3)","v":966.02040259718433},{"$f":"VLOOKUP(B17,'Investimento Futuro'!$B$194:$Q$219,16,FALSE)*(1+$F$3)","v":500.43489127290763},{"$f":"VLOOKUP(B17,'Investimento Futuro'!$B$222:$Q$247,16,FALSE)*(1+$F$3)","v":136.19731741615504},{"$f":"VLOOKUP(B17,'Investimento Futuro'!$B$251:$Q$276,16,FALSE)*(1+$F$3)","v":168.67928886557266},{"$f":"VLOOKUP(B17,'Investimento Futuro'!$B$280:$Q$305,16,FALSE)*(1+$F$3)","v":0},{"$f":"VLOOKUP(B17,'Investimento Futuro'!$B$309:$Q$334,16,FALSE)*(1+$F$3)","v":0},{"$f":"VLOOKUP(B17,'Investimento Futuro'!$B$337:$Q$362,16,FALSE)*(1+$F$3)","v":0},{"$f":"VLOOKUP(B17,'Investimento Futuro'!$B$366:$Q$391,16,FALSE)*(1+$F$3)","v":0},{"$f":"VLOOKUP(B17,'Investimento Futuro'!$B$395:$Q$420,16,FALSE)*(1+$F$3)","v":0},{"$f":"VLOOKUP(B17,'Investimento Futuro'!$B$424:$Q$449,16,FALSE)*(1+$F$3)","v":0},{"$f":"VLOOKUP(B17,'Investimento Futuro'!$B$453:$Q$478,16,FALSE)*(1+$F$3)","v":0},{"$f":"VLOOKUP(B17,'Investimento Futuro'!$B$482:$Q$507,16,FALSE)*(1+$F$3)","v":0},{"$f":"VLOOKUP(B17,'Investimento Futuro'!$B$511:$Q$536,16,FALSE)*(1+$F$3)","v":0},{"$f":"VLOOKUP(B17,'Investimento Futuro'!$B$540:$Q$565,16,FALSE)*(1+$F$3)","v":0},{"$f":"VLOOKUP(B17,'Investimento Futuro'!$B$569:$Q$594,16,FALSE)*(1+$F$3)","v":0},{"$f":"VLOOKUP(B17,'Investimento Futuro'!$B$598:$Q$623,16,FALSE)*(1+$F$3)","v":0},{"$f":"VLOOKUP(B17,'Investimento Futuro'!$B$627:$Q$652,16,FALSE)*(1+$F$3)","v":0},{"$f":"VLOOKUP(B17,'Investimento Futuro'!$B$656:$Q$681,16,FALSE)*(1+$F$3)","v":0},{"$f":"VLOOKUP(B17,'Investimento Futuro'!$B$685:$Q$710,16,FALSE)*(1+$F$3)","v":0},{"$f":"VLOOKUP(B17,'Investimento Futuro'!$B$714:$Q$739,16,FALSE)*(1+$F$3)","v":0},{"$f":"VLOOKUP(B17,'Investimento Futuro'!$B$743:$Q$768,16,FALSE)*(1+$F$3)","v":0},{"$f":"VLOOKUP(B17,'Investimento Futuro'!$B$772:$Q$797,16,FALSE)*(1+$F$3)","v":0},{"$f":"VLOOKUP(B17,'Investimento Futuro'!$B$801:$Q$826,16,FALSE)*(1+$F$3)","v":0},{"$f":"VLOOKUP(B17,'Investimento Futuro'!$B$830:$Q$855,16,FALSE)*(1+$F$3)","v":0},{"$f":"VLOOKUP(B17,'Investimento Futuro'!$B$859:$Q$884,16,FALSE)*(1+$F$3)","v":0},{"$f":"VLOOKUP(B17,'Investimento Futuro'!$B$888:$Q$913,16,FALSE)*(1+$F$3)","v":0},{"$f":"VLOOKUP(B17,'Investimento Futuro'!$B$918:$Q$942,16,FALSE)*(1+$F$3)","v":0},{"$f":"VLOOKUP(B17,'Investimento Futuro'!$B$946:$Q$971,16,FALSE)*(1+$F$3)","v":0},{"$f":"VLOOKUP(B17,'Investimento Futuro'!$B$975:$Q$1000,16,FALSE)*(1+$F$3)","v":0}]
[null,3.2,"3.2 Ponto(s) de Entrega",null,{"$f":"VLOOKUP(B18,'Investimento Futuro'!$B$136:$Q$171,16,FALSE)*(1+$F$3)","v":6156.6988942596263},{"$f":"VLOOKUP(B18,'Investimento Futuro'!B176:Q201,16,FALSE)*(1+$F$3)","v":12003.687694331464},{"$f":"VLOOKUP(B18,'Investimento Futuro'!$B$194:$Q$219,16,FALSE)*(1+$F$3)","v":9565.0585746227771},{"$f":"VLOOKUP(B18,'Investimento Futuro'!$B$222:$Q$247,16,FALSE)*(1+$F$3)","v":4388.4451364659553},{"$f":"VLOOKUP(B18,'Investimento Futuro'!$B$251:$Q$276,16,FALSE)*(1+$F$3)","v":4220.0250025207815},{"$f":"VLOOKUP(B18,'Investimento Futuro'!$B$280:$Q$305,16,FALSE)*(1+$F$3)","v":1590.9472963831658},{"$f":"VLOOKUP(B18,'Investimento Futuro'!$B$309:$Q$334,16,FALSE)*(1+$F$3)","v":1684.8325168960168},{"$f":"VLOOKUP(B18,'Investimento Futuro'!$B$337:$Q$362,16,FALSE)*(1+$F$3)","v":548.71194526915554},{"$f":"VLOOKUP(B18,'Investimento Futuro'!$B$366:$Q$391,16,FALSE)*(1+$F$3)","v":577.82469123358499},{"$f":"VLOOKUP(B18,'Investimento Futuro'!$B$395:$Q$420,16,FALSE)*(1+$F$3)","v":548.04790587919501},{"$f":"VLOOKUP(B18,'Investimento Futuro'!$B$424:$Q$449,16,FALSE)*(1+$F$3)","v":0},{"$f":"VLOOKUP(B18,'Investimento Futuro'!$B$453:$Q$478,16,FALSE)*(1+$F$3)","v":0},{"$f":"VLOOKUP(B18,'Investimento Futuro'!$B$482:$Q$507,16,FALSE)*(1+$F$3)","v":0},{"$f":"VLOOKUP(B18,'Investimento Futuro'!$B$511:$Q$536,16,FALSE)*(1+$F$3)","v":0},{"$f":"VLOOKUP(B18,'Investimento Futuro'!$B$540:$Q$565,16,FALSE)*(1+$F$3)","v":0},{"$f":"VLOOKUP(B18,'Investimento Futuro'!$B$569:$Q$594,16,FALSE)*(1+$F$3)","v":0},{"$f":"VLOOKUP(B18,'Investimento Futuro'!$B$598:$Q$623,16,FALSE)*(1+$F$3)","v":0},{"$f":"VLOOKUP(B18,'Investimento Futuro'!$B$627:$Q$652,16,FALSE)*(1+$F$3)","v":0},{"$f":"VLOOKUP(B18,'Investimento Futuro'!$B$656:$Q$681,16,FALSE)*(1+$F$3)","v":0},{"$f":"VLOOKUP(B18,'Investimento Futuro'!$B$685:$Q$710,16,FALSE)*(1+$F$3)","v":0},{"$f":"VLOOKUP(B18,'Investimento Futuro'!$B$714:$Q$739,16,FALSE)*(1+$F$3)","v":0},{"$f":"VLOOKUP(B18,'Investimento Futuro'!$B$743:$Q$768,16,FALSE)*(1+$F$3)","v":0},{"$f":"VLOOKUP(B18,'Investimento Futuro'!$B$772:$Q$797,16,FALSE)*(1+$F$3)","v":0},{"$f":"VLOOKUP(B18,'Investimento Futuro'!$B$801:$Q$826,16,FALSE)*(1+$F$3)","v":0},{"$f":"VLOOKUP(B18,'Investimento Futuro'!$B$830:$Q$855,16,FALSE)*(1+$F$3)","v":0},{"$f":"VLOOKUP(B18,'Investimento Futuro'!$B$859:$Q$884,16,FALSE)*(1+$F$3)","v":0},{"$f":"VLOOKUP(B18,'Investimento Futuro'!$B$888:$Q$913,16,FALSE)*(1+$F$3)","v":0},{"$f":"VLOOKUP(B18,'Investimento Futuro'!$B$918:$Q$942,16,FALSE)*(1+$F$3)","v":0},{"$f":"VLOOKUP(B18,'Investimento Futuro'!$B$946:$Q$971,16,FALSE)*(1+$F$3)","v":0},{"$f":"VLOOKUP(B18,'Investimento Futuro'!$B$975:$Q$1000,16,FALSE)*(1+$F$3)","v":0}]
[null,3.3,"3.3 Estação(ões) de Interconexão",null,{"$f":"VLOOKUP(B19,'Investimento Futuro'!$B$136:$Q$171,16,FALSE)*(1+$F$3)","v":866.06259950131687},{"$f":"VLOOKUP(B19,'Investimento Futuro'!B177:Q202,16,FALSE)*(1+$F$3)","v":961.96285722337257},{"$f":"VLOOKUP(B19,'Investimento Futuro'!$B$194:$Q$219,16,FALSE)*(1+$F$3)","v":365.84009934256903},{"$f":"VLOOKUP(B19,'Investimento Futuro'!$B$222:$Q$247,16,FALSE)*(1+$F$3)","v":0},{"$f":"VLOOKUP(B19,'Investimento Futuro'!$B$251:$Q$276,16,FALSE)*(1+$F$3)","v":0},{"$f":"VLOOKUP(B19,'Investimento Futuro'!$B$280:$Q$305,16,FALSE)*(1+$F$3)","v":0},{"$f":"VLOOKUP(B19,'Investimento Futuro'!$B$309:$Q$334,16,FALSE)*(1+$F$3)","v":0},{"$f":"VLOOKUP(B19,'Investimento Futuro'!$B$337:$Q$362,16,FALSE)*(1+$F$3)","v":0},{"$f":"VLOOKUP(B19,'Investimento Futuro'!$B$366:$Q$391,16,FALSE)*(1+$F$3)","v":0},{"$f":"VLOOKUP(B19,'Investimento Futuro'!$B$395:$Q$420,16,FALSE)*(1+$F$3)","v":0},{"$f":"VLOOKUP(B19,'Investimento Futuro'!$B$424:$Q$449,16,FALSE)*(1+$F$3)","v":0},{"$f":"VLOOKUP(B19,'Investimento Futuro'!$B$453:$Q$478,16,FALSE)*(1+$F$3)","v":0},{"$f":"VLOOKUP(B19,'Investimento Futuro'!$B$482:$Q$507,16,FALSE)*(1+$F$3)","v":0},{"$f":"VLOOKUP(B19,'Investimento Futuro'!$B$511:$Q$536,16,FALSE)*(1+$F$3)","v":0},{"$f":"VLOOKUP(B19,'Investimento Futuro'!$B$540:$Q$565,16,FALSE)*(1+$F$3)","v":0},{"$f":"VLOOKUP(B19,'Investimento Futuro'!$B$569:$Q$594,16,FALSE)*(1+$F$3)","v":0},{"$f":"VLOOKUP(B19,'Investimento Futuro'!$B$598:$Q$623,16,FALSE)*(1+$F$3)","v":0},{"$f":"VLOOKUP(B19,'Investimento Futuro'!$B$627:$Q$652,16,FALSE)*(1+$F$3)","v":0},{"$f":"VLOOKUP(B19,'Investimento Futuro'!$B$656:$Q$681,16,FALSE)*(1+$F$3)","v":0},{"$f":"VLOOKUP(B19,'Investimento Futuro'!$B$685:$Q$710,16,FALSE)*(1+$F$3)","v":0},{"$f":"VLOOKUP(B19,'Investimento Futuro'!$B$714:$Q$739,16,FALSE)*(1+$F$3)","v":0},{"$f":"VLOOKUP(B19,'Investimento Futuro'!$B$743:$Q$768,16,FALSE)*(1+$F$3)","v":0},{"$f":"VLOOKUP(B19,'Investimento Futuro'!$B$772:$Q$797,16,FALSE)*(1+$F$3)","v":0},{"$f":"VLOOKUP(B19,'Investimento Futuro'!$B$801:$Q$826,16,FALSE)*(1+$F$3)","v":0},{"$f":"VLOOKUP(B19,'Investimento Futuro'!$B$830:$Q$855,16,FALSE)*(1+$F$3)","v":0},{"$f":"VLOOKUP(B19,'Investimento Futuro'!$B$859:$Q$884,16,FALSE)*(1+$F$3)","v":0},{"$f":"VLOOKUP(B19,'Investimento Futuro'!$B$888:$Q$913,16,FALSE)*(1+$F$3)","v":0},{"$f":"VLOOKUP(B19,'Investimento Futuro'!$B$918:$Q$942,16,FALSE)*(1+$F$3)","v":0},{"$f":"VLOOKUP(B19,'Investimento Futuro'!$B$946:$Q$971,16,FALSE)*(1+$F$3)","v":0},{"$f":"VLOOKUP(B19,'Investimento Futuro'!$B$975:$Q$1000,16,FALSE)*(1+$F$3)","v":0}]
[null,3.4,"3.4 Estação(ões) de Compressão",null,{"$f":"VLOOKUP(B20,'Investimento Futuro'!$B$136:$Q$171,16,FALSE)*(1+$F$3)","v":26856.601210535835},{"$f":"VLOOKUP(B20,'Investimento Futuro'!B178:Q203,16,FALSE)*(1+$F$3)","v":22003.662807645629},{"$f":"VLOOKUP(B20,'Investimento Futuro'!$B$194:$Q$219,16,FALSE)*(1+$F$3)","v":30685.930125218056},{"$f":"VLOOKUP(B20,'Investimento Futuro'!$B$222:$Q$247,16,FALSE)*(1+$F$3)","v":6027.7455310073219},{"$f":"VLOOKUP(B20,'Investimento Futuro'!$B$251:$Q$276,16,FALSE)*(1+$F$3)","v":19237.962618144549},{"$f":"VLOOKUP(B20,'Investimento Futuro'!$B$280:$Q$305,16,FALSE)*(1+$F$3)","v":9359.8797144878226},{"$f":"VLOOKUP(B20,'Investimento Futuro'!$B$309:$Q$334,16,FALSE)*(1+$F$3)","v":11941.404189095127},{"$f":"VLOOKUP(B20,'Investimento Futuro'!$B$337:$Q$362,16,FALSE)*(1+$F$3)","v":7826.7337895413148},{"$f":"VLOOKUP(B20,'Investimento Futuro'!$B$366:$Q$391,16,FALSE)*(1+$F$3)","v":10671.315574271313},{"$f":"VLOOKUP(B20,'Investimento Futuro'!$B$395:$Q$420,16,FALSE)*(1+$F$3)","v":7293.7013856901385},{"$f":"VLOOKUP(B20,'Investimento Futuro'!$B$424:$Q$449,16,FALSE)*(1+$F$3)","v":11356.626091900036},{"$f":"VLOOKUP(B20,'Investimento Futuro'!$B$453:$Q$478,16,FALSE)*(1+$F$3)","v":4506.2862776038637},{"$f":"VLOOKUP(B20,'Investimento Futuro'!$B$482:$Q$507,16,FALSE)*(1+$F$3)","v":9764.942217771526},{"$f":"VLOOKUP(B20,'Investimento Futuro'!$B$511:$Q$536,16,FALSE)*(1+$F$3)","v":0},{"$f":"VLOOKUP(B20,'Investimento Futuro'!$B$540:$Q$565,16,FALSE)*(1+$F$3)","v":0},{"$f":"VLOOKUP(B20,'Investimento Futuro'!$B$569:$Q$594,16,FALSE)*(1+$F$3)","v":0},{"$f":"VLOOKUP(B20,'Investimento Futuro'!$B$598:$Q$623,16,FALSE)*(1+$F$3)","v":0},{"$f":"VLOOKUP(B20,'Investimento Futuro'!$B$627:$Q$652,16,FALSE)*(1+$F$3)","v":0},{"$f":"VLOOKUP(B20,'Investimento Futuro'!$B$656:$Q$681,16,FALSE)*(1+$F$3)","v":0},{"$f":"VLOOKUP(B20,'Investimento Futuro'!$B$685:$Q$710,16,FALSE)*(1+$F$3)","v":0},{"$f":"VLOOKUP(B20,'Investimento Futuro'!$B$714:$Q$739,16,FALSE)*(1+$F$3)","v":0},{"$f":"VLOOKUP(B20,'Investimento Futuro'!$B$743:$Q$768,16,FALSE)*(1+$F$3)","v":0},{"$f":"VLOOKUP(B20,'Investimento Futuro'!$B$772:$Q$797,16,FALSE)*(1+$F$3)","v":0},{"$f":"VLOOKUP(B20,'Investimento Futuro'!$B$801:$Q$826,16,FALSE)*(1+$F$3)","v":0},{"$f":"VLOOKUP(B20,'Investimento Futuro'!$B$830:$Q$855,16,FALSE)*(1+$F$3)","v":0},{"$f":"VLOOKUP(B20,'Investimento Futuro'!$B$859:$Q$884,16,FALSE)*(1+$F$3)","v":0},{"$f":"VLOOKUP(B20,'Investimento Futuro'!$B$888:$Q$913,16,FALSE)*(1+$F$3)","v":0},{"$f":"VLOOKUP(B20,'Investimento Futuro'!$B$918:$Q$942,16,FALSE)*(1+$F$3)","v":0},{"$f":"VLOOKUP(B20,'Investimento Futuro'!$B$946:$Q$971,16,FALSE)*(1+$F$3)","v":0},{"$f":"VLOOKUP(B20,'Investimento Futuro'!$B$975:$Q$1000,16,FALSE)*(1+$F$3)","v":0}]
[null,3.5,"3.5 Estação(ões) de Medição",null,{"$f":"VLOOKUP(B21,'Investimento Futuro'!$B$136:$Q$171,16,FALSE)*(1+$F$3)","v":6156.2729618336398},{"$f":"VLOOKUP(B21,'Investimento Futuro'!B179:Q204,16,FALSE)*(1+$F$3)","v":5164.9871100380824},{"$f":"VLOOKUP(B21,'Investimento Futuro'!$B$194:$Q$219,16,FALSE)*(1+$F$3)","v":3726.980837454571},{"$f":"VLOOKUP(B21,'Investimento Futuro'!$B$222:$Q$247,16,FALSE)*(1+$F$3)","v":3401.1594759620393},{"$f":"VLOOKUP(B21,'Investimento Futuro'!$B$251:$Q$276,16,FALSE)*(1+$F$3)","v":4212.3088222854403},{"$f":"VLOOKUP(B21,'Investimento Futuro'!$B$280:$Q$305,16,FALSE)*(1+$F$3)","v":0},{"$f":"VLOOKUP(B21,'Investimento Futuro'!$B$309:$Q$334,16,FALSE)*(1+$F$3)","v":0},{"$f":"VLOOKUP(B21,'Investimento Futuro'!$B$337:$Q$362,16,FALSE)*(1+$F$3)","v":0},{"$f":"VLOOKUP(B21,'Investimento Futuro'!$B$366:$Q$391,16,FALSE)*(1+$F$3)","v":0},{"$f":"VLOOKUP(B21,'Investimento Futuro'!$B$395:$Q$420,16,FALSE)*(1+$F$3)","v":0},{"$f":"VLOOKUP(B21,'Investimento Futuro'!$B$424:$Q$449,16,FALSE)*(1+$F$3)","v":0},{"$f":"VLOOKUP(B21,'Investimento Futuro'!$B$453:$Q$478,16,FALSE)*(1+$F$3)","v":0},{"$f":"VLOOKUP(B21,'Investimento Futuro'!$B$482:$Q$507,16,FALSE)*(1+$F$3)","v":0},{"$f":"VLOOKUP(B21,'Investimento Futuro'!$B$511:$Q$536,16,FALSE)*(1+$F$3)","v":0},{"$f":"VLOOKUP(B21,'Investimento Futuro'!$B$540:$Q$565,16,FALSE)*(1+$F$3)","v":0},{"$f":"VLOOKUP(B21,'Investimento Futuro'!$B$569:$Q$594,16,FALSE)*(1+$F$3)","v":0},{"$f":"VLOOKUP(B21,'Investimento Futuro'!$B$598:$Q$623,16,FALSE)*(1+$F$3)","v":0},{"$f":"VLOOKUP(B21,'Investimento Futuro'!$B$627:$Q$652,16,FALSE)*(1+$F$3)","v":0},{"$f":"VLOOKUP(B21,'Investimento Futuro'!$B$656:$Q$681,16,FALSE)*(1+$F$3)","v":0},{"$f":"VLOOKUP(B21,'Investimento Futuro'!$B$685:$Q$710,16,FALSE)*(1+$F$3)","v":0},{"$f":"VLOOKUP(B21,'Investimento Futuro'!$B$714:$Q$739,16,FALSE)*(1+$F$3)","v":0},{"$f":"VLOOKUP(B21,'Investimento Futuro'!$B$743:$Q$768,16,FALSE)*(1+$F$3)","v":0},{"$f":"VLOOKUP(B21,'Investimento Futuro'!$B$772:$Q$797,16,FALSE)*(1+$F$3)","v":0},{"$f":"VLOOKUP(B21,'Investimento Futuro'!$B$801:$Q$826,16,FALSE)*(1+$F$3)","v":0},{"$f":"VLOOKUP(B21,'Investimento Futuro'!$B$830:$Q$855,16,FALSE)*(1+$F$3)","v":0},{"$f":"VLOOKUP(B21,'Investimento Futuro'!$B$859:$Q$884,16,FALSE)*(1+$F$3)","v":0},{"$f":"VLOOKUP(B21,'Investimento Futuro'!$B$888:$Q$913,16,FALSE)*(1+$F$3)","v":0},{"$f":"VLOOKUP(B21,'Investimento Futuro'!$B$918:$Q$942,16,FALSE)*(1+$F$3)","v":0},{"$f":"VLOOKUP(B21,'Investimento Futuro'!$B$946:$Q$971,16,FALSE)*(1+$F$3)","v":0},{"$f":"VLOOKUP(B21,'Investimento Futuro'!$B$975:$Q$1000,16,FALSE)*(1+$F$3)","v":0}]
[null,3.6,"3.6 Estação(ões) de Regulagem de Pressão",null,{"$f":"VLOOKUP(B22,'Investimento Futuro'!$B$136:$Q$171,16,FALSE)*(1+$F$3)","v":0},{"$f":"VLOOKUP(B22,'Investimento Futuro'!B180:Q205,16,FALSE)*(1+$F$3)","v":0},{"$f":"VLOOKUP(B22,'Investimento Futuro'!$B$194:$Q$219,16,FALSE)*(1+$F$3)","v":0},{"$f":"VLOOKUP(B22,'Investimento Futuro'!$B$222:$Q$247,16,FALSE)*(1+$F$3)","v":0},{"$f":"VLOOKUP(B22,'Investimento Futuro'!$B$251:$Q$276,16,FALSE)*(1+$F$3)","v":0},{"$f":"VLOOKUP(B22,'Investimento Futuro'!$B$280:$Q$305,16,FALSE)*(1+$F$3)","v":0},{"$f":"VLOOKUP(B22,'Investimento Futuro'!$B$309:$Q$334,16,FALSE)*(1+$F$3)","v":0},{"$f":"VLOOKUP(B22,'Investimento Futuro'!$B$337:$Q$362,16,FALSE)*(1+$F$3)","v":0},{"$f":"VLOOKUP(B22,'Investimento Futuro'!$B$366:$Q$391,16,FALSE)*(1+$F$3)","v":0},{"$f":"VLOOKUP(B22,'Investimento Futuro'!$B$395:$Q$420,16,FALSE)*(1+$F$3)","v":0},{"$f":"VLOOKUP(B22,'Investimento Futuro'!$B$424:$Q$449,16,FALSE)*(1+$F$3)","v":0},{"$f":"VLOOKUP(B22,'Investimento Futuro'!$B$453:$Q$478,16,FALSE)*(1+$F$3)","v":0},{"$f":"VLOOKUP(B22,'Investimento Futuro'!$B$482:$Q$507,16,FALSE)*(1+$F$3)","v":0},{"$f":"VLOOKUP(B22,'Investimento Futuro'!$B$511:$Q$536,16,FALSE)*(1+$F$3)","v":0},{"$f":"VLOOKUP(B22,'Investimento Futuro'!$B$540:$Q$565,16,FALSE)*(1+$F$3)","v":0},{"$f":"VLOOKUP(B22,'Investimento Futuro'!$B$569:$Q$594,16,FALSE)*(1+$F$3)","v":0},{"$f":"VLOOKUP(B22,'Investimento Futuro'!$B$598:$Q$623,16,FALSE)*(1+$F$3)","v":0},{"$f":"VLOOKUP(B22,'Investimento Futuro'!$B$627:$Q$652,16,FALSE)*(1+$F$3)","v":0},{"$f":"VLOOKUP(B22,'Investimento Futuro'!$B$656:$Q$681,16,FALSE)*(1+$F$3)","v":0},{"$f":"VLOOKUP(B22,'Investimento Futuro'!$B$685:$Q$710,16,FALSE)*(1+$F$3)","v":0},{"$f":"VLOOKUP(B22,'Investimento Futuro'!$B$714:$Q$739,16,FALSE)*(1+$F$3)","v":0},{"$f":"VLOOKUP(B22,'Investimento Futuro'!$B$743:$Q$768,16,FALSE)*(1+$F$3)","v":0},{"$f":"VLOOKUP(B22,'Investimento Futuro'!$B$772:$Q$797,16,FALSE)*(1+$F$3)","v":0},{"$f":"VLOOKUP(B22,'Investimento Futuro'!$B$801:$Q$826,16,FALSE)*(1+$F$3)","v":0},{"$f":"VLOOKUP(B22,'Investimento Futuro'!$B$830:$Q$855,16,FALSE)*(1+$F$3)","v":0},{"$f":"VLOOKUP(B22,'Investimento Futuro'!$B$859:$Q$884,16,FALSE)*(1+$F$3)","v":0},{"$f":"VLOOKUP(B22,'Investimento Futuro'!$B$888:$Q$913,16,FALSE)*(1+$F$3)","v":0},{"$f":"VLOOKUP(B22,'Investimento Futuro'!$B$918:$Q$942,16,FALSE)*(1+$F$3)","v":0},{"$f":"VLOOKUP(B22,'Investimento Futuro'!$B$946:$Q$971,16,FALSE)*(1+$F$3)","v":0},{"$f":"VLOOKUP(B22,'Investimento Futuro'!$B$975:$Q$1000,16,FALSE)*(1+$F$3)","v":0}]
[null,3.7,"3.7 Sistema Elétrico",null,{"$f":"VLOOKUP(B23,'Investimento Futuro'!$B$136:$Q$171,16,FALSE)*(1+$F$3)","v":5693.4387381315255},{"$f":"VLOOKUP(B23,'Investimento Futuro'!B181:Q206,16,FALSE)*(1+$F$3)","v":5320.4157959573758},{"$f":"VLOOKUP(B23,'Investimento Futuro'!$B$194:$Q$219,16,FALSE)*(1+$F$3)","v":5293.0833786094245},{"$f":"VLOOKUP(B23,'Investimento Futuro'!$B$222:$Q$247,16,FALSE)*(1+$F$3)","v":4733.0016709745969},{"$f":"VLOOKUP(B23,'Investimento Futuro'!$B$251:$Q$276,16,FALSE)*(1+$F$3)","v":6420.0414018548845},{"$f":"VLOOKUP(B23,'Investimento Futuro'!$B$280:$Q$305,16,FALSE)*(1+$F$3)","v":464.51015952793165},{"$f":"VLOOKUP(B23,'Investimento Futuro'!$B$309:$Q$334,16,FALSE)*(1+$F$3)","v":1168.3145190154862},{"$f":"VLOOKUP(B23,'Investimento Futuro'!$B$337:$Q$362,16,FALSE)*(1+$F$3)","v":466.98888959077055},{"$f":"VLOOKUP(B23,'Investimento Futuro'!$B$366:$Q$391,16,FALSE)*(1+$F$3)","v":1167.9435248338418},{"$f":"VLOOKUP(B23,'Investimento Futuro'!$B$395:$Q$420,16,FALSE)*(1+$F$3)","v":0},{"$f":"VLOOKUP(B23,'Investimento Futuro'!$B$424:$Q$449,16,FALSE)*(1+$F$3)","v":1022.6958596369974},{"$f":"VLOOKUP(B23,'Investimento Futuro'!$B$453:$Q$478,16,FALSE)*(1+$F$3)","v":373.19141015352915},{"$f":"VLOOKUP(B23,'Investimento Futuro'!$B$482:$Q$507,16,FALSE)*(1+$F$3)","v":1030.3820169146422},{"$f":"VLOOKUP(B23,'Investimento Futuro'!$B$511:$Q$536,16,FALSE)*(1+$F$3)","v":0},{"$f":"VLOOKUP(B23,'Investimento Futuro'!$B$540:$Q$565,16,FALSE)*(1+$F$3)","v":0},{"$f":"VLOOKUP(B23,'Investimento Futuro'!$B$569:$Q$594,16,FALSE)*(1+$F$3)","v":0},{"$f":"VLOOKUP(B23,'Investimento Futuro'!$B$598:$Q$623,16,FALSE)*(1+$F$3)","v":0},{"$f":"VLOOKUP(B23,'Investimento Futuro'!$B$627:$Q$652,16,FALSE)*(1+$F$3)","v":0},{"$f":"VLOOKUP(B23,'Investimento Futuro'!$B$656:$Q$681,16,FALSE)*(1+$F$3)","v":0},{"$f":"VLOOKUP(B23,'Investimento Futuro'!$B$685:$Q$710,16,FALSE)*(1+$F$3)","v":0},{"$f":"VLOOKUP(B23,'Investimento Futuro'!$B$714:$Q$739,16,FALSE)*(1+$F$3)","v":0},{"$f":"VLOOKUP(B23,'Investimento Futuro'!$B$743:$Q$768,16,FALSE)*(1+$F$3)","v":0},{"$f":"VLOOKUP(B23,'Investimento Futuro'!$B$772:$Q$797,16,FALSE)*(1+$F$3)","v":0},{"$f":"VLOOKUP(B23,'Investimento Futuro'!$B$801:$Q$826,16,FALSE)*(1+$F$3)","v":0},{"$f":"VLOOKUP(B23,'Investimento Futuro'!$B$830:$Q$855,16,FALSE)*(1+$F$3)","v":0},{"$f":"VLOOKUP(B23,'Investimento Futuro'!$B$859:$Q$884,16,FALSE)*(1+$F$3)","v":0},{"$f":"VLOOKUP(B23,'Investimento Futuro'!$B$888:$Q$913,16,FALSE)*(1+$F$3)","v":0},{"$f":"VLOOKUP(B23,'Investimento Futuro'!$B$918:$Q$942,16,FALSE)*(1+$F$3)","v":0},{"$f":"VLOOKUP(B23,'Investimento Futuro'!$B$946:$Q$971,16,FALSE)*(1+$F$3)","v":0},{"$f":"VLOOKUP(B23,'Investimento Futuro'!$B$975:$Q$1000,16,FALSE)*(1+$F$3)","v":0}]
[null,3.8,"3.8 Sistemas Auxiliares",null,{"$f":"VLOOKUP(B24,'Investimento Futuro'!$B$136:$Q$171,16,FALSE)*(1+$F$3)","v":2566.6148475404907},{"$f":"VLOOKUP(B24,'Investimento Futuro'!B182:Q207,16,FALSE)*(1+$F$3)","v":4111.2594840742531},{"$f":"VLOOKUP(B24,'Investimento Futuro'!$B$194:$Q$219,16,FALSE)*(1+$F$3)","v":1124.6626264939996},{"$f":"VLOOKUP(B24,'Investimento Futuro'!$B$222:$Q$247,16,FALSE)*(1+$F$3)","v":955.21669810141316},{"$f":"VLOOKUP(B24,'Investimento Futuro'!$B$251:$Q$276,16,FALSE)*(1+$F$3)","v":2000.6935606872296},{"$f":"VLOOKUP(B24,'Investimento Futuro'!$B$280:$Q$305,16,FALSE)*(1+$F$3)","v":3978.5295163567348},{"$f":"VLOOKUP(B24,'Investimento Futuro'!$B$309:$Q$334,16,FALSE)*(1+$F$3)","v":1817.6514306367249},{"$f":"VLOOKUP(B24,'Investimento Futuro'!$B$337:$Q$362,16,FALSE)*(1+$F$3)","v":1256.2001129991729},{"$f":"VLOOKUP(B24,'Investimento Futuro'!$B$366:$Q$391,16,FALSE)*(1+$F$3)","v":3848.0665607683422},{"$f":"VLOOKUP(B24,'Investimento Futuro'!$B$395:$Q$420,16,FALSE)*(1+$F$3)","v":3369.9115914699437},{"$f":"VLOOKUP(B24,'Investimento Futuro'!$B$424:$Q$449,16,FALSE)*(1+$F$3)","v":1829.0974225231816},{"$f":"VLOOKUP(B24,'Investimento Futuro'!$B$453:$Q$478,16,FALSE)*(1+$F$3)","v":653.08496776867594},{"$f":"VLOOKUP(B24,'Investimento Futuro'!$B$482:$Q$507,16,FALSE)*(1+$F$3)","v":3612.2587949306426},{"$f":"VLOOKUP(B24,'Investimento Futuro'!$B$511:$Q$536,16,FALSE)*(1+$F$3)","v":0},{"$f":"VLOOKUP(B24,'Investimento Futuro'!$B$540:$Q$565,16,FALSE)*(1+$F$3)","v":0},{"$f":"VLOOKUP(B24,'Investimento Futuro'!$B$569:$Q$594,16,FALSE)*(1+$F$3)","v":0},{"$f":"VLOOKUP(B24,'Investimento Futuro'!$B$598:$Q$623,16,FALSE)*(1+$F$3)","v":0},{"$f":"VLOOKUP(B24,'Investimento Futuro'!$B$627:$Q$652,16,FALSE)*(1+$F$3)","v":0},{"$f":"VLOOKUP(B24,'Investimento Futuro'!$B$656:$Q$681,16,FALSE)*(1+$F$3)","v":0},{"$f":"VLOOKUP(B24,'Investimento Futuro'!$B$685:$Q$710,16,FALSE)*(1+$F$3)","v":0},{"$f":"VLOOKUP(B24,'Investimento Futuro'!$B$714:$Q$739,16,FALSE)*(1+$F$3)","v":0},{"$f":"VLOOKUP(B24,'Investimento Futuro'!$B$743:$Q$768,16,FALSE)*(1+$F$3)","v":0},{"$f":"VLOOKUP(B24,'Investimento Futuro'!$B$772:$Q$797,16,FALSE)*(1+$F$3)","v":0},{"$f":"VLOOKUP(B24,'Investimento Futuro'!$B$801:$Q$826,16,FALSE)*(1+$F$3)","v":0},{"$f":"VLOOKUP(B24,'Investimento Futuro'!$B$830:$Q$855,16,FALSE)*(1+$F$3)","v":0},{"$f":"VLOOKUP(B24,'Investimento Futuro'!$B$859:$Q$884,16,FALSE)*(1+$F$3)","v":0},{"$f":"VLOOKUP(B24,'Investimento Futuro'!$B$888:$Q$913,16,FALSE)*(1+$F$3)","v":0},{"$f":"VLOOKUP(B24,'Investimento Futuro'!$B$918:$Q$942,16,FALSE)*(1+$F$3)","v":0},{"$f":"VLOOKUP(B24,'Investimento Futuro'!$B$946:$Q$971,16,FALSE)*(1+$F$3)","v":0},{"$f":"VLOOKUP(B24,'Investimento Futuro'!$B$975:$Q$1000,16,FALSE)*(1+$F$3)","v":0}]
[null,6,"6 Outros Bens e Instalações Diretamente Vinculados",null,{"$f":"VLOOKUP(B25,'Investimento Futuro'!$B$136:$Q$171,16,FALSE)*(1+$F$3)","v":29502.743344769508},{"$f":"VLOOKUP(B25,'Investimento Futuro'!B183:Q211,16,FALSE)*(1+$F$3)","v":16824.635020322479},{"$f":"VLOOKUP(B25,'Investimento Futuro'!$B$194:$Q$219,16,FALSE)*(1+$F$3)","v":16548.041031473687},{"$f":"VLOOKUP(B25,'Investimento Futuro'!$B$222:$Q$247,16,FALSE)*(1+$F$3)","v":12060.990291506329},{"$f":"VLOOKUP(B25,'Investimento Futuro'!$B$251:$Q$276,16,FALSE)*(1+$F$3)","v":31176.46414359651},{"$f":"VLOOKUP(B25,'Investimento Futuro'!$B$280:$Q$305,16,FALSE)*(1+$F$3)","v":21384.849462162754},{"$f":"VLOOKUP(B25,'Investimento Futuro'!$B$309:$Q$334,16,FALSE)*(1+$F$3)","v":12708.924875670193},{"$f":"VLOOKUP(B25,'Investimento Futuro'!$B$337:$Q$362,16,FALSE)*(1+$F$3)","v":9940.2530690958047},{"$f":"VLOOKUP(B25,'Investimento Futuro'!$B$366:$Q$391,16,FALSE)*(1+$F$3)","v":10856.591879925878},{"$f":"VLOOKUP(B25,'Investimento Futuro'!$B$395:$Q$420,16,FALSE)*(1+$F$3)","v":11101.036110183792},{"$f":"VLOOKUP(B25,'Investimento Futuro'!$B$424:$Q$449,16,FALSE)*(1+$F$3)","v":15889.100701022122},{"$f":"VLOOKUP(B25,'Investimento Futuro'!$B$453:$Q$478,16,FALSE)*(1+$F$3)","v":11702.356983933494},{"$f":"VLOOKUP(B25,'Investimento Futuro'!$B$482:$Q$507,16,FALSE)*(1+$F$3)","v":10670.610183750487},{"$f":"VLOOKUP(B25,'Investimento Futuro'!$B$511:$Q$536,16,FALSE)*(1+$F$3)","v":0},{"$f":"VLOOKUP(B25,'Investimento Futuro'!$B$540:$Q$565,16,FALSE)*(1+$F$3)","v":0},{"$f":"VLOOKUP(B25,'Investimento Futuro'!$B$569:$Q$594,16,FALSE)*(1+$F$3)","v":0},{"$f":"VLOOKUP(B25,'Investimento Futuro'!$B$598:$Q$623,16,FALSE)*(1+$F$3)","v":0},{"$f":"VLOOKUP(B25,'Investimento Futuro'!$B$627:$Q$652,16,FALSE)*(1+$F$3)","v":0},{"$f":"VLOOKUP(B25,'Investimento Futuro'!$B$656:$Q$681,16,FALSE)*(1+$F$3)","v":0},{"$f":"VLOOKUP(B25,'Investimento Futuro'!$B$685:$Q$710,16,FALSE)*(1+$F$3)","v":0},{"$f":"VLOOKUP(B25,'Investimento Futuro'!$B$714:$Q$739,16,FALSE)*(1+$F$3)","v":0},{"$f":"VLOOKUP(B25,'Investimento Futuro'!$B$743:$Q$768,16,FALSE)*(1+$F$3)","v":0},{"$f":"VLOOKUP(B25,'Investimento Futuro'!$B$772:$Q$797,16,FALSE)*(1+$F$3)","v":0},{"$f":"VLOOKUP(B25,'Investimento Futuro'!$B$801:$Q$826,16,FALSE)*(1+$F$3)","v":0},{"$f":"VLOOKUP(B25,'Investimento Futuro'!$B$830:$Q$855,16,FALSE)*(1+$F$3)","v":0},{"$f":"VLOOKUP(B25,'Investimento Futuro'!$B$859:$Q$884,16,FALSE)*(1+$F$3)","v":0},{"$f":"VLOOKUP(B25,'Investimento Futuro'!$B$888:$Q$913,16,FALSE)*(1+$F$3)","v":0},{"$f":"VLOOKUP(B25,'Investimento Futuro'!$B$918:$Q$942,16,FALSE)*(1+$F$3)","v":0},{"$f":"VLOOKUP(B25,'Investimento Futuro'!$B$946:$Q$971,16,FALSE)*(1+$F$3)","v":0},{"$f":"VLOOKUP(B25,'Investimento Futuro'!$B$975:$Q$1000,16,FALSE)*(1+$F$3)","v":0}]
[null,6.1,"6.1 Imóveis/Edificações/Terrenos e Benfeitorias",null,{"$f":"VLOOKUP(B26,'Investimento Futuro'!$B$136:$Q$171,16,FALSE)*(1+$F$3)","v":2533.4460697543432},{"$f":"VLOOKUP(B26,'Investimento Futuro'!B184:Q211,16,FALSE)*(1+$F$3)","v":1046.0351973687591},{"$f":"VLOOKUP(B26,'Investimento Futuro'!$B$194:$Q$219,16,FALSE)*(1+$F$3)","v":92.354937016030163},{"$f":"VLOOKUP(B26,'Investimento Futuro'!$B$222:$Q$247,16,FALSE)*(1+$F$3)","v":1254.7540093871307},{"$f":"VLOOKUP(B26,'Investimento Futuro'!$B$251:$Q$276,16,FALSE)*(1+$F$3)","v":17755.110167569379},{"$f":"VLOOKUP(B26,'Investimento Futuro'!$B$280:$Q$305,16,FALSE)*(1+$F$3)","v":7768.816290564775},{"$f":"VLOOKUP(B26,'Investimento Futuro'!$B$309:$Q$334,16,FALSE)*(1+$F$3)","v":3500.3317892082396},{"$f":"VLOOKUP(B26,'Investimento Futuro'!$B$337:$Q$362,16,FALSE)*(1+$F$3)","v":980.67666814061818},{"$f":"VLOOKUP(B26,'Investimento Futuro'!$B$366:$Q$391,16,FALSE)*(1+$F$3)","v":1167.9435248338418},{"$f":"VLOOKUP(B26,'Investimento Futuro'!$B$395:$Q$420,16,FALSE)*(1+$F$3)","v":1644.143717637585},{"$f":"VLOOKUP(B26,'Investimento Futuro'!$B$424:$Q$449,16,FALSE)*(1+$F$3)","v":399.67424399606796},{"$f":"VLOOKUP(B26,'Investimento Futuro'!$B$453:$Q$478,16,FALSE)*(1+$F$3)","v":734.72058873976039},{"$f":"VLOOKUP(B26,'Investimento Futuro'!$B$482:$Q$507,16,FALSE)*(1+$F$3)","v":35.530414376366977},{"$f":"VLOOKUP(B26,'Investimento Futuro'!$B$511:$Q$536,16,FALSE)*(1+$F$3)","v":0},{"$f":"VLOOKUP(B26,'Investimento Futuro'!$B$540:$Q$565,16,FALSE)*(1+$F$3)","v":0},{"$f":"VLOOKUP(B26,'Investimento Futuro'!$B$569:$Q$594,16,FALSE)*(1+$F$3)","v":0},{"$f":"VLOOKUP(B26,'Investimento Futuro'!$B$598:$Q$623,16,FALSE)*(1+$F$3)","v":0},{"$f":"VLOOKUP(B26,'Investimento Futuro'!$B$627:$Q$652,16,FALSE)*(1+$F$3)","v":0},{"$f":"VLOOKUP(B26,'Investimento Futuro'!$B$656:$Q$681,16,FALSE)*(1+$F$3)","v":0},{"$f":"VLOOKUP(B26,'Investimento Futuro'!$B$685:$Q$710,16,FALSE)*(1+$F$3)","v":0},{"$f":"VLOOKUP(B26,'Investimento Futuro'!$B$714:$Q$739,16,FALSE)*(1+$F$3)","v":0},{"$f":"VLOOKUP(B26,'Investimento Futuro'!$B$743:$Q$768,16,FALSE)*(1+$F$3)","v":0},{"$f":"VLOOKUP(B26,'Investimento Futuro'!$B$772:$Q$797,16,FALSE)*(1+$F$3)","v":0},{"$f":"VLOOKUP(B26,'Investimento Futuro'!$B$801:$Q$826,16,FALSE)*(1+$F$3)","v":0},{"$f":"VLOOKUP(B26,'Investimento Futuro'!$B$830:$Q$855,16,FALSE)*(1+$F$3)","v":0},{"$f":"VLOOKUP(B26,'Investimento Futuro'!$B$859:$Q$884,16,FALSE)*(1+$F$3)","v":0},{"$f":"VLOOKUP(B26,'Investimento Futuro'!$B$888:$Q$913,16,FALSE)*(1+$F$3)","v":0},{"$f":"VLOOKUP(B26,'Investimento Futuro'!$B$918:$Q$942,16,FALSE)*(1+$F$3)","v":0},{"$f":"VLOOKUP(B26,'Investimento Futuro'!$B$946:$Q$971,16,FALSE)*(1+$F$3)","v":0},{"$f":"VLOOKUP(B26,'Investimento Futuro'!$B$975:$Q$1000,16,FALSE)*(1+$F$3)","v":0}]
[null,6.2,"6.2 Móveis, Equipamentos e Instalações de Escritório",null,{"$f":"VLOOKUP(B27,'Investimento Futuro'!$B$136:$Q$171,16,FALSE)*(1+$F$3)","v":2129.6621299212707},{"$f":"VLOOKUP(B27,'Investimento Futuro'!B185:Q211,16,FALSE)*(1+$F$3)","v":4106.2359182978444},{"$f":"VLOOKUP(B27,'Investimento Futuro'!$B$194:$Q$219,16,FALSE)*(1+$F$3)","v":300.69049261033081},{"$f":"VLOOKUP(B27,'Investimento Futuro'!$B$222:$Q$247,16,FALSE)*(1+$F$3)","v":304.27060273821871},{"$f":"VLOOKUP(B27,'Investimento Futuro'!$B$251:$Q$276,16,FALSE)*(1+$F$3)","v":376.83670916776856},{"$f":"VLOOKUP(B27,'Investimento Futuro'!$B$280:$Q$305,16,FALSE)*(1+$F$3)","v":301.93160369315558},{"$f":"VLOOKUP(B27,'Investimento Futuro'!$B$309:$Q$334,16,FALSE)*(1+$F$3)","v":258.25899894026537},{"$f":"VLOOKUP(B27,'Investimento Futuro'!$B$337:$Q$362,16,FALSE)*(1+$F$3)","v":245.16916703515454},{"$f":"VLOOKUP(B27,'Investimento Futuro'!$B$366:$Q$391,16,FALSE)*(1+$F$3)","v":258.17698970011241},{"$f":"VLOOKUP(B27,'Investimento Futuro'!$B$395:$Q$420,16,FALSE)*(1+$F$3)","v":244.87246858432118},{"$f":"VLOOKUP(B27,'Investimento Futuro'!$B$424:$Q$449,16,FALSE)*(1+$F$3)","v":775.83823834530847},{"$f":"VLOOKUP(B27,'Investimento Futuro'!$B$453:$Q$478,16,FALSE)*(1+$F$3)","v":1119.5742304605874},{"$f":"VLOOKUP(B27,'Investimento Futuro'!$B$482:$Q$507,16,FALSE)*(1+$F$3)","v":248.71290063456885},{"$f":"VLOOKUP(B27,'Investimento Futuro'!$B$511:$Q$536,16,FALSE)*(1+$F$3)","v":0},{"$f":"VLOOKUP(B27,'Investimento Futuro'!$B$540:$Q$565,16,FALSE)*(1+$F$3)","v":0},{"$f":"VLOOKUP(B27,'Investimento Futuro'!$B$569:$Q$594,16,FALSE)*(1+$F$3)","v":0},{"$f":"VLOOKUP(B27,'Investimento Futuro'!$B$598:$Q$623,16,FALSE)*(1+$F$3)","v":0},{"$f":"VLOOKUP(B27,'Investimento Futuro'!$B$627:$Q$652,16,FALSE)*(1+$F$3)","v":0},{"$f":"VLOOKUP(B27,'Investimento Futuro'!$B$656:$Q$681,16,FALSE)*(1+$F$3)","v":0},{"$f":"VLOOKUP(B27,'Investimento Futuro'!$B$685:$Q$710,16,FALSE)*(1+$F$3)","v":0},{"$f":"VLOOKUP(B27,'Investimento Futuro'!$B$714:$Q$739,16,FALSE)*(1+$F$3)","v":0},{"$f":"VLOOKUP(B27,'Investimento Futuro'!$B$743:$Q$768,16,FALSE)*(1+$F$3)","v":0},{"$f":"VLOOKUP(B27,'Investimento Futuro'!$B$772:$Q$797,16,FALSE)*(1+$F$3)","v":0},{"$f":"VLOOKUP(B27,'Investimento Futuro'!$B$801:$Q$826,16,FALSE)*(1+$F$3)","v":0},{"$f":"VLOOKUP(B27,'Investimento Futuro'!$B$830:$Q$855,16,FALSE)*(1+$F$3)","v":0},{"$f":"VLOOKUP(B27,'Investimento Futuro'!$B$859:$Q$884,16,FALSE)*(1+$F$3)","v":0},{"$f":"VLOOKUP(B27,'Investimento Futuro'!$B$888:$Q$913,16,FALSE)*(1+$F$3)","v":0},{"$f":"VLOOKUP(B27,'Investimento Futuro'!$B$918:$Q$942,16,FALSE)*(1+$F$3)","v":0},{"$f":"VLOOKUP(B27,'Investimento Futuro'!$B$946:$Q$971,16,FALSE)*(1+$F$3)","v":0},{"$f":"VLOOKUP(B27,'Investimento Futuro'!$B$975:$Q$1000,16,FALSE)*(1+$F$3)","v":0}]
[null,6.3,"6.3 Equipamentos e Instalações de Processamento de Dados e de Comunicação",null,{"$f":"VLOOKUP(B28,'Investimento Futuro'!$B$136:$Q$171,16,FALSE)*(1+$F$3)","v":24839.635145093893},{"$f":"VLOOKUP(B28,'Investimento Futuro'!B186:Q211,16,FALSE)*(1+$F$3)","v":11672.363904655875},{"$f":"VLOOKUP(B28,'Investimento Futuro'!$B$194:$Q$219,16,FALSE)*(1+$F$3)","v":16154.995601847326},{"$f":"VLOOKUP(B28,'Investimento Futuro'!$B$222:$Q$247,16,FALSE)*(1+$F$3)","v":10501.965679380979},{"$f":"VLOOKUP(B28,'Investimento Futuro'!$B$251:$Q$276,16,FALSE)*(1+$F$3)","v":13044.51726685936},{"$f":"VLOOKUP(B28,'Investimento Futuro'!$B$280:$Q$305,16,FALSE)*(1+$F$3)","v":13314.101567904821},{"$f":"VLOOKUP(B28,'Investimento Futuro'!$B$309:$Q$334,16,FALSE)*(1+$F$3)","v":8950.3340875216873},{"$f":"VLOOKUP(B28,'Investimento Futuro'!$B$337:$Q$362,16,FALSE)*(1+$F$3)","v":8714.407233920032},{"$f":"VLOOKUP(B28,'Investimento Futuro'!$B$366:$Q$391,16,FALSE)*(1+$F$3)","v":9430.4713653919243},{"$f":"VLOOKUP(B28,'Investimento Futuro'!$B$395:$Q$420,16,FALSE)*(1+$F$3)","v":9212.0199239618851},{"$f":"VLOOKUP(B28,'Investimento Futuro'!$B$424:$Q$449,16,FALSE)*(1+$F$3)","v":14713.588218680745},{"$f":"VLOOKUP(B28,'Investimento Futuro'!$B$453:$Q$478,16,FALSE)*(1+$F$3)","v":9848.0621647331463},{"$f":"VLOOKUP(B28,'Investimento Futuro'!$B$482:$Q$507,16,FALSE)*(1+$F$3)","v":10386.366868739551},{"$f":"VLOOKUP(B28,'Investimento Futuro'!$B$511:$Q$536,16,FALSE)*(1+$F$3)","v":0},{"$f":"VLOOKUP(B28,'Investimento Futuro'!$B$540:$Q$565,16,FALSE)*(1+$F$3)","v":0},{"$f":"VLOOKUP(B28,'Investimento Futuro'!$B$569:$Q$594,16,FALSE)*(1+$F$3)","v":0},{"$f":"VLOOKUP(B28,'Investimento Futuro'!$B$598:$Q$623,16,FALSE)*(1+$F$3)","v":0},{"$f":"VLOOKUP(B28,'Investimento Futuro'!$B$627:$Q$652,16,FALSE)*(1+$F$3)","v":0},{"$f":"VLOOKUP(B28,'Investimento Futuro'!$B$656:$Q$681,16,FALSE)*(1+$F$3)","v":0},{"$f":"VLOOKUP(B28,'Investimento Futuro'!$B$685:$Q$710,16,FALSE)*(1+$F$3)","v":0},{"$f":"VLOOKUP(B28,'Investimento Futuro'!$B$714:$Q$739,16,FALSE)*(1+$F$3)","v":0},{"$f":"VLOOKUP(B28,'Investimento Futuro'!$B$743:$Q$768,16,FALSE)*(1+$F$3)","v":0},{"$f":"VLOOKUP(B28,'Investimento Futuro'!$B$772:$Q$797,16,FALSE)*(1+$F$3)","v":0},{"$f":"VLOOKUP(B28,'Investimento Futuro'!$B$801:$Q$826,16,FALSE)*(1+$F$3)","v":0},{"$f":"VLOOKUP(B28,'Investimento Futuro'!$B$830:$Q$855,16,FALSE)*(1+$F$3)","v":0},{"$f":"VLOOKUP(B28,'Investimento Futuro'!$B$859:$Q$884,16,FALSE)*(1+$F$3)","v":0},{"$f":"VLOOKUP(B28,'Investimento Futuro'!$B$888:$Q$913,16,FALSE)*(1+$F$3)","v":0},{"$f":"VLOOKUP(B28,'Investimento Futuro'!$B$918:$Q$942,16,FALSE)*(1+$F$3)","v":0},{"$f":"VLOOKUP(B28,'Investimento Futuro'!$B$946:$Q$971,16,FALSE)*(1+$F$3)","v":0},{"$f":"VLOOKUP(B28,'Investimento Futuro'!$B$975:$Q$1000,16,FALSE)*(1+$F$3)","v":0}]
[null,6.4,"6.4 Veículos",null,{"$f":"VLOOKUP(B29,'Investimento Futuro'!$B$136:$Q$171,16,FALSE)*(1+$F$3)","v":0},{"$f":"VLOOKUP(B29,'Investimento Futuro'!B187:Q212,16,FALSE)*(1+$F$3)","v":0},{"$f":"VLOOKUP(B29,'Investimento Futuro'!$B$194:$Q$219,16,FALSE)*(1+$F$3)","v":0},{"$f":"VLOOKUP(B29,'Investimento Futuro'!$B$222:$Q$247,16,FALSE)*(1+$F$3)","v":0},{"$f":"VLOOKUP(B29,'Investimento Futuro'!$B$251:$Q$276,16,FALSE)*(1+$F$3)","v":0},{"$f":"VLOOKUP(B29,'Investimento Futuro'!$B$280:$Q$305,16,FALSE)*(1+$F$3)","v":0},{"$f":"VLOOKUP(B29,'Investimento Futuro'!$B$309:$Q$334,16,FALSE)*(1+$F$3)","v":0},{"$f":"VLOOKUP(B29,'Investimento Futuro'!$B$337:$Q$362,16,FALSE)*(1+$F$3)","v":0},{"$f":"VLOOKUP(B29,'Investimento Futuro'!$B$366:$Q$391,16,FALSE)*(1+$F$3)","v":0},{"$f":"VLOOKUP(B29,'Investimento Futuro'!$B$395:$Q$420,16,FALSE)*(1+$F$3)","v":0},{"$f":"VLOOKUP(B29,'Investimento Futuro'!$B$424:$Q$449,16,FALSE)*(1+$F$3)","v":0},{"$f":"VLOOKUP(B29,'Investimento Futuro'!$B$453:$Q$478,16,FALSE)*(1+$F$3)","v":0},{"$f":"VLOOKUP(B29,'Investimento Futuro'!$B$482:$Q$507,16,FALSE)*(1+$F$3)","v":0},{"$f":"VLOOKUP(B29,'Investimento Futuro'!$B$511:$Q$536,16,FALSE)*(1+$F$3)","v":0},{"$f":"VLOOKUP(B29,'Investimento Futuro'!$B$540:$Q$565,16,FALSE)*(1+$F$3)","v":0},{"$f":"VLOOKUP(B29,'Investimento Futuro'!$B$569:$Q$594,16,FALSE)*(1+$F$3)","v":0},{"$f":"VLOOKUP(B29,'Investimento Futuro'!$B$598:$Q$623,16,FALSE)*(1+$F$3)","v":0},{"$f":"VLOOKUP(B29,'Investimento Futuro'!$B$627:$Q$652,16,FALSE)*(1+$F$3)","v":0},{"$f":"VLOOKUP(B29,'Investimento Futuro'!$B$656:$Q$681,16,FALSE)*(1+$F$3)","v":0},{"$f":"VLOOKUP(B29,'Investimento Futuro'!$B$685:$Q$710,16,FALSE)*(1+$F$3)","v":0},{"$f":"VLOOKUP(B29,'Investimento Futuro'!$B$714:$Q$739,16,FALSE)*(1+$F$3)","v":0},{"$f":"VLOOKUP(B29,'Investimento Futuro'!$B$743:$Q$768,16,FALSE)*(1+$F$3)","v":0},{"$f":"VLOOKUP(B29,'Investimento Futuro'!$B$772:$Q$797,16,FALSE)*(1+$F$3)","v":0},{"$f":"VLOOKUP(B29,'Investimento Futuro'!$B$801:$Q$826,16,FALSE)*(1+$F$3)","v":0},{"$f":"VLOOKUP(B29,'Investimento Futuro'!$B$830:$Q$855,16,FALSE)*(1+$F$3)","v":0},{"$f":"VLOOKUP(B29,'Investimento Futuro'!$B$859:$Q$884,16,FALSE)*(1+$F$3)","v":0},{"$f":"VLOOKUP(B29,'Investimento Futuro'!$B$888:$Q$913,16,FALSE)*(1+$F$3)","v":0},{"$f":"VLOOKUP(B29,'Investimento Futuro'!$B$918:$Q$942,16,FALSE)*(1+$F$3)","v":0},{"$f":"VLOOKUP(B29,'Investimento Futuro'!$B$946:$Q$971,16,FALSE)*(1+$F$3)","v":0},{"$f":"VLOOKUP(B29,'Investimento Futuro'!$B$975:$Q$1000,16,FALSE)*(1+$F$3)","v":0}]
[null,6.5,"6.5 Outros Bens Imobilizados",null,{"$f":"VLOOKUP(B30,'Investimento Futuro'!$B$136:$Q$171,16,FALSE)*(1+$F$3)","v":0},{"$f":"VLOOKUP(B30,'Investimento Futuro'!B188:Q213,16,FALSE)*(1+$F$3)","v":0},{"$f":"VLOOKUP(B30,'Investimento Futuro'!$B$194:$Q$219,16,FALSE)*(1+$F$3)","v":0},{"$f":"VLOOKUP(B30,'Investimento Futuro'!$B$222:$Q$247,16,FALSE)*(1+$F$3)","v":0},{"$f":"VLOOKUP(B30,'Investimento Futuro'!$B$251:$Q$276,16,FALSE)*(1+$F$3)","v":0},{"$f":"VLOOKUP(B30,'Investimento Futuro'!$B$280:$Q$305,16,FALSE)*(1+$F$3)","v":0},{"$f":"VLOOKUP(B30,'Investimento Futuro'!$B$309:$Q$334,16,FALSE)*(1+$F$3)","v":0},{"$f":"VLOOKUP(B30,'Investimento Futuro'!$B$337:$Q$362,16,FALSE)*(1+$F$3)","v":0},{"$f":"VLOOKUP(B30,'Investimento Futuro'!$B$366:$Q$391,16,FALSE)*(1+$F$3)","v":0},{"$f":"VLOOKUP(B30,'Investimento Futuro'!$B$395:$Q$420,16,FALSE)*(1+$F$3)","v":0},{"$f":"VLOOKUP(B30,'Investimento Futuro'!$B$424:$Q$449,16,FALSE)*(1+$F$3)","v":0},{"$f":"VLOOKUP(B30,'Investimento Futuro'!$B$453:$Q$478,16,FALSE)*(1+$F$3)","v":0},{"$f":"VLOOKUP(B30,'Investimento Futuro'!$B$482:$Q$507,16,FALSE)*(1+$F$3)","v":0},{"$f":"VLOOKUP(B30,'Investimento Futuro'!$B$511:$Q$536,16,FALSE)*(1+$F$3)","v":0},{"$f":"VLOOKUP(B30,'Investimento Futuro'!$B$540:$Q$565,16,FALSE)*(1+$F$3)","v":0},{"$f":"VLOOKUP(B30,'Investimento Futuro'!$B$569:$Q$594,16,FALSE)*(1+$F$3)","v":0},{"$f":"VLOOKUP(B30,'Investimento Futuro'!$B$598:$Q$623,16,FALSE)*(1+$F$3)","v":0},{"$f":"VLOOKUP(B30,'Investimento Futuro'!$B$627:$Q$652,16,FALSE)*(1+$F$3)","v":0},{"$f":"VLOOKUP(B30,'Investimento Futuro'!$B$656:$Q$681,16,FALSE)*(1+$F$3)","v":0},{"$f":"VLOOKUP(B30,'Investimento Futuro'!$B$685:$Q$710,16,FALSE)*(1+$F$3)","v":0},{"$f":"VLOOKUP(B30,'Investimento Futuro'!$B$714:$Q$739,16,FALSE)*(1+$F$3)","v":0},{"$f":"VLOOKUP(B30,'Investimento Futuro'!$B$743:$Q$768,16,FALSE)*(1+$F$3)","v":0},{"$f":"VLOOKUP(B30,'Investimento Futuro'!$B$772:$Q$797,16,FALSE)*(1+$F$3)","v":0},{"$f":"VLOOKUP(B30,'Investimento Futuro'!$B$801:$Q$826,16,FALSE)*(1+$F$3)","v":0},{"$f":"VLOOKUP(B30,'Investimento Futuro'!$B$830:$Q$855,16,FALSE)*(1+$F$3)","v":0},{"$f":"VLOOKUP(B30,'Investimento Futuro'!$B$859:$Q$884,16,FALSE)*(1+$F$3)","v":0},{"$f":"VLOOKUP(B30,'Investimento Futuro'!$B$888:$Q$913,16,FALSE)*(1+$F$3)","v":0},{"$f":"VLOOKUP(B30,'Investimento Futuro'!$B$918:$Q$942,16,FALSE)*(1+$F$3)","v":0},{"$f":"VLOOKUP(B30,'Investimento Futuro'!$B$946:$Q$971,16,FALSE)*(1+$F$3)","v":0},{"$f":"VLOOKUP(B30,'Investimento Futuro'!$B$975:$Q$1000,16,FALSE)*(1+$F$3)","v":0}]
[null,8,"8 Overhaul",null,{"$f":"VLOOKUP(B31,'Investimento Futuro'!$B$136:$Q$171,16,FALSE)*(1+$F$3)","v":44078.81576983905},{"$f":"VLOOKUP(B31,'Investimento Futuro'!B189:Q218,16,FALSE)*(1+$F$3)","v":26797.153141916617},{"$f":"VLOOKUP(B31,'Investimento Futuro'!$B$194:$Q$219,16,FALSE)*(1+$F$3)","v":8091.2625887242166},{"$f":"VLOOKUP(B31,'Investimento Futuro'!$B$222:$Q$247,16,FALSE)*(1+$F$3)","v":50313.020586026061},{"$f":"VLOOKUP(B31,'Investimento Futuro'!$B$251:$Q$276,16,FALSE)*(1+$F$3)","v":3968.554756050507},{"$f":"VLOOKUP(B31,'Investimento Futuro'!$B$280:$Q$305,16,FALSE)*(1+$F$3)","v":9647.4719209421746},{"$f":"VLOOKUP(B31,'Investimento Futuro'!$B$309:$Q$334,16,FALSE)*(1+$F$3)","v":74338.810003759529},{"$f":"VLOOKUP(B31,'Investimento Futuro'!$B$337:$Q$362,16,FALSE)*(1+$F$3)","v":17751.008916788527},{"$f":"VLOOKUP(B31,'Investimento Futuro'!$B$366:$Q$391,16,FALSE)*(1+$F$3)","v":19017.381024077997},{"$f":"VLOOKUP(B31,'Investimento Futuro'!$B$395:$Q$420,16,FALSE)*(1+$F$3)","v":18345.206377315393},{"$f":"VLOOKUP(B31,'Investimento Futuro'!$B$424:$Q$449,16,FALSE)*(1+$F$3)","v":2278.909656686682},{"$f":"VLOOKUP(B31,'Investimento Futuro'!$B$453:$Q$478,16,FALSE)*(1+$F$3)","v":2260.9008867600469},{"$f":"VLOOKUP(B31,'Investimento Futuro'!$B$482:$Q$507,16,FALSE)*(1+$F$3)","v":2296.036995061806},{"$f":"VLOOKUP(B31,'Investimento Futuro'!$B$511:$Q$536,16,FALSE)*(1+$F$3)","v":0},{"$f":"VLOOKUP(B31,'Investimento Futuro'!$B$540:$Q$565,16,FALSE)*(1+$F$3)","v":0},{"$f":"VLOOKUP(B31,'Investimento Futuro'!$B$569:$Q$594,16,FALSE)*(1+$F$3)","v":0},{"$f":"VLOOKUP(B31,'Investimento Futuro'!$B$598:$Q$623,16,FALSE)*(1+$F$3)","v":0},{"$f":"VLOOKUP(B31,'Investimento Futuro'!$B$627:$Q$652,16,FALSE)*(1+$F$3)","v":0},{"$f":"VLOOKUP(B31,'Investimento Futuro'!$B$656:$Q$681,16,FALSE)*(1+$F$3)","v":0},{"$f":"VLOOKUP(B31,'Investimento Futuro'!$B$685:$Q$710,16,FALSE)*(1+$F$3)","v":0},{"$f":"VLOOKUP(B31,'Investimento Futuro'!$B$714:$Q$739,16,FALSE)*(1+$F$3)","v":0},{"$f":"VLOOKUP(B31,'Investimento Futuro'!$B$743:$Q$768,16,FALSE)*(1+$F$3)","v":0},{"$f":"VLOOKUP(B31,'Investimento Futuro'!$B$772:$Q$797,16,FALSE)*(1+$F$3)","v":0},{"$f":"VLOOKUP(B31,'Investimento Futuro'!$B$801:$Q$826,16,FALSE)*(1+$F$3)","v":0},{"$f":"VLOOKUP(B31,'Investimento Futuro'!$B$830:$Q$855,16,FALSE)*(1+$F$3)","v":0},{"$f":"VLOOKUP(B31,'Investimento Futuro'!$B$859:$Q$884,16,FALSE)*(1+$F$3)","v":0},{"$f":"VLOOKUP(B31,'Investimento Futuro'!$B$888:$Q$913,16,FALSE)*(1+$F$3)","v":0},{"$f":"VLOOKUP(B31,'Investimento Futuro'!$B$918:$Q$942,16,FALSE)*(1+$F$3)","v":0},{"$f":"VLOOKUP(B31,'Investimento Futuro'!$B$946:$Q$971,16,FALSE)*(1+$F$3)","v":0},{"$f":"VLOOKUP(B31,'Investimento Futuro'!$B$975:$Q$1000,16,FALSE)*(1+$F$3)","v":0}]
[null,null,"Total Geral",null,{"$f":"E7+E10+E16+E25+E31","v":204135.45162860636},114884.84308549165,216825.37432581559,90517.385250861524,91066.290621692999,65785.931190418749,109587.5964631306,46113.616009360376,51056.780201779766,48652.997336890636,50337.402560450711,48224.841670524445,38421.820385187471,0,0,0,0,0,0,0,0,0,0,0,0,0,0,{"$error":"#N/A"},0,0]
[]
["UP"]

{"sheet":"Investimento e Depreciação","index":7,"n_rows":113,"n_cols":18,"rows_kept":113,"cut":false,"hidden":false,"merged":[[1,2,1,3],[3,5,3,9]]}
[]
[null,null,"INVESTIMENTOS em Termos Reais (INCERTEZA)"]
[]
[null,null,null,null,{"$f":"1-(3/13)","v":0.76923076923076916},"Em R$ mil (a preços de Dez/2019)"]
["Vida Útil ","Código","Quadro Resumo","R$ mil","2019 (base 2016)","2020","2021","2022","2023","2024","2025","2026","2027","2028","2029","2030"]
[]
[null,1,"1. Tubulações",null,{"$f":"+'Investimento Anterior'!AB8*$E$4","v":926995.4109846151},{"$f":"+'Investimento Futuro_I'!E7","v":78389.016067257384},{"$f":"+'Investimento Futuro_I'!F7","v":15876.051220291192},{"$f":"+'Investimento Futuro_I'!G7","v":135808.78219553907},{"$f":"+'Investimento Futuro_I'!H7","v":4864.4203510786983},{"$f":"+'Investimento Futuro_I'!I7","v":14199.62229329434},{"$f":"+'Investimento Futuro_I'!J7","v":6187.2753249120506},{"$f":"+'Investimento Futuro_I'!K7","v":0},{"$f":"+'Investimento Futuro_I'!L7","v":918.32137715785768},{"$f":"+'Investimento Futuro_I'!M7","v":0},{"$f":"+'Investimento Futuro_I'!N7","v":785.2274105214052},{"$f":"+'Investimento Futuro_I'!O7","v":1126.4585690708482}]
[null,1.1000000000000001,"1.1 Linha Tronco",null,{"$f":"+'Investimento Anterior'!AB9*$E$4","v":39818.008561538467},{"$f":"+'Investimento Futuro_I'!E8","v":4708.6636819030582},{"$f":"+'Investimento Futuro_I'!F8","v":8921.2332189025165},{"$f":"+'Investimento Futuro_I'!G8","v":14554.23428990777},{"$f":"+'Investimento Futuro_I'!H8","v":4864.4203510786983},{"$f":"+'Investimento Futuro_I'!I8","v":14199.62229329434},{"$f":"+'Investimento Futuro_I'!J8","v":6187.2753249120506},{"$f":"+'Investimento Futuro_I'!K8","v":0},{"$f":"+'Investimento Futuro_I'!L8","v":918.32137715785768},{"$f":"+'Investimento Futuro_I'!M8","v":0},{"$f":"+'Investimento Futuro_I'!N8","v":0},{"$f":"+'Investimento Futuro_I'!O8","v":0}]
[null,1.2,"1.2 Trecho(s)/Ramal(is)",null,{"$f":"+'Investimento Anterior'!AB12*$E$4","v":0},{"$f":"+'Investimento Futuro_I'!E9","v":73680.35238535433},{"$f":"+'Investimento Futuro_I'!F9","v":6954.8180013886758},{"$f":"+'Investimento Futuro_I'!G9","v":121254.54790563131},{"$f":"+'Investimento Futuro_I'!H9","v":0},{"$f":"+'Investimento Futuro_I'!I9","v":0},{"$f":"+'Investimento Futuro_I'!J9","v":0},{"$f":"+'Investimento Futuro_I'!K9","v":0},{"$f":"+'Investimento Futuro_I'!L9","v":0},{"$f":"+'Investimento Futuro_I'!M9","v":0},{"$f":"+'Investimento Futuro_I'!N9","v":785.2274105214052},{"$f":"+'Investimento Futuro_I'!O9","v":1126.4585690708482}]
[null,2,"2 Componentes",null,{"$f":"SUM(E11:E15)","v":15671.256015384621},{"$f":"+'Investimento Futuro_I'!E10","v":3735.728368129604},{"$f":"+'Investimento Futuro_I'!F10","v":4855.0075510940114},{"$f":"+'Investimento Futuro_I'!G10","v":5115.2979770643342},{"$f":"+'Investimento Futuro_I'!H10","v":3637.1881923229603},{"$f":"+'Investimento Futuro_I'!I10","v":5461.9387343931849},{"$f":"+'Investimento Futuro_I'!J10","v":13172.467795646109},{"$f":"+'Investimento Futuro_I'!K10","v":5927.6589280575199},{"$f":"+'Investimento Futuro_I'!L10","v":7405.3979089177719},{"$f":"+'Investimento Futuro_I'!M10","v":4917.6569466688079},{"$f":"+'Investimento Futuro_I'!N10","v":7209.8665558307657},{"$f":"+'Investimento Futuro_I'!O10","v":16834.514259610849}]
[null,2.1,"2.1 Lançadores e Recebedores de Pigs e Esferas ",null,{"$f":"+'Investimento Anterior'!AB14*$E$4","v":0},{"$f":"+'Investimento Futuro_I'!E11","v":0},{"$f":"+'Investimento Futuro_I'!F11","v":0},{"$f":"+'Investimento Futuro_I'!G11","v":0},{"$f":"+'Investimento Futuro_I'!H11","v":0},{"$f":"+'Investimento Futuro_I'!I11","v":0},{"$f":"+'Investimento Futuro_I'!J11","v":0},{"$f":"+'Investimento Futuro_I'!K11","v":0},{"$f":"+'Investimento Futuro_I'!L11","v":0},{"$f":"+'Investimento Futuro_I'!M11","v":0},{"$f":"+'Investimento Futuro_I'!N11","v":0},{"$f":"+'Investimento Futuro_I'!O11","v":0}]
[null,2.2000000000000002,"2.2 Válvulas",null,{"$f":"+'Investimento Anterior'!AB15*$E$4","v":9157.1879692307739},{"$f":"+'Investimento Futuro_I'!E12","v":1114.523181325465},{"$f":"+'Investimento Futuro_I'!F12","v":680.04460465090756},{"$f":"+'Investimento Futuro_I'!G12","v":1330.9849876472999},{"$f":"+'Investimento Futuro_I'!H12","v":265.22254205348065},{"$f":"+'Investimento Futuro_I'!I12","v":0},{"$f":"+'Investimento Futuro_I'!J12","v":0},{"$f":"+'Investimento Futuro_I'!K12","v":0},{"$f":"+'Investimento Futuro_I'!L12","v":0},{"$f":"+'Investimento Futuro_I'!M12","v":0},{"$f":"+'Investimento Futuro_I'!N12","v":0},{"$f":"+'Investimento Futuro_I'!O12","v":0}]
[null,2.2999999999999998,"2.3 Sistema de Proteção Catódica e Demais Equipamentos de Controle de Corrosão",null,{"$f":"+'Investimento Anterior'!AB18*$E$4","v":4463.3126000000002},{"$f":"+'Investimento Futuro_I'!E13","v":710.17133159107982},{"$f":"+'Investimento Futuro_I'!F13","v":811.83367839232494},{"$f":"+'Investimento Futuro_I'!G13","v":0},{"$f":"+'Investimento Futuro_I'!H13","v":0},{"$f":"+'Investimento Futuro_I'!I13","v":897.58915202722801},{"$f":"+'Investimento Futuro_I'!J13","v":952.24582703225985},{"$f":"+'Investimento Futuro_I'!K13","v":1008.4399006238933},{"$f":"+'Investimento Futuro_I'!L13","v":957.32722366107964},{"$f":"+'Investimento Futuro_I'!M13","v":0},{"$f":"+'Investimento Futuro_I'!N13","v":769.59918697929515},{"$f":"+'Investimento Futuro_I'!O13","v":12132.464330245344}]
[5,2.4,"2.4 Sistemas de Comunicação e de Supervisão e Controle",null,{"$f":"+'Investimento Anterior'!AB19*$E$4","v":2050.7554461538462},{"$f":"+'Investimento Futuro_I'!E14","v":1911.0338552130593},{"$f":"+'Investimento Futuro_I'!F14","v":3363.129268050779},{"$f":"+'Investimento Futuro_I'!G14","v":3784.3129894170338},{"$f":"+'Investimento Futuro_I'!H14","v":3371.9656502694797},{"$f":"+'Investimento Futuro_I'!I14","v":4564.3495823659568},{"$f":"+'Investimento Futuro_I'!J14","v":5806.376994099146},{"$f":"+'Investimento Futuro_I'!K14","v":0},{"$f":"+'Investimento Futuro_I'!L14","v":0},{"$f":"+'Investimento Futuro_I'!M14","v":0},{"$f":"+'Investimento Futuro_I'!N14","v":0},{"$f":"+'Investimento Futuro_I'!O14","v":0}]
[null,2.5,"2.5 Outros Componentes",null,{"$f":"+'Investimento Anterior'!AB22*$E$4","v":0},{"$f":"+'Investimento Futuro_I'!E15","v":0},{"$f":"+'Investimento Futuro_I'!F15","v":0},{"$f":"+'Investimento Futuro_I'!G15","v":0},{"$f":"+'Investimento Futuro_I'!H15","v":0},{"$f":"+'Investimento Futuro_I'!I15","v":0},{"$f":"+'Investimento Futuro_I'!J15","v":6413.8449745147036},{"$f":"+'Investimento Futuro_I'!K15","v":4919.2190274336263},{"$f":"+'Investimento Futuro_I'!L15","v":6448.0706852566918},{"$f":"+'Investimento Futuro_I'!M15","v":4917.6569466688079},{"$f":"+'Investimento Futuro_I'!N15","v":6440.2673688514706},{"$f":"+'Investimento Futuro_I'!O15","v":4702.0499293655057}]
[null,3,"3 Complementos",null,{"$f":"SUM(E17:E24)","v":426311.21400769148},{"$f":"+'Investimento Futuro_I'!E16","v":48429.14807861083},{"$f":"+'Investimento Futuro_I'!F16","v":50531.996151867366},{"$f":"+'Investimento Futuro_I'!G16","v":51261.990533014301},{"$f":"+'Investimento Futuro_I'!H16","v":19641.765829927481},{"$f":"+'Investimento Futuro_I'!I16","v":36259.710694358459},{"$f":"+'Investimento Futuro_I'!J16","v":15393.866686755655},{"$f":"+'Investimento Futuro_I'!K16","v":16612.202655643356},{"$f":"+'Investimento Futuro_I'!L16","v":10098.634737400413},{"$f":"+'Investimento Futuro_I'!M16","v":16265.150351107082},{"$f":"+'Investimento Futuro_I'!N16","v":11211.660883039278},{"$f":"+'Investimento Futuro_I'!O16","v":14208.419374060215}]
[null,3.1,"3.1 Ponto(s) de Recebimento ",null,{"$f":"+'Investimento Anterior'!AB24*$E$4","v":0},{"$f":"+'Investimento Futuro_I'!E17","v":133.45882680839961},{"$f":"+'Investimento Futuro_I'!F17","v":966.02040259718433},{"$f":"+'Investimento Futuro_I'!G17","v":500.43489127290763},{"$f":"+'Investimento Futuro_I'!H17","v":136.19731741615504},{"$f":"+'Investimento Futuro_I'!I17","v":168.67928886557266},{"$f":"+'Investimento Futuro_I'!J17","v":0},{"$f":"+'Investimento Futuro_I'!K17","v":0},{"$f":"+'Investimento Futuro_I'!L17","v":0},{"$f":"+'Investimento Futuro_I'!M17","v":0},{"$f":"+'Investimento Futuro_I'!N17","v":0},{"$f":"+'Investimento Futuro_I'!O17","v":0}]
[null,3.2,"3.2 Ponto(s) de Entrega",null,{"$f":"+'Investimento Anterior'!AB25*$E$4","v":93225.594176923129},{"$f":"+'Investimento Futuro_I'!E18","v":6156.6988942596263},{"$f":"+'Investimento Futuro_I'!F18","v":12003.687694331464},{"$f":"+'Investimento Futuro_I'!G18","v":9565.0585746227771},{"$f":"+'Investimento Futuro_I'!H18","v":4388.4451364659553},{"$f":"+'Investimento Futuro_I'!I18","v":4220.0250025207815},{"$f":"+'Investimento Futuro_I'!J18","v":1590.9472963831658},{"$f":"+'Investimento Futuro_I'!K18","v":1684.8325168960168},{"$f":"+'Investimento Futuro_I'!L18","v":548.71194526915554},{"$f":"+'Investimento Futuro_I'!M18","v":577.82469123358499},{"$f":"+'Investimento Futuro_I'!N18","v":548.04790587919501},{"$f":"+'Investimento Futuro_I'!O18","v":0}]
[null,3.3,"3.3 Estação(ões) de Interconexão",null,{"$f":"+'Investimento Anterior'!AB26*$E$4","v":0},{"$f":"+'Investimento Futuro_I'!E19","v":866.06259950131687},{"$f":"+'Investimento Futuro_I'!F19","v":961.96285722337257},{"$f":"+'Investimento Futuro_I'!G19","v":365.84009934256903},{"$f":"+'Investimento Futuro_I'!H19","v":0},{"$f":"+'Investimento Futuro_I'!I19","v":0},{"$f":"+'Investimento Futuro_I'!J19","v":0},{"$f":"+'Investimento Futuro_I'!K19","v":0},{"$f":"+'Investimento Futuro_I'!L19","v":0},{"$f":"+'Investimento Futuro_I'!M19","v":0},{"$f":"+'Investimento Futuro_I'!N19","v":0},{"$f":"+'Investimento Futuro_I'!O19","v":0}]
[null,3.4,"3.4 Estação(ões) de Compressão",null,{"$f":"+'Investimento Anterior'!AB27*$E$4","v":318690.93176153762},{"$f":"+'Investimento Futuro_I'!E20","v":26856.601210535835},{"$f":"+'Investimento Futuro_I'!F20","v":22003.662807645629},{"$f":"+'Investimento Futuro_I'!G20","v":30685.930125218056},{"$f":"+'Investimento Futuro_I'!H20","v":6027.7455310073219},{"$f":"+'Investimento Futuro_I'!I20","v":19237.962618144549},{"$f":"+'Investimento Futuro_I'!J20","v":9359.8797144878226},{"$f":"+'Investimento Futuro_I'!K20","v":11941.404189095127},{"$f":"+'Investimento Futuro_I'!L20","v":7826.7337895413148},{"$f":"+'Investimento Futuro_I'!M20","v":10671.315574271313},{"$f":"+'Investimento Futuro_I'!N20","v":7293.7013856901385},{"$f":"+'Investimento Futuro_I'!O20","v":11356.626091900036}]
[null,3.5,"3.5 Estação(ões) de Medição",null,{"$f":"+'Investimento Anterior'!AB28*$E$4","v":10214.115869230767},{"$f":"+'Investimento Futuro_I'!E21","v":6156.2729618336398},{"$f":"+'Investimento Futuro_I'!F21","v":5164.9871100380824},{"$f":"+'Investimento Futuro_I'!G21","v":3726.980837454571},{"$f":"+'Investimento Futuro_I'!H21","v":3401.1594759620393},{"$f":"+'Investimento Futuro_I'!I21","v":4212.3088222854403},{"$f":"+'Investimento Futuro_I'!J21","v":0},{"$f":"+'Investimento Futuro_I'!K21","v":0},{"$f":"+'Investimento Futuro_I'!L21","v":0},{"$f":"+'Investimento Futuro_I'!M21","v":0},{"$f":"+'Investimento Futuro_I'!N21","v":0},{"$f":"+'Investimento Futuro_I'!O21","v":0}]
[null,3.6,"3.6 Estação(ões) de Regulagem de Pressão",null,{"$f":"+'Investimento Anterior'!AB29*$E$4","v":884.49500769230758},{"$f":"+'Investimento Futuro_I'!E22","v":0},{"$f":"+'Investimento Futuro_I'!F22","v":0},{"$f":"+'Investimento Futuro_I'!G22","v":0},{"$f":"+'Investimento Futuro_I'!H22","v":0},{"$f":"+'Investimento Futuro_I'!I22","v":0},{"$f":"+'Investimento Futuro_I'!J22","v":0},{"$f":"+'Investimento Futuro_I'!K22","v":0},{"$f":"+'Investimento Futuro_I'!L22","v":0},{"$f":"+'Investimento Futuro_I'!M22","v":0},{"$f":"+'Investimento Futuro_I'!N22","v":0},{"$f":"+'Investimento Futuro_I'!O22","v":0}]
[10,3.7,"3.7 Sistema Elétrico",null,{"$f":"+'Investimento Anterior'!AB30*$E$4","v":1511.9580000000001},{"$f":"+'Investimento Futuro_I'!E23","v":5693.4387381315255},{"$f":"+'Investimento Futuro_I'!F23","v":5320.4157959573758},{"$f":"+'Investimento Futuro_I'!G23","v":5293.0833786094245},{"$f":"+'Investimento Futuro_I'!H23","v":4733.0016709745969},{"$f":"+'Investimento Futuro_I'!I23","v":6420.0414018548845},{"$f":"+'Investimento Futuro_I'!J23","v":464.51015952793165},{"$f":"+'Investimento Futuro_I'!K23","v":1168.3145190154862},{"$f":"+'Investimento Futuro_I'!L23","v":466.98888959077055},{"$f":"+'Investimento Futuro_I'!M23","v":1167.9435248338418},{"$f":"+'Investimento Futuro_I'!N23","v":0},{"$f":"+'Investimento Futuro_I'!O23","v":1022.6958596369974}]
[10,3.8,"3.8 Sistemas Auxiliares",null,{"$f":"+'Investimento Anterior'!AB31*$E$4","v":1784.1191923076922},{"$f":"+'Investimento Futuro_I'!E24","v":2566.6148475404907},{"$f":"+'Investimento Futuro_I'!F24","v":4111.2594840742531},{"$f":"+'Investimento Futuro_I'!G24","v":1124.6626264939996},{"$f":"+'Investimento Futuro_I'!H24","v":955.21669810141316},{"$f":"+'Investimento Futuro_I'!I24","v":2000.6935606872296},{"$f":"+'Investimento Futuro_I'!J24","v":3978.5295163567348},{"$f":"+'Investimento Futuro_I'!K24","v":1817.6514306367249},{"$f":"+'Investimento Futuro_I'!L24","v":1256.2001129991729},{"$f":"+'Investimento Futuro_I'!M24","v":3848.0665607683422},{"$f":"+'Investimento Futuro_I'!N24","v":3369.9115914699437},{"$f":"+'Investimento Futuro_I'!O24","v":1829.0974225231816}]
[null,6,"6 Outros Bens e Instalações Diretamente Vinculados",null,{"$f":"SUM(E26:E30)","v":13344.060223076916},{"$f":"+'Investimento Futuro_I'!E25","v":29502.743344769508},{"$f":"+'Investimento Futuro_I'!F25","v":16824.635020322479},{"$f":"+'Investimento Futuro_I'!G25","v":16548.041031473687},{"$f":"+'Investimento Futuro_I'!H25","v":12060.990291506329},{"$f":"+'Investimento Futuro_I'!I25","v":31176.46414359651},{"$f":"+'Investimento Futuro_I'!J25","v":21384.849462162754},{"$f":"+'Investimento Futuro_I'!K25","v":12708.924875670193},{"$f":"+'Investimento Futuro_I'!L25","v":9940.2530690958047},{"$f":"+'Investimento Futuro_I'!M25","v":10856.591879925878},{"$f":"+'Investimento Futuro_I'!N25","v":11101.036110183792},{"$f":"+'Investimento Futuro_I'!O25","v":15889.100701022122}]
[null,6.1,"6.1 Imóveis/Edificações/Terrenos e Benfeitorias",null,{"$f":"+'Investimento Anterior'!AB57*$E$4","v":2722.0117153846077},{"$f":"+'Investimento Futuro_I'!E26","v":2533.4460697543432},{"$f":"+'Investimento Futuro_I'!F26","v":1046.0351973687591},{"$f":"+'Investimento Futuro_I'!G26","v":92.354937016030163},{"$f":"+'Investimento Futuro_I'!H26","v":1254.7540093871307},{"$f":"+'Investimento Futuro_I'!I26","v":17755.110167569379},{"$f":"+'Investimento Futuro_I'!J26","v":7768.816290564775},{"$f":"+'Investimento Futuro_I'!K26","v":3500.3317892082396},{"$f":"+'Investimento Futuro_I'!L26","v":980.67666814061818},{"$f":"+'Investimento Futuro_I'!M26","v":1167.9435248338418},{"$f":"+'Investimento Futuro_I'!N26","v":1644.143717637585},{"$f":"+'Investimento Futuro_I'!O26","v":399.67424399606796}]
[10,6.2,"6.2 Móveis, Equipamentos e Instalações de Escritório",null,{"$f":"+'Investimento Anterior'!AB58*$E$4","v":560.63491538461835},{"$f":"+'Investimento Futuro_I'!E27","v":2129.6621299212707},{"$f":"+'Investimento Futuro_I'!F27","v":4106.2359182978444},{"$f":"+'Investimento Futuro_I'!G27","v":300.69049261033081},{"$f":"+'Investimento Futuro_I'!H27","v":304.27060273821871},{"$f":"+'Investimento Futuro_I'!I27","v":376.83670916776856},{"$f":"+'Investimento Futuro_I'!J27","v":301.93160369315558},{"$f":"+'Investimento Futuro_I'!K27","v":258.25899894026537},{"$f":"+'Investimento Futuro_I'!L27","v":245.16916703515454},{"$f":"+'Investimento Futuro_I'!M27","v":258.17698970011241},{"$f":"+'Investimento Futuro_I'!N27","v":244.87246858432118},{"$f":"+'Investimento Futuro_I'!O27","v":775.83823834530847}]
[5,6.3,"6.3 Equipamentos e Instalações de Processamento de Dados e de Comunicação",null,{"$f":"+'Investimento Anterior'!AB59*$E$4","v":10061.41359230769},{"$f":"+'Investimento Futuro_I'!E28","v":24839.635145093893},{"$f":"+'Investimento Futuro_I'!F28","v":11672.363904655875},{"$f":"+'Investimento Futuro_I'!G28","v":16154.995601847326},{"$f":"+'Investimento Futuro_I'!H28","v":10501.965679380979},{"$f":"+'Investimento Futuro_I'!I28","v":13044.51726685936},{"$f":"+'Investimento Futuro_I'!J28","v":13314.101567904821},{"$f":"+'Investimento Futuro_I'!K28","v":8950.3340875216873},{"$f":"+'Investimento Futuro_I'!L28","v":8714.407233920032},{"$f":"+'Investimento Futuro_I'!M28","v":9430.4713653919243},{"$f":"+'Investimento Futuro_I'!N28","v":9212.0199239618851},{"$f":"+'Investimento Futuro_I'!O28","v":14713.588218680745}]
[5,6.4,"6.4 Veículos",null,{"$f":"+'Investimento Anterior'!AB60*$E$4","v":0},{"$f":"+'Investimento Futuro_I'!E29","v":0},{"$f":"+'Investimento Futuro_I'!F29","v":0},{"$f":"+'Investimento Futuro_I'!G29","v":0},{"$f":"+'Investimento Futuro_I'!H29","v":0},{"$f":"+'Investimento Futuro_I'!I29","v":0},{"$f":"+'Investimento Futuro_I'!J29","v":0},{"$f":"+'Investimento Futuro_I'!K29","v":0},{"$f":"+'Investimento Futuro_I'!L29","v":0},{"$f":"+'Investimento Futuro_I'!M29","v":0},{"$f":"+'Investimento Futuro_I'!N29","v":0},{"$f":"+'Investimento Futuro_I'!O29","v":0}]
[null,6.5,"6.5 Outros Bens Imobilizados",null,{"$f":"+'Investimento Anterior'!AB61*$E$4","v":0},{"$f":"+'Investimento Futuro_I'!E30","v":0},{"$f":"+'Investimento Futuro_I'!F30","v":0},{"$f":"+'Investimento Futuro_I'!G30","v":0},{"$f":"+'Investimento Futuro_I'!H30","v":0},{"$f":"+'Investimento Futuro_I'!I30","v":0},{"$f":"+'Investimento Futuro_I'!J30","v":0},{"$f":"+'Investimento Futuro_I'!K30","v":0},{"$f":"+'Investimento Futuro_I'!L30","v":0},{"$f":"+'Investimento Futuro_I'!M30","v":0},{"$f":"+'Investimento Futuro_I'!N30","v":0},{"$f":"+'Investimento Futuro_I'!O30","v":0}]
[5,8,"8 Overhaul",null,{"$f":"+'Investimento Anterior'!AB70*$E$4","v":33796.871338461548},{"$f":"+'Investimento Futuro_I'!E31","v":44078.81576983905},{"$f":"+'Investimento Futuro_I'!F31","v":26797.153141916617},{"$f":"+'Investimento Futuro_I'!G31","v":8091.2625887242166},{"$f":"+'Investimento Futuro_I'!H31","v":50313.020586026061},{"$f":"+'Investimento Futuro_I'!I31","v":3968.554756050507},{"$f":"+'Investimento Futuro_I'!J31","v":9647.4719209421746},{"$f":"+'Investimento Futuro_I'!K31","v":74338.810003759529},{"$f":"+'Investimento Futuro_I'!L31","v":17751.008916788527},{"$f":"+'Investimento Futuro_I'!M31","v":19017.381024077997},{"$f":"+'Investimento Futuro_I'!N31","v":18345.206377315393},{"$f":"+'Investimento Futuro_I'!O31","v":2278.909656686682}]
[null,null,"Total Geral",null,{"$f":"+'Investimento Anterior'!AB71*$E$4","v":1457355.789807691},{"$f":"F7+F10+F16+F25+F31","v":204135.45162860636},{"$f":"G7+G10+G16+G25+G31","v":114884.84308549165},216825.37432581559,90517.385250861524,91066.290621692999,65785.931190418749,109587.5964631306,46113.616009360376,51056.780201779766,48652.997336890636,50337.402560450711]
[]
["NÃO DEPRECIA:",null,{"$f":"+'Investimento Futuro'!C14","v":"Linepack - Estoque Operacional"},null,null,{"$f":"+'Investimento Futuro'!E14","v":9590.5976599999995},{"$f":"+'Investimento Futuro'!F14","v":791.9293481829983},{"$f":"+'Investimento Futuro'!G14","v":15650.264417626706},{"$f":"+'Investimento Futuro'!H14","v":0},{"$f":"+'Investimento Futuro'!I14","v":0}]
[]
[null,null,null,"Para Cálculo da DEPRECIAÇÃO FISCAL:"]
["UP",null,null,null,2019,2020,2021,2022,2023,2024,2025,2026,2027,2028,2029,2030]
[null,null,null,"Total até 2029",{"$f":"+E40-E39","v":1411446.749430768},{"$f":"+F32-F31-F29-F28-F14-F34","v":123715.36919846036},{"$f":"+G32-G31-G29-G28-G14-G34","v":72260.267422685385},173144.53872820031,26330.433335185007,{"$f":"+J32-J31-J29-J28-J14-J34","v":69488.869016417171},{"$f":"+K32-K31-K29-K28-K14","v":37017.980707472605},{"$f":"+L32-L31-L29-L28-L14","v":26298.45237184938},19648.199858651817,22608.927812309845,21095.771035613358,33344.904685083289]
[null,null,null,"Total em 5 anos",{"$f":"+E31+E29+E28+E14","v":45909.040376923083},{"$f":"+F32-F38-F34","v":70829.484770145995},{"$f":"+G32-G38-G34","v":41832.646314623271},{"$f":"+H32-H38-H34","v":28030.571179988576},64186.951915676516,21577.421605275827,{"$f":"+K32-K38","v":28767.950482946144},{"$f":"+L32-L38","v":83289.144091281225},26465.416150708559,28447.852389469921,27557.226301277278,16992.497875367422]
[null,null,null,"TOTAL",{"$f":"+E32","v":1457355.789807691},{"$f":"SUM(F38:F39)","v":194544.85396860636},{"$f":"SUM(G38:G39)","v":114092.91373730866},201175.10990818887,90517.385250861524,91066.290621692999,65785.931190418749,109587.59646313061,46113.616009360376,51056.780201779766,48652.997336890636,50337.402560450711]
[]
[null,null,null,null,null,2020,2021,2022,2023,2024,2025,2026,2027,2028,2029,null,"TOTAL"]
[null,null,null,"Total até 2029",null,{"$f":"+E38+F38","v":1535162.1186292283},{"$f":"+G38","v":72260.267422685385},{"$f":"+H38","v":173144.53872820031},26330.433335185007,69488.869016417171,{"$f":"+K38","v":37017.980707472605},26298.45237184938,19648.199858651817,22608.927812309845,21095.771035613358,null,{"$f":"SUM(F43:O43)","v":2003055.5589176132}]
[null,null,null,"Total em 5 anos",null,{"$f":"+E39+F39","v":116738.52514706907},{"$f":"+G39","v":41832.646314623271},28030.571179988576,64186.951915676516,21577.421605275827,28767.950482946144,83289.144091281225,26465.416150708559,28447.852389469921,27557.226301277278,null,{"$f":"SUM(F44:O44)","v":466893.70557831641}]
[null,null,null,"TOTAL",null,{"$f":"SUM(F43:F44)","v":1651900.6437762973},{"$f":"SUM(G43:G44)","v":114092.91373730866},201175.10990818887,90517.385250861524,91066.290621692999,65785.931190418749,109587.59646313061,46113.616009360376,51056.780201779766,48652.997336890636,null,{"$f":"SUM(F45:O45)","v":2469949.2644959292}]
[]
[null,null,null,null,null,{"$f":"+F43","v":1535162.1186292283},{"$f":"+F47-F51+G43","v":1453906.1741889908},{"$f":"+G47-G51+H43","v":1465505.5824517477},{"$f":"+H47-H51+I43","v":1308647.8179804643},{"$f":"+I47-I51+J43","v":1191186.9987139578},{"$f":"+J47-J51+K43","v":1029673.8129691042},850037.50274713268,657176.32691900141,460726.47909164405,251459.01058143537]
[null,null,null,null,null,{"$f":"+F44","v":116738.52514706907},{"$f":"+F48-F52+G44","v":135223.46643227851},{"$f":"+G48-G52+H44","v":136209.34432581137},173154.42737632559,160100.96350633629,156848.72128801519,208768.12112169337,193479.91304806326,183231.78282792051,174142.65256361369]
[null,null,null,"RESIDUAL",null,{"$f":"SUM(F47:F48)","v":1651900.6437762973},{"$f":"SUM(G47:G48)","v":1589129.6406212694},{"$f":"SUM(H47:H48)","v":1601714.9267775591},{"$f":"SUM(I47:I48)","v":1481802.2453567898},{"$f":"SUM(J47:J48)","v":1351287.9622202942},{"$f":"SUM(K47:K48)","v":1186522.5342571193},{"$f":"SUM(L47:L48)","v":1058805.6238688261},{"$f":"SUM(M47:M48)","v":850656.2399670647},{"$f":"SUM(N47:N48)","v":643958.26191956457},{"$f":"SUM(O47:O48)","v":425601.66314504907}]
[]
[null,null,null,null,null,{"$f":"+F47/($O$42+1-F42)","v":153516.21186292282},{"$f":"+G47/($O$42+1-G42)","v":161545.13046544342},183188.19780646847,186949.68828292348,198531.16645232632,205934.76259382084,212509.37568678317,219058.77563966715,230363.23954582203,251459.01058143537,null,{"$f":"SUM(F51:O51)","v":2003055.558917613}]
[null,null,null,null,null,{"$f":"+F48/5","v":23347.705029413813},{"$f":"+G48/5","v":27044.693286455702},27241.868865162272,34630.885475265117,32020.19270126726,31369.744257603037,41753.624224338673,38695.982609612649,36646.356565584101,34828.53051272274,null,{"$f":"SUM(F52:O52)","v":327579.58352742536}]
[null,null,null,"DEPRECIAÇÃO TOTAL",null,{"$f":"SUM(F51:F52)","v":176863.91689233662},{"$f":"SUM(G51:G52)","v":188589.82375189912},210430.06667163075,221580.57375818861,230551.35915359357,237304.50685142388,254262.99991112185,257754.75824927981,267009.59611140611,286287.54109415814,null,{"$f":"SUM(F53:O53)","v":2330635.1424450385}]
[null,null,null,"DEPRECIAÇÃO Novos Contratos",null,{"$f":"+F53*F111","v":106306.50323847892},{"$f":"+G53*G111","v":113354.52172321596},168455.98422383206,177382.32101386905,184563.7210245523,142635.15571388777,152828.29249977006,154927.06213919478,160489.81042866432,172077.08587042484,null,{"$f":"SUM(F54:O54)","v":1533020.45787589}]
[null,null,null,"DEPRECIAÇÃO TOTAL Deflacionada",null,{"$f":"F53/(1+Premissas!B$63)^(F42-$F$42)","v":176863.91689233662},{"$f":"G53/(1+Premissas!C$63)^(G42-$F$42)","v":181336.36899221069},{"$f":"H53/(1+Premissas!D$63)^(H42-$F$42)","v":194554.42554699586},{"$f":"I53/(1+Premissas!E$63)^(I42-$F$42)","v":196984.32322324172},{"$f":"J53/(1+Premissas!F$63)^(J42-$F$42)","v":197076.2680520913},{"$f":"K53/(1+Premissas!#REF!)^(K42-$F$42)","v":{"$error":"#REF!"}},{"$f":"L53/(1+Premissas!#REF!)^(L42-$F$42)","v":{"$error":"#REF!"}},{"$f":"M53/(1+Premissas!#REF!)^(M42-$F$42)","v":{"$error":"#REF!"}},{"$f":"N53/(1+Premissas!#REF!)^(N42-$F$42)","v":{"$error":"#REF!"}},{"$f":"O53/(1+Premissas!#REF!)^(O42-$F$42)","v":{"$error":"#REF!"}},null,{"$f":"SUM(F55:O55)","v":{"$error":"#REF!"}}]
[null,null,null,"DEPRECIAÇÃO Novos Contratos Deflacionada",null,{"$f":"F55*F111","v":106306.50323847892},{"$f":"G55*G111","v":108994.7324261692},155747.02683416422,157692.23747392488,157765.8422438284,{"$error":"#REF!"},{"$error":"#REF!"},{"$error":"#REF!"},{"$error":"#REF!"},{"$error":"#REF!"},null,{"$f":"SUM(F56:O56)","v":{"$error":"#REF!"}}]
[]
[null,null,null,"Para Cálculo da DEPRECIAÇÃO CONTÁBIL e VALOR RESIDUAL:"]
[null,null,null,null,2019,2020,2021,2022,2023,2024,2025,2026,2027,2028,2029,2030]
[null,null,null,"Total até 2029",{"$f":"+E62-E61","v":4156485.5787010239},{"$f":"F38","v":123715.36919846036},{"$f":"G38","v":72260.267422685385},{"$f":"H38","v":173144.53872820031},26330.433335185007,69488.869016417171,37017.980707472605,26298.45237184938,19648.199858651817,22608.927812309845,21095.771035613358,33344.904685083289]
[null,null,null,"Total em 5 anos",{"$f":"+E39","v":45909.040376923083},{"$f":"F39","v":70829.484770145995},{"$f":"G39","v":41832.646314623271},28030.571179988576,64186.951915676516,21577.421605275827,28767.950482946144,83289.144091281225,26465.416150708559,28447.852389469921,27557.226301277278,16992.497875367422]
[null,null,null,"TOTAL",{"$f":"+Premissas!B52","v":4202394.619077947},{"$f":"SUM(F60:F61)","v":194544.85396860636},{"$f":"SUM(G60:G61)","v":114092.91373730866},201175.10990818887,90517.385250861524,91066.290621692999,65785.931190418749,109587.59646313061,46113.616009360376,51056.780201779766,48652.997336890636,50337.402560450711]
[]
[null,null,null,null,null,2020,2021,2022,2023,2024,2025,2026,2027,2028,2029,null,"TOTAL"]
[null,null,null,"Total até 2029",null,{"$f":"+E60+F60","v":4280200.9478994841},{"$f":"+G60","v":72260.267422685385},{"$f":"+H60","v":173144.53872820031},26330.433335185007,69488.869016417171,37017.980707472605,26298.45237184938,19648.199858651817,22608.927812309845,21095.771035613358,null,{"$f":"SUM(F65:O65)","v":4748094.3881878685}]
[null,null,null,"Total em 5 anos",null,{"$f":"+E61+F61","v":116738.52514706907},{"$f":"+G61","v":41832.646314623271},28030.571179988576,64186.951915676516,21577.421605275827,28767.950482946144,83289.144091281225,26465.416150708559,28447.852389469921,27557.226301277278,null,{"$f":"SUM(F66:O66)","v":466893.70557831641}]
[null,null,null,"TOTAL",null,{"$f":"SUM(F65:F66)","v":4396939.4730465533},{"$f":"SUM(G65:G66)","v":114092.91373730866},{"$f":"SUM(H65:H66)","v":201175.10990818887},{"$f":"SUM(I65:I66)","v":90517.385250861524},91066.290621692999,65785.931190418749,109587.59646313061,46113.616009360376,51056.780201779766,48652.997336890636,null,{"$f":"SUM(F67:O67)","v":5214988.0937661855}]
[]
[null,null,null,null,null,{"$f":"+F65","v":4280200.9478994841},{"$f":"+F69-F73+G65","v":3924441.1205322212},{"$f":"+G69-G73+H65","v":3661536.6458679526},{"$f":"+H69-H73+I65","v":3230174.9984696438},{"$f":"+I69-I73+J65","v":2838210.2962761121},{"$f":"+J69-J73+K65","v":2402193.2276042327},{"$f":"+K69-K73+L65","v":1948053.0344552356},{"$f":"+L69-L73+M65","v":1480687.9757000783},{"$f":"+M69-M73+N65","v":1009734.2449456953},{"$f":"+N69-N73+O65","v":525962.89350846095}]
[null,null,null,null,null,{"$f":"+F66","v":116738.52514706907},{"$f":"+F70-F74+G66","v":135223.46643227851},136209.34432581137,173154.42737632559,{"$f":"+I70-I74+J66","v":160100.96350633629},156848.72128801519,208768.12112169337,193479.91304806326,183231.78282792051,174142.65256361369]
[null,null,null,"RESIDUAL",null,{"$f":"SUM(F69:F70)","v":4396939.4730465533},{"$f":"SUM(G69:G70)","v":4059664.5869644997},3797745.9901937637,3403329.4258459695,2998311.2597824484,2559041.9488922479,2156821.155576929,1674167.8887481415,1192966.0277736159,700105.54607207468]
[]
[null,null,null,null,null,{"$f":"+F69/($O$64+1-F64)","v":428020.09478994843},{"$f":"+G69/($O$64+1-G64)","v":436049.01339246903},{"$f":"+H69/($O$64+1-H64)","v":457692.08073349408},461453.57120994909,{"$f":"+J69/($O$64+1-J64)","v":473035.04937935201},480438.64552084653,487013.2586138089,493562.65856669279,504867.12247284764,525962.89350846095,null,{"$f":"SUM(F73:O73)","v":4748094.3881878695}]
[null,null,null,null,null,{"$f":"+F70/5","v":23347.705029413813},{"$f":"+G70/5","v":27044.693286455702},27241.868865162272,34630.885475265117,32020.19270126726,31369.744257603037,41753.624224338673,38695.982609612649,36646.356565584101,34828.53051272274,null,{"$f":"SUM(F74:O74)","v":327579.58352742536}]
[null,null,null,"DEPRECIAÇÃO TOTAL",null,{"$f":"SUM(F73:F74)","v":451367.79981936223},{"$f":"SUM(G73:G74)","v":463093.70667892473},{"$f":"SUM(H73:H74)","v":484933.94959865633},496084.45668521419,{"$f":"SUM(J73:J74)","v":505055.24208061927},511808.38977844955,528766.88283814758,532258.64117630548,541513.47903843177,560791.42402118375,null,{"$f":"SUM(F75:O75)","v":5075673.9717152948}]
[null,null,null,"DEPRECIAÇÃO Novos Contratos",null,{"$f":"+F75*F111","v":271300.85840206349},{"$f":"+G75*G111","v":278348.87688680051},{"$f":"+H75*H111","v":388205.10326913709},397131.44005917409,{"$f":"+J75*J111","v":404312.84006985743},307629.51087747235,317822.64766335464,319921.41730277939,325484.1655922489,337071.44103400939,null,{"$f":"SUM(F76:O76)","v":3347228.3011568976}]
[null,null,null,"DEPRECIAÇÃO TOTAL Deflacionada",null,{"$f":"F75/(1+Premissas!B$63)^(F64-$F$64)","v":451367.79981936223},{"$f":"G75/(1+Premissas!C$63)^(G64-$F$64)","v":445282.41026819684},{"$f":"H75/(1+Premissas!D$63)^(H64-$F$64)","v":448348.69600467483},{"$f":"I75/(1+Premissas!E$63)^(I64-$F$64)","v":441017.27558639459},{"$f":"J75/(1+Premissas!F$63)^(J64-$F$64)","v":431723.33763204602},{"$f":"K75/(1+Premissas!#REF!)^(K64-$F$64)","v":{"$error":"#REF!"}},{"$f":"L75/(1+Premissas!#REF!)^(L64-$F$64)","v":{"$error":"#REF!"}},{"$f":"M75/(1+Premissas!#REF!)^(M64-$F$64)","v":{"$error":"#REF!"}},{"$f":"N75/(1+Premissas!#REF!)^(N64-$F$64)","v":{"$error":"#REF!"}},{"$f":"O75/(1+Premissas!#REF!)^(O64-$F$64)","v":{"$error":"#REF!"}},null,{"$f":"SUM(F77:O77)","v":{"$error":"#REF!"}}]
[null,null,null,"DEPRECIAÇÃO Novos Contratos Deflacionada",null,{"$f":"F77*F111","v":271300.85840206349},{"$f":"G77*G111","v":267643.15085269278},358917.44015267852,353048.40412634244,345608.31017884531,{"$error":"#REF!"},{"$error":"#REF!"},{"$error":"#REF!"},{"$error":"#REF!"},{"$error":"#REF!"},null,{"$f":"SUM(F78:O78)","v":{"$error":"#REF!"}}]
[]
[null,null,null,"Para Cálculo Tarifário Chamada Pública 2019:"]
[null,null,null,null,2016,2020,2021,2022,2023,2024,2025,2026,2027,2028,2029]
[null,null,null,"Total BRA",{"$f":"+Premissas!B52","v":4202394.619077947}]
[null,null,null,"Total Investimento NOVO",null,{"$f":"SUM(F84:F85)","v":144564.16882860637},{"$f":"SUM(G84:G85)","v":109965.95320216894},119617.29952493022,90517.385250861524,91066.290621692999,65785.931190418749,109587.5964631306,46113.616009360376,51056.780201779766,48652.997336890636]
[null,null,null,"A ser rateado",null,{"$f":"+F32-F85-F87","v":107825.34591082719},{"$f":"+G32-G85-G87","v":88936.181593343586},{"$f":"+H32-H85-H87","v":73749.968677852041},76687.848886176609,77948.513288956208,{"$f":"+K32-K85","v":52906.395666524535},{"$f":"+L32-L85","v":101457.18118677723},37769.130455970837,42475.407959940567,39808.266054727239]
[null,null,null,"Incremental Nova Modalidade",null,{"$f":"F96*'Investimento Futuro'!$D$75","v":36738.822917779187},{"$f":"G96*'Investimento Futuro'!$D$75","v":21029.771608825351},{"$f":"H96*'Investimento Futuro'!$D$75","v":45867.330847078185},{"$f":"I96*'Investimento Futuro'!$D$75","v":13829.536364684915},{"$f":"J96*'Investimento Futuro'!$D$75","v":13117.777332736787},{"$f":"K96*'Investimento Futuro'!$D$75","v":12879.53552389421},{"$f":"L96*'Investimento Futuro'!$D$75","v":8130.4152763533675},{"$f":"M96*'Investimento Futuro'!$D$75","v":8344.4855533895388},{"$f":"N96*'Investimento Futuro'!$D$75","v":8581.372241839199},{"$f":"O96*'Investimento Futuro'!$D$75","v":8844.7312821633986}]
[null,null,null,"Rateado Novos Contratos",null,{"$f":"F84*F111","v":64809.915361295069},{"$f":"G84*G111","v":53456.321915148008},59039.20364902517,61391.07051792329,62400.272606318664,31800.120799559962,60982.241883541639,22701.658199599493,25530.431380177044,23927.308852043501]
[null,null,null,"Linepack Novos Contratos",null,{"$f":"+'Investimento Futuro'!E12*(1+'Investimento Futuro_I'!$F$3)","v":59571.282799999994},{"$f":"+'Investimento Futuro'!F12*(1+'Investimento Futuro_I'!$F$3)","v":4918.8898833227149},{"$f":"+'Investimento Futuro'!G12*(1+'Investimento Futuro_I'!$F$3)","v":97208.07480088537}]
[null,null,null,"BRA Novos Contratos",null,{"$f":"E82*F111","v":2525907.4040202554},null,{"$f":"Premissas!C52","v":668690.6137317738}]
[null,null,null,"Total Investimento e BRA Novos Contratos",null,{"$f":"SUM(F85:F88)","v":2687027.4250993296},{"$f":"SUM(G85:G88)","v":79404.98340729608},{"$f":"SUM(H85:H88)","v":870805.2230287625},{"$f":"SUM(I85:I88)","v":75220.606882608205},75518.049939055447,{"$f":"SUM(K85:K88)","v":44679.656323454168},69112.65715989501,31046.143752989032,34111.803622016247,32772.040134206902]
[null,null,null,"Valor Residual",null,{"$f":"+F89-F76","v":2415726.566697266},{"$f":"+F90+G89-G76","v":2216782.6732177618},{"$f":"+G90+H89-H76","v":2699382.7929773876},{"$f":"+H90+I89-I76","v":2377471.9598008217},{"$f":"+I90+J89-J76","v":2048677.1696700198},{"$f":"+J90+K89-K78","v":{"$error":"#REF!"}},{"$error":"#REF!"},{"$error":"#REF!"},{"$error":"#REF!"},{"$error":"#REF!"}]
[null,null,null,null,null,{"$f":"+F89-F88","v":161120.02107907413},{"$f":"+G89-G88","v":79404.98340729608},{"$f":"+H89-H88","v":202114.6092969887},75220.606882608205,75518.049939055447]
[null,null,null,"Incremental Nova Modalidade:",null,2020,2021,2022,2023,2024,2025,2026,2027,2028,2029]
[null,null,null,"Confiabilidade ECOMP BIG (Aquis. 1 conj. Motocompressor), outros engenharia",null,18065.217391304297,13419.130434782581,35060.108695652154,8612.6086956521503,7972.6086956521485]
[null,null,null,"TIC",null,13539.981513230276,3401.0543126626453,4897.4329562993325,3435.0571509048718,3455.0049124164484,11220.068132361677,7082.8496241840303,7269.337955925761,7475.702912109452,7705.1293825150769]
[null,null,null,"Reformulação de layout e aquisição de mobiliários",null,400,1500]
[null,null,null,"TOTAL",null,{"$f":"SUM(F93:F95)","v":32005.198904534573},{"$f":"SUM(G93:G95)","v":18320.184747445226},39957.541651951484,12047.665846557022,11427.613608068597,11220.068132361677,{"$f":"SUM(L93:L95)","v":7082.8496241840303},7269.337955925761,7475.702912109452,7705.1293825150769,null,null," => Estes valores estão a preços de Dezembro/2016, ajustados para a data-base Dez/2019 na linha 85"]
[]
[null,null,null,"Para Cálculo DEPRECIAÇÃO LINEPACK:",null,2020,2021,2022,2023,2024,2025,2026,2027,2028,2029]
[null,null,null,"Linepack",null,{"$f":"F87-F34","v":49980.685139999994},{"$f":"G87-G34","v":4126.9605351397167},{"$f":"H87-H34","v":81557.810383258664}]
[null,null,null,"Residual Linepack",null,{"$f":"F99","v":49980.685139999994},{"$f":"G99+F100-F101","v":49109.577161139714},{"$f":"H99+G100-G101","v":125210.76785982729},109559.42187734888,93908.075894870475,78256.729912392067,62605.383929913653,46954.037947435238,31302.691964956823,15651.345982478411]
[null,null,null,"Depreciação Linepack",null,{"$f":"+F100/($O$98+1-F98)","v":4998.0685139999996},{"$f":"+G100/($O$98+1-G98)","v":5456.6196845710792},{"$f":"+H100/($O$98+1-H98)","v":15651.345982478411},15651.345982478411,15651.345982478413,15651.345982478413,15651.345982478413,15651.345982478413,15651.345982478411,15651.345982478411]
[null,null,null,"Depreciação Linepack Deflacionada",null,{"$f":"F101/(1+Premissas!B$63)^(F98-$F$98)","v":4998.0685139999996},{"$f":"G101/(1+Premissas!C$63)^(G98-$F$98)","v":5246.749696702961},{"$f":"H101/(1+Premissas!D$63)^(H98-$F$98)","v":14470.549170190838},{"$f":"I101/(1+Premissas!E$63)^(I98-$F$98)","v":13913.98958672196},{"$f":"J101/(1+Premissas!F$63)^(J98-$F$98)","v":13378.836141078807},{"$f":"K101/(1+Premissas!#REF!)^(K98-$F$98)","v":{"$error":"#REF!"}},{"$f":"L101/(1+Premissas!#REF!)^(L98-$F$98)","v":{"$error":"#REF!"}},{"$f":"M101/(1+Premissas!#REF!)^(M98-$F$98)","v":{"$error":"#REF!"}},{"$f":"N101/(1+Premissas!#REF!)^(N98-$F$98)","v":{"$error":"#REF!"}},{"$f":"O101/(1+Premissas!#REF!)^(O98-$F$98)","v":{"$error":"#REF!"}}]
[null,null,null,"TOTAL",null,{"$f":"F99-F102","v":44982.616625999995},{"$f":"F103+G99-G102","v":43862.827464436756},{"$f":"G103+H99-H102","v":110950.08867750458},97036.09909078262,83657.262949703814,{"$error":"#REF!"},{"$error":"#REF!"},{"$error":"#REF!"},{"$error":"#REF!"},{"$error":"#REF!"}]
[]
[null,null,null,null,"Volume em m3 / dia",2020,2021,2022,2023,2024,2025,2026,2027,2028,2029]
[null,null,null,null,"Contrato 1 "]
[null,null,null,null,"Capacidade Contratada",{"$f":"'Contratos Originais'!C5/1000","v":18080},{"$f":"'Contratos Originais'!D5/1000","v":18080},{"$f":"('Contratos Originais'!E5/1000)+H109","v":24080},{"$f":"('Contratos Originais'!F5/1000)+I109","v":24080},{"$f":"('Contratos Originais'!G5/1000)+J109","v":24080},{"$f":"'Contratos Originais'!H5/1000","v":18080},{"$f":"'Contratos Originais'!I5/1000","v":18080},{"$f":"'Contratos Originais'!J5/1000","v":18080},{"$f":"'Contratos Originais'!K5/1000","v":18080},{"$f":"'Contratos Originais'!L5/1000","v":18080}]
[null,null,null,null,"Contrato 2"]
[null,null,null,null,"Capacidade Contratada",null,null,{"$f":"'Contratos Originais'!E7/1000","v":6000},{"$f":"'Contratos Originais'!F7/1000","v":6000},{"$f":"'Contratos Originais'!G7/1000","v":6000},{"$f":"'Contratos Originais'!H7/1000","v":6000},{"$f":"'Contratos Originais'!I7/1000","v":6000},{"$f":"'Contratos Originais'!J7/1000","v":6000},{"$f":"'Contratos Originais'!K7/1000","v":6000},{"$f":"'Contratos Originais'!L7/1000","v":6000}]
[null,null,null,null,"TOTAL NOVO",{"$f":"F107","v":18080},{"$f":"G107","v":18080},24080,24080,24080,18080,18080,18080,18080,18080]
[null,null,null,null,"% NOVO",{"$f":"+F112","v":0.60106382978723405},{"$f":"+G112","v":0.60106382978723405},0.80053191489361697,0.80053191489361697,0.80053191489361697,0.60106382978723405,0.60106382978723405,0.60106382978723405,0.60106382978723405,0.60106382978723405]
[null,null,null,null,null,{"$f":"F110/F113","v":0.60106382978723405},{"$f":"G110/G113","v":0.60106382978723405},0.80053191489361697,0.80053191489361697,0.80053191489361697,0.60106382978723405,0.60106382978723405,0.60106382978723405,0.60106382978723405,0.60106382978723405]
[null,null,null,null,"capacidade total",30080,{"$f":"F113","v":30080},{"$f":"G113","v":30080},30080,30080,30080,30080,30080,30080,30080]

{"sheet":"Investimento Adicional","index":8,"n_rows":92,"n_cols":18,"rows_kept":92,"cut":false,"hidden":false,"merged":[]}
[null,null,null,null,0,"Incerteza de Custos"]
[null,null,null,null,null,1,"Fator"]
[null," Capex Adicional => ajuste para base dez/2019"]
[null,null,1,2,3,4,5,6,7,8,9,10]
["Para Cálculo da DEPRECIAÇÃO CONTÁBIL e VALOR RESIDUAL:"]
[null,2023,2024,{"$f":"C6+1","v":2025},{"$f":"D6+1","v":2026},2027,2028,2029,2030,2031,2032,2033,2034,2035,2036,2037,2038]
["10 anos",{"$f":"(29000*5.38)/(1+'Inflação 2021  '!C16)","v":119002.3125461134},null,null,null,null,null,null,null,null,null,null,null,null,null,null,null,{"$f":"417.485925247895*F2","v":417.48592524789501}]
["5 anos",null,null,null,null,null,null,null,null,null,null,null,null,null,null,null,null,{"$f":"2940*F2","v":2940}]
["TOTAL",{"$f":"B7","v":119002.3125461134},{"$f":"B9+C7","v":119002.3125461134},{"$f":"C9+D7","v":119002.3125461134},119002.3125461134,119002.3125461134,{"$f":"F9+G7+G8","v":119002.3125461134},{"$f":"G9+H7+H8","v":119002.3125461134},119002.3125461134,119002.3125461134,119002.3125461134,{"$f":"K9+L7+L8","v":119002.3125461134},119002.3125461134,119002.3125461134,119002.3125461134,119002.3125461134,119002.3125461134]
[null,null,{"$f":"SUM(C7:C8)","v":0},{"$f":"SUM(D7:D8)","v":0},0,0,0,0,0,0,0,0]
[null,null,{"$f":"C6","v":2024},{"$f":"D6","v":2025},2026,2027,2028,2029,2030,2031,2032,2033,2034,2035,2036,2037,2038,"TOTAL"]
[null,null,{"$f":"B7/$B$44","v":11900.231254611341},{"$f":"C12","v":11900.231254611341},{"$f":"D12","v":11900.231254611341},{"$f":"E12","v":11900.231254611341},11900.231254611341,11900.231254611341,11900.231254611341,11900.231254611341,11900.231254611341,11900.231254611341]
[null,null,null,{"$f":"C7/$B$44","v":0},0,0,0,0,0,0,0,0,0]
[null,null,null,{"$f":"D7/$B$44","v":0},{"$f":"D14","v":0},0,0,0,0,0,0,0,0]
[null,null,null,null,{"$f":"E7/$B$44","v":0},{"$f":"E15","v":0},0,0,0,0,0,0,0,0]
[null,null,null,null,null,{"$f":"F7/$B$44","v":0},{"$f":"F16","v":0},0,0,0,0,0,0,0,0]
[null,null,null,null,null,null,{"$f":"+($G$7/$B$44)","v":0},0,0,0,0,0,0,0,0,0]
[null,null,null,null,null,null,null,{"$f":"H$7/$B$44","v":0},{"$f":"H18","v":0},0,0,0,0,0,0,0,0]
[null,null,null,null,null,null,null,null,{"$f":"I$7/$B$44","v":0},{"$f":"I19","v":0},0,0,0,0,0,0,0]
[null,null,null,null,null,null,null,null,null,{"$f":"J$7/$B$44","v":0},{"$f":"J20","v":0},0,0,0,0,0,0]
[null,null,null,null,null,null,null,null,null,null,{"$f":"K$7/$B$44","v":0},{"$f":"K21","v":0},0,0,0,0,0]
[null,null,null,null,null,null,null,null,null,null,null,{"$f":"L$7/$B$44","v":0},{"$f":"M$7/$B$44","v":0},0,0,0,0]
[]
[]
[]
[]
[]
["DEPRECIAÇÃO TOTAL 30A",null,{"$f":"SUM(C12:C27)","v":11900.231254611341},{"$f":"SUM(D12:D27)","v":11900.231254611341},11900.231254611341,11900.231254611341,11900.231254611341,11900.231254611341,11900.231254611341,11900.231254611341,11900.231254611341,11900.231254611341,0,0,{"$f":"SUM(O12:O27)","v":0},0,0]
[]
["DEPRECIAÇÃO TOTAL 5A",null,0,0,0,0,{"$f":"G8/5","v":0},{"$f":"G31/5","v":0},{"$f":"H31/5","v":0},0,0,0,0,0,0,0,0]
["Saldo Residual (5Anos)",null,{"$f":"C8-C30","v":0},{"$f":"+C31+D8-D30","v":0},{"$f":"+D31+E8-E30","v":0},0,{"$f":"+F31+G8-G30","v":0},0,0,0,0,0,0,0,0,0,0]
[]
["DEPRECIAÇÃO TOTAL (30A+5A)",null,{"$f":"C28+C30","v":11900.231254611341},{"$f":"D28+D30","v":11900.231254611341},11900.231254611341,11900.231254611341,11900.231254611341,11900.231254611341,11900.231254611341,11900.231254611341,11900.231254611341,11900.231254611341,0,0,0,0,0]
[]
[]
["DEPRECIAÇÃO TOTAL Deflacionada",null,{"$f":"C33/C42","v":11442.530052510905},{"$f":"D33/D42","v":11002.432742798945},10579.262252691295,10172.367550664705,9781.1226448699072,9359.9259759520646,8956.8669626335559,8571.1645575440725,8202.071346932129,7848.8721023273965,0,0,0,0,0,{"$f":"SUM(C36:Q36)","v":95916.616188924992}]
[]
["RESIDUAL",null,{"$f":"C9-C33","v":107102.08129150207},{"$f":"+C38+D8+D7-D33","v":95201.850036890726},83301.618782279387,71401.387527668048,59501.156273056709,47600.92501844537,35700.693763834031,23800.462509222692,11900.231254611352,0,0,0,0,0,0]
[]
[]
["Inflação",null,{"$f":"[3]Premissas!B64","v":0.04},{"$f":"[3]Premissas!C64","v":0.04},{"$f":"[3]Premissas!D64","v":0.04},{"$f":"[3]Premissas!E64","v":0.04},{"$f":"[3]Premissas!F64","v":0.04},{"$f":"[3]Premissas!G64","v":4.4999999999999998E-2},{"$f":"[3]Premissas!H64","v":4.4999999999999998E-2},{"$f":"[3]Premissas!I64","v":4.4999999999999998E-2},{"$f":"[3]Premissas!J64","v":4.4999999999999998E-2},{"$f":"[3]Premissas!K64","v":4.4999999999999998E-2},{"$f":"[3]Premissas!L64","v":4.4999999999999998E-2},{"$f":"[3]Premissas!M64","v":4.4999999999999998E-2},{"$f":"[3]Premissas!N64","v":4.4999999999999998E-2},{"$f":"[3]Premissas!O64","v":4.4999999999999998E-2},{"$f":"[3]Premissas!P64","v":4.4999999999999998E-2}]
["Inflação acum",null,{"$f":"(1+C41)","v":1.04},{"$f":"C42*(1+D41)","v":1.0816000000000001},{"$f":"D42*(1+E41)","v":1.1248640000000001},1.1698585600000002,1.2166529024000003,1.2714022830080003,1.3286153857433602,1.3884030781018113,1.4508812166163927,1.5161708713641302,1.584398560575516,1.655696495801414,1.7302028381124774,1.8080619658275388,1.889424754289778]
[]
["Depreciação (Anos)",10]
[]
["Fonte:","Consolidado Custeio e Investimento.xls"]
[]
[null,null,null,null,0,"Incerteza de Custos"]
[null,null,null,null,{"$f":"1+(E48/1)","v":1},"Fator"]
[]
["Para Cálculo da DEPRECIAÇÃO REGULATÓRIA e VALOR RESIDUAL REGULATÓRIO:",null,null,null,null,null,{"$f":"G53+G54","v":0}]
[null,{"$f":"B6","v":2023},{"$f":"C6","v":2024},2025,2026,2027,2028,2029,2030,2031,2032,2033,2034,2035,2036,2037,2038]
["30 anos",{"$f":"B7-B57","v":119002.3125461134},0,0,0,0,0,0,0,0,0,0,0,0,0,0,{"$f":"Q7","v":0}]
["5 anos",null,null,null,null,null,{"$f":"G8","v":0},0,0,0,0,0,0,0,0,0,0]
["TOTAL",{"$f":"B53","v":119002.3125461134},{"$f":"B55+C53","v":119002.3125461134},{"$f":"C55+D53","v":119002.3125461134},119002.3125461134,119002.3125461134,{"$f":"F55+G53+G54","v":119002.3125461134},{"$f":"G55+H53+H54","v":119002.3125461134},119002.3125461134,119002.3125461134,119002.3125461134,119002.3125461134,119002.3125461134,119002.3125461134,119002.3125461134,119002.3125461134,119002.3125461134]
[null,null,{"$f":"SUM(C53:C54)","v":0},{"$f":"SUM(D53:D54)","v":0},0,0,{"$f":"SUM(G53:G54)","v":0},0,0,0,0,0]
[null,null,{"$f":"C52","v":2024},{"$f":"D52","v":2025},2026,2027,2028,2029,2030,2031,2032,2033,2034,2035,2036,2037,2038,"TOTAL"]
[null,null,{"$f":"B53/$B$90","v":11900.231254611341},{"$f":"C58","v":11900.231254611341},{"$f":"D58","v":11900.231254611341},{"$f":"E58","v":11900.231254611341},{"$f":"F58","v":11900.231254611341},11900.231254611341,11900.231254611341,11900.231254611341,11900.231254611341,11900.231254611341]
[null,null,null,{"$f":"C53/$B$90","v":0},0,0,0,0,0,0,0,0,0]
[null,null,null,{"$f":"D53/$B$90","v":0},{"$f":"D60","v":0},0,0,0,0,0,0,0,0]
[null,null,null,null,{"$f":"E53/$B$90","v":0},{"$f":"E61","v":0},0,0,0,0,0,0,0,0]
[null,null,null,null,null,{"$f":"F53/$B$90","v":0},{"$f":"F62","v":0},0,0,0,0,0,0,0,0]
[null,null,null,null,null,null,{"$f":"+($G$7/$B$90)","v":0},0,0,0,0,0,0,0,0,0]
[null,null,null,null,null,null,null,{"$f":"H$7/$B$90","v":0},0,0,0,0,0,0,0,0,0]
[null,null,null,null,null,null,null,null,{"$f":"I$7/$B$90","v":0},0,0,0,0,0,0,0,0]
[null,null,null,null,null,null,null,null,null,{"$f":"J$7/$B$90","v":0},0,0,0,0,0,0,0]
[null,null,null,null,null,null,null,null,null,null,{"$f":"K$7/$B$90","v":0},0,0,0,0,0,0]
[null,null,null,null,null,null,null,null,null,null,null,{"$f":"L$7/$B$90","v":0},0,0,0,0,0]
[null,null,null,null,null,null,null,null,null,null,null,null,{"$f":"M$7/$B$90","v":0},{"$f":"M69","v":0},0,0,0]
[null,null,null,null,null,null,null,null,null,null,null,null,null,{"$f":"N$7/$B$90","v":0},{"$f":"N70","v":0},0,0]
[null,null,null,null,null,null,null,null,null,null,null,null,null,null,{"$f":"O$7/$B$90","v":0},{"$f":"O71","v":0},0]
[null,null,null,null,null,null,null,null,null,null,null,null,null,null,null,{"$f":"P$7/$B$90","v":0},{"$f":"P72","v":0}]
[null,null,null,null,null,null,null,null,null,null,null,null,null,null,null,null,{"$f":"Q$7/$B$90","v":0}]
["DEPRECIAÇÃO TOTAL 30A",null,{"$f":"SUM(C58:C73)","v":11900.231254611341},{"$f":"SUM(D58:D73)","v":11900.231254611341},11900.231254611341,11900.231254611341,11900.231254611341,11900.231254611341,11900.231254611341,11900.231254611341,11900.231254611341,11900.231254611341,0,0,0,0,0]
[]
["DEPRECIAÇÃO TOTAL 5A",null,0,0,0,0,{"$f":"G54/5","v":0},{"$f":"G77/5","v":0},{"$f":"H77/5","v":0},0,0,0,0,0,0,0,0]
["Saldo Residual (5Anos)",null,{"$f":"C54-C76","v":0},{"$f":"+C77+D54-D76","v":0},{"$f":"+D77+E54-E76","v":0},0,{"$f":"+F77+G54-G76","v":0},{"$f":"+G77+H54-H76","v":0},0,0,0,0,0,0,0,0,0]
[]
["DEPRECIAÇÃO TOTAL (30A+5A)",null,{"$f":"C74+C76","v":11900.231254611341},{"$f":"D74+D76","v":11900.231254611341},11900.231254611341,11900.231254611341,11900.231254611341,11900.231254611341,11900.231254611341,11900.231254611341,11900.231254611341,11900.231254611341,0,0,0,0,0]
[]
[]
["DEPRECIAÇÃO TOTAL Deflacionada",null,{"$f":"C79/C88","v":11900.231254611341},{"$f":"D79/D88","v":11900.231254611341},11900.231254611341,11900.231254611341,11900.231254611341,11900.231254611341,11900.231254611341,11900.231254611341,11900.231254611341,11900.231254611341,0,0,0,0,0,{"$f":"SUM(C82:Q82)","v":119002.3125461134}]
[]
["RESIDUAL",null,{"$f":"C55-C79","v":107102.08129150207},{"$f":"+C84+D54+D53-D79","v":95201.850036890726},83301.618782279387,71401.387527668048,{"$f":"+F84+G54+G53-G79","v":59501.156273056709},47600.92501844537,35700.693763834031,23800.462509222692,11900.231254611352,0,0,0,0,0,0]
[]
[]
["Inflação",null,{"$f":"[3]Premissas!B110","v":0},{"$f":"[3]Premissas!C110","v":0},{"$f":"[3]Premissas!D110","v":0},{"$f":"[3]Premissas!E110","v":0},{"$f":"[3]Premissas!F110","v":0},{"$f":"[3]Premissas!G110","v":0},{"$f":"[3]Premissas!H110","v":0},{"$f":"[3]Premissas!I110","v":0},{"$f":"[3]Premissas!J110","v":0},{"$f":"[3]Premissas!K110","v":0},{"$f":"[3]Premissas!L110","v":0},{"$f":"[3]Premissas!M110","v":0},{"$f":"[3]Premissas!N110","v":0},{"$f":"[3]Premissas!O110","v":0},{"$f":"[3]Premissas!P110","v":0}]
["Inflação acum",null,{"$f":"(1+C87)","v":1},{"$f":"C88*(1+D87)","v":1},{"$f":"D88*(1+E87)","v":1},1,1,1,1,1,1,1,1,1,1,1,1]
[]
["Depreciação (Anos)",10]
[]
["Fonte:","Consolidado Custeio e Investimento.xls"]

{"sheet":"O&M e G&A","index":9,"n_rows":58,"n_cols":8,"rows_kept":58,"cut":false,"hidden":false,"merged":[]}
[]
[null,"CUSTOS DE O&M E DESPESAS DE G&A"]
[]
[]
[null,"Custos  de Operação e Manutenção e","2020 ","2021 ","2022 ","2023 ","2024 "]
[null,"Despesas Gerais e Administrativas em termos reais (R$ mil) - (a preços de Dez/2019)"]
[null,"1. Salários e Benefícios",{"$f":"+C25+C27","v":228911.49645267986},{"$f":"+D25+D27","v":237632.41621697287},246545.15702082028,255063.78528620367,263876.74919541256]
[null,"2. Manutenção e Operação de Compressores",{"$f":"+C37*$C$32","v":10509.926045361717},{"$f":"+D37*$C$32","v":10408.853990927897},9382.7626670292011,9382.7626670292011,9382.7626670292047]
[null,"3. Manutenção do Sistema de Proteção Catódica",{"$f":"+C38*$C$32","v":3158.314028091555},1233.2828412243957,1233.2828412243957,1233.2828412243957,1233.2828412243957]
[null,"4. Outras Manutenções",25472.400909163629,24479.431135211049,26250.096135181215,25385.795546350444,25008.332550280022]
[null,"5. Conservação e Manutenção da Faixa de Servidão do Duto",21299.70075329805,21529.281097587515,21758.861441876983,22741.302092032987,21758.861441876983]
[null,"6. Combustíveis e Lubrificantes",1609.6948572870454,1609.6948572870422,1609.6948572870422,1609.6948572870422,1609.6948572870422]
[null,"7. Gás de Uso no Sistema / Energia Elétrica para Acionamento dos Compressores",{"$f":"+C42","v":515301.95957038947},{"$f":"+D42","v":499605.53758207912},245185.57869655208,250828.93411614941,257251.730332362]
[null,"8. Serviços de Utilidade Pública (Energia Elétrica, Água e Esgoto etc.) e Comunicação",{"$f":"+C43*$C$32","v":6789.3051826714172},6789.3051826714172,5827.9770192554779,5827.9770192554779,5827.9770192554779]
[null,"9. Aluguéis e Seguros",{"$f":"+C44*$C$32","v":13171.676130940894},13171.676130940894,13171.676130940894,13171.676130940894,13171.676130940894]
[null,"10. Aquisição e Passagem de Pigs de Limpeza e Instrumentados",{"$f":"+C45*$C$32","v":1554.2589308396741},8333.7664977075601,5934.6518998826559,18061.085685252168,21593.179282145578]
[null,"11. Outros Custos e Despesas",{"$f":"+C46*$C$32","v":47233.163229005171},47246.384571223898,47261.494676616749,47261.494676616749,47261.494676616749]
[null,"12. Despesas Gerais e Administrativas (G&A) ",{"$f":"+C47*$C$32","v":57129.257449278462},{"$f":"+D47*$C$32","v":48502.62704269094},48909.595854984902,47624.639258096373,49194.821572709436]
[]
[null,"G&A",{"$f":"+C27+C18","v":161205.50439992151},{"$f":"+D27+D18","v":156487.14521882447},161003.14091675665,163591.24048884248,169168.30080918025]
[null,"O&M",{"$f":"+C25+C8+C9+C10+C11+C12+C13+C14+C15+C16+C17","v":770935.64913908544},{"$f":"(SUM(D7:D18))-D20","v":764055.11192770011},512067.6883248954,534601.1896875964,548002.26175796019]
[null,"TOTAL",{"$f":"C20+C21","v":932141.15353900695},{"$f":"D20+D21","v":920542.25714652461},673070.82924165204,698192.43017643888,717170.56256714044]
[null,null,{"$f":"C22-C13","v":416839.19396861747},{"$f":"D22-D13-D7+$C$7","v":412215.79980015248},{"$f":"E22-E13-E7+$C$7","v":410251.58997695951},421211.20722676563,424953.57949204574," => com salário congelado em 2020"]
[]
[null,"O&M Pessoal",{"$f":"+C54*$C$32","v":124835.24950203682},{"$f":"+D54*$C$32","v":129647.89804083934},134451.61195904852,139097.18405545759,143903.26995894173]
[null,"O&M Gerenciavel",{"$f":"SUM(C8:C17)","v":646100.39963704871},{"$f":"SUM(D8:D17)","v":634407.21388686076},377616.07636584667,395504.00563213875,404098.99179901835]
[null,"G&A Pessoal",{"$f":"+C56*$C$32","v":104076.24695064304},{"$f":"+D56*$C$32","v":107984.51817613354},112093.54506177176,115966.60123074609,119973.47923647083]
[null,"G&A Gerenciavel",{"$f":"+C18","v":57129.257449278462},{"$f":"+D18","v":48502.62704269094},48909.595854984902,47624.639258096373,49194.821572709436]
[]
[]
[]
[null,"IGP-m (31/12/2016 a 31/12/2019)",{"$f":"Premissas!D70","v":1.1479017214473222}]
[]
[null,"Custos  de Operação e Manutenção e",2020,2021,2022,2023,2024]
[null,"Despesas Gerais e Administrativas em termos reais (R$ mil) - (a preços de Dez/2016)"]
[null,"1. Salários e Benefícios",{"$f":"+C54+C56","v":199417.33005161691},{"$f":"+D54+D56","v":207014.60044624383},214778.97664441683,222200.01984543473,229877.47493113414]
[null,"2. Manutenção e Operação de Compressores",9155.7716562271253,9067.7222591878181,8173.8379616671582,8173.8379616671582,{"$f":"8173.83796166716","v":8173.83796166716}]
[null,"3. Manutenção do Sistema de Proteção Catódica",2751.3801652892562,1074.3801652892562,1074.3801652892562,1074.3801652892562,1074.3801652892562]
[null,"4. Outras Manutenções",22190.402221060325,21325.371918030025,22867.895086074095,22114.955550674651,21786.126880921893]
[null,"5. Conservação e Manutenção da Faixa de Servidão do Duto",18555.334795075054,18755.334795075054,18955.334795075058,19811.192602237592,18955.334795075058]
[null,"6. Combustíveis e Lubrificantes",1402.2932688501201,1402.2932688501173,1402.2932688501173,1402.2932688501173,1402.2932688501173]
[null,"7. Gás de Uso no Sistema / Energia Elétrica para Acionamento dos Compressores",515301.95957038947,499605.53758207912,245185.57869655208,250828.93411614941,257251.730332362]
[null,"8. Serviços de Utilidade Pública (Energia Elétrica, Água e Esgoto etc.) e Comunicação",5914.5352392286504,5914.5352392286504,5077.069674490358,5077.069674490358,5077.069674490358]
[null,"9. Aluguéis e Seguros",11474.567800398014,11474.567800398014,11474.567800398014,11474.567800398014,11474.567800398014]
[null,"10. Aquisição e Passagem de Pigs de Limpeza e Instrumentados",1354,7260.0000000000009,5170,15734,18811]
[null,"11. Outros Custos e Despesas",41147.392974941824,41158.910809588902,41172.074049185583,41172.074049185583,41172.074049185583]
[null,"12. Despesas Gerais e Administrativas (G&A) ",49768.422140919451,42253.292365078792,42607.82516583184,41488.429164518762,42856.300895413384]
[]
[null,"G&A",{"$f":"+C56+C47","v":140434.93566388846},{"$f":"+D56+D47","v":136324.51480386229},140258.64576085593,142513.28091274211,147371.76332124133]
[null,"O&M",{"$f":"+C54+C37+C38+C39+C40+C41+C42+C43+C44+C45+C46","v":737998.45422010776},{"$f":"(SUM(D36:D47))-D49","v":729982.03184518719},477681.18754697446,498038.4732861534,510540.42743354558]
[null,"TOTAL",{"$f":"C49+C50","v":878433.38988399622},{"$f":"D49+D50","v":866306.5466490495},617939.83330783038,640551.75419889553,657912.19075478695]
[]
[]
[null,"O&M Pessoal",108750.81652864791,112943.37800746033,117128.15604939275,121175.16809721138,125362.01250530621]
[null,"O&M Gerenciavel",{"$f":"SUM(C37:C46)","v":629247.63769145985},{"$f":"SUM(D37:D46)","v":617038.6538377268},360553.03149758175,376863.30518894212,385178.41492823942]
[null,"G&A Pessoal",90666.513522969006,94071.222438783501,97650.820595024081,101024.85174822334,104515.46242582795]
[null,"G&A Gerenciavel",{"$f":"+C47","v":49768.422140919451},{"$f":"+D47","v":42253.292365078792},42607.82516583184,41488.429164518762,42856.300895413384]
[null,"Fonte: Cenario Bolívia 27 Versão Jun18 V2.xlsx"]

{"sheet":"O&M e G&A_I","index":10,"n_rows":74,"n_cols":9,"rows_kept":74,"cut":false,"hidden":false,"merged":[[3,2,3,6]]}
[]
[null," CUSTOS DE O&M E DESPESAS DE G&A (INCERTEZA)",null,0,"Incerteza de Custos"]
[]
[null,null,"Em R$ mil (a preços de Dez/2019)"]
[null,"Custos  de Operação e Manutenção e","2020 ","2021 ","2022 ","2023 ","2024 "]
[null,"Despesas Gerais e Administrativas (R$ mil)"]
[null,"1. Salários e Benefícios",{"$f":"'O&M e G&A'!C7*(1+$D$2)","v":228911.49645267986},{"$f":"'O&M e G&A'!D7*(1+$D$2)","v":237632.41621697287},{"$f":"'O&M e G&A'!E7*(1+$D$2)","v":246545.15702082028},{"$f":"'O&M e G&A'!F7*(1+$D$2)","v":255063.78528620367},{"$f":"'O&M e G&A'!G7*(1+$D$2)","v":263876.74919541256}]
[null,"2. Manutenção e Operação de Compressores",{"$f":"'O&M e G&A'!C8*(1+$D$2)","v":10509.926045361717},{"$f":"'O&M e G&A'!D8*(1+$D$2)","v":10408.853990927897},{"$f":"'O&M e G&A'!E8*(1+$D$2)","v":9382.7626670292011},{"$f":"'O&M e G&A'!F8*(1+$D$2)","v":9382.7626670292011},{"$f":"'O&M e G&A'!G8*(1+$D$2)","v":9382.7626670292047}]
[null,"3. Manutenção do Sistema de Proteção Catódica",{"$f":"'O&M e G&A'!C9*(1+$D$2)","v":3158.314028091555},{"$f":"'O&M e G&A'!D9*(1+$D$2)","v":1233.2828412243957},{"$f":"'O&M e G&A'!E9*(1+$D$2)","v":1233.2828412243957},{"$f":"'O&M e G&A'!F9*(1+$D$2)","v":1233.2828412243957},{"$f":"'O&M e G&A'!G9*(1+$D$2)","v":1233.2828412243957}]
[null,"4. Outras Manutenções",{"$f":"'O&M e G&A'!C10*(1+$D$2)","v":25472.400909163629},{"$f":"'O&M e G&A'!D10*(1+$D$2)","v":24479.431135211049},{"$f":"'O&M e G&A'!E10*(1+$D$2)","v":26250.096135181215},{"$f":"'O&M e G&A'!F10*(1+$D$2)","v":25385.795546350444},{"$f":"'O&M e G&A'!G10*(1+$D$2)","v":25008.332550280022}]
[null,"5. Conservação e Manutenção da Faixa de Servidão do Duto",{"$f":"'O&M e G&A'!C11*(1+$D$2)","v":21299.70075329805},{"$f":"'O&M e G&A'!D11*(1+$D$2)","v":21529.281097587515},{"$f":"'O&M e G&A'!E11*(1+$D$2)","v":21758.861441876983},{"$f":"'O&M e G&A'!F11*(1+$D$2)","v":22741.302092032987},{"$f":"'O&M e G&A'!G11*(1+$D$2)","v":21758.861441876983}]
[null,"6. Combustíveis e Lubrificantes",{"$f":"'O&M e G&A'!C12*(1+$D$2)","v":1609.6948572870454},{"$f":"'O&M e G&A'!D12*(1+$D$2)","v":1609.6948572870422},{"$f":"'O&M e G&A'!E12*(1+$D$2)","v":1609.6948572870422},{"$f":"'O&M e G&A'!F12*(1+$D$2)","v":1609.6948572870422},{"$f":"'O&M e G&A'!G12*(1+$D$2)","v":1609.6948572870422}]
[null,"7. Gás de Uso no Sistema / Energia Elétrica para Acionamento dos Compressores",{"$f":"'O&M e G&A'!C13*(1+$D$2)","v":515301.95957038947},{"$f":"'O&M e G&A'!D13*(1+$D$2)","v":499605.53758207912},{"$f":"'O&M e G&A'!E13*(1+$D$2)","v":245185.57869655208},{"$f":"'O&M e G&A'!F13*(1+$D$2)","v":250828.93411614941},{"$f":"'O&M e G&A'!G13*(1+$D$2)","v":257251.730332362}]
[null,"8. Serviços de Utilidade Pública (Energia Elétrica, Água e Esgoto etc.) e Comunicação",{"$f":"'O&M e G&A'!C14*(1+$D$2)","v":6789.3051826714172},{"$f":"'O&M e G&A'!D14*(1+$D$2)","v":6789.3051826714172},{"$f":"'O&M e G&A'!E14*(1+$D$2)","v":5827.9770192554779},{"$f":"'O&M e G&A'!F14*(1+$D$2)","v":5827.9770192554779},{"$f":"'O&M e G&A'!G14*(1+$D$2)","v":5827.9770192554779}]
[null,"9. Aluguéis e Seguros",{"$f":"'O&M e G&A'!C15*(1+$D$2)","v":13171.676130940894},{"$f":"'O&M e G&A'!D15*(1+$D$2)","v":13171.676130940894},{"$f":"'O&M e G&A'!E15*(1+$D$2)","v":13171.676130940894},{"$f":"'O&M e G&A'!F15*(1+$D$2)","v":13171.676130940894},{"$f":"'O&M e G&A'!G15*(1+$D$2)","v":13171.676130940894}]
[null,"10. Aquisição e Passagem de Pigs de Limpeza e Instrumentados",{"$f":"'O&M e G&A'!C16*(1+$D$2)","v":1554.2589308396741},{"$f":"'O&M e G&A'!D16*(1+$D$2)","v":8333.7664977075601},{"$f":"'O&M e G&A'!E16*(1+$D$2)","v":5934.6518998826559},{"$f":"'O&M e G&A'!F16*(1+$D$2)","v":18061.085685252168},{"$f":"'O&M e G&A'!G16*(1+$D$2)","v":21593.179282145578}]
[null,"11. Outros Custos e Despesas",{"$f":"'O&M e G&A'!C17*(1+$D$2)","v":47233.163229005171},{"$f":"'O&M e G&A'!D17*(1+$D$2)","v":47246.384571223898},{"$f":"'O&M e G&A'!E17*(1+$D$2)","v":47261.494676616749},{"$f":"'O&M e G&A'!F17*(1+$D$2)","v":47261.494676616749},{"$f":"'O&M e G&A'!G17*(1+$D$2)","v":47261.494676616749}]
[null,"12. Despesas Gerais e Administrativas (G&A) Atribuíveis ao Empreendimento",{"$f":"'O&M e G&A'!C18*(1+$D$2)","v":57129.257449278462},{"$f":"'O&M e G&A'!D18*(1+$D$2)","v":48502.62704269094},{"$f":"'O&M e G&A'!E18*(1+$D$2)","v":48909.595854984902},{"$f":"'O&M e G&A'!F18*(1+$D$2)","v":47624.639258096373},{"$f":"'O&M e G&A'!G18*(1+$D$2)","v":49194.821572709436}]
[]
[null,"G&A",{"$f":"'O&M e G&A'!C20*(1+$D$2)","v":161205.50439992151},{"$f":"'O&M e G&A'!D20*(1+$D$2)","v":156487.14521882447},{"$f":"'O&M e G&A'!E20*(1+$D$2)","v":161003.14091675665},{"$f":"'O&M e G&A'!F20*(1+$D$2)","v":163591.24048884248},{"$f":"'O&M e G&A'!G20*(1+$D$2)","v":169168.30080918025}]
[null,"O&M",{"$f":"'O&M e G&A'!C21*(1+$D$2)","v":770935.64913908544},{"$f":"'O&M e G&A'!D21*(1+$D$2)","v":764055.11192770011},{"$f":"'O&M e G&A'!E21*(1+$D$2)","v":512067.6883248954},{"$f":"'O&M e G&A'!F21*(1+$D$2)","v":534601.1896875964},{"$f":"'O&M e G&A'!G21*(1+$D$2)","v":548002.26175796019}]
[null,"TOTAL",{"$f":"'O&M e G&A'!C22*(1+$D$2)","v":932141.15353900695},{"$f":"'O&M e G&A'!D22*(1+$D$2)","v":920542.25714652461},{"$f":"'O&M e G&A'!E22*(1+$D$2)","v":673070.82924165204},{"$f":"'O&M e G&A'!F22*(1+$D$2)","v":698192.43017643888},{"$f":"'O&M e G&A'!G22*(1+$D$2)","v":717170.56256714044}]
[null,null,{"$f":"+C22-C13","v":416839.19396861747},{"$f":"+D22-D13","v":420936.71956444549},427885.25054509996,447363.49606028944,459918.83223477844]
[]
[null,"Para Cálculo Tarifário Chamada Pública 2019 (SEM GUS):"]
[null,"Custos  de Operação e Manutenção e","2020 ","2021 ","2022 ","2023 ","2024 "," => Revisão de OPEX anos 2023 e 2024, após NT05/2022"]
[null,"Despesas Gerais e Administrativas (R$ mil)"]
[null,"1. Salários e Benefícios",{"$f":"+C62","v":146114.82017859368},{"$f":"+D62","v":151681.96800286768},201957.79480139041,181843.52012779919,181843.52012779919," => os valores desta rubrica foram reduzidos por decisão da ANP, de modo que não haja ganho real nos salários e benefícios a partir de 2021. Isso se reflete nos valores no 'Fluxo de Caixa Regulado'."]
[null,"2. Manutenção e Operação de Compressores",{"$f":"+C8*C$72","v":6317.1363996057135},6256.3856434832569,7511.2009648292269,5143.2824012041219,5143.2824012041219]
[null,"3. Manutenção do Sistema de Proteção Catódica",{"$f":"+C9*C$72","v":1898.348325395456},741.28170775721662,987.28227449080612,1303.9866194194028,1303.9866194194028]
[null,"4. Outras Manutenções",{"$f":"+C10*C$72","v":15310.538844337714},14713.700629142812,21014.039725238152,26165.987174071433,26165.987174071433]
[null,"5. Conservação e Manutenção da Faixa de Servidão do Duto",{"$f":"+C11*C$72","v":12802.479708099359},12940.472149081857,17418.663015970669,13984.45887729943,13984.45887729943]
[null,"6. Combustíveis e Lubrificantes",{"$f":"+C12*C$72","v":967.52935570976661},967.52935570976467,1288.6121064984034,1314.3552775913643,1314.3552775913643]
[null,"7. Gás de Uso no Sistema / Energia Elétrica para Acionamento dos Compressores",null,null,null,0,0," => os valores de GUS são desconsiderados uma vez que serão cobrados através de encargo apartado da tarifa de transporte e, portanto, esse custo não compõe o 'Fluxo de Caixa Regulado'."]
[null,"8. Serviços de Utilidade Pública (Energia Elétrica, Água e Esgoto etc.) e Comunicação",{"$f":"+C14*C$72","v":4080.8057746907989},4080.8057746907989,4665.4816031805822,4580.2925299897342,4580.2925299897342]
[null,"9. Aluguéis e Seguros",{"$f":"+C15*C$72","v":7917.0180999804306},7917.0180999804306,10544.347115460661,8971.7276006335596,8971.7276006335596]
[null,"10. Aquisição e Passagem de Pigs de Limpeza e Instrumentados",{"$f":"+C16*C$72","v":934.2088254515063},5009.1256076646505,4750.8782496401045,5961.9985924758766,5961.9985924758766]
[null,"11. Outros Custos e Despesas",{"$f":"+C17*C$72","v":28390.145983391405},28398.092853980321,37834.334834206493,20138.879953769945,20138.879953769945]
[null,"12. Despesas Gerais e Administrativas (G&A) ",{"$f":"+C54","v":40373.924699468043},{"$f":"+D54","v":31623.115374550402},40700.773547472607,21362.491031150759,21362.491031150759]
[]
[null,"G&A",{"$f":"+C56+C39","v":106244.64795060769},{"$f":"+D56+D39","v":99967.416025216837},132220.01506787125,{"$f":"+(F28*45%)+F39","v":103192.07508866039},{"$f":"+(G28*45%)+G39","v":103192.07508866039}]
[null,"O&M",{"$f":"+C59+C29+C30+C31+C32+C33+C35+C36+C37+C38","v":158862.3082441162},{"$f":"+D59+D29+D30+D31+D32+D33+D35+D36+D37+D38","v":164362.07917369233},216453.39317050687,{"$f":"+(F28*55%)+F29+F30+F31+F32+F33+F35+F36+F37+F38","v":187578.90509674442},{"$f":"+(G28*55%)+G29+G30+G31+G32+G33+G35+G36+G37+G38","v":187578.90509674442}]
[null,"TOTAL",{"$f":"SUM(C41:C42)","v":265106.9561947239},{"$f":"SUM(D41:D42)","v":264329.49519890919},348673.40823837812,{"$f":"SUM(F41:F42)","v":290770.98018540483},290770.98018540483]
[]
[]
[null,null,2020,2021,2022,2023,2024]
[null,"Total G&A Gerenciável",{"$f":"+C18","v":57129.257449278462},{"$f":"+D18","v":48502.62704269094},48909.595854984902,47624.639258096373,49194.821572709436]
[null,"A ser rateado ",{"$f":"+C47-C49","v":42000.034092858128},{"$f":"+D47-D49","v":42311.309248138961},41153.562501661581,47624.639258096373,49194.821572709436]
[null,"Incremental Nova Modalidade",{"$f":"(SUM(C50:C52))*('O&M e G&A'!$C$32)*(1+$D$2)","v":15129.223356420334},{"$f":"(SUM(D50:D52))*('O&M e G&A'!$C$32)*(1+$D$2)","v":6191.317794551981},{"$f":"(SUM(E50:E52))*('O&M e G&A'!$C$32)*(1+$D$2)","v":7756.033353323317},{"$f":"(SUM(F50:F52))*('O&M e G&A'!$C$32)*(1+$D$2)","v":0},{"$f":"(SUM(G50:G52))*('O&M e G&A'!$C$32)*(1+$D$2)","v":0}," => Sem consideração de custos exclusivos após a Revisão de OPEX anos 2023 e 2024, após NT05/2022"]
[null,"TIC",1380.2273008333329,2113.9287049926802,3477.0380457457181]
[null,"Infraestrutura",3279.6669999999999,3279.6669999999999,3279.6669999999999]
[null,"Gestão de Mudança",8520]
[null,"Rateado Novos Contratos",{"$f":"+C48*C72","v":25244.701343047705},{"$f":"+D48*D72","v":25431.79757999842},32944.740194149294,38125.043661401614,39382.024716450906]
[null,"Total G&A Novos Contratos",{"$f":"+C49+C53","v":40373.924699468043},{"$f":"+D49+D53","v":31623.115374550402},40700.773547472607,38125.043661401614,39382.024716450906]
[]
[null,"Total G&A Pessoal",{"$f":"+(((C57*'O&M e G&A'!$C$32)*C72)+((C58*'O&M e G&A'!$C$32)-(C57*'O&M e G&A'!$C$32)))*(1+$D$2)","v":65870.723251139643},{"$f":"+(((D57*'O&M e G&A'!$C$32)*D72)+((D58*'O&M e G&A'!$C$32)-(D57*'O&M e G&A'!$C$32)))*(1+$D$2)","v":68344.300650666439},{"$f":"+(((E57*'O&M e G&A'!$C$32)*E72)+((E58*'O&M e G&A'!$C$32)-(E57*'O&M e G&A'!$C$32)))*(1+$D$2)","v":91519.24152039866},{"$f":"+(((F57*'O&M e G&A'!$C$32)*F72)+((F58*'O&M e G&A'!$C$32)-(F57*'O&M e G&A'!$C$32)))*(1+$D$2)","v":94681.414353411485},{"$f":"+(((G57*'O&M e G&A'!$C$32)*G72)+((G58*'O&M e G&A'!$C$32)-(G57*'O&M e G&A'!$C$32)))*(1+$D$2)","v":97952.846582150538},{"$f":"(H57+H58)*('O&M e G&A'!C32)","v":19102.761849751678}]
[null,"A ser rateado (incremento original)",83429.191672732646,86562.124678427121,89855.986646690624,92960.690697307058,96172.668482280424,{"$f":"C57*(6/30.08)","v":16641.461104933376}]
[null,"Incremental Nova Modalidade",90666.513522968962,94071.222438783501,97650.820595024081,101024.85174822334,104515.46242582795,0]
[null,"Total O&M Pessoal",{"$f":"+(((C60*'O&M e G&A'!$C$32)*C72)+((C61*'O&M e G&A'!$C$32)-(C60*'O&M e G&A'!$C$32)))*(1+$D$2)","v":80244.09692745404},{"$f":"+(((D60*'O&M e G&A'!$C$32)*D72)+((D61*'O&M e G&A'!$C$32)-(D60*'O&M e G&A'!$C$32)))*(1+$D$2)","v":83337.667352201242},{"$f":"+(((E60*'O&M e G&A'!$C$32)*E72)+((E61*'O&M e G&A'!$C$32)-(E60*'O&M e G&A'!$C$32)))*(1+$D$2)","v":110438.55328099175},{"$f":"+(((F60*'O&M e G&A'!$C$32)*F72)+((F61*'O&M e G&A'!$C$32)-(F60*'O&M e G&A'!$C$32)))*(1+$D$2)","v":114254.42617395661},{"$f":"+(((G60*'O&M e G&A'!$C$32)*G72)+((G61*'O&M e G&A'!$C$32)-(G60*'O&M e G&A'!$C$32)))*(1+$D$2)","v":118202.14510711913},{"$f":"(H60+H61)*('O&M e G&A'!C32)","v":22295.576287291398}]
[null,"A ser rateado ",97373.45427622796,101127.3956854851,104874.36795042371,108497.98711184673,112246.80956253526,{"$f":"C60*(6/30.08)","v":19422.896464673133}]
[null,"Incremental Nova Modalidade",108750.81652864791,112943.37800746033,117128.15604939275,121175.16809721138,125362.01250530621,0]
[null,"Total Pessoal Novos Contratos",{"$f":"+C56+C59","v":146114.82017859368},{"$f":"+D56+D59","v":151681.96800286768},201957.79480139041,208935.8405273681,216154.99168926966,{"$f":"H56+H59","v":41398.338137043072},"Custo de Pessoal TCX"]
[null,null,{"$f":"C58-C57+C61-C60","v":18614.684102656262},{"$f":"D58-D57+D61-D60","v":19325.080082331609},20048.622047302502,20741.342036280941,{"$f":"G58-G57+G61-G60","v":21457.996886318491}]
[null,"Fontes: V:\\PRES\\GEPR\\Interno\\ESTRATÉGIA\\Condições Tarifárias - Pós 2019\\Dados para Definição Tarifa\\DITs e Despachos\\Dados Finais Maio_2018\\Custo de Pessoal\\06jun18"]
[null,"Projeção DespPessoal_CálcTarifChamPúbl2019_V02_Cenário Base 2019_325.xlsx"]
[null,"Projeção DespPessoal_CálcTarifChamPúbl2019_V02_Cenário Base 2020_393.xlsx"]
[]
[null,"Volume em m3 / dia",2020,2021,2022,2023,2024]
[null,"Contrato 1 "]
[null,"Capacidade Contratada",{"$f":"+'Contratos Originais'!C5/1000","v":18080},{"$f":"+'Contratos Originais'!D5/1000","v":18080},{"$f":"+'Contratos Originais'!E5/1000","v":18080},{"$f":"+'Contratos Originais'!F5/1000","v":18080},{"$f":"+'Contratos Originais'!G5/1000","v":18080}]
[null,"TOTAL NOVO",{"$f":"+'Investimento e Depreciação'!F110","v":18080},{"$f":"+'Investimento e Depreciação'!G110","v":18080},{"$f":"+'Investimento e Depreciação'!H110","v":24080},{"$f":"+'Investimento e Depreciação'!I110","v":24080},{"$f":"+'Investimento e Depreciação'!J110","v":24080}]
[null,"% NOVO",{"$f":"+'Investimento e Depreciação'!F111","v":0.60106382978723405},{"$f":"+'Investimento e Depreciação'!G111","v":0.60106382978723405},{"$f":"+'Investimento e Depreciação'!H111","v":0.80053191489361697},{"$f":"+'Investimento e Depreciação'!I111","v":0.80053191489361697},{"$f":"+'Investimento e Depreciação'!J111","v":0.80053191489361697}]
[null,null,{"$f":"+C71/C74","v":0.60106382978723405},{"$f":"+D71/D74","v":0.60106382978723405},0.80053191489361697,0.80053191489361697,0.80053191489361697]
[null,"capacidade total",30080,{"$f":"C74","v":30080},{"$f":"D74","v":30080},30080,30080]

{"sheet":"O&M e G&A_Adicional","index":11,"n_rows":74,"n_cols":8,"rows_kept":74,"cut":false,"hidden":false,"merged":[[3,2,3,6]]}
[]
[null," CUSTOS DE O&M E DESPESAS DE G&A (INCERTEZA)",null,0,"Incerteza de Custos"]
[]
[null,null,"Em R$ mil (a preços de Dez/2019)"]
[null,"Custos  de Operação e Manutenção e",2020,{"$f":"C5+1","v":2021},{"$f":"D5+1","v":2022},2023,2024]
[null,"Despesas Gerais e Administrativas (R$ mil)"]
[null,"1. Salários e Benefícios"]
[null,"2. Manutenção e Operação de Compressores",null,null,null,null,{"$f":"+(2120*5.38)/(1+'Inflação 2021  '!C16)","v":8699.4793999227732},"Opex Adicional => ajuste para base dez/2019"]
[null,"3. Manutenção do Sistema de Proteção Catódica"]
[null,"4. Outras Manutenções"]
[null,"5. Conservação e Manutenção da Faixa de Servidão do Duto"]
[null,"6. Combustíveis e Lubrificantes"]
[null,"7. Gás de Uso no Sistema / Energia Elétrica para Acionamento dos Compressores"]
[null,"8. Serviços de Utilidade Pública (Energia Elétrica, Água e Esgoto etc.) e Comunicação"]
[null,"9. Aluguéis e Seguros"]
[null,"10. Aquisição e Passagem de Pigs de Limpeza e Instrumentados"]
[null,"11. Outros Custos e Despesas"]
[null,"12. Despesas Gerais e Administrativas (G&A) Atribuíveis ao Empreendimento"]
[]
[null,"G&A"]
[null,"O&M",{"$f":"+C38+C8+C9+C10+C11+C12+C14+C15+C16+C17+C7","v":0},{"$f":"+D38+D8+D9+D10+D11+D12+D14+D15+D16+D17+D7","v":0},0,0,8699.4793999227732]
[null,"TOTAL",{"$f":"SUM(C21)","v":0},{"$f":"SUM(D21)","v":0},0,0,8699.4793999227732]
[null,null,{"$f":"+C22-C13","v":0},{"$f":"+D22-D13","v":0},0,0,8699.4793999227732]
[]
[]
[null,"Custos  de Operação e Manutenção e",{"$f":"C5","v":2020},{"$f":"D5","v":2021},2022,2023,2024]
[null,"Despesas Gerais e Administrativas (R$ mil)"]
[null,"1. Salários e Benefícios",{"$f":"C7+(+C7*$D$2)","v":0},{"$f":"D7+(+D7*$D$2)","v":0},0,0,0]
[null,"2. Manutenção e Operação de Compressores",{"$f":"C8+(+C8*$D$2)","v":0},0,0,0,8699.4793999227732]
[null,"3. Manutenção do Sistema de Proteção Catódica",0,0,0,0,0]
[null,"4. Outras Manutenções",0,0,0,0,0]
[null,"5. Conservação e Manutenção da Faixa de Servidão do Duto",0,0,0,0,0]
[null,"6. Combustíveis e Lubrificantes",0,0,0,0,0]
[null,"7. Gás de Uso no Sistema / Energia Elétrica para Acionamento dos Compressores",0,0,0,0,0]
[null,"8. Serviços de Utilidade Pública (Energia Elétrica, Água e Esgoto etc.) e Comunicação",0,0,0,0,0]
[null,"9. Aluguéis e Seguros",0,0,0,0,0]
[null,"10. Aquisição e Passagem de Pigs de Limpeza e Instrumentados",0,0,0,0,0]
[null,"11. Outros Custos e Despesas",0,0,0,0,0]
[null,"12. Despesas Gerais e Administrativas (G&A) ",0,0,0,0,0]
[]
[null,"G&A",{"$f":"+C56+C39","v":0},{"$f":"+D56+D39","v":0},0,0,0]
[null,"O&M",{"$f":"+C59+C29+C30+C31+C32+C33+C35+C36+C37+C38+C28","v":0},{"$f":"+D59+D29+D30+D31+D32+D33+D35+D36+D37+D38+D28","v":0},0,0,8699.4793999227732]
[null,"TOTAL",{"$f":"SUM(C41:C42)","v":0},{"$f":"SUM(D41:D42)","v":0},0,0,8699.4793999227732]
[]
[]
[null,null,{"$f":"C26","v":2020},{"$f":"D26","v":2021},2022,2023,2024]
[null,"Total G&A Gerenciável",{"$f":"+C18","v":0},{"$f":"+D18","v":0},0,0,0]
[null,"A ser rateado ",{"$f":"+C47-C49","v":0},{"$f":"+D47-D49","v":0},0,0,0]
[null,"Incremental Nova Modalidade",{"$f":"(SUM(C50:C52))*('[4]O&M e G&A'!$C$32)*(1+$D$2)","v":0},{"$f":"(SUM(D50:D52))*('[4]O&M e G&A'!$C$32)*(1+$D$2)","v":0},{"$f":"(SUM(E50:E52))*('[4]O&M e G&A'!$C$32)*(1+$D$2)","v":0},{"$f":"(SUM(F50:F52))*('[4]O&M e G&A'!$C$32)*(1+$D$2)","v":0},{"$f":"(SUM(G50:G52))*('[4]O&M e G&A'!$C$32)*(1+$D$2)","v":0}]
[null,"TIC"]
[null,"Infraestrutura"]
[null,"Gestão de Mudança"]
[null,"Rateado Novos Contratos",{"$f":"+C48*C72","v":0},0,0,0,0]
[null,"Total G&A Novos Contratos",{"$f":"+C49+C53","v":0},{"$f":"+D49+D53","v":0},0,0,0]
[]
[null,"Total G&A Pessoal",{"$f":"+(((C57*'[4]O&M e G&A'!$C$32)*C72)+((C58*'[4]O&M e G&A'!$C$32)-(C57*'[4]O&M e G&A'!$C$32)))*(1+$D$2)","v":0},{"$f":"+(((D57*'[4]O&M e G&A'!$C$32)*D72)+((D58*'[4]O&M e G&A'!$C$32)-(D57*'[4]O&M e G&A'!$C$32)))*(1+$D$2)","v":0},{"$f":"+(((E57*'[4]O&M e G&A'!$C$32)*E72)+((E58*'[4]O&M e G&A'!$C$32)-(E57*'[4]O&M e G&A'!$C$32)))*(1+$D$2)","v":0},{"$f":"+(((F57*'[4]O&M e G&A'!$C$32)*F72)+((F58*'[4]O&M e G&A'!$C$32)-(F57*'[4]O&M e G&A'!$C$32)))*(1+$D$2)","v":0},{"$f":"+(((G57*'[4]O&M e G&A'!$C$32)*G72)+((G58*'[4]O&M e G&A'!$C$32)-(G57*'[4]O&M e G&A'!$C$32)))*(1+$D$2)","v":0}]
[null,"A ser rateado (incremento original)"]
[null,"Incremental Nova Modalidade"]
[null,"Total O&M Pessoal",{"$f":"+(((C60*'[4]O&M e G&A'!$C$32)*C72)+((C61*'[4]O&M e G&A'!$C$32)-(C60*'[4]O&M e G&A'!$C$32)))*(1+$D$2)","v":0},{"$f":"+(((D60*'[4]O&M e G&A'!$C$32)*D72)+((D61*'[4]O&M e G&A'!$C$32)-(D60*'[4]O&M e G&A'!$C$32)))*(1+$D$2)","v":0},{"$f":"+(((E60*'[4]O&M e G&A'!$C$32)*E72)+((E61*'[4]O&M e G&A'!$C$32)-(E60*'[4]O&M e G&A'!$C$32)))*(1+$D$2)","v":0},{"$f":"+(((F60*'[4]O&M e G&A'!$C$32)*F72)+((F61*'[4]O&M e G&A'!$C$32)-(F60*'[4]O&M e G&A'!$C$32)))*(1+$D$2)","v":0},{"$f":"+(((G60*'[4]O&M e G&A'!$C$32)*G72)+((G61*'[4]O&M e G&A'!$C$32)-(G60*'[4]O&M e G&A'!$C$32)))*(1+$D$2)","v":0}]
[null,"A ser rateado "]
[null,"Incremental Nova Modalidade"]
[null,"Total Pessoal Novos Contratos",{"$f":"+C56+C59","v":0},{"$f":"+D56+D59","v":0},0,0,0]
[]
[null,"Fontes: V:\\PRES\\GEPR\\Interno\\ESTRATÉGIA\\Condições Tarifárias - Pós 2019\\Dados para Definição Tarifa\\DITs e Despachos\\Dados Finais Maio_2018\\Custo de Pessoal\\06jun18"]
[null,"Projeção DespPessoal_CálcTarifChamPúbl2019_V02_Cenário Base 2019_325.xlsx"]
[null,"Projeção DespPessoal_CálcTarifChamPúbl2019_V02_Cenário Base 2020_393.xlsx"]
[]
[null,"Volume em m3 / dia",{"$f":"C46","v":2020},{"$f":"D46","v":2021},2022,2023,2024]
[null,"Contrato 1 "]
[null,"Capacidade Contratada"]
[null,"TOTAL NOVO"]
[null,"% NOVO",{"$f":"C73","v":1},{"$f":"D73","v":1},1,1,1]
[null,null,1,1,1,1,1]
[null,"capacidade total"]

{"sheet":"Fluxo de Caixa Regulado","index":12,"n_rows":72,"n_cols":7,"rows_kept":72,"cut":false,"hidden":false,"merged":[]}
[]
[null,"CÁLCULO TARIFÁRIO"]
[]
[null,"Fluxo de Caixa Livre da Chamada Pública (em R$ mil) - em termos reais a preços de Dez/2019","2020 ","2021 ","2022 ","2023 ","2024 "]
[]
[null,"Receita Bruta da Prestação de Serviço de Transporte",{"$f":"C12/(1-Premissas!B10-Premissas!B11-Premissas!B12)","v":1173731.5448457738},{"$f":"D12/(1-Premissas!C10-Premissas!C11-Premissas!C12)","v":818380.30527308804},{"$f":"E12/(1-Premissas!D10-Premissas!D11-Premissas!D12)","v":1671136.1634413127},{"$f":"F12/(1-Premissas!E10-Premissas!E11-Premissas!E12)","v":1479471.1799495851},{"$f":"G12/(1-Premissas!F10-Premissas!F11-Premissas!F12)","v":1567889.3556906199}]
[null,"(-) ICMS",{"$f":"C6*Premissas!B$10","v":142508.20596614253},{"$f":"D6*Premissas!C$10","v":112447.54781374776},{"$f":"E6*Premissas!D$10","v":231678.93863961296},{"$f":"F6*Premissas!E$10","v":197198.17222837292},{"$f":"G6*Premissas!F$10","v":213432.01535145799}]
[null,"(-) PIS ",{"$f":"C6*Premissas!B$11","v":19366.570489955269},{"$f":"D6*Premissas!C$11","v":13503.275037005953},{"$f":"E6*Premissas!D$11","v":27573.746696781662},{"$f":"F6*Premissas!E$11","v":24411.274469168155},{"$f":"G6*Premissas!F$11","v":25870.17436889523}]
[null,"(-) COFINS",{"$f":"C6*Premissas!B$12","v":89203.597408278816},{"$f":"D6*Premissas!C$12","v":62196.903200754692},{"$f":"E6*Premissas!D$12","v":127006.34842153976},{"$f":"F6*Premissas!E$12","v":112439.80967616847},{"$f":"G6*Premissas!F$12","v":119159.59103248711}]
[null,"(-) Demais Impostos e Contribuições sobre a Prestação de Serviço de Transporte",0,0,0,0,0]
[null,"(-) Deduções e Abatimentos",0,0,0,0,0]
[null,"Receita Operacional Líquida",922653.17098139727,630232.57922157971,1284877.1296833784,{"$f":"($E$41*F49)","v":1145421.9235758758},{"$f":"($E$41*G49)","v":1209427.5749377797}]
[null,"(-) Salários e Benefícios",{"$f":"+'O&M e G&A_I'!C28+'O&M e G&A_Adicional'!C28","v":146114.82017859368},{"$f":"+C13","v":146114.82017859368},{"$f":"+D13+'O&M e G&A_I'!H62","v":187513.15831563674},{"$f":"+'O&M e G&A_I'!F28+'O&M e G&A_Adicional'!F28","v":181843.52012779919},{"$f":"+'O&M e G&A_I'!G28+'O&M e G&A_Adicional'!G28","v":181843.52012779919}]
[null,"(-) Manutenção e Operação de Compressores",{"$f":"+'O&M e G&A_I'!C29+'O&M e G&A_Adicional'!C29","v":6317.1363996057135},{"$f":"+'O&M e G&A_I'!D29+'O&M e G&A_Adicional'!D29","v":6256.3856434832569},{"$f":"+'O&M e G&A_I'!E29+'O&M e G&A_Adicional'!E29","v":7511.2009648292269},{"$f":"+'O&M e G&A_I'!F29+'O&M e G&A_Adicional'!F29","v":5143.2824012041219},{"$f":"+'O&M e G&A_I'!G29+'O&M e G&A_Adicional'!G29","v":13842.761801126895}]
[null,"(-) Manutenção do Sistema de Proteção Catódica",{"$f":"+'O&M e G&A_I'!C30+'O&M e G&A_Adicional'!C30","v":1898.348325395456},{"$f":"+'O&M e G&A_I'!D30+'O&M e G&A_Adicional'!D30","v":741.28170775721662},{"$f":"+'O&M e G&A_I'!E30+'O&M e G&A_Adicional'!E30","v":987.28227449080612},{"$f":"+'O&M e G&A_I'!F30+'O&M e G&A_Adicional'!F30","v":1303.9866194194028},{"$f":"+'O&M e G&A_I'!G30+'O&M e G&A_Adicional'!G30","v":1303.9866194194028}]
[null,"(-) Outras Manutenções",{"$f":"+'O&M e G&A_I'!C31+'O&M e G&A_Adicional'!C31","v":15310.538844337714},{"$f":"+'O&M e G&A_I'!D31+'O&M e G&A_Adicional'!D31","v":14713.700629142812},{"$f":"+'O&M e G&A_I'!E31+'O&M e G&A_Adicional'!E31","v":21014.039725238152},{"$f":"+'O&M e G&A_I'!F31+'O&M e G&A_Adicional'!F31","v":26165.987174071433},{"$f":"+'O&M e G&A_I'!G31+'O&M e G&A_Adicional'!G31","v":26165.987174071433}]
[null,"(-) Conservação e Manutenção da Faixa de Servidão do Duto",{"$f":"+'O&M e G&A_I'!C32+'O&M e G&A_Adicional'!C32","v":12802.479708099359},{"$f":"+'O&M e G&A_I'!D32+'O&M e G&A_Adicional'!D32","v":12940.472149081857},{"$f":"+'O&M e G&A_I'!E32+'O&M e G&A_Adicional'!E32","v":17418.663015970669},{"$f":"+'O&M e G&A_I'!F32+'O&M e G&A_Adicional'!F32","v":13984.45887729943},{"$f":"+'O&M e G&A_I'!G32+'O&M e G&A_Adicional'!G32","v":13984.45887729943}]
[null,"(-) Combustíveis e Lubrificantes",{"$f":"+'O&M e G&A_I'!C33+'O&M e G&A_Adicional'!C33","v":967.52935570976661},{"$f":"+'O&M e G&A_I'!D33+'O&M e G&A_Adicional'!D33","v":967.52935570976467},{"$f":"+'O&M e G&A_I'!E33+'O&M e G&A_Adicional'!E33","v":1288.6121064984034},{"$f":"+'O&M e G&A_I'!F33+'O&M e G&A_Adicional'!F33","v":1314.3552775913643},{"$f":"+'O&M e G&A_I'!G33+'O&M e G&A_Adicional'!G33","v":1314.3552775913643}]
[null,"(-) Gás de Uso no Sistema / Energia Elétrica para Acionamento dos Compressores",{"$f":"+'O&M e G&A_I'!C34+'O&M e G&A_Adicional'!C34","v":0},{"$f":"+'O&M e G&A_I'!D34+'O&M e G&A_Adicional'!D34","v":0},{"$f":"+'O&M e G&A_I'!E34+'O&M e G&A_Adicional'!E34","v":0},{"$f":"+'O&M e G&A_I'!F34+'O&M e G&A_Adicional'!F34","v":0},{"$f":"+'O&M e G&A_I'!G34+'O&M e G&A_Adicional'!G34","v":0}]
[null,"(-) Serviços de Utilidade Pública (Energia Elétrica, Água e Esgoto etc.) e Comunicação",{"$f":"+'O&M e G&A_I'!C35+'O&M e G&A_Adicional'!C35","v":4080.8057746907989},{"$f":"+'O&M e G&A_I'!D35+'O&M e G&A_Adicional'!D35","v":4080.8057746907989},{"$f":"+'O&M e G&A_I'!E35+'O&M e G&A_Adicional'!E35","v":4665.4816031805822},{"$f":"+'O&M e G&A_I'!F35+'O&M e G&A_Adicional'!F35","v":4580.2925299897342},{"$f":"+'O&M e G&A_I'!G35+'O&M e G&A_Adicional'!G35","v":4580.2925299897342}]
[null,"(-) Aluguéis e Seguros",{"$f":"+'O&M e G&A_I'!C36+'O&M e G&A_Adicional'!C36","v":7917.0180999804306},{"$f":"+'O&M e G&A_I'!D36+'O&M e G&A_Adicional'!D36","v":7917.0180999804306},{"$f":"+'O&M e G&A_I'!E36+'O&M e G&A_Adicional'!E36","v":10544.347115460661},{"$f":"+'O&M e G&A_I'!F36+'O&M e G&A_Adicional'!F36","v":8971.7276006335596},{"$f":"+'O&M e G&A_I'!G36+'O&M e G&A_Adicional'!G36","v":8971.7276006335596}]
[null,"(-) Aquisição e Passagem de Pigs de Limpeza e Instrumentados",{"$f":"+'O&M e G&A_I'!C37+'O&M e G&A_Adicional'!C37","v":934.2088254515063},{"$f":"+'O&M e G&A_I'!D37+'O&M e G&A_Adicional'!D37","v":5009.1256076646505},{"$f":"+'O&M e G&A_I'!E37+'O&M e G&A_Adicional'!E37","v":4750.8782496401045},{"$f":"+'O&M e G&A_I'!F37+'O&M e G&A_Adicional'!F37","v":5961.9985924758766},{"$f":"+'O&M e G&A_I'!G37+'O&M e G&A_Adicional'!G37","v":5961.9985924758766}]
[null,"(-) Outros Custos e Despesas",{"$f":"+'O&M e G&A_I'!C38+'O&M e G&A_Adicional'!C38","v":28390.145983391405},{"$f":"+'O&M e G&A_I'!D38+'O&M e G&A_Adicional'!D38","v":28398.092853980321},{"$f":"+'O&M e G&A_I'!E38+'O&M e G&A_Adicional'!E38","v":37834.334834206493},{"$f":"+'O&M e G&A_I'!F38+'O&M e G&A_Adicional'!F38","v":20138.879953769945},{"$f":"+'O&M e G&A_I'!G38+'O&M e G&A_Adicional'!G38","v":20138.879953769945}]
[null,"(-) Despesas Gerais e Administrativas (G&A) Atribuíveis ao Empreendimento",{"$f":"+'O&M e G&A_I'!C39+'O&M e G&A_Adicional'!C39","v":40373.924699468043},{"$f":"+'O&M e G&A_I'!D39+'O&M e G&A_Adicional'!D39","v":31623.115374550402},{"$f":"+'O&M e G&A_I'!E39+'O&M e G&A_Adicional'!E39","v":40700.773547472607},{"$f":"+'O&M e G&A_I'!F39+'O&M e G&A_Adicional'!F39","v":21362.491031150759},{"$f":"+'O&M e G&A_I'!G39+'O&M e G&A_Adicional'!G39","v":21362.491031150759}]
[null,"EBITDAa",{"$f":"C12-SUM(C13:C24)","v":657546.21478667343},{"$f":"D12-SUM(D13:D24)","v":371470.23184694455},950648.35793075396,854650.94339047116,909957.11535245215]
[null,"(-) Depreciação e Amortização Fiscal",{"$f":"'Investimento e Depreciação'!F56","v":106306.50323847892},{"$f":"'Investimento e Depreciação'!G56","v":108994.7324261692},{"$f":"'Investimento e Depreciação'!H56","v":155747.02683416422},{"$f":"'Investimento e Depreciação'!I56","v":157692.23747392488},{"$f":"'Investimento e Depreciação'!J56+'Investimento Adicional'!C12","v":169666.07349843974}]
[null,"(+) Crédito PIS/COFINS (O&M e Conservação e Manutenção da Faixa de Servidão)",{"$f":"(C14+C15+C16+C17)*(Premissas!B$11+Premissas!B$12)","v":3360.3865531630372},{"$f":"(D14+D15+D16+D17)*(Premissas!C$11+Premissas!C$12)","v":3205.2952119755255},{"$f":"(E14+E15+E16+E17)*(Premissas!D$11+Premissas!D$12)","v":4341.1347031989189},{"$f":"(F14+F15+F16+F17)*(Premissas!E$11+Premissas!E$12)","v":4310.288644159481},{"$f":"(G14+G15+G16+G17)*(Premissas!F$11+Premissas!F$12)","v":5114.9904886523373}]
[null,"Lucro Antes de IRPJ e CSLL",{"$f":"C25-C26+C27","v":554600.09810135758},{"$f":"D25-D26+D27","v":265680.79463275085},799242.46579978871,701268.99456070573,745406.03234266478]
[null,"Prejuízos Acumulados",{"$f":"MIN(0,C28)","v":0},{"$f":"MIN(0,D28)","v":0},0,0,0]
["","Benefício Fiscal decorrente de Prejuízos Acumulados",0,0,0,0,0]
[null,"(-) IRPJ",{"$f":"IF(C28<0,0,(C28-C30)*Premissas!B$8)","v":138650.0245253394},{"$f":"IF(D28<0,0,(D28-D30)*Premissas!C$8)","v":66420.198658187714},{"$f":"IF(E28<0,0,(E28-E30)*Premissas!D$8)","v":199810.61644994718},{"$f":"IF(F28<0,0,(F28-F30)*Premissas!E$8)","v":175317.24864017643},{"$f":"IF(G28<0,0,(G28-G30)*Premissas!F$8)","v":186351.5080856662}]
[null,"(-) CSLL",{"$f":"IF(C28<0,0,(C28-C30)*Premissas!B$9)","v":49914.008829122184},{"$f":"IF(D28<0,0,(D28-D30)*Premissas!C$9)","v":23911.271516947578},{"$f":"IF(E28<0,0,(E28-E30)*Premissas!D$9)","v":71931.821921980983},{"$f":"IF(F28<0,0,(F28-F30)*Premissas!E$9)","v":63114.209510463515},{"$f":"IF(G28<0,0,(G28-G30)*Premissas!F$9)","v":67086.542910839824}]
[null,"Lucro (Prejuízo) após IRPJ/CSLL (1)",{"$f":"C25-C31-C32-C35","v":197681.3230301484},{"$f":"D25-D31-D32-D35","v":13495.610819116468},319988.47940614738,263171.08111348882,299010.5229224895]
[null,"Investimentos (2)",{"$f":"'Investimento e Depreciação'!F89-'Investimento e Depreciação'!F88","v":161120.02107907413},{"$f":"'Investimento e Depreciação'!G89-'Investimento e Depreciação'!G88","v":79404.98340729608},{"$f":"'Investimento e Depreciação'!H89-'Investimento e Depreciação'!H88+Premissas!C52","v":870805.2230287625},{"$f":"'Investimento e Depreciação'!I89-'Investimento e Depreciação'!I88+'Investimento Adicional'!B53","v":194222.91942872159},{"$f":"'Investimento e Depreciação'!J89-'Investimento e Depreciação'!J88","v":75518.049939055447}]
[null,"Depreciação ou Amortização Contábil (3)",{"$f":"'Investimento e Depreciação'!F78","v":271300.85840206349},{"$f":"'Investimento e Depreciação'!G78","v":267643.15085269278},{"$f":"'Investimento e Depreciação'!H78","v":358917.44015267852},{"$f":"'Investimento e Depreciação'!I78","v":353048.40412634244},{"$f":"'Investimento e Depreciação'!J78+'Investimento Adicional'!C12","v":357508.54143345664}]
[null,"Valor Residual (4)",null,null,null,null,{"$f":"+'Investimento e Depreciação'!J90+'Investimento Adicional'!C38","v":2155779.2509615216}]
[null,"Variação da Necessidade Líquida de Capital de Giro (5)",{"$f":"C13/12+SUM(C14:C23)/8+C24/6","v":28732.498879376912},{"$f":"D13/12+SUM(D14:D23)/8+D24/6-SUM($C$37:C37)","v":-1157.6931577159812},{"$f":"E13/12+SUM(E14:E23)/8+E24/6-SUM($C$37:D37)","v":8086.6080487436193},{"$f":"F13/12+SUM(F14:F23)/8+F24/6-SUM($C$37:E37)","v":-6001.750792922634},{"$f":"G13/12+SUM(G14:G23)/8+G24/6-SUM($C$37:F37)","v":1087.4349249903462}]
[null,"Fluxo de Caixa Livre da Firma = (1) - (2) + (3) + (4) - (5)",{"$f":"C33-C34+C35+C36-C37","v":279129.66147376085},{"$f":"D33-D34+D35+D36-D37","v":202891.47142222917},{"$f":"E33-E34+E35+E36-E37","v":-199985.91151868022},{"$f":"F33-F34+F35+F36-F37","v":427998.3166040323},2735692.8304534219]
[null,"Valor Presente Líquido do Fluxo de Caixa Livre da Firma",{"$f":"-'Investimento e Depreciação'!F88+NPV(C42,C38:G38)","v":0}]
[null,"Tarifa de Transporte Máxima","R$/Mil m3","R$/Mil m3/km","R$/MMBtu","US$/MMBtu"]
[null,null,181.60903897727707,null,{"$f":"C41/(F52*1000)","v":4.8685905729912671},{"$f":"E41/Premissas!$B$66","v":1.2812080455240178}]
[null,"Taxa de Desconto do Fluxo de Caixa Livre da Firma",{"$f":"Premissas!$B$51/100","v":7.2499999999999995E-2}]
[null,"Taxa Interna de Retorno (a.a.) - WACC 1",{"$f":"IRR(B72:G72)","v":7.2500000000000009E-2}]
[null,"Nota: a) EBITDA = Earnings before interest, taxes, depreciation, and amortization."]
[]
[null,"Dados :","2020","2021","2022","2023","2024"]
[null,"Capacidade Contratada de Transporte Total (mil m3/dia)",{"$f":"+(C62*C65)+(C63*C66)","v":17587.087599999999},{"$f":"+(D62*D65)+(D63*D66)","v":11734.9022},{"$f":"+(E62*E65)+(E63*E66)","v":20540.001199999999},{"$f":"+(F62*F65)+(F63*F66)","v":17279.658953345966},{"$f":"+(G62*G65)+(G63*G66)","v":18195.387986569109}]
[null,"Capacidade Contratada de Transporte Total (mil m3/ano)",{"$f":"C47*C51","v":6436874.0615999997},{"$f":"D47*D51","v":4283239.3030000003},{"$f":"E47*E51","v":7497100.4379999992},{"$f":"F47*F51","v":6307075.5179712782},6659512.0030842936]
[null,"Capacidade Contratada de Transporte Total (MMBtu/ano)",{"$f":"C48*C52","v":234816.80611389258},{"$f":"D48*D52","v":156252.33045214368},{"$f":"E48*E52","v":279658.18551564304},235267.66245865019,248414.31145332605]
[null,"Duração Ano (dias)",{"$f":"Premissas!B59","v":366},{"$f":"Premissas!C59","v":365},{"$f":"Premissas!D59","v":365},{"$f":"Premissas!E59","v":365},{"$f":"Premissas!F59","v":366}]
[null,"Dias Operacionais (dias)",{"$f":"Premissas!B60","v":366},{"$f":"Premissas!C60","v":365},{"$f":"Premissas!D60","v":365},{"$f":"Premissas!E60","v":365},{"$f":"Premissas!F60","v":366}]
[null,"Fator de conversão (MMBtu/m³)",{"$f":"Premissas!B57","v":3.6479944126097237E-2},{"$f":"Premissas!C57","v":3.6479944126097237E-2},{"$f":"Premissas!D57","v":3.7302179399673008E-2},{"$f":"Premissas!E57","v":3.7302179399673008E-2},{"$f":"Premissas!F57","v":3.7302179399673008E-2}]
[]
[null,null,{"$f":"SUM(C13:C24)","v":265106.95619472384},{"$f":"SUM(D13:D24)","v":258762.34737463514},334228.77175262442,290770.98018540471,299470.45958532754]
[]
[]
[]
[]
[null,"Coluna1","2020","2021","2022","2023","2024"]
[null,"Alocação PB - Entrada",12000,{"$f":"C60","v":12000},6000,{"$f":"E60","v":6000},{"$f":"F60","v":6000}]
[null,"Alocação PB - Saída",{"$f":"C60","v":12000},{"$f":"D60","v":12000},{"$f":"E60+5200","v":11200},{"$f":"E61","v":11200},{"$f":"F61","v":11200}]
[null,"Demanda novos Contratos - Entrada",{"$f":"+'C. Demanda'!C5","v":18080.002},{"$f":"+'C. Demanda'!D5","v":11500.001},{"$f":"+'C. Demanda'!E5","v":21458},{"$f":"+'C. Demanda'!F5","v":17983.160401612968},{"$f":"+'C. Demanda'!G5","v":19146.155493506896}]
[null,"Demanda novos Contratos - Saída",{"$f":"+'C. Demanda'!C12","v":16436.954000000002},{"$f":"+'C. Demanda'!D12","v":12283.005000000001},{"$f":"+'C. Demanda'!E12","v":18398.004000000001},{"$f":"+'C. Demanda'!F12","v":15638.155574056291},{"$f":"+'C. Demanda'!G12","v":15976.930470380938}]
[]
[null,"% Entrada",{"$f":"+'Cálculo Encargos ECE, ECT e ECS'!I72","v":0.7},{"$f":"+C65","v":0.7},{"$f":"+D65","v":0.7},0.7,0.7]
[null,"% Saída",{"$f":"+'Cálculo Encargos ECE, ECT e ECS'!I73","v":0.30000000000000004},{"$f":"+C66","v":0.30000000000000004},0.30000000000000004,0.30000000000000004,0.30000000000000004]
[]
[]
[]
[]
[]
["BRA + FC",{"$f":"-'Investimento e Depreciação'!F88","v":-2525907.4040202554},{"$f":"+C38","v":279129.66147376085},202891.47142222917,-199985.91151868022,427998.3166040323,2735692.8304534219]

{"sheet":"FC E-S","index":13,"n_rows":72,"n_cols":7,"rows_kept":72,"cut":false,"hidden":false,"merged":[]}
[]
[null,"CÁLCULO TARIFÁRIO - Tarifas de Entrada e Saída"]
[]
[null,"Fluxo de Caixa Livre da Chamada Pública (em R$ mil) - em termos reais a preços de Dez/2019","2020 ","2021 ","2022 ","2023 ","2024 "]
[]
[null,"Receita Bruta da Prestação de Serviço de Transporte",{"$f":"C12/(1-Premissas!B10-Premissas!B11-Premissas!B12)","v":1158275.7138790721},{"$f":"D12/(1-Premissas!C10-Premissas!C11-Premissas!C12)","v":807603.77999324666},{"$f":"E12/(1-Premissas!D10-Premissas!D11-Premissas!D12)","v":1605523.2545440118},{"$f":"F12/(1-Premissas!E10-Premissas!E11-Premissas!E12)","v":1444265.7432366917},{"$f":"G12/(1-Premissas!F10-Premissas!F11-Premissas!F12)","v":1530579.9236228277}]
[null,"(-) ICMS",{"$f":"C6*Premissas!B$10","v":140631.6416423388},{"$f":"D6*Premissas!C$10","v":110966.82566798857},{"$f":"E6*Premissas!D$10","v":222582.65467010019},{"$f":"F6*Premissas!E$10","v":192505.65245078536},{"$f":"G6*Premissas!F$10","v":208353.19569562859}]
[null,"(-) PIS ",{"$f":"C6*Premissas!B$11","v":19111.549279004692},{"$f":"D6*Premissas!C$11","v":13325.46236988857},{"$f":"E6*Premissas!D$11","v":26491.133699976195},{"$f":"F6*Premissas!E$11","v":23830.384763405415},{"$f":"G6*Premissas!F$11","v":25254.56873977666}]
[null,"(-) COFINS",{"$f":"C6*Premissas!B$12","v":88028.954254809476},{"$f":"D6*Premissas!C$12","v":61377.887279486742},{"$f":"E6*Premissas!D$12","v":122019.7673453449},{"$f":"F6*Premissas!E$12","v":109764.19648598856},{"$f":"G6*Premissas!F$12","v":116324.07419533491}]
[null,"(-) Demais Impostos e Contribuições sobre a Prestação de Serviço de Transporte",0,0,0,0,0]
[null,"(-) Deduções e Abatimentos",0,0,0,0,0]
[null,"Receita Operacional Líquida",910503.56870291918,621933.60467588285,1234429.6988285906,{"$f":"($E$41*F49)","v":1118165.5095365124},{"$f":"($E$41*G49)","v":1180648.0849920877}]
[null,"(-) Salários e Benefícios",{"$f":"'Fluxo de Caixa Regulado'!C13-'FC ECTL'!C13-'FC EM'!C13","v":146114.82017859368},{"$f":"'Fluxo de Caixa Regulado'!D13-'FC ECTL'!D13-'FC EM'!D13","v":146114.82017859368},{"$f":"'Fluxo de Caixa Regulado'!E13-'FC ECTL'!E13-'FC EM'!E13","v":187513.15831563674},{"$f":"'Fluxo de Caixa Regulado'!F13-'FC ECTL'!F13-'FC EM'!F13","v":181843.52012779919},{"$f":"'Fluxo de Caixa Regulado'!G13-'FC ECTL'!G13-'FC EM'!G13","v":181843.52012779919}]
[null,"(-) Manutenção e Operação de Compressores",{"$f":"'Fluxo de Caixa Regulado'!C14-'FC ECTL'!C14-'FC EM'!C14","v":6306.0267886525507},{"$f":"'Fluxo de Caixa Regulado'!D14-'FC ECTL'!D14-'FC EM'!D14","v":6245.3828716456264},{"$f":"'Fluxo de Caixa Regulado'!E14-'FC ECTL'!E14-'FC EM'!E14","v":7497.9914161933157},{"$f":"'Fluxo de Caixa Regulado'!F14-'FC ECTL'!F14-'FC EM'!F14","v":5134.2371846874748},{"$f":"'Fluxo de Caixa Regulado'!G14-'FC ECTL'!G14-'FC EM'!G14","v":13818.417274050129}]
[null,"(-) Manutenção do Sistema de Proteção Catódica",{"$f":"'Fluxo de Caixa Regulado'!C15-'FC ECTL'!C15-'FC EM'!C15","v":1895.0098014164505},{"$f":"'Fluxo de Caixa Regulado'!D15-'FC ECTL'!D15-'FC EM'!D15","v":739.97805514328968},{"$f":"'Fluxo de Caixa Regulado'!E15-'FC ECTL'!E15-'FC EM'!E15","v":985.5459937970362},{"$f":"'Fluxo de Caixa Regulado'!F15-'FC ECTL'!F15-'FC EM'!F15","v":1301.6933676810386},{"$f":"'Fluxo de Caixa Regulado'!G15-'FC ECTL'!G15-'FC EM'!G15","v":1301.6933676810386}]
[null,"(-) Outras Manutenções",{"$f":"'Fluxo de Caixa Regulado'!C16-'FC ECTL'!C16-'FC EM'!C16","v":15283.613016037647},{"$f":"'Fluxo de Caixa Regulado'!D16-'FC ECTL'!D16-'FC EM'!D16","v":14687.824428388101},{"$f":"'Fluxo de Caixa Regulado'!E16-'FC ECTL'!E16-'FC EM'!E16","v":20977.083454052321},{"$f":"'Fluxo de Caixa Regulado'!F16-'FC ECTL'!F16-'FC EM'!F16","v":26119.970447611715},{"$f":"'Fluxo de Caixa Regulado'!G16-'FC ECTL'!G16-'FC EM'!G16","v":26119.970447611715}]
[null,"(-) Conservação e Manutenção da Faixa de Servidão do Duto",{"$f":"'Fluxo de Caixa Regulado'!C17-'FC ECTL'!C17-'FC EM'!C17","v":12779.964669671248},{"$f":"'Fluxo de Caixa Regulado'!D17-'FC ECTL'!D17-'FC EM'!D17","v":12917.714430705615},{"$f":"'Fluxo de Caixa Regulado'!E17-'FC ECTL'!E17-'FC EM'!E17","v":17388.029742096172},{"$f":"'Fluxo de Caixa Regulado'!F17-'FC ECTL'!F17-'FC EM'!F17","v":13959.865155130157},{"$f":"'Fluxo de Caixa Regulado'!G17-'FC ECTL'!G17-'FC EM'!G17","v":13959.865155130157}]
[null,"(-) Combustíveis e Lubrificantes",{"$f":"'Fluxo de Caixa Regulado'!C18-'FC ECTL'!C18-'FC EM'!C18","v":965.82781342102157},{"$f":"'Fluxo de Caixa Regulado'!D18-'FC ECTL'!D18-'FC EM'!D18","v":965.82781342101964},{"$f":"'Fluxo de Caixa Regulado'!E18-'FC ECTL'!E18-'FC EM'!E18","v":1286.3458930961367},{"$f":"'Fluxo de Caixa Regulado'!F18-'FC ECTL'!F18-'FC EM'!F18","v":1312.0437910467349},{"$f":"'Fluxo de Caixa Regulado'!G18-'FC ECTL'!G18-'FC EM'!G18","v":1312.0437910467349}]
[null,"(-) Gás de Uso no Sistema / Energia Elétrica para Acionamento dos Compressores",{"$f":"'Fluxo de Caixa Regulado'!C19-'FC ECTL'!C19-'FC EM'!C19","v":0},{"$f":"'Fluxo de Caixa Regulado'!D19-'FC ECTL'!D19-'FC EM'!D19","v":0},{"$f":"'Fluxo de Caixa Regulado'!E19-'FC ECTL'!E19-'FC EM'!E19","v":0},{"$f":"'Fluxo de Caixa Regulado'!F19-'FC ECTL'!F19-'FC EM'!F19","v":0},{"$f":"'Fluxo de Caixa Regulado'!G19-'FC ECTL'!G19-'FC EM'!G19","v":0}]
[null,"(-) Serviços de Utilidade Pública (Energia Elétrica, Água e Esgoto etc.) e Comunicação",{"$f":"'Fluxo de Caixa Regulado'!C20-'FC ECTL'!C20-'FC EM'!C20","v":4073.6290791654237},{"$f":"'Fluxo de Caixa Regulado'!D20-'FC ECTL'!D20-'FC EM'!D20","v":4073.6290791654237},{"$f":"'Fluxo de Caixa Regulado'!E20-'FC ECTL'!E20-'FC EM'!E20","v":4657.2766694508446},{"$f":"'Fluxo de Caixa Regulado'!F20-'FC ECTL'!F20-'FC EM'!F20","v":4572.2374137406941},{"$f":"'Fluxo de Caixa Regulado'!G20-'FC ECTL'!G20-'FC EM'!G20","v":4572.2374137406941}]
[null,"(-) Aluguéis e Seguros",{"$f":"'Fluxo de Caixa Regulado'!C21-'FC ECTL'!C21-'FC EM'!C21","v":7903.0948623872982},{"$f":"'Fluxo de Caixa Regulado'!D21-'FC ECTL'!D21-'FC EM'!D21","v":7903.0948623872982},{"$f":"'Fluxo de Caixa Regulado'!E21-'FC ECTL'!E21-'FC EM'!E21","v":10525.803334418481},{"$f":"'Fluxo de Caixa Regulado'!F21-'FC ECTL'!F21-'FC EM'!F21","v":8955.9495016792589},{"$f":"'Fluxo de Caixa Regulado'!G21-'FC ECTL'!G21-'FC EM'!G21","v":8955.9495016792589}]
[null,"(-) Aquisição e Passagem de Pigs de Limpeza e Instrumentados",{"$f":"'Fluxo de Caixa Regulado'!C22-'FC ECTL'!C22-'FC EM'!C22","v":932.56588220265928},{"$f":"'Fluxo de Caixa Regulado'!D22-'FC ECTL'!D22-'FC EM'!D22","v":5000.3163255474947},{"$f":"'Fluxo de Caixa Regulado'!E22-'FC ECTL'!E22-'FC EM'!E22","v":4742.52313338163},{"$f":"'Fluxo de Caixa Regulado'!F22-'FC ECTL'!F22-'FC EM'!F22","v":5951.5135434479898},{"$f":"'Fluxo de Caixa Regulado'!G22-'FC ECTL'!G22-'FC EM'!G22","v":5951.5135434479898}]
[null,"(-) Outros Custos e Despesas",{"$f":"'Fluxo de Caixa Regulado'!C23-'FC ECTL'!C23-'FC EM'!C23","v":28340.217747426977},{"$f":"'Fluxo de Caixa Regulado'!D23-'FC ECTL'!D23-'FC EM'!D23","v":28348.15064227832},{"$f":"'Fluxo de Caixa Regulado'!E23-'FC ECTL'!E23-'FC EM'!E23","v":37767.797606878936},{"$f":"'Fluxo de Caixa Regulado'!F23-'FC ECTL'!F23-'FC EM'!F23","v":20103.462779410245},{"$f":"'Fluxo de Caixa Regulado'!G23-'FC ECTL'!G23-'FC EM'!G23","v":20103.462779410245}]
[null,"(-) Despesas Gerais e Administrativas (G&A) Atribuíveis ao Empreendimento",{"$f":"'Fluxo de Caixa Regulado'!C24-'FC ECTL'!C24-'FC EM'!C24","v":40373.924699468043},{"$f":"'Fluxo de Caixa Regulado'!D24-'FC ECTL'!D24-'FC EM'!D24","v":31623.115374550402},{"$f":"'Fluxo de Caixa Regulado'!E24-'FC ECTL'!E24-'FC EM'!E24","v":40700.773547472607},{"$f":"'Fluxo de Caixa Regulado'!F24-'FC ECTL'!F24-'FC EM'!F24","v":21362.491031150759},{"$f":"'Fluxo de Caixa Regulado'!G24-'FC ECTL'!G24-'FC EM'!G24","v":21362.491031150759}]
[null,"EBITDAa",{"$f":"C12-SUM(C13:C24)","v":645534.87416447618},{"$f":"D12-SUM(D13:D24)","v":363313.7506140566},900387.36972211639,827548.52519312711,881346.92055933981]
[null,"(-) Depreciação e Amortização Fiscal",{"$f":"'Fluxo de Caixa Regulado'!C26-'FC ECTL'!C26-'FC EM'!C26","v":101308.43472447892},{"$f":"'Fluxo de Caixa Regulado'!D26-'FC ECTL'!D26-'FC EM'!D26","v":103747.98272946624},{"$f":"'Fluxo de Caixa Regulado'!E26-'FC ECTL'!E26-'FC EM'!E26","v":141276.47766397338},{"$f":"'Fluxo de Caixa Regulado'!F26-'FC ECTL'!F26-'FC EM'!F26","v":143778.24788720292},{"$f":"'Fluxo de Caixa Regulado'!G26-'FC ECTL'!G26-'FC EM'!G26","v":156287.23735736092}]
[null,"(+) Crédito PIS/COFINS (O&M e Conservação e Manutenção da Faixa de Servidão)",{"$f":"(C14+C15+C16+C17)*(Premissas!B$11+Premissas!B$12)","v":3354.476820509456},{"$f":"(D14+D15+D16+D17)*(Premissas!C$11+Premissas!C$12)","v":3199.6582301941435},{"$f":"(E14+E15+E16+E17)*(Premissas!D$11+Premissas!D$12)","v":4333.5001810678432},{"$f":"(F14+F15+F16+F17)*(Premissas!E$11+Premissas!E$12)","v":4302.7083693477107},{"$f":"(G14+G15+G16+G17)*(Premissas!F$11+Premissas!F$12)","v":5105.995027613757}]
[null,"Lucro Antes de IRPJ e CSLL",{"$f":"C25-C26+C27","v":547580.91626050672},{"$f":"D25-D26+D27","v":262765.4261147845},763444.39223921089,688072.98567527195,730165.67822959262]
[null,"Prejuízos Acumulados",{"$f":"MIN(0,C28)","v":0},{"$f":"MIN(0,D28)","v":0},0,0,0]
["","Benefício Fiscal decorrente de Prejuízos Acumulados",0,0,0,0,0]
[null,"(-) IRPJ",{"$f":"IF(C28<0,0,(C28-C30)*Premissas!B$8)","v":136895.22906512668},{"$f":"IF(D28<0,0,(D28-D30)*Premissas!C$8)","v":65691.356528696124},{"$f":"IF(E28<0,0,(E28-E30)*Premissas!D$8)","v":190861.09805980272},{"$f":"IF(F28<0,0,(F28-F30)*Premissas!E$8)","v":172018.24641881799},{"$f":"IF(G28<0,0,(G28-G30)*Premissas!F$8)","v":182541.41955739816}]
[null,"(-) CSLL",{"$f":"IF(C28<0,0,(C28-C30)*Premissas!B$9)","v":49282.282463445605},{"$f":"IF(D28<0,0,(D28-D30)*Premissas!C$9)","v":23648.888350330602},{"$f":"IF(E28<0,0,(E28-E30)*Premissas!D$9)","v":68709.995301528979},{"$f":"IF(F28<0,0,(F28-F30)*Premissas!E$9)","v":61926.568710774474},{"$f":"IF(G28<0,0,(G28-G30)*Premissas!F$9)","v":65714.911040663341}]
[null,"Lucro (Prejuízo) após IRPJ/CSLL (1)",{"$f":"C25-C31-C32-C35","v":193054.57274784037},{"$f":"D25-D31-D32-D35","v":11577.104579040082},296369.38537829707,254469.29552391404,288960.8846689004]
[null,"Investimentos (2)",{"$f":"'Fluxo de Caixa Regulado'!C34-'FC ECTL'!C34-'FC EM'!C34","v":101548.73827907414},{"$f":"'Fluxo de Caixa Regulado'!D34-'FC ECTL'!D34-'FC EM'!D34","v":74486.093523973366},{"$f":"'Fluxo de Caixa Regulado'!E34-'FC ECTL'!E34-'FC EM'!E34","v":773597.1482278771},{"$f":"'Fluxo de Caixa Regulado'!F34-'FC ECTL'!F34-'FC EM'!F34","v":194222.91942872159},{"$f":"'Fluxo de Caixa Regulado'!G34-'FC ECTL'!G34-'FC EM'!G34","v":75518.049939055447}]
[null,"Depreciação ou Amortização Contábil (3)",{"$f":"'Fluxo de Caixa Regulado'!C35-'FC ECTL'!C35-'FC EM'!C35","v":266302.7898880635},{"$f":"'Fluxo de Caixa Regulado'!D35-'FC ECTL'!D35-'FC EM'!D35","v":262396.40115598979},{"$f":"'Fluxo de Caixa Regulado'!E35-'FC ECTL'!E35-'FC EM'!E35","v":344446.8909824877},{"$f":"'Fluxo de Caixa Regulado'!F35-'FC ECTL'!F35-'FC EM'!F35","v":339134.41453962051},{"$f":"'Fluxo de Caixa Regulado'!G35-'FC ECTL'!G35-'FC EM'!G35","v":344129.70529237785}]
[null,"Valor Residual (4)",{"$f":"'Fluxo de Caixa Regulado'!C36-'FC ECTL'!C36-'FC EM'!C36","v":0},{"$f":"'Fluxo de Caixa Regulado'!D36-'FC ECTL'!D36-'FC EM'!D36","v":0},{"$f":"'Fluxo de Caixa Regulado'!E36-'FC ECTL'!E36-'FC EM'!E36","v":0},{"$f":"'Fluxo de Caixa Regulado'!F36-'FC ECTL'!F36-'FC EM'!F36","v":0},{"$f":"'Fluxo de Caixa Regulado'!G36-'FC ECTL'!G36-'FC EM'!G36","v":2072121.9880118179}]
[null,"Variação da Necessidade Líquida de Capital de Giro (5)",{"$f":"C13/12+SUM(C14:C23)/8+C24/6","v":28715.216172341807},{"$f":"D13/12+SUM(D14:D23)/8+D24/6-SUM($C$37:C37)","v":-1158.222114781991},{"$f":"E13/12+SUM(E14:E23)/8+E24/6-SUM($C$37:D37)","v":8081.1143820759535},{"$f":"F13/12+SUM(F14:F23)/8+F24/6-SUM($C$37:E37)","v":-5997.6949424062987},{"$f":"G13/12+SUM(G14:G23)/8+G24/6-SUM($C$37:F37)","v":1085.522511170333}]
[null,"Fluxo de Caixa Livre da Firma = (1) - (2) + (3) + (4) - (5)",{"$f":"C33-C34+C35+C36-C37","v":329093.40818448795},{"$f":"D33-D34+D35+D36-D37","v":200645.6343258385},{"$f":"E33-E34+E35+E36-E37","v":-140861.98624916829},{"$f":"F33-F34+F35+F36-F37","v":405378.48557721928},2628609.0055228705]
[null,"Valor Presente Líquido do Fluxo de Caixa Livre da Firma",{"$f":"-'Investimento e Depreciação'!F88+NPV(C42,C38:G38)","v":0}]
[null,"Tarifa de Transporte Máxima","R$/Mil m3","R$/Mil m3/km","R$/MMBtu","US$/MMBtu"]
[null,null,177.28747758773932,null,{"$f":"C41/(F52*1000)","v":4.7527377874680807},{"$f":"E41/Premissas!$B$66","v":1.250720470386337}]
[null,"Taxa de Desconto do Fluxo de Caixa Livre da Firma",{"$f":"Premissas!$B$51/100","v":7.2499999999999995E-2}]
[null,"Taxa Interna de Retorno (a.a.) - WACC 1",{"$f":"IRR(B72:G72)","v":7.2500000000000009E-2}]
[null,"Nota: a) EBITDA = Earnings before interest, taxes, depreciation, and amortization."]
[]
[null,"Dados :","2020","2021","2022","2023","2024"]
[null,"Capacidade Contratada de Transporte Total (mil m3/dia)",{"$f":"+(C62*C65)+(C63*C66)","v":17587.087599999999},{"$f":"+(D62*D65)+(D63*D66)","v":11734.9022},20540.001199999999,17279.658953345966,18195.387986569109]
[null,"Capacidade Contratada de Transporte Total (mil m3/ano)",{"$f":"C47*C51","v":6436874.0615999997},{"$f":"D47*D51","v":4283239.3030000003},{"$f":"E47*E51","v":7497100.4379999992},{"$f":"F47*F51","v":6307075.5179712782},6659512.0030842936]
[null,"Capacidade Contratada de Transporte Total (MMBtu/ano)",{"$f":"C48*C52","v":234816.80611389258},{"$f":"D48*D52","v":156252.33045214368},279658.18551564304,235267.66245865019,248414.31145332605]
[null,"Duração Ano (dias)",{"$f":"Premissas!B59","v":366},{"$f":"Premissas!C59","v":365},{"$f":"Premissas!D59","v":365},{"$f":"Premissas!E59","v":365},{"$f":"Premissas!F59","v":366}]
[null,"Dias Operacionais (dias)",{"$f":"Premissas!B60","v":366},{"$f":"Premissas!C60","v":365},{"$f":"Premissas!D60","v":365},{"$f":"Premissas!E60","v":365},{"$f":"Premissas!F60","v":366}]
[null,"Fator de conversão (MMBtu/m³)",{"$f":"Premissas!B57","v":3.6479944126097237E-2},{"$f":"Premissas!C57","v":3.6479944126097237E-2},{"$f":"Premissas!D57","v":3.7302179399673008E-2},{"$f":"Premissas!E57","v":3.7302179399673008E-2},{"$f":"Premissas!F57","v":3.7302179399673008E-2}]
[]
[]
[]
[]
[]
[]
[null,"Coluna1","2020","2021","2022","2023","2024"]
[null,"Alocação PB - Entrada",{"$f":"'Fluxo de Caixa Regulado'!C60","v":12000},{"$f":"'Fluxo de Caixa Regulado'!D60","v":12000},{"$f":"'Fluxo de Caixa Regulado'!E60","v":6000},{"$f":"'Fluxo de Caixa Regulado'!F60","v":6000},{"$f":"'Fluxo de Caixa Regulado'!G60","v":6000}]
[null,"Alocação PB - Saída",{"$f":"'Fluxo de Caixa Regulado'!C61","v":12000},{"$f":"'Fluxo de Caixa Regulado'!D61","v":12000},{"$f":"'Fluxo de Caixa Regulado'!E61","v":11200},{"$f":"'Fluxo de Caixa Regulado'!F61","v":11200},{"$f":"'Fluxo de Caixa Regulado'!G61","v":11200}]
[null,"Demanda novos Contratos - Entrada",{"$f":"'Fluxo de Caixa Regulado'!C62","v":18080.002},{"$f":"'Fluxo de Caixa Regulado'!D62","v":11500.001},{"$f":"'Fluxo de Caixa Regulado'!E62","v":21458},{"$f":"'Fluxo de Caixa Regulado'!F62","v":17983.160401612968},{"$f":"'Fluxo de Caixa Regulado'!G62","v":19146.155493506896}]
[null,"Demanda novos Contratos - Saída",{"$f":"'Fluxo de Caixa Regulado'!C63","v":16436.954000000002},{"$f":"'Fluxo de Caixa Regulado'!D63","v":12283.005000000001},{"$f":"'Fluxo de Caixa Regulado'!E63","v":18398.004000000001},{"$f":"'Fluxo de Caixa Regulado'!F63","v":15638.155574056291},{"$f":"'Fluxo de Caixa Regulado'!G63","v":15976.930470380938}]
[]
[null,"% Entrada",{"$f":"+'Cálculo Encargos ECE, ECT e ECS'!I72","v":0.7},{"$f":"+C65","v":0.7},{"$f":"+D65","v":0.7},0.7,0.7]
[null,"% Saída",{"$f":"+'Cálculo Encargos ECE, ECT e ECS'!I73","v":0.30000000000000004},{"$f":"+C66","v":0.30000000000000004},0.30000000000000004,0.30000000000000004,0.30000000000000004]
[]
[]
[]
[]
[]
["BRA + FC",{"$f":"-'Investimento e Depreciação'!F88","v":-2525907.4040202554},{"$f":"+C38","v":329093.40818448795},200645.6343258385,-140861.98624916829,405378.48557721928,2628609.0055228705]

{"sheet":"FC ECTL","index":14,"n_rows":72,"n_cols":7,"rows_kept":72,"cut":false,"hidden":false,"merged":[]}
[]
[null,"CÁLCULO TARIFÁRIO - Encargo de Capacidade de Transporte - Linepack"]
[]
[null,"Fluxo de Caixa Livre da Chamada Pública (em R$ mil) - em termos reais a preços de Dez/2019",2020,2021,2022,2023,2024]
[]
[null,"Receita Bruta da Prestação de Serviço de Transporte",{"$f":"C12/(1-Premissas!B10-Premissas!B11-Premissas!B12)","v":15245.770031284164},{"$f":"D12/(1-Premissas!C10-Premissas!C11-Premissas!C12)","v":10630.061067027309},{"$f":"E12/(1-Premissas!D10-Premissas!D11-Premissas!D12)","v":67541.158017201858},{"$f":"F12/(1-Premissas!E10-Premissas!E11-Premissas!E12)","v":33798.83987157503},{"$f":"G12/(1-Premissas!F10-Premissas!F11-Premissas!F12)","v":35818.772266412117}]
[null,"(-) ICMS",{"$f":"C6*Premissas!B$10","v":1851.0598486267731},{"$f":"D6*Premissas!C$10","v":1460.5975881821107},{"$f":"E6*Premissas!D$10","v":9363.6079131293573},{"$f":"F6*Premissas!E$10","v":4505.0349992902002},{"$f":"G6*Premissas!F$10","v":4875.9006651128484}]
[null,"(-) PIS ",{"$f":"C6*Premissas!B$11","v":251.55520551618872},{"$f":"D6*Premissas!C$11","v":175.39600760595062},{"$f":"E6*Premissas!D$11","v":1114.4291072838307},{"$f":"F6*Premissas!E$11","v":557.68085788098801},{"$f":"G6*Premissas!F$11","v":591.0097423958}]
[null,"(-) COFINS",{"$f":"C6*Premissas!B$12","v":1158.6785223775964},{"$f":"D6*Premissas!C$12","v":807.8846410940755},{"$f":"E6*Premissas!D$12","v":5133.128009307341},{"$f":"F6*Premissas!E$12","v":2568.7118302397021},{"$f":"G6*Premissas!F$12","v":2722.2266922473209}]
[null,"(-) Demais Impostos e Contribuições sobre a Prestação de Serviço de Transporte",0,0,0,0,0]
[null,"(-) Deduções e Abatimentos",0,0,0,0,0]
[null,"Receita Operacional Líquida",11984.476454763608,8186.1828301451733,51929.992987481332,{"$f":"($E$41*F49)","v":26167.412184164146},{"$f":"($E$41*G49)","v":27629.635166656153}]
[null,"(-) Salários e Benefícios"]
[null,"(-) Manutenção e Operação de Compressores"]
[null,"(-) Manutenção do Sistema de Proteção Catódica"]
[null,"(-) Outras Manutenções"]
[null,"(-) Conservação e Manutenção da Faixa de Servidão do Duto"]
[null,"(-) Combustíveis e Lubrificantes"]
[null,"(-) Gás de Uso no Sistema / Energia Elétrica para Acionamento dos Compressores"]
[null,"(-) Serviços de Utilidade Pública (Energia Elétrica, Água e Esgoto etc.) e Comunicação"]
[null,"(-) Aluguéis e Seguros"]
[null,"(-) Aquisição e Passagem de Pigs de Limpeza e Instrumentados"]
[null,"(-) Outros Custos e Despesas"]
[null,"(-) Despesas Gerais e Administrativas (G&A) Atribuíveis ao Empreendimento"]
[null,"EBITDAa",{"$f":"C12-SUM(C13:C24)","v":11984.476454763608},{"$f":"D12-SUM(D13:D24)","v":8186.1828301451733},51929.992987481332,26167.412184164146,27629.635166656153]
[null,"(-) Depreciação e Amortização Fiscal",{"$f":"'Investimento e Depreciação'!F102","v":4998.0685139999996},{"$f":"'Investimento e Depreciação'!G102","v":5246.749696702961},{"$f":"'Investimento e Depreciação'!H102","v":14470.549170190838},{"$f":"'Investimento e Depreciação'!I102","v":13913.98958672196},{"$f":"'Investimento e Depreciação'!J102","v":13378.836141078807}]
[null,"(+) Crédito PIS/COFINS (O&M e Conservação e Manutenção da Faixa de Servidão)",{"$f":"(C14+C15+C16+C17)*(Premissas!B$11+Premissas!B$12)","v":0},{"$f":"(D14+D15+D16+D17)*(Premissas!C$11+Premissas!C$12)","v":0},{"$f":"(E14+E15+E16+E17)*(Premissas!D$11+Premissas!D$12)","v":0},{"$f":"(F14+F15+F16+F17)*(Premissas!E$11+Premissas!E$12)","v":0},{"$f":"(G14+G15+G16+G17)*(Premissas!F$11+Premissas!F$12)","v":0}]
[null,"Lucro Antes de IRPJ e CSLL",{"$f":"C25-C26+C27","v":6986.4079407636082},{"$f":"D25-D26+D27","v":2939.4331334422122},37459.443817290492,12253.422597442186,14250.799025577346]
[null,"Prejuízos Acumulados",{"$f":"MIN(0,C28)","v":0},{"$f":"MIN(0,D28)","v":0},0,0,0]
["","Benefício Fiscal decorrente de Prejuízos Acumulados",0,0,0,0,0]
[null,"(-) IRPJ",{"$f":"IF(C28<0,0,(C28-C30)*Premissas!B$8)","v":1746.601985190902},{"$f":"IF(D28<0,0,(D28-D30)*Premissas!C$8)","v":734.85828336055306},{"$f":"IF(E28<0,0,(E28-E30)*Premissas!D$8)","v":9364.860954322623},{"$f":"IF(F28<0,0,(F28-F30)*Premissas!E$8)","v":3063.3556493605465},{"$f":"IF(G28<0,0,(G28-G30)*Premissas!F$8)","v":3562.6997563943364}]
[null,"(-) CSLL",{"$f":"IF(C28<0,0,(C28-C30)*Premissas!B$9)","v":628.77671466872471},{"$f":"IF(D28<0,0,(D28-D30)*Premissas!C$9)","v":264.54898200979909},{"$f":"IF(E28<0,0,(E28-E30)*Premissas!D$9)","v":3371.3499435561444},{"$f":"IF(F28<0,0,(F28-F30)*Premissas!E$9)","v":1102.8080337697968},{"$f":"IF(G28<0,0,(G28-G30)*Premissas!F$9)","v":1282.571912301961}]
[null,"Lucro (Prejuízo) após IRPJ/CSLL (1)",{"$f":"C25-C31-C32-C35","v":4611.0292409039821},{"$f":"D25-D31-D32-D35","v":1940.0258680718598},24723.232919411719,8087.2589143118421,9405.5273568810462]
[null,"Investimentos (2)",{"$f":"+'Investimento e Depreciação'!F87","v":59571.282799999994},{"$f":"+'Investimento e Depreciação'!G87","v":4918.8898833227149},{"$f":"+'Investimento e Depreciação'!H87","v":97208.07480088537},{"$f":"+'Investimento e Depreciação'!I87","v":0},{"$f":"+'Investimento e Depreciação'!J87","v":0}]
[null,"Depreciação ou Amortização Contábil (3)",{"$f":"C26","v":4998.0685139999996},{"$f":"D26","v":5246.749696702961},{"$f":"E26","v":14470.549170190838},13913.98958672196,13378.836141078807]
[null,"Valor Residual (4)",null,null,null,null,{"$f":"'Investimento e Depreciação'!J103","v":83657.262949703814}]
[null,"Variação da Necessidade Líquida de Capital de Giro (5)",{"$f":"C13/12+SUM(C14:C23)/8+C24/6","v":0},{"$f":"D13/12+SUM(D14:D23)/8+D24/6-SUM($C$37:C37)","v":0},{"$f":"E13/12+SUM(E14:E23)/8+E24/6-SUM($C$37:D37)","v":0},{"$f":"F13/12+SUM(F14:F23)/8+F24/6-SUM($C$37:E37)","v":0},{"$f":"G13/12+SUM(G14:G23)/8+G24/6-SUM($C$37:F37)","v":0}]
[null,"Fluxo de Caixa Livre da Firma = (1) - (2) + (3) + (4) - (5)",{"$f":"C33-C34+C35+C36-C37","v":-49962.185045096012},{"$f":"D33-D34+D35+D36-D37","v":2267.8856814521059},{"$f":"E33-E34+E35+E36-E37","v":-58014.292711282811},{"$f":"F33-F34+F35+F36-F37","v":22001.248501033802},106441.62644766367]
[null,"Valor Presente Líquido do Fluxo de Caixa Livre da Firma",{"$f":"+NPV(C42,C38:G38)","v":1.3568219327148579E-11}]
[null,"Tarifa de Transporte Máxima","R$/Mil m3","R$/Mil m3/km","R$/MMBtu","US$/MMBtu"]
[null,null,4.1488978702733377,null,{"$f":"C41/(F52*1000)","v":0.11122400720397874},{"$f":"E41/Premissas!$B$66","v":2.9269475579994406E-2}]
[null,"Taxa de Desconto do Fluxo de Caixa Livre da Firma",{"$f":"Premissas!$B$51/100","v":7.2499999999999995E-2}]
[null,"Taxa Interna de Retorno (a.a.) - WACC 1",{"$f":"IRR(B72:G72)","v":7.2499999958406613E-2}]
[null,"Nota: a) EBITDA = Earnings before interest, taxes, depreciation, and amortization."]
[]
[null,"Dados :",2020,2021,2022,2023,2024]
[null,"Capacidade Contratada de Transporte Total (mil m3/dia)",{"$f":"+(C62*C65)+(C63*C66)","v":17587.087599999999},{"$f":"+(D62*D65)+(D63*D66)","v":11734.9022},20540.001199999999,17279.658953345966,18195.387986569109]
[null,"Capacidade Contratada de Transporte Total (mil m3/ano)",{"$f":"C47*C51","v":6436874.0615999997},{"$f":"D47*D51","v":4283239.3030000003},{"$f":"E47*E51","v":7497100.4379999992},{"$f":"F47*F51","v":6307075.5179712782},6659512.0030842936]
[null,"Capacidade Contratada de Transporte Total (MMBtu/ano)",{"$f":"C48*C52","v":234816.80611389258},{"$f":"D48*D52","v":156252.33045214368},279658.18551564304,235267.66245865019,248414.31145332605]
[null,"Duração Ano (dias)",{"$f":"Premissas!B59","v":366},{"$f":"Premissas!C59","v":365},{"$f":"Premissas!D59","v":365},{"$f":"Premissas!E59","v":365},{"$f":"Premissas!F59","v":366}]
[null,"Dias Operacionais (dias)",{"$f":"Premissas!B60","v":366},{"$f":"Premissas!C60","v":365},{"$f":"Premissas!D60","v":365},{"$f":"Premissas!E60","v":365},{"$f":"Premissas!F60","v":366}]
[null,"Fator de conversão (MMBtu/m³)",{"$f":"Premissas!B57","v":3.6479944126097237E-2},{"$f":"Premissas!C57","v":3.6479944126097237E-2},{"$f":"Premissas!D57","v":3.7302179399673008E-2},{"$f":"Premissas!E57","v":3.7302179399673008E-2},{"$f":"Premissas!F57","v":3.7302179399673008E-2}]
[]
[]
[]
[]
[]
[]
[null,null,2020,2021,2022,2023,2024]
[null,"Alocação PB - Entrada",{"$f":"'Fluxo de Caixa Regulado'!C60","v":12000},{"$f":"'Fluxo de Caixa Regulado'!D60","v":12000},{"$f":"'Fluxo de Caixa Regulado'!E60","v":6000},{"$f":"'Fluxo de Caixa Regulado'!F60","v":6000},{"$f":"'Fluxo de Caixa Regulado'!G60","v":6000}]
[null,"Alocação PB - Saída",{"$f":"'Fluxo de Caixa Regulado'!C61","v":12000},{"$f":"'Fluxo de Caixa Regulado'!D61","v":12000},{"$f":"'Fluxo de Caixa Regulado'!E61","v":11200},{"$f":"'Fluxo de Caixa Regulado'!F61","v":11200},{"$f":"'Fluxo de Caixa Regulado'!G61","v":11200}]
[null,"Demanda novos Contratos - Entrada",{"$f":"'Fluxo de Caixa Regulado'!C62","v":18080.002},{"$f":"'Fluxo de Caixa Regulado'!D62","v":11500.001},{"$f":"'Fluxo de Caixa Regulado'!E62","v":21458},{"$f":"'Fluxo de Caixa Regulado'!F62","v":17983.160401612968},{"$f":"'Fluxo de Caixa Regulado'!G62","v":19146.155493506896}]
[null,"Demanda novos Contratos - Saída",{"$f":"'Fluxo de Caixa Regulado'!C63","v":16436.954000000002},{"$f":"'Fluxo de Caixa Regulado'!D63","v":12283.005000000001},{"$f":"'Fluxo de Caixa Regulado'!E63","v":18398.004000000001},{"$f":"'Fluxo de Caixa Regulado'!F63","v":15638.155574056291},{"$f":"'Fluxo de Caixa Regulado'!G63","v":15976.930470380938}]
[]
[null,"% Entrada",{"$f":"+'Cálculo Encargos ECE, ECT e ECS'!I72","v":0.7},{"$f":"+C65","v":0.7},{"$f":"+D65","v":0.7},0.7,0.7]
[null,"% Saída",{"$f":"+'Cálculo Encargos ECE, ECT e ECS'!I73","v":0.30000000000000004},{"$f":"+C66","v":0.30000000000000004},0.30000000000000004,0.30000000000000004,0.30000000000000004]
[]
[]
[]
[]
[]
["BRA + FC",-1.0000000000000001E-5,{"$f":"+C38","v":-49962.185045096012},{"$f":"+D38","v":2267.8856814521059},-58014.292711282811,22001.248501033802,106441.62644766367]

{"sheet":"FC EM","index":15,"n_rows":72,"n_cols":7,"rows_kept":72,"cut":false,"hidden":false,"merged":[]}
[]
[null,"CÁLCULO TARIFÁRIO - Encargo de Movimentação"]
[]
[null,"Fluxo de Caixa Livre da Chamada Pública (em R$ mil) - em termos reais a preços de Dez/2019",2020,2021,2022,2023,2024]
[]
[null,"Receita Bruta da Prestação de Serviço de Transporte",209.40463183853629,{"$f":"D12/(1-Premissas!C10-Premissas!C11-Premissas!C12)","v":149.29410313196576},{"$f":"E12/(1-Premissas!D10-Premissas!D11-Premissas!D12)","v":291.36858299179136},{"$f":"F12/(1-Premissas!E10-Premissas!E11-Premissas!E12)","v":221.60665351007523},{"$f":"G12/(1-Premissas!F10-Premissas!F11-Premissas!F12)","v":234.85061277131891}]
[null,"(-) ICMS",{"$f":"C6*Premissas!B$10","v":25.424790306910889},{"$f":"D6*Premissas!C$10","v":20.513391747178403},{"$f":"E6*Premissas!D$10","v":40.394053780427825},{"$f":"F6*Premissas!E$10","v":29.537869759194855},{"$f":"G6*Premissas!F$10","v":31.969500531642218}]
[null,"(-) PIS ",{"$f":"C6*Premissas!B$11","v":3.455176425335849},{"$f":"D6*Premissas!C$11","v":2.4633527016774353},{"$f":"E6*Premissas!D$11","v":4.8075816193645577},{"$f":"F6*Premissas!E$11","v":3.6565097829162414},{"$f":"G6*Premissas!F$11","v":3.875035110726762}]
[null,"(-) COFINS",{"$f":"C6*Premissas!B$12","v":15.914752019728757},{"$f":"D6*Premissas!C$12","v":11.346351838029397},{"$f":"E6*Premissas!D$12","v":22.144012307376144},{"$f":"F6*Premissas!E$12","v":16.842105666765718},{"$f":"G6*Premissas!F$12","v":17.848646570620236}]
[null,"(-) Demais Impostos e Contribuições sobre a Prestação de Serviço de Transporte",0,0,0,0,0]
[null,"(-) Deduções e Abatimentos",0,0,0,0,0]
[null,"Receita Operacional Líquida",165.77029721324473,114.97100684508052,224.02293528462283,{"$f":"($E$41*F49)","v":171.57016830119844},{"$f":"($E$41*G49)","v":181.15743055832971}]
[null,"(-) Salários e Benefícios"]
[null,"(-) Manutenção e Operação de Compressores",{"$f":"+'Fluxo de Caixa Regulado'!C14*Premissas!B$65","v":11.109610953163051},{"$f":"+'Fluxo de Caixa Regulado'!D14*Premissas!C$65","v":11.002771837630718},{"$f":"+'Fluxo de Caixa Regulado'!E14*Premissas!D$65","v":13.209548635911043},{"$f":"+'Fluxo de Caixa Regulado'!F14*Premissas!E$65","v":9.0452165166473968},{"$f":"+'Fluxo de Caixa Regulado'!G14*Premissas!F$65","v":24.344527076766166}]
[null,"(-) Manutenção do Sistema de Proteção Catódica",{"$f":"+'Fluxo de Caixa Regulado'!C15*Premissas!B$65","v":3.3385239790054917},{"$f":"+'Fluxo de Caixa Regulado'!D15*Premissas!C$65","v":1.3036526139269364},{"$f":"+'Fluxo de Caixa Regulado'!E15*Premissas!D$65","v":1.7362806937699462},{"$f":"+'Fluxo de Caixa Regulado'!F15*Premissas!E$65","v":2.2932517383642459},{"$f":"+'Fluxo de Caixa Regulado'!G15*Premissas!F$65","v":2.2932517383642459}]
[null,"(-) Outras Manutenções",{"$f":"+'Fluxo de Caixa Regulado'!C16*Premissas!B$65","v":26.925828300066325},{"$f":"+'Fluxo de Caixa Regulado'!D16*Premissas!C$65","v":25.876200754710581},{"$f":"+'Fluxo de Caixa Regulado'!E16*Premissas!D$65","v":36.956271185830431},{"$f":"+'Fluxo de Caixa Regulado'!F16*Premissas!E$65","v":46.016726459718626},{"$f":"+'Fluxo de Caixa Regulado'!G16*Premissas!F$65","v":46.016726459718626}]
[null,"(-) Conservação e Manutenção da Faixa de Servidão do Duto",{"$f":"+'Fluxo de Caixa Regulado'!C17*Premissas!B$65","v":22.515038428112096},{"$f":"+'Fluxo de Caixa Regulado'!D17*Premissas!C$65","v":22.757718376243112},{"$f":"+'Fluxo de Caixa Regulado'!E17*Premissas!D$65","v":30.633273874498286},{"$f":"+'Fluxo de Caixa Regulado'!F17*Premissas!E$65","v":24.593722169272926},{"$f":"+'Fluxo de Caixa Regulado'!G17*Premissas!F$65","v":24.593722169272926}]
[null,"(-) Combustíveis e Lubrificantes",{"$f":"+'Fluxo de Caixa Regulado'!C18*Premissas!B$65","v":1.7015422887450882},{"$f":"+'Fluxo de Caixa Regulado'!D18*Premissas!C$65","v":1.7015422887450848},{"$f":"+'Fluxo de Caixa Regulado'!E18*Premissas!D$65","v":2.2662134022666836},{"$f":"+'Fluxo de Caixa Regulado'!F18*Premissas!E$65","v":2.3114865446293149},{"$f":"+'Fluxo de Caixa Regulado'!G18*Premissas!F$65","v":2.3114865446293149}]
[null,"(-) Gás de Uso no Sistema / Energia Elétrica para Acionamento dos Compressores",{"$f":"+'Fluxo de Caixa Regulado'!C19*Premissas!B$65","v":0},{"$f":"+'Fluxo de Caixa Regulado'!D19*Premissas!C$65","v":0},{"$f":"+'Fluxo de Caixa Regulado'!E19*Premissas!D$65","v":0},{"$f":"+'Fluxo de Caixa Regulado'!F19*Premissas!E$65","v":0},{"$f":"+'Fluxo de Caixa Regulado'!G19*Premissas!F$65","v":0}]
[null,"(-) Serviços de Utilidade Pública (Energia Elétrica, Água e Esgoto etc.) e Comunicação",{"$f":"+'Fluxo de Caixa Regulado'!C20*Premissas!B$65","v":7.1766955253753268},{"$f":"+'Fluxo de Caixa Regulado'!D20*Premissas!C$65","v":7.1766955253753268},{"$f":"+'Fluxo de Caixa Regulado'!E20*Premissas!D$65","v":8.2049337297372258},{"$f":"+'Fluxo de Caixa Regulado'!F20*Premissas!E$65","v":8.0551162490398145},{"$f":"+'Fluxo de Caixa Regulado'!G20*Premissas!F$65","v":8.0551162490398145}]
[null,"(-) Aluguéis e Seguros",{"$f":"+'Fluxo de Caixa Regulado'!C21*Premissas!B$65","v":13.923237593131985},{"$f":"+'Fluxo de Caixa Regulado'!D21*Premissas!C$65","v":13.923237593131985},{"$f":"+'Fluxo de Caixa Regulado'!E21*Premissas!D$65","v":18.543781042180211},{"$f":"+'Fluxo de Caixa Regulado'!F21*Premissas!E$65","v":15.778098954300708},{"$f":"+'Fluxo de Caixa Regulado'!G21*Premissas!F$65","v":15.778098954300708}]
[null,"(-) Aquisição e Passagem de Pigs de Limpeza e Instrumentados",{"$f":"+'Fluxo de Caixa Regulado'!C22*Premissas!B$65","v":1.6429432488469669},{"$f":"+'Fluxo de Caixa Regulado'!D22*Premissas!C$65","v":8.8092821171558207},{"$f":"+'Fluxo de Caixa Regulado'!E22*Premissas!D$65","v":8.3551162584743484},{"$f":"+'Fluxo de Caixa Regulado'!F22*Premissas!E$65","v":10.485049027886559},{"$f":"+'Fluxo de Caixa Regulado'!G22*Premissas!F$65","v":10.485049027886559}]
[null,"(-) Outros Custos e Despesas",{"$f":"+'Fluxo de Caixa Regulado'!C23*Premissas!B$65","v":49.928235964426719},{"$f":"+'Fluxo de Caixa Regulado'!D23*Premissas!C$65","v":49.942211702000392},{"$f":"+'Fluxo de Caixa Regulado'!E23*Premissas!D$65","v":66.537227327555172},{"$f":"+'Fluxo de Caixa Regulado'!F23*Premissas!E$65","v":35.41717435969926},{"$f":"+'Fluxo de Caixa Regulado'!G23*Premissas!F$65","v":35.41717435969926}]
[null,"(-) Despesas Gerais e Administrativas (G&A) Atribuíveis ao Empreendimento"]
[null,"EBITDAa",{"$f":"C12-SUM(C13:C24)","v":27.508640932371691},{"$f":"D12-SUM(D13:D24)","v":-27.522305963839415},37.580289134399465,17.5743262816396,11.862277978652088]
[null,"(-) Depreciação e Amortização Fiscal"]
[null,"(+) Crédito PIS/COFINS (O&M e Conservação e Manutenção da Faixa de Servidão)",{"$f":"(C14+C15+C16+C17)*(Premissas!B$11+Premissas!B$12)","v":5.9097326535820942},{"$f":"(D14+D15+D16+D17)*(Premissas!C$11+Premissas!C$12)","v":5.6369817813822998},{"$f":"(E14+E15+E16+E17)*(Premissas!D$11+Premissas!D$12)","v":7.6345221310758982},{"$f":"(F14+F15+F16+F17)*(Premissas!E$11+Premissas!E$12)","v":7.5802748117702956},{"$f":"(G14+G15+G16+G17)*(Premissas!F$11+Premissas!F$12)","v":8.995461038581281}]
[null,"Lucro Antes de IRPJ e CSLL",{"$f":"C25-C26+C27","v":33.418373585953788},{"$f":"D25-D26+D27","v":-21.885324182457115},45.214811265475362,25.154601093409894,20.857739017233371]
[null,"Prejuízos Acumulados",{"$f":"MIN(0,C28)","v":0},{"$f":"MIN(0,D28)","v":-21.885324182457115},0,0,0]
["","Benefício Fiscal decorrente de Prejuízos Acumulados",0,0,0,0,0]
[null,"(-) IRPJ",{"$f":"IF(C28<0,0,(C28-C30)*Premissas!B$8)","v":8.3545933964884469},{"$f":"IF(D28<0,0,(D28-D30)*Premissas!C$8)","v":0},{"$f":"IF(E28<0,0,(E28-E30)*Premissas!D$8)","v":11.30370281636884},{"$f":"IF(F28<0,0,(F28-F30)*Premissas!E$8)","v":6.2886502733524736},{"$f":"IF(G28<0,0,(G28-G30)*Premissas!F$8)","v":5.2144347543083427}]
[null,"(-) CSLL",{"$f":"IF(C28<0,0,(C28-C30)*Premissas!B$9)","v":3.0076536227358406},{"$f":"IF(D28<0,0,(D28-D30)*Premissas!C$9)","v":0},{"$f":"IF(E28<0,0,(E28-E30)*Premissas!D$9)","v":4.0693330138927823},{"$f":"IF(F28<0,0,(F28-F30)*Premissas!E$9)","v":2.2639140984068904},{"$f":"IF(G28<0,0,(G28-G30)*Premissas!F$9)","v":1.8771965115510032}]
[null,"Lucro (Prejuízo) após IRPJ/CSLL (1)",{"$f":"C25-C31-C32-C35","v":16.146393913147403},{"$f":"D25-D31-D32-D35","v":-27.522305963839415},22.207253304137843,9.0217619098802366,4.7706467127927423]
[null,"Investimentos (2)"]
[null,"Depreciação ou Amortização Contábil (3)",{"$f":"C26","v":0},{"$f":"D26","v":0},{"$f":"E26","v":0},0,0]
[null,"Valor Residual (4)"]
[null,"Variação da Necessidade Líquida de Capital de Giro (5)",{"$f":"C13/12+SUM(C14:C23)/8+C24/6","v":17.28270703510913},{"$f":"D13/12+SUM(D14:D23)/8+D24/6-SUM($C$37:C37)","v":0.52895706600586223},{"$f":"E13/12+SUM(E14:E23)/8+E24/6-SUM($C$37:D37)","v":5.4936666676629287},{"$f":"F13/12+SUM(F14:F23)/8+F24/6-SUM($C$37:E37)","v":-4.0558505163330665},{"$f":"G13/12+SUM(G14:G23)/8+G24/6-SUM($C$37:F37)","v":1.9124138200148479}]
[null,"Fluxo de Caixa Livre da Firma = (1) - (2) + (3) + (4) - (5)",{"$f":"C33-C34+C35+C36-C37","v":-1.1363131219617273},{"$f":"D33-D34+D35+D36-D37","v":-28.051263029845277},{"$f":"E33-E34+E35+E36-E37","v":16.713586636474915},{"$f":"F33-F34+F35+F36-F37","v":13.077612426213303},2.8582328927778944]
[null,"Valor Presente Líquido do Fluxo de Caixa Livre da Firma",{"$f":"+NPV(C42,C38:G38)","v":3.0227051113337598E-14}]
[null,"Tarifa de Transporte Máxima","R$/Mil m3","R$/Mil m3/km","R$/MMBtu","US$/MMBtu"]
[null,null,2.7202808625380999E-2,null,{"$f":"C41/(F52*1000)","v":7.2925520876186288E-4},{"$f":"E41/Premissas!$B$66","v":1.9190926546364814E-4}]
[null,"Taxa de Desconto do Fluxo de Caixa Livre da Firma",{"$f":"Premissas!$B$51/100","v":7.2499999999999995E-2}]
[null,"Taxa Interna de Retorno (a.a.) - WACC 1",{"$f":"IRR(B72:G72)","v":7.2499734652056391E-2}]
[null,"Nota: a) EBITDA = Earnings before interest, taxes, depreciation, and amortization."]
[]
[null,"Dados :",2020,2021,2022,2023,2024]
[null,"Capacidade Contratada de Transporte Total (mil m3/dia)",{"$f":"+(C62*C65)+(C63*C66)","v":17587.087599999999},{"$f":"+(D62*D65)+(D63*D66)","v":11734.9022},20540.001199999999,17279.658953345966,18195.387986569109]
[null,"Capacidade Contratada de Transporte Total (mil m3/ano)",{"$f":"C47*C51","v":6436874.0615999997},{"$f":"D47*D51","v":4283239.3030000003},{"$f":"E47*E51","v":7497100.4379999992},{"$f":"F47*F51","v":6307075.5179712782},6659512.0030842936]
[null,"Capacidade Contratada de Transporte Total (MMBtu/ano)",{"$f":"C48*C52","v":234816.80611389258},{"$f":"D48*D52","v":156252.33045214368},279658.18551564304,235267.66245865019,248414.31145332605]
[null,"Duração Ano (dias)",{"$f":"Premissas!B59","v":366},{"$f":"Premissas!C59","v":365},{"$f":"Premissas!D59","v":365},{"$f":"Premissas!E59","v":365},{"$f":"Premissas!F59","v":366}]
[null,"Dias Operacionais (dias)",{"$f":"Premissas!B60","v":366},{"$f":"Premissas!C60","v":365},{"$f":"Premissas!D60","v":365},{"$f":"Premissas!E60","v":365},{"$f":"Premissas!F60","v":366}]
[null,"Fator de conversão (MMBtu/m³)",{"$f":"Premissas!B57","v":3.6479944126097237E-2},{"$f":"Premissas!C57","v":3.6479944126097237E-2},{"$f":"Premissas!D57","v":3.7302179399673008E-2},{"$f":"Premissas!E57","v":3.7302179399673008E-2},{"$f":"Premissas!F57","v":3.7302179399673008E-2}]
[]
[]
[]
[]
[]
[]
[null,null,2020,2021,2022,2023,2024]
[null,"Alocação PB - Entrada",{"$f":"'Fluxo de Caixa Regulado'!C60","v":12000},{"$f":"'Fluxo de Caixa Regulado'!D60","v":12000},{"$f":"'Fluxo de Caixa Regulado'!E60","v":6000},{"$f":"'Fluxo de Caixa Regulado'!F60","v":6000},{"$f":"'Fluxo de Caixa Regulado'!G60","v":6000}]
[null,"Alocação PB - Saída",{"$f":"'Fluxo de Caixa Regulado'!C61","v":12000},{"$f":"'Fluxo de Caixa Regulado'!D61","v":12000},{"$f":"'Fluxo de Caixa Regulado'!E61","v":11200},{"$f":"'Fluxo de Caixa Regulado'!F61","v":11200},{"$f":"'Fluxo de Caixa Regulado'!G61","v":11200}]
[null,"Demanda novos Contratos - Entrada",{"$f":"'Fluxo de Caixa Regulado'!C62","v":18080.002},{"$f":"'Fluxo de Caixa Regulado'!D62","v":11500.001},{"$f":"'Fluxo de Caixa Regulado'!E62","v":21458},{"$f":"'Fluxo de Caixa Regulado'!F62","v":17983.160401612968},{"$f":"'Fluxo de Caixa Regulado'!G62","v":19146.155493506896}]
[null,"Demanda novos Contratos - Saída",{"$f":"'Fluxo de Caixa Regulado'!C63","v":16436.954000000002},{"$f":"'Fluxo de Caixa Regulado'!D63","v":12283.005000000001},{"$f":"'Fluxo de Caixa Regulado'!E63","v":18398.004000000001},{"$f":"'Fluxo de Caixa Regulado'!F63","v":15638.155574056291},{"$f":"'Fluxo de Caixa Regulado'!G63","v":15976.930470380938}]
[]
[null,"% Entrada",{"$f":"+'Cálculo Encargos ECE, ECT e ECS'!I72","v":0.7},{"$f":"+C65","v":0.7},{"$f":"+D65","v":0.7},0.7,0.7]
[null,"% Saída",{"$f":"+'Cálculo Encargos ECE, ECT e ECS'!I73","v":0.30000000000000004},{"$f":"+C66","v":0.30000000000000004},0.30000000000000004,0.30000000000000004,0.30000000000000004]
[]
[]
[]
[]
[]
["BRA + FC",{"$f":"-0.00001","v":-1.0000000000000001E-5},{"$f":"+C38","v":-1.1363131219617273},{"$f":"+D38","v":-28.051263029845277},16.713586636474915,13.077612426213303,2.8582328927778944]

{"sheet":"FC Total","index":16,"n_rows":72,"n_cols":7,"rows_kept":72,"cut":false,"hidden":false,"merged":[]}
[]
[null,"CÁLCULO TARIFÁRIO - Encargo de Capacidade de Transporte"]
[]
[null,"Fluxo de Caixa Livre da Chamada Pública (em R$ mil) - em termos reais a preços de Dez/2019",2020,2021,2022,2023,2024]
[]
[null,"Receita Bruta da Prestação de Serviço de Transporte",{"$f":"C12/(1-Premissas!B10-Premissas!B11-Premissas!B12)","v":1173731.5448457738},{"$f":"D12/(1-Premissas!C10-Premissas!C11-Premissas!C12)","v":818380.30527308804},{"$f":"E12/(1-Premissas!D10-Premissas!D11-Premissas!D12)","v":1671136.1634413127},{"$f":"F12/(1-Premissas!E10-Premissas!E11-Premissas!E12)","v":1479471.1799495851},{"$f":"G12/(1-Premissas!F10-Premissas!F11-Premissas!F12)","v":1567889.3556906199}]
[null,"(-) ICMS",{"$f":"C6*Premissas!B$10","v":142508.20596614253},{"$f":"D6*Premissas!C$10","v":112447.54781374776},{"$f":"E6*Premissas!D$10","v":231678.93863961296},{"$f":"F6*Premissas!E$10","v":197198.17222837292},{"$f":"G6*Premissas!F$10","v":213432.01535145799}]
[null,"(-) PIS ",{"$f":"C6*Premissas!B$11","v":19366.570489955269},{"$f":"D6*Premissas!C$11","v":13503.275037005953},{"$f":"E6*Premissas!D$11","v":27573.746696781662},{"$f":"F6*Premissas!E$11","v":24411.274469168155},{"$f":"G6*Premissas!F$11","v":25870.17436889523}]
[null,"(-) COFINS",{"$f":"C6*Premissas!B$12","v":89203.597408278816},{"$f":"D6*Premissas!C$12","v":62196.903200754692},{"$f":"E6*Premissas!D$12","v":127006.34842153976},{"$f":"F6*Premissas!E$12","v":112439.80967616847},{"$f":"G6*Premissas!F$12","v":119159.59103248711}]
[null,"(-) Demais Impostos e Contribuições sobre a Prestação de Serviço de Transporte",0,0,0,0,0]
[null,"(-) Deduções e Abatimentos",0,0,0,0,0]
[null,"Receita Operacional Líquida",922653.17098139727,630232.57922157971,1284877.1296833784,{"$f":"($E$41*F49)","v":1145421.9235758758},{"$f":"($E$41*G49)","v":1209427.5749377797}]
[null,"(-) Salários e Benefícios",{"$f":"'FC E-S'!C13+'FC ECTL'!C13+'FC EM'!C13","v":146114.82017859368},{"$f":"'FC E-S'!D13+'FC ECTL'!D13+'FC EM'!D13","v":146114.82017859368},{"$f":"'FC E-S'!E13+'FC ECTL'!E13+'FC EM'!E13","v":187513.15831563674},{"$f":"'FC E-S'!F13+'FC ECTL'!F13+'FC EM'!F13","v":181843.52012779919},{"$f":"'FC E-S'!G13+'FC ECTL'!G13+'FC EM'!G13","v":181843.52012779919}]
[null,"(-) Manutenção e Operação de Compressores",{"$f":"'FC E-S'!C14+'FC ECTL'!C14+'FC EM'!C14","v":6317.1363996057135},{"$f":"'FC E-S'!D14+'FC ECTL'!D14+'FC EM'!D14","v":6256.3856434832569},{"$f":"'FC E-S'!E14+'FC ECTL'!E14+'FC EM'!E14","v":7511.2009648292269},{"$f":"'FC E-S'!F14+'FC ECTL'!F14+'FC EM'!F14","v":5143.2824012041219},{"$f":"'FC E-S'!G14+'FC ECTL'!G14+'FC EM'!G14","v":13842.761801126895}]
[null,"(-) Manutenção do Sistema de Proteção Catódica",{"$f":"'FC E-S'!C15+'FC ECTL'!C15+'FC EM'!C15","v":1898.348325395456},{"$f":"'FC E-S'!D15+'FC ECTL'!D15+'FC EM'!D15","v":741.28170775721662},{"$f":"'FC E-S'!E15+'FC ECTL'!E15+'FC EM'!E15","v":987.28227449080612},{"$f":"'FC E-S'!F15+'FC ECTL'!F15+'FC EM'!F15","v":1303.9866194194028},{"$f":"'FC E-S'!G15+'FC ECTL'!G15+'FC EM'!G15","v":1303.9866194194028}]
[null,"(-) Outras Manutenções",{"$f":"'FC E-S'!C16+'FC ECTL'!C16+'FC EM'!C16","v":15310.538844337714},{"$f":"'FC E-S'!D16+'FC ECTL'!D16+'FC EM'!D16","v":14713.700629142812},{"$f":"'FC E-S'!E16+'FC ECTL'!E16+'FC EM'!E16","v":21014.039725238152},{"$f":"'FC E-S'!F16+'FC ECTL'!F16+'FC EM'!F16","v":26165.987174071433},{"$f":"'FC E-S'!G16+'FC ECTL'!G16+'FC EM'!G16","v":26165.987174071433}]
[null,"(-) Conservação e Manutenção da Faixa de Servidão do Duto",{"$f":"'FC E-S'!C17+'FC ECTL'!C17+'FC EM'!C17","v":12802.479708099359},{"$f":"'FC E-S'!D17+'FC ECTL'!D17+'FC EM'!D17","v":12940.472149081857},{"$f":"'FC E-S'!E17+'FC ECTL'!E17+'FC EM'!E17","v":17418.663015970669},{"$f":"'FC E-S'!F17+'FC ECTL'!F17+'FC EM'!F17","v":13984.45887729943},{"$f":"'FC E-S'!G17+'FC ECTL'!G17+'FC EM'!G17","v":13984.45887729943}]
[null,"(-) Combustíveis e Lubrificantes",{"$f":"'FC E-S'!C18+'FC ECTL'!C18+'FC EM'!C18","v":967.52935570976661},{"$f":"'FC E-S'!D18+'FC ECTL'!D18+'FC EM'!D18","v":967.52935570976467},{"$f":"'FC E-S'!E18+'FC ECTL'!E18+'FC EM'!E18","v":1288.6121064984034},{"$f":"'FC E-S'!F18+'FC ECTL'!F18+'FC EM'!F18","v":1314.3552775913643},{"$f":"'FC E-S'!G18+'FC ECTL'!G18+'FC EM'!G18","v":1314.3552775913643}]
[null,"(-) Gás de Uso no Sistema / Energia Elétrica para Acionamento dos Compressores",{"$f":"'FC E-S'!C19+'FC ECTL'!C19+'FC EM'!C19","v":0},{"$f":"'FC E-S'!D19+'FC ECTL'!D19+'FC EM'!D19","v":0},{"$f":"'FC E-S'!E19+'FC ECTL'!E19+'FC EM'!E19","v":0},{"$f":"'FC E-S'!F19+'FC ECTL'!F19+'FC EM'!F19","v":0},{"$f":"'FC E-S'!G19+'FC ECTL'!G19+'FC EM'!G19","v":0}]
[null,"(-) Serviços de Utilidade Pública (Energia Elétrica, Água e Esgoto etc.) e Comunicação",{"$f":"'FC E-S'!C20+'FC ECTL'!C20+'FC EM'!C20","v":4080.8057746907989},{"$f":"'FC E-S'!D20+'FC ECTL'!D20+'FC EM'!D20","v":4080.8057746907989},{"$f":"'FC E-S'!E20+'FC ECTL'!E20+'FC EM'!E20","v":4665.4816031805822},{"$f":"'FC E-S'!F20+'FC ECTL'!F20+'FC EM'!F20","v":4580.2925299897342},{"$f":"'FC E-S'!G20+'FC ECTL'!G20+'FC EM'!G20","v":4580.2925299897342}]
[null,"(-) Aluguéis e Seguros",{"$f":"'FC E-S'!C21+'FC ECTL'!C21+'FC EM'!C21","v":7917.0180999804306},{"$f":"'FC E-S'!D21+'FC ECTL'!D21+'FC EM'!D21","v":7917.0180999804306},{"$f":"'FC E-S'!E21+'FC ECTL'!E21+'FC EM'!E21","v":10544.347115460661},{"$f":"'FC E-S'!F21+'FC ECTL'!F21+'FC EM'!F21","v":8971.7276006335596},{"$f":"'FC E-S'!G21+'FC ECTL'!G21+'FC EM'!G21","v":8971.7276006335596}]
[null,"(-) Aquisição e Passagem de Pigs de Limpeza e Instrumentados",{"$f":"'FC E-S'!C22+'FC ECTL'!C22+'FC EM'!C22","v":934.2088254515063},{"$f":"'FC E-S'!D22+'FC ECTL'!D22+'FC EM'!D22","v":5009.1256076646505},{"$f":"'FC E-S'!E22+'FC ECTL'!E22+'FC EM'!E22","v":4750.8782496401045},{"$f":"'FC E-S'!F22+'FC ECTL'!F22+'FC EM'!F22","v":5961.9985924758766},{"$f":"'FC E-S'!G22+'FC ECTL'!G22+'FC EM'!G22","v":5961.9985924758766}]
[null,"(-) Outros Custos e Despesas",{"$f":"'FC E-S'!C23+'FC ECTL'!C23+'FC EM'!C23","v":28390.145983391405},{"$f":"'FC E-S'!D23+'FC ECTL'!D23+'FC EM'!D23","v":28398.092853980321},{"$f":"'FC E-S'!E23+'FC ECTL'!E23+'FC EM'!E23","v":37834.334834206493},{"$f":"'FC E-S'!F23+'FC ECTL'!F23+'FC EM'!F23","v":20138.879953769945},{"$f":"'FC E-S'!G23+'FC ECTL'!G23+'FC EM'!G23","v":20138.879953769945}]
[null,"(-) Despesas Gerais e Administrativas (G&A) Atribuíveis ao Empreendimento",{"$f":"'FC E-S'!C24+'FC ECTL'!C24+'FC EM'!C24","v":40373.924699468043},{"$f":"'FC E-S'!D24+'FC ECTL'!D24+'FC EM'!D24","v":31623.115374550402},{"$f":"'FC E-S'!E24+'FC ECTL'!E24+'FC EM'!E24","v":40700.773547472607},{"$f":"'FC E-S'!F24+'FC ECTL'!F24+'FC EM'!F24","v":21362.491031150759},{"$f":"'FC E-S'!G24+'FC ECTL'!G24+'FC EM'!G24","v":21362.491031150759}]
[null,"EBITDAa",{"$f":"C12-SUM(C13:C24)","v":657546.21478667343},{"$f":"D12-SUM(D13:D24)","v":371470.23184694455},950648.35793075396,854650.94339047116,909957.11535245215]
[null,"(-) Depreciação e Amortização Fiscal",{"$f":"'FC E-S'!C26+'FC ECTL'!C26+'FC EM'!C26","v":106306.50323847892},{"$f":"'FC E-S'!D26+'FC ECTL'!D26+'FC EM'!D26","v":108994.7324261692},{"$f":"'FC E-S'!E26+'FC ECTL'!E26+'FC EM'!E26","v":155747.02683416422},{"$f":"'FC E-S'!F26+'FC ECTL'!F26+'FC EM'!F26","v":157692.23747392488},{"$f":"'FC E-S'!G26+'FC ECTL'!G26+'FC EM'!G26","v":169666.07349843974}]
[null,"(+) Crédito PIS/COFINS (O&M e Conservação e Manutenção da Faixa de Servidão)",{"$f":"(C14+C15+C16+C17)*(Premissas!B$11+Premissas!B$12)","v":3360.3865531630372},{"$f":"(D14+D15+D16+D17)*(Premissas!C$11+Premissas!C$12)","v":3205.2952119755255},{"$f":"(E14+E15+E16+E17)*(Premissas!D$11+Premissas!D$12)","v":4341.1347031989189},{"$f":"(F14+F15+F16+F17)*(Premissas!E$11+Premissas!E$12)","v":4310.288644159481},{"$f":"(G14+G15+G16+G17)*(Premissas!F$11+Premissas!F$12)","v":5114.9904886523373}]
[null,"Lucro Antes de IRPJ e CSLL",{"$f":"C25-C26+C27","v":554600.09810135758},{"$f":"D25-D26+D27","v":265680.79463275085},799242.46579978871,701268.99456070573,745406.03234266478]
[null,"Prejuízos Acumulados",{"$f":"MIN(0,C28)","v":0},{"$f":"MIN(0,D28)","v":0},0,0,0]
["","Benefício Fiscal decorrente de Prejuízos Acumulados",0,0,0,0,0]
[null,"(-) IRPJ",{"$f":"IF(C28<0,0,(C28-C30)*Premissas!B$8)","v":138650.0245253394},{"$f":"IF(D28<0,0,(D28-D30)*Premissas!C$8)","v":66420.198658187714},{"$f":"IF(E28<0,0,(E28-E30)*Premissas!D$8)","v":199810.61644994718},{"$f":"IF(F28<0,0,(F28-F30)*Premissas!E$8)","v":175317.24864017643},{"$f":"IF(G28<0,0,(G28-G30)*Premissas!F$8)","v":186351.5080856662}]
[null,"(-) CSLL",{"$f":"IF(C28<0,0,(C28-C30)*Premissas!B$9)","v":49914.008829122184},{"$f":"IF(D28<0,0,(D28-D30)*Premissas!C$9)","v":23911.271516947578},{"$f":"IF(E28<0,0,(E28-E30)*Premissas!D$9)","v":71931.821921980983},{"$f":"IF(F28<0,0,(F28-F30)*Premissas!E$9)","v":63114.209510463515},{"$f":"IF(G28<0,0,(G28-G30)*Premissas!F$9)","v":67086.542910839824}]
[null,"Lucro (Prejuízo) após IRPJ/CSLL (1)",{"$f":"C25-C31-C32-C35","v":197681.3230301484},{"$f":"D25-D31-D32-D35","v":13495.610819116468},319988.47940614738,263171.08111348876,299010.5229224895]
[null,"Investimentos (2)",{"$f":"'FC E-S'!C34+'FC ECTL'!C34+'FC EM'!C34","v":161120.02107907413},{"$f":"'FC E-S'!D34+'FC ECTL'!D34+'FC EM'!D34","v":79404.98340729608},{"$f":"'FC E-S'!E34+'FC ECTL'!E34+'FC EM'!E34","v":870805.2230287625},{"$f":"'FC E-S'!F34+'FC ECTL'!F34+'FC EM'!F34","v":194222.91942872159},{"$f":"'FC E-S'!G34+'FC ECTL'!G34+'FC EM'!G34","v":75518.049939055447}]
[null,"Depreciação ou Amortização Contábil (3)",{"$f":"'FC E-S'!C35+'FC ECTL'!C35+'FC EM'!C35","v":271300.85840206349},{"$f":"'FC E-S'!D35+'FC ECTL'!D35+'FC EM'!D35","v":267643.15085269278},{"$f":"'FC E-S'!E35+'FC ECTL'!E35+'FC EM'!E35","v":358917.44015267852},{"$f":"'FC E-S'!F35+'FC ECTL'!F35+'FC EM'!F35","v":353048.4041263425},{"$f":"'FC E-S'!G35+'FC ECTL'!G35+'FC EM'!G35","v":357508.54143345664}]
[null,"Valor Residual (4)",{"$f":"'FC E-S'!C36+'FC ECTL'!C36+'FC EM'!C36","v":0},{"$f":"'FC E-S'!D36+'FC ECTL'!D36+'FC EM'!D36","v":0},{"$f":"'FC E-S'!E36+'FC ECTL'!E36+'FC EM'!E36","v":0},{"$f":"'FC E-S'!F36+'FC ECTL'!F36+'FC EM'!F36","v":0},{"$f":"'FC E-S'!G36+'FC ECTL'!G36+'FC EM'!G36","v":2155779.2509615216}]
[null,"Variação da Necessidade Líquida de Capital de Giro (5)",{"$f":"C13/12+SUM(C14:C23)/8+C24/6","v":28732.498879376912},{"$f":"D13/12+SUM(D14:D23)/8+D24/6-SUM($C$37:C37)","v":-1157.6931577159812},{"$f":"E13/12+SUM(E14:E23)/8+E24/6-SUM($C$37:D37)","v":8086.6080487436193},{"$f":"F13/12+SUM(F14:F23)/8+F24/6-SUM($C$37:E37)","v":-6001.750792922634},{"$f":"G13/12+SUM(G14:G23)/8+G24/6-SUM($C$37:F37)","v":1087.4349249903462}]
[null,"Fluxo de Caixa Livre da Firma = (1) - (2) + (3) + (4) - (5)",{"$f":"C33-C34+C35+C36-C37","v":279129.66147376085},{"$f":"D33-D34+D35+D36-D37","v":202891.47142222917},{"$f":"E33-E34+E35+E36-E37","v":-199985.91151868022},{"$f":"F33-F34+F35+F36-F37","v":427998.3166040323},2735692.8304534219]
[null,"Valor Presente Líquido do Fluxo de Caixa Livre da Firma",{"$f":"-'Investimento e Depreciação'!F88+NPV(C42,C38:G38)","v":0}]
[null,"Tarifa de Transporte Máxima","R$/Mil m3","R$/Mil m3/km","R$/MMBtu","US$/MMBtu"]
[null,null,181.60903897727707,null,{"$f":"C41/(F52*1000)","v":4.8685905729912671},{"$f":"E41/Premissas!$B$66","v":1.2812080455240178}]
[null,"Taxa de Desconto do Fluxo de Caixa Livre da Firma",{"$f":"Premissas!$B$51/100","v":7.2499999999999995E-2}]
[null,"Taxa Interna de Retorno (a.a.) - WACC 1",{"$f":"IRR(B72:G72)","v":7.2500000000000009E-2}]
[null,"Nota: a) EBITDA = Earnings before interest, taxes, depreciation, and amortization."]
[]
[null,"Dados :",2020,2021,2022,2023,2024]
[null,"Capacidade Contratada de Transporte Total (mil m3/dia)",{"$f":"+(C62*C65)+(C63*C66)","v":17587.087599999999},{"$f":"+(D62*D65)+(D63*D66)","v":11734.9022},20540.001199999999,17279.658953345966,18195.387986569109]
[null,"Capacidade Contratada de Transporte Total (mil m3/ano)",{"$f":"C47*C51","v":6436874.0615999997},{"$f":"D47*D51","v":4283239.3030000003},{"$f":"E47*E51","v":7497100.4379999992},{"$f":"F47*F51","v":6307075.5179712782},6659512.0030842936]
[null,"Capacidade Contratada de Transporte Total (MMBtu/ano)",{"$f":"C48*C52","v":234816.80611389258},{"$f":"D48*D52","v":156252.33045214368},279658.18551564304,235267.66245865019,248414.31145332605]
[null,"Duração Ano (dias)",{"$f":"Premissas!B59","v":366},{"$f":"Premissas!C59","v":365},{"$f":"Premissas!D59","v":365},{"$f":"Premissas!E59","v":365},{"$f":"Premissas!F59","v":366}]
[null,"Dias Operacionais (dias)",{"$f":"Premissas!B60","v":366},{"$f":"Premissas!C60","v":365},{"$f":"Premissas!D60","v":365},{"$f":"Premissas!E60","v":365},{"$f":"Premissas!F60","v":366}]
[null,"Fator de conversão (MMBtu/m³)",{"$f":"Premissas!B57","v":3.6479944126097237E-2},{"$f":"Premissas!C57","v":3.6479944126097237E-2},{"$f":"Premissas!D57","v":3.7302179399673008E-2},{"$f":"Premissas!E57","v":3.7302179399673008E-2},{"$f":"Premissas!F57","v":3.7302179399673008E-2}]
[]
[]
[]
[]
[]
[]
[null,null,2020,2021,2022,2023,2024]
[null,"Alocação PB - Entrada",{"$f":"'Fluxo de Caixa Regulado'!C60","v":12000},{"$f":"'Fluxo de Caixa Regulado'!D60","v":12000},{"$f":"'Fluxo de Caixa Regulado'!E60","v":6000},{"$f":"'Fluxo de Caixa Regulado'!F60","v":6000},{"$f":"'Fluxo de Caixa Regulado'!G60","v":6000}]
[null,"Alocação PB - Saída",{"$f":"'Fluxo de Caixa Regulado'!C61","v":12000},{"$f":"'Fluxo de Caixa Regulado'!D61","v":12000},{"$f":"'Fluxo de Caixa Regulado'!E61","v":11200},{"$f":"'Fluxo de Caixa Regulado'!F61","v":11200},{"$f":"'Fluxo de Caixa Regulado'!G61","v":11200}]
[null,"Demanda novos Contratos - Entrada",{"$f":"'Fluxo de Caixa Regulado'!C62","v":18080.002},{"$f":"'Fluxo de Caixa Regulado'!D62","v":11500.001},{"$f":"'Fluxo de Caixa Regulado'!E62","v":21458},{"$f":"'Fluxo de Caixa Regulado'!F62","v":17983.160401612968},{"$f":"'Fluxo de Caixa Regulado'!G62","v":19146.155493506896}]
[null,"Demanda novos Contratos - Saída",{"$f":"'Fluxo de Caixa Regulado'!C63","v":16436.954000000002},{"$f":"'Fluxo de Caixa Regulado'!D63","v":12283.005000000001},{"$f":"'Fluxo de Caixa Regulado'!E63","v":18398.004000000001},{"$f":"'Fluxo de Caixa Regulado'!F63","v":15638.155574056291},{"$f":"'Fluxo de Caixa Regulado'!G63","v":15976.930470380938}]
[]
[null,"% Entrada",{"$f":"+'Cálculo Encargos ECE, ECT e ECS'!I72","v":0.7},{"$f":"+C65","v":0.7},{"$f":"+D65","v":0.7},0.7,0.7]
[null,"% Saída",{"$f":"+'Cálculo Encargos ECE, ECT e ECS'!I73","v":0.30000000000000004},{"$f":"+C66","v":0.30000000000000004},0.30000000000000004,0.30000000000000004,0.30000000000000004]
[]
[]
[]
[]
[]
["BRA + FC",{"$f":"-'Investimento e Depreciação'!F88","v":-2525907.4040202554},{"$f":"+C38","v":279129.66147376085},{"$f":"+D38","v":202891.47142222917},-199985.91151868022,427998.3166040323,2735692.8304534219]

{"sheet":"C. Capacidade","index":17,"n_rows":73,"n_cols":13,"rows_kept":73,"cut":false,"hidden":true,"merged":[]}
[]
[null,"CAPACIDADE - Cenário de Capacidade  (C)"]
[null,"Capacidade de Entrada  (CE)"]
[null,null,2020,2021,2022,2023,2024,"Total","%","Média"]
[null,"Capacidade em mil m3/dia - Entrada",{"$f":"SUM(C6:C8)","v":21144},{"$f":"SUM(D6:D8)","v":21144},21144,21144,21144,{"$f":"SUM(C5:G5)","v":105720},{"$f":"H5/H5","v":1},{"$f":"AVERAGE(C5:G5)","v":21144}]
[null,"EMED Corumbá",18144,18144,18144,18144,18144,{"$f":"SUM(C6:G6)","v":90720},{"$f":"H6/H5","v":0.85811577752553914},{"$f":"AVERAGE(C6:G6)","v":18144}]
[null,"EMED Gascar",3000,3000,3000,3000,3000,{"$f":"SUM(C7:G7)","v":15000},{"$f":"H7/H5","v":0.14188422247446084},{"$f":"AVERAGE(C7:G7)","v":3000}]
[null,"EMED XXX",null,null,null,null,null,{"$f":"SUM(C8:G8)","v":0},{"$f":"H8/H5","v":0}]
[]
[null,"Capacidade de Saída (CX)"]
[null,null,2020,2021,2022,2023,2024,"Total","%","Média"]
[null,"Capacidade em mil m3/dia - Saída",{"$f":"SUM(C13:C23)","v":20817},{"$f":"SUM(D13:D23)","v":20817},20817,20817,20817,{"$f":"SUM(C12:G12)","v":104085},{"$f":"+H12/$H$12","v":1},{"$f":"AVERAGE(C12:G12)","v":20817}]
[null,"MS1",3760,3760,3760,3760,3760,{"$f":"SUM(C13:G13)","v":18800},{"$f":"+H13/$H$12","v":0.18062160734015467},{"$f":"AVERAGE(C13:G13)","v":3760}]
[null,"SP1",2500,2500,2500,2500,2500,12500,{"$f":"+H14/$H$12","v":0.12009415381659221},{"$f":"AVERAGE(C14:G14)","v":2500}]
[null,"SP2",10800,10800,10800,10800,10800,54000,0.51880674448767838,{"$f":"AVERAGE(C15:G15)","v":10800}]
[null,"SP3",10,10,10,10,10,50,4.8037661526636886E-4,10]
[null,"SP4",1320,1320,1320,1320,1320,6600,6.3409713215160687E-2,1320]
[null,"PR1",10,10,10,10,10,50,4.8037661526636886E-4,10]
[null,"SC1",1231,1231,1231,1231,1231,6155,5.9134361339290002E-2,1231]
[null,"SC2",676,676,676,676,676,3380,3.2473459192006532E-2,676]
[null,"RS1",10,10,10,10,10,50,4.8037661526636886E-4,10]
[null,"EMED Gascar",500,500,500,500,500,{"$f":"SUM(C22:G22)","v":2500},2.4018830763318441E-2,500]
[null,"EMED XXX",null,null,null,null,null,{"$f":"SUM(C23:G23)","v":0},{"$f":"+H23/$H$12","v":0}]
[]
[null,"CAPACIDADE - Cenário de Capacidade  (C)"]
[null,"Capacidade de Entrada  (CE)"]
[null,null,2020,2021,2022,2023,2024,"Total","%","Média"]
[null,"Capacidade em mil m3/ano - Entrada",{"$f":"SUM(C29:C31)","v":7738704},{"$f":"SUM(D29:D31)","v":7717560},7717560,7717560,7738704,{"$f":"SUM(C28:G28)","v":38630088},{"$f":"H28/H28","v":1},{"$f":"AVERAGE(C28:G28)","v":7726017.5999999996}]
[null,"Bolívia",{"$f":"C6*C$73","v":6640704},6622560,6622560,6622560,6640704,{"$f":"SUM(C29:G29)","v":33149088},{"$f":"H29/H28","v":0.85811577752553914},{"$f":"AVERAGE(C29:G29)","v":6629817.5999999996}]
[null,"Gascar",1098000,1095000,1095000,1095000,1098000,{"$f":"SUM(C30:G30)","v":5481000},{"$f":"H30/H28","v":0.14188422247446084},{"$f":"AVERAGE(C30:G30)","v":1096200}]
[null,"EMED XXX",0,0,0,0,0,{"$f":"SUM(C31:G31)","v":0},{"$f":"H31/H28","v":0},{"$f":"AVERAGE(C31:G31)","v":0}]
[]
[null,"Capacidade de Saída (CX)"]
[null,null,2020,2021,2022,2023,2024,"Total","%","Média"]
[null,"Capacidade em mil m3/ano - Saída",{"$f":"SUM(C36:C46)","v":7619022},{"$f":"SUM(D36:D46)","v":7598205},7598205,7598205,{"$f":"SUM(G36:G46)","v":7619022},{"$f":"SUM(C35:G35)","v":38032659},{"$f":"+H35/$H$35","v":1},{"$f":"AVERAGE(C35:G35)","v":7606531.7999999998}]
[null,{"$f":"+B13","v":"MS1"},{"$f":"C13*C$73","v":1376160},1372400,1372400,1372400,1376160,{"$f":"SUM(C36:G36)","v":6869520},0.18062160734015467,{"$f":"AVERAGE(C36:G36)","v":1373904}]
[null,"SP1",{"$f":"C14*C$73","v":915000},912500,912500,912500,915000,4567500,0.12009415381659221,{"$f":"AVERAGE(C37:G37)","v":913500}]
[null,"SP2",{"$f":"C15*C$73","v":3952800},3942000,3942000,3942000,3952800,{"$f":"SUM(C38:G38)","v":19731600},0.51880674448767838,3946320]
[null,"SP3",{"$f":"C16*C$73","v":3660},3650,3650,3650,3660,{"$f":"SUM(C39:G39)","v":18270},4.8037661526636886E-4,3654]
[null,"SP4",{"$f":"C17*C$73","v":483120},481800,481800,481800,483120,2411640,6.3409713215160687E-2,482328]
[null,"PR1",{"$f":"C18*C$73","v":3660},3650,3650,3650,3660,18270,4.8037661526636886E-4,3654]
[null,"SC1",{"$f":"C19*C$73","v":450546},449315,449315,449315,450546,2249037,{"$f":"+H42/$H$35","v":5.9134361339290002E-2},449807.4]
[null,"SC2",{"$f":"C20*C$73","v":247416},246740,246740,246740,247416,1235052,3.2473459192006532E-2,247010.4]
[null,"RS1",{"$f":"C21*C$73","v":3660},3650,3650,3650,3660,{"$f":"SUM(C44:G44)","v":18270},4.8037661526636886E-4,3654]
[null,"EMED Gascar",{"$f":"C22*C$73","v":183000},182500,182500,182500,183000,{"$f":"SUM(C45:G45)","v":913500},{"$f":"+H45/$H$35","v":2.4018830763318441E-2},{"$f":"AVERAGE(C45:G45)","v":182700}]
[null,{"$f":"+B23","v":"EMED XXX"},{"$f":"C23*C$73","v":0},0,0,0,0,0,{"$f":"+H46/$H$35","v":0},0]
[]
[null,"CAPACIDADE - Cenário de Capacidade  (C)"]
[null,"Capacidade de Entrada  (CE)"]
[null,null,2020,2021,2022,2023,2024,"Total","%","Média"]
[null,"Capacidade em MMBtu/ano - Entrada",{"$f":"SUM(C52:C54)","v":282307489.52840519},{"$f":"SUM(D52:D54)","v":281536157.58980298},281536157.58980298,281536157.58980298,{"$f":"SUM(G52:G54)","v":282307489.52840519},{"$f":"SUM(C51:G51)","v":1409223451.8262193},{"$f":"H51/H51","v":1},{"$f":"AVERAGE(C51:G51)","v":281844690.36524385}]
[null,"Bolívia",{"$f":"+C29*$M$66","v":242252510.87795043},241590618.77172652,241590618.77172652,241590618.77172652,242252510.87795043,{"$f":"SUM(C52:G52)","v":1209276878.0710802},{"$f":"H52/H51","v":0.85811577752553903},{"$f":"AVERAGE(C52:G52)","v":241855375.61421603}]
[null,"Gascar",40054978.650454767,39945538.818076476,39945538.818076476,39945538.818076476,40054978.650454767,{"$f":"SUM(C53:G53)","v":199946573.75513896},{"$f":"H53/H51","v":0.14188422247446084},{"$f":"AVERAGE(C53:G53)","v":39989314.751027793}]
[null,"EMED XXX",0,0,0,0,0,{"$f":"SUM(C54:G54)","v":0},{"$f":"H54/H51","v":0},{"$f":"AVERAGE(C54:G54)","v":0}]
[]
[null,"Capacidade de Saída (CX)"]
[null,null,2020,2021,2022,2023,2024,"Total","%","Média"]
[null,"Capacidade em MMBtu/ano - Saída",{"$f":"SUM(C59:C69)","v":277941496.85550565},{"$f":"SUM(D59:D69)","v":277182093.85863268},277182093.85863268,277182093.85863268,277941496.85550565,{"$f":"SUM(C58:G58)","v":1387429275.2869093},{"$f":"+H58/$H$58","v":1},{"$f":"AVERAGE(C58:G58)","v":277485855.05738187}]
[null,{"$f":"+B36","v":"MS1"},{"$f":"+C36*$M$66","v":50202239.908569977},50065075.318655849,50065075.318655849,50065075.318655849,50202239.908569977,{"$f":"SUM(C59:G59)","v":250599705.77310753},0.1806216073401547,{"$f":"AVERAGE(C59:G59)","v":50119941.154621504}]
[null,"SP1",33379148.875378974,33287949.015063729,33287949.015063729,33287949.015063729,33379148.875378974,{"$f":"SUM(C60:G60)","v":166622144.79594913},0.12009415381659219,33324428.959189825]
[null,"SP2",144197923.14163715,143803939.74507532,143803939.74507532,143803939.74507532,144197923.14163715,719807665.51850033,0.51880674448767838,143961533.10370007]
[null,"SP3",133516.5955015159,133151.79606025491,133151.79606025491,133151.79606025491,133516.5955015159,666488.57918379654,4.803766152663688E-4,133297.71583675931]
[null,"SP4",17624190.606200099,17576037.079953648,17576037.079953648,17576037.079953648,17624190.606200099,87976492.45226115,6.3409713215160687E-2,17595298.49045223,null,"1 MMBtu = 26,8 m3"]
[null,"PR1",133516.5955015159,133151.79606025491,133151.79606025491,133151.79606025491,133516.5955015159,666488.57918379654,4.803766152663688E-4,133297.71583675931,null,"1 m3 = 1/26,8 MMBtu"]
[null,"SC1",16435892.906236606,16390986.095017381,16390986.095017381,16390986.095017381,16435892.906236606,82044744.097525358,5.9134361339290002E-2,16408948.819505071,null,"1 m3 =",{"$f":"1/26.8","v":3.7313432835820892E-2}]
[null,"SC2",9025721.8559024744,9001061.4136732332,9001061.4136732332,9001061.4136732332,9025721.8559024744,45054627.952824652,3.2473459192006539E-2,9010925.5905649308,null,"1000 m3 =",{"$f":"Premissas!B57*1000","v":36.479944126097237}]
[null,"RS1",133516.5955015159,133151.79606025491,133151.79606025491,133151.79606025491,133516.5955015159,666488.57918379654,4.803766152663688E-4,133297.71583675931,null,"1 MM m3 =",{"$f":"+M66*1000","v":36479.944126097238}]
[null,"EMED Gascar",{"$f":"+C45*$M$66","v":6675829.7750757942},6657589.8030127455,6657589.8030127455,6657589.8030127455,6675829.7750757942,{"$f":"SUM(C68:G68)","v":33324428.959189825},{"$f":"+H68/$H$58","v":2.4018830763318438E-2},{"$f":"AVERAGE(C68:G68)","v":6664885.7918379651}]
[null,{"$f":"+B46","v":"EMED XXX"},{"$f":"+C46*$M$66","v":0},0,0,0,0,0,{"$f":"+H69/$H$58","v":0},0]
[]
[null,"DIAS/ANO"]
[null,null,2020,2021,2022,2023,2024,"Total","%","Média"]
[null,"Dias/Ano",{"$f":"+Premissas!B60","v":366},{"$f":"+Premissas!C60","v":365},{"$f":"+Premissas!D60","v":365},{"$f":"+Premissas!E60","v":365},{"$f":"+Premissas!F60","v":366},{"$f":"SUM(C73:G73)","v":1827},null,{"$f":"AVERAGE(C73:G73)","v":365.4}]

{"sheet":"C. Demanda","index":18,"n_rows":73,"n_cols":22,"rows_kept":73,"cut":false,"hidden":false,"merged":[]}
[]
[null,"DEMANDA - Cenário de Referência (BC)",null,null,null,null,null,null,null,null,null,null,null,"DEMANDA - Cenário de Referência (BC) "]
[null,"Estimativa de Reserva de Capacidade de Entrada  (BCE)",null,null,null,null,null,null,null,null,null,null,null,"Estimativa de Reserva de Capacidade de Entrada  (BCE)"]
[null,null,2020,2021,2022,2023,2024,"Total","%","Média",null,null,null,null,2020,2021,2022,2023,2024,"Total","%","Média"]
[null,"Demanda em mil m3/dia - Entrada",{"$f":"SUM(C6:C8)","v":18080.002},{"$f":"SUM(D6:D8)","v":11500.001},21458,17983.160401612968,19146.155493506896,{"$f":"SUM(C5:G5)","v":88167.318895119868},{"$f":"H5/H5","v":1},{"$f":"AVERAGE(C5:G5)","v":17633.463779023972},null,null,null,"Demanda em mil m3/dia - Entrada",{"$f":"O6+O7+O8","v":18080.002},{"$f":"P6+P7+P8","v":11500.001},{"$f":"Q6+Q7+Q8","v":21458},{"$f":"R6+R7+R8","v":17983.160401612968},{"$f":"S6+S7+S8","v":19146.155493506896},{"$f":"SUM(O5:S5)","v":88167.318895119868},{"$f":"T5/T5","v":1},{"$f":"AVERAGE(O5:S5)","v":17633.463779023972}]
[null,"EMED Corumbá",{"$f":"+O6","v":18080},{"$f":"+P6","v":8500},{"$f":"+Q6","v":14000},{"$f":"+R6","v":14000},{"$f":"+S6","v":14000},{"$f":"SUM(C6:G6)","v":68580},{"$f":"H6/H5","v":0.77783923634538421},{"$f":"AVERAGE(C6:G6)","v":13716},null,null,null,{"$f":"+B6","v":"EMED Corumbá"},18080,8500,14000,14000,14000,{"$f":"SUM(O6:S6)","v":68580},{"$f":"T6/T5","v":0.77783923634538421},{"$f":"AVERAGE(O6:S6)","v":13716}]
[null,"EMED Gascar",{"$f":"+O7","v":1E-3},3000,{"$f":"+Q7","v":5858},{"$f":"+R7","v":3983.1594016129675},{"$f":"+S7","v":5146.154493506896},{"$f":"SUM(C7:G7)","v":17987.314895119864},{"$f":"H7/H5","v":0.20401340451915995},{"$f":"AVERAGE(C7:G7)","v":3597.4629790239728},null,null,null,"EMED Gascar",1E-3,3000,5858,3983.1594016129675,5146.154493506896,{"$f":"SUM(O7:S7)","v":17987.314895119864},{"$f":"T7/T5","v":0.20401340451915995},{"$f":"AVERAGE(O7:S7)","v":3597.4629790239728}]
[null,"EMED Garuva",{"$f":"+O8","v":1E-3},{"$f":"+P8","v":1E-3},{"$f":"+Q8","v":1600},{"$f":"+R8","v":1E-3},{"$f":"+S8","v":1E-3},{"$f":"SUM(C8:G8)","v":1600.0039999999999},{"$f":"H8/H5","v":1.8147359135455818E-2},{"$f":"AVERAGE(C8:G8)","v":320.00079999999997},null,null,null,{"$f":"+B8","v":"EMED Garuva"},1E-3,1E-3,1600,1E-3,1E-3,{"$f":"SUM(O8:S8)","v":1600.0039999999999},{"$f":"T8/T5","v":1.8147359135455818E-2},{"$f":"AVERAGE(O8:S8)","v":320.00079999999997}]
[]
[null,"Estimativa de Reserva de Capacidade de Saída (BCX)",null,null,null,null,null,null,null,null,null,null,null,"Estimativa de Reserva de Capacidade de Saída (BCX)"]
[null,null,2020,2021,2022,2023,2024,"Total","%","Média",null,null,null,null,2020,2021,2022,2023,2024,"Total","%","Média"]
[null,"Demanda em mil m3/dia - Saída",{"$f":"SUM(C13:C23)","v":16436.954000000002},{"$f":"SUM(D13:D23)","v":12283.005000000001},18398.004000000001,15638.155574056291,15976.930470380938,{"$f":"SUM(C12:G12)","v":78733.049044437226},{"$f":"+H12/$H$12","v":1},{"$f":"AVERAGE(C12:G12)","v":15746.609808887446},null,null,null,"Demanda em mil m3/dia - Saída",{"$f":"SUM(O13:O23)","v":16436.954000000002},{"$f":"SUM(P13:P23)","v":12283.005000000001},{"$f":"SUM(Q13:Q22)","v":18398.003000000001},{"$f":"SUM(R13:R22)","v":15638.154574056291},{"$f":"SUM(S13:S22)","v":15976.929470380937},{"$f":"SUM(O12:S12)","v":78733.046044437229},{"$f":"+T12/$H$12","v":0.99999996189656015},{"$f":"AVERAGE(O12:S12)","v":15746.609208887447}]
[null,"MS1",{"$f":"+O13","v":465.05},{"$f":"+P13","v":430},{"$f":"+Q13","v":830},{"$f":"+R13","v":1E-3},{"$f":"+S13","v":1E-3},1725.0519999999999,2.191013838453499E-2,345.0104,null,null,2,{"$f":"+B13","v":"MS1"},465.05,430,830,1E-3,1E-3,{"$f":"SUM(O13:S13)","v":1725.0519999999999},{"$f":"+T13/$T$12","v":2.191013921938666E-2},{"$f":"AVERAGE(O13:S13)","v":345.0104}]
[null,"SP1",846.3,729,935,944.35,963.23700000000008,4417.8870000000006,5.6112230551448969E-2,883.57740000000013,null,null,3,"SP1",846.3,729,935,944.35,963.23700000000008,4417.8870000000006,{"$f":"+T14/$T$12","v":5.6112232689518052E-2},883.57740000000013]
[null,"SP2",9037.1,8584,11836,9580.5923789977314,9826.474226577684,48864.166605575418,0.62063094467478708,9772.8333211150839,null,null,4,"SP2",9037.1,8584,11836,9580.5923789977314,9826.474226577684,48864.166605575418,0.62063096832296183,9772.8333211150839]
[null,"SP3",1E-3,1E-3,1E-3,1E-3,1E-3,5.0000000000000001E-3,6.350573311568286E-8,1E-3,null,null,5,"SP3",1E-3,1E-3,1E-3,1E-3,1E-3,5.0000000000000001E-3,6.3505735535469829E-8,1E-3]
[null,"SP4",1268.5,680,1E-3,961.14786009861427,559,3468.648860098614,4.4055817756288029E-2,693.72977201972276,null,null,6,"SP4",1268.5,680,1E-3,961.14786009861427,559,3468.648860098614,4.4055819434966295E-2,693.72977201972276]
[null,"PR1",1E-3,1E-3,1E-3,1E-3,1E-3,5.0000000000000001E-3,{"$f":"+H18/$H$12","v":6.350573311568286E-8},1E-3,null,null,7,"PR1",1E-3,1E-3,1E-3,1E-3,1E-3,5.0000000000000001E-3,6.3505735535469829E-8,1E-3]
[null,"SC1",1134,1174,1473,1241,1069.0126821441095,6091.0126821441099,7.73628451592967E-2,1218.202536428822,null,null,8,"SC1",1134,1174,1473,1241,1069.0126821441095,6091.0126821441099,7.7362848107087323E-2,1218.202536428822]
[null,"SC2",686,686,826,826,1467,4491,5.7040849484506342E-2,898.2,null,null,9,"SC2",686,686,826,826,1467,4491,5.7040851657959003E-2,898.2]
[null,"RS1",1E-3,1E-3,1728,1728,1728,5184.0020000000004,6.5842769496633244E-2,1036.8004000000001,null,null,10,"RS1",1E-3,1E-3,1728,1728,1728,5184.0020000000004,6.5842772005469341E-2,1036.8004000000001]
[null,"EMED Gascar",{"$f":"+O22","v":3000},{"$f":"+P22","v":1E-3},{"$f":"+Q22","v":770},{"$f":"+R22","v":357.0613349599447},{"$f":"+S22","v":364.20256165914361},{"$f":"SUM(C22:G22)","v":4491.2648966190882},{"$f":"+H22/$H$12","v":5.7044213975305361E-2},{"$f":"AVERAGE(C22:G22)","v":898.25297932381761},null,null,11,"EMED Gascar",3000,1E-3,770,357.0613349599447,364.20256165914361,{"$f":"SUM(O22:S22)","v":4491.2648966190882},5.7044216148886218E-2,{"$f":"AVERAGE(O22:S22)","v":898.25297932381761}]
[null,"EMED XXX",1E-3,1E-3,1E-3,1E-3,1E-3,{"$f":"SUM(C23:G23)","v":5.0000000000000001E-3},{"$f":"+H23/$H$12","v":6.350573311568286E-8},1E-3,null,null,12,{"$f":"+B23","v":"EMED XXX"},1E-3,1E-3,1E-3,1E-3,1E-3,{"$f":"SUM(O23:S23)","v":5.0000000000000001E-3},{"$f":"+T23/$T$12","v":6.3505735535469829E-8},1E-3]
[]
[null,"DEMANDA - Cenário de Referência (BC)",null,null,null,null,null,null,null,null,null,null,null,"DEMANDA - Cenário de Referência (BC)"]
[null,"Estimativa de Reserva de Capacidade de Entrada  (BCE)",null,null,null,null,null,null,null,null,null,null,null,"Estimativa de Reserva de Capacidade de Entrada  (BCE)"]
[null,null,2020,2021,2022,2023,2024,"Total","%","Média",null,null,null,null,2020,2021,2022,2023,2024,"Total","%","Média"]
[null,"Demanda em mil m3/ano - Entrada",{"$f":"SUM(C29:C31)","v":6617280.7320000008},{"$f":"SUM(D29:D31)","v":4197500.3650000002},7832170,6563853.5465887338,7007492.9106235243,{"$f":"SUM(C28:G28)","v":32218297.554212261},{"$f":"H28/H28","v":1},{"$f":"AVERAGE(C28:G28)","v":6443659.5108424518},null,null,null,"Demanda em mil m3/ano - Entrada",{"$f":"SUM(O29:O31)","v":6617280.7320000008},{"$f":"SUM(P29:P31)","v":4197500.3650000002},7832170,6563853.5465887338,7007492.9106235243,{"$f":"SUM(O28:S28)","v":32218297.554212261},{"$f":"T28/T28","v":1},{"$f":"AVERAGE(O28:S28)","v":6443659.5108424518}]
[null,{"$f":"+B6","v":"EMED Corumbá"},{"$f":"'C. Demanda'!C6*C$73","v":6617280},{"$f":"'C. Demanda'!D6*D$73","v":3102500},{"$f":"'C. Demanda'!E6*E$73","v":5110000},{"$f":"'C. Demanda'!F6*F$73","v":5110000},{"$f":"'C. Demanda'!G6*G$73","v":5124000},{"$f":"SUM(C29:G29)","v":25063780},{"$f":"H29/H28","v":0.77793620093756721},{"$f":"AVERAGE(C29:G29)","v":5012756},null,null,null,{"$f":"+N6","v":"EMED Corumbá"},{"$f":"'C. Demanda'!O6*O$73","v":6617280},{"$f":"'C. Demanda'!P6*P$73","v":3102500},{"$f":"'C. Demanda'!Q6*Q$73","v":5110000},{"$f":"'C. Demanda'!R6*R$73","v":5110000},{"$f":"'C. Demanda'!S6*S$73","v":5124000},{"$f":"SUM(O29:S29)","v":25063780},{"$f":"T29/T28","v":0.77793620093756721},{"$f":"AVERAGE(O29:S29)","v":5012756}]
[null,{"$f":"+B7","v":"EMED Gascar"},{"$f":"'C. Demanda'!C7*C$73","v":0.36599999999999999},{"$f":"'C. Demanda'!D7*D$73","v":1095000},{"$f":"'C. Demanda'!E7*E$73","v":2138170},{"$f":"'C. Demanda'!F7*F$73","v":1453853.1815887331},{"$f":"'C. Demanda'!G7*G$73","v":1883492.544623524},{"$f":"SUM(C30:G30)","v":6570516.092212257},{"$f":"H30/H28","v":0.20393740796379289},{"$f":"AVERAGE(C30:G30)","v":1314103.2184424514},null,null,null,{"$f":"+N7","v":"EMED Gascar"},{"$f":"'C. Demanda'!O7*O$73","v":0.36599999999999999},{"$f":"'C. Demanda'!P7*P$73","v":1095000},{"$f":"'C. Demanda'!Q7*Q$73","v":2138170},{"$f":"'C. Demanda'!R7*R$73","v":1453853.1815887331},{"$f":"'C. Demanda'!S7*S$73","v":1883492.544623524},{"$f":"SUM(O30:S30)","v":6570516.092212257},{"$f":"T30/T28","v":0.20393740796379289},{"$f":"AVERAGE(O30:S30)","v":1314103.2184424514}]
[null,{"$f":"+B8","v":"EMED Garuva"},{"$f":"'C. Demanda'!C8*C$73","v":0.36599999999999999},{"$f":"'C. Demanda'!D8*D$73","v":0.36499999999999999},{"$f":"'C. Demanda'!E8*E$73","v":584000},{"$f":"'C. Demanda'!F8*F$73","v":0.36499999999999999},{"$f":"'C. Demanda'!G8*G$73","v":0.36599999999999999},{"$f":"SUM(C31:G31)","v":584001.46200000006},{"$f":"H31/H28","v":1.8126391098639755E-2},{"$f":"AVERAGE(C31:G31)","v":116800.29240000001},null,null,null,{"$f":"+N8","v":"EMED Garuva"},{"$f":"'C. Demanda'!O8*O$73","v":0.36599999999999999},{"$f":"'C. Demanda'!P8*P$73","v":0.36499999999999999},{"$f":"'C. Demanda'!Q8*Q$73","v":584000},{"$f":"'C. Demanda'!R8*R$73","v":0.36499999999999999},{"$f":"'C. Demanda'!S8*S$73","v":0.36599999999999999},{"$f":"SUM(O31:S31)","v":584001.46200000006},{"$f":"T31/T28","v":1.8126391098639755E-2},{"$f":"AVERAGE(O31:S31)","v":116800.29240000001}]
[]
[null,"Estimativa de Reserva de Capacidade de Saída (BCX)",null,null,null,null,null,null,null,null,null,null,null,"Estimativa de Reserva de Capacidade de Saída (BCX)"]
[null,null,2020,2021,2022,2023,2024,"Total","%","Média",null,null,null,null,2020,2021,2022,2023,2024,"Total","%","Média"]
[null,"Demanda em mil m3/ano - Saída",{"$f":"SUM(C36:C46)","v":6015925.1640000008},{"$f":"SUM(D36:D46)","v":4483296.8250000011},6715271.4600000009,5707926.7845305474,{"$f":"SUM(G36:G46)","v":5847556.552159423},{"$f":"SUM(C35:G35)","v":28769976.785689972},{"$f":"+H35/$H$35","v":1},{"$f":"AVERAGE(C35:G35)","v":5753995.3571379948},null,null,null,"Demanda em mil m3/ano - Saída",{"$f":"SUM(O36:O46)","v":6015925.1640000008},{"$f":"SUM(P36:P46)","v":4483296.8250000011},6715271.4600000009,5707926.7845305474,5847556.552159423,{"$f":"SUM(O35:S35)","v":28769976.785689972},{"$f":"+T35/$T$35","v":1},{"$f":"AVERAGE(O35:S35)","v":5753995.3571379948}]
[null,{"$f":"+B13","v":"MS1"},{"$f":"'C. Demanda'!C13*C$73","v":170208.30000000002},{"$f":"'C. Demanda'!D13*D$73","v":156950},{"$f":"'C. Demanda'!E13*E$73","v":302950},{"$f":"'C. Demanda'!F13*F$73","v":0.36499999999999999},{"$f":"'C. Demanda'!G13*G$73","v":0.36599999999999999},630109.03100000008,2.190161763750233E-2,126021.80620000002,null,"1 MMBtu = 26,8 m3",null,{"$f":"+N13","v":"MS1"},{"$f":"'C. Demanda'!O13*O$73","v":170208.30000000002},{"$f":"'C. Demanda'!P13*P$73","v":156950},{"$f":"'C. Demanda'!Q13*Q$73","v":302950},{"$f":"'C. Demanda'!R13*R$73","v":0.36499999999999999},{"$f":"'C. Demanda'!S13*S$73","v":0.36599999999999999},630109.03100000008,{"$f":"+T36/$T$35","v":2.190161763750233E-2},126021.80620000002]
[null,"SP1",{"$f":"'C. Demanda'!C14*C$73","v":309745.8},{"$f":"'C. Demanda'!D14*D$73","v":266085},{"$f":"'C. Demanda'!E14*E$73","v":341275},{"$f":"'C. Demanda'!F14*F$73","v":344687.75},{"$f":"'C. Demanda'!G14*G$73","v":352544.74200000003},1614338.2920000001,{"$f":"+H37/$H$35","v":5.6111908050025368E-2},322867.65840000001,null,"1 m3 = 1/26,8 MMBtu",null,"SP1",{"$f":"'C. Demanda'!O14*O$73","v":309745.8},{"$f":"'C. Demanda'!P14*P$73","v":266085},{"$f":"'C. Demanda'!Q14*Q$73","v":341275},{"$f":"'C. Demanda'!R14*R$73","v":344687.75},{"$f":"'C. Demanda'!S14*S$73","v":352544.74200000003},1614338.2920000001,5.6111908050025368E-2,322867.65840000001]
[null,"SP2",{"$f":"'C. Demanda'!C15*C$73","v":3307578.6},{"$f":"'C. Demanda'!D15*D$73","v":3133160},{"$f":"'C. Demanda'!E15*E$73","v":4320140},{"$f":"'C. Demanda'!F15*F$73","v":3496916.2183341719},{"$f":"'C. Demanda'!G15*G$73","v":3596489.5669274325},17854284.385261603,0.62058737545253162,3570856.8770523206,null,"1 m3 =",{"$f":"1/26.8","v":3.7313432835820892E-2},"SP2",{"$f":"'C. Demanda'!O15*O$73","v":3307578.6},{"$f":"'C. Demanda'!P15*P$73","v":3133160},{"$f":"'C. Demanda'!Q15*Q$73","v":4320140},{"$f":"'C. Demanda'!R15*R$73","v":3496916.2183341719},{"$f":"'C. Demanda'!S15*S$73","v":3596489.5669274325},17854284.385261603,0.62058737545253162,3570856.8770523206]
[null,"SP3",{"$f":"'C. Demanda'!C16*C$73","v":0.36599999999999999},{"$f":"'C. Demanda'!D16*D$73","v":0.36499999999999999},{"$f":"'C. Demanda'!E16*E$73","v":0.36499999999999999},{"$f":"'C. Demanda'!F16*F$73","v":0.36499999999999999},{"$f":"'C. Demanda'!G16*G$73","v":0.36599999999999999},1.827,6.3503700875724714E-8,0.3654,null,"1000 m3 =",{"$f":"Premissas!B57*1000","v":36.479944126097237},"SP3",{"$f":"'C. Demanda'!O16*O$73","v":0.36599999999999999},{"$f":"'C. Demanda'!P16*P$73","v":0.36499999999999999},{"$f":"'C. Demanda'!Q16*Q$73","v":0.36499999999999999},{"$f":"'C. Demanda'!R16*R$73","v":0.36499999999999999},{"$f":"'C. Demanda'!S16*S$73","v":0.36599999999999999},1.827,6.3503700875724714E-8,0.3654]
[null,"SP4",{"$f":"'C. Demanda'!C17*C$73","v":464271},{"$f":"'C. Demanda'!D17*D$73","v":248200},{"$f":"'C. Demanda'!E17*E$73","v":0.36499999999999999},{"$f":"'C. Demanda'!F17*F$73","v":350818.9689359942},{"$f":"'C. Demanda'!G17*G$73","v":204594},1267884.3339359942,4.4069703058176708E-2,253576.86678719884,null,"1 MM m3 =",{"$f":"+M39*1000","v":36479.944126097238},"SP4",{"$f":"'C. Demanda'!O17*O$73","v":464271},{"$f":"'C. Demanda'!P17*P$73","v":248200},{"$f":"'C. Demanda'!Q17*Q$73","v":0.36499999999999999},{"$f":"'C. Demanda'!R17*R$73","v":350818.9689359942},{"$f":"'C. Demanda'!S17*S$73","v":204594},1267884.3339359942,4.4069703058176708E-2,253576.86678719884]
[null,"PR1",{"$f":"'C. Demanda'!C18*C$73","v":0.36599999999999999},{"$f":"'C. Demanda'!D18*D$73","v":0.36499999999999999},{"$f":"'C. Demanda'!E18*E$73","v":0.36499999999999999},{"$f":"'C. Demanda'!F18*F$73","v":0.36499999999999999},{"$f":"'C. Demanda'!G18*G$73","v":0.36599999999999999},1.827,6.3503700875724714E-8,0.3654,null,null,null,"PR1",{"$f":"'C. Demanda'!O18*O$73","v":0.36599999999999999},{"$f":"'C. Demanda'!P18*P$73","v":0.36499999999999999},{"$f":"'C. Demanda'!Q18*Q$73","v":0.36499999999999999},{"$f":"'C. Demanda'!R18*R$73","v":0.36499999999999999},{"$f":"'C. Demanda'!S18*S$73","v":0.36599999999999999},1.827,6.3503700875724714E-8,0.3654]
[null,"SC1",{"$f":"'C. Demanda'!C19*C$73","v":415044},{"$f":"'C. Demanda'!D19*D$73","v":428510},{"$f":"'C. Demanda'!E19*E$73","v":537645},{"$f":"'C. Demanda'!F19*F$73","v":452965},{"$f":"'C. Demanda'!G19*G$73","v":391258.64166474406},2225422.6416647439,7.7352257120056375E-2,445084.5283329488,null,"1 MMBtu = 26,8 m3",null,"SC1",{"$f":"'C. Demanda'!O19*O$73","v":415044},{"$f":"'C. Demanda'!P19*P$73","v":428510},{"$f":"'C. Demanda'!Q19*Q$73","v":537645},{"$f":"'C. Demanda'!R19*R$73","v":452965},{"$f":"'C. Demanda'!S19*S$73","v":391258.64166474406},2225422.6416647439,7.7352257120056375E-2,445084.5283329488]
[null,"SC2",{"$f":"'C. Demanda'!C20*C$73","v":251076},{"$f":"'C. Demanda'!D20*D$73","v":250390},{"$f":"'C. Demanda'!E20*E$73","v":301490},{"$f":"'C. Demanda'!F20*F$73","v":301490},{"$f":"'C. Demanda'!G20*G$73","v":536922},1641368,5.7051418992329787E-2,328273.59999999998,null,"1 m3 = 1/26,8 MMBtu",null,"SC2",{"$f":"'C. Demanda'!O20*O$73","v":251076},{"$f":"'C. Demanda'!P20*P$73","v":250390},{"$f":"'C. Demanda'!Q20*Q$73","v":301490},{"$f":"'C. Demanda'!R20*R$73","v":301490},{"$f":"'C. Demanda'!S20*S$73","v":536922},1641368,5.7051418992329787E-2,328273.59999999998]
[null,"RS1",{"$f":"'C. Demanda'!C21*C$73","v":0.36599999999999999},{"$f":"'C. Demanda'!D21*D$73","v":0.36499999999999999},{"$f":"'C. Demanda'!E21*E$73","v":630720},{"$f":"'C. Demanda'!F21*F$73","v":630720},{"$f":"'C. Demanda'!G21*G$73","v":632448},1893888.7310000001,6.5828649953656199E-2,378777.74620000005,null,"1 m3 =",{"$f":"1/26.8","v":3.7313432835820892E-2},"RS1",{"$f":"'C. Demanda'!O21*O$73","v":0.36599999999999999},{"$f":"'C. Demanda'!P21*P$73","v":0.36499999999999999},{"$f":"'C. Demanda'!Q21*Q$73","v":630720},{"$f":"'C. Demanda'!R21*R$73","v":630720},{"$f":"'C. Demanda'!S21*S$73","v":632448},1893888.7310000001,6.5828649953656199E-2,378777.74620000005]
[null,"EMED Gascar",{"$f":"'C. Demanda'!C22*C$73","v":1098000},{"$f":"'C. Demanda'!D22*D$73","v":0.36499999999999999},{"$f":"'C. Demanda'!E22*E$73","v":281050},{"$f":"'C. Demanda'!F22*F$73","v":130327.38726037982},{"$f":"'C. Demanda'!G22*G$73","v":133298.13756724657},1642675.8898276263,5.7096879224618778E-2,328535.17796552525,null,"1000 m3 =",{"$f":"Premissas!D57*1000","v":37.302179399673008},"EMED Gascar",{"$f":"'C. Demanda'!O22*O$73","v":1098000},{"$f":"'C. Demanda'!P22*P$73","v":0.36499999999999999},{"$f":"'C. Demanda'!Q22*Q$73","v":281050},{"$f":"'C. Demanda'!R22*R$73","v":130327.38726037982},{"$f":"'C. Demanda'!S22*S$73","v":133298.13756724657},{"$f":"SUM(O45:S45)","v":1642675.8898276263},5.7096879224618778E-2,{"$f":"AVERAGE(O45:S45)","v":328535.17796552525}]
[null,"EMED XXX",{"$f":"'C. Demanda'!C23*C$73","v":0.36599999999999999},{"$f":"'C. Demanda'!D23*D$73","v":0.36499999999999999},{"$f":"'C. Demanda'!E23*E$73","v":0.36499999999999999},{"$f":"'C. Demanda'!F23*F$73","v":0.36499999999999999},{"$f":"'C. Demanda'!G23*G$73","v":0.36599999999999999},1.827,{"$f":"+H46/$H$35","v":6.3503700875724714E-8},0.3654,null,"1 MM m3 =",{"$f":"+M45*1000","v":37302.179399673005},"EMED XXX",{"$f":"'C. Demanda'!O23*O$73","v":0.36599999999999999},{"$f":"'C. Demanda'!P23*P$73","v":0.36499999999999999},{"$f":"'C. Demanda'!Q23*Q$73","v":0.36499999999999999},{"$f":"'C. Demanda'!R23*R$73","v":0.36499999999999999},{"$f":"'C. Demanda'!S23*S$73","v":0.36599999999999999},{"$f":"SUM(O46:S46)","v":1.827},{"$f":"+T46/$T$35","v":6.3503700875724714E-8},0.3654]
[null,null,{"$f":"(C28-C35)/'Cálculo Encargos ECE, ECT e ECS'!C5","v":1643.048},{"$f":"(D28-D35)/'Cálculo Encargos ECE, ECT e ECS'!D5","v":-783.00400000000241},{"$f":"(E28-E35)/'Cálculo Encargos ECE, ECT e ECS'!E5","v":3059.9959999999974},{"$f":"(F28-F35)/'Cálculo Encargos ECE, ECT e ECS'!F5","v":2345.0048275566751},{"$f":"(G28-G35)/'Cálculo Encargos ECE, ECT e ECS'!G5","v":3169.22502312596}]
[null,"DEMANDA - Cenário de Referência (BC)",null,null,null,null,null,null,null,null,null,null,null,"DEMANDA - Cenário de Referência (BC)"]
[null,"Estimativa de Reserva de Capacidade de Entrada  (BCE)",null,null,null,null,null,null,null,null,null,null,null,"Estimativa de Reserva de Capacidade de Entrada  (BCE)"]
[null,null,2020,2021,2022,2023,2024,"Total","%","Média",null,null,null,null,2020,2021,2022,2023,2024,"Total","%","Média"]
[null,"Demanda em MMBtu/ano - Entrada",{"$f":"SUM(C52:C54)","v":241398031.37005979},{"$f":"SUM(D52:D54)","v":153124578.78447279},{"$f":"SUM(E52:E54)","v":292157010.42873698},{"$f":"SUM(F52:F54)","v":244846042.54803285},261394757.69401547,{"$f":"SUM(C51:G51)","v":1192920420.8253179},{"$f":"H51/H51","v":1},{"$f":"AVERAGE(C51:G51)","v":238584084.16506356},null,null,null,"Demanda em MMBtu/ano - Entrada",{"$f":"SUM(O52:O54)","v":241398031.37005979},{"$f":"SUM(P52:P54)","v":153124578.78447279},292157010.42873698,244846042.54803285,261394757.69401547,{"$f":"SUM(O51:S51)","v":1192920420.8253179},{"$f":"T51/T51","v":1},{"$f":"AVERAGE(O51:S51)","v":238584084.16506356}]
[null,{"$f":"+B29","v":"EMED Corumbá"},{"$f":"+C29*$M$39","v":241398004.66674072},113179026.65121669,{"$f":"+E29*$M$45","v":190614136.73232907},{"$f":"+F29*$M$45","v":190614136.73232907},191136367.2439245,{"$f":"SUM(C52:G52)","v":926941672.02654016},{"$f":"H52/H51","v":0.77703563108194496},{"$f":"AVERAGE(C52:G52)","v":185388334.40530804},null,null,null,{"$f":"+N29","v":"EMED Corumbá"},{"$f":"+O29*$M$39","v":241398004.66674072},113179026.65121669,{"$f":"+Q29*$M$45","v":190614136.73232907},{"$f":"+R29*$M$45","v":190614136.73232907},191136367.2439245,{"$f":"SUM(O52:S52)","v":926941672.02654016},{"$f":"T52/T51","v":0.77703563108194496},{"$f":"AVERAGE(O52:S52)","v":185388334.40530804}]
[null,"EMED Gascar",13.351659550151588,39945538.818076476,{"$f":"+E30*$M$45","v":79758400.926998839},{"$f":"+F30*$M$45","v":54231892.200408302},70258376.797493309,{"$f":"SUM(C53:G53)","v":244194222.09463647},{"$f":"H53/H51","v":0.20470286016706088},{"$f":"AVERAGE(C53:G53)","v":48838844.418927297},null,null,null,"EMED Gascar",13.351659550151588,39945538.818076476,{"$f":"+Q30*$M$45","v":79758400.926998839},54231892.200408302,70258376.797493309,{"$f":"SUM(O53:S53)","v":244194222.09463647},{"$f":"T53/T51","v":0.20470286016706088},{"$f":"AVERAGE(O53:S53)","v":48838844.418927297}]
[null,{"$f":"+B31","v":"EMED Garuva"},13.351659550151588,13.315179606025492,21784472.769409038,13.615295480880647,13.652597660280321,{"$f":"SUM(C54:G54)","v":21784526.704141337},{"$f":"H54/H51","v":1.8261508750994294E-2},{"$f":"AVERAGE(C54:G54)","v":4356905.3408282679},null,null,null,{"$f":"+N31","v":"EMED Garuva"},13.351659550151588,13.315179606025492,{"$f":"+Q31*$M$45","v":21784472.769409038},13.615295480880647,13.652597660280321,{"$f":"SUM(O54:S54)","v":21784526.704141337},{"$f":"T54/T51","v":1.8261508750994294E-2},{"$f":"AVERAGE(O54:S54)","v":4356905.3408282679}]
[]
[null,"Estimativa de Reserva de Capacidade de Saída (BCX)",null,null,null,null,null,null,null,null,null,null,null,"Estimativa de Reserva de Capacidade de Saída (BCX)"]
[null,null,2020,2021,2022,2023,2024,"Total","%","Média",null,null,null,null,2020,2021,2022,2023,2024,"Total","%","Média"]
[null,"Demanda em MMBtu/ano - Saída",{"$f":"SUM(C59:C69)","v":219460613.84950227},{"$f":"SUM(D59:D69)","v":163550417.6767092},250494260.71842402,{"$f":"SUM(F59:F69)","v":212918108.91675708},218126603.55838412,{"$f":"SUM(C58:G58)","v":1064550004.7197769},{"$f":"+H58/$H$58","v":1},{"$f":"AVERAGE(C58:G58)","v":212910000.94395536},null,null,null,"Demanda em MMBtu/ano - Saída",{"$f":"SUM(O59:O69)","v":219460613.84950227},{"$f":"SUM(P59:P69)","v":163550417.6767092},250494260.71842402,212918108.91675708,218126603.55838412,{"$f":"SUM(O58:S58)","v":1064550004.7197769},{"$f":"+T58/$T$58","v":1},{"$f":"AVERAGE(O58:S58)","v":212910000.94395536}]
[null,{"$f":"+B36","v":"MS1"},{"$f":"+C36*$M$39","v":6209189.2737979973},5725527.2305909609,{"$f":"+E36*$M$45","v":11300695.249130938},{"$f":"+F36*$M$45","v":13.615295480880647},13.652597660280321,23235439.021413039,2.1826536018408397E-2,4647087.8042826075,null,null,null,{"$f":"+N36","v":"MS1"},{"$f":"+O36*$M$39","v":6209189.2737979973},5725527.2305909609,{"$f":"+Q36*$M$45","v":11300695.249130938},{"$f":"+R36*$M$45","v":13.615295480880647},13.652597660280321,23235439.021413039,2.1826536018408397E-2,4647087.8042826075]
[null,"SP1",11299509.477293288,9706765.9327925835,{"$f":"+E37*$M$45","v":12730301.274623405},12857604.287369641,13150687.212495437,59744868.184574358,5.6122181127885196E-2,11948973.636914872,null,null,null,"SP1",11299509.477293288,9706765.9327925835,{"$f":"+Q37*$M$45","v":12730301.274623405},12857604.287369641,13150687.212495437,59744868.184574358,5.6122181127885196E-2,11948973.636914872]
[null,"SP2",120660282.52067493,{"$f":"+D38*$M$39","v":114297501.73812282},{"$f":"+E38*$M$45","v":161150637.31170335},130442596.12192738,134156899.03457937,660707916.72700787,0.62064526212737847,132141583.34540157,null,null,null,"SP2",120660282.52067493,114297501.73812282,{"$f":"+Q38*$M$45","v":161150637.31170335},130442596.12192738,134156899.03457937,660707916.72700787,0.62064526212737847,132141583.34540157]
[null,"SP3",13.351659550151588,13.315179606025492,{"$f":"+E39*$M$45","v":13.615295480880647},13.615295480880647,13.652597660280321,67.550027778218691,6.3454067426358228E-8,13.510005555643739,null,null,null,"SP3",13.351659550151588,13.315179606025492,{"$f":"+Q39*$M$45","v":13.615295480880647},13.615295480880647,13.652597660280321,67.550027778218691,6.3454067426358228E-8,13.510005555643739]
[null,"SP4",16936580.13936729,9054322.1320973337,{"$f":"+E40*$M$45","v":13.615295480880647},13086312.116058769,7631802.0920966994,46709030.094915576,4.3876783512119627E-2,9341806.0189831145,null,null,null,"SP4",16936580.13936729,9054322.1320973337,{"$f":"+Q40*$M$45","v":13.615295480880647},13086312.116058769,7631802.0920966994,46709030.094915576,4.3876783512119627E-2,9341806.0189831145]
[null,"PR1",13.351659550151588,13.315179606025492,{"$f":"+E41*$M$45","v":13.615295480880647},13.615295480880647,13.652597660280321,67.550027778218691,6.3454067426358228E-8,13.510005555643739,null,null,null,"PR1",13.351659550151588,13.315179606025492,{"$f":"+Q41*$M$45","v":13.615295480880647},13.615295480880647,13.652597660280321,67.550027778218691,6.3454067426358228E-8,13.510005555643739]
[null,"SC1",15140781.929871902,15632020.857473927,{"$f":"+E42*$M$45","v":20055330.243337195},16896581.691772886,14594800.04305066,82319514.76550658,7.7327992485590816E-2,16463902.953101316,null,null,null,"SC1",15140781.929871902,15632020.857473927,{"$f":"+Q42*$M$45","v":20055330.243337195},16896581.691772886,14594800.04305066,82319514.76550658,7.7327992485590816E-2,16463902.953101316]
[null,"SC2",9159238.4514039904,9134213.209733488,{"$f":"+E43*$M$45","v":11246234.067207415},11246234.067207415,20028360.767631233,60814280.563183539,5.7126748667096924E-2,12162856.112636708,null,null,null,"SC2",9159238.4514039904,{"$f":"+P43*$M$39","v":9134213.209733488},{"$f":"+Q43*$M$45","v":11246234.067207415},11246234.067207415,20028360.767631233,60814280.563183539,5.7126748667096924E-2,12162856.112636708]
[null,"RS1",13.351659550151588,13.315179606025492,{"$f":"+E44*$M$45","v":23527230.590961758},23527230.590961758,{"$f":"+G44*$M$45","v":23591688.756964393},70646176.605727077,6.6362478317139623E-2,14129235.321145415,null,null,null,"RS1",13.351659550151588,13.315179606025492,{"$f":"+Q44*$M$45","v":23527230.590961758},{"$f":"+R44*$M$45","v":23527230.590961758},23591688.756964393,70646176.605727077,6.6362478317139623E-2,14129235.321145415]
[null,"EMED Gascar",40054978.650454767,13.315179606025492,{"$f":"+E45*$M$45","v":10483777.520278098},4861495.580277347,4972311.041175724,{"$f":"SUM(C68:G68)","v":60372576.107365541},{"$f":"+H68/$H$58","v":5.6711827382178732E-2},{"$f":"AVERAGE(C68:G68)","v":12074515.221473109},null,null,null,"EMED Gascar",40054978.650454767,13.315179606025492,{"$f":"+Q45*$M$45","v":10483777.520278098},4861495.580277347,4972311.041175724,{"$f":"SUM(O68:S68)","v":60372576.107365541},5.6711827382178732E-2,{"$f":"AVERAGE(O68:S68)","v":12074515.221473109}]
[null,{"$f":"+B46","v":"EMED XXX"},13.351659550151588,13.315179606025492,{"$f":"+E46*$M$45","v":13.615295480880647},13.615295480880647,13.652597660280321,67.550027778218691,{"$f":"+H69/$H$58","v":6.3454067426358228E-8},13.510005555643739,null,null,null,{"$f":"+N46","v":"EMED XXX"},13.351659550151588,13.315179606025492,{"$f":"+Q46*$M$45","v":13.615295480880647},13.615295480880647,13.652597660280321,67.550027778218691,{"$f":"+T69/$T$58","v":6.3454067426358228E-8},13.510005555643739]
[]
[null,"DIAS/ANO",null,null,null,null,null,null,null,null,null,null,null,"DIAS/ANO"]
[null,null,2020,2021,2022,2023,2024,"Total","%","Média",null,null,null,null,2020,2021,2022,2023,2024,"Total","%","Média"]
[null,"Dias/Ano",{"$f":"+Premissas!B60","v":366},{"$f":"+Premissas!C60","v":365},{"$f":"+Premissas!D60","v":365},{"$f":"+Premissas!E60","v":365},{"$f":"+Premissas!F60","v":366},{"$f":"SUM(C73:G73)","v":1827},null,{"$f":"AVERAGE(C73:G73)","v":365.4},null,null,null,"Dias/Ano",{"$f":"+C73","v":366},{"$f":"+D73","v":365},365,365,366,{"$f":"SUM(O73:S73)","v":1827},null,{"$f":"AVERAGE(O73:S73)","v":365.4}]

{"sheet":"Proporções","index":19,"n_rows":68,"n_cols":10,"rows_kept":68,"cut":false,"hidden":false,"merged":[]}
[]
[]
[null,"PROPORÇÃO DE ENTRADA (PE)"]
[null,null,2020,2021,2022,2023,2024,"Total","%","Média"]
[null,null,{"$f":"SUM(C6:C8)","v":0.99999999999999989},1,1,1,1,1,1,1]
[null,{"$f":"'C. Demanda'!B6","v":"EMED Corumbá"},{"$f":"'C. Demanda'!C6/'C. Demanda'!C$5","v":0.99999988938054318},{"$f":"'C. Demanda'!D6/'C. Demanda'!D$5","v":0.73913037051040253},{"$f":"'C. Demanda'!E6/'C. Demanda'!E$5","v":0.65243731941467054},{"$f":"'C. Demanda'!F6/'C. Demanda'!F$5","v":0.77850609611113153},{"$f":"'C. Demanda'!G6/'C. Demanda'!G$5","v":0.73121729345339692},{"$f":"'C. Demanda'!H6/'C. Demanda'!H$5","v":0.77783923634538421},{"$f":"'C. Demanda'!I6/'C. Demanda'!I$5","v":0.77783923634538421},{"$f":"'C. Demanda'!J6/'C. Demanda'!J$5","v":0.77783923634538421}]
[null,{"$f":"'C. Demanda'!B7","v":"EMED Gascar"},{"$f":"'C. Demanda'!C7/'C. Demanda'!C$5","v":5.5309728394941549E-8},{"$f":"'C. Demanda'!D7/'C. Demanda'!D$5","v":0.26086954253308325},{"$f":"'C. Demanda'!E7/'C. Demanda'!E$5","v":0.27299841550936715},{"$f":"'C. Demanda'!F7/'C. Demanda'!F$5","v":0.22149384828129015},{"$f":"'C. Demanda'!G7/'C. Demanda'!G$5","v":0.26878265431679638},{"$f":"'C. Demanda'!H7/'C. Demanda'!H$5","v":0.20401340451915995},{"$f":"'C. Demanda'!I7/'C. Demanda'!I$5","v":0.20401340451915995},{"$f":"'C. Demanda'!J7/'C. Demanda'!J$5","v":0.20401340451915997}]
[null,{"$f":"'C. Demanda'!B8","v":"EMED Garuva"},{"$f":"'C. Demanda'!C8/'C. Demanda'!C$5","v":5.5309728394941549E-8},{"$f":"'C. Demanda'!D8/'C. Demanda'!D$5","v":8.6956514177694423E-8},{"$f":"'C. Demanda'!E8/'C. Demanda'!E$5","v":7.4564265075962338E-2},{"$f":"'C. Demanda'!F8/'C. Demanda'!F$5","v":5.5607578293652256E-8},{"$f":"'C. Demanda'!G8/'C. Demanda'!G$5","v":5.2229806675242638E-8},{"$f":"'C. Demanda'!H8/'C. Demanda'!H$5","v":1.8147359135455818E-2},{"$f":"'C. Demanda'!I8/'C. Demanda'!I$5","v":1.8147359135455818E-2},{"$f":"'C. Demanda'!J8/'C. Demanda'!J$5","v":1.8147359135455818E-2}]
[]
[null,"PROPORÇÃO DE SAÍDA (PX)"]
[null,null,2020,2021,2022,2023,2024,"Total","%","Média"]
[null,"TOTAL",{"$f":"SUM(C13:C23)","v":1},0.99999999999999978,1,1,0.99999999999999989,1,1,1]
[null,{"$f":"'C. Demanda'!B13","v":"MS1"},{"$f":"'C. Demanda'!C13/'C. Demanda'!C$12","v":2.8292955008573969E-2},{"$f":"'C. Demanda'!D13/'C. Demanda'!D$12","v":3.5007720016396633E-2},{"$f":"'C. Demanda'!E13/'C. Demanda'!E$12","v":4.5113589495904008E-2},{"$f":"'C. Demanda'!F13/'C. Demanda'!F$12","v":6.3946160099532493E-8},{"$f":"'C. Demanda'!G13/'C. Demanda'!G$12","v":6.2590245470108562E-8},{"$f":"'C. Demanda'!H13/'C. Demanda'!H$12","v":2.191013838453499E-2},{"$f":"'C. Demanda'!I13/'C. Demanda'!I$12","v":2.191013838453499E-2},{"$f":"'C. Demanda'!J13/'C. Demanda'!J$12","v":2.191013838453499E-2}]
[null,{"$f":"'C. Demanda'!B14","v":"SP1"},{"$f":"'C. Demanda'!C14/'C. Demanda'!C$12","v":5.1487641810033652E-2},{"$f":"'C. Demanda'!D14/'C. Demanda'!D$12","v":5.9350297423146854E-2},{"$f":"'C. Demanda'!E14/'C. Demanda'!E$12","v":5.0820730335747286E-2},{"$f":"'C. Demanda'!F14/'C. Demanda'!F$12","v":6.038755628999351E-2},{"$f":"'C. Demanda'!G14/'C. Demanda'!G$12","v":6.0289240275890971E-2},{"$f":"'C. Demanda'!H14/'C. Demanda'!H$12","v":5.6112230551448969E-2},{"$f":"'C. Demanda'!I14/'C. Demanda'!I$12","v":5.6112230551448969E-2},{"$f":"'C. Demanda'!J14/'C. Demanda'!J$12","v":5.6112230551448969E-2}]
[null,{"$f":"'C. Demanda'!B15","v":"SP2"},{"$f":"'C. Demanda'!C15/'C. Demanda'!C$12","v":0.54980381401566247},{"$f":"'C. Demanda'!D15/'C. Demanda'!D$12","v":0.69885178749011334},{"$f":"'C. Demanda'!E15/'C. Demanda'!E$12","v":0.64333065695604807},{"$f":"'C. Demanda'!F15/'C. Demanda'!F$12","v":0.61264209411574977},{"$f":"'C. Demanda'!G15/'C. Demanda'!G$12","v":0.61504143394719246},{"$f":"'C. Demanda'!H15/'C. Demanda'!H$12","v":0.62063094467478708},{"$f":"'C. Demanda'!I15/'C. Demanda'!I$12","v":0.62063094467478708},{"$f":"'C. Demanda'!J15/'C. Demanda'!J$12","v":0.62063094467478708}]
[null,{"$f":"'C. Demanda'!B16","v":"SP3"},{"$f":"'C. Demanda'!C16/'C. Demanda'!C$12","v":6.0838522757927046E-8},{"$f":"'C. Demanda'!D16/'C. Demanda'!D$12","v":8.1413302363713115E-8},{"$f":"'C. Demanda'!E16/'C. Demanda'!E$12","v":5.4353722284221703E-8},{"$f":"'C. Demanda'!F16/'C. Demanda'!F$12","v":6.3946160099532493E-8},{"$f":"'C. Demanda'!G16/'C. Demanda'!G$12","v":6.2590245470108562E-8},{"$f":"'C. Demanda'!H16/'C. Demanda'!H$12","v":6.350573311568286E-8},{"$f":"'C. Demanda'!I16/'C. Demanda'!I$12","v":6.350573311568286E-8},{"$f":"'C. Demanda'!J16/'C. Demanda'!J$12","v":6.350573311568286E-8}]
[null,{"$f":"'C. Demanda'!B17","v":"SP4"},{"$f":"'C. Demanda'!C17/'C. Demanda'!C$12","v":7.7173666118430448E-2},{"$f":"'C. Demanda'!D17/'C. Demanda'!D$12","v":5.536104560732491E-2},{"$f":"'C. Demanda'!E17/'C. Demanda'!E$12","v":5.4353722284221703E-8},{"$f":"'C. Demanda'!F17/'C. Demanda'!F$12","v":6.1461714941189044E-2},{"$f":"'C. Demanda'!G17/'C. Demanda'!G$12","v":3.4987947217790687E-2},{"$f":"'C. Demanda'!H17/'C. Demanda'!H$12","v":4.4055817756288029E-2},{"$f":"'C. Demanda'!I17/'C. Demanda'!I$12","v":4.4055817756288029E-2},{"$f":"'C. Demanda'!J17/'C. Demanda'!J$12","v":4.4055817756288029E-2}]
[null,{"$f":"'C. Demanda'!B18","v":"PR1"},{"$f":"'C. Demanda'!C18/'C. Demanda'!C$12","v":6.0838522757927046E-8},{"$f":"'C. Demanda'!D18/'C. Demanda'!D$12","v":8.1413302363713115E-8},{"$f":"'C. Demanda'!E18/'C. Demanda'!E$12","v":5.4353722284221703E-8},{"$f":"'C. Demanda'!F18/'C. Demanda'!F$12","v":6.3946160099532493E-8},{"$f":"'C. Demanda'!G18/'C. Demanda'!G$12","v":6.2590245470108562E-8},{"$f":"'C. Demanda'!H18/'C. Demanda'!H$12","v":6.350573311568286E-8},{"$f":"'C. Demanda'!I18/'C. Demanda'!I$12","v":6.350573311568286E-8},{"$f":"'C. Demanda'!J18/'C. Demanda'!J$12","v":6.350573311568286E-8}]
[null,{"$f":"'C. Demanda'!B19","v":"SC1"},{"$f":"'C. Demanda'!C19/'C. Demanda'!C$12","v":6.8990884807489258E-2},{"$f":"'C. Demanda'!D19/'C. Demanda'!D$12","v":9.5579216974999187E-2},{"$f":"'C. Demanda'!E19/'C. Demanda'!E$12","v":8.0063032924658564E-2},{"$f":"'C. Demanda'!F19/'C. Demanda'!F$12","v":7.9357184683519821E-2},{"$f":"'C. Demanda'!G19/'C. Demanda'!G$12","v":6.6909766186058955E-2},{"$f":"'C. Demanda'!H19/'C. Demanda'!H$12","v":7.73628451592967E-2},{"$f":"'C. Demanda'!I19/'C. Demanda'!I$12","v":7.73628451592967E-2},{"$f":"'C. Demanda'!J19/'C. Demanda'!J$12","v":7.73628451592967E-2}]
[null,{"$f":"'C. Demanda'!B20","v":"SC2"},{"$f":"'C. Demanda'!C20/'C. Demanda'!C$12","v":4.1735226611937952E-2},{"$f":"'C. Demanda'!D20/'C. Demanda'!D$12","v":5.5849525421507194E-2},{"$f":"'C. Demanda'!E20/'C. Demanda'!E$12","v":4.4896174606767127E-2},{"$f":"'C. Demanda'!F20/'C. Demanda'!F$12","v":5.2819528242213837E-2},{"$f":"'C. Demanda'!G20/'C. Demanda'!G$12","v":9.1819890104649263E-2},{"$f":"'C. Demanda'!H20/'C. Demanda'!H$12","v":5.7040849484506342E-2},{"$f":"'C. Demanda'!I20/'C. Demanda'!I$12","v":5.7040849484506342E-2},{"$f":"'C. Demanda'!J20/'C. Demanda'!J$12","v":5.7040849484506349E-2}]
[null,{"$f":"'C. Demanda'!B21","v":"RS1"},{"$f":"'C. Demanda'!C21/'C. Demanda'!C$12","v":6.0838522757927046E-8},{"$f":"'C. Demanda'!D21/'C. Demanda'!D$12","v":8.1413302363713115E-8},{"$f":"'C. Demanda'!E21/'C. Demanda'!E$12","v":9.3923232107135102E-2},{"$f":"'C. Demanda'!F21/'C. Demanda'!F$12","v":0.11049896465199215},{"$f":"'C. Demanda'!G21/'C. Demanda'!G$12","v":0.1081559441723476},{"$f":"'C. Demanda'!H21/'C. Demanda'!H$12","v":6.5842769496633244E-2},{"$f":"'C. Demanda'!I21/'C. Demanda'!I$12","v":6.5842769496633244E-2},{"$f":"'C. Demanda'!J21/'C. Demanda'!J$12","v":6.5842769496633244E-2}]
[null,{"$f":"'C. Demanda'!B22","v":"EMED Gascar"},{"$f":"'C. Demanda'!C22/'C. Demanda'!C$12","v":0.18251556827378113},{"$f":"'C. Demanda'!D22/'C. Demanda'!D$12","v":8.1413302363713115E-8},{"$f":"'C. Demanda'!E22/'C. Demanda'!E$12","v":4.1852366158850705E-2},{"$f":"'C. Demanda'!F22/'C. Demanda'!F$12","v":2.2832701290701422E-2},{"$f":"'C. Demanda'!G22/'C. Demanda'!G$12","v":2.279552773508815E-2},{"$f":"'C. Demanda'!H22/'C. Demanda'!H$12","v":5.7044213975305361E-2},{"$f":"'C. Demanda'!I22/'C. Demanda'!I$12","v":5.7044213975305361E-2},{"$f":"'C. Demanda'!J22/'C. Demanda'!J$12","v":5.7044213975305354E-2}]
[null,{"$f":"'C. Demanda'!B23","v":"EMED XXX"},{"$f":"'C. Demanda'!C23/'C. Demanda'!C$12","v":6.0838522757927046E-8},{"$f":"'C. Demanda'!D23/'C. Demanda'!D$12","v":8.1413302363713115E-8},{"$f":"'C. Demanda'!E23/'C. Demanda'!E$12","v":5.4353722284221703E-8},{"$f":"'C. Demanda'!F23/'C. Demanda'!F$12","v":6.3946160099532493E-8},{"$f":"'C. Demanda'!G23/'C. Demanda'!G$12","v":6.2590245470108562E-8},{"$f":"'C. Demanda'!H23/'C. Demanda'!H$12","v":6.350573311568286E-8},{"$f":"'C. Demanda'!I23/'C. Demanda'!I$12","v":6.350573311568286E-8},{"$f":"'C. Demanda'!J23/'C. Demanda'!J$12","v":6.350573311568286E-8}]
[]
[null,"PROPORÇÃO VOLUME x DISTÂNCIA - CORUMBÁ (ADE - Corumbá)"]
[null,null,2020,2021,2022,2023,2024,"Total","%","Média"]
[null,null,{"$f":"SUM(C28:C38)","v":1328.8135156896014},1352.847647625239,1429.7929294038445,1493.4268179222552,1508.4445923193939,1425.3070817826376,0.99999999999999989,1425.3070817826376]
[null,{"$f":"B13","v":"MS1"},{"$f":"C13*'Cálculo Encargos ECE, ECT e ECS'!$C11","v":12.94402691642259},{"$f":"D13*'Cálculo Encargos ECE, ECT e ECS'!$C11","v":16.016031907501457},{"$f":"E13*'Cálculo Encargos ECE, ECT e ECS'!$C11","v":20.639467194376081},{"$f":"F13*'Cálculo Encargos ECE, ECT e ECS'!$C11","v":2.9255368245536112E-5},{"$f":"G13*'Cálculo Encargos ECE, ECT e ECS'!$C11","v":2.8635037302574664E-5},{"$f":"H13*'Cálculo Encargos ECE, ECT e ECS'!$C11","v":10.023888310924757},{"$f":"+H28/$H$27","v":7.0327920481443465E-3},{"$f":"J13*'Cálculo Encargos ECE, ECT e ECS'!$C11","v":10.023888310924757}]
[null,"SP1",{"$f":"C14*'Cálculo Encargos ECE, ECT e ECS'!$C12","v":50.796236334298918},{"$f":"D14*'Cálculo Encargos ECE, ECT e ECS'!$C12","v":58.553307714893172},{"$f":"E14*'Cálculo Encargos ECE, ECT e ECS'!$C12","v":50.138280528381543},{"$f":"F14*'Cálculo Encargos ECE, ECT e ECS'!$C12","v":59.576637676956459},{"$f":"G14*'Cálculo Encargos ECE, ECT e ECS'!$C12","v":59.479641906471869},{"$f":"H14*'Cálculo Encargos ECE, ECT e ECS'!$C12","v":55.358723455472372},3.8839857152912605E-2,{"$f":"J14*'Cálculo Encargos ECE, ECT e ECS'!$C12","v":55.358723455472372}]
[null,"SP2",{"$f":"C15*'Cálculo Encargos ECE, ECT e ECS'!$C13","v":705.50825414489816},{"$f":"D15*'Cálculo Encargos ECE, ECT e ECS'!$C13","v":896.76661370731347},{"$f":"E15*'Cálculo Encargos ECE, ECT e ECS'!$C13","v":825.52189900600092},{"$f":"F15*'Cálculo Encargos ECE, ECT e ECS'!$C13","v":786.14233516933018},{"$f":"G15*'Cálculo Encargos ECE, ECT e ECS'!$C13","v":789.22116804103734},{"$f":"H15*'Cálculo Encargos ECE, ECT e ECS'!$C13","v":796.3936282066868},0.55875231266698955,{"$f":"J15*'Cálculo Encargos ECE, ECT e ECS'!$C13","v":796.3936282066868}]
[null,"SP3",{"$f":"C16*'Cálculo Encargos ECE, ECT e ECS'!$C14","v":7.8393478499726908E-5},{"$f":"D16*'Cálculo Encargos ECE, ECT e ECS'!$C14","v":1.0490511076076255E-4},{"$f":"E16*'Cálculo Encargos ECE, ECT e ECS'!$C14","v":7.0037488849333891E-5},{"$f":"F16*'Cálculo Encargos ECE, ECT e ECS'!$C14","v":8.2397824596252599E-5},{"$f":"G16*'Cálculo Encargos ECE, ECT e ECS'!$C14","v":8.0650660800508396E-5},{"$f":"H16*'Cálculo Encargos ECE, ECT e ECS'!$C14","v":8.1830312406213157E-5},5.741240849225813E-8,{"$f":"J16*'Cálculo Encargos ECE, ECT e ECS'!$C14","v":8.1830312406213157E-5}]
[null,"SP4",{"$f":"C17*'Cálculo Encargos ECE, ECT e ECS'!$C15","v":104.79797990552265},{"$f":"D17*'Cálculo Encargos ECE, ECT e ECS'!$C15","v":75.17753188246688},{"$f":"E17*'Cálculo Encargos ECE, ECT e ECS'!$C15","v":7.380963717585888E-5},{"$f":"F17*'Cálculo Encargos ECE, ECT e ECS'!$C15","v":83.461935804387679},{"$f":"G17*'Cálculo Encargos ECE, ECT e ECS'!$C15","v":47.511882924398876},{"$f":"H17*'Cálculo Encargos ECE, ECT e ECS'!$C15","v":59.825597722151343},4.1973830402447176E-2,{"$f":"J17*'Cálculo Encargos ECE, ECT e ECS'!$C15","v":59.825597722151343}]
[null,"PR1",{"$f":"C18*'Cálculo Encargos ECE, ECT e ECS'!$C16","v":1.0567955595665719E-4},{"$f":"D18*'Cálculo Encargos ECE, ECT e ECS'!$C16","v":1.4141897687088787E-4},{"$f":"E18*'Cálculo Encargos ECE, ECT e ECS'!$C16","v":9.4415133293807317E-5},{"$f":"F18*'Cálculo Encargos ECE, ECT e ECS'!$C16","v":1.1107767740089293E-4},{"$f":"G18*'Cálculo Encargos ECE, ECT e ECS'!$C16","v":1.0872238589385209E-4},{"$f":"H18*'Cálculo Encargos ECE, ECT e ECS'!$C16","v":1.1031263370859692E-4},7.7395696070371335E-8,{"$f":"J18*'Cálculo Encargos ECE, ECT e ECS'!$C16","v":1.1031263370859692E-4}]
[null,"SC1",{"$f":"C19*'Cálculo Encargos ECE, ECT e ECS'!$C17","v":139.56549370400379},{"$f":"D19*'Cálculo Encargos ECE, ECT e ECS'!$C17","v":193.35250797522448},{"$f":"E19*'Cálculo Encargos ECE, ECT e ECS'!$C17","v":161.96395724956542},{"$f":"F19*'Cálculo Encargos ECE, ECT e ECS'!$C17","v":160.53605762877467},{"$f":"G19*'Cálculo Encargos ECE, ECT e ECS'!$C17","v":135.35548322701123},{"$f":"H19*'Cálculo Encargos ECE, ECT e ECS'!$C17","v":156.50159740858351},0.10980202049711722,{"$f":"J19*'Cálculo Encargos ECE, ECT e ECS'!$C17","v":156.50159740858351}]
[null,"SC2",{"$f":"C20*'Cálculo Encargos ECE, ECT e ECS'!$C18","v":84.428508536989952},{"$f":"D20*'Cálculo Encargos ECE, ECT e ECS'!$C18","v":112.98110772657922},{"$f":"E20*'Cálculo Encargos ECE, ECT e ECS'!$C18","v":90.82296584395182},{"$f":"F20*'Cálculo Encargos ECE, ECT e ECS'!$C18","v":106.85155809941006},{"$f":"G20*'Cálculo Encargos ECE, ECT e ECS'!$C18","v":185.74755679770084},{"$f":"H20*'Cálculo Encargos ECE, ECT e ECS'!$C18","v":115.39110335829037},8.095876659363134E-2,{"$f":"J20*'Cálculo Encargos ECE, ECT e ECS'!$C18","v":115.39110335829038}]
[null,"RS1",{"$f":"C21*'Cálculo Encargos ECE, ECT e ECS'!$C19","v":1.4754906187953944E-4},{"$f":"D21*'Cálculo Encargos ECE, ECT e ECS'!$C19","v":1.9744819308118358E-4},{"$f":"E21*'Cálculo Encargos ECE, ECT e ECS'!$C19","v":227.78798954805879},{"$f":"F21*'Cálculo Encargos ECE, ECT e ECS'!$C19","v":267.98840330056294},{"$f":"G21*'Cálculo Encargos ECE, ECT e ECS'!$C19","v":262.30597614644444},{"$f":"H21*'Cálculo Encargos ECE, ECT e ECS'!$C19","v":159.68564702720622},0.1120359598771422,{"$f":"J21*'Cálculo Encargos ECE, ECT e ECS'!$C19","v":159.68564702720622}]
[null,"EMED Gascar",{"$f":"C22*'Cálculo Encargos ECE, ECT e ECS'!$C20","v":230.77268452536887},{"$f":"D22*'Cálculo Encargos ECE, ECT e ECS'!$C20","v":1.0293897950867887E-4},{"$f":"E22*'Cálculo Encargos ECE, ECT e ECS'!$C20","v":52.918131771250835},{"$f":"F22*'Cálculo Encargos ECE, ECT e ECS'!$C20","v":28.869667511962881},{"$f":"G22*'Cálculo Encargos ECE, ECT e ECS'!$C20","v":28.822665268245458},{"$f":"H22*'Cálculo Encargos ECE, ECT e ECS'!$C20","v":72.126704150376099},5.0604325953510963E-2,{"$f":"J22*'Cálculo Encargos ECE, ECT e ECS'!$C20","v":72.126704150376099}]
[null,"EMED XXX",{"$f":"C23*'Cálculo Encargos ECE, ECT e ECS'!$C21","v":0},{"$f":"D23*'Cálculo Encargos ECE, ECT e ECS'!$C21","v":0},{"$f":"E23*'Cálculo Encargos ECE, ECT e ECS'!$C21","v":0},{"$f":"F23*'Cálculo Encargos ECE, ECT e ECS'!$C21","v":0},{"$f":"G23*'Cálculo Encargos ECE, ECT e ECS'!$C21","v":0},{"$f":"H23*'Cálculo Encargos ECE, ECT e ECS'!$C21","v":0},0,{"$f":"J23*'Cálculo Encargos ECE, ECT e ECS'!$C21","v":0}]
[]
[null,"PROPORÇÃO VOLUME x DISTÂNCIA - GASCAR (ADE - Gascar)"]
[null,null,2020,2021,2022,2023,2024,"Total","%","Média"]
[null,null,{"$f":"SUM(C43:C53)","v":150.55800173001967},193.01682443033317,280.33215286370626,275.81484819721584,290.8298144366272,240.85053351678374,1,240.85053351678374]
[null,{"$f":"B13","v":"MS1"},{"$f":"C13*'Cálculo Encargos ECE, ECT e ECS'!$D11","v":22.829585396418338},{"$f":"D13*'Cálculo Encargos ECE, ECT e ECS'!$D11","v":28.247729281230445},{"$f":"E13*'Cálculo Encargos ECE, ECT e ECS'!$D11","v":36.402155364244948},{"$f":"F13*'Cálculo Encargos ECE, ECT e ECS'!$D11","v":5.1598156584312773E-5},{"$f":"G13*'Cálculo Encargos ECE, ECT e ECS'!$D11","v":5.0504069069830607E-5},{"$f":"H13*'Cálculo Encargos ECE, ECT e ECS'!$D11","v":17.679290662481286},{"$f":"+H43/$H$42","v":7.3403576916923452E-2},{"$f":"J13*'Cálculo Encargos ECE, ECT e ECS'!$D11","v":17.679290662481286}]
[null,"SP1",{"$f":"C14*'Cálculo Encargos ECE, ECT e ECS'!$D12","v":14.30473797030764},{"$f":"D14*'Cálculo Encargos ECE, ECT e ECS'!$D12","v":16.489208346933722},{"$f":"E14*'Cálculo Encargos ECE, ECT e ECS'!$D12","v":14.119450908137336},{"$f":"F14*'Cálculo Encargos ECE, ECT e ECS'!$D12","v":16.777388496111346},{"$f":"G14*'Cálculo Encargos ECE, ECT e ECS'!$D12","v":16.750073498364685},{"$f":"H14*'Cálculo Encargos ECE, ECT e ECS'!$D12","v":15.589580853779713},6.4727200833430365E-2,{"$f":"J14*'Cálculo Encargos ECE, ECT e ECS'!$D12","v":15.589580853779713}]
[null,"SP2",{"$f":"C15*'Cálculo Encargos ECE, ECT e ECS'!$D13","v":22.212074086232768},{"$f":"D15*'Cálculo Encargos ECE, ECT e ECS'!$D13","v":28.233612214600583},{"$f":"E15*'Cálculo Encargos ECE, ECT e ECS'!$D13","v":25.990558541024345},{"$f":"F15*'Cálculo Encargos ECE, ECT e ECS'!$D13","v":24.750740602276295},{"$f":"G15*'Cálculo Encargos ECE, ECT e ECS'!$D13","v":24.847673931466581},{"$f":"H15*'Cálculo Encargos ECE, ECT e ECS'!$D13","v":25.073490164861401},0.10410394280116531,{"$f":"J15*'Cálculo Encargos ECE, ECT e ECS'!$D13","v":25.073490164861401}]
[null,"SP3",{"$f":"C16*'Cálculo Encargos ECE, ECT e ECS'!$D14","v":1.4692503246039403E-6},{"$f":"D16*'Cálculo Encargos ECE, ECT e ECS'!$D14","v":1.9661312520836746E-6},{"$f":"E16*'Cálculo Encargos ECE, ECT e ECS'!$D14","v":1.312642393163956E-6},{"$f":"F16*'Cálculo Encargos ECE, ECT e ECS'!$D14","v":1.544299766403712E-6},{"$f":"G16*'Cálculo Encargos ECE, ECT e ECS'!$D14","v":1.5115544281031239E-6},{"$f":"H16*'Cálculo Encargos ECE, ECT e ECS'!$D14","v":1.5336634547437432E-6},6.3676979757940599E-9,{"$f":"J16*'Cálculo Encargos ECE, ECT e ECS'!$D14","v":1.5336634547437432E-6}]
[null,"SP4",{"$f":"C17*'Cálculo Encargos ECE, ECT e ECS'!$D15","v":7.2195964653791691},{"$f":"D17*'Cálculo Encargos ECE, ECT e ECS'!$D15","v":5.1790258165652459},{"$f":"E17*'Cálculo Encargos ECE, ECT e ECS'!$D15","v":5.0847907196889409E-6},{"$f":"F17*'Cálculo Encargos ECE, ECT e ECS'!$D15","v":5.749743432748236},{"$f":"G17*'Cálculo Encargos ECE, ECT e ECS'!$D15","v":3.2731224622243191},{"$f":"H17*'Cálculo Encargos ECE, ECT e ECS'!$D15","v":4.1214217511007458},1.7111947774919683E-2,{"$f":"J17*'Cálculo Encargos ECE, ECT e ECS'!$D15","v":4.1214217511007458}]
[null,"PR1",{"$f":"C18*'Cálculo Encargos ECE, ECT e ECS'!$D16","v":2.875532778153422E-5},{"$f":"D18*'Cálculo Encargos ECE, ECT e ECS'!$D16","v":3.8479997362209004E-5},{"$f":"E18*'Cálculo Encargos ECE, ECT e ECS'!$D16","v":2.5690286837637389E-5},{"$f":"F18*'Cálculo Encargos ECE, ECT e ECS'!$D16","v":3.0224152571044036E-5},{"$f":"G18*'Cálculo Encargos ECE, ECT e ECS'!$D16","v":2.9583279521446812E-5},{"$f":"H18*'Cálculo Encargos ECE, ECT e ECS'!$D16","v":3.0015984757127506E-5},1.2462494609768358E-7,{"$f":"J18*'Cálculo Encargos ECE, ECT e ECS'!$D16","v":3.0015984757127506E-5}]
[null,"SC1",{"$f":"C19*'Cálculo Encargos ECE, ECT e ECS'!$D17","v":52.333418953414352},{"$f":"D19*'Cálculo Encargos ECE, ECT e ECS'!$D17","v":72.502146032035498},{"$f":"E19*'Cálculo Encargos ECE, ECT e ECS'!$D17","v":60.732258419627115},{"$f":"F19*'Cálculo Encargos ECE, ECT e ECS'!$D17","v":60.196833314932199},{"$f":"G19*'Cálculo Encargos ECE, ECT e ECS'!$D17","v":50.754774861358278},{"$f":"H19*'Cálculo Encargos ECE, ECT e ECS'!$D17","v":58.684015989168728},0.2436532530457497,{"$f":"J19*'Cálculo Encargos ECE, ECT e ECS'!$D17","v":58.684015989168728}]
[null,"SC2",{"$f":"C20*'Cálculo Encargos ECE, ECT e ECS'!$D18","v":31.658488008855599},{"$f":"D20*'Cálculo Encargos ECE, ECT e ECS'!$D18","v":42.364967783625509},{"$f":"E20*'Cálculo Encargos ECE, ECT e ECS'!$D18","v":34.056242671155466},{"$f":"F20*'Cálculo Encargos ECE, ECT e ECS'!$D18","v":40.066546589954875},{"$f":"G20*'Cálculo Encargos ECE, ECT e ECS'!$D18","v":69.650487749382279},{"$f":"H20*'Cálculo Encargos ECE, ECT e ECS'!$D18","v":43.268653270080534},0.1796493976504534,{"$f":"J20*'Cálculo Encargos ECE, ECT e ECS'!$D18","v":43.268653270080534}]
[null,"RS1",{"$f":"C21*'Cálculo Encargos ECE, ECT e ECS'!$D19","v":7.0624833704416437E-5},{"$f":"D21*'Cálculo Encargos ECE, ECT e ECS'!$D19","v":9.4509213572504665E-5},{"$f":"E21*'Cálculo Encargos ECE, ECT e ECS'!$D19","v":109.0314548717971},{"$f":"F21*'Cálculo Encargos ECE, ECT e ECS'!$D19","v":128.273512394584},{"$f":"G21*'Cálculo Encargos ECE, ECT e ECS'!$D19","v":125.55360033492806},{"$f":"H21*'Cálculo Encargos ECE, ECT e ECS'!$D19","v":76.434049275663099},0.31735054998471396,{"$f":"J21*'Cálculo Encargos ECE, ECT e ECS'!$D19","v":76.434049275663099}]
[null,"EMED Gascar",{"$f":"C22*'Cálculo Encargos ECE, ECT e ECS'!$D20","v":0},{"$f":"D22*'Cálculo Encargos ECE, ECT e ECS'!$D20","v":0},{"$f":"E22*'Cálculo Encargos ECE, ECT e ECS'!$D20","v":0},{"$f":"F22*'Cálculo Encargos ECE, ECT e ECS'!$D20","v":0},{"$f":"G22*'Cálculo Encargos ECE, ECT e ECS'!$D20","v":0},{"$f":"H22*'Cálculo Encargos ECE, ECT e ECS'!$D20","v":0},0,{"$f":"J22*'Cálculo Encargos ECE, ECT e ECS'!$D20","v":0}]
[null,"EMED XXX",{"$f":"C23*'Cálculo Encargos ECE, ECT e ECS'!$D21","v":0},{"$f":"D23*'Cálculo Encargos ECE, ECT e ECS'!$D21","v":0},{"$f":"E23*'Cálculo Encargos ECE, ECT e ECS'!$D21","v":0},{"$f":"F23*'Cálculo Encargos ECE, ECT e ECS'!$D21","v":0},{"$f":"G23*'Cálculo Encargos ECE, ECT e ECS'!$D21","v":0},{"$f":"H23*'Cálculo Encargos ECE, ECT e ECS'!$D21","v":0},0,{"$f":"J23*'Cálculo Encargos ECE, ECT e ECS'!$D21","v":0}]
[]
[null,"PROPORÇÃO VOLUME x DISTÂNCIA - EMED XXX (ADE - EMED XXX)"]
[null,null,2020,2021,2022,2023,2024,"Total","%","Média"]
[null,null,{"$f":"SUM(C58:C68)","v":582.42405678966793},{"$f":"SUM(D58:D68)","v":586.68818769974575},608.31521343947725,564.34203180315819,557.54766981038506,580.4998854042459,0.99999999999999978,580.4998854042459]
[null,{"$f":"B13","v":"MS1"},{"$f":"C13*'Cálculo Encargos ECE, ECT e ECS'!$E11","v":38.665223047104703},{"$f":"D13*'Cálculo Encargos ECE, ECT e ECS'!$E11","v":47.841637693707668},{"$f":"E13*'Cálculo Encargos ECE, ECT e ECS'!$E11","v":61.652344189076146},{"$f":"F13*'Cálculo Encargos ECE, ECT e ECS'!$E11","v":8.738898225742134E-5},{"$f":"G13*'Cálculo Encargos ECE, ECT e ECS'!$E11","v":8.5535985935064019E-5},{"$f":"H13*'Cálculo Encargos ECE, ECT e ECS'!$E11","v":29.942449891651474},{"$f":"+H58/$H$57","v":5.1580457885534788E-2},{"$f":"J13*'Cálculo Encargos ECE, ECT e ECS'!$E11","v":29.942449891651474}]
[null,"SP1",{"$f":"C14*'Cálculo Encargos ECE, ECT e ECS'!$E12","v":43.130756221621098},{"$f":"D14*'Cálculo Encargos ECE, ECT e ECS'!$E12","v":49.717235434535056},{"$f":"E14*'Cálculo Encargos ECE, ECT e ECS'!$E12","v":42.572090195995472},{"$f":"F14*'Cálculo Encargos ECE, ECT e ECS'!$E12","v":50.586138296502213},{"$f":"G14*'Cálculo Encargos ECE, ECT e ECS'!$E12","v":50.503779814197209},{"$f":"H14*'Cálculo Encargos ECE, ECT e ECS'!$E12","v":47.004734570972637},8.0972857622942845E-2,{"$f":"J14*'Cálculo Encargos ECE, ECT e ECS'!$E12","v":47.004734570972637}]
[null,"SP2",{"$f":"C15*'Cálculo Encargos ECE, ECT e ECS'!$E13","v":341.3227061357652},{"$f":"D15*'Cálculo Encargos ECE, ECT e ECS'!$E13","v":433.85290755212361},{"$f":"E15*'Cálculo Encargos ECE, ECT e ECS'!$E13","v":399.38493545278061},{"$f":"F15*'Cálculo Encargos ECE, ECT e ECS'!$E13","v":380.33322455328198},{"$f":"G15*'Cálculo Encargos ECE, ECT e ECS'!$E13","v":381.82275435160386},{"$f":"H15*'Cálculo Encargos ECE, ECT e ECS'!$E13","v":385.2927683436551},0.66372583015300102,{"$f":"J15*'Cálculo Encargos ECE, ECT e ECS'!$E13","v":385.2927683436551}]
[null,"SP3",{"$f":"C16*'Cálculo Encargos ECE, ECT e ECS'!$E14","v":3.259302179710426E-5},{"$f":"D16*'Cálculo Encargos ECE, ECT e ECS'!$E14","v":4.3615548475312031E-5},{"$f":"E16*'Cálculo Encargos ECE, ECT e ECS'!$E14","v":2.9118919639326095E-5},{"$f":"F16*'Cálculo Encargos ECE, ECT e ECS'!$E14","v":3.4257876350122543E-5},{"$f":"G16*'Cálculo Encargos ECE, ECT e ECS'!$E14","v":3.3531472205701259E-5},{"$f":"H16*'Cálculo Encargos ECE, ECT e ECS'!$E14","v":3.402192640206478E-5},5.8607981254591881E-8,{"$f":"J16*'Cálculo Encargos ECE, ECT e ECS'!$E14","v":3.402192640206478E-5}]
[null,"SP4",{"$f":"C17*'Cálculo Encargos ECE, ECT e ECS'!$E15","v":35.119806108844735},{"$f":"D17*'Cálculo Encargos ECE, ECT e ECS'!$E15","v":25.193427829753382},{"$f":"E17*'Cálculo Encargos ECE, ECT e ECS'!$E15","v":2.4735020168492191E-5},{"$f":"F17*'Cálculo Encargos ECE, ECT e ECS'!$E15","v":27.969689926861605},{"$f":"G17*'Cálculo Encargos ECE, ECT e ECS'!$E15","v":15.922140080136096},{"$f":"H17*'Cálculo Encargos ECE, ECT e ECS'!$E15","v":20.048701265442773},3.4536959902207988E-2,{"$f":"J17*'Cálculo Encargos ECE, ECT e ECS'!$E15","v":20.048701265442773}]
[null,"PR1",{"$f":"C18*'Cálculo Encargos ECE, ECT e ECS'!$E16","v":5.3034461251153932E-6},{"$f":"D18*'Cálculo Encargos ECE, ECT e ECS'!$E16","v":7.097001100300779E-6},{"$f":"E18*'Cálculo Encargos ECE, ECT e ECS'!$E16","v":4.738149855821315E-6},{"$f":"F18*'Cálculo Encargos ECE, ECT e ECS'!$E16","v":5.5743466412764947E-6},{"$f":"G18*'Cálculo Encargos ECE, ECT e ECS'!$E16","v":5.4561481732430369E-6},{"$f":"H18*'Cálculo Encargos ECE, ECT e ECS'!$E16","v":5.5359535200268619E-6},9.5365281875495287E-9,{"$f":"J18*'Cálculo Encargos ECE, ECT e ECS'!$E16","v":5.5359535200268619E-6}]
[null,"SC1",{"$f":"C19*'Cálculo Encargos ECE, ECT e ECS'!$E17","v":13.705729175855815},{"$f":"D19*'Cálculo Encargos ECE, ECT e ECS'!$E17","v":18.987767244253337},{"$f":"E19*'Cálculo Encargos ECE, ECT e ECS'!$E17","v":15.90532212081267},{"$f":"F19*'Cálculo Encargos ECE, ECT e ECS'!$E17","v":15.765098309228048},{"$f":"G19*'Cálculo Encargos ECE, ECT e ECS'!$E17","v":13.292294150522471},{"$f":"H19*'Cálculo Encargos ECE, ECT e ECS'!$E17","v":15.368902819345882},2.6475290014300958E-2,{"$f":"J19*'Cálculo Encargos ECE, ECT e ECS'!$E17","v":15.368902819345882}]
[null,"SC2",{"$f":"C20*'Cálculo Encargos ECE, ECT e ECS'!$E18","v":8.2911201187275942},{"$f":"D20*'Cálculo Encargos ECE, ECT e ECS'!$E18","v":11.09506672023662},{"$f":"E20*'Cálculo Encargos ECE, ECT e ECS'!$E18","v":8.9190740473803576},{"$f":"F20*'Cálculo Encargos ECE, ECT e ECS'!$E18","v":10.493127480598201},{"$f":"G20*'Cálculo Encargos ECE, ECT e ECS'!$E18","v":18.240939368189622},{"$f":"H20*'Cálculo Encargos ECE, ECT e ECS'!$E18","v":11.33173515859203},1.9520650121577349E-2,{"$f":"J20*'Cálculo Encargos ECE, ECT e ECS'!$E18","v":11.33173515859203}]
[null,"RS1",{"$f":"C21*'Cálculo Encargos ECE, ECT e ECS'!$E19","v":3.6564473650566364E-5},{"$f":"D21*'Cálculo Encargos ECE, ECT e ECS'!$E19","v":4.8930092548897549E-5},{"$f":"E21*'Cálculo Encargos ECE, ECT e ECS'!$E19","v":56.448667552663395},{"$f":"F21*'Cálculo Encargos ECE, ECT e ECS'!$E19","v":66.41082488983001},{"$f":"G21*'Cálculo Encargos ECE, ECT e ECS'!$E19","v":65.002649498530943},{"$f":"H21*'Cálculo Encargos ECE, ECT e ECS'!$E19","v":39.572068834072262},6.8168952017131301E-2,{"$f":"J21*'Cálculo Encargos ECE, ECT e ECS'!$E19","v":39.572068834072262}]
[null,"EMED Gascar",{"$f":"C22*'Cálculo Encargos ECE, ECT e ECS'!$E20","v":102.18864152080731},{"$f":"D22*'Cálculo Encargos ECE, ECT e ECS'!$E20","v":4.5582493860419334E-5},{"$f":"E22*'Cálculo Encargos ECE, ECT e ECS'!$E20","v":23.43272128867892},{"$f":"F22*'Cálculo Encargos ECE, ECT e ECS'!$E20","v":12.783801125650818},{"$f":"G22*'Cálculo Encargos ECE, ECT e ECS'!$E20","v":12.762988023598504},{"$f":"H22*'Cálculo Encargos ECE, ECT e ECS'!$E20","v":31.938484962633719},5.5018934138794086E-2,{"$f":"J22*'Cálculo Encargos ECE, ECT e ECS'!$E20","v":31.938484962633712}]
[null,"EMED XXX",{"$f":"C23*'Cálculo Encargos ECE, ECT e ECS'!$E21","v":0},{"$f":"D23*'Cálculo Encargos ECE, ECT e ECS'!$E21","v":0},{"$f":"E23*'Cálculo Encargos ECE, ECT e ECS'!$E21","v":0},{"$f":"F23*'Cálculo Encargos ECE, ECT e ECS'!$E21","v":0},{"$f":"G23*'Cálculo Encargos ECE, ECT e ECS'!$E21","v":0},{"$f":"H23*'Cálculo Encargos ECE, ECT e ECS'!$E21","v":0},0,{"$f":"J23*'Cálculo Encargos ECE, ECT e ECS'!$E21","v":0}]

{"sheet":"Conta Reg","index":20,"n_rows":19,"n_cols":13,"rows_kept":19,"cut":false,"hidden":false,"merged":[]}
[]
[]
[null,"APURAÇÃO DA CONTA REGULATÓRIA - DIFERENÇA NO OPEX - Estimado em Abril/2022"]
[null,"Em R$ Mil",2020,{"$f":"C4+1","v":2021},{"$f":"D4+1","v":2022},2023,2024,2025,2026,2027,2028,2029,2030]
[null,"Opex aprovado para Cálculo Tarifário",{"$f":"SUM('Fluxo de Caixa Regulado'!C13:C24)","v":265106.95619472384},{"$f":"SUM('Fluxo de Caixa Regulado'!D13:D24)","v":258762.34737463514}]
[null,"Opex efetivo",157567.35,176266.3]
[null,"Diferença no Opex",{"$f":"C6-C5","v":-107539.60619472383},{"$f":"D6-D5","v":-82496.047374635149}]
[0.5,"50% da Diferença no Opex",{"$f":"$A$8*C7","v":-53769.803097361917},{"$f":"$A$8*D7","v":-41248.023687317575},0,0,0,0,0,0,0,0,0]
["Nota: Valores a preços de Dez/2019 e proporcionais à capacidade disponível."]
[]
[null,"Saldo de Conta Reg a ser aplicada:",{"$f":"SUM(C8:D8)","v":-95017.826784679492}]
[null,"Nr de anos aplicação desconto:",1]
[]
[]
[null,"Aplicação da Conta regulatória descontada na Receita Máxima Permitida"]
["%",null,{"$f":"C4","v":2020},{"$f":"D4","v":2021},2022,2023,2024,2025,2026,2027,2028,2029,2030]
[{"$f":"SUM(A18:A19)","v":1},"TOTAL",0,0,0,{"$f":"-$C$11/$C$12","v":95017.826784679492},{"$f":"-$C$11/$C$12","v":95017.826784679492}]
[0.7,"ENTRADA (RE)",{"$f":"$A18*C$17","v":0},{"$f":"$A18*D$17","v":0},0,66512.478749275644,66512.478749275644,0,0,0,0,0,0]
[{"$f":"1-A18","v":0.30000000000000004},"SAÍDA (RX)",{"$f":"$A19*C$17","v":0},0,0,28505.348035403851,28505.348035403851,0,0,0,0,0,0]

{"sheet":"Cálculo Encargos ECE, ECT e ECS","index":21,"n_rows":165,"n_cols":10,"rows_kept":165,"cut":false,"hidden":false,"merged":[]}
[]
[]
[null,"DIAS/ANO"]
[null,null,2020,2021,2022,2023,2024,"Total","%","Média"]
[null,"Dias/Ano",{"$f":"Premissas!B59","v":366},{"$f":"Premissas!C59","v":365},{"$f":"Premissas!D59","v":365},{"$f":"Premissas!E59","v":365},{"$f":"Premissas!F59","v":366},{"$f":"SUM(C5:G5)","v":1827},null,{"$f":"AVERAGE(C5:G5)","v":365.4}]
[]
[]
[null,"DISTÂNCIAS (DEX)"]
[null,"Matriz de Distância"]
[null,"Distâncias médias em Km","Corumbá","Gascar","Garuva"]
[null,"MS1",{"$f":"AVERAGE(Gasoduto!G5:G8)","v":457.49999999999994},{"$f":"AVERAGE(Gasoduto!H5:H8)","v":806.90000000000009},{"$f":"AVERAGE(Gasoduto!I5:I8)","v":1366.6024999999997}]
[null,"SP1",{"$f":"AVERAGE(Gasoduto!G9:G15)","v":986.57142857142867},{"$f":"AVERAGE(Gasoduto!H9:H15)","v":277.82857142857154},{"$f":"AVERAGE(Gasoduto!I9:I15)","v":837.69142857142845}]
[null,"SP2",{"$f":"AVERAGE(Gasoduto!G16:G26)","v":1283.2},{"$f":"AVERAGE(Gasoduto!H16:H26)","v":40.400000000000006},{"$f":"AVERAGE(Gasoduto!I16:I26)","v":620.80818181818177}]
[null,"SP3",{"$f":"AVERAGE(Gasoduto!G27:G30)","v":1288.5500000000002},{"$f":"AVERAGE(Gasoduto!H27:H30)","v":24.150000000000034},{"$f":"AVERAGE(Gasoduto!I27:I30)","v":535.73}]
[null,"SP4",{"$f":"AVERAGE(Gasoduto!G31:G34)","v":1357.9500000000003},{"$f":"AVERAGE(Gasoduto!H31:H34)","v":93.550000000000011},{"$f":"AVERAGE(Gasoduto!I31:I34)","v":455.07499999999999}]
[null,"PR1",{"$f":"AVERAGE(Gasoduto!G35:G38)","v":1737.0500000000002},{"$f":"AVERAGE(Gasoduto!H35:H38)","v":472.65000000000003},{"$f":"AVERAGE(Gasoduto!I35:I38)","v":87.172499999999971}]
[null,"SC1",{"$f":"AVERAGE(Gasoduto!G39:G47)","v":2022.9555555555557},{"$f":"AVERAGE(Gasoduto!H39:H47)","v":758.55555555555554},{"$f":"AVERAGE(Gasoduto!I39:I47)","v":198.66}]
[null,"SC2",{"$f":"AVERAGE(Gasoduto!G39:G47)","v":2022.9555555555557},{"$f":"AVERAGE(Gasoduto!H39:H47)","v":758.55555555555554},{"$f":"AVERAGE(Gasoduto!I39:I47)","v":198.66}]
[null,"RS1",{"$f":"AVERAGE(Gasoduto!G48:G54)","v":2425.2571428571432},{"$f":"AVERAGE(Gasoduto!H48:H54)","v":1160.8571428571427},{"$f":"AVERAGE(Gasoduto!I48:I54)","v":601.00857142857137}]
[null,{"$f":"Proporções!B22","v":"EMED Gascar"},{"$f":"Gasoduto!G21","v":1264.4000000000001},{"$f":"Gasoduto!H21","v":0},{"$f":"Gasoduto!I21","v":559.89}]
[null,{"$f":"Proporções!B23","v":"EMED XXX"}]
[]
[null,"Distância média ponderada pela capacidade - PROPORÇÃO VOLUME x DISTÂNCIA - TOTAL (ADE)"]
[null,null,2020,2021,2022,2023,2024,"Total","%","Média"]
[null,null,{"$f":"SUM(C26:C28)","v":2061.795574209289},{"$f":"SUM(D26:D28)","v":2132.552659755318},2318.4402957070279,2333.5836979226292,2356.8220765664064,{"$f":"SUM(H26:H28)","v":2246.6575007036672},1,{"$f":"SUM(J26:J28)","v":2246.6575007036672}]
[null,{"$f":"Proporções!B6","v":"EMED Corumbá"},{"$f":"Proporções!C27","v":1328.8135156896014},{"$f":"Proporções!D27","v":1352.847647625239},{"$f":"Proporções!E27","v":1429.7929294038445},{"$f":"Proporções!F27","v":1493.4268179222552},{"$f":"Proporções!G27","v":1508.4445923193939},{"$f":"Proporções!H27","v":1425.3070817826376},{"$f":"H26/H25","v":0.63441226859733735},{"$f":"Proporções!J27","v":1425.3070817826376}]
[null,{"$f":"Proporções!B7","v":"EMED Gascar"},{"$f":"Proporções!C42","v":150.55800173001967},{"$f":"Proporções!D42","v":193.01682443033317},{"$f":"Proporções!E42","v":280.33215286370626},{"$f":"Proporções!F42","v":275.81484819721584},{"$f":"Proporções!G42","v":290.8298144366272},{"$f":"Proporções!H42","v":240.85053351678374},{"$f":"H27/H25","v":0.10720393893655257},{"$f":"Proporções!J42","v":240.85053351678374}]
[null,{"$f":"Proporções!B8","v":"EMED Garuva"},{"$f":"Proporções!C57","v":582.42405678966793},{"$f":"Proporções!D57","v":586.68818769974575},{"$f":"Proporções!E57","v":608.31521343947725},{"$f":"Proporções!F57","v":564.34203180315819},{"$f":"Proporções!G57","v":557.54766981038506},{"$f":"Proporções!H57","v":580.4998854042459},{"$f":"H28/H25","v":0.2583837924661101},{"$f":"Proporções!J57","v":580.4998854042459}]
[]
[null,"Distância média ponderada pela capacidade - PROPORÇÃO VOLUME x DISTÂNCIA - TOTAL (ADX)"]
[null,null,2020,2021,2022,2023,2024,"Total","%","Média"]
[null,null,{"$f":"SUM(C33:C43)","v":14846.38858530339},{"$f":"SUM(D33:D43)","v":12119.534445177524},11292.960394707767,12531.126621364479,12036.819465793515,{"$f":"SUM(H33:H43)","v":12543.534597027028},0.99999999999999978,12543.534597027028]
[null,{"$f":"Proporções!B13","v":"MS1"},{"$f":"+(Proporções!C$6*$C11)+(Proporções!C$7*$D11)+(Proporções!C$8*$E11)","v":457.50006960743144},{"$f":"+(Proporções!D$6*$C11)+(Proporções!D$7*$D11)+(Proporções!D$8*$E11)","v":548.64789721344368},{"$f":"+(Proporções!E$6*$C11)+(Proporções!E$7*$D11)+(Proporções!E$8*$E11)","v":620.67220617019302},{"$f":"+(Proporções!F$6*$C11)+(Proporções!F$7*$D11)+(Proporções!F$8*$E11)","v":534.89000114247119},{"$f":"+(Proporções!G$6*$C11)+(Proporções!G$7*$D11)+(Proporções!G$8*$E11)","v":551.41270690053648},{"$f":"+(Proporções!H$6*$C11)+(Proporções!H$7*$D11)+(Proporções!H$8*$E11)","v":545.28009309743516},{"$f":"+H33/$H$32","v":4.3471008022465472E-2},{"$f":"+(Proporções!J$6*$C11)+(Proporções!J$7*$D11)+(Proporções!J$8*$E11)","v":545.28009309743527}]
[null,{"$f":"Proporções!B14","v":"SP1"},{"$f":"+(Proporções!C$6*$C12)+(Proporções!C$7*$D12)+(Proporções!C$8*$E12)","v":986.57138113654128},{"$f":"+(Proporções!D$6*$C12)+(Proporções!D$7*$D12)+(Proporções!D$8*$E12)","v":801.68199070889534},{"$f":"+(Proporções!E$6*$C12)+(Proporções!E$7*$D12)+(Proporções!E$8*$E12)","v":781.98462378333761},{"$f":"+(Proporções!F$6*$C12)+(Proporções!F$7*$D12)+(Proporções!F$8*$E12)","v":829.58923742212437},{"$f":"+(Proporções!G$6*$C12)+(Proporções!G$7*$D12)+(Proporções!G$8*$E12)","v":796.07363442452777},{"$f":"+(Proporções!H$6*$C12)+(Proporções!H$7*$D12)+(Proporções!H$8*$E12)","v":839.27660652899112},6.6909099667003744E-2,{"$f":"+(Proporções!J$6*$C12)+(Proporções!J$7*$D12)+(Proporções!J$8*$E12)","v":839.27660652899112}]
[null,{"$f":"Proporções!B15","v":"SP2"},{"$f":"+(Proporções!C$6*$C13)+(Proporções!C$7*$D13)+(Proporções!C$8*$E13)","v":1283.199894624358},{"$f":"+(Proporções!D$6*$C13)+(Proporções!D$7*$D13)+(Proporções!D$8*$E13)","v":958.99127494060053},{"$f":"+(Proporções!E$6*$C13)+(Proporções!E$7*$D13)+(Proporções!E$8*$E13)","v":894.52681008990089},{"$f":"+(Proporções!F$6*$C13)+(Proporções!F$7*$D13)+(Proporções!F$8*$E13)","v":1007.9274085220078},{"$f":"+(Proporções!G$6*$C13)+(Proporções!G$7*$D13)+(Proporções!G$8*$E13)","v":949.15688261848879},{"$f":"+(Proporções!H$6*$C13)+(Proporções!H$7*$D13)+(Proporções!H$8*$E13)","v":1017.6314786506549},8.1127968419032873E-2,{"$f":"+(Proporções!J$6*$C13)+(Proporções!J$7*$D13)+(Proporções!J$8*$E13)","v":1017.6314786506549}]
[null,{"$f":"Proporções!B16","v":"SP3"},{"$f":"+(Proporções!C$6*$C14)+(Proporções!C$7*$D14)+(Proporções!C$8*$E14)","v":1288.5498884281099},{"$f":"+(Proporções!D$6*$C14)+(Proporções!D$7*$D14)+(Proporções!D$8*$E14)","v":958.70648495856665},{"$f":"+(Proporções!E$6*$C14)+(Proporções!E$7*$D14)+(Proporções!E$8*$E14)","v":887.23733339547039},{"$f":"+(Proporções!F$6*$C14)+(Proporções!F$7*$D14)+(Proporções!F$8*$E14)","v":1008.4931363706397},{"$f":"+(Proporções!G$6*$C14)+(Proporções!G$7*$D14)+(Proporções!G$8*$E14)","v":948.70117256219964},{"$f":"+(Proporções!H$6*$C14)+(Proporções!H$7*$D14)+(Proporções!H$8*$E14)","v":1016.9337564216204},8.1072344366367524E-2,{"$f":"+(Proporções!J$6*$C14)+(Proporções!J$7*$D14)+(Proporções!J$8*$E14)","v":1016.9337564216204}]
[null,{"$f":"Proporções!B17","v":"SP4"},{"$f":"+(Proporções!C$6*$C15)+(Proporções!C$7*$D15)+(Proporções!C$8*$E15)","v":1357.9498801286088},{"$f":"+(Proporções!D$6*$C15)+(Proporções!D$7*$D15)+(Proporções!D$8*$E15)","v":1028.1064719103069},{"$f":"+(Proporções!E$6*$C15)+(Proporções!E$7*$D15)+(Proporções!E$8*$E15)","v":945.44859259949692},{"$f":"+(Proporções!F$6*$C15)+(Proporções!F$7*$D15)+(Proporções!F$8*$E15)","v":1077.8931280264446},{"$f":"+(Proporções!G$6*$C15)+(Proporções!G$7*$D15)+(Proporções!G$8*$E15)","v":1018.1011647248562},{"$f":"+(Proporções!H$6*$C15)+(Proporções!H$7*$D15)+(Proporções!H$8*$E15)","v":1083.6106544465497},8.6387983073238278E-2,{"$f":"+(Proporções!J$6*$C15)+(Proporções!J$7*$D15)+(Proporções!J$8*$E15)","v":1083.6106544465497}]
[null,{"$f":"Proporções!B18","v":"PR1"},{"$f":"+(Proporções!C$6*$C16)+(Proporções!C$7*$D16)+(Proporções!C$8*$E16)","v":1737.049838812103},{"$f":"+(Proporções!D$6*$C16)+(Proporções!D$7*$D16)+(Proporções!D$8*$E16)","v":1407.2064069535734},{"$f":"+(Proporções!E$6*$C16)+(Proporções!E$7*$D16)+(Proporções!E$8*$E16)","v":1268.8489001770902},{"$f":"+(Proporções!F$6*$C16)+(Proporções!F$7*$D16)+(Proporções!F$8*$E16)","v":1456.9930864874448},{"$f":"+(Proporções!G$6*$C16)+(Proporções!G$7*$D16)+(Proporções!G$8*$E16)","v":1397.2011257090599},{"$f":"+(Proporções!H$6*$C16)+(Proporções!H$7*$D16)+(Proporções!H$8*$E16)","v":1449.1545318039662},0.11552999839036068,{"$f":"+(Proporções!J$6*$C16)+(Proporções!J$7*$D16)+(Proporções!J$8*$E16)","v":1449.1545318039664}]
[null,{"$f":"Proporções!B19","v":"SC1"},{"$f":"+(Proporções!C$6*$C17)+(Proporções!C$7*$D17)+(Proporções!C$8*$E17)","v":2022.9553847206435},{"$f":"+(Proporções!D$6*$C17)+(Proporções!D$7*$D17)+(Proporções!D$8*$E17)","v":1693.111947342343},{"$f":"+(Proporções!E$6*$C17)+(Proporções!E$7*$D17)+(Proporções!E$8*$E17)","v":1541.7491016041677},{"$f":"+(Proporções!F$6*$C17)+(Proporções!F$7*$D17)+(Proporções!F$8*$E17)","v":1742.8986323440342},{"$f":"+(Proporções!G$6*$C17)+(Proporções!G$7*$D17)+(Proporções!G$8*$E17)","v":1683.1066721547941},{"$f":"+(Proporções!H$6*$C17)+(Proporções!H$7*$D17)+(Proporções!H$8*$E17)","v":1731.8948602656471},0.13807072056676334,{"$f":"+(Proporções!J$6*$C17)+(Proporções!J$7*$D17)+(Proporções!J$8*$E17)","v":1731.8948602656471}]
[null,{"$f":"Proporções!B20","v":"SC2"},{"$f":"+(Proporções!C$6*$C18)+(Proporções!C$7*$D18)+(Proporções!C$8*$E18)","v":2022.9553847206435},{"$f":"+(Proporções!D$6*$C18)+(Proporções!D$7*$D18)+(Proporções!D$8*$E18)","v":1693.111947342343},{"$f":"+(Proporções!E$6*$C18)+(Proporções!E$7*$D18)+(Proporções!E$8*$E18)","v":1541.7491016041677},{"$f":"+(Proporções!F$6*$C18)+(Proporções!F$7*$D18)+(Proporções!F$8*$E18)","v":1742.8986323440342},{"$f":"+(Proporções!G$6*$C18)+(Proporções!G$7*$D18)+(Proporções!G$8*$E18)","v":1683.1066721547941},{"$f":"+(Proporções!H$6*$C18)+(Proporções!H$7*$D18)+(Proporções!H$8*$E18)","v":1731.8948602656471},0.13807072056676334,{"$f":"+(Proporções!J$6*$C18)+(Proporções!J$7*$D18)+(Proporções!J$8*$E18)","v":1731.8948602656471}]
[null,{"$f":"Proporções!B21","v":"RS1"},{"$f":"+(Proporções!C$6*$C19)+(Proporções!C$7*$D19)+(Proporções!C$8*$E19)","v":2425.2569720248293},{"$f":"+(Proporções!D$6*$C19)+(Proporções!D$7*$D19)+(Proporções!D$8*$E19)","v":2095.4135346480157},{"$f":"+(Proporções!E$6*$C19)+(Proporções!E$7*$D19)+(Proporções!E$8*$E19)","v":1944.0541922426535},{"$f":"+(Proporções!F$6*$C19)+(Proporções!F$7*$D19)+(Proporções!F$8*$E19)","v":2145.2002196482345},{"$f":"+(Proporções!G$6*$C19)+(Proporções!G$7*$D19)+(Proporções!G$8*$E19)","v":2085.4082594588358},{"$f":"+(Proporções!H$6*$C19)+(Proporções!H$7*$D19)+(Proporções!H$8*$E19)","v":2134.1973002050609},{"$f":"+H41/$H$32","v":0.17014321471325092},{"$f":"+(Proporções!J$6*$C19)+(Proporções!J$7*$D19)+(Proporções!J$8*$E19)","v":2134.1973002050609}]
[null,{"$f":"Proporções!B22","v":"EMED Gascar"},{"$f":"+(Proporções!C$6*$C20)+(Proporções!C$7*$D20)+(Proporções!C$8*$E20)","v":1264.3998911001227},{"$f":"+(Proporções!D$6*$C20)+(Proporções!D$7*$D20)+(Proporções!D$8*$E20)","v":934.55648915943584},{"$f":"+(Proporções!E$6*$C20)+(Proporções!E$7*$D20)+(Proporções!E$8*$E20)","v":866.68953304129002},{"$f":"+(Proporções!F$6*$C20)+(Proporções!F$7*$D20)+(Proporções!F$8*$E20)","v":984.34313905704175},{"$f":"+(Proporções!G$6*$C20)+(Proporções!G$7*$D20)+(Proporções!G$8*$E20)","v":924.55117508542151},{"$f":"+(Proporções!H$6*$C20)+(Proporções!H$7*$D20)+(Proporções!H$8*$E20)","v":993.66045534145428},{"$f":"+H42/$H$32","v":7.9216942214753727E-2},{"$f":"+(Proporções!J$6*$C20)+(Proporções!J$7*$D20)+(Proporções!J$8*$E20)","v":993.66045534145428}]
[null,{"$f":"Proporções!B23","v":"EMED XXX"},{"$f":"+(Proporções!C$6*$C21)+(Proporções!C$7*$D21)+(Proporções!C$8*$E21)","v":0},{"$f":"+(Proporções!D$6*$C21)+(Proporções!D$7*$D21)+(Proporções!D$8*$E21)","v":0},{"$f":"+(Proporções!E$6*$C21)+(Proporções!E$7*$D21)+(Proporções!E$8*$E21)","v":0},{"$f":"+(Proporções!F$6*$C21)+(Proporções!F$7*$D21)+(Proporções!F$8*$E21)","v":0},{"$f":"+(Proporções!G$6*$C21)+(Proporções!G$7*$D21)+(Proporções!G$8*$E21)","v":0},{"$f":"+(Proporções!H$6*$C21)+(Proporções!H$7*$D21)+(Proporções!H$8*$E21)","v":0},{"$f":"+H43/$H$32","v":0},{"$f":"+(Proporções!J$6*$C21)+(Proporções!J$7*$D21)+(Proporções!J$8*$E21)","v":0}]
[]
[null,"RESERVA DE CAPACIDADE x Distância média ponderada pela capacidade - ENTRADA (WE = BCE x ADE)"]
[null,null,2020,2021,2022,2023,2024,"Total","%","Média"]
[null,null,{"$f":"SUM(C48:C49)","v":0.99999997575753208},0.99999995142608455,0.95699545239855721,0.99999997435577181,0.99999997534598151,0.99099450638311304,{"$f":"H47/H47","v":1},{"$f":"SUM(J48:J49)","v":0.99099450638311304}]
[null,{"$f":"+Proporções!B6","v":"EMED Corumbá"},{"$f":"('C. Demanda'!C29*C26)/(('C. Demanda'!C29*C26)+('C. Demanda'!C30*C27)+('C. Demanda'!C31*C28))","v":0.99999996949079661},{"$f":"('C. Demanda'!D29*D26)/(('C. Demanda'!D29*D26)+('C. Demanda'!D30*D27)+('C. Demanda'!D31*D28))","v":0.95205838848978919},{"$f":"('C. Demanda'!E29*E26)/(('C. Demanda'!E29*E26)+('C. Demanda'!E30*E27)+('C. Demanda'!E31*E28))","v":0.88443700145126558},{"$f":"('C. Demanda'!F29*F26)/(('C. Demanda'!F29*F26)+('C. Demanda'!F30*F27)+('C. Demanda'!F31*F28))","v":0.95007790648001034},{"$f":"('C. Demanda'!G29*G26)/(('C. Demanda'!G29*G26)+('C. Demanda'!G30*G27)+('C. Demanda'!G31*G28))","v":0.93381986932802252},{"$f":"('C. Demanda'!H29*H26)/(('C. Demanda'!H29*H26)+('C. Demanda'!H30*H27)+('C. Demanda'!H31*H28))","v":0.94895684515198675},{"$f":"H48/H47","v":0.95758032868965803},{"$f":"('C. Demanda'!J29*J26)/(('C. Demanda'!J29*J26)+('C. Demanda'!J30*J27)+('C. Demanda'!J31*J28))","v":0.94895684515198675}]
[null,{"$f":"+Proporções!B7","v":"EMED Gascar"},{"$f":"('C. Demanda'!C30*C27)/(('C. Demanda'!C29*C26)+('C. Demanda'!C30*C27)+('C. Demanda'!C31*C28))","v":6.2667355141665177E-9},{"$f":"('C. Demanda'!D30*D27)/(('C. Demanda'!D29*D26)+('C. Demanda'!D30*D27)+('C. Demanda'!D31*D28))","v":4.7941562936295382E-2},{"$f":"('C. Demanda'!E30*E27)/(('C. Demanda'!E29*E26)+('C. Demanda'!E30*E27)+('C. Demanda'!E31*E28))","v":7.2558450947291603E-2},{"$f":"('C. Demanda'!F30*F27)/(('C. Demanda'!F29*F26)+('C. Demanda'!F30*F27)+('C. Demanda'!F31*F28))","v":4.9922067875761443E-2},{"$f":"('C. Demanda'!G30*G27)/(('C. Demanda'!G29*G26)+('C. Demanda'!G30*G27)+('C. Demanda'!G31*G28))","v":6.6180106017958942E-2},{"$f":"('C. Demanda'!H30*H27)/(('C. Demanda'!H29*H26)+('C. Demanda'!H30*H27)+('C. Demanda'!H31*H28))","v":4.2037661231126254E-2},{"$f":"H49/H47","v":4.241967131034198E-2},{"$f":"('C. Demanda'!J30*J27)/(('C. Demanda'!J29*J26)+('C. Demanda'!J30*J27)+('C. Demanda'!J31*J28))","v":4.2037661231126247E-2}]
[null,{"$f":"+Proporções!B8","v":"EMED Garuva"},{"$f":"('C. Demanda'!C31*C28)/(('C. Demanda'!C29*C26)+('C. Demanda'!C30*C27)+('C. Demanda'!C31*C28))","v":2.4242467879812447E-8},{"$f":"('C. Demanda'!D31*D28)/(('C. Demanda'!D29*D26)+('C. Demanda'!D30*D27)+('C. Demanda'!D31*D28))","v":4.8573915352718229E-8},{"$f":"('C. Demanda'!E31*E28)/(('C. Demanda'!E29*E26)+('C. Demanda'!E30*E27)+('C. Demanda'!E31*E28))","v":4.3004547601442844E-2},{"$f":"('C. Demanda'!F31*F28)/(('C. Demanda'!F29*F26)+('C. Demanda'!F30*F27)+('C. Demanda'!F31*F28))","v":2.5644228317230178E-8},{"$f":"('C. Demanda'!G31*G28)/(('C. Demanda'!G29*G26)+('C. Demanda'!G30*G27)+('C. Demanda'!G31*G28))","v":2.4654018489238444E-8},{"$f":"('C. Demanda'!H31*H28)/(('C. Demanda'!H29*H26)+('C. Demanda'!H30*H27)+('C. Demanda'!H31*H28))","v":9.0054936168870309E-3},{"$f":"H50/H47","v":9.0873295047364834E-3},{"$f":"('C. Demanda'!J31*J28)/(('C. Demanda'!J29*J26)+('C. Demanda'!J30*J27)+('C. Demanda'!J31*J28))","v":9.0054936168870309E-3}]
[null,"Proporção Corumbá e Garuva",null,null,null,{"$f":"F48+F50","v":0.95007793212423863},0.93381989398204102]
[]
[null,"RESERVA DE CAPACIDADE x Distância média ponderada pela capacidade - SAÍDA (WX = BCX x ADX)"]
[null,null,2020,2021,2022,2023,2024,"Total","%","Média"]
[null,null,{"$f":"SUM(C56:C66)","v":0.99999999999999978},{"$f":"SUM(D56:D66)","v":0.99999999999999989},0.99999999999999967,1,1,1,1,1.0000000000000002]
[null,{"$f":"+Proporções!B13","v":"MS1"},{"$f":"('C. Demanda'!C36*C33)/(('C. Demanda'!C$36*C$33)+('C. Demanda'!C$37*C$34)+('C. Demanda'!C$38*C$35)+('C. Demanda'!C$39*C$36)+('C. Demanda'!C$40*C$37)+('C. Demanda'!C$41*C$38)+('C. Demanda'!C$42*C$39)+('C. Demanda'!C$43*C$40)+('C. Demanda'!C$44*C$41)+('C. Demanda'!C$45*C$42)+('C. Demanda'!C$46*C$43))","v":9.741043246429229E-3},{"$f":"('C. Demanda'!D36*D33)/(('C. Demanda'!D$36*D$33)+('C. Demanda'!D$37*D$34)+('C. Demanda'!D$38*D$35)+('C. Demanda'!D$39*D$36)+('C. Demanda'!D$40*D$37)+('C. Demanda'!D$41*D$38)+('C. Demanda'!D$42*D$39)+('C. Demanda'!D$43*D$40)+('C. Demanda'!D$44*D$41)+('C. Demanda'!D$45*D$42)+('C. Demanda'!D$46*D$43))","v":1.8287367457204492E-2},{"$f":"('C. Demanda'!E36*E33)/(('C. Demanda'!E$36*E$33)+('C. Demanda'!E$37*E$34)+('C. Demanda'!E$38*E$35)+('C. Demanda'!E$39*E$36)+('C. Demanda'!E$40*E$37)+('C. Demanda'!E$41*E$38)+('C. Demanda'!E$42*E$39)+('C. Demanda'!E$43*E$40)+('C. Demanda'!E$44*E$41)+('C. Demanda'!E$45*E$42)+('C. Demanda'!E$46*E$43))","v":2.6547562087336531E-2},{"$f":"('C. Demanda'!F36*F33)/(('C. Demanda'!F$36*F$33)+('C. Demanda'!F$37*F$34)+('C. Demanda'!F$38*F$35)+('C. Demanda'!F$39*F$36)+('C. Demanda'!F$40*F$37)+('C. Demanda'!F$41*F$38)+('C. Demanda'!F$42*F$39)+('C. Demanda'!F$43*F$40)+('C. Demanda'!F$44*F$41)+('C. Demanda'!F$45*F$42)+('C. Demanda'!F$46*F$43))","v":2.7950668902822117E-8},{"$f":"('C. Demanda'!G36*G33)/(('C. Demanda'!G$36*G$33)+('C. Demanda'!G$37*G$34)+('C. Demanda'!G$38*G$35)+('C. Demanda'!G$39*G$36)+('C. Demanda'!G$40*G$37)+('C. Demanda'!G$41*G$38)+('C. Demanda'!G$42*G$39)+('C. Demanda'!G$43*G$40)+('C. Demanda'!G$44*G$41)+('C. Demanda'!G$45*G$42)+('C. Demanda'!G$46*G$43))","v":2.9219361304075029E-8},{"$f":"('C. Demanda'!H36*H33)/(('C. Demanda'!H$36*H$33)+('C. Demanda'!H$37*H$34)+('C. Demanda'!H$38*H$35)+('C. Demanda'!H$39*H$36)+('C. Demanda'!H$40*H$37)+('C. Demanda'!H$41*H$38)+('C. Demanda'!H$42*H$39)+('C. Demanda'!H$43*H$40)+('C. Demanda'!H$44*H$41)+('C. Demanda'!H$45*H$42)+('C. Demanda'!H$46*H$43))","v":1.0221965093802649E-2},{"$f":"+H56/$H$55","v":1.0221965093802649E-2},{"$f":"('C. Demanda'!J36*J33)/(('C. Demanda'!J$36*J$33)+('C. Demanda'!J$37*J$34)+('C. Demanda'!J$38*J$35)+('C. Demanda'!J$39*J$36)+('C. Demanda'!J$40*J$37)+('C. Demanda'!J$41*J$38)+('C. Demanda'!J$42*J$39)+('C. Demanda'!J$43*J$40)+('C. Demanda'!J$44*J$41)+('C. Demanda'!J$45*J$42)+('C. Demanda'!J$46*J$43))","v":1.0221965093802653E-2}]
[null,{"$f":"+Proporções!B14","v":"SP1"},{"$f":"('C. Demanda'!C37*C34)/(('C. Demanda'!C$36*C$33)+('C. Demanda'!C$37*C$34)+('C. Demanda'!C$38*C$35)+('C. Demanda'!C$39*C$36)+('C. Demanda'!C$40*C$37)+('C. Demanda'!C$41*C$38)+('C. Demanda'!C$42*C$39)+('C. Demanda'!C$43*C$40)+('C. Demanda'!C$44*C$41)+('C. Demanda'!C$45*C$42)+('C. Demanda'!C$46*C$43))","v":3.8226761965863075E-2},{"$f":"('C. Demanda'!D37*D34)/(('C. Demanda'!D$36*D$33)+('C. Demanda'!D$37*D$34)+('C. Demanda'!D$38*D$35)+('C. Demanda'!D$39*D$36)+('C. Demanda'!D$40*D$37)+('C. Demanda'!D$41*D$38)+('C. Demanda'!D$42*D$39)+('C. Demanda'!D$43*D$40)+('C. Demanda'!D$44*D$41)+('C. Demanda'!D$45*D$42)+('C. Demanda'!D$46*D$43))","v":4.5302135291662542E-2},{"$f":"('C. Demanda'!E37*E34)/(('C. Demanda'!E$36*E$33)+('C. Demanda'!E$37*E$34)+('C. Demanda'!E$38*E$35)+('C. Demanda'!E$39*E$36)+('C. Demanda'!E$40*E$37)+('C. Demanda'!E$41*E$38)+('C. Demanda'!E$42*E$39)+('C. Demanda'!E$43*E$40)+('C. Demanda'!E$44*E$41)+('C. Demanda'!E$45*E$42)+('C. Demanda'!E$46*E$43))","v":3.7678541143981253E-2},{"$f":"('C. Demanda'!F37*F34)/(('C. Demanda'!F$36*F$33)+('C. Demanda'!F$37*F$34)+('C. Demanda'!F$38*F$35)+('C. Demanda'!F$39*F$36)+('C. Demanda'!F$40*F$37)+('C. Demanda'!F$41*F$38)+('C. Demanda'!F$42*F$39)+('C. Demanda'!F$43*F$40)+('C. Demanda'!F$44*F$41)+('C. Demanda'!F$45*F$42)+('C. Demanda'!F$46*F$43))","v":4.0937735899092859E-2},{"$f":"('C. Demanda'!G37*G34)/(('C. Demanda'!G$36*G$33)+('C. Demanda'!G$37*G$34)+('C. Demanda'!G$38*G$35)+('C. Demanda'!G$39*G$36)+('C. Demanda'!G$40*G$37)+('C. Demanda'!G$41*G$38)+('C. Demanda'!G$42*G$39)+('C. Demanda'!G$43*G$40)+('C. Demanda'!G$44*G$41)+('C. Demanda'!G$45*G$42)+('C. Demanda'!G$46*G$43))","v":4.0633136365674977E-2},{"$f":"('C. Demanda'!H37*H34)/(('C. Demanda'!H$36*H$33)+('C. Demanda'!H$37*H$34)+('C. Demanda'!H$38*H$35)+('C. Demanda'!H$39*H$36)+('C. Demanda'!H$40*H$37)+('C. Demanda'!H$41*H$38)+('C. Demanda'!H$42*H$39)+('C. Demanda'!H$43*H$40)+('C. Demanda'!H$44*H$41)+('C. Demanda'!H$45*H$42)+('C. Demanda'!H$46*H$43))","v":4.030869266544506E-2},4.030869266544506E-2,{"$f":"('C. Demanda'!J37*J34)/(('C. Demanda'!J$36*J$33)+('C. Demanda'!J$37*J$34)+('C. Demanda'!J$38*J$35)+('C. Demanda'!J$39*J$36)+('C. Demanda'!J$40*J$37)+('C. Demanda'!J$41*J$38)+('C. Demanda'!J$42*J$39)+('C. Demanda'!J$43*J$40)+('C. Demanda'!J$44*J$41)+('C. Demanda'!J$45*J$42)+('C. Demanda'!J$46*J$43))","v":4.030869266544506E-2}]
[null,{"$f":"+Proporções!B15","v":"SP2"},{"$f":"('C. Demanda'!C38*C35)/(('C. Demanda'!C$36*C$33)+('C. Demanda'!C$37*C$34)+('C. Demanda'!C$38*C$35)+('C. Demanda'!C$39*C$36)+('C. Demanda'!C$40*C$37)+('C. Demanda'!C$41*C$38)+('C. Demanda'!C$42*C$39)+('C. Demanda'!C$43*C$40)+('C. Demanda'!C$44*C$41)+('C. Demanda'!C$45*C$42)+('C. Demanda'!C$46*C$43))","v":0.53093097292985025},{"$f":"('C. Demanda'!D38*D35)/(('C. Demanda'!D$36*D$33)+('C. Demanda'!D$37*D$34)+('C. Demanda'!D$38*D$35)+('C. Demanda'!D$39*D$36)+('C. Demanda'!D$40*D$37)+('C. Demanda'!D$41*D$38)+('C. Demanda'!D$42*D$39)+('C. Demanda'!D$43*D$40)+('C. Demanda'!D$44*D$41)+('C. Demanda'!D$45*D$42)+('C. Demanda'!D$46*D$43))","v":0.63810681324055063},{"$f":"('C. Demanda'!E38*E35)/(('C. Demanda'!E$36*E$33)+('C. Demanda'!E$37*E$34)+('C. Demanda'!E$38*E$35)+('C. Demanda'!E$39*E$36)+('C. Demanda'!E$40*E$37)+('C. Demanda'!E$41*E$38)+('C. Demanda'!E$42*E$39)+('C. Demanda'!E$43*E$40)+('C. Demanda'!E$44*E$41)+('C. Demanda'!E$45*E$42)+('C. Demanda'!E$46*E$43))","v":0.54561031556895834},{"$f":"('C. Demanda'!F38*F35)/(('C. Demanda'!F$36*F$33)+('C. Demanda'!F$37*F$34)+('C. Demanda'!F$38*F$35)+('C. Demanda'!F$39*F$36)+('C. Demanda'!F$40*F$37)+('C. Demanda'!F$41*F$38)+('C. Demanda'!F$42*F$39)+('C. Demanda'!F$43*F$40)+('C. Demanda'!F$44*F$41)+('C. Demanda'!F$45*F$42)+('C. Demanda'!F$46*F$43))","v":0.50460243749511524},{"$f":"('C. Demanda'!G38*G35)/(('C. Demanda'!G$36*G$33)+('C. Demanda'!G$37*G$34)+('C. Demanda'!G$38*G$35)+('C. Demanda'!G$39*G$36)+('C. Demanda'!G$40*G$37)+('C. Demanda'!G$41*G$38)+('C. Demanda'!G$42*G$39)+('C. Demanda'!G$43*G$40)+('C. Demanda'!G$44*G$41)+('C. Demanda'!G$45*G$42)+('C. Demanda'!G$46*G$43))","v":0.4942306437211238},{"$f":"('C. Demanda'!H38*H35)/(('C. Demanda'!H$36*H$33)+('C. Demanda'!H$37*H$34)+('C. Demanda'!H$38*H$35)+('C. Demanda'!H$39*H$36)+('C. Demanda'!H$40*H$37)+('C. Demanda'!H$41*H$38)+('C. Demanda'!H$42*H$39)+('C. Demanda'!H$43*H$40)+('C. Demanda'!H$44*H$41)+('C. Demanda'!H$45*H$42)+('C. Demanda'!H$46*H$43))","v":0.54054521489526419},0.54054521489526419,{"$f":"('C. Demanda'!J38*J35)/(('C. Demanda'!J$36*J$33)+('C. Demanda'!J$37*J$34)+('C. Demanda'!J$38*J$35)+('C. Demanda'!J$39*J$36)+('C. Demanda'!J$40*J$37)+('C. Demanda'!J$41*J$38)+('C. Demanda'!J$42*J$39)+('C. Demanda'!J$43*J$40)+('C. Demanda'!J$44*J$41)+('C. Demanda'!J$45*J$42)+('C. Demanda'!J$46*J$43))","v":0.5405452148952643}]
[null,{"$f":"+Proporções!B16","v":"SP3"},{"$f":"('C. Demanda'!C39*C36)/(('C. Demanda'!C$36*C$33)+('C. Demanda'!C$37*C$34)+('C. Demanda'!C$38*C$35)+('C. Demanda'!C$39*C$36)+('C. Demanda'!C$40*C$37)+('C. Demanda'!C$41*C$38)+('C. Demanda'!C$42*C$39)+('C. Demanda'!C$43*C$40)+('C. Demanda'!C$44*C$41)+('C. Demanda'!C$45*C$42)+('C. Demanda'!C$46*C$43))","v":5.8995093793350229E-8},{"$f":"('C. Demanda'!D39*D36)/(('C. Demanda'!D$36*D$33)+('C. Demanda'!D$37*D$34)+('C. Demanda'!D$38*D$35)+('C. Demanda'!D$39*D$36)+('C. Demanda'!D$40*D$37)+('C. Demanda'!D$41*D$38)+('C. Demanda'!D$42*D$39)+('C. Demanda'!D$43*D$40)+('C. Demanda'!D$44*D$41)+('C. Demanda'!D$45*D$42)+('C. Demanda'!D$46*D$43))","v":7.4314691957444517E-8},{"$f":"('C. Demanda'!E39*E36)/(('C. Demanda'!E$36*E$33)+('C. Demanda'!E$37*E$34)+('C. Demanda'!E$38*E$35)+('C. Demanda'!E$39*E$36)+('C. Demanda'!E$40*E$37)+('C. Demanda'!E$41*E$38)+('C. Demanda'!E$42*E$39)+('C. Demanda'!E$43*E$40)+('C. Demanda'!E$44*E$41)+('C. Demanda'!E$45*E$42)+('C. Demanda'!E$46*E$43))","v":4.5721878227232243E-8},{"$f":"('C. Demanda'!F39*F36)/(('C. Demanda'!F$36*F$33)+('C. Demanda'!F$37*F$34)+('C. Demanda'!F$38*F$35)+('C. Demanda'!F$39*F$36)+('C. Demanda'!F$40*F$37)+('C. Demanda'!F$41*F$38)+('C. Demanda'!F$42*F$39)+('C. Demanda'!F$43*F$40)+('C. Demanda'!F$44*F$41)+('C. Demanda'!F$45*F$42)+('C. Demanda'!F$46*F$43))","v":5.2698793556165815E-8},{"$f":"('C. Demanda'!G39*G36)/(('C. Demanda'!G$36*G$33)+('C. Demanda'!G$37*G$34)+('C. Demanda'!G$38*G$35)+('C. Demanda'!G$39*G$36)+('C. Demanda'!G$40*G$37)+('C. Demanda'!G$41*G$38)+('C. Demanda'!G$42*G$39)+('C. Demanda'!G$43*G$40)+('C. Demanda'!G$44*G$41)+('C. Demanda'!G$45*G$42)+('C. Demanda'!G$46*G$43))","v":5.0271678515552849E-8},{"$f":"('C. Demanda'!H39*H36)/(('C. Demanda'!H$36*H$33)+('C. Demanda'!H$37*H$34)+('C. Demanda'!H$38*H$35)+('C. Demanda'!H$39*H$36)+('C. Demanda'!H$40*H$37)+('C. Demanda'!H$41*H$38)+('C. Demanda'!H$42*H$39)+('C. Demanda'!H$43*H$40)+('C. Demanda'!H$44*H$41)+('C. Demanda'!H$45*H$42)+('C. Demanda'!H$46*H$43))","v":5.5275191716360183E-8},5.5275191716360183E-8,{"$f":"('C. Demanda'!J39*J36)/(('C. Demanda'!J$36*J$33)+('C. Demanda'!J$37*J$34)+('C. Demanda'!J$38*J$35)+('C. Demanda'!J$39*J$36)+('C. Demanda'!J$40*J$37)+('C. Demanda'!J$41*J$38)+('C. Demanda'!J$42*J$39)+('C. Demanda'!J$43*J$40)+('C. Demanda'!J$44*J$41)+('C. Demanda'!J$45*J$42)+('C. Demanda'!J$46*J$43))","v":5.527519171636019E-8}]
[null,{"$f":"+Proporções!B17","v":"SP4"},{"$f":"('C. Demanda'!C40*C37)/(('C. Demanda'!C$36*C$33)+('C. Demanda'!C$37*C$34)+('C. Demanda'!C$38*C$35)+('C. Demanda'!C$39*C$36)+('C. Demanda'!C$40*C$37)+('C. Demanda'!C$41*C$38)+('C. Demanda'!C$42*C$39)+('C. Demanda'!C$43*C$40)+('C. Demanda'!C$44*C$41)+('C. Demanda'!C$45*C$42)+('C. Demanda'!C$46*C$43))","v":7.8865828660400747E-2},{"$f":"('C. Demanda'!D40*D37)/(('C. Demanda'!D$36*D$33)+('C. Demanda'!D$37*D$34)+('C. Demanda'!D$38*D$35)+('C. Demanda'!D$39*D$36)+('C. Demanda'!D$40*D$37)+('C. Demanda'!D$41*D$38)+('C. Demanda'!D$42*D$39)+('C. Demanda'!D$43*D$40)+('C. Demanda'!D$44*D$41)+('C. Demanda'!D$45*D$42)+('C. Demanda'!D$46*D$43))","v":5.419210522883304E-2},{"$f":"('C. Demanda'!E40*E37)/(('C. Demanda'!E$36*E$33)+('C. Demanda'!E$37*E$34)+('C. Demanda'!E$38*E$35)+('C. Demanda'!E$39*E$36)+('C. Demanda'!E$40*E$37)+('C. Demanda'!E$41*E$38)+('C. Demanda'!E$42*E$39)+('C. Demanda'!E$43*E$40)+('C. Demanda'!E$44*E$41)+('C. Demanda'!E$45*E$42)+('C. Demanda'!E$46*E$43))","v":4.8721670959797542E-8},{"$f":"('C. Demanda'!F40*F37)/(('C. Demanda'!F$36*F$33)+('C. Demanda'!F$37*F$34)+('C. Demanda'!F$38*F$35)+('C. Demanda'!F$39*F$36)+('C. Demanda'!F$40*F$37)+('C. Demanda'!F$41*F$38)+('C. Demanda'!F$42*F$39)+('C. Demanda'!F$43*F$40)+('C. Demanda'!F$44*F$41)+('C. Demanda'!F$45*F$42)+('C. Demanda'!F$46*F$43))","v":5.4136931057434924E-2},{"$f":"('C. Demanda'!G40*G37)/(('C. Demanda'!G$36*G$33)+('C. Demanda'!G$37*G$34)+('C. Demanda'!G$38*G$35)+('C. Demanda'!G$39*G$36)+('C. Demanda'!G$40*G$37)+('C. Demanda'!G$41*G$38)+('C. Demanda'!G$42*G$39)+('C. Demanda'!G$43*G$40)+('C. Demanda'!G$44*G$41)+('C. Demanda'!G$45*G$42)+('C. Demanda'!G$46*G$43))","v":3.0157594050317534E-2},{"$f":"('C. Demanda'!H40*H37)/(('C. Demanda'!H$36*H$33)+('C. Demanda'!H$37*H$34)+('C. Demanda'!H$38*H$35)+('C. Demanda'!H$39*H$36)+('C. Demanda'!H$40*H$37)+('C. Demanda'!H$41*H$38)+('C. Demanda'!H$42*H$39)+('C. Demanda'!H$43*H$40)+('C. Demanda'!H$44*H$41)+('C. Demanda'!H$45*H$42)+('C. Demanda'!H$46*H$43))","v":4.0874452525794719E-2},4.0874452525794719E-2,{"$f":"('C. Demanda'!J40*J37)/(('C. Demanda'!J$36*J$33)+('C. Demanda'!J$37*J$34)+('C. Demanda'!J$38*J$35)+('C. Demanda'!J$39*J$36)+('C. Demanda'!J$40*J$37)+('C. Demanda'!J$41*J$38)+('C. Demanda'!J$42*J$39)+('C. Demanda'!J$43*J$40)+('C. Demanda'!J$44*J$41)+('C. Demanda'!J$45*J$42)+('C. Demanda'!J$46*J$43))","v":4.0874452525794733E-2}]
[null,{"$f":"+Proporções!B18","v":"PR1"},{"$f":"('C. Demanda'!C41*C38)/(('C. Demanda'!C$36*C$33)+('C. Demanda'!C$37*C$34)+('C. Demanda'!C$38*C$35)+('C. Demanda'!C$39*C$36)+('C. Demanda'!C$40*C$37)+('C. Demanda'!C$41*C$38)+('C. Demanda'!C$42*C$39)+('C. Demanda'!C$43*C$40)+('C. Demanda'!C$44*C$41)+('C. Demanda'!C$45*C$42)+('C. Demanda'!C$46*C$43))","v":7.9529259274124939E-8},{"$f":"('C. Demanda'!D41*D38)/(('C. Demanda'!D$36*D$33)+('C. Demanda'!D$37*D$34)+('C. Demanda'!D$38*D$35)+('C. Demanda'!D$39*D$36)+('C. Demanda'!D$40*D$37)+('C. Demanda'!D$41*D$38)+('C. Demanda'!D$42*D$39)+('C. Demanda'!D$43*D$40)+('C. Demanda'!D$44*D$41)+('C. Demanda'!D$45*D$42)+('C. Demanda'!D$46*D$43))","v":1.0908042481616955E-7},{"$f":"('C. Demanda'!E41*E38)/(('C. Demanda'!E$36*E$33)+('C. Demanda'!E$37*E$34)+('C. Demanda'!E$38*E$35)+('C. Demanda'!E$39*E$36)+('C. Demanda'!E$40*E$37)+('C. Demanda'!E$41*E$38)+('C. Demanda'!E$42*E$39)+('C. Demanda'!E$43*E$40)+('C. Demanda'!E$44*E$41)+('C. Demanda'!E$45*E$42)+('C. Demanda'!E$46*E$43))","v":6.5387414076269131E-8},{"$f":"('C. Demanda'!F41*F38)/(('C. Demanda'!F$36*F$33)+('C. Demanda'!F$37*F$34)+('C. Demanda'!F$38*F$35)+('C. Demanda'!F$39*F$36)+('C. Demanda'!F$40*F$37)+('C. Demanda'!F$41*F$38)+('C. Demanda'!F$42*F$39)+('C. Demanda'!F$43*F$40)+('C. Demanda'!F$44*F$41)+('C. Demanda'!F$45*F$42)+('C. Demanda'!F$46*F$43))","v":7.6135151651983062E-8},{"$f":"('C. Demanda'!G41*G38)/(('C. Demanda'!G$36*G$33)+('C. Demanda'!G$37*G$34)+('C. Demanda'!G$38*G$35)+('C. Demanda'!G$39*G$36)+('C. Demanda'!G$40*G$37)+('C. Demanda'!G$41*G$38)+('C. Demanda'!G$42*G$39)+('C. Demanda'!G$43*G$40)+('C. Demanda'!G$44*G$41)+('C. Demanda'!G$45*G$42)+('C. Demanda'!G$46*G$43))","v":7.4037692631405794E-8},{"$f":"('C. Demanda'!H41*H38)/(('C. Demanda'!H$36*H$33)+('C. Demanda'!H$37*H$34)+('C. Demanda'!H$38*H$35)+('C. Demanda'!H$39*H$36)+('C. Demanda'!H$40*H$37)+('C. Demanda'!H$41*H$38)+('C. Demanda'!H$42*H$39)+('C. Demanda'!H$43*H$40)+('C. Demanda'!H$44*H$41)+('C. Demanda'!H$45*H$42)+('C. Demanda'!H$46*H$43))","v":7.8768448845635559E-8},7.8768448845635559E-8,{"$f":"('C. Demanda'!J41*J38)/(('C. Demanda'!J$36*J$33)+('C. Demanda'!J$37*J$34)+('C. Demanda'!J$38*J$35)+('C. Demanda'!J$39*J$36)+('C. Demanda'!J$40*J$37)+('C. Demanda'!J$41*J$38)+('C. Demanda'!J$42*J$39)+('C. Demanda'!J$43*J$40)+('C. Demanda'!J$44*J$41)+('C. Demanda'!J$45*J$42)+('C. Demanda'!J$46*J$43))","v":7.8768448845635586E-8}]
[null,{"$f":"+Proporções!B19","v":"SC1"},{"$f":"('C. Demanda'!C42*C39)/(('C. Demanda'!C$36*C$33)+('C. Demanda'!C$37*C$34)+('C. Demanda'!C$38*C$35)+('C. Demanda'!C$39*C$36)+('C. Demanda'!C$40*C$37)+('C. Demanda'!C$41*C$38)+('C. Demanda'!C$42*C$39)+('C. Demanda'!C$43*C$40)+('C. Demanda'!C$44*C$41)+('C. Demanda'!C$45*C$42)+('C. Demanda'!C$46*C$43))","v":0.10503015769383599},{"$f":"('C. Demanda'!D42*D39)/(('C. Demanda'!D$36*D$33)+('C. Demanda'!D$37*D$34)+('C. Demanda'!D$38*D$35)+('C. Demanda'!D$39*D$36)+('C. Demanda'!D$40*D$37)+('C. Demanda'!D$41*D$38)+('C. Demanda'!D$42*D$39)+('C. Demanda'!D$43*D$40)+('C. Demanda'!D$44*D$41)+('C. Demanda'!D$45*D$42)+('C. Demanda'!D$46*D$43))","v":0.154078764756265},{"$f":"('C. Demanda'!E42*E39)/(('C. Demanda'!E$36*E$33)+('C. Demanda'!E$37*E$34)+('C. Demanda'!E$38*E$35)+('C. Demanda'!E$39*E$36)+('C. Demanda'!E$40*E$37)+('C. Demanda'!E$41*E$38)+('C. Demanda'!E$42*E$39)+('C. Demanda'!E$43*E$40)+('C. Demanda'!E$44*E$41)+('C. Demanda'!E$45*E$42)+('C. Demanda'!E$46*E$43))","v":0.11703094331816195},{"$f":"('C. Demanda'!F42*F39)/(('C. Demanda'!F$36*F$33)+('C. Demanda'!F$37*F$34)+('C. Demanda'!F$38*F$35)+('C. Demanda'!F$39*F$36)+('C. Demanda'!F$40*F$37)+('C. Demanda'!F$41*F$38)+('C. Demanda'!F$42*F$39)+('C. Demanda'!F$43*F$40)+('C. Demanda'!F$44*F$41)+('C. Demanda'!F$45*F$42)+('C. Demanda'!F$46*F$43))","v":0.11302425074730427},{"$f":"('C. Demanda'!G42*G39)/(('C. Demanda'!G$36*G$33)+('C. Demanda'!G$37*G$34)+('C. Demanda'!G$38*G$35)+('C. Demanda'!G$39*G$36)+('C. Demanda'!G$40*G$37)+('C. Demanda'!G$41*G$38)+('C. Demanda'!G$42*G$39)+('C. Demanda'!G$43*G$40)+('C. Demanda'!G$44*G$41)+('C. Demanda'!G$45*G$42)+('C. Demanda'!G$46*G$43))","v":9.534291981992811E-2},{"$f":"('C. Demanda'!H42*H39)/(('C. Demanda'!H$36*H$33)+('C. Demanda'!H$37*H$34)+('C. Demanda'!H$38*H$35)+('C. Demanda'!H$39*H$36)+('C. Demanda'!H$40*H$37)+('C. Demanda'!H$41*H$38)+('C. Demanda'!H$42*H$39)+('C. Demanda'!H$43*H$40)+('C. Demanda'!H$44*H$41)+('C. Demanda'!H$45*H$42)+('C. Demanda'!H$46*H$43))","v":0.11466558001205483},0.11466558001205483,{"$f":"('C. Demanda'!J42*J39)/(('C. Demanda'!J$36*J$33)+('C. Demanda'!J$37*J$34)+('C. Demanda'!J$38*J$35)+('C. Demanda'!J$39*J$36)+('C. Demanda'!J$40*J$37)+('C. Demanda'!J$41*J$38)+('C. Demanda'!J$42*J$39)+('C. Demanda'!J$43*J$40)+('C. Demanda'!J$44*J$41)+('C. Demanda'!J$45*J$42)+('C. Demanda'!J$46*J$43))","v":0.11466558001205485}]
[null,{"$f":"+Proporções!B20","v":"SC2"},{"$f":"('C. Demanda'!C43*C40)/(('C. Demanda'!C$36*C$33)+('C. Demanda'!C$37*C$34)+('C. Demanda'!C$38*C$35)+('C. Demanda'!C$39*C$36)+('C. Demanda'!C$40*C$37)+('C. Demanda'!C$41*C$38)+('C. Demanda'!C$42*C$39)+('C. Demanda'!C$43*C$40)+('C. Demanda'!C$44*C$41)+('C. Demanda'!C$45*C$42)+('C. Demanda'!C$46*C$43))","v":6.353676206170325E-2},{"$f":"('C. Demanda'!D43*D40)/(('C. Demanda'!D$36*D$33)+('C. Demanda'!D$37*D$34)+('C. Demanda'!D$38*D$35)+('C. Demanda'!D$39*D$36)+('C. Demanda'!D$40*D$37)+('C. Demanda'!D$41*D$38)+('C. Demanda'!D$42*D$39)+('C. Demanda'!D$43*D$40)+('C. Demanda'!D$44*D$41)+('C. Demanda'!D$45*D$42)+('C. Demanda'!D$46*D$43))","v":9.0032395760475101E-2},{"$f":"('C. Demanda'!E43*E40)/(('C. Demanda'!E$36*E$33)+('C. Demanda'!E$37*E$34)+('C. Demanda'!E$38*E$35)+('C. Demanda'!E$39*E$36)+('C. Demanda'!E$40*E$37)+('C. Demanda'!E$41*E$38)+('C. Demanda'!E$42*E$39)+('C. Demanda'!E$43*E$40)+('C. Demanda'!E$44*E$41)+('C. Demanda'!E$45*E$42)+('C. Demanda'!E$46*E$43))","v":6.5626313089478458E-2},{"$f":"('C. Demanda'!F43*F40)/(('C. Demanda'!F$36*F$33)+('C. Demanda'!F$37*F$34)+('C. Demanda'!F$38*F$35)+('C. Demanda'!F$39*F$36)+('C. Demanda'!F$40*F$37)+('C. Demanda'!F$41*F$38)+('C. Demanda'!F$42*F$39)+('C. Demanda'!F$43*F$40)+('C. Demanda'!F$44*F$41)+('C. Demanda'!F$45*F$42)+('C. Demanda'!F$46*F$43))","v":7.5228066976046198E-2},{"$f":"('C. Demanda'!G43*G40)/(('C. Demanda'!G$36*G$33)+('C. Demanda'!G$37*G$34)+('C. Demanda'!G$38*G$35)+('C. Demanda'!G$39*G$36)+('C. Demanda'!G$40*G$37)+('C. Demanda'!G$41*G$38)+('C. Demanda'!G$42*G$39)+('C. Demanda'!G$43*G$40)+('C. Demanda'!G$44*G$41)+('C. Demanda'!G$45*G$42)+('C. Demanda'!G$46*G$43))","v":0.13083854449257082},{"$f":"('C. Demanda'!H43*H40)/(('C. Demanda'!H$36*H$33)+('C. Demanda'!H$37*H$34)+('C. Demanda'!H$38*H$35)+('C. Demanda'!H$39*H$36)+('C. Demanda'!H$40*H$37)+('C. Demanda'!H$41*H$38)+('C. Demanda'!H$42*H$39)+('C. Demanda'!H$43*H$40)+('C. Demanda'!H$44*H$41)+('C. Demanda'!H$45*H$42)+('C. Demanda'!H$46*H$43))","v":8.4571986556421355E-2},8.4571986556421355E-2,{"$f":"('C. Demanda'!J43*J40)/(('C. Demanda'!J$36*J$33)+('C. Demanda'!J$37*J$34)+('C. Demanda'!J$38*J$35)+('C. Demanda'!J$39*J$36)+('C. Demanda'!J$40*J$37)+('C. Demanda'!J$41*J$38)+('C. Demanda'!J$42*J$39)+('C. Demanda'!J$43*J$40)+('C. Demanda'!J$44*J$41)+('C. Demanda'!J$45*J$42)+('C. Demanda'!J$46*J$43))","v":8.4571986556421355E-2}]
[null,{"$f":"+Proporções!B21","v":"RS1"},{"$f":"('C. Demanda'!C44*C41)/(('C. Demanda'!C$36*C$33)+('C. Demanda'!C$37*C$34)+('C. Demanda'!C$38*C$35)+('C. Demanda'!C$39*C$36)+('C. Demanda'!C$40*C$37)+('C. Demanda'!C$41*C$38)+('C. Demanda'!C$42*C$39)+('C. Demanda'!C$43*C$40)+('C. Demanda'!C$44*C$41)+('C. Demanda'!C$45*C$42)+('C. Demanda'!C$46*C$43))","v":1.1103820179762015E-7},{"$f":"('C. Demanda'!D44*D41)/(('C. Demanda'!D$36*D$33)+('C. Demanda'!D$37*D$34)+('C. Demanda'!D$38*D$35)+('C. Demanda'!D$39*D$36)+('C. Demanda'!D$40*D$37)+('C. Demanda'!D$41*D$38)+('C. Demanda'!D$42*D$39)+('C. Demanda'!D$43*D$40)+('C. Demanda'!D$44*D$41)+('C. Demanda'!D$45*D$42)+('C. Demanda'!D$46*D$43))","v":1.6242720143648258E-7},{"$f":"('C. Demanda'!E44*E41)/(('C. Demanda'!E$36*E$33)+('C. Demanda'!E$37*E$34)+('C. Demanda'!E$38*E$35)+('C. Demanda'!E$39*E$36)+('C. Demanda'!E$40*E$37)+('C. Demanda'!E$41*E$38)+('C. Demanda'!E$42*E$39)+('C. Demanda'!E$43*E$40)+('C. Demanda'!E$44*E$41)+('C. Demanda'!E$45*E$42)+('C. Demanda'!E$46*E$43))","v":0.17311566167048803},{"$f":"('C. Demanda'!F44*F41)/(('C. Demanda'!F$36*F$33)+('C. Demanda'!F$37*F$34)+('C. Demanda'!F$38*F$35)+('C. Demanda'!F$39*F$36)+('C. Demanda'!F$40*F$37)+('C. Demanda'!F$41*F$38)+('C. Demanda'!F$42*F$39)+('C. Demanda'!F$43*F$40)+('C. Demanda'!F$44*F$41)+('C. Demanda'!F$45*F$42)+('C. Demanda'!F$46*F$43))","v":0.19370431577904246},{"$f":"('C. Demanda'!G44*G41)/(('C. Demanda'!G$36*G$33)+('C. Demanda'!G$37*G$34)+('C. Demanda'!G$38*G$35)+('C. Demanda'!G$39*G$36)+('C. Demanda'!G$40*G$37)+('C. Demanda'!G$41*G$38)+('C. Demanda'!G$42*G$39)+('C. Demanda'!G$43*G$40)+('C. Demanda'!G$44*G$41)+('C. Demanda'!G$45*G$42)+('C. Demanda'!G$46*G$43))","v":0.19095400702391419},{"$f":"('C. Demanda'!H44*H41)/(('C. Demanda'!H$36*H$33)+('C. Demanda'!H$37*H$34)+('C. Demanda'!H$38*H$35)+('C. Demanda'!H$39*H$36)+('C. Demanda'!H$40*H$37)+('C. Demanda'!H$41*H$38)+('C. Demanda'!H$42*H$39)+('C. Demanda'!H$43*H$40)+('C. Demanda'!H$44*H$41)+('C. Demanda'!H$45*H$42)+('C. Demanda'!H$46*H$43))","v":0.12025082722103202},0.12025082722103202,{"$f":"('C. Demanda'!J44*J41)/(('C. Demanda'!J$36*J$33)+('C. Demanda'!J$37*J$34)+('C. Demanda'!J$38*J$35)+('C. Demanda'!J$39*J$36)+('C. Demanda'!J$40*J$37)+('C. Demanda'!J$41*J$38)+('C. Demanda'!J$42*J$39)+('C. Demanda'!J$43*J$40)+('C. Demanda'!J$44*J$41)+('C. Demanda'!J$45*J$42)+('C. Demanda'!J$46*J$43))","v":0.12025082722103203}]
[null,{"$f":"+Proporções!B22","v":"EMED Gascar"},{"$f":"('C. Demanda'!C45*C42)/(('C. Demanda'!C$36*C$33)+('C. Demanda'!C$37*C$34)+('C. Demanda'!C$38*C$35)+('C. Demanda'!C$39*C$36)+('C. Demanda'!C$40*C$37)+('C. Demanda'!C$41*C$38)+('C. Demanda'!C$42*C$39)+('C. Demanda'!C$43*C$40)+('C. Demanda'!C$44*C$41)+('C. Demanda'!C$45*C$42)+('C. Demanda'!C$46*C$43))","v":0.17366822387936259},{"$f":"('C. Demanda'!D45*D42)/(('C. Demanda'!D$36*D$33)+('C. Demanda'!D$37*D$34)+('C. Demanda'!D$38*D$35)+('C. Demanda'!D$39*D$36)+('C. Demanda'!D$40*D$37)+('C. Demanda'!D$41*D$38)+('C. Demanda'!D$42*D$39)+('C. Demanda'!D$43*D$40)+('C. Demanda'!D$44*D$41)+('C. Demanda'!D$45*D$42)+('C. Demanda'!D$46*D$43))","v":7.2442690957405849E-8},{"$f":"('C. Demanda'!E45*E42)/(('C. Demanda'!E$36*E$33)+('C. Demanda'!E$37*E$34)+('C. Demanda'!E$38*E$35)+('C. Demanda'!E$39*E$36)+('C. Demanda'!E$40*E$37)+('C. Demanda'!E$41*E$38)+('C. Demanda'!E$42*E$39)+('C. Demanda'!E$43*E$40)+('C. Demanda'!E$44*E$41)+('C. Demanda'!E$45*E$42)+('C. Demanda'!E$46*E$43))","v":3.4390503290632118E-2},{"$f":"('C. Demanda'!F45*F42)/(('C. Demanda'!F$36*F$33)+('C. Demanda'!F$37*F$34)+('C. Demanda'!F$38*F$35)+('C. Demanda'!F$39*F$36)+('C. Demanda'!F$40*F$37)+('C. Demanda'!F$41*F$38)+('C. Demanda'!F$42*F$39)+('C. Demanda'!F$43*F$40)+('C. Demanda'!F$44*F$41)+('C. Demanda'!F$45*F$42)+('C. Demanda'!F$46*F$43))","v":1.8366105261349932E-2},{"$f":"('C. Demanda'!G45*G42)/(('C. Demanda'!G$36*G$33)+('C. Demanda'!G$37*G$34)+('C. Demanda'!G$38*G$35)+('C. Demanda'!G$39*G$36)+('C. Demanda'!G$40*G$37)+('C. Demanda'!G$41*G$38)+('C. Demanda'!G$42*G$39)+('C. Demanda'!G$43*G$40)+('C. Demanda'!G$44*G$41)+('C. Demanda'!G$45*G$42)+('C. Demanda'!G$46*G$43))","v":1.7843000997738185E-2},{"$f":"('C. Demanda'!H45*H42)/(('C. Demanda'!H$36*H$33)+('C. Demanda'!H$37*H$34)+('C. Demanda'!H$38*H$35)+('C. Demanda'!H$39*H$36)+('C. Demanda'!H$40*H$37)+('C. Demanda'!H$41*H$38)+('C. Demanda'!H$42*H$39)+('C. Demanda'!H$43*H$40)+('C. Demanda'!H$44*H$41)+('C. Demanda'!H$45*H$42)+('C. Demanda'!H$46*H$43))","v":4.8561146986544651E-2},{"$f":"+H65/$H$55","v":4.8561146986544651E-2},{"$f":"('C. Demanda'!J45*J42)/(('C. Demanda'!J$36*J$33)+('C. Demanda'!J$37*J$34)+('C. Demanda'!J$38*J$35)+('C. Demanda'!J$39*J$36)+('C. Demanda'!J$40*J$37)+('C. Demanda'!J$41*J$38)+('C. Demanda'!J$42*J$39)+('C. Demanda'!J$43*J$40)+('C. Demanda'!J$44*J$41)+('C. Demanda'!J$45*J$42)+('C. Demanda'!J$46*J$43))","v":4.8561146986544651E-2}]
[null,{"$f":"+Proporções!B23","v":"EMED XXX"},{"$f":"('C. Demanda'!C46*C43)/(('C. Demanda'!C$36*C$33)+('C. Demanda'!C$37*C$34)+('C. Demanda'!C$38*C$35)+('C. Demanda'!C$39*C$36)+('C. Demanda'!C$40*C$37)+('C. Demanda'!C$41*C$38)+('C. Demanda'!C$42*C$39)+('C. Demanda'!C$43*C$40)+('C. Demanda'!C$44*C$41)+('C. Demanda'!C$45*C$42)+('C. Demanda'!C$46*C$43))","v":0},{"$f":"('C. Demanda'!D46*D43)/(('C. Demanda'!D$36*D$33)+('C. Demanda'!D$37*D$34)+('C. Demanda'!D$38*D$35)+('C. Demanda'!D$39*D$36)+('C. Demanda'!D$40*D$37)+('C. Demanda'!D$41*D$38)+('C. Demanda'!D$42*D$39)+('C. Demanda'!D$43*D$40)+('C. Demanda'!D$44*D$41)+('C. Demanda'!D$45*D$42)+('C. Demanda'!D$46*D$43))","v":0},{"$f":"('C. Demanda'!E46*E43)/(('C. Demanda'!E$36*E$33)+('C. Demanda'!E$37*E$34)+('C. Demanda'!E$38*E$35)+('C. Demanda'!E$39*E$36)+('C. Demanda'!E$40*E$37)+('C. Demanda'!E$41*E$38)+('C. Demanda'!E$42*E$39)+('C. Demanda'!E$43*E$40)+('C. Demanda'!E$44*E$41)+('C. Demanda'!E$45*E$42)+('C. Demanda'!E$46*E$43))","v":0},{"$f":"('C. Demanda'!F46*F43)/(('C. Demanda'!F$36*F$33)+('C. Demanda'!F$37*F$34)+('C. Demanda'!F$38*F$35)+('C. Demanda'!F$39*F$36)+('C. Demanda'!F$40*F$37)+('C. Demanda'!F$41*F$38)+('C. Demanda'!F$42*F$39)+('C. Demanda'!F$43*F$40)+('C. Demanda'!F$44*F$41)+('C. Demanda'!F$45*F$42)+('C. Demanda'!F$46*F$43))","v":0},{"$f":"('C. Demanda'!G46*G43)/(('C. Demanda'!G$36*G$33)+('C. Demanda'!G$37*G$34)+('C. Demanda'!G$38*G$35)+('C. Demanda'!G$39*G$36)+('C. Demanda'!G$40*G$37)+('C. Demanda'!G$41*G$38)+('C. Demanda'!G$42*G$39)+('C. Demanda'!G$43*G$40)+('C. Demanda'!G$44*G$41)+('C. Demanda'!G$45*G$42)+('C. Demanda'!G$46*G$43))","v":0},{"$f":"('C. Demanda'!H46*H43)/(('C. Demanda'!H$36*H$33)+('C. Demanda'!H$37*H$34)+('C. Demanda'!H$38*H$35)+('C. Demanda'!H$39*H$36)+('C. Demanda'!H$40*H$37)+('C. Demanda'!H$41*H$38)+('C. Demanda'!H$42*H$39)+('C. Demanda'!H$43*H$40)+('C. Demanda'!H$44*H$41)+('C. Demanda'!H$45*H$42)+('C. Demanda'!H$46*H$43))","v":0},{"$f":"+H66/$H$55","v":0},{"$f":"('C. Demanda'!J46*J43)/(('C. Demanda'!J$36*J$33)+('C. Demanda'!J$37*J$34)+('C. Demanda'!J$38*J$35)+('C. Demanda'!J$39*J$36)+('C. Demanda'!J$40*J$37)+('C. Demanda'!J$41*J$38)+('C. Demanda'!J$42*J$39)+('C. Demanda'!J$43*J$40)+('C. Demanda'!J$44*J$41)+('C. Demanda'!J$45*J$42)+('C. Demanda'!J$46*J$43))","v":0}]
[null,"Proporção MS1 ate RS1",null,null,null,{"$f":"SUM(F56:F64)","v":0.98163389473865004},0.98215699900226183]
[]
[null,"RECEITA ANUAL (R$ mil) - R (FC E-S)"]
[null,null,2020,2021,2022,2023,2024,"Total","%","Média"]
[1,"TOTAL",{"$f":"('FC E-S'!C12*$A$71)-'Conta Reg'!C17","v":910503.56870291918},{"$f":"('FC E-S'!D12*$A$71)-'Conta Reg'!D17","v":621933.60467588285},{"$f":"('FC E-S'!E12*$A$71)-'Conta Reg'!E17","v":1234429.6988285906},{"$f":"('FC E-S'!F12*$A$71)-'Conta Reg'!F17","v":1023147.682751833},{"$f":"('FC E-S'!G12*$A$71)-'Conta Reg'!G17","v":1085630.2582074082},{"$f":"SUM(C71:G71)","v":4875644.8131666332},{"$f":"SUM(I72:I73)","v":1},{"$f":"AVERAGE(C71:G71)","v":975128.96263332665}]
[null,"ENTRADA (RE)",{"$f":"C$71*'Cálculo Encargos ECE, ECT e ECS'!$I72","v":637352.49809204333},{"$f":"D$71*'Cálculo Encargos ECE, ECT e ECS'!$I72","v":435353.52327311796},{"$f":"E$71*'Cálculo Encargos ECE, ECT e ECS'!$I72","v":864100.78918001335},{"$f":"F$71*'Cálculo Encargos ECE, ECT e ECS'!$I72","v":716203.37792628305},{"$f":"G$71*'Cálculo Encargos ECE, ECT e ECS'!$I72","v":759941.1807451857},{"$f":"SUM(C72:G72)","v":3412951.3692166437},0.7,{"$f":"AVERAGE(C72:G72)","v":682590.2738433287}]
[null,"SAÍDA (RX)",{"$f":"C$71*'Cálculo Encargos ECE, ECT e ECS'!$I73","v":273151.07061087579},{"$f":"D$71*'Cálculo Encargos ECE, ECT e ECS'!$I73","v":186580.08140276489},{"$f":"E$71*'Cálculo Encargos ECE, ECT e ECS'!$I73","v":370328.90964857722},{"$f":"F$71*'Cálculo Encargos ECE, ECT e ECS'!$I73","v":306944.30482554995},{"$f":"G$71*'Cálculo Encargos ECE, ECT e ECS'!$I73","v":325689.07746222254},{"$f":"SUM(C73:G73)","v":1462693.4439499904},{"$f":"1-I72","v":0.30000000000000004},{"$f":"AVERAGE(C73:G73)","v":292538.68878999806}]
[]
["INPUT DESCONTO INTERCONEXÃO","ALOCAÇÃO DA RECEITA ENTRADA (R$ mil) - (RE = W x R)"]
[{"$f":"1-A77","v":0.8},null,2020,2021,2022,2023,2024,"Total","%","Média"]
[0.2,null,{"$f":"SUM(C78:C80)","v":637352.49809204345},{"$f":"SUM(D78:D80)","v":435353.5232731179},864100.78918001335,716203.37792628317,759941.1807451857,{"$f":"SUM(C77:G77)","v":3412951.3692166437},{"$f":"H77/H77","v":1},{"$f":"AVERAGE(C77:G77)","v":682590.2738433287}]
[null,{"$f":"+Proporções!B6","v":"EMED Corumbá"},{"$f":"C$72*C48","v":637352.47864692635},414481.9737907566,764242.71093404316,{"$f":"(F$72*F48)+((F$72*F49)*$A$76*(F48/F$51))","v":709052.48805860616},{"$f":"(G$72*G48)+((G$72*G49)*$A$76*(G48/G$51))","v":749882.56336551742},{"$f":"SUM(C78:G78)","v":3275012.2147958493},{"$f":"H78/H77","v":0.95958361561639982},{"$f":"AVERAGE(C78:G78)","v":655002.44295916986}]
[null,{"$f":"+Proporções!B7","v":"EMED Gascar"},3.9941195348361554E-3,20871.528335536121,62697.814725233962,{"$f":"(F$72*F49)*$A$77","v":7150.8707291371065},{"$f":"(G$72*G49)*$A$77","v":10058.597581825859},{"$f":"SUM(C79:G79)","v":100778.81536585258},{"$f":"H79/H77","v":2.9528347891163712E-2},{"$f":"AVERAGE(C79:G79)","v":20155.763073170518}]
[null,{"$f":"+Proporções!B8","v":"EMED Garuva"},1.5450997463114584E-2,2.1146825187976077E-2,37160.263520736211,{"$f":"(F$72*F50)+((F$72*F49)*$A$76*(F50/F$51))","v":1.9138539869896019E-2},{"$f":"(G$72*G50)+((G$72*G49)*$A$76*(G50/G$51))","v":1.9797842377539784E-2},{"$f":"SUM(C80:G80)","v":37160.339054941112},{"$f":"H80/H77","v":1.0888036492436259E-2},{"$f":"AVERAGE(C80:G80)","v":7432.0678109882228}]
[]
["INPUT DESCONTO INTERCONEXÃO","ALOCAÇÃO DA RECEITA SAÍDA (R$ mil) - (RX = W x R)"]
[{"$f":"1-A84","v":0.8},null,2020,2021,2022,2023,2024,"Total","%","Média"]
[0.2,null,{"$f":"SUM(C85:C95)","v":273151.07061087579},{"$f":"SUM(D85:D95)","v":186580.08140276486},370328.90964857722,{"$f":"SUM(F85:F95)","v":306944.30482554995},325689.07746222254,{"$f":"SUM(C84:G84)","v":1462693.4439499904},{"$f":"+H84/$H$84","v":1},{"$f":"AVERAGE(C84:G84)","v":292538.68878999806}]
[null,{"$f":"+Proporções!B13","v":"MS1"},{"$f":"C$73*C56","v":2660.776391628985},3412.0585088074877,9831.329721631244,{"$f":"(F$73*F56)+((F$73*F$65)*$A$83*(F56/F$67))","v":8.7077117255603045E-3},{"$f":"(G$73*G56)+((G$73*G$65)*$A$83*(G56/G$67))","v":9.6547359679950116E-3},{"$f":"SUM(C85:G85)","v":15904.182984515412},1.0873216838633192E-2,{"$f":"AVERAGE(C85:G85)","v":3180.8365969030824}]
[null,{"$f":"+Proporções!B14","v":"SP1"},10441.680956962606,8452.4760904374652,13953.453058999632,{"$f":"(F$73*F57)+((F$73*F$65)*$A$83*(F57/F$67))","v":12753.684147803328},13426.104666682653,59027.398920885687,4.0355276879810664E-2,11805.479784177138]
[null,{"$f":"+Proporções!B15","v":"SP2"},145024.3636762625,119058.02115808082,202055.27325766848,{"$f":"(F$73*F58)+((F$73*F$65)*$A$83*(F58/F$67))","v":157203.12730257699},163304.95121925164,786645.73661384045,0.53780629144649117,157329.14732276808]
[null,{"$f":"+Proporções!B16","v":"SP3"},1.6114573030442648E-2,1.3865641274841396E-2,1.6932133310975938E-2,{"$f":"(F$73*F59)+((F$73*F$65)*$A$83*(F59/F$67))","v":1.6417707360326328E-2},1.6610896373970375E-2,7.9940951350556677E-2,5.465325060504603E-8,1.5988190270111335E-2]
[null,{"$f":"+Proporções!B17","v":"SP4"},21542.285533202357,10111.167404982869,1.8043043282798571E-2,{"$f":"(F$73*F60)+((F$73*F$65)*$A$83*(F60/F$67))","v":16865.742676629779},9964.7492276015764,58483.962885459863,3.9983745826825103E-2,11696.792577091972]
[null,{"$f":"+Proporções!B18","v":"PR1"},2.1723502315617149E-2,2.035223454164909E-2,2.4214849759604778E-2,{"$f":"(F$73*F61)+((F$73*F$65)*$A$83*(F61/F$67))","v":2.3719037103271143E-2},2.4463723439981641E-2,0.11447334716012379,7.8262022458369368E-8,2.2894669432024759E-2]
[null,{"$f":"+Proporções!B19","v":"SC1"},28689.100020500413,28748.028470661386,43339.941634159361,{"$f":"(F$73*F62)+((F$73*F$65)*$A$83*(F62/F$67))","v":35211.414686594442},31503.451006328018,167491.93581824363,0.11450925449281646,33498.387163648724]
[null,{"$f":"+Proporções!B20","v":"SC2"},17355.134580302718,16798.251729875388,24303.320970682707,{"$f":"(F$73*F63)+((F$73*F$65)*$A$83*(F63/F$67))","v":23436.445230561651},43232.005941771473,125125.15845319393,8.5544349002682735E-2,25025.031690638785]
[null,{"$f":"+Proporções!B21","v":"RS1"},3.0330203699726416E-2,3.030568046604221E-2,64109.734229523827,{"$f":"(F$73*F64)+((F$73*F$65)*$A$83*(F64/F$67))","v":60346.367654567985},63095.510564409233,187551.6730843852,0.12822350018736914,37510.334616877037]
[null,{"$f":"+Proporções!B22","v":"EMED Gascar"},{"$f":"C$73*C65","v":47437.661283737158},{"$f":"D$73*D65","v":1.3516363175868124E-2},12735.797585885599,{"$f":"(F$73*F65)*$A$84","v":1127.4742823595859},{"$f":"(G$73*G65)*$A$84","v":1162.2541068221733},{"$f":"SUM(C94:G94)","v":62463.200775167701},{"$f":"+H94/$H$84","v":4.270423241009845E-2},{"$f":"AVERAGE(C94:G94)","v":12492.640155033539}]
[null,{"$f":"+Proporções!B23","v":"EMED XXX"},{"$f":"C$73*C66","v":0},0,0,0,0,{"$f":"SUM(C95:G95)","v":0},0,0]
[]
[]
[null,"Entrada",2020,2021,2022,2023,2024]
[null,"% Postal",0.8,0.8,0.7,0.6,0.5]
[null,"% CWD",{"$f":"1-C99","v":0.19999999999999996},{"$f":"1-D99","v":0.19999999999999996},0.30000000000000004,0.4,0.5]
[]
[null,"Saída",{"$f":"+C98","v":2020},{"$f":"+D98","v":2021},{"$f":"+E98","v":2022},{"$f":"+F98","v":2023},{"$f":"+G98","v":2024}]
[null,"% Postal",0.8,0.8,0.7,0.6,0.5]
[null,"% CWD",{"$f":"1-C103","v":0.19999999999999996},{"$f":"1-D103","v":0.19999999999999996},0.30000000000000004,0.4,0.5]
[]
[]
[null,"PARCELA CWD"]
[null,"TARIFA ECE (em R$/MMBtu) - (TE = RE / BCE)"]
[null,null,2020,2021,2022,2023,2024]
[null,"em R$/MMBtu"]
[null,{"$f":"+B78","v":"EMED Corumbá"},{"$f":"(C$100*C78*1000)/('C. Demanda'!C52)","v":0.52805115728012408},{"$f":"(D$100*D78*1000)/('C. Demanda'!D52)","v":0.7324360105482508},{"$f":"(E$100*E78*1000)/('C. Demanda'!E52)","v":1.2028111724062238},{"$f":"(F$100*F78*1000)/('C. Demanda'!F52)","v":1.4879326375552029},{"$f":"(G$100*G78*1000)/('C. Demanda'!G52)","v":1.9616428160124335}]
[null,{"$f":"+B79","v":"EMED Gascar"},{"$f":"(C$100*C79*1000)/('C. Demanda'!C53)","v":5.982955931183561E-2},{"$f":"(D$100*D79*1000)/('C. Demanda'!D53)","v":0.10449992140845107},{"$f":"(E$100*E79*1000)/('C. Demanda'!E53)","v":0.23582900608533994},{"$f":"(F$100*F79*1000)/('C. Demanda'!F53)","v":5.2742918891428757E-2},{"$f":"(G$100*G79*1000)/('C. Demanda'!G53)","v":7.1582906126751944E-2}]
[null,{"$f":"+B80","v":"EMED Garuva"},{"$f":"IF('C. Demanda'!C8>0,((C$100*C80*1000)/('C. Demanda'!C54)),0)","v":0.23144684606550137},{"$f":"IF('C. Demanda'!D8>0,((D$100*D80*1000)/('C. Demanda'!D54)),0)","v":0.31763484704940131},{"$f":"IF('C. Demanda'!E8>0,((E$100*E80*1000)/('C. Demanda'!E54)),0)","v":0.51174426731481959},{"$f":"IF('C. Demanda'!F8>0,((F$100*F80*1000)/('C. Demanda'!F54)),0)","v":0.5622658691989878},{"$f":"IF('C. Demanda'!G8>0,((G$100*G80*1000)/('C. Demanda'!G54)),0)","v":0.72505770953530335}]
[]
[null,"TARIFA ECS (em R$/MMBtu) - (TX = RX / BCX)"]
[null,null,2020,2021,2022,2023,2024]
[null,"em R$/mil m3"]
[null,{"$f":"+B85","v":"MS1"},{"$f":"(C$104*C85*1000)/('C. Demanda'!C59)","v":8.5704470400254279E-2},{"$f":"(D$104*D85*1000)/('C. Demanda'!D59)","v":0.11918757422293531},{"$f":"(E$104*E85*1000)/('C. Demanda'!E59)","v":0.26099269571190259},{"$f":"(F$104*F85*1000)/('C. Demanda'!F59)","v":0.25582145426922703},{"$f":"(G$104*G85*1000)/('C. Demanda'!G59)","v":0.35358604304599334}]
[null,"SP1",{"$f":"(C$104*C86*1000)/('C. Demanda'!C60)","v":0.18481653523005545},{"$f":"(D$104*D86*1000)/('C. Demanda'!D60)","v":0.17415638017771246},{"$f":"(E$104*E86*1000)/('C. Demanda'!E60)","v":0.32882457589942027},{"$f":"(F$104*F86*1000)/('C. Demanda'!F60)","v":0.39676704501884869},{"$f":"(G$104*G86*1000)/('C. Demanda'!G60)","v":0.51047159930644237}]
[null,"SP2",{"$f":"(C$104*C87*1000)/('C. Demanda'!C61)","v":0.24038459159319933},{"$f":"(D$104*D87*1000)/('C. Demanda'!D61)","v":0.20833004982185038},{"$f":"(E$104*E87*1000)/('C. Demanda'!E61)","v":0.37614857122813466},{"$f":"(F$104*F87*1000)/('C. Demanda'!F61)","v":0.48206071322173316},{"$f":"(G$104*G87*1000)/('C. Demanda'!G61)","v":0.60863419024451093}]
[null,"SP3",{"$f":"(C$104*C88*1000)/('C. Demanda'!C62)","v":0.24138681742015641},{"$f":"(D$104*D88*1000)/('C. Demanda'!D62)","v":0.20826818240689446},{"$f":"(E$104*E88*1000)/('C. Demanda'!E62)","v":0.37308334589035497},{"$f":"(F$104*F88*1000)/('C. Demanda'!F62)","v":0.48233128347103404},{"$f":"(G$104*G88*1000)/('C. Demanda'!G62)","v":0.60834197224959874}]
[null,"SP4",{"$f":"(C$104*C89*1000)/('C. Demanda'!C63)","v":0.25438766688358277},{"$f":"(D$104*D89*1000)/('C. Demanda'!D63)","v":0.22334454766390616},{"$f":"(E$104*E89*1000)/('C. Demanda'!E63)","v":0.39756118348225966},{"$f":"(F$104*F89*1000)/('C. Demanda'!F63)","v":0.5155231673233015},{"$f":"(G$104*G89*1000)/('C. Demanda'!G63)","v":0.65284379150245642}]
[null,"PR1",{"$f":"(C$104*C90*1000)/('C. Demanda'!C64)","v":0.32540527616090242},{"$f":"(D$104*D90*1000)/('C. Demanda'!D64)","v":0.30569973734998107},{"$f":"(E$104*E90*1000)/('C. Demanda'!E64)","v":0.53355103002227056},{"$f":"(F$104*F90*1000)/('C. Demanda'!F64)","v":0.69683503047227235},{"$f":"(G$104*G90*1000)/('C. Demanda'!G64)","v":0.8959365846967815}]
[null,"SC1",{"$f":"(C$104*C91*1000)/('C. Demanda'!C65)","v":0.3789645759826768},{"$f":"(D$104*D91*1000)/('C. Demanda'!D65)","v":0.36780949478987512},{"$f":"(E$104*E91*1000)/('C. Demanda'!E65)","v":0.6483055792395811},{"$f":"(F$104*F91*1000)/('C. Demanda'!F65)","v":0.83357486925865565},{"$f":"(G$104*G91*1000)/('C. Demanda'!G65)","v":1.0792697026818274}]
[null,"SC2",{"$f":"(C$104*C92*1000)/('C. Demanda'!C66)","v":0.37896457598267685},{"$f":"(D$104*D92*1000)/('C. Demanda'!D66)","v":0.36780949478987507},{"$f":"(E$104*E92*1000)/('C. Demanda'!E66)","v":0.6483055792395811},{"$f":"(F$104*F92*1000)/('C. Demanda'!F66)","v":0.83357486925865576},{"$f":"(G$104*G92*1000)/('C. Demanda'!G66)","v":1.0792697026818272}]
[null,"RS1",{"$f":"(C$104*C93*1000)/('C. Demanda'!C67)","v":0.45432859616888682},{"$f":"(D$104*D93*1000)/('C. Demanda'!D67)","v":0.45520498202409582},{"$f":"(E$104*E93*1000)/('C. Demanda'!E67)","v":0.81747489125412354},{"$f":"(F$104*F93*1000)/('C. Demanda'!F67)","v":1.0259833586661185},{"$f":"(G$104*G93*1000)/('C. Demanda'!G67)","v":1.3372402292689434}]
[null,"EMED Gascar",{"$f":"(C$104*C94*1000)/('C. Demanda'!C68)","v":0.23686274656495693},{"$f":"(D$104*D94*1000)/('C. Demanda'!D68)","v":0.20302186791008944},{"$f":"(E$104*E94*1000)/('C. Demanda'!E68)","v":0.36444299474835951},{"$f":"(F$104*F94*1000)/('C. Demanda'!F68)","v":9.2767689591955887E-2},{"$f":"(G$104*G94*1000)/('C. Demanda'!G68)","v":0.1168726269532963}]
[null,"EMED XXX",{"$f":"IF('C. Demanda'!C23>0,((C$104*C95*1000)/('C. Demanda'!C69)),0)","v":0},{"$f":"IF('C. Demanda'!D23>0,((D$104*D95*1000)/('C. Demanda'!D69)),0)","v":0},{"$f":"IF('C. Demanda'!E23>0,((E$104*E95*1000)/('C. Demanda'!E69)),0)","v":0},{"$f":"IF('C. Demanda'!F23>0,((F$104*F95*1000)/('C. Demanda'!F69)),0)","v":0},{"$f":"IF('C. Demanda'!G23>0,((G$104*G95*1000)/('C. Demanda'!G69)),0)","v":0}]
[]
[]
[null,"PARCELA POSTAL"]
[null,"TARIFA ECT ENTRADA (em R$/MMBtu) - (TE = RE / BCE)"]
[null,"ECT - Entrada",2020,2021,2022,2023,2024]
[null,"em R$ mil",{"$f":"((C$99*C72))/((('C. Demanda'!C28)*Premissas!B$57))","v":2.1122044599112435},{"$f":"((D$99*D72))/((('C. Demanda'!D28)*Premissas!C$57))","v":2.2745062966586991},{"$f":"((E$99*E72))/((('C. Demanda'!E28)*Premissas!D$57))","v":2.070361246982809},{"$f":"((F$99*F72))/((('C. Demanda'!F28)*Premissas!E$57))","v":1.7550703384208004},{"$f":"((G$99*G72))/((('C. Demanda'!G28)*Premissas!F$57))","v":1.4536274320289939}]
[null,"Pontos de Entrada",null,null,null,{"$f":"((F$99*(F78+F80))/((('C. Demanda'!F29+'C. Demanda'!F31)*Premissas!E$57)))","v":2.2318988571542291},{"$f":"((G$99*(G78+G80))/((('C. Demanda'!G29+'C. Demanda'!G31)*Premissas!F$57)))","v":1.9616427276849322}]
[null,"Tarifa Interconexão",null,null,null,{"$f":"((F$99*(F79))/((('C. Demanda'!F30)*Premissas!E$57)))","v":7.9114378337143132E-2},{"$f":"((G$99*(G79))/((('C. Demanda'!G30)*Premissas!F$57)))","v":7.158290612675193E-2}]
[]
[null,"TARIFA ECT SAÍDA (em R$/MMBtu) - (TE = RE / BCE)"]
[null,"ECT - Saída",2020,2021,2022,2023,2024]
[null,"em R$ mil",{"$f":"((C$103*C73))/(('C. Demanda'!C35)*Premissas!B$57)","v":0.99571787691505231},{"$f":"((D$103*D73))/(('C. Demanda'!D35)*Premissas!C$57)","v":0.9126486330182465},{"$f":"((E$103*E73))/(('C. Demanda'!E35)*Premissas!D$57)","v":1.0348749548613405},{"$f":"((F$103*F73))/(('C. Demanda'!F35)*Premissas!E$57)","v":0.86496439326977126},{"$f":"((G$103*G73))/(('C. Demanda'!G35)*Premissas!F$57)","v":0.74655973216730542}]
[null,"Zonas de Saída",null,null,null,{"$f":"((F$103*(F84-F94)))/(('C. Demanda'!F35-'C. Demanda'!F45)*Premissas!E$57)","v":0.88192389265302817},{"$f":"((G$103*(G84-G94)))/(('C. Demanda'!G35-'C. Demanda'!G45)*Premissas!F$57)","v":0.76124862305834295}]
[null,"Tarifa Interconexão",null,null,null,{"$f":"((F$103*(F94)))/(('C. Demanda'!F45)*Premissas!E$57)","v":0.13915153438793382},{"$f":"((G$103*(G94)))/(('C. Demanda'!G45)*Premissas!F$57)","v":0.1168726269532963}]
[]
[]
[null,"TARIFA (em R$/MMBtu) - (TE) - ECE + ECT + ECS"]
[null,null,2020,2021,2022,2023,2024]
[null,"em R$/MMBtu"]
[null,{"$f":"B111","v":"EMED Corumbá"},{"$f":"C$134+C111","v":2.6402556171913676},3.0069423072069501,3.2731724193890326,{"$f":"F$135+F111","v":3.7198314947094318},{"$f":"G$135+G111","v":3.9232855436973657}]
[null,{"$f":"B112","v":"EMED Gascar"},2.1720340192230791,2.3790062180671501,2.3061902530681491,{"$f":"F$136+F112","v":0.1318572972285719},{"$f":"G$136+G112","v":0.14316581225350389}]
[null,{"$f":"B113","v":"EMED Garuva"},2.3436513059767448,2.5921411437081003,2.5821055142976288,{"$f":"F$135+F113","v":2.794164726353217},{"$f":"G$135+G113","v":2.6867004372202357}]
[]
[null,"TARIFA (em R$/MMBtu) - (TX) - ECE + ECT + ECS"]
[null,null,2020,2021,2022,2023,2024]
[null,"em R$/MMBtu"]
[null,{"$f":"B118","v":"MS1"},{"$f":"C$140+C118","v":1.0814223473153066},1.0318362072411817,1.2958676505732432,{"$f":"F$141+F118","v":1.1377453469222552},{"$f":"G$141+G118","v":1.1148346661043362}]
[null,"SP1",1.1805344121451078,1.086805013195959,1.3636995307607607,{"$f":"F$141+F119","v":1.2786909376718769},1.2717202223647854]
[null,"SP2",1.2361024685082516,1.1209786828400969,1.4110235260894752,{"$f":"F$141+F120","v":1.3639846058747613},1.369882813302854]
[null,"SP3",1.2371046943352086,1.120916815425141,1.4079583007516954,{"$f":"F$141+F121","v":1.3642551761240622},1.3695905953079417]
[null,"SP4",1.250105543798635,1.1359931806821526,1.4324361383436002,{"$f":"F$141+F122","v":1.3974470599763298},1.4140924145607994]
[null,"PR1",1.3211231530759546,1.2183483703682276,1.5684259848836111,{"$f":"F$141+F123","v":1.5787589231253005},1.6571852077551243]
[null,"SC1",1.3746824528977291,1.2804581278081217,1.6831805341009216,{"$f":"F$141+F124","v":1.7154987619116837},1.8405183257401703]
[null,"SC2",1.3746824528977291,1.2804581278081215,1.6831805341009216,{"$f":"F$141+F125","v":1.7154987619116839},1.8405183257401703]
[null,"RS1",1.4500464730839391,1.3678536150423424,1.8523498461154642,{"$f":"F$141+F126","v":1.9079072513191466},2.0984888523272862]
[null,"EMED Gascar",1.2325806234800092,1.1156705009283359,1.3993179496097001,{"$f":"F$142+F127","v":0.2319192239798897},{"$f":"G$142+G127","v":0.23374525390659259}]
[null,"EMED XXX"]

{"sheet":"Calculo Encargos EM e ECEmp","index":22,"n_rows":23,"n_cols":9,"rows_kept":23,"cut":false,"hidden":false,"merged":[]}
[]
[]
[]
[]
[null,null,"ENCARGO DE CAPACIDADE DE TRANSPORTE LINEPACK - ECEmp"]
[null,null,"RECEITA ANUAL CAPACIDADE DE TRANSPORTE - LINEPACK (R$ mil) "]
[null,null,null,2020,2021,2022,2023,2024,"Total"]
[null,1,"TOTAL",{"$f":"'FC ECTL'!C12*$B$8","v":11984.476454763608},{"$f":"'FC ECTL'!D12*$B$8","v":8186.1828301451733},{"$f":"'FC ECTL'!E12*$B$8","v":51929.992987481332},{"$f":"'FC ECTL'!F12*$B$8","v":26167.412184164146},{"$f":"'FC ECTL'!G12*$B$8","v":27629.635166656153},{"$f":"SUM(D8:H8)","v":125897.69962321041}]
[]
[null,null,"ENCARGO DE CAPACIDADE DE TRANSPORTE LINEPACK - ECEmp"]
[null,null,null,2020,2021,2022,2023,2024,"Total"]
[null,null,"em R$/MMBtu"]
[null,null,"ECT - LINEPACK",{"$f":"D8*1000/('C. Demanda'!O51+'C. Demanda'!O58)","v":2.600466884819741E-2},{"$f":"E8*1000/('C. Demanda'!P51+'C. Demanda'!P58)","v":2.5850423688719093E-2},{"$f":"F8*1000/('C. Demanda'!Q51+'C. Demanda'!Q58)","v":9.5696805201804264E-2},{"$f":"G8*1000/('C. Demanda'!R51+'C. Demanda'!R58)","v":5.7163524274304996E-2},{"$f":"H8*1000/('C. Demanda'!S51+'C. Demanda'!S58)","v":5.7619195721529265E-2},{"$f":"I8*1000/('C. Demanda'!T51+'C. Demanda'!T58)","v":5.5769368315339428E-2}]
[]
[null,null,"ENCARGO DE MOVIMENTAÇÃO - EM"]
[null,null,"RECEITA ANUAL CUSTO VARIÁVEL (R$ mil) "]
[null,null,null,2020,2021,2022,2023,2024,"Total"]
[null,1,"TOTAL",{"$f":"'FC EM'!C12*$B$18","v":165.77029721324473},{"$f":"'FC EM'!D12*$B$18","v":114.97100684508052},{"$f":"'FC EM'!E12*$B$18","v":224.02293528462283},{"$f":"'FC EM'!F12*$B$18","v":171.57016830119844},{"$f":"'FC EM'!G12*$B$18","v":181.15743055832971},{"$f":"SUM(D18:H18)","v":857.49183820247617}]
[]
[null,null,"ENCARGO DE MOVIMENTAÇÃO - EM"]
[null,null,null,2020,2021,2022,2023,2024,"Total"]
[null,null,"em R$/MMBtu"]
[null,null,"ENCARGO DE MOVIMENTAÇÃO",{"$f":"D18*1000/('C. Demanda'!O51+'C. Demanda'!O58)","v":3.5969879036177894E-4},{"$f":"E18*1000/('C. Demanda'!P51+'C. Demanda'!P58)","v":3.6305678733677249E-4},{"$f":"F18*1000/('C. Demanda'!Q51+'C. Demanda'!Q58)","v":4.1283038886288779E-4},{"$f":"G18*1000/('C. Demanda'!R51+'C. Demanda'!R58)","v":3.7480035898878195E-4},{"$f":"H18*1000/('C. Demanda'!S51+'C. Demanda'!S58)","v":3.7778803030836448E-4},{"$f":"I18*1000/('C. Demanda'!T51+'C. Demanda'!T58)","v":3.7984632201568E-4}]

{"sheet":"TARIFAS","index":23,"n_rows":116,"n_cols":16,"rows_kept":116,"cut":false,"hidden":false,"merged":[[1,1,1,7],[103,2,103,7],[4,2,4,7],[11,2,11,7],[27,2,27,7],[34,2,34,7],[50,2,50,7],[57,2,57,7],[73,2,73,7],[80,2,80,7],[96,2,96,7],[94,1,94,7]]}
[]
[null,"TARIFAS DE TRANSPORTE"]
[null,"*Preços de dez/2019"]
[null,"TARIFA ENTRADA (em R$/MMBtu) - (TE)"]
[null,"em R$/MMBtu",2020]
[null,"a preços de Dez/2019","TCE","TCT","TCS","TCEmp","TM","TOTAL"]
[null,{"$f":"+'Cálculo Encargos ECE, ECT e ECS'!B111","v":"EMED Corumbá"},{"$f":"+'Cálculo Encargos ECE, ECT e ECS'!C111","v":0.52805115728012408},{"$f":"+'Cálculo Encargos ECE, ECT e ECS'!C$134","v":2.1122044599112435},0,{"$f":"+'Calculo Encargos EM e ECEmp'!D$13","v":2.600466884819741E-2},{"$f":"+'Calculo Encargos EM e ECEmp'!D$23","v":3.5969879036177894E-4},{"$f":"SUM(C7:G7)","v":2.6666199848299263}]
[null,{"$f":"+'Cálculo Encargos ECE, ECT e ECS'!B112","v":"EMED Gascar"},{"$f":"+'Cálculo Encargos ECE, ECT e ECS'!C112","v":5.982955931183561E-2},{"$f":"+'Cálculo Encargos ECE, ECT e ECS'!C$134","v":2.1122044599112435},0,{"$f":"+'Calculo Encargos EM e ECEmp'!D$13","v":2.600466884819741E-2},{"$f":"+'Calculo Encargos EM e ECEmp'!D$23","v":3.5969879036177894E-4},{"$f":"SUM(C8:G8)","v":2.1983983868616384}]
[null,{"$f":"+'Cálculo Encargos ECE, ECT e ECS'!B113","v":"EMED Garuva"},{"$f":"+'Cálculo Encargos ECE, ECT e ECS'!C113","v":0.23144684606550137},{"$f":"+'Cálculo Encargos ECE, ECT e ECS'!C$134","v":2.1122044599112435},0,{"$f":"+'Calculo Encargos EM e ECEmp'!D$13","v":2.600466884819741E-2},{"$f":"+'Calculo Encargos EM e ECEmp'!D$23","v":3.5969879036177894E-4},{"$f":"SUM(C9:G9)","v":2.370015673615304}]
[]
[null,"TARIFA SAÍDA (em R$/MMBtu) - (TX)"]
[null,"em R$/MMBtu",2020]
[null,"a preços de Dez/2019",{"$f":"+C6","v":"TCE"},"TCT","TCS","TCEmp","TM","TOTAL"]
[null,{"$f":"+'Cálculo Encargos ECE, ECT e ECS'!B118","v":"MS1"},0,{"$f":"+'Cálculo Encargos ECE, ECT e ECS'!C$140","v":0.99571787691505231},{"$f":"+'Cálculo Encargos ECE, ECT e ECS'!C118","v":8.5704470400254279E-2},{"$f":"+'Calculo Encargos EM e ECEmp'!D$13","v":2.600466884819741E-2},{"$f":"+'Calculo Encargos EM e ECEmp'!D$23","v":3.5969879036177894E-4},{"$f":"SUM(C14:G14)","v":1.1077867149538658}]
[null,{"$f":"+'Cálculo Encargos ECE, ECT e ECS'!B119","v":"SP1"},0,{"$f":"+'Cálculo Encargos ECE, ECT e ECS'!C$140","v":0.99571787691505231},{"$f":"+'Cálculo Encargos ECE, ECT e ECS'!C119","v":0.18481653523005545},{"$f":"+'Calculo Encargos EM e ECEmp'!D$13","v":2.600466884819741E-2},{"$f":"+'Calculo Encargos EM e ECEmp'!D$23","v":3.5969879036177894E-4},1.206898779783667]
[null,{"$f":"+'Cálculo Encargos ECE, ECT e ECS'!B120","v":"SP2"},0,{"$f":"+'Cálculo Encargos ECE, ECT e ECS'!C$140","v":0.99571787691505231},{"$f":"+'Cálculo Encargos ECE, ECT e ECS'!C120","v":0.24038459159319933},{"$f":"+'Calculo Encargos EM e ECEmp'!D$13","v":2.600466884819741E-2},{"$f":"+'Calculo Encargos EM e ECEmp'!D$23","v":3.5969879036177894E-4},1.2624668361468108]
[null,{"$f":"+'Cálculo Encargos ECE, ECT e ECS'!B121","v":"SP3"},0,{"$f":"+'Cálculo Encargos ECE, ECT e ECS'!C$140","v":0.99571787691505231},{"$f":"+'Cálculo Encargos ECE, ECT e ECS'!C121","v":0.24138681742015641},{"$f":"+'Calculo Encargos EM e ECEmp'!D$13","v":2.600466884819741E-2},{"$f":"+'Calculo Encargos EM e ECEmp'!D$23","v":3.5969879036177894E-4},1.2634690619737678]
[null,{"$f":"+'Cálculo Encargos ECE, ECT e ECS'!B122","v":"SP4"},0,{"$f":"+'Cálculo Encargos ECE, ECT e ECS'!C$140","v":0.99571787691505231},{"$f":"+'Cálculo Encargos ECE, ECT e ECS'!C122","v":0.25438766688358277},{"$f":"+'Calculo Encargos EM e ECEmp'!D$13","v":2.600466884819741E-2},{"$f":"+'Calculo Encargos EM e ECEmp'!D$23","v":3.5969879036177894E-4},1.2764699114371942]
[null,{"$f":"+'Cálculo Encargos ECE, ECT e ECS'!B123","v":"PR1"},0,{"$f":"+'Cálculo Encargos ECE, ECT e ECS'!C$140","v":0.99571787691505231},{"$f":"+'Cálculo Encargos ECE, ECT e ECS'!C123","v":0.32540527616090242},{"$f":"+'Calculo Encargos EM e ECEmp'!D$13","v":2.600466884819741E-2},{"$f":"+'Calculo Encargos EM e ECEmp'!D$23","v":3.5969879036177894E-4},1.3474875207145138]
[null,{"$f":"+'Cálculo Encargos ECE, ECT e ECS'!B124","v":"SC1"},0,{"$f":"+'Cálculo Encargos ECE, ECT e ECS'!C$140","v":0.99571787691505231},{"$f":"+'Cálculo Encargos ECE, ECT e ECS'!C124","v":0.3789645759826768},{"$f":"+'Calculo Encargos EM e ECEmp'!D$13","v":2.600466884819741E-2},{"$f":"+'Calculo Encargos EM e ECEmp'!D$23","v":3.5969879036177894E-4},1.4010468205362883]
[null,{"$f":"+'Cálculo Encargos ECE, ECT e ECS'!B125","v":"SC2"},0,{"$f":"+'Cálculo Encargos ECE, ECT e ECS'!C$140","v":0.99571787691505231},{"$f":"+'Cálculo Encargos ECE, ECT e ECS'!C125","v":0.37896457598267685},{"$f":"+'Calculo Encargos EM e ECEmp'!D$13","v":2.600466884819741E-2},{"$f":"+'Calculo Encargos EM e ECEmp'!D$23","v":3.5969879036177894E-4},1.4010468205362883]
[null,{"$f":"+'Cálculo Encargos ECE, ECT e ECS'!B126","v":"RS1"},0,{"$f":"+'Cálculo Encargos ECE, ECT e ECS'!C$140","v":0.99571787691505231},{"$f":"+'Cálculo Encargos ECE, ECT e ECS'!C126","v":0.45432859616888682},{"$f":"+'Calculo Encargos EM e ECEmp'!D$13","v":2.600466884819741E-2},{"$f":"+'Calculo Encargos EM e ECEmp'!D$23","v":3.5969879036177894E-4},1.4764108407224983]
[null,{"$f":"+'Cálculo Encargos ECE, ECT e ECS'!B127","v":"EMED Gascar"},0,{"$f":"+'Cálculo Encargos ECE, ECT e ECS'!C$140","v":0.99571787691505231},{"$f":"+'Cálculo Encargos ECE, ECT e ECS'!C127","v":0.23686274656495693},{"$f":"+'Calculo Encargos EM e ECEmp'!D$13","v":2.600466884819741E-2},{"$f":"+'Calculo Encargos EM e ECEmp'!D$23","v":3.5969879036177894E-4},1.2589449911185684]
[null,{"$f":"+'Cálculo Encargos ECE, ECT e ECS'!B128","v":"EMED XXX"}]
[]
[]
[null,"TARIFA ENTRADA (em R$/MMBtu) - (TE)"]
[null,"em R$/MMBtu",2021]
[null,"a preços de Dez/2019",{"$f":"+C6","v":"TCE"},{"$f":"+D6","v":"TCT"},{"$f":"+E6","v":"TCS"},{"$f":"+F6","v":"TCEmp"},{"$f":"+G6","v":"TM"},"TOTAL"]
[null,{"$f":"+B7","v":"EMED Corumbá"},{"$f":"+'Cálculo Encargos ECE, ECT e ECS'!D111","v":0.7324360105482508},{"$f":"+'Cálculo Encargos ECE, ECT e ECS'!D$134","v":2.2745062966586991},0,{"$f":"+'Calculo Encargos EM e ECEmp'!E$13","v":2.5850423688719093E-2},{"$f":"+'Calculo Encargos EM e ECEmp'!E$23","v":3.6305678733677249E-4},{"$f":"SUM(C30:G30)","v":3.0331557876830058}]
[null,{"$f":"+B8","v":"EMED Gascar"},{"$f":"+'Cálculo Encargos ECE, ECT e ECS'!D112","v":0.10449992140845107},{"$f":"+'Cálculo Encargos ECE, ECT e ECS'!D$134","v":2.2745062966586991},0,{"$f":"+'Calculo Encargos EM e ECEmp'!E$13","v":2.5850423688719093E-2},{"$f":"+'Calculo Encargos EM e ECEmp'!E$23","v":3.6305678733677249E-4},{"$f":"SUM(C31:G31)","v":2.4052196985432057}]
[null,{"$f":"+B9","v":"EMED Garuva"},{"$f":"+'Cálculo Encargos ECE, ECT e ECS'!D113","v":0.31763484704940131},{"$f":"+'Cálculo Encargos ECE, ECT e ECS'!D$134","v":2.2745062966586991},0,{"$f":"+'Calculo Encargos EM e ECEmp'!E$13","v":2.5850423688719093E-2},{"$f":"+'Calculo Encargos EM e ECEmp'!E$23","v":3.6305678733677249E-4},{"$f":"SUM(C32:G32)","v":2.618354624184156}]
[]
[null,"TARIFA SAÍDA (em R$/MMBtu) - (TX)"]
[null,"em R$/MMBtu",2021]
[null,null,{"$f":"+C13","v":"TCE"},{"$f":"+D13","v":"TCT"},{"$f":"+E13","v":"TCS"},{"$f":"+F13","v":"TCEmp"},{"$f":"+G13","v":"TM"},{"$f":"+H29","v":"TOTAL"}]
[null,{"$f":"+B14","v":"MS1"},0,{"$f":"+'Cálculo Encargos ECE, ECT e ECS'!D$140","v":0.9126486330182465},{"$f":"+'Cálculo Encargos ECE, ECT e ECS'!D118","v":0.11918757422293531},{"$f":"+'Calculo Encargos EM e ECEmp'!E$13","v":2.5850423688719093E-2},{"$f":"+'Calculo Encargos EM e ECEmp'!E$23","v":3.6305678733677249E-4},{"$f":"SUM(C37:G37)","v":1.0580496877172376}]
[null,"SP1",0,{"$f":"+'Cálculo Encargos ECE, ECT e ECS'!D$140","v":0.9126486330182465},{"$f":"+'Cálculo Encargos ECE, ECT e ECS'!D119","v":0.17415638017771246},{"$f":"+'Calculo Encargos EM e ECEmp'!E$13","v":2.5850423688719093E-2},{"$f":"+'Calculo Encargos EM e ECEmp'!E$23","v":3.6305678733677249E-4},1.1130184936720149]
[null,"SP2",0,{"$f":"+'Cálculo Encargos ECE, ECT e ECS'!D$140","v":0.9126486330182465},{"$f":"+'Cálculo Encargos ECE, ECT e ECS'!D120","v":0.20833004982185038},{"$f":"+'Calculo Encargos EM e ECEmp'!E$13","v":2.5850423688719093E-2},{"$f":"+'Calculo Encargos EM e ECEmp'!E$23","v":3.6305678733677249E-4},1.1471921633161528]
[null,"SP3",0,{"$f":"+'Cálculo Encargos ECE, ECT e ECS'!D$140","v":0.9126486330182465},{"$f":"+'Cálculo Encargos ECE, ECT e ECS'!D121","v":0.20826818240689446},{"$f":"+'Calculo Encargos EM e ECEmp'!E$13","v":2.5850423688719093E-2},{"$f":"+'Calculo Encargos EM e ECEmp'!E$23","v":3.6305678733677249E-4},1.1471302959011969]
[null,"SP4",0,{"$f":"+'Cálculo Encargos ECE, ECT e ECS'!D$140","v":0.9126486330182465},{"$f":"+'Cálculo Encargos ECE, ECT e ECS'!D122","v":0.22334454766390616},{"$f":"+'Calculo Encargos EM e ECEmp'!E$13","v":2.5850423688719093E-2},{"$f":"+'Calculo Encargos EM e ECEmp'!E$23","v":3.6305678733677249E-4},1.1622066611582085]
[null,"PR1",0,{"$f":"+'Cálculo Encargos ECE, ECT e ECS'!D$140","v":0.9126486330182465},{"$f":"+'Cálculo Encargos ECE, ECT e ECS'!D123","v":0.30569973734998107},{"$f":"+'Calculo Encargos EM e ECEmp'!E$13","v":2.5850423688719093E-2},{"$f":"+'Calculo Encargos EM e ECEmp'!E$23","v":3.6305678733677249E-4},1.2445618508442835]
[null,"SC1",0,{"$f":"+'Cálculo Encargos ECE, ECT e ECS'!D$140","v":0.9126486330182465},{"$f":"+'Cálculo Encargos ECE, ECT e ECS'!D124","v":0.36780949478987512},{"$f":"+'Calculo Encargos EM e ECEmp'!E$13","v":2.5850423688719093E-2},{"$f":"+'Calculo Encargos EM e ECEmp'!E$23","v":3.6305678733677249E-4},1.3066716082841776]
[null,"SC2",0,{"$f":"+'Cálculo Encargos ECE, ECT e ECS'!D$140","v":0.9126486330182465},{"$f":"+'Cálculo Encargos ECE, ECT e ECS'!D125","v":0.36780949478987507},{"$f":"+'Calculo Encargos EM e ECEmp'!E$13","v":2.5850423688719093E-2},{"$f":"+'Calculo Encargos EM e ECEmp'!E$23","v":3.6305678733677249E-4},1.3066716082841774]
[null,"RS1",0,{"$f":"+'Cálculo Encargos ECE, ECT e ECS'!D$140","v":0.9126486330182465},{"$f":"+'Cálculo Encargos ECE, ECT e ECS'!D126","v":0.45520498202409582},{"$f":"+'Calculo Encargos EM e ECEmp'!E$13","v":2.5850423688719093E-2},{"$f":"+'Calculo Encargos EM e ECEmp'!E$23","v":3.6305678733677249E-4},1.3940670955183982]
[null,"EMED Gascar",0,{"$f":"+'Cálculo Encargos ECE, ECT e ECS'!D$140","v":0.9126486330182465},{"$f":"+'Cálculo Encargos ECE, ECT e ECS'!D127","v":0.20302186791008944},{"$f":"+'Calculo Encargos EM e ECEmp'!E$13","v":2.5850423688719093E-2},{"$f":"+'Calculo Encargos EM e ECEmp'!E$23","v":3.6305678733677249E-4},1.1418839814043917]
[null,"EMED XXX"]
[]
[]
[null,"TARIFA ENTRADA (em R$/MMBtu) - (TE)"]
[null,"em R$/MMBtu",2022,null,null,null,null,null,null,null,{"$f":"SUM(K53:K69)","v":1286583699.3526671},{"$f":"'Receita Anual Máxima'!D9","v":1284877.1296833784},{"$f":"K51/1000-L51","v":1706.5696692888159},{"$f":"SUM(N53:N69)","v":1234429684.7384627},51929991.684541062,224022.92966381513]
[null,"a preços de Dez/2019",{"$f":"+C29","v":"TCE"},{"$f":"+D29","v":"TCT"},{"$f":"+E29","v":"TCS"},{"$f":"+F29","v":"TCEmp"},{"$f":"+G29","v":"TM"},"TOTAL"]
[null,{"$f":"+B30","v":"EMED Corumbá"},{"$f":"+'Cálculo Encargos ECE, ECT e ECS'!E111","v":1.2028111724062238},{"$f":"+'Cálculo Encargos ECE, ECT e ECS'!E$134","v":2.070361246982809},0,{"$f":"+'Calculo Encargos EM e ECEmp'!F$13","v":9.5696805201804264E-2},{"$f":"+'Calculo Encargos EM e ECEmp'!F$23","v":4.1283038886288779E-4},{"$f":"SUM(C53:G53)","v":3.3692820549796996},null,{"$f":"'C. Demanda'!E52","v":190614136.73232907},{"$f":"H53*J53","v":642232790.3176831},null,null,{"$f":"(C53+D53+E53)*$J53","v":623912935.09790945},{"$f":"F53*J53","v":18241163.911583778},{"$f":"G53*J53","v":78691.308189971067}]
[null,{"$f":"+B31","v":"EMED Gascar"},{"$f":"+'Cálculo Encargos ECE, ECT e ECS'!E112","v":0.23582900608533994},{"$f":"+'Cálculo Encargos ECE, ECT e ECS'!E$134","v":2.070361246982809},0,{"$f":"+'Calculo Encargos EM e ECEmp'!F$13","v":9.5696805201804264E-2},{"$f":"+'Calculo Encargos EM e ECEmp'!F$23","v":4.1283038886288779E-4},{"$f":"SUM(C54:G54)","v":2.4022998886588161},null,{"$f":"'C. Demanda'!E53","v":79758400.926998839},{"$f":"H54*J54","v":191603597.66653451},null,null,{"$f":"(C54+D54+E54)*$J54","v":183938046.81814635},{"$f":"F54*J54","v":7632624.1567184124},{"$f":"G54*J54","v":32926.691669775042}]
[null,{"$f":"+B32","v":"EMED Garuva"},{"$f":"+'Cálculo Encargos ECE, ECT e ECS'!E113","v":0.51174426731481959},{"$f":"+'Cálculo Encargos ECE, ECT e ECS'!E$134","v":2.070361246982809},0,{"$f":"+'Calculo Encargos EM e ECEmp'!F$13","v":9.5696805201804264E-2},{"$f":"+'Calculo Encargos EM e ECEmp'!F$23","v":4.1283038886288779E-4},{"$f":"SUM(C55:G55)","v":2.6782151498882958},null,{"$f":"'C. Demanda'!E54","v":21784472.769409038},58343505.003360324,null,null,56249807.263957612,2084704.4470381462,8993.292364568124]
[]
[null,"TARIFA SAÍDA (em R$/MMBtu) - (TX)"]
[null,"em R$/MMBtu",2022]
[null,"a preços de Dez/2019",{"$f":"+C36","v":"TCE"},{"$f":"+D36","v":"TCT"},{"$f":"+E36","v":"TCS"},{"$f":"+F36","v":"TCEmp"},{"$f":"+G36","v":"TM"},{"$f":"+H52","v":"TOTAL"}]
[null,{"$f":"+B37","v":"MS1"},0,{"$f":"+'Cálculo Encargos ECE, ECT e ECS'!E$140","v":1.0348749548613405},{"$f":"+'Cálculo Encargos ECE, ECT e ECS'!E118","v":0.26099269571190259},{"$f":"+'Calculo Encargos EM e ECEmp'!F$13","v":9.5696805201804264E-2},{"$f":"+'Calculo Encargos EM e ECEmp'!F$23","v":4.1283038886288779E-4},{"$f":"SUM(C60:G60)","v":1.3919772861639104},null,{"$f":"'C. Demanda'!E59","v":11300695.249130938},15730311.104650678,null,null,14644205.402335519,1081440.4319010384,4665.2704141197137]
[null,"SP1",0,{"$f":"+'Cálculo Encargos ECE, ECT e ECS'!E$140","v":1.0348749548613405},{"$f":"+'Cálculo Encargos ECE, ECT e ECS'!E119","v":0.32882457589942027},{"$f":"+'Calculo Encargos EM e ECEmp'!F$13","v":9.5696805201804264E-2},{"$f":"+'Calculo Encargos EM e ECEmp'!F$23","v":4.1283038886288779E-4},1.4598091663514279,null,{"$f":"'C. Demanda'!E60","v":12730301.274623405},18583810.491110511,null,null,17360305.874647051,1218249.1612379164,5255.455225544496]
[null,"SP2",0,{"$f":"+'Cálculo Encargos ECE, ECT e ECS'!E$140","v":1.0348749548613405},{"$f":"+'Cálculo Encargos ECE, ECT e ECS'!E120","v":0.37614857122813466},{"$f":"+'Calculo Encargos EM e ECEmp'!F$13","v":9.5696805201804264E-2},{"$f":"+'Calculo Encargos EM e ECEmp'!F$23","v":4.1283038886288779E-4},1.5071331616801424,null,{"$f":"'C. Demanda'!E61","v":161150637.31170335},242875469.5183574,null,null,227387340.49112582,15421601.146964686,66527.880266892695]
[null,"SP3",0,{"$f":"+'Cálculo Encargos ECE, ECT e ECS'!E$140","v":1.0348749548613405},{"$f":"+'Cálculo Encargos ECE, ECT e ECS'!E121","v":0.37308334589035497},{"$f":"+'Calculo Encargos EM e ECEmp'!F$13","v":9.5696805201804264E-2},{"$f":"+'Calculo Encargos EM e ECEmp'!F$23","v":4.1283038886288779E-4},1.5040679363423626,null,{"$f":"'C. Demanda'!E62","v":13.615295480880647},20.478329376619651,null,null,19.169768289492954,1.3029402793988412,5.6208077278550759E-3]
[null,"SP4",0,{"$f":"+'Cálculo Encargos ECE, ECT e ECS'!E$140","v":1.0348749548613405},{"$f":"+'Cálculo Encargos ECE, ECT e ECS'!E122","v":0.39756118348225966},{"$f":"+'Calculo Encargos EM e ECEmp'!F$13","v":9.5696805201804264E-2},{"$f":"+'Calculo Encargos EM e ECEmp'!F$23","v":4.1283038886288779E-4},1.5285457739342674,null,{"$f":"'C. Demanda'!E63","v":13.615295480880647},20.81160236816644,null,null,19.503041281039746,1.3029402793988412,5.6208077278550759E-3]
[null,"PR1",0,{"$f":"+'Cálculo Encargos ECE, ECT e ECS'!E$140","v":1.0348749548613405},{"$f":"+'Cálculo Encargos ECE, ECT e ECS'!E123","v":0.53355103002227056},{"$f":"+'Calculo Encargos EM e ECEmp'!F$13","v":9.5696805201804264E-2},{"$f":"+'Calculo Encargos EM e ECEmp'!F$23","v":4.1283038886288779E-4},1.6645356204742783,null,{"$f":"'C. Demanda'!E64","v":13.615295480880647},22.663144311208306,null,null,21.354583224081608,1.3029402793988412,5.6208077278550759E-3]
[null,"SC1",0,{"$f":"+'Cálculo Encargos ECE, ECT e ECS'!E$140","v":1.0348749548613405},{"$f":"+'Cálculo Encargos ECE, ECT e ECS'!E124","v":0.6483055792395811},{"$f":"+'Calculo Encargos EM e ECEmp'!F$13","v":9.5696805201804264E-2},{"$f":"+'Calculo Encargos EM e ECEmp'!F$23","v":4.1283038886288779E-4},1.7792901696915888,null,{"$f":"'C. Demanda'!E65","v":20055330.243337195},35684251.951888293,null,null,33756741.470550664,1919231.0315544934,8279.4497831305289]
[null,"SC2",0,{"$f":"+'Cálculo Encargos ECE, ECT e ECS'!E$140","v":1.0348749548613405},{"$f":"+'Cálculo Encargos ECE, ECT e ECS'!E125","v":0.6483055792395811},{"$f":"+'Calculo Encargos EM e ECEmp'!F$13","v":9.5696805201804264E-2},{"$f":"+'Calculo Encargos EM e ECEmp'!F$23","v":4.1283038886288779E-4},1.7792901696915888,null,{"$f":"'C. Demanda'!E66","v":11246234.067207415},20010313.721832808,null,null,18929442.263866156,1076228.6707834429,4642.7871832082928]
[null,"RS1",0,{"$f":"+'Cálculo Encargos ECE, ECT e ECS'!E$140","v":1.0348749548613405},{"$f":"+'Cálculo Encargos ECE, ECT e ECS'!E126","v":0.81747489125412354},{"$f":"+'Calculo Encargos EM e ECEmp'!F$13","v":9.5696805201804264E-2},{"$f":"+'Calculo Encargos EM e ECEmp'!F$23","v":4.1283038886288779E-4},1.9484594817061314,null,{"$f":"'C. Demanda'!E67","v":23527230.590961758},45841855.523245983,null,null,43580661.96469105,2251480.8028011974,9712.7557537335724]
[null,"EMED Gascar",0,{"$f":"+'Cálculo Encargos ECE, ECT e ECS'!E$140","v":1.0348749548613405},{"$f":"+'Cálculo Encargos ECE, ECT e ECS'!E127","v":0.36444299474835951},{"$f":"+'Calculo Encargos EM e ECEmp'!F$13","v":9.5696805201804264E-2},{"$f":"+'Calculo Encargos EM e ECEmp'!F$23","v":4.1283038886288779E-4},1.4954275852003673,null,{"$f":"'C. Demanda'!E68","v":10483777.520278098},15677730.100927372,null,null,14670138.063839814,1003264.0151371077,4328.0219504484085]
[null,"EMED XXX",null,null,null,null,null,null,null,{"$f":"'C. Demanda'!E69","v":13.615295480880647},0,null,null,0,0,0]
[]
[]
[null,"TARIFA ENTRADA (em R$/MMBtu) - (TE)"]
[null,"em R$/MMBtu",2023,null,null,null,null,null,null,null,{"$f":"SUM(K76:K92)","v":1049486652.3132428},{"$f":"'Receita Anual Máxima'!E9","v":1145421.9235758758},{"$f":"K74/1000-L74","v":-95935.271262632916},{"$f":"SUM(N76:N92)","v":1023147670.7441785},26167411.405865882,171570.16319818082]
[null,"a preços de Dez/2019",{"$f":"+C52","v":"TCE"},{"$f":"+D52","v":"TCT"},{"$f":"+E52","v":"TCS"},{"$f":"+F52","v":"TCEmp"},{"$f":"+G52","v":"TM"},"TOTAL"]
[null,{"$f":"+B53","v":"EMED Corumbá"},{"$f":"+'Cálculo Encargos ECE, ECT e ECS'!F111","v":1.4879326375552029},{"$f":"+'Cálculo Encargos ECE, ECT e ECS'!F$135","v":2.2318988571542291},0,{"$f":"+'Calculo Encargos EM e ECEmp'!G$13","v":5.7163524274304996E-2},{"$f":"+'Calculo Encargos EM e ECEmp'!G$23","v":3.7480035898878195E-4},{"$f":"SUM(C76:G76)","v":3.7773698193427254},null,{"$f":"'C. Demanda'!F52","v":190614136.73232907},720020087.23276746,null,null,709052469.1537677,10896175.832124185,71442.24687561371]
[null,{"$f":"+B54","v":"EMED Gascar"},{"$f":"+'Cálculo Encargos ECE, ECT e ECS'!F112","v":5.2742918891428757E-2},{"$f":"+'Cálculo Encargos ECE, ECT e ECS'!F$136","v":7.9114378337143132E-2},0,{"$f":"+'Calculo Encargos EM e ECEmp'!G$13","v":5.7163524274304996E-2},{"$f":"+'Calculo Encargos EM e ECEmp'!G$23","v":3.7480035898878195E-4},{"$f":"SUM(C77:G77)","v":0.18939562186186568},null,{"$f":"'C. Demanda'!F53","v":54231892.200408302},10271282.948041994,null,null,7150870.7291371077,3100086.0862395316,20326.132665353955]
[null,{"$f":"+B55","v":"EMED Garuva"},{"$f":"+'Cálculo Encargos ECE, ECT e ECS'!F113","v":0.5622658691989878},{"$f":"+'Cálculo Encargos ECE, ECT e ECS'!F$135","v":2.2318988571542291},0,{"$f":"+'Calculo Encargos EM e ECEmp'!G$13","v":5.7163524274304996E-2},{"$f":"+'Calculo Encargos EM e ECEmp'!G$23","v":3.7480035898878195E-4},{"$f":"SUM(C78:G78)","v":2.8517030509865107},null,{"$f":"'C. Demanda'!F54","v":13.615295480880647},38.826779662910191,null,null,38.043378371553068,0.77829827372315596,5.1030176339724072E-3]
[]
[null,"TARIFA SAÍDA (em R$/MMBtu) - (TX)"]
[null,"em R$/MMBtu",2023]
[null,"a preços de Dez/2019",{"$f":"+C59","v":"TCE"},{"$f":"+D59","v":"TCT"},{"$f":"+E59","v":"TCS"},{"$f":"+F59","v":"TCEmp"},{"$f":"+G59","v":"TM"},{"$f":"+H75","v":"TOTAL"}]
[null,{"$f":"+B60","v":"MS1"},0,{"$f":"+'Cálculo Encargos ECE, ECT e ECS'!F$141","v":0.88192389265302817},{"$f":"+'Cálculo Encargos ECE, ECT e ECS'!F118","v":0.25582145426922703},{"$f":"+'Calculo Encargos EM e ECEmp'!G$13","v":5.7163524274304996E-2},{"$f":"+'Calculo Encargos EM e ECEmp'!G$23","v":3.7480035898878195E-4},{"$f":"SUM(C83:G83)","v":1.1952836715555488},null,{"$f":"'C. Demanda'!F59","v":13.615295480880647},16.274140371700692,null,null,15.490739080343564,0.77829827372315596,5.1030176339724072E-3]
[null,"SP1",0,{"$f":"+'Cálculo Encargos ECE, ECT e ECS'!F$141","v":0.88192389265302817},{"$f":"+'Cálculo Encargos ECE, ECT e ECS'!F119","v":0.39676704501884869},{"$f":"+'Calculo Encargos EM e ECEmp'!G$13","v":5.7163524274304996E-2},{"$f":"+'Calculo Encargos EM e ECEmp'!G$23","v":3.7480035898878195E-4},1.3362292623051706,null,{"$f":"'C. Demanda'!F60","v":12857604.287369641},17180707.091923732,null,null,16440902.082430631,734985.97479046241,4819.0347026418431]
[null,"SP2",0,{"$f":"+'Cálculo Encargos ECE, ECT e ECS'!F$141","v":0.88192389265302817},{"$f":"+'Cálculo Encargos ECE, ECT e ECS'!F120","v":0.48206071322173316},{"$f":"+'Calculo Encargos EM e ECEmp'!G$13","v":5.7163524274304996E-2},{"$f":"+'Calculo Encargos EM e ECEmp'!G$23","v":3.7480035898878195E-4},1.421522930508055,null,{"$f":"'C. Demanda'!F61","v":130442596.12192738},185427141.50232086,null,null,177921693.06064779,7456558.5098191584,48889.931853927083]
[null,"SP3",0,{"$f":"+'Cálculo Encargos ECE, ECT e ECS'!F$141","v":0.88192389265302817},{"$f":"+'Cálculo Encargos ECE, ECT e ECS'!F121","v":0.48233128347103404},{"$f":"+'Calculo Encargos EM e ECEmp'!G$13","v":5.7163524274304996E-2},{"$f":"+'Calculo Encargos EM e ECEmp'!G$23","v":3.7480035898878195E-4},1.4217935007573559,null,{"$f":"'C. Demanda'!F62","v":13.615295480880647},19.358138625607101,null,null,18.574737334249974,0.77829827372315596,5.1030176339724072E-3]
[null,"SP4",0,{"$f":"+'Cálculo Encargos ECE, ECT e ECS'!F$141","v":0.88192389265302817},{"$f":"+'Cálculo Encargos ECE, ECT e ECS'!F122","v":0.5155231673233015},{"$f":"+'Calculo Encargos EM e ECEmp'!G$13","v":5.7163524274304996E-2},{"$f":"+'Calculo Encargos EM e ECEmp'!G$23","v":3.7480035898878195E-4},1.4549853846096235,null,{"$f":"'C. Demanda'!F63","v":13086312.116058769},19040392.867305342,null,null,18287428.392518949,748059.72030745703,4904.7544789380736]
[null,"PR1",0,{"$f":"+'Cálculo Encargos ECE, ECT e ECS'!F$141","v":0.88192389265302817},{"$f":"+'Cálculo Encargos ECE, ECT e ECS'!F123","v":0.69683503047227235},{"$f":"+'Calculo Encargos EM e ECEmp'!G$13","v":5.7163524274304996E-2},{"$f":"+'Calculo Encargos EM e ECEmp'!G$23","v":3.7480035898878195E-4},1.6362972477585942,null,{"$f":"'C. Demanda'!F64","v":13.615295480880647},22.278670522785028,null,null,21.495269231427901,0.77829827372315596,5.1030176339724072E-3]
[null,"SC1",0,{"$f":"+'Cálculo Encargos ECE, ECT e ECS'!F$141","v":0.88192389265302817},{"$f":"+'Cálculo Encargos ECE, ECT e ECS'!F124","v":0.83357486925865565},{"$f":"+'Calculo Encargos EM e ECEmp'!G$13","v":5.7163524274304996E-2},{"$f":"+'Calculo Encargos EM e ECEmp'!G$23","v":3.7480035898878195E-4},1.7730370865449774,null,{"$f":"'C. Demanda'!F65","v":16896581.691772886},29958265.975350201,null,null,28986064.972776007,965868.1576904367,6332.844883759758]
[null,"SC2",0,{"$f":"+'Cálculo Encargos ECE, ECT e ECS'!F$141","v":0.88192389265302817},{"$f":"+'Cálculo Encargos ECE, ECT e ECS'!F125","v":0.83357486925865576},{"$f":"+'Calculo Encargos EM e ECEmp'!G$13","v":5.7163524274304996E-2},{"$f":"+'Calculo Encargos EM e ECEmp'!G$23","v":3.7480035898878195E-4},1.7730370865449776,null,{"$f":"'C. Demanda'!F66","v":11246234.067207415},19939990.08512431,null,null,19292900.618463323,642874.37409532687,4215.092565661208]
[null,"RS1",0,{"$f":"+'Cálculo Encargos ECE, ECT e ECS'!F$141","v":0.88192389265302817},{"$f":"+'Cálculo Encargos ECE, ECT e ECS'!F126","v":1.0259833586661185},{"$f":"+'Calculo Encargos EM e ECEmp'!G$13","v":5.7163524274304996E-2},{"$f":"+'Calculo Encargos EM e ECEmp'!G$23","v":3.7480035898878195E-4},1.9654455759524403,null,{"$f":"'C. Demanda'!F67","v":23527230.590961758},46241491.279418707,null,null,44887773.847953588,1344899.4169936136,8818.0144715043189]
[null,"EMED Gascar",0,{"$f":"+'Cálculo Encargos ECE, ECT e ECS'!F$142","v":0.13915153438793382},{"$f":"+'Cálculo Encargos ECE, ECT e ECS'!F127","v":9.2767689591955887E-2},{"$f":"+'Calculo Encargos EM e ECEmp'!G$13","v":5.7163524274304996E-2},{"$f":"+'Calculo Encargos EM e ECEmp'!G$23","v":3.7480035898878195E-4},0.28945754861318351,null,{"$f":"'C. Demanda'!F68","v":4861495.580277347},1407196.5932609069,null,null,1127474.2823595859,277900.22061261057,1822.0902887103266]
[null,"EMED XXX",null,null,null,null,null,null,null,null,0,{"$f":"I93-K93","v":0},null,0,0,0]
[]
[null,"TARIFAS DE TRANSPORTE"]
[null,"TARIFA ENTRADA (em R$/MMBtu) - (TE)"]
[null,"em R$/MMBtu",2024,null,null,null,null,null,null,null,{"$f":"SUM(K99:K115)","v":1113441039.619792},{"$f":"'Receita Anual Máxima'!F9-'Conta Reg'!G17","v":1114409.7481531003},{"$f":"K97/1000-L97","v":-968.70853330823593},{"$f":"SUM(N99:N115)","v":1085630247.8143871},27629634.380004454,181157.42540054183]
[null,"a preços de Dez/2019",{"$f":"+C75","v":"TCE"},{"$f":"+D75","v":"TCT"},{"$f":"+E75","v":"TCS"},{"$f":"+F75","v":"TCEmp"},{"$f":"+G75","v":"TM"},"TOTAL"]
[null,{"$f":"+B76","v":"EMED Corumbá"},{"$f":"+'Cálculo Encargos ECE, ECT e ECS'!G111","v":1.9616428160124335},{"$f":"+'Cálculo Encargos ECE, ECT e ECS'!G$135","v":1.9616427276849322},0,{"$f":"+'Calculo Encargos EM e ECEmp'!H$13","v":5.7619195721529265E-2},{"$f":"+'Calculo Encargos EM e ECEmp'!H$23","v":3.7778803030836448E-4},{"$f":"SUM(C99:G99)","v":3.9812825274492032},null,{"$f":"'C. Demanda'!G52","v":191136367.2439245},760967879.26835084,null,null,749882546.48291969,11013123.753729781,72209.031701378437]
[null,{"$f":"+B77","v":"EMED Gascar"},{"$f":"+'Cálculo Encargos ECE, ECT e ECS'!G112","v":7.1582906126751944E-2},{"$f":"+'Cálculo Encargos ECE, ECT e ECS'!G$136","v":7.158290612675193E-2},0,{"$f":"+'Calculo Encargos EM e ECEmp'!H$13","v":5.7619195721529265E-2},{"$f":"+'Calculo Encargos EM e ECEmp'!H$23","v":3.7778803030836448E-4},{"$f":"SUM(C100:G100)","v":0.20116279600534151},null,{"$f":"'C. Demanda'!G53","v":70258376.797493309},14133371.519380566,null,null,10058597.581825862,4048231.1637717173,26542.773782987893]
[null,{"$f":"+B78","v":"EMED Garuva"},{"$f":"+'Cálculo Encargos ECE, ECT e ECS'!G113","v":0.72505770953530335},{"$f":"+'Cálculo Encargos ECE, ECT e ECS'!G$135","v":1.9616427276849322},0,{"$f":"+'Calculo Encargos EM e ECEmp'!H$13","v":5.7619195721529265E-2},{"$f":"+'Calculo Encargos EM e ECEmp'!H$23","v":3.7778803030836448E-4},{"$f":"SUM(C101:G101)","v":2.7446974209720731},null,{"$f":"'C. Demanda'!G54","v":13.652597660280321},37.472249587740755,null,null,36.680440103067106,0.78665169669498436,5.1577879786698878E-3]
[]
[null,"TARIFA SAÍDA (em R$/MMBtu) - (TX)"]
[null,"em R$/MMBtu",2024]
[null,"a preços de Dez/2019",{"$f":"+C82","v":"TCE"},{"$f":"+D82","v":"TCT"},{"$f":"+E82","v":"TCS"},{"$f":"+F82","v":"TCEmp"},{"$f":"+G82","v":"TM"},{"$f":"+H98","v":"TOTAL"}]
[null,{"$f":"+B83","v":"MS1"},0,{"$f":"+'Cálculo Encargos ECE, ECT e ECS'!G$141","v":0.76124862305834295},{"$f":"+'Cálculo Encargos ECE, ECT e ECS'!G118","v":0.35358604304599334},{"$f":"+'Calculo Encargos EM e ECEmp'!H$13","v":5.7619195721529265E-2},{"$f":"+'Calculo Encargos EM e ECEmp'!H$23","v":3.7778803030836448E-4},{"$f":"SUM(C106:G106)","v":1.1728316498561739},null,{"$f":"'C. Demanda'!G59","v":13.652597660280321},16.01219863872911,null,null,15.220389154055454,0.78665169669498436,5.1577879786698878E-3]
[null,"SP1",0,{"$f":"+'Cálculo Encargos ECE, ECT e ECS'!G$141","v":0.76124862305834295},{"$f":"+'Cálculo Encargos ECE, ECT e ECS'!G119","v":0.51047159930644237},{"$f":"+'Calculo Encargos EM e ECEmp'!H$13","v":5.7619195721529265E-2},{"$f":"+'Calculo Encargos EM e ECEmp'!H$23","v":3.7778803030836448E-4},1.3297172061166231,null,{"$f":"'C. Demanda'!G60","v":13150687.212495437},17486695.058713034,null,null,16723994.866124438,757732.02036938665,4968.1722192100469]
[null,"SP2",0,{"$f":"+'Cálculo Encargos ECE, ECT e ECS'!G$141","v":0.76124862305834295},{"$f":"+'Cálculo Encargos ECE, ECT e ECS'!G120","v":0.60863419024451093},{"$f":"+'Calculo Encargos EM e ECEmp'!H$13","v":5.7619195721529265E-2},{"$f":"+'Calculo Encargos EM e ECEmp'!H$23","v":3.7778803030836448E-4},1.4278797970546917,null,{"$f":"'C. Demanda'!G61","v":134156899.03457937},191559925.76698196,null,null,183779230.27347651,7730012.622866869,50682.870638551867]
[null,"SP3",0,{"$f":"+'Cálculo Encargos ECE, ECT e ECS'!G$141","v":0.76124862305834295},{"$f":"+'Cálculo Encargos ECE, ECT e ECS'!G121","v":0.60834197224959874},{"$f":"+'Calculo Encargos EM e ECEmp'!H$13","v":5.7619195721529265E-2},{"$f":"+'Calculo Encargos EM e ECEmp'!H$23","v":3.7778803030836448E-4},1.4275875790597794,null,{"$f":"'C. Demanda'!G62","v":13.652597660280321},19.490278841716794,null,null,18.698469357043138,0.78665169669498436,5.1577879786698878E-3]
[null,"SP4",0,{"$f":"+'Cálculo Encargos ECE, ECT e ECS'!G$141","v":0.76124862305834295},{"$f":"+'Cálculo Encargos ECE, ECT e ECS'!G122","v":0.65284379150245642},{"$f":"+'Calculo Encargos EM e ECEmp'!H$13","v":5.7619195721529265E-2},{"$f":"+'Calculo Encargos EM e ECEmp'!H$23","v":3.7778803030836448E-4},1.4720893983126371,null,{"$f":"'C. Demanda'!G63","v":7631802.0920966994},11234694.949795755,null,null,10792073.447863182,439738.29845249624,2883.2034800764673]
[null,"PR1",0,{"$f":"+'Cálculo Encargos ECE, ECT e ECS'!G$141","v":0.76124862305834295},{"$f":"+'Cálculo Encargos ECE, ECT e ECS'!G123","v":0.8959365846967815},{"$f":"+'Calculo Encargos EM e ECEmp'!H$13","v":5.7619195721529265E-2},{"$f":"+'Calculo Encargos EM e ECEmp'!H$23","v":3.7778803030836448E-4},1.7151821915069621,null,{"$f":"'C. Demanda'!G64","v":13.652597660280321},23.416692374722423,null,null,22.62488289004877,0.78665169669498436,5.1577879786698878E-3]
[null,"SC1",0,{"$f":"+'Cálculo Encargos ECE, ECT e ECS'!G$141","v":0.76124862305834295},{"$f":"+'Cálculo Encargos ECE, ECT e ECS'!G124","v":1.0792697026818274},{"$f":"+'Calculo Encargos EM e ECEmp'!H$13","v":5.7619195721529265E-2},{"$f":"+'Calculo Encargos EM e ECEmp'!H$23","v":3.7778803030836448E-4},1.898515309492008,null,{"$f":"'C. Demanda'!G65","v":14594800.04305066},27708451.320706293,null,null,26861996.939748164,840940.64019711968,5513.740761008542]
[null,"SC2",0,{"$f":"+'Cálculo Encargos ECE, ECT e ECS'!G$141","v":0.76124862305834295},{"$f":"+'Cálculo Encargos ECE, ECT e ECS'!G125","v":1.0792697026818272},{"$f":"+'Calculo Encargos EM e ECEmp'!H$13","v":5.7619195721529265E-2},{"$f":"+'Calculo Encargos EM e ECEmp'!H$23","v":3.7778803030836448E-4},1.898515309492008,null,{"$f":"'C. Demanda'!G66","v":20028360.767631233},38024149.541377001,null,null,36862565.027360745,1154018.0390515421,7566.4749647087265]
[null,"RS1",0,{"$f":"+'Cálculo Encargos ECE, ECT e ECS'!G$141","v":0.76124862305834295},{"$f":"+'Cálculo Encargos ECE, ECT e ECS'!G126","v":1.3372402292689434},{"$f":"+'Calculo Encargos EM e ECEmp'!H$13","v":5.7619195721529265E-2},{"$f":"+'Calculo Encargos EM e ECEmp'!H$23","v":3.7778803030836448E-4},2.1564858360791237,null,{"$f":"'C. Demanda'!G67","v":23591688.756964393},50875142.653580822,null,null,49506895.864064753,1359334.1318889328,8912.6576271415652]
[null,"EMED Gascar",0,{"$f":"+'Cálculo Encargos ECE, ECT e ECS'!G$142","v":0.1168726269532963},{"$f":"+'Cálculo Encargos ECE, ECT e ECS'!G127","v":0.1168726269532963},{"$f":"+'Calculo Encargos EM e ECEmp'!H$13","v":5.7619195721529265E-2},{"$f":"+'Calculo Encargos EM e ECEmp'!H$23","v":3.7778803030836448E-4},{"$f":"SUM(C115:G115)","v":0.29174223765843021},null,{"$f":"'C. Demanda'!G68","v":4972311.041175724},1450633.1494863247,null,null,1162254.1068221733,286500.563069825,1878.4795943263098]
[null,"EMED XXX"]

{"sheet":"Teste Receita","index":24,"n_rows":115,"n_cols":7,"rows_kept":115,"cut":false,"hidden":true,"merged":[]}
[]
[]
[null,"Teste Receita"]
[]
[null,2020,"Volume","Receita Aferida","Soma E-S","Receita Permitida","Check"]
[null,"TOTAL",null,{"$f":"SUM(D7:D9)","v":643716.77289466537},{"$f":"+D6+D13","v":922653.77016475913},{"$f":"'RMP e Conta Reg'!B9","v":922653.17098139727},{"$f":"IF(AND((E6-F6)<1,(E6-F6)>-1),\"Check\",\"ERRO\")","v":"Check"}]
[null,{"$f":"+TARIFAS!H7","v":2.6666199848299263},{"$f":"+'C. Demanda'!C52","v":241398004.66674072},{"$f":"+TARIFAS!H7*C7/1000","v":643716.74354239856},null,null,{"$f":"F6-E6","v":-0.59918336186092347}]
[null,{"$f":"+TARIFAS!H8","v":2.1983983868616384},{"$f":"+'C. Demanda'!C53","v":13.351659550151588},{"$f":"+TARIFAS!H8*C8/1000","v":2.9352266816979038E-2}]
[]
[]
[]
[null,null,"Volume","Receita Aferida"]
[null,{"$f":"+B6","v":"TOTAL"},null,{"$f":"SUM(D14:D24)","v":278936.99727009377}]
[null,{"$f":"+TARIFAS!H14","v":1.1077867149538658},{"$f":"+'C. Demanda'!C59","v":6209189.2737979973},{"$f":"+TARIFAS!H14*C14/1000","v":6878.4573881474635}]
[null,{"$f":"+TARIFAS!H15","v":1.206898779783667},{"$f":"+'C. Demanda'!C60","v":11299509.477293288},{"$f":"+TARIFAS!H15*C15/1000","v":13637.364200299249}]
[null,{"$f":"+TARIFAS!H16","v":1.2624668361468108},{"$f":"+'C. Demanda'!C61","v":120660282.52067493},{"$f":"+TARIFAS!H16*C16/1000","v":152329.60512245682}]
[null,{"$f":"+TARIFAS!H17","v":1.2634690619737678},{"$f":"+'C. Demanda'!C62","v":13.351659550151588},{"$f":"+TARIFAS!H17*C17/1000","v":1.6869408767623127E-2}]
[null,{"$f":"+TARIFAS!H18","v":1.2764699114371942},{"$f":"+'C. Demanda'!C63","v":16936580.13936729},{"$f":"+TARIFAS!H18*C18/1000","v":21619.034950547106}]
[null,{"$f":"+TARIFAS!H19","v":1.3474875207145138},{"$f":"+'C. Demanda'!C64","v":13.351659550151588},{"$f":"+TARIFAS!H19*C19/1000","v":1.7991194624658025E-2}]
[null,{"$f":"+TARIFAS!H20","v":1.4010468205362883},{"$f":"+'C. Demanda'!C65","v":15140781.929871902},{"$f":"+TARIFAS!H20*C20/1000","v":21212.944383280315}]
[null,{"$f":"+TARIFAS!H21","v":1.4010468205362883},{"$f":"+'C. Demanda'!C66","v":9159238.4514039904},{"$f":"+TARIFAS!H21*C21/1000","v":12832.521910873276}]
[null,{"$f":"+TARIFAS!H22","v":1.4764108407224983},{"$f":"+'C. Demanda'!C67","v":13.351659550151588},{"$f":"+TARIFAS!H22*C22/1000","v":1.9712534901479881E-2}]
[null,{"$f":"+TARIFAS!H23","v":1.2589449911185684},{"$f":"+'C. Demanda'!C68","v":40054978.650454767},{"$f":"+TARIFAS!H23*C23/1000","v":50427.014741351224}]
[]
[]
[]
[null,null,"Teste Receita"]
[null,2021,"Volume","Receita Aferida","Soma E-S","Receita Permitida","Check"]
[null,"TOTAL",null,{"$f":"SUM(D30:D32)","v":439367.41656562686},{"$f":"+D29+D36","v":630234.71114789322},{"$f":"'RMP e Conta Reg'!C9","v":630232.57922157971},{"$f":"IF(AND((E29-F29)<1,(E29-F29)>-1),\"Check\",\"ERRO\")","v":"ERRO"}]
[null,{"$f":"+TARIFAS!H30","v":3.0331557876830058},{"$f":"+'C. Demanda'!D52","v":113179026.65121669},{"$f":"+TARIFAS!H30*C30/1000","v":343289.61973146704},null,null,{"$f":"F29-E29","v":-2.131926313508302}]
[null,{"$f":"+TARIFAS!H31","v":2.4052196985432057},{"$f":"+'C. Demanda'!D53","v":39945538.818076476},{"$f":"+TARIFAS!H31*C31/1000","v":96077.796834159817}]
[]
[]
[]
[null,null,"Volume","Receita Aferida"]
[null,{"$f":"+B29","v":"TOTAL"},null,{"$f":"SUM(D37:D47)","v":190867.29458226636}]
[null,{"$f":"+TARIFAS!H37","v":1.0580496877172376},{"$f":"+'C. Demanda'!D59","v":5725527.2305909609},{"$f":"+TARIFAS!H37*C37/1000","v":6057.8922983433067}]
[null,{"$f":"+TARIFAS!H38","v":1.1130184936720149},{"$f":"+'C. Demanda'!D60","v":9706765.9327925835},{"$f":"+TARIFAS!H38*C38/1000","v":10803.809996943632}]
[null,{"$f":"+TARIFAS!H39","v":1.1471921633161528},{"$f":"+'C. Demanda'!D61","v":114297501.73812282},{"$f":"+TARIFAS!H39*C39/1000","v":131121.19828058884}]
[null,{"$f":"+TARIFAS!H40","v":1.1471302959011969},{"$f":"+'C. Demanda'!D62","v":13.315179606025492},{"$f":"+TARIFAS!H40*C40/1000","v":1.5274245921437604E-2}]
[null,{"$f":"+TARIFAS!H41","v":1.1622066611582085},{"$f":"+'C. Demanda'!D63","v":9054322.1320973337},{"$f":"+TARIFAS!H41*C41/1000","v":10522.993494195713}]
[null,{"$f":"+TARIFAS!H42","v":1.2445618508442835},{"$f":"+'C. Demanda'!D64","v":13.315179606025492},{"$f":"+TARIFAS!H42*C42/1000","v":1.6571564574799143E-2}]
[null,{"$f":"+TARIFAS!H43","v":1.3066716082841776},{"$f":"+'C. Demanda'!D65","v":15632020.857473927},{"$f":"+TARIFAS!H43*C43/1000","v":20425.917834567263}]
[null,{"$f":"+TARIFAS!H44","v":1.3066716082841774},{"$f":"+'C. Demanda'!D66","v":9134213.209733488},{"$f":"+TARIFAS!H44*C44/1000","v":11935.417065173035}]
[null,{"$f":"+TARIFAS!H45","v":1.3940670955183982},{"$f":"+'C. Demanda'!D67","v":13.315179606025492},{"$f":"+TARIFAS!H45*C45/1000","v":1.8562253759677766E-2}]
[null,{"$f":"+TARIFAS!H46","v":1.1418839814043917},{"$f":"+'C. Demanda'!D68","v":13.315179606025492},{"$f":"+TARIFAS!H46*C46/1000","v":1.5204390301642948E-2}]
[]
[]
[]
[null,null,"Teste Receita"]
[null,2022,"Volume","Receita Aferida","Soma E-S","Receita Permitida","Check"]
[null,"TOTAL",null,{"$f":"SUM(D53:D55)","v":892179.89298757794},{"$f":"+D52+D59","v":1286583.699352667},{"$f":"'RMP e Conta Reg'!D9","v":1284877.1296833784},{"$f":"IF(AND((E52-F52)<1,(E52-F52)>-1),\"Check\",\"ERRO\")","v":"ERRO"}]
[null,{"$f":"+TARIFAS!H53","v":3.3692820549796996},{"$f":"+'C. Demanda'!E52","v":190614136.73232907},{"$f":"+TARIFAS!H53*C53/1000","v":642232.79031768313},null,null,{"$f":"F52-E52","v":-1706.5696692885831}]
[null,{"$f":"+TARIFAS!H54","v":2.4022998886588161},{"$f":"+'C. Demanda'!E53","v":79758400.926998839},{"$f":"+TARIFAS!H54*C54/1000","v":191603.59766653451}]
[null,{"$f":"+TARIFAS!H55","v":2.6782151498882958},{"$f":"+'C. Demanda'!E54","v":21784472.769409038},{"$f":"+TARIFAS!H55*C55/1000","v":58343.505003360326}]
[]
[]
[null,null,"Volume","Receita Aferida"]
[null,{"$f":"+B52","v":"TOTAL"},null,{"$f":"SUM(D60:D70)","v":394403.80636508908}]
[null,{"$f":"+TARIFAS!H60","v":1.3919772861639104},{"$f":"+'C. Demanda'!E59","v":11300695.249130938},{"$f":"+TARIFAS!H60*C60/1000","v":15730.311104650678}]
[null,{"$f":"+TARIFAS!H61","v":1.4598091663514279},{"$f":"+'C. Demanda'!E60","v":12730301.274623405},{"$f":"+TARIFAS!H61*C61/1000","v":18583.810491110511}]
[null,{"$f":"+TARIFAS!H62","v":1.5071331616801424},{"$f":"+'C. Demanda'!E61","v":161150637.31170335},{"$f":"+TARIFAS!H62*C62/1000","v":242875.46951835739}]
[null,{"$f":"+TARIFAS!H63","v":1.5040679363423626},{"$f":"+'C. Demanda'!E62","v":13.615295480880647},{"$f":"+TARIFAS!H63*C63/1000","v":2.0478329376619652E-2}]
[null,{"$f":"+TARIFAS!H64","v":1.5285457739342674},{"$f":"+'C. Demanda'!E63","v":13.615295480880647},{"$f":"+TARIFAS!H64*C64/1000","v":2.081160236816644E-2}]
[null,{"$f":"+TARIFAS!H65","v":1.6645356204742783},{"$f":"+'C. Demanda'!E64","v":13.615295480880647},{"$f":"+TARIFAS!H65*C65/1000","v":2.2663144311208305E-2}]
[null,{"$f":"+TARIFAS!H66","v":1.7792901696915888},{"$f":"+'C. Demanda'!E65","v":20055330.243337195},{"$f":"+TARIFAS!H66*C66/1000","v":35684.251951888291}]
[null,{"$f":"+TARIFAS!H67","v":1.7792901696915888},{"$f":"+'C. Demanda'!E66","v":11246234.067207415},{"$f":"+TARIFAS!H67*C67/1000","v":20010.313721832808}]
[null,{"$f":"+TARIFAS!H68","v":1.9484594817061314},{"$f":"+'C. Demanda'!E67","v":23527230.590961758},{"$f":"+TARIFAS!H68*C68/1000","v":45841.855523245984}]
[null,{"$f":"+TARIFAS!H69","v":1.4954275852003673},{"$f":"+'C. Demanda'!E68","v":10483777.520278098},{"$f":"+TARIFAS!H69*C69/1000","v":15677.730100927372}]
[]
[]
[]
[null,null,"Teste Receita"]
[null,2023,"Volume","Receita Aferida","Soma E-S","Receita Permitida","Check"]
[null,"TOTAL",null,{"$f":"SUM(D76:D78)","v":730291.40900758922},{"$f":"+D75+D82","v":1049486.6523132427},{"$f":"'RMP e Conta Reg'!E9","v":1050404.0967911964},{"$f":"IF(AND((E75-F75)<1,(E75-F75)>-1),\"Check\",\"ERRO\")","v":"ERRO"}]
[null,{"$f":"+TARIFAS!H76","v":3.7773698193427254},{"$f":"+'C. Demanda'!F52","v":190614136.73232907},{"$f":"+TARIFAS!H76*C76/1000","v":720020.08723276749},null,null,{"$f":"F75-E75","v":917.44447795371525}]
[null,{"$f":"+TARIFAS!H77","v":0.18939562186186568},{"$f":"+'C. Demanda'!F53","v":54231892.200408302},{"$f":"+TARIFAS!H77*C77/1000","v":10271.282948041993}]
[null,{"$f":"+TARIFAS!H78","v":2.8517030509865107},{"$f":"+'C. Demanda'!F54","v":13.615295480880647},{"$f":"+TARIFAS!H78*C78/1000","v":3.8826779662910191E-2}]
[]
[]
[null,null,"Volume","Receita Aferida"]
[null,{"$f":"+B75","v":"TOTAL"},null,{"$f":"SUM(D83:D93)","v":319195.24330565357}]
[null,{"$f":"+TARIFAS!H83","v":1.1952836715555488},{"$f":"+'C. Demanda'!F59","v":13.615295480880647},{"$f":"+TARIFAS!H83*C83/1000","v":1.6274140371700694E-2}]
[null,{"$f":"+TARIFAS!H84","v":1.3362292623051706},{"$f":"+'C. Demanda'!F60","v":12857604.287369641},{"$f":"+TARIFAS!H84*C84/1000","v":17180.707091923734}]
[null,{"$f":"+TARIFAS!H85","v":1.421522930508055},{"$f":"+'C. Demanda'!F61","v":130442596.12192738},{"$f":"+TARIFAS!H85*C85/1000","v":185427.14150232085}]
[null,{"$f":"+TARIFAS!H86","v":1.4217935007573559},{"$f":"+'C. Demanda'!F62","v":13.615295480880647},{"$f":"+TARIFAS!H86*C86/1000","v":1.9358138625607101E-2}]
[null,{"$f":"+TARIFAS!H87","v":1.4549853846096235},{"$f":"+'C. Demanda'!F63","v":13086312.116058769},{"$f":"+TARIFAS!H87*C87/1000","v":19040.392867305341}]
[null,{"$f":"+TARIFAS!H88","v":1.6362972477585942},{"$f":"+'C. Demanda'!F64","v":13.615295480880647},{"$f":"+TARIFAS!H88*C88/1000","v":2.2278670522785027E-2}]
[null,{"$f":"+TARIFAS!H89","v":1.7730370865449774},{"$f":"+'C. Demanda'!F65","v":16896581.691772886},{"$f":"+TARIFAS!H89*C89/1000","v":29958.265975350201}]
[null,{"$f":"+TARIFAS!H90","v":1.7730370865449776},{"$f":"+'C. Demanda'!F66","v":11246234.067207415},{"$f":"+TARIFAS!H90*C90/1000","v":19939.990085124311}]
[null,{"$f":"+TARIFAS!H91","v":1.9654455759524403},{"$f":"+'C. Demanda'!F67","v":23527230.590961758},{"$f":"+TARIFAS!H91*C91/1000","v":46241.491279418704}]
[null,{"$f":"+TARIFAS!H92","v":0.28945754861318351},{"$f":"+'C. Demanda'!F68","v":4861495.580277347},{"$f":"+TARIFAS!H92*C92/1000","v":1407.1965932609069}]
[]
[]
[]
[null,null,"Teste Receita"]
[null,2024,"Volume","Receita Aferida","Soma E-S","Receita Permitida","Check"]
[null,"TOTAL",null,{"$f":"SUM(D99:D101)","v":775101.28825998108},{"$f":"+D98+D105","v":1113441.0396197923},{"$f":"'RMP e Conta Reg'!F9","v":1114409.7481531003},{"$f":"IF(AND((E98-F98)<1,(E98-F98)>-1),\"Check\",\"ERRO\")","v":"ERRO"}]
[null,{"$f":"+TARIFAS!H99","v":3.9812825274492032},{"$f":"+'C. Demanda'!G52","v":191136367.2439245},{"$f":"+TARIFAS!H99*C99/1000","v":760967.87926835089},null,null,{"$f":"F98-E98","v":968.7085333080031}]
[null,{"$f":"+TARIFAS!H100","v":0.20116279600534151},{"$f":"+'C. Demanda'!G53","v":70258376.797493309},{"$f":"+TARIFAS!H100*C100/1000","v":14133.371519380566}]
[null,{"$f":"+TARIFAS!H101","v":2.7446974209720731},{"$f":"+'C. Demanda'!G54","v":13.652597660280321},{"$f":"+TARIFAS!H101*C101/1000","v":3.7472249587740758E-2}]
[]
[]
[null,null,"Volume","Receita Aferida"]
[null,{"$f":"+B98","v":"TOTAL"},null,{"$f":"SUM(D106:D116)","v":338339.75135981105}]
[null,{"$f":"+TARIFAS!H106","v":1.1728316498561739},{"$f":"+'C. Demanda'!G59","v":13.652597660280321},{"$f":"+TARIFAS!H106*C106/1000","v":1.601219863872911E-2}]
[null,{"$f":"+TARIFAS!H107","v":1.3297172061166231},{"$f":"+'C. Demanda'!G60","v":13150687.212495437},{"$f":"+TARIFAS!H107*C107/1000","v":17486.695058713034}]
[null,{"$f":"+TARIFAS!H108","v":1.4278797970546917},{"$f":"+'C. Demanda'!G61","v":134156899.03457937},{"$f":"+TARIFAS!H108*C108/1000","v":191559.92576698196}]
[null,{"$f":"+TARIFAS!H109","v":1.4275875790597794},{"$f":"+'C. Demanda'!G62","v":13.652597660280321},{"$f":"+TARIFAS!H109*C109/1000","v":1.9490278841716793E-2}]
[null,{"$f":"+TARIFAS!H110","v":1.4720893983126371},{"$f":"+'C. Demanda'!G63","v":7631802.0920966994},{"$f":"+TARIFAS!H110*C110/1000","v":11234.694949795754}]
[null,{"$f":"+TARIFAS!H111","v":1.7151821915069621},{"$f":"+'C. Demanda'!G64","v":13.652597660280321},{"$f":"+TARIFAS!H111*C111/1000","v":2.3416692374722423E-2}]
[null,{"$f":"+TARIFAS!H112","v":1.898515309492008},{"$f":"+'C. Demanda'!G65","v":14594800.04305066},{"$f":"+TARIFAS!H112*C112/1000","v":27708.451320706292}]
[null,{"$f":"+TARIFAS!H113","v":1.898515309492008},{"$f":"+'C. Demanda'!G66","v":20028360.767631233},{"$f":"+TARIFAS!H113*C113/1000","v":38024.149541377003}]
[null,{"$f":"+TARIFAS!H114","v":2.1564858360791237},{"$f":"+'C. Demanda'!G67","v":23591688.756964393},{"$f":"+TARIFAS!H114*C114/1000","v":50875.14265358082}]
[null,{"$f":"+TARIFAS!H115","v":0.29174223765843021},{"$f":"+'C. Demanda'!G68","v":4972311.041175724},{"$f":"+TARIFAS!H115*C115/1000","v":1450.6331494863248}]

{"sheet":"Receita Anual Máxima","index":25,"n_rows":32,"n_cols":7,"rows_kept":32,"cut":false,"hidden":false,"merged":[[1,1,1,2]]}
[]
[null,"RECEITA ANUAL MÁXIMA "]
[null,"*Preços de dez/2019"]
[]
[]
[null,"Receita relativa aos Novos Contratos para a capacidade que se fará disponível em função do término dos Contratos Legados:"]
[null,"Receita Anual Máxima 2020","Receita Anual Máxima 2021","Receita Anual Máxima 2022","Receita Anual Máxima 2023","Receita Anual Máxima 2024"]
[null," (R$ mil)"," (R$ mil)"," (R$ mil)"," (R$ mil)"," (R$ mil)","VPL RMP CICLO:"]
[null,{"$f":"+'Fluxo de Caixa Regulado'!C12","v":922653.17098139727},{"$f":"+'Fluxo de Caixa Regulado'!D12","v":630232.57922157971},{"$f":"+'Fluxo de Caixa Regulado'!E12","v":1284877.1296833784},{"$f":"+'Fluxo de Caixa Regulado'!F12","v":1145421.9235758758},{"$f":"+'Fluxo de Caixa Regulado'!G12","v":1209427.5749377797},{"$f":"NPV('Fluxo de Caixa Regulado'!C42,'Receita Anual Máxima'!B9:F9)","v":4167733.3090501251}]
[]
[]
["Capacidade Contratada de Transporte Total (MMBtu/ano)",{"$f":"'Fluxo de Caixa Regulado'!C49","v":234816.80611389258},{"$f":"'Fluxo de Caixa Regulado'!D49","v":156252.33045214368},{"$f":"'Fluxo de Caixa Regulado'!E49","v":279658.18551564304},{"$f":"'Fluxo de Caixa Regulado'!F49","v":235267.66245865019},{"$f":"'Fluxo de Caixa Regulado'!G49","v":248414.31145332605},"TARIFA MÉDIA CICLO:"]
["Tarifa postal equivalente (R$ / MMBtu)",{"$f":"B9/B12","v":3.9292467445191517},{"$f":"C9/C12","v":4.0334283488629614},4.5944556470402587,4.8685905729912671,4.8685905729912671,{"$f":"AVERAGE(B13:F13)","v":4.4588623772809814}]
[]
[]
["Receita Entrada (R$ mil)",{"$f":"B9*70%","v":645857.21968697803},{"$f":"C9*70%","v":441162.80545510579},899413.99077836482,801795.34650311305,846599.30245644576]
["Receita Saída (R$ mil)",{"$f":"B9*30%","v":276795.95129441918},{"$f":"C9*30%","v":189069.7737664739},385463.1389050135,343626.57707276271,362828.27248133387]
["Receita Total",{"$f":"SUM(B16:B17)","v":922653.17098139715},{"$f":"SUM(C16:C17)","v":630232.57922157971},1284877.1296833784,1145421.9235758758,1209427.5749377797]
[]
["Demanda Entrada (MMBtu/ano)",{"$f":"'C. Demanda'!C51/1000","v":241398.03137005979},{"$f":"'C. Demanda'!D51/1000","v":153124.5787844728},{"$f":"'C. Demanda'!E51/1000","v":292157.01042873698},{"$f":"'C. Demanda'!F51/1000","v":244846.04254803286},{"$f":"'C. Demanda'!G51/1000","v":261394.75769401548}]
["Demanda Saída (MMBtu/ano)",{"$f":"'C. Demanda'!C58/1000","v":219460.61384950226},{"$f":"'C. Demanda'!D58/1000","v":163550.41767670921},{"$f":"'C. Demanda'!E58/1000","v":250494.26071842402},{"$f":"'C. Demanda'!F58/1000","v":212918.10891675708},{"$f":"'C. Demanda'!G58/1000","v":218126.60355838411}]
[]
["Tarifa Postal Equivalente Entrada (R$ MMBtu)",{"$f":"B16/B20","v":2.6754866890231095},{"$f":"C16/C20","v":2.8810711445355546},3.078529553196363,3.274691876409725,3.2387768979187461]
["Tarifa Postal Equivalente Saída (R$ MMBtu)",{"$f":"B17/B21","v":1.26125570524575},{"$f":"C17/C21","v":1.1560335733303286},{"$f":"D17/D21","v":1.5388102617580748},{"$f":"E17/E21","v":1.6138907997116756},{"$f":"F17/F21","v":1.6633838631435833},"TARIFA MÉDIA CICLO:"]
["Tarifa Postal Equivalente (R$ MMBtu)",{"$f":"SUM(B23:B24)","v":3.9367423942688595},{"$f":"SUM(C23:C24)","v":4.0371047178658834},4.6173398149544376,4.8885826761214002,4.9021607610623299,{"$f":"AVERAGE(B25:F25)","v":4.4763860728545826}]
[]
["Diferença pela Metodologia de Cálculo das Tarifas Postais Equivalentes (R$/ MMBTU)",7.3304265699363214E-3,3.5953324821482724E-3,2.2884168159372109E-2,3.3535051707344721E-2,3.0601207237225481E-2]
[null,645857.21968697803,441162.80545510579,899413.99077836494,864697.04159380402,963830.28022905649]
[null,276795.95129441918,189069.7737664739,385463.1389050135,370584.44639734458,413070.12009816704]
[null,924413.27551537182,630807.02044588851,1291276.8745592933,1244297.8397227721,1385308.199197998]
[null,1760.1045339746634,574.44122430880088,6399.7448759148829,9016.3517316235229,8407.7988707744516]
[null,7.3444104995941881E-3,3.5986095377307853E-3,2.2998150138297278E-2,3.3779824922575696E-2,3.0788068099195924E-2]

{"sheet":"RMP e Conta Reg","index":26,"n_rows":32,"n_cols":8,"rows_kept":32,"cut":false,"hidden":false,"merged":[]}
[]
[null,"RECEITA ANUAL MÁXIMA COM APLICAÇÃO DA CONTA REGULATÓRIA"]
[null,"*Preços de dez/2019"]
[]
[]
[null,"Receita relativa aos Novos Contratos para a capacidade que se fará disponível em função do término dos Contratos Legados:"]
[null,"Receita Anual Máxima 2020","Receita Anual Máxima 2021","Receita Anual Máxima 2022","Receita Anual Máxima 2023","Receita Anual Máxima 2024"]
[null," (R$ mil)"," (R$ mil)"," (R$ mil)"," (R$ mil)"," (R$ mil)","VPL RMP CICLO:"]
[null,{"$f":"+'Fluxo de Caixa Regulado'!C12-'Conta Reg'!C17","v":922653.17098139727},{"$f":"+'Fluxo de Caixa Regulado'!D12-'Conta Reg'!D17","v":630232.57922157971},{"$f":"+'Fluxo de Caixa Regulado'!E12-'Conta Reg'!E17","v":1284877.1296833784},{"$f":"+'Fluxo de Caixa Regulado'!F12-'Conta Reg'!F17","v":1050404.0967911964},{"$f":"+'Fluxo de Caixa Regulado'!G12-'Conta Reg'!G17","v":1114409.7481531003},{"$f":"NPV('Fluxo de Caixa Regulado'!C42,B9:F9)","v":4028957.7044460489},{"$f":"G9-'Receita Anual Máxima'!G9","v":-138775.60460407613}]
[]
[]
["Capacidade Contratada de Transporte Total (MMBtu/ano)",{"$f":"'Fluxo de Caixa Regulado'!C49","v":234816.80611389258},{"$f":"'Fluxo de Caixa Regulado'!D49","v":156252.33045214368},{"$f":"'Fluxo de Caixa Regulado'!E49","v":279658.18551564304},{"$f":"'Fluxo de Caixa Regulado'!F49","v":235267.66245865019},{"$f":"'Fluxo de Caixa Regulado'!G49","v":248414.31145332605},"TARIFA MÉDIA CICLO:"]
["Tarifa postal equivalente (R$ / MMBtu)",{"$f":"B9/B12","v":3.9292467445191517},{"$f":"C9/C12","v":4.0334283488629614},4.5944556470402587,4.4647194000824983,4.4860931789048069,{"$f":"AVERAGE(B13:F13)","v":4.3015886638819349}]
[]
[]
["Receita Entrada (R$ mil)",{"$f":"B9*70%","v":645857.21968697803},{"$f":"C9*70%","v":441162.80545510579},899413.99077836482,735282.86775383737,780086.82370717009]
["Receita Saída (R$ mil)",{"$f":"B9*30%","v":276795.95129441918},{"$f":"C9*30%","v":189069.7737664739},385463.1389050135,315121.22903735889,334322.92444593005]
["Receita Total",{"$f":"SUM(B16:B17)","v":922653.17098139715},{"$f":"SUM(C16:C17)","v":630232.57922157971},1284877.1296833784,1050404.0967911961,1114409.7481531003]
[]
["Demanda Entrada (MMBtu/ano)",{"$f":"'C. Demanda'!C51/1000","v":241398.03137005979},{"$f":"'C. Demanda'!D51/1000","v":153124.5787844728},{"$f":"'C. Demanda'!E51/1000","v":292157.01042873698},{"$f":"'C. Demanda'!F51/1000","v":244846.04254803286},{"$f":"'C. Demanda'!G51/1000","v":261394.75769401548}]
["Demanda Saída (MMBtu/ano)",{"$f":"'C. Demanda'!C58/1000","v":219460.61384950226},{"$f":"'C. Demanda'!D58/1000","v":163550.41767670921},{"$f":"'C. Demanda'!E58/1000","v":250494.26071842402},{"$f":"'C. Demanda'!F58/1000","v":212918.10891675708},{"$f":"'C. Demanda'!G58/1000","v":218126.60355838411}]
[]
["Tarifa Postal Equivalente Entrada (R$ MMBtu)",{"$f":"B16/B20","v":2.6754866890231095},{"$f":"C16/C20","v":2.8810711445355546},3.078529553196363,3.0030416669266473,2.9843246688991645]
["Tarifa Postal Equivalente Saída (R$ MMBtu)",{"$f":"B17/B21","v":1.26125570524575},{"$f":"C17/C21","v":1.1560335733303286},{"$f":"D17/D21","v":1.5388102617580748},{"$f":"E17/E21","v":1.4800114026964206},{"$f":"F17/F21","v":1.5327012798622},"TARIFA MÉDIA CICLO:"]
["Tarifa Postal Equivalente (R$ MMBtu)",{"$f":"SUM(B23:B24)","v":3.9367423942688595},{"$f":"SUM(C23:C24)","v":4.0371047178658834},4.6173398149544376,4.4830530696230682,4.5170259487613649,{"$f":"AVERAGE(B25:F25)","v":4.3182531890947233}]
[]
["Diferença pela Metodologia de Cálculo das Tarifas Postais Equivalentes (R$/ MMBTU)",7.3304265699363214E-3,3.5953324821482724E-3,2.2884168159372109E-2,3.3535051707344721E-2,3.0601207237225481E-2]
[null,645857.21968697803,441162.80545510579,899413.99077836494,864697.04159380402,963830.28022905649]
[null,276795.95129441918,189069.7737664739,385463.1389050135,370584.44639734458,413070.12009816704]
[null,924413.27551537182,630807.02044588851,1291276.8745592933,1244297.8397227721,1385308.199197998]
[null,1760.1045339746634,574.44122430880088,6399.7448759148829,9016.3517316235229,8407.7988707744516]
[null,7.3444104995941881E-3,3.5986095377307853E-3,2.2998150138297278E-2,3.3779824922575696E-2,3.0788068099195924E-2]

{"sheet":"Inflação 2020 ","index":27,"n_rows":13,"n_cols":3,"rows_kept":13,"cut":false,"hidden":false,"merged":[[1,1,2,2]]}
[]
[null,"Índice utilizado para reajuste anual da RMP e Tarifas (de preços de dez/2019 para preços dez/2020)"]
[]
[null,"Índice","Peso"]
[null,"IPCA",0.45]
[null,"IGP-M",{"$f":"1-C5","v":0.55000000000000004}]
[null,"Ponderadores de acordo com a NT13"]
[]
[null,"Relatório FOCUS de 31 de dezembro de 2020"]
[null,"Expectativa de Mercado para 2020"]
[null,"IPCA",4.3799999999999999E-2]
[null,"IGP-M",0.23139999999999999]
[null,"Mix",{"$f":"C5*C11+C6*C12","v":0.14698}]

{"sheet":"RMP Base 2020","index":28,"n_rows":9,"n_cols":6,"rows_kept":9,"cut":false,"hidden":false,"merged":[[1,1,1,2]]}
[]
[null,"RECEITA ANUAL MÁXIMA "]
[null,"*Preços de dez/2020"]
[]
[]
[null,"Receita relativa aos Novos Contratos para a capacidade que se fará disponível em função do término dos Contratos Legados:"]
[null,"Receita Anual Máxima 2020","Receita Anual Máxima 2021","Receita Anual Máxima 2022","Receita Anual Máxima 2023","Receita Anual Máxima 2024"]
[null," (R$ mil)"," (R$ mil)"," (R$ mil)"," (R$ mil)"," (R$ mil)"]
[null,"N/A",{"$f":"'Receita Anual Máxima'!C9*(1+'Inflação 2020 '!$C$13)","v":722864.16371556756},{"$f":"'Receita Anual Máxima'!D9*(1+'Inflação 2020 '!$C$13)","v":1473728.3702042415},{"$f":"'Receita Anual Máxima'!E9*(1+'Inflação 2020 '!$C$13)","v":1313776.0379030581},{"$f":"'Receita Anual Máxima'!F9*(1+'Inflação 2020 '!$C$13)","v":1387189.2399021348}]

{"sheet":"TARIFAS Base 2020","index":29,"n_rows":144,"n_cols":17,"rows_kept":144,"cut":false,"hidden":false,"merged":[[1,1,1,7],[1,10,1,16],[6,11,6,16],[78,11,78,16],[85,11,85,16],[101,11,101,16],[13,11,13,16],[29,11,29,16],[36,11,36,16],[52,11,52,16],[59,11,59,16],[101,2,101,7],[6,2,6,7],[13,2,13,7],[29,2,29,7],[36,2,36,7],[52,2,52,7],[59,2,59,7],[78,2,78,7],[85,2,85,7],[124,2,124,7],[124,11,124,16],[131,2,131,7],[131,11,131,16],[108,2,108,7],[108,11,108,16]]}
[]
[null,"TARIFAS DE TRANSPORTE",null,null,null,null,null,null,null,null,"TARIFAS DE TRANSPORTE"]
[null,"*Preços de dez/2020",null,null,null,null,null,null,null,null,"*Preços de dez/2020","** Tarifas arredondadas até a quarta casa decimal"]
[]
[]
[null,"TARIFA ENTRADA (em R$/MMBtu) - (TE)",null,null,null,null,null,null,null,null,"TARIFA ENTRADA (em R$/MMBtu) - (TE)"]
[null,"em R$/MMBtu",2021,null,null,null,null,null,null,null,"em R$/MMBtu",2021]
[null,null,"TCE","TCT","TCS","TCEmp","TM","TOTAL",null,null,"a preços de Dez/2020","TCE","TCT","TCS","TCEmp","TM","TOTAL"]
[null,{"$f":"TARIFAS!B7","v":"EMED Corumbá"},{"$f":"TARIFAS!C30*(1+'Inflação 2020 '!$C$13)","v":0.84008945537863278},{"$f":"TARIFAS!D30*(1+'Inflação 2020 '!$C$13)","v":2.6088132321415949},{"$f":"TARIFAS!E30*(1+'Inflação 2020 '!$C$13)","v":0},{"$f":"TARIFAS!F30*(1+'Inflação 2020 '!$C$13)","v":2.9649918962487028E-2},{"$f":"TARIFAS!G30*(1+'Inflação 2020 '!$C$13)","v":4.1641887393953136E-4},{"$f":"SUM(C9:G9)","v":3.4789690253566543},null,null,{"$f":"B9","v":"EMED Corumbá"},{"$f":"ROUND(C9,4)","v":0.84009999999999996},2.6088,0,2.9600000000000001E-2,4.0000000000000002E-4,{"$f":"SUM(L9:P9)","v":3.4788999999999999}]
[null,{"$f":"TARIFAS!B8","v":"EMED Gascar"},{"$f":"TARIFAS!C31*(1+'Inflação 2020 '!$C$13)","v":0.11985931985706523},{"$f":"TARIFAS!D31*(1+'Inflação 2020 '!$C$13)","v":2.6088132321415949},{"$f":"TARIFAS!E31*(1+'Inflação 2020 '!$C$13)","v":0},{"$f":"TARIFAS!F31*(1+'Inflação 2020 '!$C$13)","v":2.9649918962487028E-2},{"$f":"TARIFAS!G31*(1+'Inflação 2020 '!$C$13)","v":4.1641887393953136E-4},{"$f":"SUM(C10:G10)","v":2.7587388898350866},null,null,{"$f":"B10","v":"EMED Gascar"},0.11990000000000001,2.6088,0,2.9600000000000001E-2,4.0000000000000002E-4,{"$f":"SUM(L10:P10)","v":2.7586999999999997}]
[null,{"$f":"TARIFAS!B9","v":"EMED Garuva"},{"$f":"TARIFAS!C32*(1+'Inflação 2020 '!$C$13)","v":0.36432081686872236},{"$f":"TARIFAS!D32*(1+'Inflação 2020 '!$C$13)","v":2.6088132321415949},{"$f":"TARIFAS!E32*(1+'Inflação 2020 '!$C$13)","v":0},{"$f":"TARIFAS!F32*(1+'Inflação 2020 '!$C$13)","v":2.9649918962487028E-2},{"$f":"TARIFAS!G32*(1+'Inflação 2020 '!$C$13)","v":4.1641887393953136E-4},{"$f":"SUM(C11:G11)","v":3.0032003868467436},null,null,"EMED Garuva",0.36430000000000001,2.6088,0,2.9600000000000001E-2,4.0000000000000002E-4,{"$f":"ROUND(H11,4)","v":3.0032000000000001}]
[]
[null,"TARIFA SAÍDA (em R$/MMBtu) - (TX)",null,null,null,null,null,null,null,null,"TARIFA SAÍDA (em R$/MMBtu) - (TX)"]
[null,"em R$/MMBtu",2021,null,null,null,null,null,null,null,"em R$/MMBtu",2021]
[null,null,"TCE","TCT","TCS","TCEmp","TM","TOTAL",null,null,"a preços de Dez/2020","TCE","TCT","TCS","TCEmp","TM","TOTAL"]
[null,{"$f":"TARIFAS!B14","v":"MS1"},{"$f":"TARIFAS!C37*(1+'Inflação 2020 '!$C$13)","v":0},{"$f":"TARIFAS!D37*(1+'Inflação 2020 '!$C$13)","v":1.0467897290992685},{"$f":"TARIFAS!E37*(1+'Inflação 2020 '!$C$13)","v":0.13670576388222236},{"$f":"TARIFAS!F37*(1+'Inflação 2020 '!$C$13)","v":2.9649918962487028E-2},{"$f":"TARIFAS!G37*(1+'Inflação 2020 '!$C$13)","v":4.1641887393953136E-4},{"$f":"SUM(C16:G16)","v":1.2135618308179175},null,null,{"$f":"B16","v":"MS1"},{"$f":"ROUND(C16,4)","v":0},{"$f":"ROUND(D16,4)","v":1.0468},{"$f":"ROUND(E16,4)","v":0.13669999999999999},{"$f":"ROUND(F16,4)","v":2.9600000000000001E-2},{"$f":"ROUND(G16,4)","v":4.0000000000000002E-4},{"$f":"SUM(L16:P16)","v":1.2135}]
[null,{"$f":"TARIFAS!B15","v":"SP1"},{"$f":"TARIFAS!C38*(1+'Inflação 2020 '!$C$13)","v":0},{"$f":"TARIFAS!D38*(1+'Inflação 2020 '!$C$13)","v":1.0467897290992685},{"$f":"TARIFAS!E38*(1+'Inflação 2020 '!$C$13)","v":0.19975388493623264},{"$f":"TARIFAS!F38*(1+'Inflação 2020 '!$C$13)","v":2.9649918962487028E-2},{"$f":"TARIFAS!G38*(1+'Inflação 2020 '!$C$13)","v":4.1641887393953136E-4},1.2766099518719276,null,null,{"$f":"B17","v":"SP1"},0,1.0468,0.19980000000000001,2.9600000000000001E-2,4.0000000000000002E-4,{"$f":"SUM(L17:P17)","v":1.2766}]
[null,{"$f":"TARIFAS!B16","v":"SP2"},{"$f":"TARIFAS!C39*(1+'Inflação 2020 '!$C$13)","v":0},{"$f":"TARIFAS!D39*(1+'Inflação 2020 '!$C$13)","v":1.0467897290992685},{"$f":"TARIFAS!E39*(1+'Inflação 2020 '!$C$13)","v":0.23895040054466599},{"$f":"TARIFAS!F39*(1+'Inflação 2020 '!$C$13)","v":2.9649918962487028E-2},{"$f":"TARIFAS!G39*(1+'Inflação 2020 '!$C$13)","v":4.1641887393953136E-4},1.3158064674803609,null,null,"SP2",0,1.0468,0.23899999999999999,2.9600000000000001E-2,4.0000000000000002E-4,1.3158000000000001]
[null,{"$f":"TARIFAS!B17","v":"SP3"},{"$f":"TARIFAS!C40*(1+'Inflação 2020 '!$C$13)","v":0},{"$f":"TARIFAS!D40*(1+'Inflação 2020 '!$C$13)","v":1.0467897290992685},{"$f":"TARIFAS!E40*(1+'Inflação 2020 '!$C$13)","v":0.23887943985705984},{"$f":"TARIFAS!F40*(1+'Inflação 2020 '!$C$13)","v":2.9649918962487028E-2},{"$f":"TARIFAS!G40*(1+'Inflação 2020 '!$C$13)","v":4.1641887393953136E-4},1.315735506792755,null,null,"SP3",0,1.0468,0.2389,2.9600000000000001E-2,4.0000000000000002E-4,1.3156999999999999]
[null,{"$f":"TARIFAS!B18","v":"SP4"},{"$f":"TARIFAS!C41*(1+'Inflação 2020 '!$C$13)","v":0},{"$f":"TARIFAS!D41*(1+'Inflação 2020 '!$C$13)","v":1.0467897290992685},{"$f":"TARIFAS!E41*(1+'Inflação 2020 '!$C$13)","v":0.25617172927954712},{"$f":"TARIFAS!F41*(1+'Inflação 2020 '!$C$13)","v":2.9649918962487028E-2},{"$f":"TARIFAS!G41*(1+'Inflação 2020 '!$C$13)","v":4.1641887393953136E-4},1.3330277962152421,null,null,"SP4",0,1.0468,0.25619999999999998,2.9600000000000001E-2,4.0000000000000002E-4,1.333]
[null,{"$f":"TARIFAS!B19","v":"PR1"},{"$f":"TARIFAS!C42*(1+'Inflação 2020 '!$C$13)","v":0},{"$f":"TARIFAS!D42*(1+'Inflação 2020 '!$C$13)","v":1.0467897290992685},{"$f":"TARIFAS!E42*(1+'Inflação 2020 '!$C$13)","v":0.35063148474568134},{"$f":"TARIFAS!F42*(1+'Inflação 2020 '!$C$13)","v":2.9649918962487028E-2},{"$f":"TARIFAS!G42*(1+'Inflação 2020 '!$C$13)","v":4.1641887393953136E-4},1.4274875516813763,null,null,"PR1",0,1.0468,0.35060000000000002,2.9600000000000001E-2,4.0000000000000002E-4,1.4274]
[null,{"$f":"TARIFAS!B20","v":"SC1"},{"$f":"TARIFAS!C43*(1+'Inflação 2020 '!$C$13)","v":0},{"$f":"TARIFAS!D43*(1+'Inflação 2020 '!$C$13)","v":1.0467897290992685},{"$f":"TARIFAS!E43*(1+'Inflação 2020 '!$C$13)","v":0.42187013433409098},{"$f":"TARIFAS!F43*(1+'Inflação 2020 '!$C$13)","v":2.9649918962487028E-2},{"$f":"TARIFAS!G43*(1+'Inflação 2020 '!$C$13)","v":4.1641887393953136E-4},1.498726201269786,null,null,"SC1",0,1.0468,0.4219,2.9600000000000001E-2,4.0000000000000002E-4,1.4986999999999999]
[null,{"$f":"TARIFAS!B21","v":"SC2"},{"$f":"TARIFAS!C44*(1+'Inflação 2020 '!$C$13)","v":0},{"$f":"TARIFAS!D44*(1+'Inflação 2020 '!$C$13)","v":1.0467897290992685},{"$f":"TARIFAS!E44*(1+'Inflação 2020 '!$C$13)","v":0.42187013433409093},{"$f":"TARIFAS!F44*(1+'Inflação 2020 '!$C$13)","v":2.9649918962487028E-2},{"$f":"TARIFAS!G44*(1+'Inflação 2020 '!$C$13)","v":4.1641887393953136E-4},1.498726201269786,null,null,"SC2",0,1.0468,0.4219,2.9600000000000001E-2,4.0000000000000002E-4,1.4986999999999999]
[null,{"$f":"TARIFAS!B22","v":"RS1"},{"$f":"TARIFAS!C45*(1+'Inflação 2020 '!$C$13)","v":0},{"$f":"TARIFAS!D45*(1+'Inflação 2020 '!$C$13)","v":1.0467897290992685},{"$f":"TARIFAS!E45*(1+'Inflação 2020 '!$C$13)","v":0.52211101028199747},{"$f":"TARIFAS!F45*(1+'Inflação 2020 '!$C$13)","v":2.9649918962487028E-2},{"$f":"TARIFAS!G45*(1+'Inflação 2020 '!$C$13)","v":4.1641887393953136E-4},1.5989670772176925,null,null,"RS1",0,1.0468,0.52210000000000001,2.9600000000000001E-2,4.0000000000000002E-4,1.5989]
[null,{"$f":"TARIFAS!B23","v":"EMED Gascar"},{"$f":"TARIFAS!C46*(1+'Inflação 2020 '!$C$13)","v":0},{"$f":"TARIFAS!D46*(1+'Inflação 2020 '!$C$13)","v":1.0467897290992685},{"$f":"TARIFAS!E46*(1+'Inflação 2020 '!$C$13)","v":0.2328620220555144},{"$f":"TARIFAS!F46*(1+'Inflação 2020 '!$C$13)","v":2.9649918962487028E-2},{"$f":"TARIFAS!G46*(1+'Inflação 2020 '!$C$13)","v":4.1641887393953136E-4},1.3097180889912095,null,null,"EMED Gascar",0,1.0468,0.2329,2.9600000000000001E-2,4.0000000000000002E-4,1.3097000000000001]
[null,{"$f":"TARIFAS!B24","v":"EMED XXX"},null,null,null,null,null,null,null,null,"EMED XXX",0,0,0,0,0,{"$f":"ROUND(H26,4)","v":0}]
[]
[]
[null,"TARIFA ENTRADA (em R$/MMBtu) - (TE)",null,null,null,null,null,null,null,null,"TARIFA ENTRADA (em R$/MMBtu) - (TE)"]
[null,"em R$/MMBtu",2022,null,null,null,null,null,null,null,"em R$/MMBtu",2022]
[null,null,{"$f":"+C8","v":"TCE"},{"$f":"+D8","v":"TCT"},{"$f":"+E8","v":"TCS"},{"$f":"+F8","v":"TCEmp"},{"$f":"+G8","v":"TM"},"TOTAL",null,null,"a preços de Dez/2020",{"$f":"L8","v":"TCE"},{"$f":"M8","v":"TCT"},"TCS","TCEmp","TM","TOTAL"]
[null,{"$f":"+B9","v":"EMED Corumbá"},{"$f":"TARIFAS!C53*(1+'Inflação 2020 '!$C$13)","v":1.3796003585264907},{"$f":"TARIFAS!D53*(1+'Inflação 2020 '!$C$13)","v":2.3746629430643424},{"$f":"TARIFAS!E53*(1+'Inflação 2020 '!$C$13)","v":0},{"$f":"TARIFAS!F53*(1+'Inflação 2020 '!$C$13)","v":0.10976232163036546},{"$f":"TARIFAS!G53*(1+'Inflação 2020 '!$C$13)","v":4.7350819941795506E-4},{"$f":"SUM(C32:G32)","v":3.8644991314206165},null,null,"EMED Corumbá",{"$f":"ROUND(C32,4)","v":1.3795999999999999},{"$f":"ROUND(D32,4)","v":2.3746999999999998},0,0.10979999999999999,5.0000000000000001E-4,{"$f":"SUM(L32:P32)","v":3.8645999999999998}]
[null,{"$f":"+B10","v":"EMED Gascar"},{"$f":"TARIFAS!C54*(1+'Inflação 2020 '!$C$13)","v":0.27049115339976321},{"$f":"TARIFAS!D54*(1+'Inflação 2020 '!$C$13)","v":2.3746629430643424},{"$f":"TARIFAS!E54*(1+'Inflação 2020 '!$C$13)","v":0},{"$f":"TARIFAS!F54*(1+'Inflação 2020 '!$C$13)","v":0.10976232163036546},{"$f":"TARIFAS!G54*(1+'Inflação 2020 '!$C$13)","v":4.7350819941795506E-4},{"$f":"SUM(C33:G33)","v":2.7553899262938892},null,null,"EMED Gascar",0.27050000000000002,2.3746999999999998,0,0.10979999999999999,5.0000000000000001E-4,{"$f":"SUM(L33:P33)","v":2.7555000000000001}]
[null,{"$f":"+B11","v":"EMED Garuva"},{"$f":"TARIFAS!C55*(1+'Inflação 2020 '!$C$13)","v":0.58696043972475187},{"$f":"TARIFAS!D55*(1+'Inflação 2020 '!$C$13)","v":2.3746629430643424},{"$f":"TARIFAS!E55*(1+'Inflação 2020 '!$C$13)","v":0},{"$f":"TARIFAS!F55*(1+'Inflação 2020 '!$C$13)","v":0.10976232163036546},{"$f":"TARIFAS!G55*(1+'Inflação 2020 '!$C$13)","v":4.7350819941795506E-4},{"$f":"SUM(C34:G34)","v":3.0718592126188775},null,null,{"$f":"B34","v":"EMED Garuva"},0.58699999999999997,2.3746999999999998,0,0.10979999999999999,5.0000000000000001E-4,{"$f":"SUM(L34:P34)","v":3.0719999999999996}]
[]
[null,"TARIFA SAÍDA (em R$/MMBtu) - (TX)",null,null,null,null,null,null,null,null,"TARIFA SAÍDA (em R$/MMBtu) - (TX)"]
[null,"em R$/MMBtu",2022,null,null,null,null,null,null,null,"em R$/MMBtu",2022]
[null,null,{"$f":"+C15","v":"TCE"},{"$f":"+D15","v":"TCT"},{"$f":"+E15","v":"TCS"},{"$f":"+F15","v":"TCEmp"},{"$f":"+G15","v":"TM"},{"$f":"+H31","v":"TOTAL"},null,null,"a preços de Dez/2020",{"$f":"L15","v":"TCE"},{"$f":"M15","v":"TCT"},"TCS","TCEmp","TM","TOTAL"]
[null,{"$f":"+B16","v":"MS1"},{"$f":"TARIFAS!C60*(1+'Inflação 2020 '!$C$13)","v":0},{"$f":"TARIFAS!D60*(1+'Inflação 2020 '!$C$13)","v":1.1869808757268605},{"$f":"TARIFAS!E60*(1+'Inflação 2020 '!$C$13)","v":0.29935340212763806},{"$f":"TARIFAS!F60*(1+'Inflação 2020 '!$C$13)","v":0.10976232163036546},{"$f":"TARIFAS!G60*(1+'Inflação 2020 '!$C$13)","v":4.7350819941795506E-4},{"$f":"SUM(C39:G39)","v":1.596570107684282},null,null,{"$f":"B39","v":"MS1"},{"$f":"ROUND(C39,4)","v":0},{"$f":"ROUND(D39,4)","v":1.1870000000000001},{"$f":"ROUND(E39,4)","v":0.2994},{"$f":"ROUND(F39,4)","v":0.10979999999999999},{"$f":"ROUND(G39,4)","v":5.0000000000000001E-4},{"$f":"SUM(L39:P39)","v":1.5967}]
[null,"SP1",{"$f":"TARIFAS!C61*(1+'Inflação 2020 '!$C$13)","v":0},{"$f":"TARIFAS!D61*(1+'Inflação 2020 '!$C$13)","v":1.1869808757268605},{"$f":"TARIFAS!E61*(1+'Inflação 2020 '!$C$13)","v":0.3771552120651171},{"$f":"TARIFAS!F61*(1+'Inflação 2020 '!$C$13)","v":0.10976232163036546},{"$f":"TARIFAS!G61*(1+'Inflação 2020 '!$C$13)","v":4.7350819941795506E-4},1.6743719176217611,null,null,{"$f":"B40","v":"SP1"},0,1.1870000000000001,0.37719999999999998,0.10979999999999999,5.0000000000000001E-4,{"$f":"SUM(L40:P40)","v":1.6744999999999999}]
[null,"SP2",{"$f":"TARIFAS!C62*(1+'Inflação 2020 '!$C$13)","v":0},{"$f":"TARIFAS!D62*(1+'Inflação 2020 '!$C$13)","v":1.1869808757268605},{"$f":"TARIFAS!E62*(1+'Inflação 2020 '!$C$13)","v":0.43143488822724596},{"$f":"TARIFAS!F62*(1+'Inflação 2020 '!$C$13)","v":0.10976232163036546},{"$f":"TARIFAS!G62*(1+'Inflação 2020 '!$C$13)","v":4.7350819941795506E-4},1.7286515937838898,null,null,"SP2",0,1.1870000000000001,0.43140000000000001,0.10979999999999999,5.0000000000000001E-4,1.7286999999999999]
[null,"SP3",{"$f":"TARIFAS!C63*(1+'Inflação 2020 '!$C$13)","v":0},{"$f":"TARIFAS!D63*(1+'Inflação 2020 '!$C$13)","v":1.1869808757268605},{"$f":"TARIFAS!E63*(1+'Inflação 2020 '!$C$13)","v":0.42791913606931936},{"$f":"TARIFAS!F63*(1+'Inflação 2020 '!$C$13)","v":0.10976232163036546},{"$f":"TARIFAS!G63*(1+'Inflação 2020 '!$C$13)","v":4.7350819941795506E-4},1.7251358416259632,null,null,"SP3",0,1.1870000000000001,0.4279,0.10979999999999999,5.0000000000000001E-4,1.7251999999999998]
[null,"SP4",{"$f":"TARIFAS!C64*(1+'Inflação 2020 '!$C$13)","v":0},{"$f":"TARIFAS!D64*(1+'Inflação 2020 '!$C$13)","v":1.1869808757268605},{"$f":"TARIFAS!E64*(1+'Inflação 2020 '!$C$13)","v":0.45599472623048221},{"$f":"TARIFAS!F64*(1+'Inflação 2020 '!$C$13)","v":0.10976232163036546},{"$f":"TARIFAS!G64*(1+'Inflação 2020 '!$C$13)","v":4.7350819941795506E-4},1.7532114317871261,null,null,"SP4",0,1.1870000000000001,0.45600000000000002,0.10979999999999999,5.0000000000000001E-4,1.7532999999999999]
[null,"PR1",{"$f":"TARIFAS!C65*(1+'Inflação 2020 '!$C$13)","v":0},{"$f":"TARIFAS!D65*(1+'Inflação 2020 '!$C$13)","v":1.1869808757268605},{"$f":"TARIFAS!E65*(1+'Inflação 2020 '!$C$13)","v":0.61197236041494396},{"$f":"TARIFAS!F65*(1+'Inflação 2020 '!$C$13)","v":0.10976232163036546},{"$f":"TARIFAS!G65*(1+'Inflação 2020 '!$C$13)","v":4.7350819941795506E-4},1.9091890659715878,null,null,"PR1",0,1.1870000000000001,0.61199999999999999,0.10979999999999999,5.0000000000000001E-4,1.9092999999999998]
[null,"SC1",{"$f":"TARIFAS!C66*(1+'Inflação 2020 '!$C$13)","v":0},{"$f":"TARIFAS!D66*(1+'Inflação 2020 '!$C$13)","v":1.1869808757268605},{"$f":"TARIFAS!E66*(1+'Inflação 2020 '!$C$13)","v":0.7435935332762148},{"$f":"TARIFAS!F66*(1+'Inflação 2020 '!$C$13)","v":0.10976232163036546},{"$f":"TARIFAS!G66*(1+'Inflação 2020 '!$C$13)","v":4.7350819941795506E-4},2.0408102388328588,null,null,"SC1",0,1.1870000000000001,0.74360000000000004,0.10979999999999999,5.0000000000000001E-4,2.0409000000000002]
[null,"SC2",{"$f":"TARIFAS!C67*(1+'Inflação 2020 '!$C$13)","v":0},{"$f":"TARIFAS!D67*(1+'Inflação 2020 '!$C$13)","v":1.1869808757268605},{"$f":"TARIFAS!E67*(1+'Inflação 2020 '!$C$13)","v":0.7435935332762148},{"$f":"TARIFAS!F67*(1+'Inflação 2020 '!$C$13)","v":0.10976232163036546},{"$f":"TARIFAS!G67*(1+'Inflação 2020 '!$C$13)","v":4.7350819941795506E-4},2.0408102388328588,null,null,"SC2",0,1.1870000000000001,0.74360000000000004,0.10979999999999999,5.0000000000000001E-4,2.0409000000000002]
[null,"RS1",{"$f":"TARIFAS!C68*(1+'Inflação 2020 '!$C$13)","v":0},{"$f":"TARIFAS!D68*(1+'Inflação 2020 '!$C$13)","v":1.1869808757268605},{"$f":"TARIFAS!E68*(1+'Inflação 2020 '!$C$13)","v":0.93762735077065473},{"$f":"TARIFAS!F68*(1+'Inflação 2020 '!$C$13)","v":0.10976232163036546},{"$f":"TARIFAS!G68*(1+'Inflação 2020 '!$C$13)","v":4.7350819941795506E-4},2.2348440563272987,null,null,"RS1",0,1.1870000000000001,0.93759999999999999,0.10979999999999999,5.0000000000000001E-4,2.2349000000000001]
[null,"EMED Gascar",{"$f":"TARIFAS!C69*(1+'Inflação 2020 '!$C$13)","v":0},{"$f":"TARIFAS!D69*(1+'Inflação 2020 '!$C$13)","v":1.1869808757268605},{"$f":"TARIFAS!E69*(1+'Inflação 2020 '!$C$13)","v":0.41800882611647344},{"$f":"TARIFAS!F69*(1+'Inflação 2020 '!$C$13)","v":0.10976232163036546},{"$f":"TARIFAS!G69*(1+'Inflação 2020 '!$C$13)","v":4.7350819941795506E-4},1.7152255316731173,null,null,"EMED Gascar",0,1.1870000000000001,0.41799999999999998,0.10979999999999999,5.0000000000000001E-4,{"$f":"SUM(L48:P48)","v":1.7152999999999998}]
[null,"EMED XXX",{"$f":"TARIFAS!C70*(1+'Inflação 2020 '!$C$13)","v":0},{"$f":"TARIFAS!D70*(1+'Inflação 2020 '!$C$13)","v":0},{"$f":"TARIFAS!E70*(1+'Inflação 2020 '!$C$13)","v":0},{"$f":"TARIFAS!F70*(1+'Inflação 2020 '!$C$13)","v":0},{"$f":"TARIFAS!G70*(1+'Inflação 2020 '!$C$13)","v":0},0,null,null,"EMED XXX",{"$f":"ROUND(C49,4)","v":0},{"$f":"ROUND(D49,4)","v":0},{"$f":"ROUND(E49,4)","v":0},{"$f":"ROUND(F49,4)","v":0},{"$f":"ROUND(G49,4)","v":0},{"$f":"SUM(L49:P49)","v":0}]
[]
[]
[null,"TARIFA ENTRADA (em R$/MMBtu) - (TE)",null,null,null,null,null,null,null,null,"TARIFA ENTRADA (em R$/MMBtu) - (TE)"]
[null,"em R$/MMBtu",2023,null,null,null,null,null,null,null,"em R$/MMBtu",2023]
[null,null,{"$f":"+C31","v":"TCE"},{"$f":"+D31","v":"TCT"},{"$f":"+E31","v":"TCS"},{"$f":"+F31","v":"TCEmp"},{"$f":"+G31","v":"TM"},"TOTAL",null,null,"a preços de Dez/2020",{"$f":"L31","v":"TCE"},{"$f":"M31","v":"TCT"},"TCS","TCEmp","TM","TOTAL"]
[null,{"$f":"+B32","v":"EMED Corumbá"},{"$f":"TARIFAS!C76*(1+'Inflação 2020 '!$C$13)","v":1.7066289766230667},{"$f":"TARIFAS!D76*(1+'Inflação 2020 '!$C$13)","v":2.5599433511787577},{"$f":"TARIFAS!E76*(1+'Inflação 2020 '!$C$13)","v":0},{"$f":"TARIFAS!F76*(1+'Inflação 2020 '!$C$13)","v":6.5565419072142347E-2},{"$f":"TARIFAS!G76*(1+'Inflação 2020 '!$C$13)","v":4.2988851575295316E-4},{"$f":"SUM(C55:G55)","v":4.3325676353897205},null,null,{"$f":"+K32","v":"EMED Corumbá"},{"$f":"ROUND(C55,4)","v":1.7065999999999999},2.5598999999999998,0,6.5600000000000006E-2,4.0000000000000002E-4,{"$f":"SUM(L55:P55)","v":4.3324999999999996}]
[null,{"$f":"+B33","v":"EMED Gascar"},{"$f":"TARIFAS!C77*(1+'Inflação 2020 '!$C$13)","v":6.0495073110090961E-2},{"$f":"TARIFAS!D77*(1+'Inflação 2020 '!$C$13)","v":9.0742609665136434E-2},{"$f":"TARIFAS!E77*(1+'Inflação 2020 '!$C$13)","v":0},{"$f":"TARIFAS!F77*(1+'Inflação 2020 '!$C$13)","v":6.5565419072142347E-2},{"$f":"TARIFAS!G77*(1+'Inflação 2020 '!$C$13)","v":4.2988851575295316E-4},{"$f":"SUM(C56:G56)","v":0.21723299036312269},null,null,{"$f":"+K33","v":"EMED Gascar"},6.0499999999999998E-2,9.0700000000000003E-2,0,6.5600000000000006E-2,4.0000000000000002E-4,{"$f":"SUM(L56:P56)","v":0.2172}]
[null,{"$f":"+B34","v":"EMED Garuva"},{"$f":"TARIFAS!C78*(1+'Inflação 2020 '!$C$13)","v":0.64490770665385511},{"$f":"TARIFAS!D78*(1+'Inflação 2020 '!$C$13)","v":2.5599433511787577},{"$f":"TARIFAS!E78*(1+'Inflação 2020 '!$C$13)","v":0},{"$f":"TARIFAS!F78*(1+'Inflação 2020 '!$C$13)","v":6.5565419072142347E-2},{"$f":"TARIFAS!G78*(1+'Inflação 2020 '!$C$13)","v":4.2988851575295316E-4},{"$f":"SUM(C57:G57)","v":3.2708463654205082},null,null,{"$f":"+K34","v":"EMED Garuva"},{"$f":"ROUND(C57,4)","v":0.64490000000000003},{"$f":"ROUND(D57,4)","v":2.5598999999999998},{"$f":"ROUND(E57,4)","v":0},{"$f":"ROUND(F57,4)","v":6.5600000000000006E-2},{"$f":"ROUND(G57,4)","v":4.0000000000000002E-4},{"$f":"SUM(L57:P57)","v":3.2707999999999995}]
[]
[null,"TARIFA SAÍDA (em R$/MMBtu) - (TX)",null,null,null,null,null,null,null,null,"TARIFA SAÍDA (em R$/MMBtu) - (TX)"]
[null,"em R$/MMBtu",2023,null,null,null,null,null,null,null,"em R$/MMBtu",2023]
[null,null,{"$f":"+C38","v":"TCE"},{"$f":"+D38","v":"TCT"},{"$f":"+E38","v":"TCS"},{"$f":"+F38","v":"TCEmp"},{"$f":"+G38","v":"TM"},{"$f":"+H54","v":"TOTAL"},null,null,"a preços de Dez/2020",{"$f":"L38","v":"TCE"},{"$f":"+M38","v":"TCT"},{"$f":"+N38","v":"TCS"},{"$f":"+O38","v":"TCEmp"},{"$f":"+P38","v":"TM"},{"$f":"+Q54","v":"TOTAL"}]
[null,{"$f":"+B39","v":"MS1"},{"$f":"TARIFAS!C83*(1+'Inflação 2020 '!$C$13)","v":0},{"$f":"TARIFAS!D83*(1+'Inflação 2020 '!$C$13)","v":1.0115490663951703},{"$f":"TARIFAS!E83*(1+'Inflação 2020 '!$C$13)","v":0.29342209161771804},{"$f":"TARIFAS!F83*(1+'Inflação 2020 '!$C$13)","v":6.5565419072142347E-2},{"$f":"TARIFAS!G83*(1+'Inflação 2020 '!$C$13)","v":4.2988851575295316E-4},{"$f":"SUM(C62:G62)","v":1.3709664656007836},null,null,{"$f":"B62","v":"MS1"},{"$f":"ROUND(C62,4)","v":0},{"$f":"ROUND(D62,4)","v":1.0115000000000001},{"$f":"ROUND(E62,4)","v":0.29339999999999999},{"$f":"ROUND(F62,4)","v":6.5600000000000006E-2},{"$f":"ROUND(G62,4)","v":4.0000000000000002E-4},{"$f":"SUM(L62:P62)","v":1.3709}]
[null,"SP1",{"$f":"TARIFAS!C84*(1+'Inflação 2020 '!$C$13)","v":0},{"$f":"TARIFAS!D84*(1+'Inflação 2020 '!$C$13)","v":1.0115490663951703},{"$f":"TARIFAS!E84*(1+'Inflação 2020 '!$C$13)","v":0.45508386529571909},{"$f":"TARIFAS!F84*(1+'Inflação 2020 '!$C$13)","v":6.5565419072142347E-2},{"$f":"TARIFAS!G84*(1+'Inflação 2020 '!$C$13)","v":4.2988851575295316E-4},1.5326282392787849,null,null,{"$f":"B63","v":"SP1"},0,1.0115000000000001,0.4551,6.5600000000000006E-2,4.0000000000000002E-4,{"$f":"SUM(L63:P63)","v":1.5326000000000002}]
[null,"SP2",{"$f":"TARIFAS!C85*(1+'Inflação 2020 '!$C$13)","v":0},{"$f":"TARIFAS!D85*(1+'Inflação 2020 '!$C$13)","v":1.0115490663951703},{"$f":"TARIFAS!E85*(1+'Inflação 2020 '!$C$13)","v":0.55291399685106357},{"$f":"TARIFAS!F85*(1+'Inflação 2020 '!$C$13)","v":6.5565419072142347E-2},{"$f":"TARIFAS!G85*(1+'Inflação 2020 '!$C$13)","v":4.2988851575295316E-4},1.6304583708341294,null,null,"SP2",0,1.0115000000000001,0.55289999999999995,6.5600000000000006E-2,4.0000000000000002E-4,1.6304000000000001]
[null,"SP3",{"$f":"TARIFAS!C86*(1+'Inflação 2020 '!$C$13)","v":0},{"$f":"TARIFAS!D86*(1+'Inflação 2020 '!$C$13)","v":1.0115490663951703},{"$f":"TARIFAS!E86*(1+'Inflação 2020 '!$C$13)","v":0.55322433551560668},{"$f":"TARIFAS!F86*(1+'Inflação 2020 '!$C$13)","v":6.5565419072142347E-2},{"$f":"TARIFAS!G86*(1+'Inflação 2020 '!$C$13)","v":4.2988851575295316E-4},1.6307687094986723,null,null,"SP3",0,1.0115000000000001,0.55320000000000003,6.5600000000000006E-2,4.0000000000000002E-4,1.6307000000000003]
[null,"SP4",{"$f":"TARIFAS!C87*(1+'Inflação 2020 '!$C$13)","v":0},{"$f":"TARIFAS!D87*(1+'Inflação 2020 '!$C$13)","v":1.0115490663951703},{"$f":"TARIFAS!E87*(1+'Inflação 2020 '!$C$13)","v":0.59129476245648038},{"$f":"TARIFAS!F87*(1+'Inflação 2020 '!$C$13)","v":6.5565419072142347E-2},{"$f":"TARIFAS!G87*(1+'Inflação 2020 '!$C$13)","v":4.2988851575295316E-4},1.6688391364395461,null,null,"SP4",0,1.0115000000000001,0.59130000000000005,6.5600000000000006E-2,4.0000000000000002E-4,1.6688000000000003]
[null,"PR1",{"$f":"TARIFAS!C88*(1+'Inflação 2020 '!$C$13)","v":0},{"$f":"TARIFAS!D88*(1+'Inflação 2020 '!$C$13)","v":1.0115490663951703},{"$f":"TARIFAS!E88*(1+'Inflação 2020 '!$C$13)","v":0.79925584325108701},{"$f":"TARIFAS!F88*(1+'Inflação 2020 '!$C$13)","v":6.5565419072142347E-2},{"$f":"TARIFAS!G88*(1+'Inflação 2020 '!$C$13)","v":4.2988851575295316E-4},1.8768002172341527,null,null,"PR1",0,1.0115000000000001,0.79930000000000001,6.5600000000000006E-2,4.0000000000000002E-4,1.8768]
[null,"SC1",{"$f":"TARIFAS!C89*(1+'Inflação 2020 '!$C$13)","v":0},{"$f":"TARIFAS!D89*(1+'Inflação 2020 '!$C$13)","v":1.0115490663951703},{"$f":"TARIFAS!E89*(1+'Inflação 2020 '!$C$13)","v":0.95609370354229295},{"$f":"TARIFAS!F89*(1+'Inflação 2020 '!$C$13)","v":6.5565419072142347E-2},{"$f":"TARIFAS!G89*(1+'Inflação 2020 '!$C$13)","v":4.2988851575295316E-4},2.0336380775253584,null,null,"SC1",0,1.0115000000000001,0.95609999999999995,6.5600000000000006E-2,4.0000000000000002E-4,2.0335999999999999]
[null,"SC2",{"$f":"TARIFAS!C90*(1+'Inflação 2020 '!$C$13)","v":0},{"$f":"TARIFAS!D90*(1+'Inflação 2020 '!$C$13)","v":1.0115490663951703},{"$f":"TARIFAS!E90*(1+'Inflação 2020 '!$C$13)","v":0.95609370354229306},{"$f":"TARIFAS!F90*(1+'Inflação 2020 '!$C$13)","v":6.5565419072142347E-2},{"$f":"TARIFAS!G90*(1+'Inflação 2020 '!$C$13)","v":4.2988851575295316E-4},2.0336380775253584,null,null,"SC2",0,1.0115000000000001,0.95609999999999995,6.5600000000000006E-2,4.0000000000000002E-4,2.0335999999999999]
[null,"RS1",{"$f":"TARIFAS!C91*(1+'Inflação 2020 '!$C$13)","v":0},{"$f":"TARIFAS!D91*(1+'Inflação 2020 '!$C$13)","v":1.0115490663951703},{"$f":"TARIFAS!E91*(1+'Inflação 2020 '!$C$13)","v":1.1767823927228647},{"$f":"TARIFAS!F91*(1+'Inflação 2020 '!$C$13)","v":6.5565419072142347E-2},{"$f":"TARIFAS!G91*(1+'Inflação 2020 '!$C$13)","v":4.2988851575295316E-4},2.2543267667059301,null,null,"RS1",0,1.0115000000000001,1.1768000000000001,6.5600000000000006E-2,4.0000000000000002E-4,2.2542999999999997]
[null,"EMED Gascar",{"$f":"TARIFAS!C92*(1+'Inflação 2020 '!$C$13)","v":0},{"$f":"TARIFAS!D92*(1+'Inflação 2020 '!$C$13)","v":0.15960402691227235},{"$f":"TARIFAS!E92*(1+'Inflação 2020 '!$C$13)","v":0.10640268460818157},{"$f":"TARIFAS!F92*(1+'Inflação 2020 '!$C$13)","v":6.5565419072142347E-2},{"$f":"TARIFAS!G92*(1+'Inflação 2020 '!$C$13)","v":4.2988851575295316E-4},0.3320020191083492,null,null,"EMED Gascar",0,0.15959999999999999,0.10639999999999999,6.5600000000000006E-2,4.0000000000000002E-4,0.33200000000000002]
[null,"EMED XXX",{"$f":"TARIFAS!C93*(1+'Inflação 2020 '!$C$13)","v":0},{"$f":"TARIFAS!D93*(1+'Inflação 2020 '!$C$13)","v":0},{"$f":"TARIFAS!E93*(1+'Inflação 2020 '!$C$13)","v":0},{"$f":"TARIFAS!F93*(1+'Inflação 2020 '!$C$13)","v":0},{"$f":"TARIFAS!G93*(1+'Inflação 2020 '!$C$13)","v":0},{"$f":"SUM(C72:G72)","v":0},null,null,"EMED XXX",{"$f":"ROUND(C72,4)","v":0},{"$f":"ROUND(D72,4)","v":0},{"$f":"ROUND(E72,4)","v":0},{"$f":"ROUND(F72,4)","v":0},{"$f":"ROUND(G72,4)","v":0},{"$f":"SUM(L72:P72)","v":0}]
[]
[]
[null,{"$f":"B2","v":"TARIFAS DE TRANSPORTE"},null,null,null,null,null,null,null,null,{"$f":"K2","v":"TARIFAS DE TRANSPORTE"}]
[null,"*Preços de dez/2020",null,null,null,null,null,null,null,null,"*Preços de dez/2020","** Tarifas arredondadas até a quarta casa decimal"]
[]
[null,"TARIFA ENTRADA (em R$/MMBtu) - (TE)",null,null,null,null,null,null,null,null,"TARIFA ENTRADA (em R$/MMBtu) - (TE)"]
[null,"em R$/MMBtu",2024,null,null,null,null,null,null,null,"em R$/MMBtu",2024]
[null,null,{"$f":"+C54","v":"TCE"},{"$f":"+D54","v":"TCT"},{"$f":"+E54","v":"TCS"},{"$f":"+F54","v":"TCEmp"},{"$f":"+G54","v":"TM"},"TOTAL",null,null,"a preços de Dez/2020",{"$f":"+L54","v":"TCE"},{"$f":"+M54","v":"TCT"},{"$f":"+N54","v":"TCS"},{"$f":"+O54","v":"TCEmp"},{"$f":"+P54","v":"TM"},"TOTAL"]
[null,{"$f":"+B55","v":"EMED Corumbá"},{"$f":"TARIFAS!C99*(1+'Inflação 2020 '!$C$13)","v":2.2499650771099411},{"$f":"TARIFAS!D99*(1+'Inflação 2020 '!$C$13)","v":2.2499649758000637},{"$f":"TARIFAS!E99*(1+'Inflação 2020 '!$C$13)","v":0},{"$f":"TARIFAS!F99*(1+'Inflação 2020 '!$C$13)","v":6.6088065108679636E-2},{"$f":"TARIFAS!G99*(1+'Inflação 2020 '!$C$13)","v":4.3331531500308794E-4},{"$f":"SUM(C81:G81)","v":4.566451433333687},null,null,{"$f":"+K55","v":"EMED Corumbá"},{"$f":"ROUND(C81,4)","v":2.25},{"$f":"ROUND(D81,4)","v":2.25},0,6.6100000000000006E-2,4.0000000000000002E-4,{"$f":"SUM(L81:P81)","v":4.5664999999999996}]
[null,{"$f":"+B56","v":"EMED Gascar"},{"$f":"TARIFAS!C100*(1+'Inflação 2020 '!$C$13)","v":8.2104161669261946E-2},{"$f":"TARIFAS!D100*(1+'Inflação 2020 '!$C$13)","v":8.2104161669261932E-2},{"$f":"TARIFAS!E100*(1+'Inflação 2020 '!$C$13)","v":0},{"$f":"TARIFAS!F100*(1+'Inflação 2020 '!$C$13)","v":6.6088065108679636E-2},{"$f":"TARIFAS!G100*(1+'Inflação 2020 '!$C$13)","v":4.3331531500308794E-4},{"$f":"SUM(C82:G82)","v":0.23072970376220661},null,null,{"$f":"+K56","v":"EMED Gascar"},{"$f":"ROUND(C82,4)","v":8.2100000000000006E-2},{"$f":"ROUND(D82,4)","v":8.2100000000000006E-2},{"$f":"ROUND(E82,4)","v":0},{"$f":"ROUND(F82,4)","v":6.6100000000000006E-2},{"$f":"ROUND(G82,4)","v":4.0000000000000002E-4},{"$f":"SUM(L82:P82)","v":0.23070000000000002}]
[null,{"$f":"+B57","v":"EMED Garuva"},{"$f":"TARIFAS!C101*(1+'Inflação 2020 '!$C$13)","v":0.83162669168280234},{"$f":"TARIFAS!D101*(1+'Inflação 2020 '!$C$13)","v":2.2499649758000637},{"$f":"TARIFAS!E101*(1+'Inflação 2020 '!$C$13)","v":0},{"$f":"TARIFAS!F101*(1+'Inflação 2020 '!$C$13)","v":6.6088065108679636E-2},{"$f":"TARIFAS!G101*(1+'Inflação 2020 '!$C$13)","v":4.3331531500308794E-4},{"$f":"SUM(C83:G83)","v":3.1481130479065484},null,null,{"$f":"+K57","v":"EMED Garuva"},{"$f":"ROUND(C83,4)","v":0.83160000000000001},{"$f":"ROUND(D83,4)","v":2.25},{"$f":"ROUND(E83,4)","v":0},{"$f":"ROUND(F83,4)","v":6.6100000000000006E-2},{"$f":"ROUND(G83,4)","v":4.0000000000000002E-4},{"$f":"SUM(L83:P83)","v":3.1480999999999999}]
[]
[null,"TARIFA SAÍDA (em R$/MMBtu) - (TX)",null,null,null,null,null,null,null,null,"TARIFA SAÍDA (em R$/MMBtu) - (TX)"]
[null,"em R$/MMBtu",2024,null,null,null,null,null,null,null,"em R$/MMBtu",2024]
[null,null,{"$f":"+C61","v":"TCE"},{"$f":"+D61","v":"TCT"},{"$f":"+E61","v":"TCS"},{"$f":"+F61","v":"TCEmp"},{"$f":"+G61","v":"TM"},{"$f":"+H80","v":"TOTAL"},null,null,"a preços de Dez/2020",{"$f":"+L61","v":"TCE"},{"$f":"+M61","v":"TCT"},{"$f":"+N61","v":"TCS"},{"$f":"+O61","v":"TCEmp"},{"$f":"+P61","v":"TM"},{"$f":"+Q80","v":"TOTAL"}]
[null,{"$f":"+B62","v":"MS1"},{"$f":"TARIFAS!C106*(1+'Inflação 2020 '!$C$13)","v":0},{"$f":"TARIFAS!D106*(1+'Inflação 2020 '!$C$13)","v":0.8731369456754583},{"$f":"TARIFAS!E106*(1+'Inflação 2020 '!$C$13)","v":0.40555611965289345},{"$f":"TARIFAS!F106*(1+'Inflação 2020 '!$C$13)","v":6.6088065108679636E-2},{"$f":"TARIFAS!G106*(1+'Inflação 2020 '!$C$13)","v":4.3331531500308794E-4},{"$f":"SUM(C88:G88)","v":1.3452144457520345},null,null,{"$f":"B88","v":"MS1"},{"$f":"ROUND(C88,4)","v":0},{"$f":"ROUND(D88,4)","v":0.87309999999999999},0.40560000000000002,6.6100000000000006E-2,4.0000000000000002E-4,{"$f":"SUM(L88:P88)","v":1.3452}]
[null,"SP1",{"$f":"TARIFAS!C107*(1+'Inflação 2020 '!$C$13)","v":0},{"$f":"TARIFAS!D107*(1+'Inflação 2020 '!$C$13)","v":0.8731369456754583},{"$f":"TARIFAS!E107*(1+'Inflação 2020 '!$C$13)","v":0.58550071497250333},{"$f":"TARIFAS!F107*(1+'Inflação 2020 '!$C$13)","v":6.6088065108679636E-2},{"$f":"TARIFAS!G107*(1+'Inflação 2020 '!$C$13)","v":4.3331531500308794E-4},1.5251590410716445,null,null,{"$f":"B89","v":"SP1"},{"$f":"ROUND(C89,4)","v":0},{"$f":"ROUND(D89,4)","v":0.87309999999999999},{"$f":"ROUND(E89,4)","v":0.58550000000000002},{"$f":"ROUND(F89,4)","v":6.6100000000000006E-2},{"$f":"ROUND(G89,4)","v":4.0000000000000002E-4},{"$f":"SUM(L89:P89)","v":1.5251000000000001}]
[null,"SP2",{"$f":"TARIFAS!C108*(1+'Inflação 2020 '!$C$13)","v":0},{"$f":"TARIFAS!D108*(1+'Inflação 2020 '!$C$13)","v":0.8731369456754583},{"$f":"TARIFAS!E108*(1+'Inflação 2020 '!$C$13)","v":0.6980912435266492},{"$f":"TARIFAS!F108*(1+'Inflação 2020 '!$C$13)","v":6.6088065108679636E-2},{"$f":"TARIFAS!G108*(1+'Inflação 2020 '!$C$13)","v":4.3331531500308794E-4},1.6377495696257902,null,null,"SP2",0,0.87309999999999999,0.69810000000000005,6.6100000000000006E-2,4.0000000000000002E-4,1.6377000000000002]
[null,"SP3",{"$f":"TARIFAS!C109*(1+'Inflação 2020 '!$C$13)","v":0},{"$f":"TARIFAS!D109*(1+'Inflação 2020 '!$C$13)","v":0.8731369456754583},{"$f":"TARIFAS!E109*(1+'Inflação 2020 '!$C$13)","v":0.69775607533084483},{"$f":"TARIFAS!F109*(1+'Inflação 2020 '!$C$13)","v":6.6088065108679636E-2},{"$f":"TARIFAS!G109*(1+'Inflação 2020 '!$C$13)","v":4.3331531500308794E-4},1.6374144014299861,null,null,"SP3",0,0.87309999999999999,0.69779999999999998,6.6100000000000006E-2,4.0000000000000002E-4,1.6374]
[null,"SP4",{"$f":"TARIFAS!C110*(1+'Inflação 2020 '!$C$13)","v":0},{"$f":"TARIFAS!D110*(1+'Inflação 2020 '!$C$13)","v":0.8731369456754583},{"$f":"TARIFAS!E110*(1+'Inflação 2020 '!$C$13)","v":0.74879877197748757},{"$f":"TARIFAS!F110*(1+'Inflação 2020 '!$C$13)","v":6.6088065108679636E-2},{"$f":"TARIFAS!G110*(1+'Inflação 2020 '!$C$13)","v":4.3331531500308794E-4},1.6884570980766287,null,null,"SP4",0,0.87309999999999999,0.74880000000000002,6.6100000000000006E-2,4.0000000000000002E-4,1.6884000000000001]
[null,"PR1",{"$f":"TARIFAS!C111*(1+'Inflação 2020 '!$C$13)","v":0},{"$f":"TARIFAS!D111*(1+'Inflação 2020 '!$C$13)","v":0.8731369456754583},{"$f":"TARIFAS!E111*(1+'Inflação 2020 '!$C$13)","v":1.0276213439155146},{"$f":"TARIFAS!F111*(1+'Inflação 2020 '!$C$13)","v":6.6088065108679636E-2},{"$f":"TARIFAS!G111*(1+'Inflação 2020 '!$C$13)","v":4.3331531500308794E-4},1.9672796700146558,null,null,"PR1",0,0.87309999999999999,1.0276000000000001,6.6100000000000006E-2,4.0000000000000002E-4,1.9672000000000001]
[null,"SC1",{"$f":"TARIFAS!C112*(1+'Inflação 2020 '!$C$13)","v":0},{"$f":"TARIFAS!D112*(1+'Inflação 2020 '!$C$13)","v":0.8731369456754583},{"$f":"TARIFAS!E112*(1+'Inflação 2020 '!$C$13)","v":1.2379007635820025},{"$f":"TARIFAS!F112*(1+'Inflação 2020 '!$C$13)","v":6.6088065108679636E-2},{"$f":"TARIFAS!G112*(1+'Inflação 2020 '!$C$13)","v":4.3331531500308794E-4},2.1775590896811434,null,null,"SC1",0,0.87309999999999999,1.2379,6.6100000000000006E-2,4.0000000000000002E-4,2.1774999999999998]
[null,"SC2",{"$f":"TARIFAS!C113*(1+'Inflação 2020 '!$C$13)","v":0},{"$f":"TARIFAS!D113*(1+'Inflação 2020 '!$C$13)","v":0.8731369456754583},{"$f":"TARIFAS!E113*(1+'Inflação 2020 '!$C$13)","v":1.2379007635820023},{"$f":"TARIFAS!F113*(1+'Inflação 2020 '!$C$13)","v":6.6088065108679636E-2},{"$f":"TARIFAS!G113*(1+'Inflação 2020 '!$C$13)","v":4.3331531500308794E-4},2.177559089681143,null,null,"SC2",0,0.87309999999999999,1.2379,6.6100000000000006E-2,4.0000000000000002E-4,2.1774999999999998]
[null,"RS1",{"$f":"TARIFAS!C114*(1+'Inflação 2020 '!$C$13)","v":0},{"$f":"TARIFAS!D114*(1+'Inflação 2020 '!$C$13)","v":0.8731369456754583},{"$f":"TARIFAS!E114*(1+'Inflação 2020 '!$C$13)","v":1.5337877981668928},{"$f":"TARIFAS!F114*(1+'Inflação 2020 '!$C$13)","v":6.6088065108679636E-2},{"$f":"TARIFAS!G114*(1+'Inflação 2020 '!$C$13)","v":4.3331531500308794E-4},2.4734461242660339,null,null,"RS1",0,0.87309999999999999,1.5338000000000001,6.6100000000000006E-2,4.0000000000000002E-4,2.4734000000000003]
[null,"EMED Gascar",{"$f":"TARIFAS!C115*(1+'Inflação 2020 '!$C$13)","v":0},{"$f":"TARIFAS!D115*(1+'Inflação 2020 '!$C$13)","v":0.13405056566289181},{"$f":"TARIFAS!E115*(1+'Inflação 2020 '!$C$13)","v":0.13405056566289181},{"$f":"TARIFAS!F115*(1+'Inflação 2020 '!$C$13)","v":6.6088065108679636E-2},{"$f":"TARIFAS!G115*(1+'Inflação 2020 '!$C$13)","v":4.3331531500308794E-4},0.33462251174946633,null,null,"EMED Gascar",0,0.1341,0.1341,6.6100000000000006E-2,4.0000000000000002E-4,{"$f":"SUM(L97:P97)","v":0.3347}]
[null,"EMED XXX",{"$f":"TARIFAS!C116*(1+'Inflação 2020 '!$C$13)","v":0},{"$f":"TARIFAS!D116*(1+'Inflação 2020 '!$C$13)","v":0},{"$f":"TARIFAS!E116*(1+'Inflação 2020 '!$C$13)","v":0},{"$f":"TARIFAS!F116*(1+'Inflação 2020 '!$C$13)","v":0},{"$f":"TARIFAS!G116*(1+'Inflação 2020 '!$C$13)","v":0},{"$f":"SUM(C98:G98)","v":0},null,null,"EMED XXX",0,0,0,0,0,{"$f":"ROUND(H98,4)","v":0}]
[]
[]
[null,"TARIFA ENTRADA (em R$/MMBtu) - (TE)",null,null,null,null,null,null,null,null,"TARIFA ENTRADA (em R$/MMBtu) - (TE)"]
[null,"em R$/MMBtu",2025,null,null,null,null,null,null,null,"em R$/MMBtu",2025]
[null,null,{"$f":"C80","v":"TCE"},{"$f":"D80","v":"TCT"},"TCS","TCEmp","TM","TOTAL",null,null,"a preços de Dez/2020",{"$f":"L80","v":"TCE"},{"$f":"M80","v":"TCT"},"TCS","TCEmp","TM","TOTAL"]
[null,{"$f":"+B81","v":"EMED Corumbá"},{"$f":"C81","v":2.2499650771099411},{"$f":"D81","v":2.2499649758000637},0,6.6088065108679636E-2,4.3331531500308794E-4,4.566451433333687,null,null,"EMED Corumbá",{"$f":"ROUND(C104,4)","v":2.25},{"$f":"ROUND(D104,4)","v":2.25},0,6.6100000000000006E-2,4.0000000000000002E-4,{"$f":"SUM(L104:P104)","v":4.5664999999999996}]
[null,"EMED Gascar",{"$f":"C82","v":8.2104161669261946E-2},8.2104161669261932E-2,0,6.6088065108679636E-2,4.3331531500308794E-4,0.23072970376220661,null,null,"EMED Gascar",{"$f":"ROUND(C105,4)","v":8.2100000000000006E-2},{"$f":"ROUND(D105,4)","v":8.2100000000000006E-2},{"$f":"ROUND(E105,4)","v":0},{"$f":"ROUND(F105,4)","v":6.6100000000000006E-2},{"$f":"ROUND(G105,4)","v":4.0000000000000002E-4},{"$f":"SUM(L105:P105)","v":0.23070000000000002}]
[null,"EMED Garuva",{"$f":"C83","v":0.83162669168280234},2.2499649758000637,0,6.6088065108679636E-2,4.3331531500308794E-4,3.1481130479065484,null,null,{"$f":"K83","v":"EMED Garuva"},{"$f":"ROUND(C106,4)","v":0.83160000000000001},{"$f":"ROUND(D106,4)","v":2.25},{"$f":"ROUND(E106,4)","v":0},{"$f":"ROUND(F106,4)","v":6.6100000000000006E-2},{"$f":"ROUND(G106,4)","v":4.0000000000000002E-4},{"$f":"SUM(L106:P106)","v":3.1480999999999999}]
[]
[null,"TARIFA SAÍDA (em R$/MMBtu) - (TX)",null,null,null,null,null,null,null,null,"TARIFA SAÍDA (em R$/MMBtu) - (TX)"]
[null,"em R$/MMBtu",2025,null,null,null,null,null,null,null,"em R$/MMBtu",2025]
[null,null,{"$f":"C87","v":"TCE"},{"$f":"D87","v":"TCT"},"TCS","TCEmp","TM","TOTAL",null,null,"a preços de Dez/2020",{"$f":"L87","v":"TCE"},{"$f":"M87","v":"TCT"},"TCS","TCEmp","TM","TOTAL"]
[null,{"$f":"+B88","v":"MS1"},{"$f":"C88","v":0},{"$f":"D88","v":0.8731369456754583},0.40555611965289345,6.6088065108679636E-2,4.3331531500308794E-4,1.3452144457520345,null,null,{"$f":"B111","v":"MS1"},{"$f":"ROUND(C111,4)","v":0},{"$f":"ROUND(D111,4)","v":0.87309999999999999},0.40560000000000002,6.6100000000000006E-2,4.0000000000000002E-4,{"$f":"SUM(L111:P111)","v":1.3452}]
[null,"SP1",{"$f":"C89","v":0},0.8731369456754583,0.58550071497250333,6.6088065108679636E-2,4.3331531500308794E-4,1.5251590410716445,null,null,{"$f":"B112","v":"SP1"},{"$f":"ROUND(C112,4)","v":0},{"$f":"ROUND(D112,4)","v":0.87309999999999999},{"$f":"ROUND(E112,4)","v":0.58550000000000002},{"$f":"ROUND(F112,4)","v":6.6100000000000006E-2},{"$f":"ROUND(G112,4)","v":4.0000000000000002E-4},{"$f":"SUM(L112:P112)","v":1.5251000000000001}]
[null,"SP2",{"$f":"C90","v":0},0.8731369456754583,0.6980912435266492,6.6088065108679636E-2,4.3331531500308794E-4,1.6377495696257902,null,null,"SP2",0,0.87309999999999999,0.69810000000000005,6.6100000000000006E-2,4.0000000000000002E-4,1.6377000000000002]
[null,"SP3",{"$f":"C91","v":0},0.8731369456754583,0.69775607533084483,6.6088065108679636E-2,4.3331531500308794E-4,1.6374144014299861,null,null,"SP3",0,0.87309999999999999,0.69779999999999998,6.6100000000000006E-2,4.0000000000000002E-4,1.6374]
[null,"SP4",{"$f":"C92","v":0},0.8731369456754583,0.74879877197748757,6.6088065108679636E-2,4.3331531500308794E-4,1.6884570980766287,null,null,"SP4",0,0.87309999999999999,0.74880000000000002,6.6100000000000006E-2,4.0000000000000002E-4,1.6884000000000001]
[null,"PR1",{"$f":"C93","v":0},0.8731369456754583,1.0276213439155146,6.6088065108679636E-2,4.3331531500308794E-4,1.9672796700146558,null,null,"PR1",0,0.87309999999999999,1.0276000000000001,6.6100000000000006E-2,4.0000000000000002E-4,1.9672000000000001]
[null,"SC1",{"$f":"C94","v":0},0.8731369456754583,1.2379007635820025,6.6088065108679636E-2,4.3331531500308794E-4,2.1775590896811434,null,null,"SC1",0,0.87309999999999999,1.2379,6.6100000000000006E-2,4.0000000000000002E-4,2.1774999999999998]
[null,"SC2",{"$f":"C95","v":0},0.8731369456754583,1.2379007635820023,6.6088065108679636E-2,4.3331531500308794E-4,2.177559089681143,null,null,"SC2",0,0.87309999999999999,1.2379,6.6100000000000006E-2,4.0000000000000002E-4,2.1774999999999998]
[null,"RS1",{"$f":"C96","v":0},0.8731369456754583,1.5337877981668928,6.6088065108679636E-2,4.3331531500308794E-4,2.4734461242660339,null,null,"RS1",0,0.87309999999999999,1.5338000000000001,6.6100000000000006E-2,4.0000000000000002E-4,2.4734000000000003]
[null,"EMED Gascar",{"$f":"C97","v":0},0.13405056566289181,0.13405056566289181,6.6088065108679636E-2,4.3331531500308794E-4,0.33462251174946633,null,null,"EMED Gascar",0,0.1341,0.1341,6.6100000000000006E-2,4.0000000000000002E-4,0.3347]
[null,"EMED XXX",0,0,0,0,0,0,null,null,"EMED XXX",{"$f":"ROUND(C121,4)","v":0},{"$f":"ROUND(D121,4)","v":0},{"$f":"ROUND(E121,4)","v":0},{"$f":"ROUND(F121,4)","v":0},{"$f":"ROUND(G121,4)","v":0},{"$f":"SUM(L121:P121)","v":0}]
[]
[]
[null,"TARIFA ENTRADA (em R$/MMBtu) - (TE)",null,null,null,null,null,null,null,null,"TARIFA ENTRADA (em R$/MMBtu) - (TE)"]
[null,"em R$/MMBtu",2026,null,null,null,null,null,null,null,"em R$/MMBtu",2026]
[null,null,{"$f":"C103","v":"TCE"},{"$f":"D103","v":"TCT"},"TCS","TCEmp","TM","TOTAL",null,null,"a preços de Dez/2020",{"$f":"L103","v":"TCE"},{"$f":"M103","v":"TCT"},"TCS","TCEmp","TM","TOTAL"]
[null,{"$f":"+B104","v":"EMED Corumbá"},{"$f":"C81","v":2.2499650771099411},2.2499649758000637,0,6.6088065108679636E-2,4.3331531500308794E-4,4.566451433333687,null,null,"EMED Corumbá",{"$f":"ROUND(C127,4)","v":2.25},{"$f":"ROUND(D127,4)","v":2.25},{"$f":"ROUND(E127,4)","v":0},{"$f":"ROUND(F127,4)","v":6.6100000000000006E-2},{"$f":"ROUND(G127,4)","v":4.0000000000000002E-4},{"$f":"SUM(L127:P127)","v":4.5664999999999996}]
[null,"EMED Gascar",8.2104161669261946E-2,8.2104161669261932E-2,0,6.6088065108679636E-2,4.3331531500308794E-4,0.23072970376220661,null,null,"EMED Gascar",{"$f":"ROUND(C128,4)","v":8.2100000000000006E-2},8.2100000000000006E-2,0,6.6100000000000006E-2,4.0000000000000002E-4,{"$f":"SUM(L128:P128)","v":0.23070000000000002}]
[null,"EMED Garuva",0.83162669168280234,2.2499649758000637,0,6.6088065108679636E-2,4.3331531500308794E-4,3.1481130479065484,null,null,{"$f":"K106","v":"EMED Garuva"},{"$f":"ROUND(C129,4)","v":0.83160000000000001},{"$f":"ROUND(D129,4)","v":2.25},{"$f":"ROUND(E129,4)","v":0},{"$f":"ROUND(F129,4)","v":6.6100000000000006E-2},{"$f":"ROUND(G129,4)","v":4.0000000000000002E-4},{"$f":"SUM(L129:P129)","v":3.1480999999999999}]
[]
[null,"TARIFA SAÍDA (em R$/MMBtu) - (TX)",null,null,null,null,null,null,null,null,"TARIFA SAÍDA (em R$/MMBtu) - (TX)"]
[null,"em R$/MMBtu",2026,null,null,null,null,null,null,null,"em R$/MMBtu",2026]
[null,null,{"$f":"C110","v":"TCE"},{"$f":"D110","v":"TCT"},"TCS","TCEmp","TM","TOTAL",null,null,"a preços de Dez/2020",{"$f":"L110","v":"TCE"},{"$f":"M110","v":"TCT"},"TCS","TCEmp","TM","TOTAL"]
[null,{"$f":"+B111","v":"MS1"},{"$f":"C88","v":0},{"$f":"D88","v":0.8731369456754583},0.40555611965289345,6.6088065108679636E-2,4.3331531500308794E-4,1.3452144457520345,null,null,{"$f":"B134","v":"MS1"},{"$f":"ROUND(C134,4)","v":0},{"$f":"ROUND(D134,4)","v":0.87309999999999999},{"$f":"ROUND(E134,4)","v":0.40560000000000002},{"$f":"ROUND(F134,4)","v":6.6100000000000006E-2},{"$f":"ROUND(G134,4)","v":4.0000000000000002E-4},{"$f":"SUM(L134:P134)","v":1.3452}]
[null,"SP1",{"$f":"C89","v":0},0.8731369456754583,0.58550071497250333,6.6088065108679636E-2,4.3331531500308794E-4,1.5251590410716445,null,null,{"$f":"B135","v":"SP1"},{"$f":"ROUND(C135,4)","v":0},0.87309999999999999,0.58550000000000002,6.6100000000000006E-2,4.0000000000000002E-4,{"$f":"SUM(L135:P135)","v":1.5251000000000001}]
[null,"SP2",{"$f":"C90","v":0},0.8731369456754583,0.6980912435266492,6.6088065108679636E-2,4.3331531500308794E-4,1.6377495696257902,null,null,"SP2",0,0.87309999999999999,0.69810000000000005,6.6100000000000006E-2,4.0000000000000002E-4,1.6377000000000002]
[null,"SP3",{"$f":"C91","v":0},0.8731369456754583,0.69775607533084483,6.6088065108679636E-2,4.3331531500308794E-4,1.6374144014299861,null,null,"SP3",0,0.87309999999999999,0.69779999999999998,6.6100000000000006E-2,4.0000000000000002E-4,1.6374]
[null,"SP4",{"$f":"C92","v":0},0.8731369456754583,0.74879877197748757,6.6088065108679636E-2,4.3331531500308794E-4,1.6884570980766287,null,null,"SP4",0,0.87309999999999999,0.74880000000000002,6.6100000000000006E-2,4.0000000000000002E-4,1.6884000000000001]
[null,"PR1",{"$f":"C93","v":0},0.8731369456754583,1.0276213439155146,6.6088065108679636E-2,4.3331531500308794E-4,1.9672796700146558,null,null,"PR1",0,0.87309999999999999,1.0276000000000001,6.6100000000000006E-2,4.0000000000000002E-4,1.9672000000000001]
[null,"SC1",{"$f":"C94","v":0},0.8731369456754583,1.2379007635820025,6.6088065108679636E-2,4.3331531500308794E-4,2.1775590896811434,null,null,"SC1",0,0.87309999999999999,1.2379,6.6100000000000006E-2,4.0000000000000002E-4,2.1774999999999998]
[null,"SC2",{"$f":"C95","v":0},0.8731369456754583,1.2379007635820023,6.6088065108679636E-2,4.3331531500308794E-4,2.177559089681143,null,null,"SC2",0,0.87309999999999999,1.2379,6.6100000000000006E-2,4.0000000000000002E-4,2.1774999999999998]
[null,"RS1",{"$f":"C96","v":0},0.8731369456754583,1.5337877981668928,6.6088065108679636E-2,4.3331531500308794E-4,2.4734461242660339,null,null,"RS1",0,0.87309999999999999,1.5338000000000001,6.6100000000000006E-2,4.0000000000000002E-4,2.4734000000000003]
[null,"EMED Gascar",{"$f":"C97","v":0},0.13405056566289181,0.13405056566289181,6.6088065108679636E-2,4.3331531500308794E-4,0.33462251174946633,null,null,"EMED Gascar",0,0.1341,0.1341,6.6100000000000006E-2,4.0000000000000002E-4,0.3347]
[null,"EMED XXX",0,0,0,0,0,0,null,null,"EMED XXX",{"$f":"ROUND(C144,4)","v":0},{"$f":"ROUND(D144,4)","v":0},{"$f":"ROUND(E144,4)","v":0},{"$f":"ROUND(F144,4)","v":0},{"$f":"ROUND(G144,4)","v":0},{"$f":"SUM(L144:P144)","v":0}]

{"sheet":"Inflação 2021  ","index":30,"n_rows":16,"n_cols":3,"rows_kept":16,"cut":false,"hidden":false,"merged":[[1,1,2,2]]}
[]
[null,"Índice utilizado para reajuste anual da RMP e Tarifas (de preços de dez/2020 para preços dez/2021)"]
[]
[null,"Índice","Peso"]
[null,"IPCA",0.45]
[null,"IGP-M",{"$f":"1-C5","v":0.55000000000000004}]
[null,"Ponderadores de acordo com a NT13"]
[]
[]
[]
[null,"IPCA",0.10059999999999999]
[null,"IGP-M",0.17780000000000001]
[null,"Mix",{"$f":"C5*C11+C6*C12","v":0.14306000000000002}]
[]
[]
[null,"Acumulado 2020-2021",{"$f":"((1+'Inflação 2020 '!C13)*(1+'Inflação 2021  '!C13))-1","v":0.31106695880000013}]

{"sheet":"TARIFAS Base 2021","index":31,"n_rows":144,"n_cols":17,"rows_kept":144,"cut":false,"hidden":false,"merged":[[101,11,101,16],[108,11,108,16],[124,11,124,16],[131,11,131,16],[131,2,131,7],[101,2,101,7],[108,2,108,7],[124,2,124,7],[1,10,1,16],[6,11,6,16],[13,11,13,16],[29,11,29,16],[36,11,36,16],[52,11,52,16],[59,11,59,16],[78,11,78,16],[85,11,85,16],[59,2,59,7],[78,2,78,7],[85,2,85,7],[52,2,52,7],[1,1,1,7],[6,2,6,7],[13,2,13,7],[29,2,29,7],[36,2,36,7]]}
[]
[null,"TARIFAS DE TRANSPORTE",null,null,null,null,null,null,null,null,"TARIFAS DE TRANSPORTE"]
[null,"*Preços de dez/2021",null,null,null,null,null,null,null,null,"*Preços de dez/2021","** Tarifas arredondadas até a quarta casa decimal"]
[]
[]
[null,"TARIFA ENTRADA (em R$/MMBtu) - (TE)",null,null,null,null,null,null,null,null,"TARIFA ENTRADA (em R$/MMBtu) - (TE)"]
[null,"em R$/MMBtu",2021,null,null,null,null,null,null,null,"em R$/MMBtu",2021]
[null,"a preços de Dez/2020","TCE","TCT","TCS","TCEmp","TM","TOTAL",null,null,"a preços de Dez/2020","TCE","TCT","TCS","TCEmp","TM","TOTAL"]
[null,"EMED Corumbá",0.8216,2.5512999999999999,0,2.9000000000000001E-2,4.0000000000000002E-4,3.4022999999999999,null,null,"EMED Corumbá",0.8216,2.5512999999999999,0,2.9000000000000001E-2,4.0000000000000002E-4,3.4022999999999999]
[null,"EMED Gascar",0.1172,2.5512999999999999,0,2.9000000000000001E-2,4.0000000000000002E-4,2.6978999999999997,null,null,"EMED Gascar",0.1172,2.5512999999999999,0,2.9000000000000001E-2,4.0000000000000002E-4,2.6978999999999997]
[null,"EMED Garuva",0.35630000000000001,2.5512999999999999,0,2.9000000000000001E-2,4.0000000000000002E-4,2.9369999999999998,null,null,"EMED Garuva",0.35630000000000001,2.5512999999999999,0,2.9000000000000001E-2,4.0000000000000002E-4,2.9369999999999998]
[]
[null,"TARIFA SAÍDA (em R$/MMBtu) - (TX)",null,null,null,null,null,null,null,null,"TARIFA SAÍDA (em R$/MMBtu) - (TX)"]
[null,"em R$/MMBtu",2021,null,null,null,null,null,null,null,"em R$/MMBtu",2021]
[null,"a preços de Dez/2020","TCE","TCT","TCS","TCEmp","TM","TOTAL",null,null,"a preços de Dez/2020","TCE","TCT","TCS","TCEmp","TM","TOTAL"]
[null,"MS1",0,1.0237000000000001,0.13370000000000001,2.9000000000000001E-2,4.0000000000000002E-4,1.1867999999999999,null,null,"MS1",0,1.0237000000000001,0.13370000000000001,2.9000000000000001E-2,4.0000000000000002E-4,1.1867999999999999]
[null,"SP1",0,1.0237000000000001,0.19539999999999999,2.9000000000000001E-2,4.0000000000000002E-4,1.2484999999999999,null,null,"SP1",0,1.0237000000000001,0.19539999999999999,2.9000000000000001E-2,4.0000000000000002E-4,1.2484999999999999]
[null,"SP2",0,1.0237000000000001,0.23369999999999999,2.9000000000000001E-2,4.0000000000000002E-4,1.2867999999999999,null,null,"SP2",0,1.0237000000000001,0.23369999999999999,2.9000000000000001E-2,4.0000000000000002E-4,1.2867999999999999]
[null,"SP3",0,1.0237000000000001,0.2336,2.9000000000000001E-2,4.0000000000000002E-4,1.2867,null,null,"SP3",0,1.0237000000000001,0.2336,2.9000000000000001E-2,4.0000000000000002E-4,1.2867]
[null,"SP4",0,1.0237000000000001,0.2505,2.9000000000000001E-2,4.0000000000000002E-4,1.3035999999999999,null,null,"SP4",0,1.0237000000000001,0.2505,2.9000000000000001E-2,4.0000000000000002E-4,1.3035999999999999]
[null,"PR1",0,1.0237000000000001,0.34289999999999998,2.9000000000000001E-2,4.0000000000000002E-4,1.3959999999999999,null,null,"PR1",0,1.0237000000000001,0.34289999999999998,2.9000000000000001E-2,4.0000000000000002E-4,1.3959999999999999]
[null,"SC1",0,1.0237000000000001,0.41260000000000002,2.9000000000000001E-2,4.0000000000000002E-4,1.4657,null,null,"SC1",0,1.0237000000000001,0.41260000000000002,2.9000000000000001E-2,4.0000000000000002E-4,1.4657]
[null,"SC2",0,1.0237000000000001,0.41260000000000002,2.9000000000000001E-2,4.0000000000000002E-4,1.4657,null,null,"SC2",0,1.0237000000000001,0.41260000000000002,2.9000000000000001E-2,4.0000000000000002E-4,1.4657]
[null,"RS1",0,1.0237000000000001,0.51060000000000005,2.9000000000000001E-2,4.0000000000000002E-4,1.5636999999999999,null,null,"RS1",0,1.0237000000000001,0.51060000000000005,2.9000000000000001E-2,4.0000000000000002E-4,1.5636999999999999]
[null,"EMED Gascar",0,1.0237000000000001,0.22770000000000001,2.9000000000000001E-2,4.0000000000000002E-4,1.2807999999999999,null,null,"EMED Gascar",0,1.0237000000000001,0.22770000000000001,2.9000000000000001E-2,4.0000000000000002E-4,1.2807999999999999]
[null,"EMED XXX",0,0,0,0,0,0,null,null,"EMED XXX",0,0,0,0,0,0]
[]
[]
[null,"TARIFA ENTRADA (em R$/MMBtu) - (TE)",null,null,null,null,null,null,null,null,"TARIFA ENTRADA (em R$/MMBtu) - (TE)"]
[null,"em R$/MMBtu",2022,null,null,null,null,null,null,null,"em R$/MMBtu",2022]
[null,"a preços de Dez/2020","TCE","TCT","TCS","TCEmp","TM","TOTAL",null,null,"a preços de Dez/2021","TCE","TCT","TCS","TCEmp","TM","TOTAL"]
[null,"EMED Corumbá",{"$f":"'TARIFAS Base 2020'!C32*(1+'Inflação 2021  '!$C$13)","v":1.5769659858172904},{"$f":"'TARIFAS Base 2020'!D32*(1+'Inflação 2021  '!$C$13)","v":2.7143822236991273},{"$f":"'TARIFAS Base 2020'!E32*(1+'Inflação 2021  '!$C$13)","v":0},{"$f":"'TARIFAS Base 2020'!F32*(1+'Inflação 2021  '!$C$13)","v":0.12546491936280554},{"$f":"'TARIFAS Base 2020'!G32*(1+'Inflação 2021  '!$C$13)","v":5.4124828242668765E-4},{"$f":"SUM(C32:G32)","v":4.4173543771616499},null,null,"EMED Corumbá",{"$f":"ROUND(C32,4)","v":1.577},{"$f":"ROUND(D32,4)","v":2.7143999999999999},0,0.1255,5.0000000000000001E-4,{"$f":"SUM(L32:P32)","v":4.4173999999999989}]
[null,"EMED Gascar",{"$f":"'TARIFAS Base 2020'!C33*(1+'Inflação 2021  '!$C$13)","v":0.30918761780513332},{"$f":"'TARIFAS Base 2020'!D33*(1+'Inflação 2021  '!$C$13)","v":2.7143822236991273},{"$f":"'TARIFAS Base 2020'!E33*(1+'Inflação 2021  '!$C$13)","v":0},{"$f":"'TARIFAS Base 2020'!F33*(1+'Inflação 2021  '!$C$13)","v":0.12546491936280554},{"$f":"'TARIFAS Base 2020'!G33*(1+'Inflação 2021  '!$C$13)","v":5.4124828242668765E-4},{"$f":"SUM(C33:G33)","v":3.1495760091494929},null,null,"EMED Gascar",{"$f":"ROUND(C33,4)","v":0.30919999999999997},{"$f":"ROUND(D33,4)","v":2.7143999999999999},{"$f":"ROUND(E33,4)","v":0},{"$f":"ROUND(F33,4)","v":0.1255},{"$f":"ROUND(G33,4)","v":5.0000000000000001E-4},{"$f":"SUM(L33:P33)","v":3.1496000000000004}]
[null,"EMED Garuva",{"$f":"'TARIFAS Base 2020'!C34*(1+'Inflação 2021  '!$C$13)","v":0.67093100023177488},{"$f":"'TARIFAS Base 2020'!D34*(1+'Inflação 2021  '!$C$13)","v":2.7143822236991273},{"$f":"'TARIFAS Base 2020'!E34*(1+'Inflação 2021  '!$C$13)","v":0},{"$f":"'TARIFAS Base 2020'!F34*(1+'Inflação 2021  '!$C$13)","v":0.12546491936280554},{"$f":"'TARIFAS Base 2020'!G34*(1+'Inflação 2021  '!$C$13)","v":5.4124828242668765E-4},3.5113193915761345,null,null,"EMED Garuva",0.67090000000000005,2.7143999999999999,0,0.1255,5.0000000000000001E-4,{"$f":"SUM(L34:P34)","v":3.5113000000000003}]
[]
[null,"TARIFA SAÍDA (em R$/MMBtu) - (TX)",null,null,null,null,null,null,null,null,"TARIFA SAÍDA (em R$/MMBtu) - (TX)"]
[null,"em R$/MMBtu",2022,null,null,null,null,null,null,null,"em R$/MMBtu",2022]
[null,"a preços de Dez/2020","TCE","TCT","TCS","TCEmp","TM","TOTAL",null,null,{"$f":"K31","v":"a preços de Dez/2021"},"TCE","TCT","TCS","TCEmp","TM","TOTAL"]
[null,"MS1",{"$f":"'TARIFAS Base 2020'!C39*(1+'Inflação 2021  '!$C$13)","v":0},{"$f":"'TARIFAS Base 2020'!D39*(1+'Inflação 2021  '!$C$13)","v":1.3567903598083451},{"$f":"'TARIFAS Base 2020'!E39*(1+'Inflação 2021  '!$C$13)","v":0.34217889983601796},{"$f":"'TARIFAS Base 2020'!F39*(1+'Inflação 2021  '!$C$13)","v":0.12546491936280554},{"$f":"'TARIFAS Base 2020'!G39*(1+'Inflação 2021  '!$C$13)","v":5.4124828242668765E-4},{"$f":"SUM(C39:G39)","v":1.8249754272895953},null,null,"MS1",{"$f":"ROUND(C39,4)","v":0},{"$f":"ROUND(D39,4)","v":1.3568},0.3422,0.1255,5.0000000000000001E-4,{"$f":"SUM(L39:P39)","v":1.825}]
[null,"SP1",{"$f":"'TARIFAS Base 2020'!C40*(1+'Inflação 2021  '!$C$13)","v":0},{"$f":"'TARIFAS Base 2020'!D40*(1+'Inflação 2021  '!$C$13)","v":1.3567903598083451},{"$f":"'TARIFAS Base 2020'!E40*(1+'Inflação 2021  '!$C$13)","v":0.43111103670315276},{"$f":"'TARIFAS Base 2020'!F40*(1+'Inflação 2021  '!$C$13)","v":0.12546491936280554},{"$f":"'TARIFAS Base 2020'!G40*(1+'Inflação 2021  '!$C$13)","v":5.4124828242668765E-4},{"$f":"SUM(C40:G40)","v":1.91390756415673},null,null,"SP1",{"$f":"ROUND(C40,4)","v":0},{"$f":"ROUND(D40,4)","v":1.3568},{"$f":"ROUND(E40,4)","v":0.43109999999999998},{"$f":"ROUND(F40,4)","v":0.1255},{"$f":"ROUND(G40,4)","v":5.0000000000000001E-4},{"$f":"SUM(L40:P40)","v":1.9138999999999999}]
[null,"SP2",{"$f":"'TARIFAS Base 2020'!C41*(1+'Inflação 2021  '!$C$13)","v":0},{"$f":"'TARIFAS Base 2020'!D41*(1+'Inflação 2021  '!$C$13)","v":1.3567903598083451},{"$f":"'TARIFAS Base 2020'!E41*(1+'Inflação 2021  '!$C$13)","v":0.49315596333703576},{"$f":"'TARIFAS Base 2020'!F41*(1+'Inflação 2021  '!$C$13)","v":0.12546491936280554},{"$f":"'TARIFAS Base 2020'!G41*(1+'Inflação 2021  '!$C$13)","v":5.4124828242668765E-4},1.975952490790613,null,null,"SP2",0,1.3568,0.49320000000000003,0.1255,5.0000000000000001E-4,1.976]
[null,"SP3",{"$f":"'TARIFAS Base 2020'!C42*(1+'Inflação 2021  '!$C$13)","v":0},{"$f":"'TARIFAS Base 2020'!D42*(1+'Inflação 2021  '!$C$13)","v":1.3567903598083451},{"$f":"'TARIFAS Base 2020'!E42*(1+'Inflação 2021  '!$C$13)","v":0.48913724767539618},{"$f":"'TARIFAS Base 2020'!F42*(1+'Inflação 2021  '!$C$13)","v":0.12546491936280554},{"$f":"'TARIFAS Base 2020'!G42*(1+'Inflação 2021  '!$C$13)","v":5.4124828242668765E-4},1.9719337751289734,null,null,"SP3",0,1.3568,0.48909999999999998,0.1255,5.0000000000000001E-4,1.9718999999999998]
[null,"SP4",{"$f":"'TARIFAS Base 2020'!C43*(1+'Inflação 2021  '!$C$13)","v":0},{"$f":"'TARIFAS Base 2020'!D43*(1+'Inflação 2021  '!$C$13)","v":1.3567903598083451},{"$f":"'TARIFAS Base 2020'!E43*(1+'Inflação 2021  '!$C$13)","v":0.52122933176501496},{"$f":"'TARIFAS Base 2020'!F43*(1+'Inflação 2021  '!$C$13)","v":0.12546491936280554},{"$f":"'TARIFAS Base 2020'!G43*(1+'Inflação 2021  '!$C$13)","v":5.4124828242668765E-4},2.0040258592185922,null,null,"SP4",0,1.3568,0.5212,0.1255,5.0000000000000001E-4,2.0040000000000004]
[null,"PR1",{"$f":"'TARIFAS Base 2020'!C44*(1+'Inflação 2021  '!$C$13)","v":0},{"$f":"'TARIFAS Base 2020'!D44*(1+'Inflação 2021  '!$C$13)","v":1.3567903598083451},{"$f":"'TARIFAS Base 2020'!E44*(1+'Inflação 2021  '!$C$13)","v":0.69952112629590579},{"$f":"'TARIFAS Base 2020'!F44*(1+'Inflação 2021  '!$C$13)","v":0.12546491936280554},{"$f":"'TARIFAS Base 2020'!G44*(1+'Inflação 2021  '!$C$13)","v":5.4124828242668765E-4},2.1823176537494833,null,null,"PR1",0,1.3568,0.69950000000000001,0.1255,5.0000000000000001E-4,2.1823000000000006]
[null,"SC1",{"$f":"'TARIFAS Base 2020'!C45*(1+'Inflação 2021  '!$C$13)","v":0},{"$f":"'TARIFAS Base 2020'!D45*(1+'Inflação 2021  '!$C$13)","v":1.3567903598083451},{"$f":"'TARIFAS Base 2020'!E45*(1+'Inflação 2021  '!$C$13)","v":0.84997202414671003},{"$f":"'TARIFAS Base 2020'!F45*(1+'Inflação 2021  '!$C$13)","v":0.12546491936280554},{"$f":"'TARIFAS Base 2020'!G45*(1+'Inflação 2021  '!$C$13)","v":5.4124828242668765E-4},2.3327685516002874,null,null,"SC1",0,1.3568,0.85,0.1255,5.0000000000000001E-4,2.3328000000000002]
[null,"SC2",{"$f":"'TARIFAS Base 2020'!C46*(1+'Inflação 2021  '!$C$13)","v":0},{"$f":"'TARIFAS Base 2020'!D46*(1+'Inflação 2021  '!$C$13)","v":1.3567903598083451},{"$f":"'TARIFAS Base 2020'!E46*(1+'Inflação 2021  '!$C$13)","v":0.84997202414671003},{"$f":"'TARIFAS Base 2020'!F46*(1+'Inflação 2021  '!$C$13)","v":0.12546491936280554},{"$f":"'TARIFAS Base 2020'!G46*(1+'Inflação 2021  '!$C$13)","v":5.4124828242668765E-4},2.3327685516002874,null,null,"SC2",0,1.3568,0.85,0.1255,5.0000000000000001E-4,2.3328000000000002]
[null,"RS1",{"$f":"'TARIFAS Base 2020'!C47*(1+'Inflação 2021  '!$C$13)","v":0},{"$f":"'TARIFAS Base 2020'!D47*(1+'Inflação 2021  '!$C$13)","v":1.3567903598083451},{"$f":"'TARIFAS Base 2020'!E47*(1+'Inflação 2021  '!$C$13)","v":1.0717643195719047},{"$f":"'TARIFAS Base 2020'!F47*(1+'Inflação 2021  '!$C$13)","v":0.12546491936280554},{"$f":"'TARIFAS Base 2020'!G47*(1+'Inflação 2021  '!$C$13)","v":5.4124828242668765E-4},2.5545608470254821,null,null,"RS1",0,1.3568,1.0718000000000001,0.1255,5.0000000000000001E-4,2.5546000000000006]
[null,"EMED Gascar",{"$f":"'TARIFAS Base 2020'!C48*(1+'Inflação 2021  '!$C$13)","v":0},{"$f":"'TARIFAS Base 2020'!D48*(1+'Inflação 2021  '!$C$13)","v":1.3567903598083451},{"$f":"'TARIFAS Base 2020'!E48*(1+'Inflação 2021  '!$C$13)","v":0.47780916878069613},{"$f":"'TARIFAS Base 2020'!F48*(1+'Inflação 2021  '!$C$13)","v":0.12546491936280554},{"$f":"'TARIFAS Base 2020'!G48*(1+'Inflação 2021  '!$C$13)","v":5.4124828242668765E-4},1.9606056962342735,null,null,"EMED Gascar",0,1.3568,0.4778,0.1255,5.0000000000000001E-4,1.9605999999999999]
[null,"EMED XXX",{"$f":"'TARIFAS Base 2020'!C49*(1+'Inflação 2021  '!$C$13)","v":0},{"$f":"'TARIFAS Base 2020'!D49*(1+'Inflação 2021  '!$C$13)","v":0},{"$f":"'TARIFAS Base 2020'!E49*(1+'Inflação 2021  '!$C$13)","v":0},{"$f":"'TARIFAS Base 2020'!F49*(1+'Inflação 2021  '!$C$13)","v":0},{"$f":"'TARIFAS Base 2020'!G49*(1+'Inflação 2021  '!$C$13)","v":0},0,null,null,"EMED XXX",0,0,0,0,0,0]
[]
[]
[null,"TARIFA ENTRADA (em R$/MMBtu) - (TE)",null,null,null,null,null,null,null,null,"TARIFA ENTRADA (em R$/MMBtu) - (TE)"]
[null,"em R$/MMBtu",2023,null,null,null,null,null,null,null,"em R$/MMBtu",2023]
[null,"a preços de Dez/2020","TCE","TCT","TCS","TCEmp","TM","TOTAL",null,null,{"$f":"K31","v":"a preços de Dez/2021"},"TCE","TCT","TCS","TCEmp","TM","TOTAL"]
[null,"EMED Corumbá",{"$f":"'TARIFAS Base 2020'!C55*(1+'Inflação 2021  '!$C$13)","v":1.9507793180187625},{"$f":"'TARIFAS Base 2020'!D55*(1+'Inflação 2021  '!$C$13)","v":2.9261688469983906},{"$f":"'TARIFAS Base 2020'!E55*(1+'Inflação 2021  '!$C$13)","v":0},{"$f":"'TARIFAS Base 2020'!F55*(1+'Inflação 2021  '!$C$13)","v":7.4945207924603033E-2},{"$f":"'TARIFAS Base 2020'!G55*(1+'Inflação 2021  '!$C$13)","v":4.9138836681657065E-4},{"$f":"SUM(C55:G55)","v":4.952384761308573},null,null,"EMED Corumbá",{"$f":"ROUND(C55,4)","v":1.9508000000000001},{"$f":"ROUND(D55,4)","v":2.9262000000000001},0,7.4899999999999994E-2,5.0000000000000001E-4,{"$f":"SUM(L55:P55)","v":4.9524000000000008}]
[null,"EMED Gascar",{"$f":"'TARIFAS Base 2020'!C56*(1+'Inflação 2021  '!$C$13)","v":6.9149498269220566E-2},{"$f":"'TARIFAS Base 2020'!D56*(1+'Inflação 2021  '!$C$13)","v":0.10372424740383085},{"$f":"'TARIFAS Base 2020'!E56*(1+'Inflação 2021  '!$C$13)","v":0},{"$f":"'TARIFAS Base 2020'!F56*(1+'Inflação 2021  '!$C$13)","v":7.4945207924603033E-2},{"$f":"'TARIFAS Base 2020'!G56*(1+'Inflação 2021  '!$C$13)","v":4.9138836681657065E-4},{"$f":"SUM(C56:G56)","v":0.24831034196447099},null,null,"EMED Gascar",{"$f":"ROUND(C56,4)","v":6.9099999999999995E-2},{"$f":"ROUND(D56,4)","v":0.1037},{"$f":"ROUND(E56,4)","v":0},{"$f":"ROUND(F56,4)","v":7.4899999999999994E-2},{"$f":"ROUND(G56,4)","v":5.0000000000000001E-4},{"$f":"SUM(L56:P56)","v":0.2482}]
[null,"EMED Garuva",{"$f":"'TARIFAS Base 2020'!C57*(1+'Inflação 2021  '!$C$13)","v":0.73716820316775555},{"$f":"'TARIFAS Base 2020'!D57*(1+'Inflação 2021  '!$C$13)","v":2.9261688469983906},{"$f":"'TARIFAS Base 2020'!E57*(1+'Inflação 2021  '!$C$13)","v":0},{"$f":"'TARIFAS Base 2020'!F57*(1+'Inflação 2021  '!$C$13)","v":7.4945207924603033E-2},{"$f":"'TARIFAS Base 2020'!G57*(1+'Inflação 2021  '!$C$13)","v":4.9138836681657065E-4},3.7387736464575658,null,null,"EMED Garuva",0.73719999999999997,2.9262000000000001,0,7.4899999999999994E-2,5.0000000000000001E-4,3.7388000000000003]
[]
[null,"TARIFA SAÍDA (em R$/MMBtu) - (TX)",null,null,null,null,null,null,null,null,"TARIFA SAÍDA (em R$/MMBtu) - (TX)"]
[null,"em R$/MMBtu",2023,null,null,null,null,null,null,null,"em R$/MMBtu",2023]
[null,"a preços de Dez/2020","TCE","TCT","TCS","TCEmp","TM","TOTAL",null,null,{"$f":"K38","v":"a preços de Dez/2021"},"TCE","TCT","TCS","TCEmp","TM","TOTAL"]
[null,"MS1",{"$f":"'TARIFAS Base 2020'!C62*(1+'Inflação 2021  '!$C$13)","v":0},{"$f":"'TARIFAS Base 2020'!D62*(1+'Inflação 2021  '!$C$13)","v":1.1562612758336632},{"$f":"'TARIFAS Base 2020'!E62*(1+'Inflação 2021  '!$C$13)","v":0.33539905604454878},{"$f":"'TARIFAS Base 2020'!F62*(1+'Inflação 2021  '!$C$13)","v":7.4945207924603033E-2},{"$f":"'TARIFAS Base 2020'!G62*(1+'Inflação 2021  '!$C$13)","v":4.9138836681657065E-4},{"$f":"SUM(C62:G62)","v":1.5670969281696316},null,null,"MS1",{"$f":"ROUND(C62,4)","v":0},{"$f":"ROUND(D62,4)","v":1.1563000000000001},0.33539999999999998,7.4899999999999994E-2,5.0000000000000001E-4,{"$f":"SUM(L62:P62)","v":1.5670999999999999}]
[null,"SP1",{"$f":"'TARIFAS Base 2020'!C63*(1+'Inflação 2021  '!$C$13)","v":0},{"$f":"'TARIFAS Base 2020'!D63*(1+'Inflação 2021  '!$C$13)","v":1.1562612758336632},{"$f":"'TARIFAS Base 2020'!E63*(1+'Inflação 2021  '!$C$13)","v":0.52018816306492466},{"$f":"'TARIFAS Base 2020'!F63*(1+'Inflação 2021  '!$C$13)","v":7.4945207924603033E-2},{"$f":"'TARIFAS Base 2020'!G63*(1+'Inflação 2021  '!$C$13)","v":4.9138836681657065E-4},{"$f":"SUM(C63:G63)","v":1.7518860351900076},null,null,"SP1",{"$f":"ROUND(C63,4)","v":0},{"$f":"ROUND(D63,4)","v":1.1563000000000001},{"$f":"ROUND(E63,4)","v":0.5202},{"$f":"ROUND(F63,4)","v":7.4899999999999994E-2},{"$f":"ROUND(G63,4)","v":5.0000000000000001E-4},{"$f":"SUM(L63:P63)","v":1.7519}]
[null,"SP2",{"$f":"'TARIFAS Base 2020'!C64*(1+'Inflação 2021  '!$C$13)","v":0},{"$f":"'TARIFAS Base 2020'!D64*(1+'Inflação 2021  '!$C$13)","v":1.1562612758336632},{"$f":"'TARIFAS Base 2020'!E64*(1+'Inflação 2021  '!$C$13)","v":0.63201387324057667},{"$f":"'TARIFAS Base 2020'!F64*(1+'Inflação 2021  '!$C$13)","v":7.4945207924603033E-2},{"$f":"'TARIFAS Base 2020'!G64*(1+'Inflação 2021  '!$C$13)","v":4.9138836681657065E-4},1.8637117453656595,null,null,"SP2",0,1.1563000000000001,0.63200000000000001,7.4899999999999994E-2,5.0000000000000001E-4,1.8636999999999999]
[null,"SP3",{"$f":"'TARIFAS Base 2020'!C65*(1+'Inflação 2021  '!$C$13)","v":0},{"$f":"'TARIFAS Base 2020'!D65*(1+'Inflação 2021  '!$C$13)","v":1.1562612758336632},{"$f":"'TARIFAS Base 2020'!E65*(1+'Inflação 2021  '!$C$13)","v":0.63236860895446934},{"$f":"'TARIFAS Base 2020'!F65*(1+'Inflação 2021  '!$C$13)","v":7.4945207924603033E-2},{"$f":"'TARIFAS Base 2020'!G65*(1+'Inflação 2021  '!$C$13)","v":4.9138836681657065E-4},1.8640664810795522,null,null,"SP3",0,1.1563000000000001,0.63239999999999996,7.4899999999999994E-2,5.0000000000000001E-4,1.8640999999999999]
[null,"SP4",{"$f":"'TARIFAS Base 2020'!C66*(1+'Inflação 2021  '!$C$13)","v":0},{"$f":"'TARIFAS Base 2020'!D66*(1+'Inflação 2021  '!$C$13)","v":1.1562612758336632},{"$f":"'TARIFAS Base 2020'!E66*(1+'Inflação 2021  '!$C$13)","v":0.67588539117350444},{"$f":"'TARIFAS Base 2020'!F66*(1+'Inflação 2021  '!$C$13)","v":7.4945207924603033E-2},{"$f":"'TARIFAS Base 2020'!G66*(1+'Inflação 2021  '!$C$13)","v":4.9138836681657065E-4},1.9075832632985872,null,null,"SP4",0,1.1563000000000001,0.67589999999999995,7.4899999999999994E-2,5.0000000000000001E-4,1.9076]
[null,"PR1",{"$f":"'TARIFAS Base 2020'!C67*(1+'Inflação 2021  '!$C$13)","v":0},{"$f":"'TARIFAS Base 2020'!D67*(1+'Inflação 2021  '!$C$13)","v":1.1562612758336632},{"$f":"'TARIFAS Base 2020'!E67*(1+'Inflação 2021  '!$C$13)","v":0.91359738418658754},{"$f":"'TARIFAS Base 2020'!F67*(1+'Inflação 2021  '!$C$13)","v":7.4945207924603033E-2},{"$f":"'TARIFAS Base 2020'!G67*(1+'Inflação 2021  '!$C$13)","v":4.9138836681657065E-4},2.1452952563116705,null,null,"PR1",0,1.1563000000000001,0.91359999999999997,7.4899999999999994E-2,5.0000000000000001E-4,2.1453000000000002]
[null,"SC1",{"$f":"'TARIFAS Base 2020'!C68*(1+'Inflação 2021  '!$C$13)","v":0},{"$f":"'TARIFAS Base 2020'!D68*(1+'Inflação 2021  '!$C$13)","v":1.1562612758336632},{"$f":"'TARIFAS Base 2020'!E68*(1+'Inflação 2021  '!$C$13)","v":1.0928724687710534},{"$f":"'TARIFAS Base 2020'!F68*(1+'Inflação 2021  '!$C$13)","v":7.4945207924603033E-2},{"$f":"'TARIFAS Base 2020'!G68*(1+'Inflação 2021  '!$C$13)","v":4.9138836681657065E-4},2.3245703408961362,null,null,"SC1",0,1.1563000000000001,1.0929,7.4899999999999994E-2,5.0000000000000001E-4,2.3246000000000002]
[null,"SC2",{"$f":"'TARIFAS Base 2020'!C69*(1+'Inflação 2021  '!$C$13)","v":0},{"$f":"'TARIFAS Base 2020'!D69*(1+'Inflação 2021  '!$C$13)","v":1.1562612758336632},{"$f":"'TARIFAS Base 2020'!E69*(1+'Inflação 2021  '!$C$13)","v":1.0928724687710534},{"$f":"'TARIFAS Base 2020'!F69*(1+'Inflação 2021  '!$C$13)","v":7.4945207924603033E-2},{"$f":"'TARIFAS Base 2020'!G69*(1+'Inflação 2021  '!$C$13)","v":4.9138836681657065E-4},2.3245703408961362,null,null,"SC2",0,1.1563000000000001,1.0929,7.4899999999999994E-2,5.0000000000000001E-4,2.3246000000000002]
[null,"RS1",{"$f":"'TARIFAS Base 2020'!C70*(1+'Inflação 2021  '!$C$13)","v":0},{"$f":"'TARIFAS Base 2020'!D70*(1+'Inflação 2021  '!$C$13)","v":1.1562612758336632},{"$f":"'TARIFAS Base 2020'!E70*(1+'Inflação 2021  '!$C$13)","v":1.3451328818257977},{"$f":"'TARIFAS Base 2020'!F70*(1+'Inflação 2021  '!$C$13)","v":7.4945207924603033E-2},{"$f":"'TARIFAS Base 2020'!G70*(1+'Inflação 2021  '!$C$13)","v":4.9138836681657065E-4},2.5768307539508806,null,null,"RS1",0,1.1563000000000001,1.3451,7.4899999999999994E-2,5.0000000000000001E-4,2.5768000000000004]
[null,"EMED Gascar",{"$f":"'TARIFAS Base 2020'!C71*(1+'Inflação 2021  '!$C$13)","v":0},{"$f":"'TARIFAS Base 2020'!D71*(1+'Inflação 2021  '!$C$13)","v":0.18243697900234201},{"$f":"'TARIFAS Base 2020'!E71*(1+'Inflação 2021  '!$C$13)","v":0.12162465266822803},{"$f":"'TARIFAS Base 2020'!F71*(1+'Inflação 2021  '!$C$13)","v":7.4945207924603033E-2},{"$f":"'TARIFAS Base 2020'!G71*(1+'Inflação 2021  '!$C$13)","v":4.9138836681657065E-4},0.37949822796198962,null,null,"EMED Gascar",0,0.18240000000000001,0.1216,7.4899999999999994E-2,5.0000000000000001E-4,0.37940000000000002]
[null,"EMED XXX",{"$f":"'TARIFAS Base 2020'!C72*(1+'Inflação 2021  '!$C$13)","v":0},{"$f":"'TARIFAS Base 2020'!D72*(1+'Inflação 2021  '!$C$13)","v":0},{"$f":"'TARIFAS Base 2020'!E72*(1+'Inflação 2021  '!$C$13)","v":0},{"$f":"'TARIFAS Base 2020'!F72*(1+'Inflação 2021  '!$C$13)","v":0},{"$f":"'TARIFAS Base 2020'!G72*(1+'Inflação 2021  '!$C$13)","v":0},0,null,null,"EMED XXX",0,0,0,0,0,0]
[]
[]
[null,{"$f":"B2","v":"TARIFAS DE TRANSPORTE"},null,null,null,null,null,null,null,null,{"$f":"K2","v":"TARIFAS DE TRANSPORTE"}]
[null,"*Preços de dez/2021",null,null,null,null,null,null,null,null,"*Preços de dez/2021","** Tarifas arredondadas até a quarta casa decimal"]
[]
[null,"TARIFA ENTRADA (em R$/MMBtu) - (TE)",null,null,null,null,null,null,null,null,"TARIFA ENTRADA (em R$/MMBtu) - (TE)"]
[null,"em R$/MMBtu",2024,null,null,null,null,null,null,null,"em R$/MMBtu",2024]
[null,"a preços de Dez/2020","TCE","TCT","TCS","TCEmp","TM","TOTAL",null,null,{"$f":"K54","v":"a preços de Dez/2021"},"TCE","TCT","TCS","TCEmp","TM","TOTAL"]
[null,"EMED Corumbá",{"$f":"'TARIFAS Base 2020'!C81*(1+'Inflação 2021  '!$C$13)","v":2.5718450810412894},{"$f":"'TARIFAS Base 2020'!D81*(1+'Inflação 2021  '!$C$13)","v":2.5718449652380206},{"$f":"'TARIFAS Base 2020'!E81*(1+'Inflação 2021  '!$C$13)","v":0},{"$f":"'TARIFAS Base 2020'!F81*(1+'Inflação 2021  '!$C$13)","v":7.5542623703127337E-2},{"$f":"'TARIFAS Base 2020'!G81*(1+'Inflação 2021  '!$C$13)","v":4.9530540396742963E-4},{"$f":"SUM(C81:G81)","v":5.2197279753864052},null,null,"EMED Corumbá",{"$f":"ROUND(C81,4)","v":2.5718000000000001},{"$f":"ROUND(D81,4)","v":2.5718000000000001},0,7.5499999999999998E-2,5.0000000000000001E-4,{"$f":"SUM(L81:P81)","v":5.2195999999999998}]
[null,"EMED Gascar",{"$f":"'TARIFAS Base 2020'!C82*(1+'Inflação 2021  '!$C$13)","v":9.3849983037666562E-2},{"$f":"'TARIFAS Base 2020'!D82*(1+'Inflação 2021  '!$C$13)","v":9.3849983037666548E-2},{"$f":"'TARIFAS Base 2020'!E82*(1+'Inflação 2021  '!$C$13)","v":0},{"$f":"'TARIFAS Base 2020'!F82*(1+'Inflação 2021  '!$C$13)","v":7.5542623703127337E-2},{"$f":"'TARIFAS Base 2020'!G82*(1+'Inflação 2021  '!$C$13)","v":4.9530540396742963E-4},{"$f":"SUM(C82:G82)","v":0.26373789518242791},null,null,"EMED Gascar",{"$f":"ROUND(C82,4)","v":9.3799999999999994E-2},{"$f":"ROUND(D82,4)","v":9.3799999999999994E-2},{"$f":"ROUND(E82,4)","v":0},{"$f":"ROUND(F82,4)","v":7.5499999999999998E-2},{"$f":"ROUND(G82,4)","v":5.0000000000000001E-4},{"$f":"SUM(L82:P82)","v":0.2636}]
[null,"EMED Garuva",{"$f":"'TARIFAS Base 2020'!C83*(1+'Inflação 2021  '!$C$13)","v":0.95059920619494398},{"$f":"'TARIFAS Base 2020'!D83*(1+'Inflação 2021  '!$C$13)","v":2.5718449652380206},{"$f":"'TARIFAS Base 2020'!E83*(1+'Inflação 2021  '!$C$13)","v":0},{"$f":"'TARIFAS Base 2020'!F83*(1+'Inflação 2021  '!$C$13)","v":7.5542623703127337E-2},{"$f":"'TARIFAS Base 2020'!G83*(1+'Inflação 2021  '!$C$13)","v":4.9530540396742963E-4},3.5984821005400596,null,null,"EMED Garuva",0.9506,2.5718000000000001,0,7.5499999999999998E-2,5.0000000000000001E-4,3.5984000000000003]
[]
[null,"TARIFA SAÍDA (em R$/MMBtu) - (TX)",null,null,null,null,null,null,null,null,"TARIFA SAÍDA (em R$/MMBtu) - (TX)"]
[null,"em R$/MMBtu",2024,null,null,null,null,null,null,null,"em R$/MMBtu",2024]
[null,"a preços de Dez/2020","TCE","TCT","TCS","TCEmp","TM","TOTAL",null,null,{"$f":"K61","v":"a preços de Dez/2021"},"TCE","TCT","TCS","TCEmp","TM","TOTAL"]
[null,"MS1",{"$f":"'TARIFAS Base 2020'!C88*(1+'Inflação 2021  '!$C$13)","v":0},{"$f":"'TARIFAS Base 2020'!D88*(1+'Inflação 2021  '!$C$13)","v":0.99804791712378937},{"$f":"'TARIFAS Base 2020'!E88*(1+'Inflação 2021  '!$C$13)","v":0.46357497813043635},{"$f":"'TARIFAS Base 2020'!F88*(1+'Inflação 2021  '!$C$13)","v":7.5542623703127337E-2},{"$f":"'TARIFAS Base 2020'!G88*(1+'Inflação 2021  '!$C$13)","v":4.9530540396742963E-4},{"$f":"SUM(C88:G88)","v":1.5376608243613203},null,null,"MS1",{"$f":"ROUND(C88,4)","v":0},{"$f":"ROUND(D88,4)","v":0.998},0.46360000000000001,7.5499999999999998E-2,5.0000000000000001E-4,{"$f":"SUM(L88:P88)","v":1.5375999999999999}]
[null,"SP1",{"$f":"'TARIFAS Base 2020'!C89*(1+'Inflação 2021  '!$C$13)","v":0},{"$f":"'TARIFAS Base 2020'!D89*(1+'Inflação 2021  '!$C$13)","v":0.99804791712378937},{"$f":"'TARIFAS Base 2020'!E89*(1+'Inflação 2021  '!$C$13)","v":0.66926244725646966},{"$f":"'TARIFAS Base 2020'!F89*(1+'Inflação 2021  '!$C$13)","v":7.5542623703127337E-2},{"$f":"'TARIFAS Base 2020'!G89*(1+'Inflação 2021  '!$C$13)","v":4.9530540396742963E-4},{"$f":"SUM(C89:G89)","v":1.7433482934873537},null,null,"SP1",{"$f":"ROUND(C89,4)","v":0},{"$f":"ROUND(D89,4)","v":0.998},{"$f":"ROUND(E89,4)","v":0.66930000000000001},{"$f":"ROUND(F89,4)","v":7.5499999999999998E-2},{"$f":"ROUND(G89,4)","v":5.0000000000000001E-4},{"$f":"SUM(L89:P89)","v":1.7432999999999998}]
[null,"SP2",{"$f":"'TARIFAS Base 2020'!C90*(1+'Inflação 2021  '!$C$13)","v":0},{"$f":"'TARIFAS Base 2020'!D90*(1+'Inflação 2021  '!$C$13)","v":0.99804791712378937},{"$f":"'TARIFAS Base 2020'!E90*(1+'Inflação 2021  '!$C$13)","v":0.79796017682557163},{"$f":"'TARIFAS Base 2020'!F90*(1+'Inflação 2021  '!$C$13)","v":7.5542623703127337E-2},{"$f":"'TARIFAS Base 2020'!G90*(1+'Inflação 2021  '!$C$13)","v":4.9530540396742963E-4},1.8720460230564557,null,null,"SP2",0,0.998,0.79800000000000004,7.5499999999999998E-2,5.0000000000000001E-4,1.8719999999999999]
[null,"SP3",{"$f":"'TARIFAS Base 2020'!C91*(1+'Inflação 2021  '!$C$13)","v":0},{"$f":"'TARIFAS Base 2020'!D91*(1+'Inflação 2021  '!$C$13)","v":0.99804791712378937},{"$f":"'TARIFAS Base 2020'!E91*(1+'Inflação 2021  '!$C$13)","v":0.79757705946767543},{"$f":"'TARIFAS Base 2020'!F91*(1+'Inflação 2021  '!$C$13)","v":7.5542623703127337E-2},{"$f":"'TARIFAS Base 2020'!G91*(1+'Inflação 2021  '!$C$13)","v":4.9530540396742963E-4},1.8716629056985594,null,null,"SP3",0,0.998,0.79759999999999998,7.5499999999999998E-2,5.0000000000000001E-4,1.8715999999999997]
[null,"SP4",{"$f":"'TARIFAS Base 2020'!C92*(1+'Inflação 2021  '!$C$13)","v":0},{"$f":"'TARIFAS Base 2020'!D92*(1+'Inflação 2021  '!$C$13)","v":0.99804791712378937},{"$f":"'TARIFAS Base 2020'!E92*(1+'Inflação 2021  '!$C$13)","v":0.85592192429658687},{"$f":"'TARIFAS Base 2020'!F92*(1+'Inflação 2021  '!$C$13)","v":7.5542623703127337E-2},{"$f":"'TARIFAS Base 2020'!G92*(1+'Inflação 2021  '!$C$13)","v":4.9530540396742963E-4},1.930007770527471,null,null,"SP4",0,0.998,0.85589999999999999,7.5499999999999998E-2,5.0000000000000001E-4,1.9298999999999997]
[null,"PR1",{"$f":"'TARIFAS Base 2020'!C93*(1+'Inflação 2021  '!$C$13)","v":0},{"$f":"'TARIFAS Base 2020'!D93*(1+'Inflação 2021  '!$C$13)","v":0.99804791712378937},{"$f":"'TARIFAS Base 2020'!E93*(1+'Inflação 2021  '!$C$13)","v":1.1746328533760682},{"$f":"'TARIFAS Base 2020'!F93*(1+'Inflação 2021  '!$C$13)","v":7.5542623703127337E-2},{"$f":"'TARIFAS Base 2020'!G93*(1+'Inflação 2021  '!$C$13)","v":4.9530540396742963E-4},2.2487186996069521,null,null,"PR1",0,0.998,1.1746000000000001,7.5499999999999998E-2,5.0000000000000001E-4,2.2486000000000002]
[null,"SC1",{"$f":"'TARIFAS Base 2020'!C94*(1+'Inflação 2021  '!$C$13)","v":0},{"$f":"'TARIFAS Base 2020'!D94*(1+'Inflação 2021  '!$C$13)","v":0.99804791712378937},{"$f":"'TARIFAS Base 2020'!E94*(1+'Inflação 2021  '!$C$13)","v":1.4149948468200437},{"$f":"'TARIFAS Base 2020'!F94*(1+'Inflação 2021  '!$C$13)","v":7.5542623703127337E-2},{"$f":"'TARIFAS Base 2020'!G94*(1+'Inflação 2021  '!$C$13)","v":4.9530540396742963E-4},2.4890806930509277,null,null,"SC1",0,0.998,1.415,7.5499999999999998E-2,5.0000000000000001E-4,2.4890000000000003]
[null,"SC2",{"$f":"'TARIFAS Base 2020'!C95*(1+'Inflação 2021  '!$C$13)","v":0},{"$f":"'TARIFAS Base 2020'!D95*(1+'Inflação 2021  '!$C$13)","v":0.99804791712378937},{"$f":"'TARIFAS Base 2020'!E95*(1+'Inflação 2021  '!$C$13)","v":1.4149948468200435},{"$f":"'TARIFAS Base 2020'!F95*(1+'Inflação 2021  '!$C$13)","v":7.5542623703127337E-2},{"$f":"'TARIFAS Base 2020'!G95*(1+'Inflação 2021  '!$C$13)","v":4.9530540396742963E-4},2.4890806930509277,null,null,"SC2",0,0.998,1.415,7.5499999999999998E-2,5.0000000000000001E-4,2.4890000000000003]
[null,"RS1",{"$f":"'TARIFAS Base 2020'!C96*(1+'Inflação 2021  '!$C$13)","v":0},{"$f":"'TARIFAS Base 2020'!D96*(1+'Inflação 2021  '!$C$13)","v":0.99804791712378937},{"$f":"'TARIFAS Base 2020'!E96*(1+'Inflação 2021  '!$C$13)","v":1.7532114805726484},{"$f":"'TARIFAS Base 2020'!F96*(1+'Inflação 2021  '!$C$13)","v":7.5542623703127337E-2},{"$f":"'TARIFAS Base 2020'!G96*(1+'Inflação 2021  '!$C$13)","v":4.9530540396742963E-4},2.8272973268035324,null,null,"RS1",0,0.998,1.7532000000000001,7.5499999999999998E-2,5.0000000000000001E-4,2.8271999999999999]
[null,"EMED Gascar",{"$f":"'TARIFAS Base 2020'!C97*(1+'Inflação 2021  '!$C$13)","v":0},{"$f":"'TARIFAS Base 2020'!D97*(1+'Inflação 2021  '!$C$13)","v":0.15322783958662511},{"$f":"'TARIFAS Base 2020'!E97*(1+'Inflação 2021  '!$C$13)","v":0.15322783958662511},{"$f":"'TARIFAS Base 2020'!F97*(1+'Inflação 2021  '!$C$13)","v":7.5542623703127337E-2},{"$f":"'TARIFAS Base 2020'!G97*(1+'Inflação 2021  '!$C$13)","v":4.9530540396742963E-4},0.38249360828034501,null,null,"EMED Gascar",0,0.1532,0.1532,7.5499999999999998E-2,5.0000000000000001E-4,0.38240000000000002]
[null,"EMED XXX",{"$f":"'TARIFAS Base 2020'!C98*(1+'Inflação 2021  '!$C$13)","v":0},{"$f":"'TARIFAS Base 2020'!D98*(1+'Inflação 2021  '!$C$13)","v":0},{"$f":"'TARIFAS Base 2020'!E98*(1+'Inflação 2021  '!$C$13)","v":0},{"$f":"'TARIFAS Base 2020'!F98*(1+'Inflação 2021  '!$C$13)","v":0},{"$f":"'TARIFAS Base 2020'!G98*(1+'Inflação 2021  '!$C$13)","v":0},0,null,null,"EMED XXX",0,0,0,0,0,0]
[]
[]
[null,"TARIFA ENTRADA (em R$/MMBtu) - (TE)",null,null,null,null,null,null,null,null,"TARIFA ENTRADA (em R$/MMBtu) - (TE)"]
[null,"em R$/MMBtu",2025,null,null,null,null,null,null,null,"em R$/MMBtu",2025]
[null,"a preços de Dez/2020","TCE","TCT","TCS","TCEmp","TM","TOTAL",null,null,{"$f":"K80","v":"a preços de Dez/2021"},"TCE","TCT","TCS","TCEmp","TM","TOTAL"]
[null,"EMED Corumbá",{"$f":"C81","v":2.5718450810412894},{"$f":"D81","v":2.5718449652380206},0,7.5542623703127337E-2,4.9530540396742963E-4,{"$f":"H81","v":5.2197279753864052},null,null,"EMED Corumbá",{"$f":"L81","v":2.5718000000000001},{"$f":"M81","v":2.5718000000000001},0,7.5499999999999998E-2,5.0000000000000001E-4,{"$f":"Q81","v":5.2195999999999998}]
[null,"EMED Gascar",{"$f":"C82","v":9.3849983037666562E-2},9.3849983037666548E-2,0,7.5542623703127337E-2,4.9530540396742963E-4,0.26373789518242791,null,null,"EMED Gascar",{"$f":"L82","v":9.3799999999999994E-2},9.3799999999999994E-2,0,7.5499999999999998E-2,5.0000000000000001E-4,0.2636]
[null,"EMED Garuva",{"$f":"C83","v":0.95059920619494398},2.5718449652380206,0,7.5542623703127337E-2,4.9530540396742963E-4,3.5984821005400596,null,null,"EMED Garuva",{"$f":"L83","v":0.9506},2.5718000000000001,0,7.5499999999999998E-2,5.0000000000000001E-4,3.5984000000000003]
[]
[null,"TARIFA SAÍDA (em R$/MMBtu) - (TX)",null,null,null,null,null,null,null,null,"TARIFA SAÍDA (em R$/MMBtu) - (TX)"]
[null,"em R$/MMBtu",2025,null,null,null,null,null,null,null,"em R$/MMBtu",2025]
[null,"a preços de Dez/2020","TCE","TCT","TCS","TCEmp","TM","TOTAL",null,null,{"$f":"K87","v":"a preços de Dez/2021"},"TCE","TCT","TCS","TCEmp","TM","TOTAL"]
[null,"MS1",{"$f":"C88","v":0},{"$f":"D88","v":0.99804791712378937},0.46357497813043635,7.5542623703127337E-2,4.9530540396742963E-4,1.5376608243613203,null,null,"MS1",{"$f":"L88","v":0},{"$f":"M88","v":0.998},0.46360000000000001,7.5499999999999998E-2,5.0000000000000001E-4,1.5375999999999999]
[null,"SP1",{"$f":"C89","v":0},0.99804791712378937,0.66926244725646966,7.5542623703127337E-2,4.9530540396742963E-4,1.7433482934873537,null,null,"SP1",{"$f":"L89","v":0},0.998,0.66930000000000001,7.5499999999999998E-2,5.0000000000000001E-4,1.7432999999999998]
[null,"SP2",{"$f":"C90","v":0},0.99804791712378937,0.79796017682557163,7.5542623703127337E-2,4.9530540396742963E-4,1.8720460230564557,null,null,"SP2",{"$f":"L90","v":0},0.998,0.79800000000000004,7.5499999999999998E-2,5.0000000000000001E-4,1.8719999999999999]
[null,"SP3",{"$f":"C91","v":0},0.99804791712378937,0.79757705946767543,7.5542623703127337E-2,4.9530540396742963E-4,1.8716629056985594,null,null,"SP3",{"$f":"L91","v":0},0.998,0.79759999999999998,7.5499999999999998E-2,5.0000000000000001E-4,1.8715999999999997]
[null,"SP4",{"$f":"C92","v":0},0.99804791712378937,0.85592192429658687,7.5542623703127337E-2,4.9530540396742963E-4,1.930007770527471,null,null,"SP4",{"$f":"L92","v":0},0.998,0.85589999999999999,7.5499999999999998E-2,5.0000000000000001E-4,1.9298999999999997]
[null,"PR1",{"$f":"C93","v":0},0.99804791712378937,1.1746328533760682,7.5542623703127337E-2,4.9530540396742963E-4,2.2487186996069521,null,null,"PR1",{"$f":"L93","v":0},0.998,1.1746000000000001,7.5499999999999998E-2,5.0000000000000001E-4,2.2486000000000002]
[null,"SC1",{"$f":"C94","v":0},0.99804791712378937,1.4149948468200437,7.5542623703127337E-2,4.9530540396742963E-4,2.4890806930509277,null,null,"SC1",{"$f":"L94","v":0},0.998,1.415,7.5499999999999998E-2,5.0000000000000001E-4,2.4890000000000003]
[null,"SC2",{"$f":"C95","v":0},0.99804791712378937,1.4149948468200435,7.5542623703127337E-2,4.9530540396742963E-4,2.4890806930509277,null,null,"SC2",{"$f":"L95","v":0},0.998,1.415,7.5499999999999998E-2,5.0000000000000001E-4,2.4890000000000003]
[null,"RS1",{"$f":"C96","v":0},0.99804791712378937,1.7532114805726484,7.5542623703127337E-2,4.9530540396742963E-4,2.8272973268035324,null,null,"RS1",{"$f":"L96","v":0},0.998,1.7532000000000001,7.5499999999999998E-2,5.0000000000000001E-4,2.8271999999999999]
[null,"EMED Gascar",{"$f":"C97","v":0},0.15322783958662511,0.15322783958662511,7.5542623703127337E-2,4.9530540396742963E-4,0.38249360828034501,null,null,"EMED Gascar",{"$f":"L97","v":0},0.1532,0.1532,7.5499999999999998E-2,5.0000000000000001E-4,0.38240000000000002]
[null,"EMED XXX",{"$f":"C98","v":0},0,0,0,0,0,null,null,"EMED XXX",{"$f":"L98","v":0},0,0,0,0,0]
[]
[]
[null,"TARIFA ENTRADA (em R$/MMBtu) - (TE)",null,null,null,null,null,null,null,null,"TARIFA ENTRADA (em R$/MMBtu) - (TE)"]
[null,"em R$/MMBtu",2026,null,null,null,null,null,null,null,"em R$/MMBtu",2026]
[null,"a preços de Dez/2020","TCE","TCT","TCS","TCEmp","TM","TOTAL",null,null,{"$f":"K103","v":"a preços de Dez/2021"},"TCE","TCT","TCS","TCEmp","TM","TOTAL"]
[null,"EMED Corumbá",{"$f":"C81","v":2.5718450810412894},{"$f":"D81","v":2.5718449652380206},0,7.5542623703127337E-2,4.9530540396742963E-4,5.2197279753864052,null,null,"EMED Corumbá",{"$f":"L81","v":2.5718000000000001},{"$f":"M81","v":2.5718000000000001},0,7.5499999999999998E-2,5.0000000000000001E-4,5.2195999999999998]
[null,"EMED Gascar",{"$f":"C82","v":9.3849983037666562E-2},9.3849983037666548E-2,0,7.5542623703127337E-2,4.9530540396742963E-4,0.26373789518242791,null,null,"EMED Gascar",{"$f":"L82","v":9.3799999999999994E-2},9.3799999999999994E-2,0,7.5499999999999998E-2,5.0000000000000001E-4,0.2636]
[null,"EMED Garuva",{"$f":"C83","v":0.95059920619494398},2.5718449652380206,0,7.5542623703127337E-2,4.9530540396742963E-4,3.5984821005400596,null,null,"EMED Garuva",{"$f":"L83","v":0.9506},2.5718000000000001,0,7.5499999999999998E-2,5.0000000000000001E-4,3.5984000000000003]
[]
[null,"TARIFA SAÍDA (em R$/MMBtu) - (TX)",null,null,null,null,null,null,null,null,"TARIFA SAÍDA (em R$/MMBtu) - (TX)"]
[null,"em R$/MMBtu",2026,null,null,null,null,null,null,null,"em R$/MMBtu",2026]
[null,"a preços de Dez/2020","TCE","TCT","TCS","TCEmp","TM","TOTAL",null,null,{"$f":"K110","v":"a preços de Dez/2021"},"TCE","TCT","TCS","TCEmp","TM","TOTAL"]
[null,"MS1",{"$f":"C111","v":0},{"$f":"D111","v":0.99804791712378937},0.46357497813043635,7.5542623703127337E-2,4.9530540396742963E-4,1.5376608243613203,null,null,"MS1",{"$f":"L88","v":0},{"$f":"M88","v":0.998},{"$f":"N88","v":0.46360000000000001},7.5499999999999998E-2,5.0000000000000001E-4,1.5375999999999999]
[null,"SP1",{"$f":"C112","v":0},0.99804791712378937,0.66926244725646966,7.5542623703127337E-2,4.9530540396742963E-4,1.7433482934873537,null,null,"SP1",{"$f":"L89","v":0},0.998,0.66930000000000001,7.5499999999999998E-2,5.0000000000000001E-4,1.7432999999999998]
[null,"SP2",{"$f":"C113","v":0},0.99804791712378937,0.79796017682557163,7.5542623703127337E-2,4.9530540396742963E-4,1.8720460230564557,null,null,"SP2",{"$f":"L90","v":0},0.998,0.79800000000000004,7.5499999999999998E-2,5.0000000000000001E-4,1.8719999999999999]
[null,"SP3",{"$f":"C114","v":0},0.99804791712378937,0.79757705946767543,7.5542623703127337E-2,4.9530540396742963E-4,1.8716629056985594,null,null,"SP3",{"$f":"L91","v":0},0.998,0.79759999999999998,7.5499999999999998E-2,5.0000000000000001E-4,1.8715999999999997]
[null,"SP4",{"$f":"C115","v":0},0.99804791712378937,0.85592192429658687,7.5542623703127337E-2,4.9530540396742963E-4,1.930007770527471,null,null,"SP4",{"$f":"L92","v":0},0.998,0.85589999999999999,7.5499999999999998E-2,5.0000000000000001E-4,1.9298999999999997]
[null,"PR1",{"$f":"C116","v":0},0.99804791712378937,1.1746328533760682,7.5542623703127337E-2,4.9530540396742963E-4,2.2487186996069521,null,null,"PR1",{"$f":"L93","v":0},0.998,1.1746000000000001,7.5499999999999998E-2,5.0000000000000001E-4,2.2486000000000002]
[null,"SC1",{"$f":"C117","v":0},0.99804791712378937,1.4149948468200437,7.5542623703127337E-2,4.9530540396742963E-4,2.4890806930509277,null,null,"SC1",{"$f":"L94","v":0},0.998,1.415,7.5499999999999998E-2,5.0000000000000001E-4,2.4890000000000003]
[null,"SC2",{"$f":"C118","v":0},0.99804791712378937,1.4149948468200435,7.5542623703127337E-2,4.9530540396742963E-4,2.4890806930509277,null,null,"SC2",{"$f":"L95","v":0},0.998,1.415,7.5499999999999998E-2,5.0000000000000001E-4,2.4890000000000003]
[null,"RS1",{"$f":"C119","v":0},0.99804791712378937,1.7532114805726484,7.5542623703127337E-2,4.9530540396742963E-4,2.8272973268035324,null,null,"RS1",{"$f":"L96","v":0},0.998,1.7532000000000001,7.5499999999999998E-2,5.0000000000000001E-4,2.8271999999999999]
[null,"EMED Gascar",{"$f":"C120","v":0},0.15322783958662511,0.15322783958662511,7.5542623703127337E-2,4.9530540396742963E-4,0.38249360828034501,null,null,"EMED Gascar",{"$f":"L97","v":0},0.1532,0.1532,7.5499999999999998E-2,5.0000000000000001E-4,0.38240000000000002]
[null,"EMED XXX",{"$f":"C121","v":0},0,0,0,0,0,null,null,"EMED XXX",{"$f":"L98","v":0},0,0,0,0,0]

{"sheet":"Inflação 2022","index":32,"n_rows":16,"n_cols":3,"rows_kept":16,"cut":false,"hidden":false,"merged":[[1,1,2,2]]}
[]
[null,"Índice utilizado para reajuste anual da RMP e Tarifas (de preços de dez/2020 para preços dez/2021)"]
[]
[null,"Índice","Peso"]
[null,"IPCA",0.45]
[null,"IGP-M",{"$f":"1-C5","v":0.55000000000000004}]
[null,"Ponderadores de acordo com a NT13"]
[]
[]
[null,"Sistema de Expectativa Focus Bacen 30/09/2022"]
[null,"IPCA",5.7426999999999999E-2]
[null,"IGP-M",7.9472000000000001E-2]
[null,"Mix",{"$f":"C5*C11+C6*C12","v":6.9551749999999996E-2}]
[]
[]
[null,"Acumulado 2020-2022",{"$f":"((1+'Inflação 2021  '!C16)*(1+'Inflação 2022'!C13))-1","v":0.4022539601517181}]

{"sheet":"TARIFAS Base 2022","index":33,"n_rows":167,"n_cols":17,"rows_kept":167,"cut":false,"hidden":false,"merged":[[131,2,131,7],[131,11,131,16],[147,2,147,7],[147,11,147,16],[154,2,154,7],[154,11,154,16],[101,2,101,7],[101,11,101,16],[108,2,108,7],[108,11,108,16],[124,2,124,7],[124,11,124,16],[59,2,59,7],[59,11,59,16],[78,2,78,7],[78,11,78,16],[85,2,85,7],[85,11,85,16],[29,2,29,7],[29,11,29,16],[36,2,36,7],[36,11,36,16],[52,2,52,7],[52,11,52,16],[1,1,1,7],[1,10,1,16],[6,2,6,7],[6,11,6,16],[13,2,13,7],[13,11,13,16]]}
[]
[null,"TARIFAS DE TRANSPORTE",null,null,null,null,null,null,null,null,"TARIFAS DE TRANSPORTE"]
[null,"*Preços de dez/2022",null,null,null,null,null,null,null,null,"*Preços de dez/2022","** Tarifas arredondadas até a quarta casa decimal"]
[]
[]
[null,"TARIFA ENTRADA (em R$/MMBtu) - (TE)",null,null,null,null,null,null,null,null,"TARIFA ENTRADA (em R$/MMBtu) - (TE)"]
[null,"em R$/MMBtu",2021,null,null,null,null,null,null,null,"em R$/MMBtu",2021]
[null,"a preços de Dez/2020","TCE","TCT","TCS","TCEmp","TM","TOTAL",null,null,"a preços de Dez/2020","TCE","TCT","TCS","TCEmp","TM","TOTAL"]
[]
[]
[]
[]
[]
[]
[]
[]
[]
[]
[]
[]
[]
[]
[]
[]
[]
[]
[]
[]
[]
[]
[]
[]
[]
[]
[]
[]
[]
[]
[]
[]
[]
[]
[]
[]
[]
[]
[]
[]
[]
[]
[]
[null,"TARIFA ENTRADA (em R$/MMBtu) - (TE)",null,null,null,null,null,null,null,null,"TARIFA ENTRADA (em R$/MMBtu) - (TE)"]
[null,"em R$/MMBtu",2023,null,null,null,null,null,null,null,"em R$/MMBtu",2023]
[null,"a preços de Dez/2020","TCE","TCT","TCS","TCEmp","TM","TOTAL",null,null,"a preços de Dez/2022","TCE","TCT","TCS","TCEmp","TM","TOTAL"]
[null,"EMED Corumbá",{"$f":"'TARIFAS Base 2021'!C55*(1+'Inflação 2022'!$C$13)","v":2.086459433450774},{"$f":"'TARIFAS Base 2021'!D55*(1+'Inflação 2022'!$C$13)","v":3.1296890111026112},{"$f":"'TARIFAS Base 2021'!E55*(1+'Inflação 2022'!$C$13)","v":0},{"$f":"'TARIFAS Base 2021'!F55*(1+'Inflação 2022'!$C$13)","v":8.0157778289873041E-2},{"$f":"'TARIFAS Base 2021'!G55*(1+'Inflação 2022'!$C$13)","v":5.2556528765830514E-4},{"$f":"SUM(C55:G55)","v":5.2968317881309162},null,null,"EMED Corumbá",{"$f":"ROUND(C55,4)","v":2.0865},{"$f":"ROUND(D55,4)","v":3.1297000000000001},0,8.0199999999999994E-2,5.0000000000000001E-4,{"$f":"SUM(L55:P55)","v":5.2968999999999999}]
[null,"EMED Gascar",{"$f":"'TARIFAS Base 2021'!C56*(1+'Inflação 2022'!$C$13)","v":7.3958966885466826E-2},{"$f":"'TARIFAS Base 2021'!D56*(1+'Inflação 2022'!$C$13)","v":0.11093845032820024},{"$f":"'TARIFAS Base 2021'!E56*(1+'Inflação 2022'!$C$13)","v":0},{"$f":"'TARIFAS Base 2021'!F56*(1+'Inflação 2022'!$C$13)","v":8.0157778289873041E-2},{"$f":"'TARIFAS Base 2021'!G56*(1+'Inflação 2022'!$C$13)","v":5.2556528765830514E-4},{"$f":"SUM(C56:G56)","v":0.26558076079119841},null,null,"EMED Gascar",{"$f":"ROUND(C56,4)","v":7.3999999999999996E-2},0.1109,0,8.0199999999999994E-2,5.0000000000000001E-4,{"$f":"SUM(L56:P56)","v":0.2656}]
[null,"EMED Garuva",{"$f":"'TARIFAS Base 2021'!C57*(1+'Inflação 2022'!$C$13)","v":0.78843954174242847},{"$f":"'TARIFAS Base 2021'!D57*(1+'Inflação 2022'!$C$13)","v":3.1296890111026112},{"$f":"'TARIFAS Base 2021'!E57*(1+'Inflação 2022'!$C$13)","v":0},{"$f":"'TARIFAS Base 2021'!F57*(1+'Inflação 2022'!$C$13)","v":8.0157778289873041E-2},{"$f":"'TARIFAS Base 2021'!G57*(1+'Inflação 2022'!$C$13)","v":5.2556528765830514E-4},3.9988118964225712,null,null,"EMED Garuva",0.78839999999999999,3.1297000000000001,0,8.0199999999999994E-2,5.0000000000000001E-4,3.9988000000000001]
[]
[null,"TARIFA SAÍDA (em R$/MMBtu) - (TX)",null,null,null,null,null,null,null,null,"TARIFA SAÍDA (em R$/MMBtu) - (TX)"]
[null,"em R$/MMBtu",2023,null,null,null,null,null,null,null,"em R$/MMBtu",2023]
[null,"a preços de Dez/2020","TCE","TCT","TCS","TCEmp","TM","TOTAL",null,null,{"$f":"K54","v":"a preços de Dez/2022"},"TCE","TCT","TCS","TCEmp","TM","TOTAL"]
[null,"MS1",{"$f":"'TARIFAS Base 2021'!C62*(1+'Inflação 2022'!$C$13)","v":0},{"$f":"'TARIFAS Base 2021'!D62*(1+'Inflação 2022'!$C$13)","v":1.2366812710251271},{"$f":"'TARIFAS Base 2021'!E62*(1+'Inflação 2022'!$C$13)","v":0.35872664734079523},{"$f":"'TARIFAS Base 2021'!F62*(1+'Inflação 2022'!$C$13)","v":8.0157778289873041E-2},{"$f":"'TARIFAS Base 2021'!G62*(1+'Inflação 2022'!$C$13)","v":5.2556528765830514E-4},{"$f":"SUM(C62:G62)","v":1.6760912619434538},null,null,"MS1",{"$f":"ROUND(C62,4)","v":0},{"$f":"ROUND(D62,4)","v":1.2366999999999999},0.35870000000000002,8.0199999999999994E-2,5.0000000000000001E-4,{"$f":"SUM(L62:P62)","v":1.6760999999999999}]
[null,"SP1",{"$f":"'TARIFAS Base 2021'!C63*(1+'Inflação 2022'!$C$13)","v":0},{"$f":"'TARIFAS Base 2021'!D63*(1+'Inflação 2022'!$C$13)","v":1.2366812710251271},{"$f":"'TARIFAS Base 2021'!E63*(1+'Inflação 2022'!$C$13)","v":0.55636816013537549},{"$f":"'TARIFAS Base 2021'!F63*(1+'Inflação 2022'!$C$13)","v":8.0157778289873041E-2},{"$f":"'TARIFAS Base 2021'!G63*(1+'Inflação 2022'!$C$13)","v":5.2556528765830514E-4},{"$f":"SUM(C63:G63)","v":1.8737327747380341},null,null,"SP1",{"$f":"ROUND(C63,4)","v":0},1.2366999999999999,0.55640000000000001,8.0199999999999994E-2,5.0000000000000001E-4,{"$f":"SUM(L63:P63)","v":1.8737999999999999}]
[null,"SP2",{"$f":"'TARIFAS Base 2021'!C64*(1+'Inflação 2022'!$C$13)","v":0},{"$f":"'TARIFAS Base 2021'!D64*(1+'Inflação 2022'!$C$13)","v":1.2366812710251271},{"$f":"'TARIFAS Base 2021'!E64*(1+'Inflação 2022'!$C$13)","v":0.67597154414873695},{"$f":"'TARIFAS Base 2021'!F64*(1+'Inflação 2022'!$C$13)","v":8.0157778289873041E-2},{"$f":"'TARIFAS Base 2021'!G64*(1+'Inflação 2022'!$C$13)","v":5.2556528765830514E-4},1.9933361587513954,null,null,"SP2",0,1.2366999999999999,0.67600000000000005,8.0199999999999994E-2,5.0000000000000001E-4,1.9934000000000001]
[null,"SP3",{"$f":"'TARIFAS Base 2021'!C65*(1+'Inflação 2022'!$C$13)","v":0},{"$f":"'TARIFAS Base 2021'!D65*(1+'Inflação 2022'!$C$13)","v":1.2366812710251271},{"$f":"'TARIFAS Base 2021'!E65*(1+'Inflação 2022'!$C$13)","v":0.67635095235231835},{"$f":"'TARIFAS Base 2021'!F65*(1+'Inflação 2022'!$C$13)","v":8.0157778289873041E-2},{"$f":"'TARIFAS Base 2021'!G65*(1+'Inflação 2022'!$C$13)","v":5.2556528765830514E-4},1.9937155669549769,null,null,"SP3",0,1.2366999999999999,0.6764,8.0199999999999994E-2,5.0000000000000001E-4,1.9938]
[null,"SP4",{"$f":"'TARIFAS Base 2021'!C66*(1+'Inflação 2022'!$C$13)","v":0},{"$f":"'TARIFAS Base 2021'!D66*(1+'Inflação 2022'!$C$13)","v":1.2366812710251271},{"$f":"'TARIFAS Base 2021'!E66*(1+'Inflação 2022'!$C$13)","v":0.72289440292905627},{"$f":"'TARIFAS Base 2021'!F66*(1+'Inflação 2022'!$C$13)","v":8.0157778289873041E-2},{"$f":"'TARIFAS Base 2021'!G66*(1+'Inflação 2022'!$C$13)","v":5.2556528765830514E-4},2.0402590175317146,null,null,"SP4",0,1.2366999999999999,0.72289999999999999,8.0199999999999994E-2,5.0000000000000001E-4,2.0403000000000002]
[null,"PR1",{"$f":"'TARIFAS Base 2021'!C67*(1+'Inflação 2022'!$C$13)","v":0},{"$f":"'TARIFAS Base 2021'!D67*(1+'Inflação 2022'!$C$13)","v":1.2366812710251271},{"$f":"'TARIFAS Base 2021'!E67*(1+'Inflação 2022'!$C$13)","v":0.97713968105218707},{"$f":"'TARIFAS Base 2021'!F67*(1+'Inflação 2022'!$C$13)","v":8.0157778289873041E-2},{"$f":"'TARIFAS Base 2021'!G67*(1+'Inflação 2022'!$C$13)","v":5.2556528765830514E-4},2.2945042956548454,null,null,"PR1",0,1.2366999999999999,0.97709999999999997,8.0199999999999994E-2,5.0000000000000001E-4,2.2945000000000002]
[null,"SC1",{"$f":"'TARIFAS Base 2021'!C68*(1+'Inflação 2022'!$C$13)","v":0},{"$f":"'TARIFAS Base 2021'!D68*(1+'Inflação 2022'!$C$13)","v":1.2366812710251271},{"$f":"'TARIFAS Base 2021'!E68*(1+'Inflação 2022'!$C$13)","v":1.1688836615009006},{"$f":"'TARIFAS Base 2021'!F68*(1+'Inflação 2022'!$C$13)","v":8.0157778289873041E-2},{"$f":"'TARIFAS Base 2021'!G68*(1+'Inflação 2022'!$C$13)","v":5.2556528765830514E-4},2.4862482761035594,null,null,"SC1",0,1.2366999999999999,1.1689000000000001,8.0199999999999994E-2,5.0000000000000001E-4,2.4863]
[null,"SC2",{"$f":"'TARIFAS Base 2021'!C69*(1+'Inflação 2022'!$C$13)","v":0},{"$f":"'TARIFAS Base 2021'!D69*(1+'Inflação 2022'!$C$13)","v":1.2366812710251271},{"$f":"'TARIFAS Base 2021'!E69*(1+'Inflação 2022'!$C$13)","v":1.1688836615009006},{"$f":"'TARIFAS Base 2021'!F69*(1+'Inflação 2022'!$C$13)","v":8.0157778289873041E-2},{"$f":"'TARIFAS Base 2021'!G69*(1+'Inflação 2022'!$C$13)","v":5.2556528765830514E-4},2.4862482761035594,null,null,"SC2",0,1.2366999999999999,1.1689000000000001,8.0199999999999994E-2,5.0000000000000001E-4,2.4863]
[null,"RS1",{"$f":"'TARIFAS Base 2021'!C70*(1+'Inflação 2022'!$C$13)","v":0},{"$f":"'TARIFAS Base 2021'!D70*(1+'Inflação 2022'!$C$13)","v":1.2366812710251271},{"$f":"'TARIFAS Base 2021'!E70*(1+'Inflação 2022'!$C$13)","v":1.4386892277393251},{"$f":"'TARIFAS Base 2021'!F70*(1+'Inflação 2022'!$C$13)","v":8.0157778289873041E-2},{"$f":"'TARIFAS Base 2021'!G70*(1+'Inflação 2022'!$C$13)","v":5.2556528765830514E-4},2.7560538423419834,null,null,"RS1",0,1.2366999999999999,1.4387000000000001,8.0199999999999994E-2,5.0000000000000001E-4,2.7561]
[null,"EMED Gascar",{"$f":"'TARIFAS Base 2021'!C71*(1+'Inflação 2022'!$C$13)","v":0},{"$f":"'TARIFAS Base 2021'!D71*(1+'Inflação 2022'!$C$13)","v":0.19512579015666817},{"$f":"'TARIFAS Base 2021'!E71*(1+'Inflação 2022'!$C$13)","v":0.13008386010444545},{"$f":"'TARIFAS Base 2021'!F71*(1+'Inflação 2022'!$C$13)","v":8.0157778289873041E-2},{"$f":"'TARIFAS Base 2021'!G71*(1+'Inflação 2022'!$C$13)","v":5.2556528765830514E-4},0.40589299383864491,null,null,"EMED Gascar",0,0.1951,0.13009999999999999,8.0199999999999994E-2,5.0000000000000001E-4,0.40589999999999998]
[null,"EMED XXX",{"$f":"'TARIFAS Base 2021'!C72*(1+'Inflação 2022'!$C$13)","v":0},{"$f":"'TARIFAS Base 2021'!D72*(1+'Inflação 2022'!$C$13)","v":0},{"$f":"'TARIFAS Base 2021'!E72*(1+'Inflação 2022'!$C$13)","v":0},{"$f":"'TARIFAS Base 2021'!F72*(1+'Inflação 2022'!$C$13)","v":0},{"$f":"'TARIFAS Base 2021'!G72*(1+'Inflação 2022'!$C$13)","v":0},0,null,null,"EMED XXX",0,0,0,0,0,0]
[]
[]
[null,{"$f":"B2","v":"TARIFAS DE TRANSPORTE"},null,null,null,null,null,null,null,null,{"$f":"K2","v":"TARIFAS DE TRANSPORTE"}]
[null,"*Preços de dez/2022",null,null,null,null,null,null,null,null,"*Preços de dez/2022","** Tarifas arredondadas até a quarta casa decimal"]
[]
[null,"TARIFA ENTRADA (em R$/MMBtu) - (TE)",null,null,null,null,null,null,null,null,"TARIFA ENTRADA (em R$/MMBtu) - (TE)"]
[null,"em R$/MMBtu",2024,null,null,null,null,null,null,null,"em R$/MMBtu",2024]
[null,"a preços de Dez/2020","TCE","TCT","TCS","TCEmp","TM","TOTAL",null,null,{"$f":"K54","v":"a preços de Dez/2022"},"TCE","TCT","TCS","TCEmp","TM","TOTAL"]
[null,"EMED Corumbá",{"$f":"'TARIFAS Base 2021'!C81*(1+'Inflação 2022'!$C$13)","v":2.7507214071566031},{"$f":"'TARIFAS Base 2021'!D81*(1+'Inflação 2022'!$C$13)","v":2.750721283299014},{"$f":"'TARIFAS Base 2021'!E81*(1+'Inflação 2022'!$C$13)","v":0},{"$f":"'TARIFAS Base 2021'!F81*(1+'Inflação 2022'!$C$13)","v":8.0796745381271323E-2},{"$f":"'TARIFAS Base 2021'!G81*(1+'Inflação 2022'!$C$13)","v":5.2975476159782128E-4},{"$f":"SUM(C81:G81)","v":5.5827691905984862},null,null,"EMED Corumbá",{"$f":"ROUND(C81,4)","v":2.7507000000000001},{"$f":"ROUND(D81,4)","v":2.7507000000000001},0,8.0799999999999997E-2,5.0000000000000001E-4,{"$f":"SUM(L81:P81)","v":5.5827}]
[null,"EMED Gascar",{"$f":"'TARIFAS Base 2021'!C82*(1+'Inflação 2022'!$C$13)","v":0.10037741359540658},{"$f":"'TARIFAS Base 2021'!D82*(1+'Inflação 2022'!$C$13)","v":0.10037741359540657},{"$f":"'TARIFAS Base 2021'!E82*(1+'Inflação 2022'!$C$13)","v":0},{"$f":"'TARIFAS Base 2021'!F82*(1+'Inflação 2022'!$C$13)","v":8.0796745381271323E-2},{"$f":"'TARIFAS Base 2021'!G82*(1+'Inflação 2022'!$C$13)","v":5.2975476159782128E-4},{"$f":"SUM(C82:G82)","v":0.28208132733368235},null,null,"EMED Gascar",{"$f":"ROUND(C82,4)","v":0.1004},0.1004,0,8.0799999999999997E-2,5.0000000000000001E-4,{"$f":"SUM(L82:P82)","v":0.28210000000000002}]
[null,"EMED Garuva",{"$f":"'TARIFAS Base 2021'!C83*(1+'Inflação 2022'!$C$13)","v":1.0167150445344133},{"$f":"'TARIFAS Base 2021'!D83*(1+'Inflação 2022'!$C$13)","v":2.750721283299014},{"$f":"'TARIFAS Base 2021'!E83*(1+'Inflação 2022'!$C$13)","v":0},{"$f":"'TARIFAS Base 2021'!F83*(1+'Inflação 2022'!$C$13)","v":8.0796745381271323E-2},{"$f":"'TARIFAS Base 2021'!G83*(1+'Inflação 2022'!$C$13)","v":5.2975476159782128E-4},{"$f":"SUM(C83:G83)","v":3.8487628279762962},null,null,"EMED Garuva",1.0166999999999999,2.7507000000000001,0,8.0799999999999997E-2,5.0000000000000001E-4,3.8487000000000005]
[]
[null,"TARIFA SAÍDA (em R$/MMBtu) - (TX)",null,null,null,null,null,null,null,null,"TARIFA SAÍDA (em R$/MMBtu) - (TX)"]
[null,"em R$/MMBtu",2024,null,null,null,null,null,null,null,"em R$/MMBtu",2024]
[null,"a preços de Dez/2020","TCE","TCT","TCS","TCEmp","TM","TOTAL",null,null,{"$f":"K61","v":"a preços de Dez/2022"},"TCE","TCT","TCS","TCEmp","TM","TOTAL"]
[null,"MS1",{"$f":"'TARIFAS Base 2021'!C88*(1+'Inflação 2022'!$C$13)","v":0},{"$f":"'TARIFAS Base 2021'!D88*(1+'Inflação 2022'!$C$13)","v":1.0674638963436038},{"$f":"'TARIFAS Base 2021'!E88*(1+'Inflação 2022'!$C$13)","v":0.49581742911561993},{"$f":"'TARIFAS Base 2021'!F88*(1+'Inflação 2022'!$C$13)","v":8.0796745381271323E-2},{"$f":"'TARIFAS Base 2021'!G88*(1+'Inflação 2022'!$C$13)","v":5.2975476159782128E-4},{"$f":"SUM(C88:G88)","v":1.6446078256020928},null,null,"MS1",{"$f":"ROUND(C88,4)","v":0},{"$f":"ROUND(D88,4)","v":1.0674999999999999},0.49580000000000002,8.0799999999999997E-2,5.0000000000000001E-4,{"$f":"SUM(L88:P88)","v":1.6445999999999998}]
[null,"SP1",{"$f":"'TARIFAS Base 2021'!C89*(1+'Inflação 2022'!$C$13)","v":0},{"$f":"'TARIFAS Base 2021'!D89*(1+'Inflação 2022'!$C$13)","v":1.0674638963436038},{"$f":"'TARIFAS Base 2021'!E89*(1+'Inflação 2022'!$C$13)","v":0.71581082167243981},{"$f":"'TARIFAS Base 2021'!F89*(1+'Inflação 2022'!$C$13)","v":8.0796745381271323E-2},{"$f":"'TARIFAS Base 2021'!G89*(1+'Inflação 2022'!$C$13)","v":5.2975476159782128E-4},{"$f":"SUM(C89:G89)","v":1.8646012181589127},null,null,"SP1",{"$f":"ROUND(C89,4)","v":0},1.0674999999999999,0.71579999999999999,8.0799999999999997E-2,5.0000000000000001E-4,{"$f":"SUM(L89:P89)","v":1.8645999999999998}]
[null,"SP2",{"$f":"'TARIFAS Base 2021'!C90*(1+'Inflação 2022'!$C$13)","v":0},{"$f":"'TARIFAS Base 2021'!D90*(1+'Inflação 2022'!$C$13)","v":1.0674638963436038},{"$f":"'TARIFAS Base 2021'!E90*(1+'Inflação 2022'!$C$13)","v":0.85345970355409961},{"$f":"'TARIFAS Base 2021'!F90*(1+'Inflação 2022'!$C$13)","v":8.0796745381271323E-2},{"$f":"'TARIFAS Base 2021'!G90*(1+'Inflação 2022'!$C$13)","v":5.2975476159782128E-4},{"$f":"SUM(C90:G90)","v":2.0022501000405728},null,null,"SP2",0,1.0674999999999999,0.85350000000000004,8.0799999999999997E-2,5.0000000000000001E-4,2.0023]
[null,"SP3",{"$f":"'TARIFAS Base 2021'!C91*(1+'Inflação 2022'!$C$13)","v":0},{"$f":"'TARIFAS Base 2021'!D91*(1+'Inflação 2022'!$C$13)","v":1.0674638963436038},{"$f":"'TARIFAS Base 2021'!E91*(1+'Inflação 2022'!$C$13)","v":0.85304993971350629},{"$f":"'TARIFAS Base 2021'!F91*(1+'Inflação 2022'!$C$13)","v":8.0796745381271323E-2},{"$f":"'TARIFAS Base 2021'!G91*(1+'Inflação 2022'!$C$13)","v":5.2975476159782128E-4},{"$f":"SUM(C91:G91)","v":2.0018403361999795},null,null,"SP3",0,1.0674999999999999,0.85299999999999998,8.0799999999999997E-2,5.0000000000000001E-4,2.0018000000000002]
[null,"SP4",{"$f":"'TARIFAS Base 2021'!C92*(1+'Inflação 2022'!$C$13)","v":0},{"$f":"'TARIFAS Base 2021'!D92*(1+'Inflação 2022'!$C$13)","v":1.0674638963436038},{"$f":"'TARIFAS Base 2021'!E92*(1+'Inflação 2022'!$C$13)","v":0.91545279199478202},{"$f":"'TARIFAS Base 2021'!F92*(1+'Inflação 2022'!$C$13)","v":8.0796745381271323E-2},{"$f":"'TARIFAS Base 2021'!G92*(1+'Inflação 2022'!$C$13)","v":5.2975476159782128E-4},2.0642431884812549,null,null,"SP4",0,1.0674999999999999,0.91549999999999998,8.0799999999999997E-2,5.0000000000000001E-4,2.0643000000000002]
[null,"PR1",{"$f":"'TARIFAS Base 2021'!C93*(1+'Inflação 2022'!$C$13)","v":0},{"$f":"'TARIFAS Base 2021'!D93*(1+'Inflação 2022'!$C$13)","v":1.0674638963436038},{"$f":"'TARIFAS Base 2021'!E93*(1+'Inflação 2022'!$C$13)","v":1.2563306239358671},{"$f":"'TARIFAS Base 2021'!F93*(1+'Inflação 2022'!$C$13)","v":8.0796745381271323E-2},{"$f":"'TARIFAS Base 2021'!G93*(1+'Inflação 2022'!$C$13)","v":5.2975476159782128E-4},2.4051210204223401,null,null,"PR1",0,1.0674999999999999,1.2563,8.0799999999999997E-2,5.0000000000000001E-4,2.4051]
[null,"SC1",{"$f":"'TARIFAS Base 2021'!C94*(1+'Inflação 2022'!$C$13)","v":0},{"$f":"'TARIFAS Base 2021'!D94*(1+'Inflação 2022'!$C$13)","v":1.0674638963436038},{"$f":"'TARIFAS Base 2021'!E94*(1+'Inflação 2022'!$C$13)","v":1.5134102146573598},{"$f":"'TARIFAS Base 2021'!F94*(1+'Inflação 2022'!$C$13)","v":8.0796745381271323E-2},{"$f":"'TARIFAS Base 2021'!G94*(1+'Inflação 2022'!$C$13)","v":5.2975476159782128E-4},2.6622006111438328,null,null,"SC1",0,1.0674999999999999,1.5134000000000001,8.0799999999999997E-2,5.0000000000000001E-4,2.6621999999999999]
[null,"SC2",{"$f":"'TARIFAS Base 2021'!C95*(1+'Inflação 2022'!$C$13)","v":0},{"$f":"'TARIFAS Base 2021'!D95*(1+'Inflação 2022'!$C$13)","v":1.0674638963436038},{"$f":"'TARIFAS Base 2021'!E95*(1+'Inflação 2022'!$C$13)","v":1.5134102146573596},{"$f":"'TARIFAS Base 2021'!F95*(1+'Inflação 2022'!$C$13)","v":8.0796745381271323E-2},{"$f":"'TARIFAS Base 2021'!G95*(1+'Inflação 2022'!$C$13)","v":5.2975476159782128E-4},2.6622006111438328,null,null,"SC2",0,1.0674999999999999,1.5134000000000001,8.0799999999999997E-2,5.0000000000000001E-4,2.6621999999999999]
[null,"RS1",{"$f":"'TARIFAS Base 2021'!C96*(1+'Inflação 2022'!$C$13)","v":0},{"$f":"'TARIFAS Base 2021'!D96*(1+'Inflação 2022'!$C$13)","v":1.0674638963436038},{"$f":"'TARIFAS Base 2021'!E96*(1+'Inflação 2022'!$C$13)","v":1.8751504071665672},{"$f":"'TARIFAS Base 2021'!F96*(1+'Inflação 2022'!$C$13)","v":8.0796745381271323E-2},{"$f":"'TARIFAS Base 2021'!G96*(1+'Inflação 2022'!$C$13)","v":5.2975476159782128E-4},3.0239408036530402,null,null,"RS1",0,1.0674999999999999,1.8752,8.0799999999999997E-2,5.0000000000000001E-4,3.024]
[null,"EMED Gascar",{"$f":"'TARIFAS Base 2021'!C97*(1+'Inflação 2022'!$C$13)","v":0},{"$f":"'TARIFAS Base 2021'!D97*(1+'Inflação 2022'!$C$13)","v":0.16388510397859418},{"$f":"'TARIFAS Base 2021'!E97*(1+'Inflação 2022'!$C$13)","v":0.16388510397859418},{"$f":"'TARIFAS Base 2021'!F97*(1+'Inflação 2022'!$C$13)","v":8.0796745381271323E-2},{"$f":"'TARIFAS Base 2021'!G97*(1+'Inflação 2022'!$C$13)","v":5.2975476159782128E-4},0.40909670810005755,null,null,"EMED Gascar",0,0.16389999999999999,0.16389999999999999,8.0799999999999997E-2,5.0000000000000001E-4,0.40909999999999996]
[null,"EMED XXX",{"$f":"'TARIFAS Base 2021'!C98*(1+'Inflação 2022'!$C$13)","v":0},{"$f":"'TARIFAS Base 2021'!D98*(1+'Inflação 2022'!$C$13)","v":0},{"$f":"'TARIFAS Base 2021'!E98*(1+'Inflação 2022'!$C$13)","v":0},{"$f":"'TARIFAS Base 2021'!F98*(1+'Inflação 2022'!$C$13)","v":0},{"$f":"'TARIFAS Base 2021'!G98*(1+'Inflação 2022'!$C$13)","v":0},0,null,null,"EMED XXX",0,0,0,0,0,0]
[]
[]
[null,"TARIFA ENTRADA (em R$/MMBtu) - (TE)",null,null,null,null,null,null,null,null,"TARIFA ENTRADA (em R$/MMBtu) - (TE)"]
[null,"em R$/MMBtu",2025,null,null,null,null,null,null,null,"em R$/MMBtu",2025]
[null,"a preços de Dez/2020","TCE","TCT","TCS","TCEmp","TM","TOTAL",null,null,{"$f":"K80","v":"a preços de Dez/2022"},"TCE","TCT","TCS","TCEmp","TM","TOTAL"]
[null,"EMED Corumbá",{"$f":"C81","v":2.7507214071566031},{"$f":"D81","v":2.750721283299014},0,8.0796745381271323E-2,5.2975476159782128E-4,{"$f":"H81","v":5.5827691905984862},null,null,"EMED Corumbá",{"$f":"L81","v":2.7507000000000001},{"$f":"M81","v":2.7507000000000001},0,8.0799999999999997E-2,5.0000000000000001E-4,{"$f":"Q81","v":5.5827}]
[null,"EMED Gascar",{"$f":"C82","v":0.10037741359540658},0.10037741359540657,0,8.0796745381271323E-2,5.2975476159782128E-4,0.28208132733368235,null,null,"EMED Gascar",{"$f":"L82","v":0.1004},0.1004,0,8.0799999999999997E-2,5.0000000000000001E-4,0.28210000000000002]
[null,"EMED Garuva",1.0167150445344133,2.750721283299014,0,8.0796745381271323E-2,5.2975476159782128E-4,3.8487628279762962,null,null,"EMED Garuva",1.0166999999999999,2.7507000000000001,0,8.0799999999999997E-2,5.0000000000000001E-4,3.8487000000000005]
[]
[null,"TARIFA SAÍDA (em R$/MMBtu) - (TX)",null,null,null,null,null,null,null,null,"TARIFA SAÍDA (em R$/MMBtu) - (TX)"]
[null,"em R$/MMBtu",2025,null,null,null,null,null,null,null,"em R$/MMBtu",2025]
[null,"a preços de Dez/2020","TCE","TCT","TCS","TCEmp","TM","TOTAL",null,null,{"$f":"K87","v":"a preços de Dez/2022"},"TCE","TCT","TCS","TCEmp","TM","TOTAL"]
[null,"MS1",{"$f":"C88","v":0},{"$f":"D88","v":1.0674638963436038},0.49581742911561993,8.0796745381271323E-2,5.2975476159782128E-4,1.6446078256020928,null,null,"MS1",{"$f":"L88","v":0},{"$f":"M88","v":1.0674999999999999},0.49580000000000002,8.0799999999999997E-2,5.0000000000000001E-4,1.6445999999999998]
[null,"SP1",{"$f":"C89","v":0},1.0674638963436038,0.71581082167243981,8.0796745381271323E-2,5.2975476159782128E-4,1.8646012181589127,null,null,"SP1",{"$f":"L89","v":0},1.0674999999999999,0.71579999999999999,8.0799999999999997E-2,5.0000000000000001E-4,1.8645999999999998]
[null,"SP2",0,1.0674638963436038,0.85345970355409961,8.0796745381271323E-2,5.2975476159782128E-4,2.0022501000405728,null,null,"SP2",0,1.0674999999999999,0.85350000000000004,8.0799999999999997E-2,5.0000000000000001E-4,2.0023]
[null,"SP3",0,1.0674638963436038,0.85304993971350629,8.0796745381271323E-2,5.2975476159782128E-4,2.0018403361999795,null,null,"SP3",0,1.0674999999999999,0.85299999999999998,8.0799999999999997E-2,5.0000000000000001E-4,2.0018000000000002]
[null,"SP4",0,1.0674638963436038,0.91545279199478202,8.0796745381271323E-2,5.2975476159782128E-4,2.0642431884812549,null,null,"SP4",0,1.0674999999999999,0.91549999999999998,8.0799999999999997E-2,5.0000000000000001E-4,2.0643000000000002]
[null,"PR1",0,1.0674638963436038,1.2563306239358671,8.0796745381271323E-2,5.2975476159782128E-4,2.4051210204223401,null,null,"PR1",0,1.0674999999999999,1.2563,8.0799999999999997E-2,5.0000000000000001E-4,2.4051]
[null,"SC1",0,1.0674638963436038,1.5134102146573598,8.0796745381271323E-2,5.2975476159782128E-4,2.6622006111438328,null,null,"SC1",0,1.0674999999999999,1.5134000000000001,8.0799999999999997E-2,5.0000000000000001E-4,2.6621999999999999]
[null,"SC2",0,1.0674638963436038,1.5134102146573596,8.0796745381271323E-2,5.2975476159782128E-4,2.6622006111438328,null,null,"SC2",0,1.0674999999999999,1.5134000000000001,8.0799999999999997E-2,5.0000000000000001E-4,2.6621999999999999]
[null,"RS1",0,1.0674638963436038,1.8751504071665672,8.0796745381271323E-2,5.2975476159782128E-4,3.0239408036530402,null,null,"RS1",0,1.0674999999999999,1.8752,8.0799999999999997E-2,5.0000000000000001E-4,3.024]
[null,"EMED Gascar",0,0.16388510397859418,0.16388510397859418,8.0796745381271323E-2,5.2975476159782128E-4,0.40909670810005755,null,null,"EMED Gascar",0,0.16389999999999999,0.16389999999999999,8.0799999999999997E-2,5.0000000000000001E-4,0.40909999999999996]
[null,"EMED XXX",0,0,0,0,0,0,null,null,"EMED XXX",0,0,0,0,0,0]
[]
[]
[null,"TARIFA ENTRADA (em R$/MMBtu) - (TE)",null,null,null,null,null,null,null,null,"TARIFA ENTRADA (em R$/MMBtu) - (TE)"]
[null,"em R$/MMBtu",2026,null,null,null,null,null,null,null,"em R$/MMBtu",2026]
[null,"a preços de Dez/2020","TCE","TCT","TCS","TCEmp","TM","TOTAL",null,null,{"$f":"K103","v":"a preços de Dez/2022"},"TCE","TCT","TCS","TCEmp","TM","TOTAL"]
[null,"EMED Corumbá",{"$f":"C81","v":2.7507214071566031},{"$f":"D81","v":2.750721283299014},0,8.0796745381271323E-2,5.2975476159782128E-4,5.5827691905984862,null,null,"EMED Corumbá",{"$f":"L81","v":2.7507000000000001},{"$f":"M81","v":2.7507000000000001},0,8.0799999999999997E-2,5.0000000000000001E-4,5.5827]
[null,"EMED Gascar",{"$f":"C82","v":0.10037741359540658},0.10037741359540657,0,8.0796745381271323E-2,5.2975476159782128E-4,0.28208132733368235,null,null,"EMED Gascar",{"$f":"L82","v":0.1004},0.1004,0,8.0799999999999997E-2,5.0000000000000001E-4,0.28210000000000002]
[null,"EMED Garuva",1.0167150445344133,2.750721283299014,0,8.0796745381271323E-2,5.2975476159782128E-4,3.8487628279762962,null,null,"EMED Garuva",1.0166999999999999,2.7507000000000001,0,8.0799999999999997E-2,5.0000000000000001E-4,3.8487000000000005]
[]
[null,"TARIFA SAÍDA (em R$/MMBtu) - (TX)",null,null,null,null,null,null,null,null,"TARIFA SAÍDA (em R$/MMBtu) - (TX)"]
[null,"em R$/MMBtu",2026,null,null,null,null,null,null,null,"em R$/MMBtu",2026]
[null,"a preços de Dez/2020","TCE","TCT","TCS","TCEmp","TM","TOTAL",null,null,{"$f":"K110","v":"a preços de Dez/2022"},"TCE","TCT","TCS","TCEmp","TM","TOTAL"]
[null,"MS1",{"$f":"C111","v":0},{"$f":"D111","v":1.0674638963436038},0.49581742911561993,8.0796745381271323E-2,5.2975476159782128E-4,1.6446078256020928,null,null,"MS1",{"$f":"L88","v":0},{"$f":"M88","v":1.0674999999999999},{"$f":"N88","v":0.49580000000000002},8.0799999999999997E-2,5.0000000000000001E-4,1.6445999999999998]
[null,"SP1",{"$f":"C112","v":0},1.0674638963436038,0.71581082167243981,8.0796745381271323E-2,5.2975476159782128E-4,1.8646012181589127,null,null,"SP1",{"$f":"L89","v":0},1.0674999999999999,0.71579999999999999,8.0799999999999997E-2,5.0000000000000001E-4,1.8645999999999998]
[null,"SP2",0,1.0674638963436038,0.85345970355409961,8.0796745381271323E-2,5.2975476159782128E-4,2.0022501000405728,null,null,"SP2",0,1.0674999999999999,0.85350000000000004,8.0799999999999997E-2,5.0000000000000001E-4,2.0023]
[null,"SP3",0,1.0674638963436038,0.85304993971350629,8.0796745381271323E-2,5.2975476159782128E-4,2.0018403361999795,null,null,"SP3",0,1.0674999999999999,0.85299999999999998,8.0799999999999997E-2,5.0000000000000001E-4,2.0018000000000002]
[null,"SP4",0,1.0674638963436038,0.91545279199478202,8.0796745381271323E-2,5.2975476159782128E-4,2.0642431884812549,null,null,"SP4",0,1.0674999999999999,0.91549999999999998,8.0799999999999997E-2,5.0000000000000001E-4,2.0643000000000002]
[null,"PR1",0,1.0674638963436038,1.2563306239358671,8.0796745381271323E-2,5.2975476159782128E-4,2.4051210204223401,null,null,"PR1",0,1.0674999999999999,1.2563,8.0799999999999997E-2,5.0000000000000001E-4,2.4051]
[null,"SC1",0,1.0674638963436038,1.5134102146573598,8.0796745381271323E-2,5.2975476159782128E-4,2.6622006111438328,null,null,"SC1",0,1.0674999999999999,1.5134000000000001,8.0799999999999997E-2,5.0000000000000001E-4,2.6621999999999999]
[null,"SC2",0,1.0674638963436038,1.5134102146573596,8.0796745381271323E-2,5.2975476159782128E-4,2.6622006111438328,null,null,"SC2",0,1.0674999999999999,1.5134000000000001,8.0799999999999997E-2,5.0000000000000001E-4,2.6621999999999999]
[null,"RS1",0,1.0674638963436038,1.8751504071665672,8.0796745381271323E-2,5.2975476159782128E-4,3.0239408036530402,null,null,"RS1",0,1.0674999999999999,1.8752,8.0799999999999997E-2,5.0000000000000001E-4,3.024]
[null,"EMED Gascar",0,0.16388510397859418,0.16388510397859418,8.0796745381271323E-2,5.2975476159782128E-4,0.40909670810005755,null,null,"EMED Gascar",0,0.16389999999999999,0.16389999999999999,8.0799999999999997E-2,5.0000000000000001E-4,0.40909999999999996]
[null,"EMED XXX",0,0,0,0,0,0,null,null,"EMED XXX",0,0,0,0,0,0]
[]
[]
[null,"TARIFA ENTRADA (em R$/MMBtu) - (TE)",null,null,null,null,null,null,null,null,"TARIFA ENTRADA (em R$/MMBtu) - (TE)"]
[null,"em R$/MMBtu",2027,null,null,null,null,null,null,null,"em R$/MMBtu",{"$f":"C148","v":2027}]
[null,"a preços de Dez/2020","TCE","TCT","TCS","TCEmp","TM","TOTAL",null,null,{"$f":"K126","v":"a preços de Dez/2022"},"TCE","TCT","TCS","TCEmp","TM","TOTAL"]
[null,"EMED Corumbá",{"$f":"C104","v":2.7507214071566031},{"$f":"D104","v":2.750721283299014},0,8.0796745381271323E-2,5.2975476159782128E-4,5.5827691905984862,null,null,"EMED Corumbá",{"$f":"L104","v":2.7507000000000001},{"$f":"M104","v":2.7507000000000001},0,8.0799999999999997E-2,5.0000000000000001E-4,5.5827]
[null,"EMED Gascar",{"$f":"C105","v":0.10037741359540658},0.10037741359540657,0,8.0796745381271323E-2,5.2975476159782128E-4,0.28208132733368235,null,null,"EMED Gascar",{"$f":"L105","v":0.1004},0.1004,0,8.0799999999999997E-2,5.0000000000000001E-4,0.28210000000000002]
[null,"EMED Garuva",{"$f":"C106","v":1.0167150445344133},2.750721283299014,0,8.0796745381271323E-2,5.2975476159782128E-4,3.8487628279762962,null,null,"EMED Garuva",{"$f":"L106","v":1.0166999999999999},2.7507000000000001,0,8.0799999999999997E-2,5.0000000000000001E-4,3.8487000000000005]
[]
[null,"TARIFA SAÍDA (em R$/MMBtu) - (TX)",null,null,null,null,null,null,null,null,"TARIFA SAÍDA (em R$/MMBtu) - (TX)"]
[null,"em R$/MMBtu",{"$f":"C148","v":2027},null,null,null,null,null,null,null,"em R$/MMBtu",{"$f":"C155","v":2027}]
[null,"a preços de Dez/2020","TCE","TCT","TCS","TCEmp","TM","TOTAL",null,null,{"$f":"K133","v":"a preços de Dez/2022"},"TCE","TCT","TCS","TCEmp","TM","TOTAL"]
[null,"MS1",{"$f":"C134","v":0},{"$f":"D134","v":1.0674638963436038},0.49581742911561993,8.0796745381271323E-2,5.2975476159782128E-4,1.6446078256020928,null,null,"MS1",{"$f":"L111","v":0},{"$f":"M111","v":1.0674999999999999},{"$f":"N111","v":0.49580000000000002},8.0799999999999997E-2,5.0000000000000001E-4,1.6445999999999998]
[null,"SP1",{"$f":"C135","v":0},1.0674638963436038,0.71581082167243981,8.0796745381271323E-2,5.2975476159782128E-4,1.8646012181589127,null,null,"SP1",{"$f":"L112","v":0},1.0674999999999999,0.71579999999999999,8.0799999999999997E-2,5.0000000000000001E-4,1.8645999999999998]
[null,"SP2",{"$f":"C136","v":0},1.0674638963436038,0.85345970355409961,8.0796745381271323E-2,5.2975476159782128E-4,2.0022501000405728,null,null,"SP2",{"$f":"L113","v":0},1.0674999999999999,0.85350000000000004,8.0799999999999997E-2,5.0000000000000001E-4,2.0023]
[null,"SP3",{"$f":"C137","v":0},1.0674638963436038,0.85304993971350629,8.0796745381271323E-2,5.2975476159782128E-4,2.0018403361999795,null,null,"SP3",{"$f":"L114","v":0},1.0674999999999999,0.85299999999999998,8.0799999999999997E-2,5.0000000000000001E-4,2.0018000000000002]
[null,"SP4",{"$f":"C138","v":0},1.0674638963436038,0.91545279199478202,8.0796745381271323E-2,5.2975476159782128E-4,2.0642431884812549,null,null,"SP4",{"$f":"L115","v":0},1.0674999999999999,0.91549999999999998,8.0799999999999997E-2,5.0000000000000001E-4,2.0643000000000002]
[null,"PR1",{"$f":"C139","v":0},1.0674638963436038,1.2563306239358671,8.0796745381271323E-2,5.2975476159782128E-4,2.4051210204223401,null,null,"PR1",{"$f":"L116","v":0},1.0674999999999999,1.2563,8.0799999999999997E-2,5.0000000000000001E-4,2.4051]
[null,"SC1",{"$f":"C140","v":0},1.0674638963436038,1.5134102146573598,8.0796745381271323E-2,5.2975476159782128E-4,2.6622006111438328,null,null,"SC1",{"$f":"L117","v":0},1.0674999999999999,1.5134000000000001,8.0799999999999997E-2,5.0000000000000001E-4,2.6621999999999999]
[null,"SC2",{"$f":"C141","v":0},1.0674638963436038,1.5134102146573596,8.0796745381271323E-2,5.2975476159782128E-4,2.6622006111438328,null,null,"SC2",{"$f":"L118","v":0},1.0674999999999999,1.5134000000000001,8.0799999999999997E-2,5.0000000000000001E-4,2.6621999999999999]
[null,"RS1",{"$f":"C142","v":0},1.0674638963436038,1.8751504071665672,8.0796745381271323E-2,5.2975476159782128E-4,3.0239408036530402,null,null,"RS1",{"$f":"L119","v":0},1.0674999999999999,1.8752,8.0799999999999997E-2,5.0000000000000001E-4,3.024]
[null,"EMED Gascar",{"$f":"C143","v":0},0.16388510397859418,0.16388510397859418,8.0796745381271323E-2,5.2975476159782128E-4,0.40909670810005755,null,null,"EMED Gascar",{"$f":"L120","v":0},0.16389999999999999,0.16389999999999999,8.0799999999999997E-2,5.0000000000000001E-4,0.40909999999999996]
[null,"EMED XXX",{"$f":"C144","v":0},0,0,0,0,0,null,null,"EMED XXX",{"$f":"L121","v":0},0,0,0,0,0]

{"sheet":"Planilha1","index":34,"n_rows":0,"n_cols":0,"rows_kept":0,"cut":false,"hidden":true,"merged":[]}

{"sheet":"Gasoduto","index":35,"n_rows":54,"n_cols":10,"rows_kept":54,"cut":false,"hidden":true,"merged":[]}
[]
[]
[null,null,"UF","CATEGORIA","PONTOS DE CONEXÃO","Zona","Distância até Corumbá","Distância Gascar","Distância até Garuva","Distância dentro da Zona"]
[null,null,"MS","ENTRADA","CORUMBÁ",null,0]
[null,null,"MS","SAÍDA","Corumbá","MSgás",27.7,{"$f":"$G$21-G5","v":1236.7},1796.0099999999998,0]
[null,null,"MS","SAÍDA","Campo Grande","MSgás",394.7,{"$f":"$G$21-G6","v":869.7},1429.56,{"$f":"G6-$G$5","v":367}]
[null,null,"MS","FAFEN","Três Lagoas (UFN III)","MSgás",703.8,{"$f":"$G$21-G7","v":560.60000000000014},1120.4399999999998,{"$f":"G7-$G$5","v":676.09999999999991}]
[null,null,"MS","UTE","Três Lagoas (UTE)","MSgás",703.8,560.60000000000014,1120.3999999999999,676.09999999999991]
[null,null,"SP","SAÍDA","Valparaíso","Gás Brasiliano",810.2,454.20000000000005,1014.0599999999998,0]
[null,null,"SP","SAÍDA","Bilac","Gás Brasiliano",857.7,406.70000000000005,966.50999999999988,{"$f":"G10-$G$9","v":47.5}]
[null,null,"SP","SAÍDA","Guaiçara","Gás Brasiliano",933,331.40000000000009,891.27999999999986,{"$f":"G11-$G$9","v":122.79999999999995}]
[null,null,"SP","SAÍDA","Iacanga","Gás Brasiliano",1018.7,245.70000000000005,805.46999999999991,208.5]
[null,null,"SP","SAÍDA","Ibitinga","Gás Brasiliano",1039.5,224.90000000000009,784.85999999999979,229.29999999999995]
[null,null,"SP","SAÍDA","Boa Esperança do Sul","Gás Brasiliano",1096.0999999999999,168.30000000000018,728.14,285.89999999999986]
[null,null,"SP","SAÍDA","São Carlos","Gás Brasiliano",1150.8,113.60000000000014,673.51999999999987,{"$f":"G15-$G$9","v":340.59999999999991}]
[null,null,"SP","SAÍDA","Itirapima","Comgás",1204.8,{"$f":"$G$21-G16","v":59.600000000000136},655.71999999999991,0]
[null,null,"SP","SAÍDA","Rio Claro","Comgás",1223.7,{"$f":"$G$21-G17","v":40.700000000000045},619.4799999999999,{"$f":"G17-$G$16","v":18.900000000000091}]
[null,null,"SP","SAÍDA","Limeira","Comgás",1245.9000000000001,{"$f":"$G$21-G18","v":18.5},600.55999999999983,{"$f":"G18-$G$16","v":41.100000000000136}]
[null,null,"SP","SAÍDA","Americana","Comgás",1264.4000000000001,0,578.41,{"$f":"G19-$G$16","v":59.600000000000136}]
[null,null,"SP","REFINARIA","Replan","Comgás",1264.4000000000001,0,559.89,{"$f":"G20-$G$16","v":59.600000000000136}]
[null,null,"Entrada a partir de 2021",null,"Sai (-)/Entra(+) Gascar",null,{"$f":"G20","v":1264.4000000000001},0,559.89]
[null,null,"Entrada",null,"Sai(-)/Entra(+) Gaspaj",null,{"$f":"G21","v":1264.4000000000001},0,559.89]
[null,null,"SP","SAÍDA","Jaguaríuna","Comgás",1270.7,{"$f":"G23-$G$21","v":6.2999999999999545},696.29,65.900000000000091]
[null,null,"SP","SAÍDA","Itatiba","Comgás",1310.7,{"$f":"G24-$G$21","v":46.299999999999955},606.17999999999995,105.90000000000009]
[null,null,"SP","SAÍDA","Guararema ","Comgás",1400.9,136.5,696.29,{"$f":"G25-$G$16","v":196.10000000000014}]
[null,null,"Entrada","SALDO","Sai (-)/Entra(+) GASPAL",null,{"$f":"G25","v":1400.9},136.5,696.29]
[null,null,"SP","SAÍDA","Gemini","Comgás",1266.4000000000001,2,557.89,{"$f":"G27-$G$16","v":61.600000000000136}]
[null,null,"SP","SAÍDA","Sumaré","Comgás",1280.4000000000001,16,543.89,75.600000000000136]
[null,null,"SP","SAÍDA","Campinas","Comgás",1293.1000000000001,28.700000000000045,531.16,88.300000000000182]
[null,null,"SP","SAÍDA","Indaiatuba","Comgás",1314.3000000000002,49.900000000000091,509.98,{"$f":"G30-$G$16","v":109.50000000000023}]
[null,null,"SP","SAÍDA","Itu","Gás Natural São Paulo",1333.2,68.799999999999955,491.15,0]
[null,null,"SP","SAÍDA","Porto Feliz","Gás Natural São Paulo",1349.4,85,474.89,{"$f":"G32-$G$31","v":16.200000000000045}]
[null,null,"SP","SAÍDA","Araçoiaba da Serra","Gás Natural São Paulo",1374.6000000000001,110.20000000000005,449.68,{"$f":"G33-$G$31","v":41.400000000000091}]
[null,null,"SP","SAÍDA","Itapetininga","Gás Natural São Paulo",1374.6000000000001,110.20000000000005,404.58,{"$f":"G34-$G$31","v":41.400000000000091}]
[null,null,"PR","SAÍDA","Campo Largo","Compagás",1721.6000000000001,457.20000000000005,102.37,0]
[null,null,"PR","SAÍDA","Araucária CIC","Compagás",1740.8000000000002,476.40000000000009,83.479999999999961,{"$f":"G36-$G$35","v":19.200000000000045}]
[null,null,"PR","SAÍDA","REPAR","Compagás",1742.9,478.5,81.419999999999959,{"$f":"G37-$G$35","v":21.299999999999955}]
[null,null,"PR","UTE","Araucária UTE","Compagás",1742.9,478.5,81.419999999999959,{"$f":"G38-$G$35","v":21.299999999999955}]
[null,null,"SC","SAÍDA","Joinville","SCGás",1848.3000000000002,583.90000000000009,24.01,0]
[null,null,"SC","SAÍDA","Guararmirim ","SCGás",1878.9,614.5,54.57,{"$f":"G40-$G$39","v":30.599999999999909}]
[null,null,"SC","SAÍDA","GASPAR","SCGás",1934.5,670.09999999999991,110.23,{"$f":"G41-$G$39","v":86.199999999999818}]
[null,null,"SC","SAÍDA","Brusque","SCGás",1957.4,693,133.12,109.09999999999991]
[null,null,"SC","SAÍDA","Tijucas","SCGás",1992.8000000000002,728.40000000000009,168.5,144.5]
[null,null,"SC","SAÍDA","São Pedro de Alcântara","SCGás",2032.5,768.09999999999991,208.16999999999996,184.19999999999982]
[null,null,"SC","SAÍDA","Tubarão","SCGás",2159.5,895.09999999999991,335.19000000000005,311.19999999999982]
[null,null,"SC","SAÍDA","Urussanga","SCGás",2190.1999999999998,925.79999999999973,365.91999999999996,341.89999999999964]
[null,null,"SC","SAÍDA","Nova Veneza","SCGás",2212.5,948.09999999999991,388.23,{"$f":"G47-$G$39","v":364.19999999999982}]
[null,null,"RS","SAÍDA","Várzea do Cedro","Sulgás",2342.6000000000004,1078.2000000000003,518.32000000000005,0]
[null,null,"RS","SAÍDA","Igrejinha","Sulgás",2403,1138.5999999999999,578.85,{"$f":"G49-$G$48","v":60.399999999999636}]
[null,null,"RS","SAÍDA","Araricá","Sulgás",2419.9,1155.5,595.65,{"$f":"G50-$G$48","v":77.299999999999727}]
[null,null,"RS","SAÍDA","Cachoeirinha","Sulgás",2448.6999999999998,1184.2999999999997,624.44999999999993,106.09999999999945]
[null,null,"RS","UTE","Canoas UTE","Sulgás",2454.1999999999998,1189.7999999999997,629.92999999999995,111.59999999999945]
[null,null,"RS","SAÍDA","REFAP","Sulgás",2454.1999999999998,1189.7999999999997,629.92999999999995,111.59999999999945]
[null,null,"RS","SAÍDA","Canoas","Sulgás",2454.1999999999998,1189.7999999999997,629.92999999999995,{"$f":"G54-$G$48","v":111.59999999999945}]