BEGIN:VCALENDAR
PRODID:brasil.gov.agenda
VERSION:1.0
BEGIN:VEVENT
DTSTART:20230421T120000Z
DTEND:20230421T220000Z
DCREATED:20230303T132328Z
UID:Compromisso-e0cb05a1ff0a4fa1999a613a6a213374
SEQUENCE:0
LAST-MODIFIED:20230622T175528Z
SUMMARY:FERIADO NACIONAL
LOCATION:Home Office - Teams
PRIORITY:3
TRANSP:0
END:VEVENT
END:VCALENDAR
