BEGIN:VCALENDAR
PRODID:brasil.gov.agenda
VERSION:1.0
BEGIN:VEVENT
DTSTART:20210802T170000Z
DTEND:20210802T180000Z
DCREATED:20210810T225623Z
UID:Compromisso-e67fe277929a49e7b9e3130ad57f3d99
SEQUENCE:0
LAST-MODIFIED:20210901T223839Z
SUMMARY:Reunião SSM e IBP - Resol. ANP 817
LOCATION:Microsof Teams
PRIORITY:3
TRANSP:0
END:VEVENT
END:VCALENDAR
