BEGIN:VCALENDAR
PRODID:brasil.gov.agenda
VERSION:1.0
BEGIN:VEVENT
DTSTART:20211104T120000Z
DTEND:20211104T160000Z
DCREATED:20211104T144704Z
UID:Compromisso-f12667ab83b645e4b342d14befdc8bc3
SEQUENCE:0
LAST-MODIFIED:20211104T144704Z
SUMMARY:Despachos internos.
LOCATION:Escritório Central da ANP/RJ
PRIORITY:3
TRANSP:0
END:VEVENT
END:VCALENDAR
