BEGIN:VCALENDAR
PRODID:brasil.gov.agenda
VERSION:1.0
BEGIN:VEVENT
DTSTART:20220803T120000Z
DTEND:20220803T210000Z
DCREATED:20220920T164138Z
UID:Compromisso-97cef60908ff44bca81cee3e0fa1cce9
SEQUENCE:0
LAST-MODIFIED:20220920T164138Z
SUMMARY:Teletrabalho
DESCRIPTION:Despachos em Teletrabalho
PRIORITY:3
TRANSP:0
END:VEVENT
END:VCALENDAR
