BEGIN:VCALENDAR
PRODID:brasil.gov.agenda
VERSION:1.0
BEGIN:VEVENT
DTSTART:20230510T130000Z
DTEND:20230510T150000Z
DCREATED:20230510T181944Z
UID:Compromisso-e98b5ae2c98f45dcb8051b0732568e54
SEQUENCE:0
LAST-MODIFIED:20230510T181944Z
SUMMARY:Reunião com representantes da Empresa Shell Brasil Petróleo Ltda
DESCRIPTION:Assunto: Sistema de Medição Descomissionamento.
LOCATION:Por vídeo conferência - Homeoffice
PRIORITY:3
TRANSP:0
END:VEVENT
END:VCALENDAR
